Workbook
Name Google_Sheet_Link_1972093189: s._Anlage
Name Google_Sheet_Link_710669615: s.Anlage
Name s._Anlage: 'Teil B '!$F$20
Name s.Anlage: 'Teil B '!$F$18

Sheet Erläuterungen
A2: Ausfüllhinweise / Erläuterungen
A5: Ausfüllhinweise
A7: Durch den Bieter sind in den Tabellenblättern "Teil A", "Teil B" und "Teil C" die jeweils blau hinterlegten Felder auszufüllen. Dies betrifft:
A8: Teil A - Fachlicher Anforderungskatalog | C8: Spalte E und F
A9: Teil B - Technischer Anforderungskatalog | C9: Spalte F und G
A10: Teil C - Preisblatt | C10: Spalte C und D
A12: Kriterien
A14: K.O.-Kriterien | C14: Bei den K.O.-Kriterien handelt es sich um Ausschlusskriterien. Hierfür werden keine Punkte vergeben.
C15: Bieter, die nicht alle K.O.-Kriterien erfüllen, scheiden aus.
A17: Informative Kriterien | C17: Einige Anforderungen haben nur einen informativen Charakter.
C18: Sie werden daher nicht mit Punkten bewertet und sind mit der Bemerkung "informativ" gekennzeichnet.
A20: Bewertungskriterien | C20: Kriterien, welche bei der Leistungsbetrachtung Berücksichtigung finden
A22: Wertung
A24: Die Bewertung der eingehenden Angebote erfolgt durch den Auftraggeber nach den in der Ausschreibung bekanntgegebenen Kriterien. Es gelten folgende Definitionen:
A27: max. erreichbare Bewertungspunkte | C27: Entsprechend der Wichtigkeit für den Auftraggeber werden die Bewertungskriterien mit unterschiedlichen maximalen Punktzahlen unterlegt (3, 5, 7).
A29: Grad der Erfüllung | C29: Der AG bewertet die Angaben des Bieters unter Berücksichtigung der Eintragungen der jeweiligen Tabellenzeile sowie Angaben aus der einzureichenden Leistungsdarstellung. Hierbei vergibt der AG die Werte 0 - nicht erfüllt; 0,5 - teilweise erfüllt; 1 - vollständig erfüllt.
A31: Ergebnis | C31: Der Grad der Erfüllung wird je Kriterium mit dem maximal erreichbaren Wertung multipliziert.
A33: Summierung der Positionspunktzahlen | C33: Die Summe aller Ergebniswerte für Teil A und Teil B gehen gesondert in die Schlusswertung ein.
A35: Auswertungsmatrix | C35: Der Reiter Auswertungsmatrix ist für den Bieter rein informativ. Hier erfolgt die automatische Zusammenführung der Wertung der Einzelbereiche. Der Teil A (fachliche Wertung) geht in die Schlusswertung mit 30% ein, 20% der Schlusswertung gehen über die Bewertung des Teil B (technische Wertung) und 50% über den Preis aus Teil C ein.

Sheet Teil A 
A2: Teil A - Fachlicher Anforderungskatalog
A5: Nummer | B5: Priorität | C5: Tabelle | D5: Anforderung | E5: Wird die Anforderung aus Spalte E durch das angebotene Produkt erfüllt und wenn ja, in welchem Umfang? (vom Bieter auszufüllen) | F5: Zusätzliche Angaben / Erläuterungen in einer Anlage vorhanden? Ja / Nein (vom Bieter auszufüllen) | G5: max. erreichbare Bewertungspunkte | H5: Grad der Erfüllung (vom Auftraggeber auszufüllen) | I5: Ergebnis (wird berechnet)
A6: 1. Nutzung der Applikation
A7: 1.1 | B7: Bewertung | C7: A | D7: Die Software wird bereits von mindestens 50.000 registrierten Ersthelfern genutzt (Anzahl angeben). | G7: 5 | I7: =H7*G7 -> 0
A9: 1.2 | B9: Bewertung | C9: A | D9: Nutzung der App in Thüringen ist bereits vertraglich mit mindestens einem weiteren Partner gesichert. Ziel ist hierbei das Erreichen möglichst vieler Helfer z.B. im Rahmen von Berufspendlern. | G9: 7 | I9: =H9*G9 -> 0
A11: 1.3 | B11: Bewertung | C11: A | D11: Etablierung in mindestens einem an den Jenaer Leitstellenbereich angrenzenden Landkreis oder einer kreisfreien Stadt oder eines Leitstellenbereiches | G11: 7 | I11: =H11*G11 -> 0
A13: 2. Funktionale Anforderungen
A14: 2.1 | B14: K.O.-Kriterium | C14: A | D14: Mehrere Einsätze können parallel mit Ersthelfern beschickt werden.
A16: 2.2 | B16: K.O.-Kriterium | C16: A | D16: Für unterschiedliche Einsatzstichworte stehen unterschiedliche Alarmalgorithmen zur Verfügung.
A18: 2.3 | B18: Informativ | C18: A | D18: Bereits verfügbare Stichworte zur Alarmierung von Ersthelfenden sind durch den Bieter darzustellen.
A20: 2.4 | B20: K.O.-Kriterium | C20: A | D20: Ersthelferaufgaben müssen klar definiert sein und eindeutige Anweisungen enthalten.
A22: 2.5 | B22: K.O.-Kriterium | C22: A | D22: Die Ortung und Alarmierung der Ersthelfer, die sich in der Nähe des Notfallortes befinden, erfolgt vollautomatisch ohne weitere Handlungen des Einsatzsachbearbeiters.
A24: 2.6 | B24: K.O.-Kriterium | C24: A | D24: Registrierte Nutzer werden nach Freischaltung in der App in allen durch den Anbieter versorgten Gebietskörperschaften alarmiert, ohne dass ein Ummelden oder erneutes Registrieren an Grenzen der Gebietskörperschaften nötig ist.
A26: 2.7 | B26: K.O.-Kriterium | C26: A | D26: Eine verkehrsmittelabhängige Routenberechnung zum Notfallort wird für jeden Ersthelfenden durchgeführt. Diejenigen Ersthelfenden, welche den Notfallort als erste erreichen, werden automatisch ausgewählt und zum Notfallort geroutet.
A28: 2.8 | B28: K.O.-Kriterium | C28: A | D28: Bei einem Herz-Kreislauf-Stillstand als ursächliches Stichwort müssen mindestens die Rollen zur Reanimation, zum Zubringen des Automatisierter Externer Defibrillator (AED) und zur Einweisung des Rettungsdienstes vergeben werden.
A30: 2.9 | B30: Bewertung | C30: A | D30: Sollte die AED-Zubringung gemäß Routing erst nach Eintreffen des ersten Rettungsmittels möglich sein, wird diese Aufgabe nicht vergeben. | G30: 5 | I30: =H30*G30 -> 0
A32: 2.10 | B32: K.O.-Kriterium | C32: A | D32: Vom System werden nur zum Zeitpunkt der Alarmierung öffentlich zugängliche AED berücksichtigt.
A34: 2.11 | B34: Bewertung | C34: A | D34: Das angebotene Produkt enthält eine Lizenz zur Nutzung eines deutschlandweiten AED-Registers mit verifizierten AED-Standorten. | G34: 5 | I34: =H34*G34 -> 0
A36: 2.12 | B36: K.O.-Kriterium | C36: A | D36: Die im Register enthaltenen AED werden ohne Zutun des Auftraggebers automatisch in der Software eingebunden.
A38: 2.13 | B38: K.O.-Kriterium | C38: A | D38: AED-Standorte müssen in der App sichtbar sein.
A40: 2.14 | B40: Bewertung | C40: A | D40: Fotos zum AED mit wesentlichen Inhalten wie Ansicht des Gebäudes, Zugang zum Gerät u.ä. sind in der App sichtbar. | G40: 5 | I40: =H40*G40 -> 0
A42: 2.15 | B42: Bewertung | C42: A | D42: Administratoren müssen in Punkt 2.13 benannte Daten und Fotos zu den AED einpflegen können. | G42: 5 | I42: =H42*G42 -> 0
A44: 2.16 | B44: Bewertung | C44: A | D44: 24/7 verfügbare AED sind in der Karte der Applikation von nicht dauerhaft verfügbaren Geräten abweichend dargestellt. | G44: 7 | I44: =H44*G44 -> 0
A46: 2.17 | B46: K.O.-Kriterium | C46: A | D46: Tatsächlich alarmierten Ersthelfenden wird während der Zeit der Zuordnung zum Einsatz – und nur dann – ein digitaler Ersthelferausweis als Nachweis an der Einsatzstelle verfügbar gemacht. Dieser muss einen Schutz gegen einfache Kopie enthalten.
A48: 2.18 | B48: Bewertung | C48: A | D48: Am Einsatz beteiligte Ersthelfende können während der Zuweisung direkt aus der App mit den anderen beteiligten Ersthelfenden und der zuständigen Leitstelle kommunizieren. | G48: 3 | I48: =H48*G48 -> 0
A50: 2.19 | B50: Bewertung | C50: A | D50: Eine direkte Kontaktierung des Ersthelfenden durch die Leitstelle ist möglich. Beispielsweise werden Mobilfunknummer und Name der eingesetzten App-Nutzer in geeigneter Weise visualisiert. | G50: 7 | I50: =H50*G50 -> 0
A52: 2.20 | B52: Bewertung | C52: A | D52: Das Versenden von Nachrichten an registrierte Personen (einzeln, gruppiert nach Gebietskörperschaft, alle Regionen) ist vom Backend aus möglich. | G52: 5 | I52: =H52*G52 -> 0
A54: 2.21 | B54: K.O.-Kriterium | C54: A | D54: Ein Einsatzabbruch und dessen Signalisierung an die alarmierten Ersthelfenden ist jederzeit möglich.
A56: 2.22 | B56: Bewertung | C56: A | D56: Bereitstellung eines Zugangs zur Desktop-Visualisierung des AED-Registers, für mindestens 15 Arbeitsplätze gleichzeitig nutzbar. | G56: 7 | I56: =H56*G56 -> 0
A58: 2.23 | B58: K.O.-Kriterium | C58: A | D58: Die angebotene Anwendung muss den Anforderungen des Barrierefreiheitsstärkungsgesetzes (BFSG) entsprechen.
A60: 3. Qualitätsmanagement und Statistik
A61: 3.1 | B61: K.O.-Kriterium | C61: A | D61: Im Falle von Rohdaten müssen die den Datenbankfeldern zugehörigen Einträge eindeutig voneinander abgegrenzt sein.
A63: 3.2 | B63: Bewertung | C63: A | D63: Die Software muss über eine Schnittstelle an Data-Warehouse- bzw. Business-Intelligence-Systeme angebunden werden können. | G63: 5 | I63: =H63*G63 -> 0
A65: 3.3 | B65: K.O.-Kriterium | C65: A | D65: Auswertungen grundlegender Daten sind innerhalb der Anwendung für die mit diesem Recht versehenen Personengruppen mittels Dashboard möglich. Hier sollen beispielsweise die Anzahl der Alarmierungen und tatsächliche Einsatzübernahmen ersichtlich sein.
A67: 3.4 | B67: K.O.-Kriterium | C67: A | D67: Auszuwertende Datensätze erfüllen die Anforderungen aus dem internationalen Reporting Standard für Ersthelfersysteme (Resuscitation 2024; 195:110087).
A69: 3.5 | B69: K.O.-Kriterium | C69: A | D69: Lieferung einer Dokumentation zur Datenbank, welche die Datenbankfelder und deren Eintrag beschreibt.
A71: 4. Daten- und Benutzermanagement
A72: 4.1 | B72: K.O.-Kriterium | C72: A | D72: Ersthelfende müssen sich direkt über die App registrieren können.
A74: 4.2 | B74: K.O.-Kriterium | C74: A | D74: Die Einwilligung in die Datenschutzerklärung, Teilnahmebedingungen und Schweigepflichterklärung müssen über die App hochgeladen oder akzeptiert werden können.
A76: 4.3 | B76: K.O.-Kriterium | C76: A | D76: Ersthelfende müssen im Registrierungsprozess Qualifikationsnachweise hochladen können.
...

Sheet Teil B 
A2: Teil B - Technischer Anforderungskatalog
A5: Nummer | B5: Priorität | C5: Tabelle | D5: Anforderung | E5: Weitere Hinweise / Verweise o.ä. | F5: Wird die Anforderung aus Spalte E durch das angebotene Produkt erfüllt und wenn ja, in welchem Umfang? (vom Bieter auszufüllen) | G5: Zusätzliche Angaben / Erläuterungen in einer Anlage vorhanden? Ja / Nein (vom Bieter auszufüllen) | H5: max. erreichbare Bewertungspunkte | I5: Grad der Erfüllung (vom Auftraggeber auszufüllen) | J5: Ergebnis (wird berechnet)
A6: 1. Allgemeine Rahmenbedingungen (Gegenstand des Vertrages, Art und Umfang der Leistung, Nutzungsverbote etc.)
A7: 1.1 | B7: K.O.-Kriterium | C7: B | D7: Bereitgestellt wird eine Leistung als Software-as-a-Service (SaaS) Anwendung innerhalb einer Public Cloud. | E7: Siehe Kriterienkatalog für Cloudleistungen zum EVB-IT Cloudvertrag Kriterien-Nr. 1.1 (https://www.digitale-verwaltung.de/SharedDocs/downloads/Webs/DV/DE/digitale-loesungen/it-einkauf/evb-it-bvb/basisvertraege/cloud/EVB_IT_Cloud_Kriterienkatalog_fuer_Cloudleistungen.docx?__blob=publicationFile&v=3)
A9: 1.2 | B9: K.O.-Kriterium | C9: B | D9: Es werden mind. 15 namentliche Benutzerlizenzen oder Benutzeraccounts bereitgestellt. | E9: Siehe Kriterienkatalog für Cloudleistungen zum EVB-IT Cloudvertrag Kriterien-Nr. 1.7
A11: 1.3 | B11: K.O.-Kriterium | C11: B | D11: Es müssen alle Nutzer gleichzeitig ohne signifikante Abnahme der Leistung in der Software arbeiten können. | E11: Siehe Kriterienkatalog für Cloudleistungen zum EVB-IT Cloudvertrag Kriterien-Nr. 1.7
A13: 1.4 | B13: K.O.-Kriterium | C13: B | D13: Die SaaS-Anwendung bietet eine einheitliche, app- oder webbasierte Benutzeroberfläche, die aus deutschsprachigen Bedienelementen, Texten und Dialogen (z.B. Auswahllisten, Labeln und Menüs) besteht.
A15: 1.5 | B15: Informativ | C15: B | D15: Sofern SaaS-Leistungen Gegenstand des Vertrages sind, hat der Auftragnehmer den jeweils enthaltenen Leistungs- und Funktionsumfang in Abhängigkeit von der jeweiligen Preiskategorie transparent und nachvollziehbar darzustellen.
A17: 2. Leistungsort, Zugriff / Speicherplatz
A18: 2.1 | B18: K.O.-Kriterium | C18: B | D18: Die Speicherung und sonstige Verarbeitung von Daten des Auftraggebers durch den Auftragnehmer erfolgt ausschließlich innerhalb der EU und des EWR. | E18: Weiterführend in EVB-IT Cloud AGB Ziffer 4 (https://www.digitale-verwaltung.de/SharedDocs/downloads/Webs/DV/DE/digitale-loesungen/it-einkauf/evb-it-bvb/basisvertraege/cloud/EVB_IT_Cloud_AGB.docx?__blob=publicationFile&v=7)
A20: 2.2 | B20: K.O.-Kriterium | C20: B | D20: Der Zugriff auf die Leistung erfolgt über das öffentliche Internet mit einem marktüblichen Webbrowser ohne unangemessene oder marktunübliche Browser-Einstellungen und über native Zugriffssoftware für mobile Geräte (Apps) für iOS und Android. Der Übergabepunkt ist das Gateway des Auftragnehmers in das Internet. | E20: Weiterführend in EVB-IT Cloud AGB Ziffer 5.1 Siehe Kriterienkatalog für Cloudleistungen zum EVB-IT Cloudvertrag Kriterien-Nr. 1.12
A22: 2.3 | B22: Bewertung | C22: B | D22: Datenabfragen oder Datenmanipulationen können via APIs (bevorzugt REST) durchgeführt werden und sind hinreichend in einem Nutzer- oder Betriebshandbuch dokumentiert. Die Anbindung an das beim Auftraggeber vorhandene Einsatzleitsystem wird über die Plattform der rescuetrack GmbH und deren GraphQL API realisiert. | E22: Siehe Kriterienkatalog für Cloudleistungen zum EVB-IT Cloudvertrag Kriterien-Nr. 1.12 | H22: 7 | J22: =I22*H22 -> 0
A24: 2.4 | B24: Informativ | C24: B | D24: Die Größe des zur Verfügung stehenden Speichers ist dem Auftraggeber je nach SaaS Leistungsumfang aufzuzeigen. | E24: Siehe Kriterienkatalog für Cloudleistungen zum EVB-IT Cloudvertrag Kriterien-Nr. 1.13
A26: 2.5 | B26: Bewertung | C26: B | D26: Soweit der Auftraggeber die Größe des ihm zur Verfügung stehenden Speicherplatzes nicht selbst bestimmen kann, z.B. durch Konfiguration des Dienstes und auch keine bestimmte Größe vereinbart ist, stellt der Auftragnehmer dem Auftraggeber für die vertragsgemäße Nutzung der Leistung ausreichenden Speicherplatz zur Verfügung. | E26: Weiterführend in EVB-IT Cloud AGB Ziffer 5.5 | H26: 7 | J26: =I26*H26 -> 0
A28: 3. IT-Sicherheit, Datenschutz und Vertraulichkeit
A29: Die technischen und organisatorischen Maßnahmen zur Gewährleistung des Rechtes auf informationelle Selbstbestimmung ergeben sich aus dem ThürDSG sowie den Anforderungen aus den IT-Grundschutz-Katalogen des BSI. Hierbei geht es um die Sicherheits- bzw. Schutzziele "Vertraulichkeit, Integrität (Verlässlichkeit), Verfügbarkeit, Authentizität (Verbindlichkeit), Revisionsfähigkeit und Transparenz".
A30: 3.1 | B30: K.O.-Kriterium | C30: B | D30: Die SaaS Anwendung verfügt über ein Identitäts- und Berechtigungsmanagement. Zugangs- und Zugriffsberechtigungen können durch den Auftraggeber frei definiert werden. | E30: Siehe Kriterienkatalog für Cloudleistungen zum EVB-IT Cloudvertrag Kriterien-Nr. 1.10 Cloud Computing Compliance Criteria Catalogue - C5 Zusatzkriterium IDM-02 https://www.bsi.bund.de/SharedDocs/Downloads/DE/BSI/Publikationen/Broschueren/C5_2020.pd
A32: 3.2 | B32: K.O.-Kriterium | C32: B | D32: Es besteht ein Rechte- und Rollenkonzept für verschiedene User-Gruppen, das Lese- / Schreibzugriffs- / Löschrechte für interne / externe User differenziert ausgestaltet.
A34: 3.3 | B34: Bewertung | C34: B | D34: Die Berechtigungen können auf verschiedenen Ebenen (Teilbereichen) der Organisation differenziert werden. | H34: 5 | J34: =I34*H34 -> 0
A36: 3.4 | B36: Bewertung | C36: B | D36: Das Berechtigungskonzept erstreckt sich auch auf alle in der SaaS Anwendung möglichen Recherche- und Auswertungsmöglichkeiten. | H36: 3 | J36: =I36*H36 -> 0
A38: 3.5 | B38: Bewertung | C38: B | D38: Eine Änderung des Erstpasswortes kann erzwungen werden und folgt den Mindestanforderungen des Auftraggebers | H38: 3 | J38: =I38*H38 -> 0
A40: 3.6 | B40: Bewertung | C40: B | D40: Die Lösung kann grundlegend in der Lage sein, die Authentifizierung über ein externes Single-Sign-On System (SSO), wie z.B. KeyCloak, zu ermöglichen. | H40: 5 | J40: =I40*H40 -> 0
A42: 3.7 | B42: Bewertung | C42: B | D42: Kompatibilität und Unterstützung von OpenID Connect (OIDC) Die zu beschaffende Lösung kann eine standardkonforme Integration mit einem OpenID Connect Identity Provider (IdP) ermöglichen, um eine zentrale Authentifizierung sicherzustellen. | H42: 7 | J42: =I42*H42 -> 0
A44: 3.8 | B44: Bewertung | C44: B | D44: Hybrid-Authentifizierung (SSO + externe Authentifizierung) Da SSO nur für interne Mitarbeiter genutzt werden soll, kann ein separater Authentifizierungs-Kanal für externe Benutzerkonten angeboten und vorzugsweise beide Stränge parallel ermöglicht werden. | H44: 3 | J44: =H44*I44 -> 0
A46: 3.9 | B46: K.O.-Kriterium | C46: B | D46: Der Auftragnehmer verfügt für die Bereitstellung der Leistung (inklusive der dazu notwendigen infrastrukturellen, organisatorischen, personellen und technischen Komponenten) über ein angemessenes, dokumentiertes und implementiertes Sicherheitskonzept und ein Informationssicherheits-Managementsystem (ISMS) jeweils gemäß ISO 27001 einschließlich eines Notfall-Managements und legt entsprechende Nachweise bei Aufforderung durch den Auftraggeber vor. | E46: Siehe Kriterienkatalog für Cloudleistungen zum EVB-IT Cloudvertrag Kriterien-Nr. 1.18 Weiterführend in EVB-IT Cloud AGB Ziffer 6.2.1
A48: 3.10 | B48: K.O.-Kriterium | C48: B | D48: Der Auftragnehmer ist verpflichtet, die Einhaltung der Vorgaben an die IT-Sicherheit nachzuweisen. Auf Anforderung des Auftraggebers legt der Auftragnehmer insbesondere die gemäß Mindeststandard für externe Cloudleistungen des BSI geforderten Sicherheitsnachweise vor. | E48: Weiterführend in: EVB-IT Cloud AGB Ziffer 6.4
A50: 3.11 | B50: K.O.-Kriterium | C50: B | D50: Der Auftragnehmer erbringt die Leistungen unter Einhaltung des bei Vertragsschluss jeweils aktuellen Cloud Computing Compliance Criteria Catalogue - C5 (Basiskriterien). Zudem beachtet der Auftragnehmer die durch den Auftraggeber zum Vertragsinhalt gemachten Sicherheitsanforderungen, z.B. aus seiner Sicherheitsrichtlinie im Sinne des Mindeststandard(s) des Bundesamts für Sicherheit in der Informationstechnik (BSI) zur Nutzung externer Cloud-Dienste. | E50: EVB-IT Cloud AGB Ziffer 1.2
A52: 3.12 | B52: K.O.-Kriterium | C52: B | D52: Die SaaS-Anwendung erfüllt die Anforderungen der DSGVO. Die Einhaltung ist nach Aufforderung des Auftraggebers durch geeignete Nachweise zu belegen (z. B. TOMs, Muster einer AVV nach Art. 28 DSGVO oder gleichwertige Nachweise). | E52: EVB-IT Cloud AGB Ziffer 6.1
A54: 4. Datensicherung, Backup und Datenwiederherstellung
A55: 4.1 | B55: Informativ | C55: B | D55: Welches Verfahren empfehlen Sie für die Datensicherung (z. B. DB im Offline-Modus, DB im Online-Modus / Agenten, Export o. a.).
A57: 4.2 | B57: Informativ | C57: B | D57: Beschreiben Sie Ihr Datenrücksicherungskonzept mit Rahmenparametern und möglichen Auswirkungen.
A59: 4.3 | B59: K.O.-Kriterium | C59: B | D59: Der Auftragnehmer ist zur Erstellung von Backups der Daten des Auftraggebers verpflichtet und garantiert Mechanismen für ein vollständiges Desaster Recovery (Notfallwiederherstellung). | E59: Siehe Kriterienkatalog für Cloudleistungen zum EVB-IT Cloudvertrag Kriterien-Nr. 1.16
A61: 4.4 | B61: K.O.-Kriterium | C61: B | D61: Die Datensicherung und -wiederherstellung ist so auszugestalten, dass die Daten des Auftraggebers entweder zu jeder Zeit selbstständig durch den Auftraggeber oder, soweit dies aus technischen Gründen nicht möglich ist, mit Unterstützung durch den Auftragnehmer aus der Cloudinfrastruktur in einem marktüblichen Austauschformat exportiert werden können. Damit muss auch der Export von, vom Auftraggeber bestimmten Teilen der Daten möglich sein. Soweit die Daten verschlüsselt sind, ist diese Pflicht nur dann erfüllt, wenn der Auftraggeber über den Schlüssel verfügt. Für den Export der Daten und deren Sicherung bei dem Export ist der Auftraggeber verantwortlich. | E61: EVB-IT Cloud AGB Ziffer 7.3
A63: 4.5 | B63: Bewertung | C63: B | D63: Der Auftragnehmer gewährleistet eine revisionssichere Archivierung und Aufbewahrung der Prozessdaten über einen Zeitraum von 10 Jahren, einschließlich der Möglichkeit zur lesbaren und exportierbaren Bereitstellung auf Anforderung des Auftraggebers. Es wird eine nachvollziehbare Löschung nach Fristablauf sowie die Einordnung in die EVB-IT-Cloud-konformen Regelungen zu Datenexport, Löschung und gesetzlichen Aufbewahrungspflichten sichergestellt. | E63: Siehe Kriterienkatalog für Cloudleistungen zum EVB-IT Cloudvertrag Kriterien-Nr. 1.16, 1.17 und 2.3 EVB-IT Cloud AGB Ziffer 7 | H63: 5 | J63: =I63*H63 -> 0
A65: 5. Verfügbarkeit
A66: 5.1 | B66: Bewertung | C66: B | D66: Sofern nicht anders vereinbart schuldet der Auftragnehmer die vereinbarte Verfügbarkeit der Leistung am geschuldeten Übergabepunkt unter Verwendung des vereinbarten Zugriffs während der Betriebszeit. Es wird mindestens die Verfügbarkeitsklasse VK1 - Standard Sicherheit nach IT Grundschutz bei normalem Verfügbarkeitsbedarf - Minimale Verfügbarkeit 99% - gewährleistet. | E66: EVB-IT Cloud AGB Ziffer 8 (8.3) | H66: 7 | J66: =I66*H66 -> 0
A68: 6. Protokollierung und Reportingpflichten
A69: 6.1 | B69: K.O.-Kriterium | C69: B | D69: Es werden Fehlerprotokolle aus der SaaS Anwendung heraus erzeugt. Diese dürfen keine sicherheits- oder DSGVO-relevanten Daten enthalten.
A71: 6.2 | B71: Bewertung | C71: B | D71: Protokolle über die Zugriffe auf die vom Auftraggeber genutzten Leistungen einschließlich der entsprechenden Daten und Datensicherungen. Protokolliert werden muss dabei mindestens, durch wen, wann, wie und wie lange ein Zugriff erfolgte. | E71: Siehe Kriterienkatalog für Cloudleistungen zum EVB-IT Cloudvertrag Kriterien-Nr. 2.3 | H71: 7 | J71: =I71*H71 -> 0
A73: 6.3 | B73: K.O.-Kriterium | C73: B | D73: Der Auftragnehmer verpflichtet sich ein Änderungsprotokoll zu pflegen (Changelog), indem in aggregierter Form die durchgeführten Änderungen aus Anforderung 7.1 (Aktualisierung) dokumentiert werden und stellt diese dem Auftraggeber zur Verfügung.
...

Sheet Teil C 
A1: Teil C - Preisblatt
A4: Ersthelferapp
A5: - | B5: Bereitstellung und Betrieb einer Ersthelferapp
A6: - | B6: Leistungserbringung gemäß "Leistungsverzeichnis"
A7: - | B7: Die Betriebskosten sind auf 4 Jahre angesetzt. Es besteht die Möglichkeit einer optionalen jährlichen Verlängerung nach 2 Jahren Mindestlaufzeit.
A9: I. Implementierungskosten | D9: Preis in € (ohne Umsatzsteuer)
A10: I.1 | B10: Aufsetzen der Software/ Installation (Setup) - Pauschalpreis | D10: 0
A11: I.2 | B11: Ertüchtigung und Anpassung der Schnittstelle zum Leitsystem | D11: 0
A12: I.3 | B12: Pflege & Support während des Setups- Pauschalpreis | D12: 0
A13: I.4 | B13: Workshops und Schulungen (mind. 2) für mindestens 10 Personen - Pauschalpreis | D13: 0
A14: Zwischensumme I. | D14: =SUM(D10:D13) -> 0
A16: II. Jährliche Fixkosten | C16: Einzelpreis pro Jahr in € (ohne Umsatzsteuer) | D16: Gesamtpreis über 4 Jahre in € (ohne Umsatzsteuer)
A17: II.1 | B17: Dienstleistungskosten (inkl. Updates/Upgrades/neue Releases, Hosting, allgemeiner Betrieb, Datensicherheit) | C17: 0 | D17: =SUM(C17*4) -> 0
A18: Zwischensumme II. | D18: =SUM(D17) -> 0
A20: III. Stunden-/Tagessätze für zusätzliche Leistungen (zur Information) | C20: Stundensatz Preis in € (ohne Umsatzsteuer) | D20: Tagessatz Preis in € (ohne Umsatzsteuer)
A21: III.1 | B21: Projektleiter*in | C21: 0 | D21: 0
A22: III.2 | B22: Projektbearbeiter*innen | C22: 0 | D22: 0
A23: III.3 | B23: technische Mitarbeiter*innen | C23: 0 | D23: 0
A26: Bewertungspreis:
A27: SUMME: Zwischensumme I. + Zwischensumme II.
A28: Gesamtpreis netto
D29: =D14+D18 -> 0
A30: Gesamtpreis brutto | D30: =D29*1.19 -> 0

Sheet Auswertungsmatrix
A2: AUSWERTUNG
A4: Übersicht Auswertung | B4: umge- rechnete Punkte | D4: Punkte | G4: K.O.-Kriterien | I4: "Ausschluss" oder "weiter"
D5: erreicht | E5: von | G5: erfüllt | H5: von insgesamt
A6: Teil A | B6: =30*(D6/E6) -> 0 | D6: ='Teil A '!I120 -> 0 | E6: ='Teil A '!G119 -> 81 | G6: ='Teil A '!I122 -> 0 | H6: ='Teil A '!G121 -> 35 | I6: =IF(H6-G6=0,"weiter","Ausschluss") -> Ausschluss
A7: Teil B | B7: =20*(D7/E7) -> 0 | D7: ='Teil B '!J96 -> 0 | E7: ='Teil B '!H95 -> 71 | G7: ='Teil B '!J98 -> 0 | H7: ='Teil B '!H97 -> 21 | I7: =IF(H7-G7=0,"weiter","Ausschluss") -> Ausschluss
A8: Teil C
A9: Summe | B9: =SUM(B6:B8) -> 0
A10: Hinweis zur Punktevergabe:
A11: Da für das Zuschlagskriterium Qualität der angebotenen Leistung für Teil A nur maximal 30 Punkte und für Teil B nur maximal 20 Punkte vergeben werden können, werden die in A und B erreichten Punkte in für die Wertung zu berücksichtigende Punkte umgerechnet:
A12: Die Formel für die Umrechnung der beim Angebot tatsächlich erreichten Punkte lautet: (Für Teil A): 30 x (erreichte Punkte des Angebotes (Inhalt Zelle D6) / max. erreichbare Punkte (Inhalt Zelle E6)) (Für Teil B): 20 x (erreichte Punkte des Angebotes (Inhalt Zelle D7) / max. erreichbare Punkte (Inhalt Zelle E7)) (Für Teil C): Es gilt, dass der beste (günstigste) Preis die maximale Wertung von 50 Punkten erhält. Das 2-fache des besten Preises entspricht 0. Alle weiteren Angebote werden entsprechend Ihrer Abweichungen linear interpoliert. Der geringste erreichbare Wert ist 0.

Sheet Auswertungsmatrix (2)
A2: AUSWERTUNG
A4: Übersicht Auswertung | B4: umge- rechnete Punkte | D4: Punkte | G4: K.O.-Kriterien | I4: "Ausschluss" oder "weiter"
D5: erreicht | E5: von | G5: erfüllt | H5: von insgesamt
A6: Teil A | B6: =50*(D6/E6) -> #REF! | C6: =IF(B6<25,"Ausschluss","weiter") -> #REF! | D6: =#REF! -> #REF! | E6: =#REF! -> #REF! | G6: ='Teil A '!#REF! -> #REF! | H6: =#REF! -> #REF! | I6: =IF(H6-G6=0,"weiter","Ausschluss") -> #REF!
A7: Teil B | B7: =20*(D7/E7) -> 0 | D7: ='Teil B '!I95 -> 0 | E7: ='Teil B '!H95 -> 71 | G7: =#REF! -> #REF! | H7: =#REF! -> #REF! | I7: =IF(H7-G7=0,"weiter","Ausschluss") -> #REF!
A8: Teil C
A9: Summe | B9: =SUM(B6:B8) -> #REF!
A10: Hinweis zur Punktevergabe:
A11: Da für das Zuschlagskriterium Qualität der angebotenen Leistung für Teil A nur maximal 50 Punkte und für Teil B nur maximal 20 Punkte vergeben werden können, werden die in A und B erreichten Punkte in für die Wertung zu berücksichtigende Punkte umgerechnet:
A12: Die Formel für die Umrechnung der beim Angebot tatsächlich erreichten Punkte lautet: (Für Teil A): 50 x (erreichte Punkte des Angebotes (Inhalt Zelle D6) / max. erreichbare Punkte (Inhalt Zelle E6)) (Für Teil B): 20 x (erreichte Punkte des Angebotes (Inhalt Zelle D7) / max. erreichbare Punkte (Inhalt Zelle E7)) (Für Teil C): 30 x (günstigstes Angebot / Angebotssumme)
A14: Bitte beachten Sie die Mindestanforderung von 25 umgerechneten Punkten für Teil A
