Workbook
Name _ftn1: 'Epk An-und Abfahrt'!#REF!
Name _ftn1: 'Epk Material'!#REF!
Name _ftnref1: 'Epk An-und Abfahrt'!#REF!
Name _ftnref1: 'Epk Material'!#REF!
Name SuA_Art: #REF!
Name SuA_Art: #REF!
Name SuA_Masseiheit: #REF!
Name SuA_Masseiheit: #REF!

Sheet Deckblatt
B7: Preisspiegel und Einheitspreiskatalog
B8: Anlage 4
B9: über
B10: Rahmenvertrag Beschilderung
B12: Vergabenummer
B13: TEK2606036
B14: zwischen
B15: Vivantes - Netzwerk für Gesundheit GmbH
B16: Aroser Allee 72-76
B17: 13407 Berlin
B18: - nachfolgend als Auftraggeber (AG) bezeichnet –
B20: und
... B24: - nachfolgend als Auftragnehmer (AN) bezeichnet –
B26: Kontakt Name: | C26: xname
B27: Telefon | C27: xtelefon
B28: Basiert auf Musterversion | C28: 2.0
B29: gültig ab | C29: 46388
B30: ersetzt Dokument vom | C30: Erstausstellung
B31: gültig bis | C31: 47848
B32: Vergabeart | C32: Offenes Verfahren
A35: Achtung: Diese Tabelle enthält Macros. Beim Öffnen müssen für eine saubere Funktion Macros zugelassen werden. Auf gar keinen Fall dürfen auf denSeiten Deckblatt und Unterschrift, sowie in allen Kopfzeilen bis Zeile 5 Änderungen die zu Zellverschiebungen führen vorgenommen werden. Die Daten in den Kopfzeilen und im Unterschriftenblatt werden automatisch gefüllt. Hier ist nichts zu Ändern....

Sheet Epk SVS
A1: Einheitspreiskatalog: Einheitspreise Stundensätze | B1: ="Einheitspreiskatalog, Blatt: " & MID(CELL("Dateiname",B1),FIND("]",CELL("Dateiname",B1))+1,31) -> Einheitspreiskatalog, Blatt: Epk SVS | C1: ="Einheitspreiskatalog, Blatt: " & MID(CELL("Dateiname",C1),FIND("]",CELL("Dateiname",C1))+1,31) -> Einheitspreiskatalog, Blatt: Epk SVS | D1: ="Einheitspreiskatalog, Blatt: " & MID(CELL("Dateiname",D1),FIND("]",CELL("Dateiname",D1))+1,31) -> Einheitspreiskatalog, Blatt: Epk SVS | E1: ="Einheitspreiskatalog, Blatt: " & MID(CELL("Dateiname",E1),FIND("]",CELL("Dateiname",E1))+1,31) -> Einheitspreiskatalog, Blatt: Epk SVS | F1: ="Einheitspreiskatalog, Blatt: " & MID(CELL("Dateiname",F1),FIND("]",CELL("Dateiname",F1))+1,31) -> Einheitspreiskatalog, Blatt: Epk SVS
A4: Leistung | B4: =Deckblatt!B10 -> Rahmenvertrag Beschilderung | E4: gültig ab | F4: =Deckblatt!C29 -> 46388
E5: ersetzt Dokument vom | F5: =Deckblatt!C30 -> Erstausstellung
A6: Vergabenr. | B6: =Deckblatt!B13 -> TEK2606036 | E6: gültig bis | F6: =Deckblatt!C31 -> 47848
A8: Partner | B8: Firmenname | C8: =Deckblatt!B21 -> cde
B9: Straße | C9: =Deckblatt!B22 -> xstraße
B10: PLZ, Ort | C10: =Deckblatt!B23 -> xort
A11: Kontakt | B11: Name | C11: =Deckblatt!C26 -> xname
B12: Telefon | C12: =Deckblatt!C27 -> xtelefon
A14: Nr. | B14: Leistung Vorlaufzeit 1 Werktag, sofern in der Position nichts anderes vereinbart ist. Bei besonderen Anforderungen (Umfang, Dauer) kann eine längerer Vorlaufzeit erforderlich sein, die einvermehmlich zwischen AG und AN abzustimmen ist | D14: Basis-menge der jew. Einheit | E14: Maß-einheit | F14: Basispreis netto
B15: Standort | C15: Kurzbeschreibung
A16: Arbeiten, welche nicht in den Positionen erfasst sind und gegen Nachweis zur Ausführung kommen.
A17: 1 | B17: Alle | C17: SVS Facharbeiter Grafik / Satz und Entwurfsarbeiten | D17: 1 | E17: Std. | F17: 0
A18: 2 | B18: Alle | C18: SVS Facharbeiter Druck und Montage | D18: 1 | E18: Std. | F18: 0
A19: 3 | B19: Alle | C19: Helfer | D19: 1 | E19: Std. | F19: 0
A20: Dokumentationen, die nicht zum Umfang der Regelleistung gehören.
A21: 4 | B21: Alle | C21: - z.B. Nachweise, Produktdatenblätter, Prüfzeugnisse, Zertifikate u.ä. der verwendeten Baustoffe, Werkstoffe, Materialien und Einbauteile - z.B. Fabrikatslisten (Artikelbezeichnung) Die Abgabe der Dokumentation hat vor Einreichung der Schlussrechnung in 2-facher Ausfertigung zu erfolgen. | D21: 1 | E21: Std. | F21: 0
A22: Hinweis:
A23: Bei Teilnahme am elektronischen Vergabeverfahren ersetzt die elektronische Signatur die händische Unterschrift.

Sheet Epk Material
A1: Einheitspreiskatalog: Einheitspreise für Material
A4: Leistung | C4: =Deckblatt!B10 -> Rahmenvertrag Beschilderung | F4: gültig ab | G4: =Deckblatt!C29 -> 46388
F5: ersetzt Dokument vom | G5: =Deckblatt!C30 -> Erstausstellung
A6: Vergabenr. | C6: =Deckblatt!B13 -> TEK2606036 | F6: gültig bis | G6: =Deckblatt!C31 -> 47848
A8: Partner | C8: Firmenname | D8: =Deckblatt!B21 -> cde
C9: Straße | D9: =Deckblatt!B22 -> xstraße
C10: PLZ, Ort | D10: =Deckblatt!B23 -> xort
A11: Kontakt | C11: Name | D11: =Deckblatt!C26 -> xname
C12: Telefon | D12: =Deckblatt!C27 -> xtelefon
A14: Nr. | B14: Materialbeschaffung Vorlaufzeit 1 Werktag, sofern in der Position nichts anderes vereinbart ist. Bei besonderen Anforderungen (Umfang, Dauer) kann eine längere Vorlaufzeit erforderlich sein, die einvermehmlich zwischen AG und AN abzustimmen ist | E14: Zeilen (max) | F14: Zeichen | G14: Zeichen (ges.) | H14: Maße | I14: Maßeinheit | J14: Einzelpreis netto in EURO pro Maßeinheit vom Bieter auszufüllen | L14: Menge | M14: Musterkalkulation zur Wertung (Preis) | P14: Gesamtpreis netto
B15: Kurzbeschreibung
A16: Material 1 | L16: Material 1
A17: 1 | B17: Wandbeschilderung Abdeckkappen: Kunststoff, weiß Grundprofil: Aluminium mit seitlichen Rundungen, weiß | L17: 1 | M17: Wandbeschilderung Abdeckkappen: Kunststoff, weiß Grundprofil: Aluminium mit seitlichen Rundungen, weiß
B18: WIP 82 | E18: 1 | F18: 40 | G18: 40 | H18: 806 x 213 | I18: mm | J18: 0 | L18: 50 | M18: WIP 82 | P18: =J18*L18 -> 0
B19: WIP 102 | E19: 1 | F19: 50 | G19: 50 | H19: 1006 x 213 | I19: mm | J19: 0 | L19: 150 | M19: WIP 102 | P19: =J19*L19 -> 0
B20: WIP 122 | E20: 1 | F20: 60 | G20: 60 | H20: 1206 x 213 | I20: mm | J20: 0 | L20: 25 | M20: WIP 122 | P20: =J20*L20 -> 0
B21: WIP 142 | E21: 1 | F21: 70 | G21: 70 | H21: 1406 x 213 | I21: mm | J21: 0 | L21: 50 | M21: WIP 142 | P21: =J21*L21 -> 0
B22: WIP 83 | E22: 3 | F22: 40 | G22: 120 | H22: 806 x 303 | I22: mm | J22: 0 | L22: 25 | M22: WIP 83 | P22: =J22*L22 -> 0
B23: WIP 103 | E23: 3 | F23: 50 | G23: 150 | H23: 1006 x 303 | I23: mm | J23: 0 | L23: 75 | M23: WIP 103 | P23: =J23*L23 -> 0
B24: WIP 123 | E24: 3 | F24: 60 | G24: 180 | H24: 1206 x 303 | I24: mm | J24: 0 | L24: 15 | M24: WIP 123 | P24: =J24*L24 -> 0
B25: WIP 143 | E25: 3 | F25: 70 | G25: 210 | H25: 1406 x 303 | I25: mm | J25: 0 | L25: 50 | M25: WIP 143 | P25: =J25*L25 -> 0
A26: 2 | B26: Wandbeschilderung Abdeckklappen: Kunststoff, weiß Grundprofil: Aluminium mit seitlichen Rundungen, weiß Beschriftungsträger: Alu, Stärke: 0,5 mm 297 x 420 mm Grund: mit Hochleistungsfolie 751-090, weiß bezogen | L26: 2 | M26: Wandbeschilderung Abdeckklappen: Kunststoff, weiß Grundprofil: Aluminium mit seitlichen Rundungen, weiß Beschriftungsträger: Alu, Stärke: 0,5 mm 297 x 420 mm Grund: mit Hochleistungsfolie 751-090, weiß bezogen
B27: WI A4 | E27: 10 | F27: 22 | G27: 211 | H27: 213 x 303 | I27: mm | J27: 0 | L27: 125 | M27: WI A4 | P27: =J27*L27 -> 0
B28: WI A3 | E28: 10 | F28: 22 | G28: 220 | H28: 303 x 426 | I28: mm | J28: 0 | L28: 130 | M28: WI A3 | P28: =J28*L28 -> 0
A29: 3 | B29: Wandbeschilderung Beschriftungsträger: Aluminium Stärke 2 mm gewölbt, weiß Schrift: Hochleistungsfolie | L29: 3 | M29: Wandbeschilderung Beschriftungsträger: Aluminium Stärke 2 mm gewölbt, weiß Schrift: Hochleistungsfolie
B30: WIP 65 | E30: 6 | F30: 23 | G30: 138 | H30: 600 x 500 | I30: mm | J30: 0 | L30: 24 | M30: WP 65 | P30: =J30*L30 -> 0
B31: WIP 610 | E31: 15 | F31: 23 | G31: 345 | H31: 600 x 1000 | I31: mm | J31: 0 | L31: 230 | M31: WIP 610 | P31: =J31*L31 -> 0
B32: WIP 615 | E32: 25 | F32: 23 | G32: 575 | H32: 600 x 1500 | I32: mm | J32: 0 | L32: 99 | M32: WIP 615 | P32: =J32*L32 -> 0
B33: WIP 620 | E33: 34 | F33: 23 | G33: 782 | H33: 600 x 2000 | I33: mm | J33: 0 | L33: 100 | M33: WIP 620 | P33: =J33*L33 -> 0
B34: WIP 905 | E34: 6 | F34: 38 | G34: 228 | H34: 900 x 500 | I34: mm | J34: 0 | L34: 100 | M34: WIP 905 | P34: =J34*L34 -> 0
B35: WIP 910 | E35: 15 | F35: 38 | G35: 570 | H35: 900 x 1000 | I35: mm | J35: 0 | L35: 100 | M35: WIP 910 | P35: =J35*L35 -> 0
B36: WIP 915 | E36: 25 | F36: 38 | G36: 950 | H36: 900 x 1500 | I36: mm | J36: 0 | L36: 89 | M36: WIP 915 | P36: =J36*L36 -> 0
B37: WIP 920 | E37: 34 | F37: 38 | G37: 1292 | H37: 900 x 2000 | I37: mm | J37: 0 | L37: 56 | M37: WIP 920 | P37: =J37*L37 -> 0
A38: Material 2 | L38: Material 2
A39: 4 | B39: Türbeschilderung Abdeckkappen: Kunststoff, weiß Grundprofil: Aluminium mit seitlichen Rundungen, weiß Papiereinlage: 160 g / m² Grund: weiß, Schrift: schwarz, rot, Raumnummer: weiß, Logo: siehe Vivante Corporate Design, Dokumenten-Nr 132206, Handbuch Seite 15 Abdeckung: PVC, Stärke: 0,5 mm, transparent, entspiegelt | L39: 4 | M39: Türbeschilderung Abdeckkappen: Kunststoff, weiß Grundprofil: Aluminium mit seitlichen Rundungen, weiß Papiereinlage: 160 g / m² Grund: weiß, Schrift: schwarz, rot, Raumnummer: weiß, Logo: siehe Vivante Corporate Design, Dokumenten-Nr 132206, Handbuch Seite 15 Abdeckung: PVC, Stärke: 0,5 mm, transparent, entspiegelt
B40: TI 1 | E40: 4 | F40: 25 | G40: 100 | H40: 153 x 153 | I40: mm | J40: 0 | L40: 500 | M40: TI 1 | P40: =J40*L40 -> 0
B41: TI 2 | E41: 2 x 4 | F41: 25 | G41: 200 | H41: 153 x 306 | I41: mm | J41: 0 | L41: 1500 | M41: TI 2 | P41: =J41*L41 -> 0
B42: TI 3 | E42: 3 x 4 | F42: 25 | G42: 300 | H42: 153 x 456 | I42: mm | J42: 0 | L42: 250 | M42: TI 3 | P42: =J42*L42 -> 0
A43: 5 | B43: Türbeschilderung Abdeckklappen: Kunststoff, weiß Grundprofil: Aluminium mit seitlichen Rundungen weiß Papiereinlage: 160 g / m² Grund: weiß, Schrift: schwarz, rot, Raumnummer: weiß, Logo: siehe Vivantes Corporate Design, Dokumenten-Nr 132206, Handbuch Seite 15 Abdeckung: PVC, Stärke: 0,5 mm, transparent, entspiegelt | L43: 5 | M43: Türbeschilderung Abdeckklappen: Kunststoff, weiß Grundprofil: Aluminium mit seitlichen Rundungen weiß Papiereinlage: 160 g / m² Grund: weiß, Schrift: schwarz, rot, Raumnummer: weiß, Logo: siehe Vivantes Corporate Design, Dokumenten-Nr 132206, Handbuch Seite 15 Abdeckung: PVC, Stärke: 0,5 mm, transparent, entspiegelt
B44: TI S | E44: 4 | F44: 25 | G44: 100 | H44: 103 x 156 | I44: mm | J44: 0 | L44: 120 | M44: TI S | P44: =J44*L44 -> 0
...

Sheet Epk An-und Abfahrt
A1: Einheitspreiskatalog: An-/Abfahrtspauschale zum jeweiligen Standort als Einheitspreise
A4: Leistung | C4: =Deckblatt!B10 -> Rahmenvertrag Beschilderung | F4: gültig ab | G4: =Deckblatt!C29 -> 46388
F5: ersetzt Dokument vom | G5: =Deckblatt!C30 -> Erstausstellung
A6: Vergabenr. | C6: =Deckblatt!B13 -> TEK2606036 | F6: gültig bis | G6: =Deckblatt!C31 -> 47848
A8: Partner | C8: Firmenname | D8: =Deckblatt!B21 -> cde
C9: Straße | D9: =Deckblatt!B22 -> xstraße
C10: PLZ, Ort | D10: =Deckblatt!B23 -> xort
A11: Kontakt | C11: Name | D11: =Deckblatt!C26 -> xname
C12: Telefon | D12: =Deckblatt!C27 -> xtelefon
A14: Nr. | B14: Leistung Die An- und Abafahrtspauschale (Fahrzeugkosten und -zeit je AG-Standort) sind in der Rechnung separat auszuweisen. | F14: Maß-einheit | G14: Pauschalpreis netto in EURO pro Maßeinheit
B15: Kürzel | C15: Name | D15: Strasse | E15: PLZ/Ort
A16: Vivants Kliniken
A17: 1 | B17: KFH | C17: Klinikum im Friedrichshain | D17: Landsberger Allee 49 | E17: 10249 Berlin | F17: pauschal | G17: 0
A18: 2 | B18: KHD | C18: Klinikum Kaulsdorf | D18: Myslowitzer Str. 45 | E18: 12621 Berlin
A19: 3 | B19: ARO | C19: Aroser Allee | D19: Aroser Allee 72 | E19: 13407 Berlin
A20: 4 | B20: HUK | C20: Humboldt-Klinikum | D20: Am Nordgraben 2 | E20: 13509 Berlin
A21: 5 | B21: KSP | C21: Klinikum Spandau | D21: Neue Bergstraße 6 | E21: 13585 Berlin
A22: 6 | B22: AVK | C22: Auguste-Viktoria-Klinikum | D22: Rubensstraße 125 | E22: 12157 Berlin
A23: 7 | B23: IWK | C23: Ida-Wolf-Krankenhaus | D23: Juchaczweg 21 | E23: 12351 Berlin
A24: 8 | B24: KAU | C24: Klinikum Am Urban | D24: Dieffenbachstraße 1 | E24: 10967 Berlin
A25: 9 | B25: KNK | C25: Klinikum Neukölln | D25: Rudower Straße 48 | E25: 12351 Berlin
A26: 10 | B26: WBK | C26: Vivantes Wenckebach-Klinikum | D26: Wenckebachstraße 23 | E26: 12099 Berlin
A27: Sonstige Standorte
A28: 11 | B28: KMV1 | C28: Krankenhaus des Maßregelvollzugs | D28: Olbendorfer Weg 70 | E28: 13403 Berlin
A29: 12 | B29: KMV2 | C29: Krankenhaus des Maßregelvollzugs | D29: Lindenberger Weg 69 | E29: 13125 Berlin
A30: 13 | B30: BBG | C30: Berliner Bildungscampus | D30: Waldstraße 86-90 | E30: 13403 Berlin
A31: 14 | B31: LSP | C31: Logistikzentrum Spandau | D31: Gartenfelder Str. 37 | E31: 13599 Berlin
A32: Forum für Senioren
A33: 15 | B33: HJZ | C33: Haus Jahreszeiten | D33: Büschingstraße 29 | E33: 10249 Berlin
A34: 16 | B34: HBZ | C34: Haus Britz | D34: Buschkrugallee 139 | E34: 12359 Berlin
A35: 17 | B35: HDS | C35: Haus Danziger Straße | D35: Danziger Straße 245 | E35: 10407 Berlin
A36: 18 | B36: HFP | C36: Haus Franckepark | D36: Götzstraße 20a | E36: 12099 Berlin
A37: 19 | B37: HEH | C37: Ernst-Hoppe-Haus | D37: Lanzendorfer Weg 30 | E37: 14089 Berlin
A38: 20 | B38: HRS | C38: Haus Rhinstraße | D38: Rhinstraße 105 | E38: 10315 Berlin
A39: 21 | B39: HJH | C39: Haus Jungfernheide | D39: Schweiggerweg 2-12 | E39: 13627 Berlin
A40: 22 | B40: HWD | C40: Haus Wilmersdorf | D40: Berkaer Str. 31-35 | E40: 14199 Berlin
A41: 23 | B41: HIW | C41: Ida-Wolff Haus | D41: Juchaczweg 21 | E41: 12351 Berlin
A42: 24 | B42: HJK | C42: Haus John F. Kennedy | D42: Alt-Wittenau 90 | E42: 13437 Berlin
A43: 25 | B43: HHK | C43: Dr. Herrmann-Kantorowicz-Haus | D43: Schönwalder Str. 50 | E43: 13585 Berlin
A44: 26 | B44: HLE | C44: Haus Leonore | D44: Leonorenstraße 17 | E44: 12247 Berlin
...

Sheet Standorte
B1: Standorte | E1: =Deckblatt!B13 -> TEK2606036
B3: Los | C3: Region | D3: Kürzel | E3: Kliniken | F3: Adresse | H3: Ansprechpartner vor Ort
F4: Strasse | G4: PLZ, Ort | H4: Name | I4: Telefon | J4: Fax | K4: E-Mail
B5: 1 | C5: Ost | D5: KFH | E5: Klinikum im Friedrichshain | F5: Landsberger Allee 49 | G5: 10249 Berlin | H5: Thomas Harder | I5: (030) 130 231336 | J5: (030) 130 232030 | K5: thomas.harder@vivantes.de
D6: KHD | E6: Klinikum Kaulsdorf | F6: Myslowitzer Str. 45 | G6: 12621 Berlin | H6: Sebastian Kemmer | I6: (030) 130 172891 | J6: (030) 130 172892 | K6: sebastian.kemmer@vivantes.de
B7: 2 | C7: Nord | D7: ARO | E7: Aroser Allee | F7: Aroser Allee 72 | G7: 13407 Berlin | H7: Nicole Dornbusch | I7: (030) 130 115228 | J7: (030) 130 115372 | K7: Nicole.Dornbusch@vivantes.de
D8: HUK | E8: Humboldt-Klinikum | F8: Am Nordgraben 2 | G8: 13509 Berlin | H8: Christian Klimmek | I8: (030) 130 121530 | J8: (030) 130 121532 | K8: christian.klimmek@vivantes.de
D9: KMV | E9: Krankenhaus des Maßregelvollzugs | F9: Olbendorfer Weg 70 | G9: 13403 Berlin | H9: Nicole Dornbusch | I9: (030) 130 115228 | J9: (030) 130 115372 | K9: Nicole.Dornbusch@vivantes.de
D10: KSP | E10: Klinikum Spandau | F10: Neue Bergstraße 6 | G10: 13585 Berlin | H10: Renè Strache | I10: (030) 130 131400 | J10: (030) 130 131404 | K10: rene.strache@vivantes.de
B11: 3 | C11: Süd/West | D11: AVK | E11: Auguste-Viktoria-Klinikum | F11: Rubensstraße 125 | G11: 12157 Berlin | H11: Nicolai van de Bergh | I11: (030) 130 130 202202 | J11: (030) 130 202244 | K11: nicolai.vandebergh@vivantes.de
D12: IWK | E12: Ida-Wolf-Krankenhaus | F12: Juchaczweg 21 | G12: 12351 Berlin | H12: Lindenau Stefan | I12: (030) 130 142130 | J12: (030) 131 143599 | K12: Stefan.Lindenau@vivantes.de
D13: KAU | E13: Klinikum Am Urban | F13: Dieffenbachstraße 1 | G13: 10967 Berlin | H13: Christioph Radola | I13: (+49) 151 16318819 | J13: (030) 130 224024 | K13: Christoph.Radola@vivantes.de
D14: KNK | E14: Klinikum Neukölln | F14: Rudower Straße 48 | G14: 12351 Berlin | H14: Lindenau Stefan | I14: (030) 130 142130 | J14: (030) 131 143599 | K14: Stefan.Lindenau@vivantes.de
D15: WBK | E15: Vivantes Wenckebach-Klinikum | F15: Wenckebachstraße 23 | G15: 12099 Berlin | H15: Nicolai van de Bergh | I15: (030) 130 130 202202 | J15: (030) 130 202244 | K15: nicolai.vandebergh@vivantes.de
B16: 4 | C16: FFS - Forum für Senioren | D16: HTE | E16: Haus Teichstrasse | F16: Teichstraße 44 | G16: 13407 Berlin | H16: Marion Voigt | I16: (030) 417 275 2513 | J16: (030) 417 275 2504 | K16: marion.voigt@vivantes.de
D17: HSO | E17: Haus Sommerstrasse | F17: Sommerstraße 25 c | G17: 13409 Berlin | H17: Heike Sporkhorst | I17: (030) 497 690 325 67 | J17: (030) 497 690 325 80 | K17: heike.sporkhorst@vivantes.de
D18: HJK | E18: Haus John F. Kennedy | F18: Alt-Wittenau 90 - 90a | G18: 13437 Berlin | H18: Heike Sporkhorst | I18: (030) 322 926 401 | J18: (030) 322 926 491 | K18: heike.sporkhorst@vivantes.de
D19: HJH | E19: Haus Jungfernheide | F19: Schweiggerweg 2-12 | G19: 13627 Berlin | H19: Jakob Schlegel | I19: (030) 367 023 301 03 | J19: (030) 367 023 301 09 | K19: Jakob.Schlegel2@vivantes.de
D20: HSE | E20: Haus Seebrücke | F20: Am Maselakepark 20 | G20: 13587 Berlin | H20: Antje Stschepin-Lohfing | I20: (030) 550 051 153 | J20: (030) 550 051 183 | K20: antje.stschepin-lohfing@vivantes.de
D21: HEH | E21: Haus Ernst Hoppe | F21: Lanzendorfer Weg 30 | G21: 14089 Berlin | H21: Hans-Jürgen Duske | I21: (030) 365-05451 | J21: (030) 365 05 47 | K21: hans-juergen.duske@vivantes.de
D22: HHK | E22: Haus Dr. Herrmann Kantorowicz | F22: Schönwalder Str. 50-52 | G22: 13585 Berlin | H22: Hans-Jürgen Duske | I22: (030) 355 300 70 | J22: (030) 355 300 77 | K22: hans-juergen.duske@vivantes.de
D23: HWD | E23: Haus Wilmersdorf | F23: Berkaer Str. 31-35 | G23: 14199 Berlin | H23: Jakob Riedel | I23: (030) 832 242 201 | J23: (030) 832 242 230 | K23: jakob.riedel@vivantes.de
D24: HLE | E24: Haus Leonore | F24: Leonorenstraße 17 - 33 | G24: 12247 Berlin | H24: Zinka Malkwitz | I24: (030) 77 93 306 | J24: (030) 77 93 300 | K24: zinka.malkwitz@vivantes.de
D25: HIW | E25: Haus Ida Wolff | F25: Juchaczweg 21 | G25: 12351 Berlin | H25: Torsten Pestner | I25: (030) 130 149 800 | J25: (030) 130 149 809 | K25: torsten.pestner@vivantes.de
D26: HWE | E26: Haus Weidenweg | F26: Weidenweg 42 | G26: 10249 Berlin | H26: Carolin Utech | I26: (030) 422 035 13 | J26: (030) 422 035 48 | K26: carolin.utech@vivantes.de
D27: HJZ | E27: Haus Jahreszeiten | F27: Büschingstraße 29 | G27: 10249 Berlin | H27: André Schwarzbach | I27: (030) 847 119 124 | J27: (030) 847 119 141 | K27: andre.schwarzbach@vivantes.de
D28: HFP | E28: Haus Franckepark | F28: Götzstraße 20a | G28: 12099 Berlin | H28: Zinka Malkwitz | I28: (030) 757 748 1602 | J28: (030) 757 748 1699 | K28: gueler.ates@vivantes.de
... D33: HRK | E33: Haus Rhinstraße Kurzzeitpflege | F33: Rhinstraße 105 | G33: 10315 Berlin | H33: Sandra Ebner | I33: (030) 319 89 17 10 | J33: (030) 319 89 17 11 | K33: sandra.ebner@vivantes.de
D34: KWB | E34: Haus Wenckebach Kurzzeitpflege | F34: Wenckebachstraße 23 | G34: 12099 Berlin | H34: Michelle Apwisch | I34: 0151-53854951 | K34: michelle.apwisch@vivantes.de
D35: KIW | E35: Haus Ida Wolff Kurzzeitpflege am Standort Klinikum Neukölln / Haus 30, Station 33 | F35: Rudower Straße 48 | G35: 12351 Berlin | H35: Judith Hanisch | I35: (030) 130 14 9887 | J35: (030) 130 14 9991 | K35: judith.hanisch@vivantes.de
D36: GJF | E36: Haus John F. Kennedy Gerontopsychiatrie | F36: Alt-Wittenau 90 - 90a | G36: 13437 Berlin | H36: Heike Sporkhorst | I36: (030) 322 926 401 | J36: (030) 322 926 491 | K36: heike.sporkhorst@vivantes.de
D37: HKD | E37: Haus Kaulsdorf | F37: Münsterberger Weg 96 | G37: 12621 Berlin | H37: Antje Stschepin-Lohfing | I37: (030) 130 174 019 | J37: (030) 130 174 021 | K37: antje.stschepin-lohfing@vivantes.de
D38: HSR | E38: Haus St. Richard | F38: Schudomastrasse 16 | G38: 12055 Berlin | H38: Maria Galster | I38: (030) 319 8616 712 | J38: (030) 319 8616 716 | K38: maria.galster@vivantes.de
E39: Haus Erweiterungen | F39: Erweiterung in HLE, HLR, HIW
