Workbook
Name _ftn1: Angebot!#REF!
Name _ftn1: Epk_Aufschläge!#REF!
Name _ftn1: 'Preisblatt-Standort'!#REF!
Name _ftnref1: Angebot!#REF!
Name _ftnref1: Epk_Aufschläge!#REF!
Name _ftnref1: 'Preisblatt-Standort'!#REF!
Name SuA_Art: #REF!
Name SuA_Art: #REF!
Name SuA_Art: #REF!
Name SuA_Art: #REF!
Name SuA_Masseiheit: #REF!
Name SuA_Masseiheit: #REF!
Name SuA_Masseiheit: #REF!

Sheet Deckblatt
B7: Preisblatt und Einheitspreiskatalog
B8: Anlage 4
B9: über
B10: Sicherheitsdienstleistungen
B11: Vergabenummer
B12: TEK2605027
B13: zwischen
B14: Vivantes - Netzwerk für Gesundheit GmbH
B15: Aroser Allee 72-76
B16: 13407 Berlin
B17: - nachfolgend als Auftraggeber (AG) bezeichnet –
B19: und
... B23: - nachfolgend als Auftragnehmer (AN) bezeichnet –
B25: Kontakt Name: | C25: xname
B26: Telefon | C26: xtelefon
B27: Basiert auf Musterversion | C27: 1.0
B28: gültig ab | C28: 46447
B29: ersetzt Dokument vom | C29: Erstausstellung
B30: gültig bis | C30: 48638
B31: Vergabe | C31: TEK2605027

Sheet Preisblatt-Standort
A1: Preisspiegel je Standort: Preise zu Regelleistungen basierend auf dem Leistungsverzeichnis (LV)
A4: zum Vertrag | C4: =Deckblatt!B10 -> Sicherheitsdienstleistungen | J4: gültig ab | K4: =Deckblatt!C28 -> 46447
J5: ersetzt Dokument vom | K5: =Deckblatt!C29 -> Erstausstellung
A6: Vergabenr. | C6: =Deckblatt!B12 -> TEK2605027 | J6: gültig bis | K6: =Deckblatt!C30 -> 48638
A8: Partner | B8: Firmenname | C8: =Deckblatt!B20 -> name
B9: Straße | C9: =Deckblatt!B21 -> xstraße
B10: PLZ, Ort | C10: =Deckblatt!B22 -> xort
A11: Kontakt | B11: Name | C11: =Deckblatt!C25 -> xname
B12: Telefon | C12: =Deckblatt!C26 -> xtelefon
A14: Nr. | B14: Leistung Für die Regelleistung ist ein gemittelter Stundensatz anzugeben, der alle Zuschläge (Nachtzuschlag, Wochenendzuschläg und ähnliches) enthält. Für die Sonderleistungen ist der einfache Stundenverrechnungssatz anzugeben. Zuschläge werden je nach Bedarf gemaß den Angaben im Reiter Epk_Aufschläge abgerechnet. | D14: Einzel- preis je Stunde | E14: Menge in Stunden p.a. "kalkulatorisch" | F14: Kalkulierte Kosten pro Jahr | I14: Monatspauschale für Regelleistung (Sonderleistungen werden gesondert nach Bedarf bgerechnet)
B15: vgl. LV | C15: Leistungselement | D15: netto in EURO | F15: netto in EUR | G15: MwSt. in EUR | H15: brutto in EUR | I15: netto in EUR | J15: MwSt. in EUR | K15: brutto in EUR
C16: Gesamtauftragswert | E16: =E25+E33+E38+E47+E52+E58+E63+E65 -> 139435 | F16: =F25+F33+F38+F47+F52+F58+F63+F65 -> 0 | G16: =G25+G33+G38+G47+G52+G58+G63+G65 -> 0 | H16: =H25+H33+H38+H47+H52+H58+H63+H65 -> 0 | I16: =I25+I33+I38+I47+I52+I58+I63+I65 -> 0 | J16: =J25+J33+J38+J47+J52+J58+J63+J65 -> 0 | K16: =K25+K33+K38+K47+K52+K58+K63+K65 -> 0
A17: 1 | B17: 4.1.1 | C17: Regelleistung AVK Objektschutz / Wachschutz | D17: 0 | E17: 2555 | F17: =D17*E17 -> 0 | G17: =F17*19/100 -> 0 | H17: =F17+G17 -> 0 | I17: =F17/12 -> 0 | J17: =G17/12 -> 0 | K17: =H17/12 -> 0
A18: 2 | B18: 4.1.2 | C18: Regelleistung AVK Rettungstelle | D18: 0 | E18: 8760 | F18: =D18*E18 -> 0 | G18: =F18*19/100 -> 0 | H18: =F18+G18 -> 0 | I18: =F18/12 -> 0 | J18: =G18/12 -> 0 | K18: =H18/12 -> 0
A19: 3 | B19: 4.1.3 | C19: Sonderleistung AVK Pforte/Info | D19: 0 | E19: 1700 | F19: =D19*E19 -> 0 | G19: =F19*19/100 -> 0 | H19: =F19+G19 -> 0
A20: 4 | B20: 4.1.4 | C20: Sonderleistung AVK Patientensuche | D20: 0 | E20: 36 | F20: =D20*E20 -> 0 | G20: =F20*19/100 -> 0 | H20: =F20+G20 -> 0
A21: 5 | B21: 4.1.5 | C21: Regelleistung WBK Objektschutz / Wachschutz | D21: 0 | E21: 3285 | F21: =D21*E21 -> 0 | G21: =F21*19/100 -> 0 | H21: =F21+G21 -> 0 | I21: =F21/12 -> 0 | J21: =G21/12 -> 0 | K21: =H21/12 -> 0
A22: 6 | B22: 4.1.6 | C22: Regelleistung WBK Rettungsstelle/ZPA-Psychatrie | D22: 0 | E22: 6136 | F22: =D22*E22 -> 0 | G22: =F22*19/100 -> 0 | H22: =F22+G22 -> 0 | I22: =F22/12 -> 0 | J22: =G22/12 -> 0 | K22: =H22/12 -> 0
A23: 7 | B23: 4.1.7 | C23: Sonderleistung WBK Pforte/Info | D23: 0 | E23: 500 | F23: =D23*E23 -> 0 | G23: =F23*19/100 -> 0 | H23: =F23+G23 -> 0
A24: 8 | B24: 4.1.8 | C24: Sonderleistung WBK Patientensuche | D24: 0 | E24: 36 | F24: =D24*E24 -> 0 | G24: =F24*19/100 -> 0 | H24: =F24+G24 -> 0
B25: LOS 1: AVK/WBK | C25: Auftragswert | E25: =SUM(E17:E24) -> 23008 | F25: =SUM(F17:F24) -> 0 | G25: =SUM(G17:G24) -> 0 | H25: =SUM(H17:H24) -> 0 | I25: =SUM(I17:I24) -> 0 | J25: =SUM(J17:J24) -> 0 | K25: =SUM(K17:K24) -> 0
A26: 9 | B26: 4.2.1 | C26: Regelleistung Objektschutz / Wachschutz | D26: 0 | E26: 2920 | F26: =D26*E26 -> 0 | G26: =F26*19/100 -> 0 | H26: =F26+G26 -> 0 | I26: =F26/12 -> 0 | J26: =G26/12 -> 0 | K26: =H26/12 -> 0
A27: 10 | B27: 4.2.2 | C27: Regelleistung Rettungsstelle | D27: 0 | E27: 8760 | F27: =D27*E27 -> 0 | G27: =F27*19/100 -> 0 | H27: =F27+G27 -> 0 | I27: =F27/12 -> 0 | J27: =G27/12 -> 0 | K27: =H27/12 -> 0
A28: 11 | B28: 4.2.3 | C28: Regelleistung Pforte Haus 19 / Objektschutz / Wachschutz | D28: 0 | E28: 5840 | F28: =D28*E28 -> 0 | G28: =F28*19/100 -> 0 | H28: =F28+G28 -> 0 | I28: =F28/12 -> 0 | J28: =G28/12 -> 0 | K28: =H28/12 -> 0
A29: 12 | B29: 4.2.4 | C29: Sonderleistung Patientensuche | D29: 0 | E29: 120 | F29: =D29*E29 -> 0 | G29: =F29*19/100 -> 0 | H29: =F29+G29 -> 0
A30: 13 | B30: 4.2.5 | C30: Sonderleistung Rettungstelle | D30: 0 | E30: 150 | F30: =D30*E30 -> 0 | G30: =F30*19/100 -> 0 | H30: =F30+G30 -> 0
A31: 14 | B31: 4.2.6 | C31: Sonderleistung Objektschutz/Wachschutz | D31: 0 | E31: 240 | F31: =D31*E31 -> 0 | G31: =F31*19/100 -> 0 | H31: =F31+G31 -> 0
A32: 15 | B32: 4.2.7 | C32: Sonderleistung Infostand | D32: 0 | E32: 800 | F32: =D32*E32 -> 0 | G32: =F32*19/100 -> 0 | H32: =F32+G32 -> 0
B33: LOS 2: KFH | C33: Auftragswert | E33: =SUM(E26:E32) -> 18830 | F33: =SUM(F26:F32) -> 0 | G33: =SUM(G26:G32) -> 0 | H33: =SUM(H26:H32) -> 0 | I33: =SUM(I26:I32) -> 0 | J33: =SUM(J26:J32) -> 0 | K33: =SUM(K26:K32) -> 0
A34: 17 | B34: 4.3.1 | C34: Regelleistung Objektschutz / Wachschutz | D34: 0 | E34: 548 | F34: =D34*E34 -> 0 | G34: =F34*19/100 -> 0 | H34: =F34+G34 -> 0 | I34: =F34/12 -> 0 | J34: =G34/12 -> 0 | K34: =H34/12 -> 0
A35: 18 | B35: 4.3.2 | C35: Regelleistung Rettungsstelle | D35: 0 | E35: 8760 | F35: =D35*E35 -> 0 | G35: =F35*19/100 -> 0 | H35: =F35+G35 -> 0 | I35: =F35/12 -> 0 | J35: =G35/12 -> 0 | K35: =H35/12 -> 0
A36: 19 | B36: 4.3.3 | C36: Sonderleistung Pforte/Info | D36: 0 | E36: 650 | F36: =D36*E36 -> 0 | G36: =F36*19/100 -> 0 | H36: =F36+G36 -> 0
A37: 20 | B37: 4.3.4 | C37: Sonderleistung Patientensuche | D37: 0 | E37: 72 | F37: =D37*E37 -> 0 | G37: =F37*19/100 -> 0 | H37: =F37+G37 -> 0
B38: LOS 4: KHD | C38: Auftragswert | E38: =SUM(E34:E37) -> 10030 | F38: =SUM(F34:F37) -> 0 | G38: =SUM(G34:G37) -> 0 | H38: =SUM(H34:H37) -> 0 | I38: =SUM(I34:I37) -> 0 | J38: =SUM(J34:J37) -> 0 | K38: =SUM(K34:K37) -> 0
A39: 21 | B39: 4.4.1 | C39: Regelleistung KNK Objektschutz / Wachschutz | D39: 0 | E39: 17520 | F39: =D39*E39 -> 0 | G39: =F39*19/100 -> 0 | H39: =F39+G39 -> 0 | I39: =F39/12 -> 0 | J39: =G39/12 -> 0 | K39: =H39/12 -> 0
A40: 22 | B40: 4.4.2 | C40: Regelleistung KNK Rettungsstelle/Kinderrettungsstelle | D40: 0 | E40: 9860 | F40: =D40*E40 -> 0 | G40: =F40*19/100 -> 0 | H40: =F40+G40 -> 0 | I40: =F40/12 -> 0 | J40: =G40/12 -> 0 | K40: =H40/12 -> 0
A41: 23 | B41: 4.4.3 | C41: Sonderleistung KNK Pforte/Info | D41: 0 | E41: 2000 | F41: =D41*E41 -> 0 | G41: =F41*19/100 -> 0 | H41: =F41+G41 -> 0
A42: 24 | B42: 4.4.4 | C42: Sonderleistung KNK Patientensuche | D42: 0 | E42: 270 | F42: =D42*E42 -> 0 | G42: =F42*19/100 -> 0 | H42: =F42+G42 -> 0
A43: 25 | B43: 4.4.5 | C43: Regelleistung IWK Objektschutz / Wachschutz | D43: 0 | E43: 91 | F43: =D43*E43 -> 0 | G43: =F43*19/100 -> 0 | H43: =F43+G43 -> 0 | I43: =F43/12 -> 0 | J43: =G43/12 -> 0 | K43: =H43/12 -> 0
A44: 26 | B44: 4.4.6 | C44: RegelleistungIWK Rettungsstelle | D44: 0 | E44: 0 | F44: =D44*E44 -> 0 | G44: =F44*19/100 -> 0 | H44: =F44+G44 -> 0 | I44: =F44/12 -> 0 | J44: =G44/12 -> 0 | K44: =H44/12 -> 0
...

Sheet Angebot
A1: Angebot für den Standort
A4: Leistung | B4: =Deckblatt!B10 -> Sicherheitsdienstleistungen | D4: gültig ab | E4: =Deckblatt!C28 -> 46447
D5: ersetzt Dokument vom | E5: =Deckblatt!C29 -> Erstausstellung
A6: Vergabenr. | B6: =Deckblatt!B12 -> TEK2605027 | D6: gültig bis | E6: =Deckblatt!C30 -> 48638
A8: Partner | B8: Firmenname | C8: =Deckblatt!B20 -> name
B9: Straße | C9: =Deckblatt!B21 -> xstraße
B10: PLZ, Ort | C10: =Deckblatt!B22 -> xort
A11: Kontakt | B11: Name | C11: =Deckblatt!C25 -> xname
B12: Telefon | C12: =Deckblatt!C26 -> xtelefon
A14: LOS | B14: Angebot: An dem Standort wird der AN seine Leistungen erbringen
B15: Kürzel | C15: Standort | D15: JA | E15: NEIN
A16: Kliniken
A17: Los 1 | B17: AVK | C17: Auguste-Viktoria-Klinikum
A18: Los 2 | B18: WBK | C18: Vivantes Wenckebach-Klinikum
A19: Los 3 | B19: KFH und KPB | C19: Klinikum im Friedrichshain
A20: Los 4 | B20: KHD | C20: Klinikum Hellersdorf (Kaulsdorf)
A21: Los 5 | B21: KNK und IWK | C21: Klinikum Neukölln Ida-Wolf-Krankenhaus
A22: Los 6 | B22: HUK | C22: Humboldt-Klinikum
A23: Los 7 | B23: KAU | C23: Klinikum Am Urban
A24: Los 8 | B24: KSP | C24: Klinikum Spandau
A25: Los 9 | B25: Nerv.Spandau | C25: Nervenklinik Spandau
A26: Los 10 | B26: HGA
A27: Hinweis:
A28: Bei Teilnahme am elektronischen Vergabeverfahren ersetzt die elektronische Signatur die händische Unterschrift.

Sheet EPK_SVS
A1: ="Einheitspreiskatalog, Blatt: " & MID(CELL("Dateiname",A1),FIND("]",CELL("Dateiname",A1))+1,31) -> Einheitspreiskatalog, Blatt: EPK_SVS
A2: Einheitspreise zu Stundenverrechnungssätzen
A4: Leistung | B4: =Deckblatt!B10 -> Sicherheitsdienstleistungen | E4: gültig ab | F4: =Deckblatt!C28 -> 46447
E5: ersetzt Dokument vom | F5: =Deckblatt!C29 -> Erstausstellung
A6: Vergabenr. | B6: =Deckblatt!B12 -> TEK2605027 | E6: gültig bis | F6: =Deckblatt!C30 -> 48638
A8: Partner | B8: Firmenname | C8: =Deckblatt!B20 -> name
B9: Straße | C9: =Deckblatt!B21 -> xstraße
B10: PLZ, Ort | C10: =Deckblatt!B22 -> xort
A11: Kontakt | B11: Name | C11: =Deckblatt!C25 -> xname
B12: Telefon | C12: =Deckblatt!C26 -> xtelefon
A14: Nr. | B14: Leistung Für die Sonderleistungen ist der einfache Stundenverrechnungssatz anzugeben. Zuschläge werden je nach Bedarf gemaß den Angaben im Reiter Epk_Aufschläge abgerechnet. | D14: Basis-menge der jew. Einheit | E14: Maß-einheit | F14: Einzelpreis netto
B15: vgl. LB | C15: Kurzbeschreibung
A16: Arbeiten, welche nicht in den Positionen erfasst sind und gegen Nachweis zur Ausführung kommen.
A17: 1 | B17: 2.1 | C17: Sonderleistung Kundenbetreuer/Objektleiter/Schichtführer | D17: 1 | E17: Std. | F17: 0
A18: 2 | B18: 2.2 | C18: Sonderleistung Mitarbeiter Objektschutz/Wachschutz | D18: 1 | E18: Std. | F18: 0
A19: 3 | B19: 2.3 | C19: Sonderleistung Mitarbeiter Rettungsstelle | D19: 1 | E19: Std. | F19: 0
A20: 4 | B20: 2.4 | C20: Sonderleistung Mitarbeiter Pforte/Info | D20: 1 | E20: Std. | F20: 0
A21: 5 | B21: 2.5 | C21: Sonderleistung Patientensuche | D21: 1 | E21: Std. | F21: 0
A22: Hinweis:
A23: Bei Teilnahme am elektronischen Vergabeverfahren ersetzt die elektronische Signatur die händische Unterschrift.

Sheet Epk_Aufschläge
A1: Einheitspreiskatalog: Rabatte und Aufschläge
A4: Leistung | B4: =Deckblatt!B10 -> Sicherheitsdienstleistungen | D4: gültig ab | E4: =Deckblatt!C28 -> 46447
D5: ersetzt Dokument vom | E5: =Deckblatt!C29 -> Erstausstellung
A6: Vergabenr. | B6: =Deckblatt!B12 -> TEK2605027 | D6: gültig bis | E6: =Deckblatt!C30 -> 48638
A8: Partner | B8: Firmenname | C8: =Deckblatt!B20 -> name
B9: Straße | C9: =Deckblatt!B21 -> xstraße
B10: PLZ, Ort | C10: =Deckblatt!B22 -> xort
A11: Kontakt | B11: Name | C11: =Deckblatt!C25 -> xname
B12: Telefon | C12: =Deckblatt!C26 -> xtelefon
A14: Nr. | B14: Leistung | D14: Maß-einheit | E14: auf Nettopreis der jew. Position
B15: Standort | C15: Kurzbeschreibung
A16: Aufschlag besondere Zeiten
A17: 1 | B17: Alle | C17: Zuschlag Nachtarbeit von 22:00 Uhr bis 06:00 Uhr | D17: %
A18: 2 | B18: Alle | C18: Zuschlag Sonntagsarbeit von 00:00 Uhr bis 24:00 Uhr | D18: %
A19: 3 | B19: Alle | C19: Zuschlag Arbeiten an gesetzlichen Feiertagen von 00:00 bis 24:00 Uhr am 24.12. + 31.12. in der Zeit von 14:00 - 24:00 Uhr | D19: %
A20: Hinweis:
A21: Bei Teilnahme am elektronischen Vergabeverfahren ersetzt die elektronische Signatur die händische Unterschrift.
