Workbook
Name _ftn1: 'Epk An-und Abfahrt'!#REF!
Name _ftn1: 'Epk Aufschläge'!#REF!
Name _ftnref1: 'Epk An-und Abfahrt'!#REF!
Name _ftnref1: 'Epk Aufschläge'!#REF!
Name SuA_Art: #REF!
Name SuA_Art: #REF!
Name SuA_Art: #REF!
Name SuA_Art: #REF!
Name SuA_Art: #REF!
Name SuA_Masseiheit: #REF!
Name SuA_Masseiheit: #REF!
Name SuA_Masseiheit: #REF!
Name SuA_Masseiheit: #REF!

Sheet Deckblatt
B7: Preisspiegel und Einheitspreiskatalog
B8: Anlage 4
B9: über
B10: Rahmenvertrag über Bodenbelagsarbeiten auf Abruf
B12: Vergabenummer
B13: TEK2604025
B14: zwischen
B15: Vivantes - Netzwerk für Gesundheit GmbH
B16: Aroser Allee 72-76
B17: 13407 Berlin
B18: - nachfolgend als Auftraggeber (AG) bezeichnet –
B20: und
... B24: - nachfolgend als Auftragnehmer (AN) bezeichnet –
B26: Kontakt Name: | C26: xname
B27: Telefon | C27: xtelefon
B28: Basiert auf Musterversion | C28: 2.0
B29: gültig ab | C29: 46388
B30: ersetzt Dokument vom | C30: Erstausstellung
B31: gültig bis | C31: 47848
B32: Vergabeart | C32: Offenes Verfahren (EU weit)
A35: Achtung: Diese Tabelle enthält Macros. Beim Öffnen müssen für eine saubere Funktion Macros zugelassen werden. Auf gar keinen Fall dürfen auf denSeiten Deckblatt und Unterschrift, sowie in allen Kopfzeilen bis Zeile 5 Änderungen die zu Zellverschiebungen führen vorgenommen werden. Die Daten in den Kopfzeilen und im Unterschriftenblatt werden automatisch gefüllt. Hier ist nichts zu Ändern....

Sheet Epk SVS
A1: Einheitspreiskatalog: Einheitspreise Stundensätze | B1: ="Einheitspreiskatalog, Blatt: " & MID(CELL("Dateiname",B1),FIND("]",CELL("Dateiname",B1))+1,31) -> Einheitspreiskatalog, Blatt: Epk SVS | C1: ="Einheitspreiskatalog, Blatt: " & MID(CELL("Dateiname",C1),FIND("]",CELL("Dateiname",C1))+1,31) -> Einheitspreiskatalog, Blatt: Epk SVS | D1: ="Einheitspreiskatalog, Blatt: " & MID(CELL("Dateiname",D1),FIND("]",CELL("Dateiname",D1))+1,31) -> Einheitspreiskatalog, Blatt: Epk SVS | E1: ="Einheitspreiskatalog, Blatt: " & MID(CELL("Dateiname",E1),FIND("]",CELL("Dateiname",E1))+1,31) -> Einheitspreiskatalog, Blatt: Epk SVS | F1: ="Einheitspreiskatalog, Blatt: " & MID(CELL("Dateiname",F1),FIND("]",CELL("Dateiname",F1))+1,31) -> Einheitspreiskatalog, Blatt: Epk SVS
A4: Leistung | B4: =Deckblatt!B10 -> Rahmenvertrag über Bodenbelagsarbeiten auf Abruf | E4: gültig ab | F4: =Deckblatt!C29 -> 46388
E5: ersetzt Dokument vom | F5: =Deckblatt!C30 -> Erstausstellung
A6: Vergabenr. | B6: =Deckblatt!B13 -> TEK2604025 | E6: gültig bis | F6: =Deckblatt!C31 -> 47848
A8: Partner | B8: Firmenname | C8: =Deckblatt!B21 -> cde
B9: Straße | C9: =Deckblatt!B22 -> xstraße
B10: PLZ, Ort | C10: =Deckblatt!B23 -> xort
A11: Kontakt | B11: Name | C11: =Deckblatt!C26 -> xname
B12: Telefon | C12: =Deckblatt!C27 -> xtelefon
A14: Nr. | B14: Stundensätze sind Zuschlagskriterium und werden für die Laufzeit des Rahmenvertrages fixiert | D14: Basis-menge der jew. Einheit | E14: Maß-einheit | F14: Basispreis netto
B15: Standort | C15: Kurzbeschreibung
A16: Arbeiten, welche nicht in den Positionen erfasst sind und gegen Nachweis zur Ausführung kommen.
A17: 1 | B17: Alle | C17: Facharbeiter 1 | D17: 1 | E17: Std.
A18: 2 | B18: Alle | C18: Facharbeiter 2 | D18: 1 | E18: Std.
A19: 3 | B19: Alle | C19: Helfer | D19: 1 | E19: Std.
A20: Dokumentationen, die nicht zum Umfang der Regelleistung gehören.
A21: 7 | B21: Alle | C21: - z.B. Nachweise, Produktdatenblätter, Prüfzeugnisse, Zertifikate u.ä. der verwendeten Baustoffe, Werkstoffe, Materialien und Einbauteile - z.B. Fabrikatslisten (Artikelbezeichnung) Die Abgabe der Dokumentation hat vor Einreichung der Schlussrechnung in 2-facher Ausfertigung incl. 1 CD zu erfolgen. | D21: 1 | E21: Std.

Sheet Epk Aufschläge
A1: Einheitspreiskatalog: Rabatte und Aufschläge
A4: Leistung | B4: =Deckblatt!B10 -> Rahmenvertrag über Bodenbelagsarbeiten auf Abruf | D4: gültig ab | E4: =Deckblatt!C29 -> 46388
D5: ersetzt Dokument vom | E5: =Deckblatt!C30 -> Erstausstellung
A6: Vergabenr. | B6: =Deckblatt!B13 -> TEK2604025 | D6: gültig bis | E6: =Deckblatt!C31 -> 47848
A8: Partner | B8: Firmenname | C8: =Deckblatt!B21 -> cde
B9: Straße | C9: =Deckblatt!B22 -> xstraße
B10: PLZ, Ort | C10: =Deckblatt!B23 -> xort
A11: Kontakt | B11: Name | C11: =Deckblatt!C26 -> xname
B12: Telefon | C12: =Deckblatt!C27 -> xtelefon
A14: Nr. | B14: Rabatte und Materialpreisaufschläge sind Zuschlagskriterium und werden für die Laufzeit des Rahmenvertrages fixiert | D14: Maß-einheit | E14: auf Nettopreis der jew. Position
B15: Standort | C15: Kurzbeschreibung
A16: Aufschlag Material
A17: 1 | B17: Alle | C17: Aufschlag für das Beschaffen des Materials auf den jeweiligen Lieferantenpreis Der Auftragnehmer verpflichtet sich dem Auftraggeber auf Nachfrage seine Lieferantenrechnungen/Einkaufsbelege zur Prüfung des angebenen Aufschlages per E-Mail zu senden. | D17: % | E17: 0
A18: Aufschlag besondere Zeiten
A19: 2 | B19: Alle | C19: Zuschlag Nachtarbeit ab 20:00 Uhr bis 24:00 Uhr | D19: % | E19: 0
A20: 3 | B20: Alle | C20: Zuschlag Nachtarbeit ab 24:00 Uhr bis 06:00 Uhr | D20: % | E20: 0
A21: 4 | B21: Alle | C21: Zuschlag Samstagsarbeit | D21: % | E21: 0
A22: 5 | B22: Alle | C22: Zuschlag Sonntagsarbeit | D22: % | E22: 0
A23: 6 | B23: Alle | C23: Zuschlag Arbeiten an gesetzlichen Feiertagen | D23: % | E23: 0
A24: Hinweis:
A25: Bei Teilnahme am elektronischen Vergabeverfahren ersetzt die elektronische Signatur die händische Unterschrift.

Sheet Epk An-und Abfahrt
A1: Einheitspreiskatalog: An-/Abfahrtspauschale zum jeweiligen Standort als Einheitspreise
A4: Leistung | C4: =Deckblatt!B10 -> Rahmenvertrag über Bodenbelagsarbeiten auf Abruf | F4: gültig ab | G4: =Deckblatt!C29 -> 46388
F5: ersetzt Dokument vom | G5: =Deckblatt!C30 -> Erstausstellung
A6: Vergabenr. | C6: =Deckblatt!B13 -> TEK2604025 | F6: gültig bis | G6: =Deckblatt!C31 -> 47848
A8: Partner | C8: Firmenname | D8: =Deckblatt!B21 -> cde
C9: Straße | D9: =Deckblatt!B22 -> xstraße
C10: PLZ, Ort | D10: =Deckblatt!B23 -> xort
A11: Kontakt | C11: Name | D11: =Deckblatt!C26 -> xname
C12: Telefon | D12: =Deckblatt!C27 -> xtelefon
A14: Nr. | B14: Die An- und Abfahrtspauschale ist Zuschlagskriterium und wird für die Laufzeit des Rahmenvertrages fixiert. Die An- und Abfahrtspauschale (Fahrzeugkosten und -zeit je AG-Standort) sind in der Rechnung separat auszuweisen. | F14: Maß-einheit | G14: Pauschalpreis netto in EURO pro Maßeinheit
B15: Kürzel | C15: Name | D15: Strasse | E15: PLZ/Ort
A16: Vivants Kliniken
B17: Standorte | F17: pauschal | G17: 0
A18: 1 | B18: KFH | C18: Klinikum im Friedrichshain | D18: Landsberger Allee 49 | E18: 10249 Berlin
A19: 2 | B19: KHD | C19: Klinikum Kaulsdorf | D19: Myslowitzer Str. 45 | E19: 12621 Berlin
A20: 3 | B20: HUK | C20: Humboldt-Klinikum | D20: Am Nordgraben 2 | E20: 13509 Berlin
A21: 4 | B21: KSP | C21: Klinikum Spandau | D21: Neue Bergstraße 6 | E21: 13585 Berlin
A22: 5 | B22: AVK | C22: Auguste-Viktoria-Klinikum | D22: Rubensstraße 125 | E22: 12157 Berlin
A23: 6 | B23: IWK | C23: Ida-Wolf-Krankenhaus | D23: Juchaczweg 21 | E23: 12351 Berlin
A24: 7 | B24: KAU | C24: Klinikum Am Urban | D24: Dieffenbachstraße 1 | E24: 10967 Berlin
A25: 8 | B25: KNK | C25: Klinikum Neukölln | D25: Rudower Straße 48 | E25: 12351 Berlin
A26: 9 | B26: WBK | C26: Vivantes Wenckebach-Klinikum | D26: Wenckebachstraße 23 | E26: 12099 Berlin
A27: Sonstige Standorte
A28: 10 | B28: KMV1 | C28: Krankenhaus des Maßregelvollzugs | D28: Olbendorfer Weg 70 | E28: 13403 Berlin
A29: 11 | B29: KMV2 | C29: Krankenhaus des Maßregelvollzugs | D29: Lindenberger Weg 69 | E29: 13125 Berlin
A30: 12 | B30: BBG | C30: Berliner Bildungscampus | D30: Waldstraße 86-90 | E30: 13403 Berlin
A31: 13 | B31: LSP | C31: Logistikzentrum Spandau | D31: Gartenfelder Str. 37 | E31: 13599 Berlin
A32: Forum für Senioren
A33: 14 | B33: HJZ | C33: Haus Jahreszeiten | D33: Büschingstraße 29 | E33: 10249 Berlin
A34: 15 | B34: HBZ | C34: Haus Britz | D34: Buschkrugallee 139 | E34: 12359 Berlin
A35: 16 | B35: HDS | C35: Haus Danziger Straße | D35: Danziger Straße 245 | E35: 10407 Berlin
A36: 17 | B36: HFP | C36: Haus Franckepark | D36: Götzstraße 20a | E36: 12099 Berlin
A37: 18 | B37: HEH | C37: Ernst-Hoppe-Haus | D37: Lanzendorfer Weg 30 | E37: 14089 Berlin
A38: 19 | B38: HRS | C38: Haus Rhinstraße | D38: Rhinstraße 105 | E38: 10315 Berlin
A39: 20 | B39: HJH | C39: Haus Jungfernheide | D39: Schweiggerweg 2-12 | E39: 13627 Berlin
A40: 21 | B40: HWD | C40: Haus Wilmersdorf | D40: Berkaer Str. 31-35 | E40: 14199 Berlin
A41: 22 | B41: HIW | C41: Ida-Wolff Haus | D41: Juchaczweg 21 | E41: 12351 Berlin
A42: 23 | B42: HJK | C42: Haus John F. Kennedy | D42: Alt-Wittenau 90 | E42: 13437 Berlin
A43: 24 | B43: HHK | C43: Dr. Herrmann-Kantorowicz-Haus | D43: Schönwalder Str. 50 | E43: 13585 Berlin
A44: 25 | B44: HLE | C44: Haus Leonore | D44: Leonorenstraße 17 | E44: 12247 Berlin
...

Sheet Angebot Standorte
A1: Bitte Kreuzen Sie hier an, welche Leistung sie an welchem Standort erbringen können
A2: Standorte | F2: RV Boden
A3: 1 | B3: KFH | C3: Klinikum im Friedrichshain | D3: Landsberger Allee 49 | E3: 10249 Berlin
A4: 2 | B4: KHD | C4: Klinikum Kaulsdorf | D4: Myslowitzer Str. 45 | E4: 12621 Berlin
A5: 3 | B5: HUK | C5: Humboldt-Klinikum | D5: Am Nordgraben 2 | E5: 13509 Berlin
A6: 4 | B6: KSP | C6: Klinikum Spandau | D6: Neue Bergstraße 6 | E6: 13585 Berlin
A7: 5 | B7: AVK | C7: Auguste-Viktoria-Klinikum | D7: Rubensstraße 125 | E7: 12157 Berlin
A8: 6 | B8: IWK | C8: Ida-Wolf-Krankenhaus | D8: Juchaczweg 21 | E8: 12351 Berlin
A9: 7 | B9: KAU | C9: Klinikum Am Urban | D9: Dieffenbachstraße 1 | E9: 10967 Berlin
A10: 8 | B10: KNK | C10: Klinikum Neukölln | D10: Rudower Straße 48 | E10: 12351 Berlin
A11: 9 | B11: WBK | C11: Vivantes Wenckebach-Klinikum | D11: Wenckebachstraße 23 | E11: 12099 Berlin
A12: Sonstige Standorte
A13: 10 | B13: KMV1 | C13: Krankenhaus des Maßregelvollzugs | D13: Olbendorfer Weg 70 | E13: 13403 Berlin
A14: 11 | B14: KMV2 | C14: Krankenhaus des Maßregelvollzugs | D14: Lindenberger Weg 69 | E14: 13125 Berlin
A15: 12 | B15: BBG | C15: Berliner Bildungscampus | D15: Waldstraße 86-90 | E15: 13403 Berlin
A16: 13 | B16: LSP | C16: Logistikzentrum Spandau | D16: Gartenfelder Str. 37 | E16: 13599 Berlin
A17: Forum für Senioren
A18: 14 | B18: HJZ | C18: Haus Jahreszeiten | D18: Büschingstraße 29 | E18: 10249 Berlin
A19: 15 | B19: HBZ | C19: Haus Britz | D19: Buschkrugallee 139 | E19: 12359 Berlin
A20: 16 | B20: HDS | C20: Haus Danziger Straße | D20: Danziger Straße 245 | E20: 10407 Berlin
A21: 17 | B21: HFP | C21: Haus Franckepark | D21: Götzstraße 20a | E21: 12099 Berlin
A22: 18 | B22: HEH | C22: Ernst-Hoppe-Haus | D22: Lanzendorfer Weg 30 | E22: 14089 Berlin
A23: 19 | B23: HRS | C23: Haus Rhinstraße | D23: Rhinstraße 105 | E23: 10315 Berlin
A24: 20 | B24: HJH | C24: Haus Jungfernheide | D24: Schweiggerweg 2-12 | E24: 13627 Berlin
A25: 21 | B25: HWD | C25: Haus Wilmersdorf | D25: Berkaer Str. 31-35 | E25: 14199 Berlin
A26: 22 | B26: HIW | C26: Ida-Wolff Haus | D26: Juchaczweg 21 | E26: 12351 Berlin
A27: 23 | B27: HJK | C27: Haus John F. Kennedy | D27: Alt-Wittenau 90 | E27: 13437 Berlin
A28: 24 | B28: HHK | C28: Dr. Herrmann-Kantorowicz-Haus | D28: Schönwalder Str. 50 | E28: 13585 Berlin
A29: 25 | B29: HLE | C29: Haus Leonore | D29: Leonorenstraße 17 | E29: 12247 Berlin
... A36: 32 | B36: HKD | C36: Haus Kaulsdorf | D36: Münsterberger Weg | E36: 12621 Berlin

Sheet Standortübersicht
B1: Standorte | E1: =Deckblatt!B13 -> TEK2604025
C3: Region | D3: Kürzel | E3: Kliniken | F3: Adresse | H3: Ansprechpartner vor Ort
F4: Strasse | G4: PLZ, Ort | H4: Name | I4: Telefon | J4: Fax | K4: E-Mail
B5: 1 | C5: Ost | D5: KFH | E5: Klinikum im Friedrichshain | F5: Landsberger Allee 49 | G5: 10249 Berlin | H5: Thomas Harder | I5: (030) 130 231336 | J5: (030) 130 232030 | K5: thomas.harder@vivantes.de
D6: KHD | E6: Klinikum Kaulsdorf | F6: Myslowitzer Str. 45 | G6: 12621 Berlin | H6: Sebastian Kemmer | I6: (030) 130 172891 | J6: (030) 130 172892 | K6: sebastian.kemmer@vivantes.de
B7: 2 | C7: Nord | D7: ARO | E7: Aroser Allee | F7: Aroser Allee 72 | G7: 13407 Berlin | H7: Nicole Dornbusch | I7: (030) 130 115228 | J7: (030) 130 115372 | K7: Nicole.Dornbusch@vivantes.de
D8: HUK | E8: Humboldt-Klinikum | F8: Am Nordgraben 2 | G8: 13509 Berlin | H8: Christian Klimmek | I8: (030) 130 121530 | J8: (030) 130 121532 | K8: christian.klimmek@vivantes.de
D9: KMV | E9: Krankenhaus des Maßregelvollzugs | F9: Olbendorfer Weg 70 | G9: 13403 Berlin | H9: Nicole Dornbusch | I9: (030) 130 115228 | J9: (030) 130 115372 | K9: Nicole.Dornbusch@vivantes.de
D10: KSP | E10: Klinikum Spandau | F10: Neue Bergstraße 6 | G10: 13585 Berlin | H10: Renè Strache | I10: (030) 130 131400 | J10: (030) 130 131404 | K10: rene.strache@vivantes.de
B11: 3 | C11: Süd/West | D11: AVK | E11: Auguste-Viktoria-Klinikum | F11: Rubensstraße 125 | G11: 12157 Berlin | H11: Nicolai van de Bergh | I11: (030) 130 130 202202 | J11: (030) 130 202244 | K11: nicolai.vandebergh@vivantes.de
D12: IWK | E12: Ida-Wolf-Krankenhaus | F12: Juchaczweg 21 | G12: 12351 Berlin | H12: Lindenau Stefan | I12: (030) 130 142130 | J12: (030) 131 143599 | K12: Stefan.Lindenau@vivantes.de
D13: KAU | E13: Klinikum Am Urban | F13: Dieffenbachstraße 1 | G13: 10967 Berlin | H13: Christioph Radola | I13: (+49) 151 16318819 | J13: (030) 130 224024 | K13: Christoph.Radola@vivantes.de
D14: KNK | E14: Klinikum Neukölln | F14: Rudower Straße 48 | G14: 12351 Berlin | H14: Lindenau Stefan | I14: (030) 130 142130 | J14: (030) 131 143599 | K14: Stefan.Lindenau@vivantes.de
D15: WBK | E15: Vivantes Wenckebach-Klinikum | F15: Wenckebachstraße 23 | G15: 12099 Berlin | H15: Nicolai van de Bergh | I15: (030) 130 130 202202 | J15: (030) 130 202244 | K15: nicolai.vandebergh@vivantes.de
B16: 4 | C16: FFS - Forum für Senioren | D16: HTE | E16: Haus Teichstrasse | F16: Teichstraße 44 | G16: 13407 Berlin | H16: Marion Voigt | I16: (030) 417 275 2513 | J16: (030) 417 275 2504 | K16: marion.voigt@vivantes.de
D17: HSO | E17: Haus Sommerstrasse | F17: Sommerstraße 25 c | G17: 13409 Berlin | H17: Heike Sporkhorst | I17: (030) 497 690 325 67 | J17: (030) 497 690 325 80 | K17: heike.sporkhorst@vivantes.de
D18: HJK | E18: Haus John F. Kennedy | F18: Alt-Wittenau 90 - 90a | G18: 13437 Berlin | H18: Heike Sporkhorst | I18: (030) 322 926 401 | J18: (030) 322 926 491 | K18: heike.sporkhorst@vivantes.de
D19: HJH | E19: Haus Jungfernheide | F19: Schweiggerweg 2-12 | G19: 13627 Berlin | H19: Jakob Schlegel | I19: (030) 367 023 301 03 | J19: (030) 367 023 301 09 | K19: Jakob.Schlegel2@vivantes.de
D20: HSE | E20: Haus Seebrücke | F20: Am Maselakepark 20 | G20: 13587 Berlin | H20: Antje Stschepin-Lohfing | I20: (030) 550 051 153 | J20: (030) 550 051 183 | K20: antje.stschepin-lohfing@vivantes.de
D21: HEH | E21: Haus Ernst Hoppe | F21: Lanzendorfer Weg 30 | G21: 14089 Berlin | H21: Hans-Jürgen Duske | I21: (030) 365-05451 | J21: (030) 365 05 47 | K21: hans-juergen.duske@vivantes.de
D22: HHK | E22: Haus Dr. Herrmann Kantorowicz | F22: Schönwalder Str. 50-52 | G22: 13585 Berlin | H22: Hans-Jürgen Duske | I22: (030) 355 300 70 | J22: (030) 355 300 77 | K22: hans-juergen.duske@vivantes.de
D23: HWD | E23: Haus Wilmersdorf | F23: Berkaer Str. 31-35 | G23: 14199 Berlin | H23: Jakob Riedel | I23: (030) 832 242 201 | J23: (030) 832 242 230 | K23: jakob.riedel@vivantes.de
D24: HLE | E24: Haus Leonore | F24: Leonorenstraße 17 - 33 | G24: 12247 Berlin | H24: Zinka Malkwitz | I24: (030) 77 93 306 | J24: (030) 77 93 300 | K24: zinka.malkwitz@vivantes.de
D25: HIW | E25: Haus Ida Wolff | F25: Juchaczweg 21 | G25: 12351 Berlin | H25: Torsten Pestner | I25: (030) 130 149 800 | J25: (030) 130 149 809 | K25: torsten.pestner@vivantes.de
D26: HWE | E26: Haus Weidenweg | F26: Weidenweg 42 | G26: 10249 Berlin | H26: Carolin Utech | I26: (030) 422 035 13 | J26: (030) 422 035 48 | K26: carolin.utech@vivantes.de
D27: HJZ | E27: Haus Jahreszeiten | F27: Büschingstraße 29 | G27: 10249 Berlin | H27: André Schwarzbach | I27: (030) 847 119 124 | J27: (030) 847 119 141 | K27: andre.schwarzbach@vivantes.de
D28: HFP | E28: Haus Franckepark | F28: Götzstraße 20a | G28: 12099 Berlin | H28: Zinka Malkwitz | I28: (030) 757 748 1602 | J28: (030) 757 748 1699 | K28: gueler.ates@vivantes.de
... D33: HRK | E33: Haus Rhinstraße Kurzzeitpflege | F33: Rhinstraße 105 | G33: 10315 Berlin | H33: Sandra Ebner | I33: (030) 319 89 17 10 | J33: (030) 319 89 17 11 | K33: sandra.ebner@vivantes.de
D34: KWB | E34: Haus Wenckebach Kurzzeitpflege | F34: Wenckebachstraße 23 | G34: 12099 Berlin | H34: Michelle Apwisch | I34: 0151-53854951 | K34: michelle.apwisch@vivantes.de
D35: KIW | E35: Haus Ida Wolff Kurzzeitpflege am Standort Klinikum Neukölln / Haus 30, Station 33 | F35: Rudower Straße 48 | G35: 12351 Berlin | H35: Judith Hanisch | I35: (030) 130 14 9887 | J35: (030) 130 14 9991 | K35: judith.hanisch@vivantes.de
D36: GJF | E36: Haus John F. Kennedy Gerontopsychiatrie | F36: Alt-Wittenau 90 - 90a | G36: 13437 Berlin | H36: Heike Sporkhorst | I36: (030) 322 926 401 | J36: (030) 322 926 491 | K36: heike.sporkhorst@vivantes.de
D37: HKD | E37: Haus Kaulsdorf | F37: Münsterberger Weg 96 | G37: 12621 Berlin | H37: Antje Stschepin-Lohfing | I37: (030) 130 174 019 | J37: (030) 130 174 021 | K37: antje.stschepin-lohfing@vivantes.de
D38: HSR | E38: Haus St. Richard | F38: Schudomastrasse 16 | G38: 12055 Berlin | H38: Maria Galster | I38: (030) 319 8616 712 | J38: (030) 319 8616 716 | K38: maria.galster@vivantes.de
E39: Haus Erweiterungen | F39: Erweiterung in HLE, HLR, HIW
