Workbook
Name _ftn1: 'Epk An-und Abfahrt'!#REF!
Name _ftn1: 'Epk Aufschläge'!#REF!
Name _ftn1: 'Epk Material'!#REF!
Name _ftn1: 'Preisspiegel Angebot'!#REF!
Name _ftn1: 'Preisspiegel Standort'!#REF!
Name _ftn1: 'Preisspiegel Stunden'!#REF!
Name _ftn1: Unterschrift!#REF!
Name _ftnref1: 'Epk An-und Abfahrt'!#REF!
Name _ftnref1: 'Epk Aufschläge'!#REF!
Name _ftnref1: 'Epk Material'!#REF!
Name _ftnref1: 'Preisspiegel Angebot'!#REF!
Name _ftnref1: 'Preisspiegel Standort'!#REF!
Name _ftnref1: 'Preisspiegel Stunden'!#REF!
Name _ftnref1: Unterschrift!#REF!
Name SuA_Art: #REF!
Name SuA_Art: #REF!
Name SuA_Art: #REF!
Name SuA_Art: #REF!
Name SuA_Art: #REF!
Name SuA_Art: #REF!
Name SuA_Art: #REF!
Name SuA_Art: #REF!
Name SuA_Masseiheit: #REF!
Name SuA_Masseiheit: #REF!
Name SuA_Masseiheit: #REF!
Name SuA_Masseiheit: #REF!
Name SuA_Masseiheit: #REF!
Name SuA_Masseiheit: #REF!
Name SuA_Masseiheit: #REF!

Sheet Deckblatt
B7: Preisspiegel und Einheitspreiskatalog
B8: Anlage 4
B9: über
B10: Rahmenvertrag Lieferung Werkzeug und C-Material
B12: Vergabenummer
B13: TEK2607042
B14: zwischen
B15: Vivantes - Netzwerk für Gesundheit GmbH
B16: Aroser Allee 72-76
B17: 13407 Berlin
B18: - nachfolgend als Auftraggeber (AG) bezeichnet –
B20: und
... B24: - nachfolgend als Auftragnehmer (AN) bezeichnet –
B26: Kontakt Name: | C26: xname
B27: Telefon | C27: xtelefon
B28: Basiert auf Musterversion | C28: 2.0
B29: gültig ab | C29: 46419
B30: ersetzt Dokument vom | C30: Erstausstellung
B31: gültig bis | C31: 47879
B32: Vergabeart | C32: Offenes Verfahren

Sheet Preisspiegel Lose
A1: Preisspiegel nach Losen: Preise zu Regelleistungen basierend auf dem Mengengerüst
B4: Leistung | C4: =Deckblatt!B10 -> Rahmenvertrag Lieferung Werkzeug und C-Material | I4: gültig ab | J4: =Deckblatt!C29 -> 46419
I5: ersetzt Dokument vom | J5: =Deckblatt!C30 -> Erstausstellung
B6: Vergabenr. | C6: =Deckblatt!B13 -> TEK2607042 | I6: gültig bis | J6: =Deckblatt!C31 -> 47879
B8: Partner | C8: Firmenname | D8: =Deckblatt!B21 -> cde
C9: Straße | D9: =Deckblatt!B22 -> xstraße
C10: PLZ, Ort | D10: =Deckblatt!B23 -> xort
B11: Kontakt | C11: Name | D11: =Deckblatt!C26 -> xname
C12: Telefon | D12: =Deckblatt!C27 -> xtelefon
A14: Nr. | B14: Übersicht der Lose | E14: Monatspauschale | H14: Jahrespauschale
B15: Bezeichnung | E15: netto in EUR | F15: MwSt. in EUR | G15: brutto in EUR | H15: netto in EUR | I15: MwSt. in EUR | J15: brutto in EUR
A16: 1 | B16: Los 1_KFH | F16: =E16*19/100 -> 0 | G16: =E16+F16 -> 0 | H16: =E16*12 -> 0 | I16: =H16*19/100 -> 0 | J16: =H16+I16 -> 0
A17: 2 | B17: Los 2_KHD | F17: =E17*19/100 -> 0 | G17: =E17+F17 -> 0 | H17: =E17*12 -> 0 | I17: =H17*19/100 -> 0 | J17: =H17+I17 -> 0
A18: 3 | B18: Los 3_HUK | F18: =E18*19/100 -> 0 | G18: =E18+F18 -> 0 | H18: =E18*12 -> 0 | I18: =H18*19/100 -> 0 | J18: =H18+I18 -> 0
A19: 4 | B19: Los 4_ARO-KBoN | F19: =E19*19/100 -> 0 | G19: =E19+F19 -> 0 | H19: =E19*12 -> 0 | I19: =H19*19/100 -> 0 | J19: =H19+I19 -> 0
A20: 5 | B20: Los 5_KSP | F20: =E20*19/100 -> 0 | G20: =E20+F20 -> 0 | H20: =E20*12 -> 0 | I20: =H20*19/100 -> 0 | J20: =H20+I20 -> 0
A21: 6 | B21: Los 6_AVK | F21: =E21*19/100 -> 0 | G21: =E21+F21 -> 0 | H21: =E21*12 -> 0 | I21: =H21*19/100 -> 0 | J21: =H21+I21 -> 0
A22: 7 | B22: Los 7_KNK-IWK | F22: =E22*19/100 -> 0 | G22: =E22+F22 -> 0 | H22: =E22*12 -> 0 | I22: =H22*19/100 -> 0 | J22: =H22+I22 -> 0
A23: 8 | B23: Los 8_KAU | F23: =E23*19/100 -> 0 | G23: =E23+F23 -> 0 | H23: =E23*12 -> 0 | I23: =H23*19/100 -> 0 | J23: =H23+I23 -> 0
A24: 9 | B24: Los 9_WBK | F24: =E24*19/100 -> 0 | G24: =E24+F24 -> 0 | H24: =E24*12 -> 0 | I24: =H24*19/100 -> 0 | J24: =H24+I24 -> 0
A25: 10 | B25: Los 10_FfS | F25: =E25*19/100 -> 0 | G25: =E25+F25 -> 0 | H25: =E25*12 -> 0 | I25: =H25*19/100 -> 0 | J25: =H25+I25 -> 0
A26: 11 | B26: Los 11_KMV | F26: =E26*19/100 -> 0 | G26: =E26+F26 -> 0 | H26: =E26*12 -> 0 | I26: =H26*19/100 -> 0 | J26: =H26+I26 -> 0
A27: Gesamtauftragswert | E27: =SUM(E16:E26) -> 0 | F27: =SUM(F16:F26) -> 0 | G27: =SUM(G16:G26) -> 0 | H27: =SUM(H16:H26) -> 0 | I27: =SUM(I16:I26) -> 0 | J27: =SUM(J16:J26) -> 0
A28: Hinweis:
A29: Bei Teilnahme am elektronischen Vergabeverfahren ersetzt die elektronische Signatur die händische Unterschrift.

Sheet Preisspiegel Standort
A1: Preisspiegel je Standort: Preise zu Regelleistungen basierend auf dem Leistungsverzeichnis (LV)
A4: zum Vertrag | C4: =Deckblatt!B10 -> Rahmenvertrag Lieferung Werkzeug und C-Material | J4: gültig ab | K4: =Deckblatt!C29 -> 46419
J5: ersetzt Dokument vom | K5: =Deckblatt!C30 -> Erstausstellung
A6: Vergabenr. | C6: =Deckblatt!B13 -> TEK2607042 | J6: gültig bis | K6: =Deckblatt!C31 -> 47879
A8: Partner | B8: Firmenname | C8: =Deckblatt!B21 -> cde
B9: Straße | C9: =Deckblatt!B22 -> xstraße
B10: PLZ, Ort | C10: =Deckblatt!B23 -> xort
A11: Kontakt | B11: Name | C11: =Deckblatt!C26 -> xname
B12: Telefon | C12: =Deckblatt!C27 -> xtelefon
A14: Nr. | B14: Leistung Vorlaufzeit 1 Werktag, sofern in der Position nichts anderes vereinbart ist. Bei besonderen Anforderungen (Umfang, Dauer) kann eine längere Vorlaufzeit erforderlich sein, die einvermehmlich zwischen AG und AN abzustimmen ist | D14: Einzel- preis | E14: Menge | F14: Monatspauschale | I14: Jahrespauschale
B15: vgl. LV | C15: Leistungselement (LE) | D15: netto in EURO | F15: netto in EUR | G15: MwSt. in EUR | H15: brutto in EUR | I15: netto in EUR | J15: MwSt. in EUR | K15: brutto in EUR
C16: Gesamtauftragswert | E16: =E22+E28+E34 -> 0 | F16: =F22+F28+F34 -> 0 | G16: =G22+G28+G34 -> 0 | H16: =H22+H28+H34 -> 0 | I16: =I22+I28+I34 -> 0 | J16: =J22+J28+J34 -> 0 | K16: =K22+K28+K34 -> 0
A17: 1 | C17: LE: | F17: =D17*E17 -> 0 | G17: =F17*19/100 -> 0 | H17: =F17+G17 -> 0 | I17: =F17*12 -> 0 | J17: =I17*19/100 -> 0 | K17: =I17+J17 -> 0
A18: 2 | C18: LE: | F18: =D18*E18 -> 0 | G18: =F18*19/100 -> 0 | H18: =F18+G18 -> 0 | I18: =F18*12 -> 0 | J18: =I18*19/100 -> 0 | K18: =I18+J18 -> 0
A19: 3 | C19: LE: | F19: =D19*E19 -> 0 | G19: =F19*19/100 -> 0 | H19: =F19+G19 -> 0 | I19: =F19*12 -> 0 | J19: =I19*19/100 -> 0 | K19: =I19+J19 -> 0
A20: 4 | C20: LE: | F20: =D20*E20 -> 0 | G20: =F20*19/100 -> 0 | H20: =F20+G20 -> 0 | I20: =F20*12 -> 0 | J20: =I20*19/100 -> 0 | K20: =I20+J20 -> 0
A21: 5 | C21: LE: | F21: =D21*E21 -> 0 | G21: =F21*19/100 -> 0 | H21: =F21+G21 -> 0 | I21: =F21*12 -> 0 | J21: =I21*19/100 -> 0 | K21: =I21+J21 -> 0
B22: LP: | C22: Auftragswert | E22: =SUM(E17:E21) -> 0 | F22: =SUM(F17:F21) -> 0 | G22: =SUM(G17:G21) -> 0 | H22: =SUM(H17:H21) -> 0 | I22: =SUM(I17:I21) -> 0 | J22: =SUM(J17:J21) -> 0 | K22: =SUM(K17:K21) -> 0
A23: 6 | C23: LE: | F23: =D23*E23 -> 0 | G23: =F23*19/100 -> 0 | H23: =F23+G23 -> 0 | I23: =F23*12 -> 0 | J23: =I23*19/100 -> 0 | K23: =I23+J23 -> 0
A24: 7 | C24: LE: | F24: =D24*E24 -> 0 | G24: =F24*19/100 -> 0 | H24: =F24+G24 -> 0 | I24: =F24*12 -> 0 | J24: =I24*19/100 -> 0 | K24: =I24+J24 -> 0
A25: 8 | C25: LE: | F25: =D25*E25 -> 0 | G25: =F25*19/100 -> 0 | H25: =F25+G25 -> 0 | I25: =F25*12 -> 0 | J25: =I25*19/100 -> 0 | K25: =I25+J25 -> 0
A26: 9 | C26: LE: | F26: =D26*E26 -> 0 | G26: =F26*19/100 -> 0 | H26: =F26+G26 -> 0 | I26: =F26*12 -> 0 | J26: =I26*19/100 -> 0 | K26: =I26+J26 -> 0
A27: 10 | C27: LE: | F27: =D27*E27 -> 0 | G27: =F27*19/100 -> 0 | H27: =F27+G27 -> 0 | I27: =F27*12 -> 0 | J27: =I27*19/100 -> 0 | K27: =I27+J27 -> 0
B28: LP: | C28: Auftragswert | E28: =SUM(E23:E27) -> 0 | F28: =SUM(F23:F27) -> 0 | G28: =SUM(G23:G27) -> 0 | H28: =SUM(H23:H27) -> 0 | I28: =SUM(I23:I27) -> 0 | J28: =SUM(J23:J27) -> 0 | K28: =SUM(K23:K27) -> 0
A29: 11 | C29: LE: | F29: =D29*E29 -> 0 | G29: =F29*19/100 -> 0 | H29: =F29+G29 -> 0 | I29: =F29*12 -> 0 | J29: =I29*19/100 -> 0 | K29: =I29+J29 -> 0
A30: 12 | C30: LE: | F30: =D30*E30 -> 0 | G30: =F30*19/100 -> 0 | H30: =F30+G30 -> 0 | I30: =F30*12 -> 0 | J30: =I30*19/100 -> 0 | K30: =I30+J30 -> 0
A31: 13 | C31: LE: | F31: =D31*E31 -> 0 | G31: =F31*19/100 -> 0 | H31: =F31+G31 -> 0 | I31: =F31*12 -> 0 | J31: =I31*19/100 -> 0 | K31: =I31+J31 -> 0
A32: 14 | C32: LE: | F32: =D32*E32 -> 0 | G32: =F32*19/100 -> 0 | H32: =F32+G32 -> 0 | I32: =F32*12 -> 0 | J32: =I32*19/100 -> 0 | K32: =I32+J32 -> 0
A33: 15 | C33: LE: | F33: =D33*E33 -> 0 | G33: =F33*19/100 -> 0 | H33: =F33+G33 -> 0 | I33: =F33*12 -> 0 | J33: =I33*19/100 -> 0 | K33: =I33+J33 -> 0
B34: LP: | C34: Auftragswert | E34: =SUM(E29:E33) -> 0 | F34: =SUM(F29:F33) -> 0 | G34: =SUM(G29:G33) -> 0 | H34: =SUM(H29:H33) -> 0 | I34: =SUM(I29:I33) -> 0 | J34: =SUM(J29:J33) -> 0 | K34: =SUM(K29:K33) -> 0
A35: Hinweis:
A36: Bei Teilnahme am elektronischen Vergabeverfahren ersetzt die elektronische Signatur die händische Unterschrift.

Sheet Preisspiegel Stunden
A1: Preisspiegel je Standort: Pauschalpreise basierend auf geplanten Stunden
A4: Leistung | B4: =Deckblatt!B10 -> Rahmenvertrag Lieferung Werkzeug und C-Material | E4: gültig ab | F4: =Deckblatt!C29 -> 46419
E5: ersetzt Dokument vom | F5: =Deckblatt!C30 -> Erstausstellung
A6: Vergabenr. | B6: =Deckblatt!B13 -> TEK2607042 | E6: gültig bis | F6: =Deckblatt!C31 -> 47879
A8: Partner | B8: Firmenname | C8: =Deckblatt!B21 -> cde
B9: Straße | C9: =Deckblatt!B22 -> xstraße
B10: PLZ, Ort | C10: =Deckblatt!B23 -> xort
A11: Kontakt | B11: Name | C11: =Deckblatt!C26 -> xname
B12: Telefon | C12: =Deckblatt!C27 -> xtelefon
A14: Nr. | B14: Leistung: Kalkulation der Pauschale einschließlich An-/Abfahrt | D14: Pauschalpreis pro Std. | E14: geplante Stunden | F14: geplanter Gesamtpreis
B15: Kürzel | C15: Standort | D15: netto in EURO | F15: netto in EURO
C16: Gesamtauftragswert | D16: =SUM(D18:D42) -> 0 | E16: =SUM(E18:E42) -> 0 | F16: =SUM(F18:F42) -> 0
A17: 1 | B17: KFH | C17: Klinikum im Friedrichshain / Klinikum im Prenzlauer Berg | F17: =D17*E17 -> 0
A18: 2 | B18: KHD | C18: Klinikum Kaulsdorf | F18: =D18*E18 -> 0
A19: 3 | B19: HUK | C19: Humboldt-Klinikum | F19: =D19*E19 -> 0
A20: 4 | B20: ARO-KBoN | C20: Aroser Allee / Karl-Bonhoeffer-Nervenklinik Reinickendorf | F20: =D20*E20 -> 0
A21: 5 | B21: KSP | C21: Klinikum Spandau | F21: =D21*E21 -> 0
A22: 6 | B22: AVK | C22: Auguste-Viktoria-Klinikum | F22: =D22*E22 -> 0
A23: 7 | B23: KNK-IWK | C23: Klinikum Neukölln / Ida-Wolf-Krankenhaus | F23: =D23*E23 -> 0
A24: 8 | B24: KAU | C24: Klinikum Am Urban | F24: =D24*E24 -> 0
A25: 9 | B25: WBK | C25: Vivantes Wenckebach-Klinikum | F25: =D25*E25 -> 0
B26: Forum für Senioren
A27: 10 | B27: BUE | C27: Haus Jahreszeiten | F27: =D27*E27 -> 0
A28: 11 | B28: HBZ | C28: Haus Britz | F28: =D28*E28 -> 0
A29: 12 | B29: HDS | C29: Haus Danziger Straße | F29: =D29*E29 -> 0
A30: 13 | B30: HFP | C30: Haus Franckepark | F30: =D30*E30 -> 0
A31: 14 | B31: HOP | C31: Ernst-Hoppe-Haus | F31: =D31*E31 -> 0
A32: 15 | B32: HRS | C32: Haus Rhinstraße | F32: =D32*E32 -> 0
A33: 16 | B33: HSJ | C33: Haus Jungfernheide | F33: =D33*E33 -> 0
A34: 17 | B34: HSW | C34: Haus Wilmersdorf | F34: =D34*E34 -> 0
A35: 18 | B35: IWP | C35: Ida-Wolff Haus | F35: =D35*E35 -> 0
A36: 19 | B36: JFK | C36: Haus John F. Kennedy | F36: =D36*E36 -> 0
A37: 20 | B37: KANN | C37: Dr. Herrmann-Kantorowicz-Haus | F37: =D37*E37 -> 0
A38: 21 | B38: LEO | C38: Haus Leonore | F38: =D38*E38 -> 0
... A45: 28 | B45: HKD | C45: Haus Kaulsdorf | F45: =D45*E45 -> 0
A46: Hinweis:
A47: Bei Teilnahme am elektronischen Vergabeverfahren ersetzt die elektronische Signatur die händische Unterschrift.

Sheet Preisspiegel Angebot
A1: Angebot für den Standort
A4: Leistung | B4: =Deckblatt!B10 -> Rahmenvertrag Lieferung Werkzeug und C-Material | D4: gültig ab | E4: =Deckblatt!C29 -> 46419
D5: ersetzt Dokument vom | E5: =Deckblatt!C30 -> Erstausstellung
A6: Vergabenr. | B6: =Deckblatt!B13 -> TEK2607042 | D6: gültig bis | E6: =Deckblatt!C31 -> 47879
A8: Partner | B8: Firmenname | C8: =Deckblatt!B21 -> cde
B9: Straße | C9: =Deckblatt!B22 -> xstraße
B10: PLZ, Ort | C10: =Deckblatt!B23 -> xort
A11: Kontakt | B11: Name | C11: =Deckblatt!C26 -> xname
B12: Telefon | C12: =Deckblatt!C27 -> xtelefon
A14: Nr. | B14: Angebot: An dem Standort wird der AN seine Leistungen erbringen
B15: Kürzel | C15: Standort | D15: JA | E15: NEIN
A16: Kliniken
A17: 1 | B17: KFH | C17: Klinikum im Friedrichshain / Klinikum im Prenzlauer Berg
A18: 2 | B18: KHD | C18: Klinikum Kaulsdorf
A19: 3 | B19: HUK | C19: Humboldt-Klinikum
A20: 4 | B20: ARO-KBoN | C20: Aroser Allee / Karl-Bonhoeffer-Nervenklinik Reinickendorf
A21: 5 | B21: KSP | C21: Klinikum Spandau
A22: 6 | B22: AVK | C22: Auguste-Viktoria-Klinikum
A23: 7 | B23: KNK-IWK | C23: Klinikum Neukölln / Ida-Wolf-Krankenhaus
A24: 8 | B24: KAU | C24: Klinikum Am Urban
A25: 9 | B25: WBK | C25: Vivantes Wenckebach-Klinikum
A26: Sonstige Standorte
A27: 10 | B27: KMV1 | C27: Krankenhaus des Maßregelvollzugs
A28: 11 | B28: KMV2 | C28: Krankenhaus des Maßregelvollzugs
A29: 12 | B29: BBG | C29: Berliner Bildungscampus
A30: 13 | B30: LSP | C30: Logistikzentrum Spandau
A31: Forum für Senioren
A32: 14 | B32: HTE | C32: Haus Teichstrasse
A33: 15 | B33: HSO | C33: Haus Sommerstrasse
A34: 16 | B34: HJK | C34: Haus John F. Kennedy
A35: 17 | B35: HJH | C35: Haus Jungfernheide
A36: 18 | B36: HSE | C36: Haus Seebrücke
A37: 19 | B37: HEH | C37: Haus Ernst Hoppe
A38: 20 | B38: HHK | C38: Haus Dr. Herrmann Kantorowicz
A39: 21 | B39: HWD | C39: Haus Wilmersdorf
A40: 22 | B40: HLE | C40: Haus Leonore
A41: 23 | B41: HIW | C41: Haus Ida Wolff
A42: 24 | B42: HWE | C42: Haus Weidenweg
A43: 25 | B43: HJZ | C43: Haus Jahreszeiten
... A53: 35 | B53: HSR | C53: Haus St. Richard

Sheet Epk SVS
A1: Einheitspreiskatalog: Einheitspreise Stundensätze | B1: ="Einheitspreiskatalog, Blatt: " & MID(CELL("Dateiname",B1),FIND("]",CELL("Dateiname",B1))+1,31) -> Einheitspreiskatalog, Blatt: Epk SVS | C1: ="Einheitspreiskatalog, Blatt: " & MID(CELL("Dateiname",C1),FIND("]",CELL("Dateiname",C1))+1,31) -> Einheitspreiskatalog, Blatt: Epk SVS | D1: ="Einheitspreiskatalog, Blatt: " & MID(CELL("Dateiname",D1),FIND("]",CELL("Dateiname",D1))+1,31) -> Einheitspreiskatalog, Blatt: Epk SVS | E1: ="Einheitspreiskatalog, Blatt: " & MID(CELL("Dateiname",E1),FIND("]",CELL("Dateiname",E1))+1,31) -> Einheitspreiskatalog, Blatt: Epk SVS | F1: ="Einheitspreiskatalog, Blatt: " & MID(CELL("Dateiname",F1),FIND("]",CELL("Dateiname",F1))+1,31) -> Einheitspreiskatalog, Blatt: Epk SVS
A4: Leistung | B4: =Deckblatt!B10 -> Rahmenvertrag Lieferung Werkzeug und C-Material | E4: gültig ab | F4: =Deckblatt!C29 -> 46419
E5: ersetzt Dokument vom | F5: =Deckblatt!C30 -> Erstausstellung
A6: Vergabenr. | B6: =Deckblatt!B13 -> TEK2607042 | E6: gültig bis | F6: =Deckblatt!C31 -> 47879
A8: Partner | B8: Firmenname | C8: =Deckblatt!B21 -> cde
B9: Straße | C9: =Deckblatt!B22 -> xstraße
B10: PLZ, Ort | C10: =Deckblatt!B23 -> xort
A11: Kontakt | B11: Name | C11: =Deckblatt!C26 -> xname
B12: Telefon | C12: =Deckblatt!C27 -> xtelefon
A14: Nr. | B14: Leistung Vorlaufzeit 1 Werktag, sofern in der Position nichts anderes vereinbart ist. Bei besonderen Anforderungen (Umfang, Dauer) kann eine längerer Vorlaufzeit erforderlich sein, die einvermehmlich zwischen AG und AN abzustimmen ist | D14: Basis-menge der jew. Einheit | E14: Maß-einheit | F14: Basispreis netto
B15: Standort | C15: Kurzbeschreibung
A16: Arbeiten, welche nicht in den Positionen erfasst sind und gegen Nachweis zur Ausführung kommen.
A17: 1 | B17: Alle | C17: Vorarbeiter | D17: 1 | E17: Std.
A18: 2 | B18: Alle | C18: Facharbeiter | D18: 1 | E18: Std.
A19: 3 | B19: Alle | C19: Helfer | D19: 1 | E19: Std.
A20: 4 | B20: Alle | C20: Projektleiter (Tagessatz für 8 Std.) | D20: 1 | E20: Tag
A21: Dokumentationen, die nicht zum Umfang der Regelleistung gehören.
A22: 5 | B22: Alle | C22: - z.B. Nachweise, Produktdatenblätter, Prüfzeugnisse, Zertifikate u.ä. der verwendeten Baustoffe, Werkstoffe, Materialien und Einbauteile - z.B. Fabrikatslisten (Artikelbezeichnung) Die Abgabe der Dokumentation hat vor Einreichung der Schlussrechnung in 2-facher Ausfertigung incl. 1 CD zu erfolgen. | D22: 1 | E22: Std.
A23: Hinweis:
A24: Bei Teilnahme am elektronischen Vergabeverfahren ersetzt die elektronische Signatur die händische Unterschrift.

Sheet Epk Material
A1: Einheitspreiskatalog: Einheitspreise für Material
A4: Leistung | C4: =Deckblatt!B10 -> Rahmenvertrag Lieferung Werkzeug und C-Material | F4: gültig ab | G4: =Deckblatt!C29 -> 46419
F5: ersetzt Dokument vom | G5: =Deckblatt!C30 -> Erstausstellung
A6: Vergabenr. | C6: =Deckblatt!B13 -> TEK2607042 | F6: gültig bis | G6: =Deckblatt!C31 -> 47879
A8: Partner | C8: Firmenname | D8: =Deckblatt!B21 -> cde
C9: Straße | D9: =Deckblatt!B22 -> xstraße
C10: PLZ, Ort | D10: =Deckblatt!B23 -> xort
A11: Kontakt | C11: Name | D11: =Deckblatt!C26 -> xname
C12: Telefon | D12: =Deckblatt!C27 -> xtelefon
A14: Nr. | B14: Produktkategorie | C14: Produkt oder qualitativ vergleichbare Produkte vom jeweiligen Hersteller | D14: Produktbeschreibung oder qualitativ vergleichbare Produkte vom jeweiligen Hersteller | E14: Alternativen/Nachfolger Falls Sie Alternativen/Nachfolger anbieten, bitte hier benennen | F14: mögliche Gebindegrößen | G14: Nettopreis je Einheit 1 kg./ 1 Liter/ 1 Stk.
A15: 1 | B15: Werkzeug | C15: Promat Sichtlagerkasten | D15: Sichtlagerkasten L230/200xB150xH130mm PE blau PROMAT | G15: 0
A16: 2 | B16: Werkzeug | C16: Promat Sichtlagerkasten | D16: Sichtlagerkasten L350/300xB210xH200mm PE blau PROMAT | G16: 0
A17: 3 | B17: Werkzeug | C17: Sichtlagerkasten | D17: Sichtlagerkasten blau L.460/425xB.306xH.230mm Gr.1A PS | G17: 0
A18: 4 | B18: Werkzeug | C18: Bürstenscheibe | D18: Bürstenscheibe RD-ZB D.76,2mm K.80 gelb 18000min-¹ 3M | G18: 0
A19: 5 | B19: Werkzeug | C19: Promat Sichtlagerkasten | D19: Sichtlagerkasten L500/450xB310xH140mm PE blau PROMAT | G19: 0
A20: 6 | B20: Werkzeug | C20: Makita Ersatzakku | D20: Makita Ersatzakku-BL1850B 197280-8 | G20: 0
A21: 7 | B21: Werkzeug | C21: Knipex Wasserpumpenzange | D21: Knipex Wasserpumpenzange Cobra Länge 250mm | G21: 0
A22: 8 | B22: Werkzeug | C22: Knipex Schaltschrankschlüssel | D22: Schaltschrankschlüssel Knipex 001101 | G22: 0
A23: 9 | B23: Werkzeug | C23: Knipex Wasserpumpenzange | D23: Knipex Wasserpumpenzange Cobra Länge 125mm | G23: 0
A24: 10 | B24: Werkzeug | C24: Led Lenser LED-Taschenlampe | D24: Led Lenser LED-Taschenlampe P7R Core L.165mm, IP68 | G24: 0
A25: 11 | B25: Werkzeug | C25: Wera Schraubendrehersatz | D25: Wera Schraubendrehersatz mit Wechselklin Kraftform Kompakt W1 Wartung | G25: 0
A26: 12 | B26: Werkzeug | C26: Promat Werkzeugtasche | D26: Werkzeugtasche B400xT250xH200mm Nyl.PROMAT | G26: 0
... A136: 122 | B136: C-Material | C136: Schrauben/Muttern | D136: Distanzmuffe rund M 8 x 20 St verzinkt | G136: 0
F137: Gesamtsumme in € (netto) | G137: =SUM(G15:G136) -> 0

Sheet Epk Aufschläge
A1: Einheitspreiskatalog: Aufschläge
A4: Leistung | B4: =Deckblatt!B10 -> Rahmenvertrag Lieferung Werkzeug und C-Material | D4: gültig ab | E4: =Deckblatt!C29 -> 46419
D5: ersetzt Dokument vom | E5: =Deckblatt!C30 -> Erstausstellung
A6: Vergabenr. | B6: =Deckblatt!B13 -> TEK2607042 | D6: gültig bis | E6: =Deckblatt!C31 -> 47879
A8: Partner | B8: Firmenname | C8: =Deckblatt!B21 -> cde
B9: Straße | C9: =Deckblatt!B22 -> xstraße
B10: PLZ, Ort | C10: =Deckblatt!B23 -> xort
A11: Kontakt | B11: Name | C11: =Deckblatt!C26 -> xname
B12: Telefon | C12: =Deckblatt!C27 -> xtelefon
A14: Nr. | B14: Leistung | D14: Maß-einheit | E14: Nettopreis
B15: Standort | C15: Kurzbeschreibung
A16: Aufschlag Material
A17: 1 | B17: Alle | C17: Versandkosten | D17: LE | E17: 0
A18: 2 | B18: Alle | C18: sonstige Zuschläge für Verpackung und Lieferung | D18: LE | E18: 0
A19: Aufschlag Arbeitsbedinungen
A20: 2 | B20: Alle | C20: Zuschlag für erschwerte Zugänglichkeit | D20: %
A21: Aufschlag Mehrarbeit
A22: 3 | B22: Alle | C22: Zuschlag ersten 3 arbeitstgl. Mehrarbeitsstunden | D22: %
A23: 4 | B23: Alle | C23: Zuschlag weitere arbeitstgl. Mehrarbeitsstunden | D23: %
A24: Aufschlag besondere Zeiten
A25: 5 | B25: Alle | C25: Zuschlag Nachtarbeit ab 20:00 Uhr bis 24:00 Uhr | D25: %
A26: 6 | B26: Alle | C26: Zuschlag Nachtarbeit ab 24:00 Uhr bis 04:00 Uhr | D26: %
A27: 7 | B27: Alle | C27: Zuschlag Nachtarbeit ab 04:00 Uhr bis 06:00 Uhr | D27: %
A28: 8 | B28: Alle | C28: Zuschlag Sonntagsarbeit | D28: %
A29: 9 | B29: Alle | C29: Zuschlag Arbeiten an gesetzlichen Feiertagen | D29: %
A30: Hinweis:
A31: Bei Teilnahme am elektronischen Vergabeverfahren ersetzt die elektronische Signatur die händische Unterschrift.
A32: Rabatt
A33: 10 | B33: Alle | C33: 500€ < Nettosumme ≤ 1.000€ | D33: %
A34: 11 | B34: Alle | C34: 1.000€ < Nettosumme ≤ 2.000€ | D34: %
A35: 12 | B35: Alle | C35: 2.000€ < Nettosumme ≤ 5.000€ | D35: %
A36: 13 | B36: Alle | C36: 5.000€ < Nettosumme ≤ 10.000€ | D36: %
A37: 14 | B37: Alle | C37: Nettosumme ≥ 10.000€ | D37: %

Sheet Epk An-und Abfahrt
A1: Einheitspreiskatalog: An-/Abfahrtspauschale zum jeweiligen Standort als Einheitspreise
A4: Leistung | C4: =Deckblatt!B10 -> Rahmenvertrag Lieferung Werkzeug und C-Material | F4: gültig ab | G4: =Deckblatt!C29 -> 46419
F5: ersetzt Dokument vom | G5: =Deckblatt!C30 -> Erstausstellung
A6: Vergabenr. | C6: =Deckblatt!B13 -> TEK2607042 | F6: gültig bis | G6: =Deckblatt!C31 -> 47879
A8: Partner | C8: Firmenname | D8: =Deckblatt!B21 -> cde
C9: Straße | D9: =Deckblatt!B22 -> xstraße
C10: PLZ, Ort | D10: =Deckblatt!B23 -> xort
A11: Kontakt | C11: Name | D11: =Deckblatt!C26 -> xname
C12: Telefon | D12: =Deckblatt!C27 -> xtelefon
A14: Nr. | B14: Leistung Die An- und Abafahrtspauschale (Fahrzeugkosten und -zeit je AG-Standort) sind in der Rechnung separat auszuweisen. | F14: Maß-einheit | G14: Pauschalpreis netto in EURO pro Maßeinheit
B15: Kürzel | C15: Name | D15: Strasse | E15: PLZ/Ort
A16: Vivants Kliniken
A17: 1 | B17: KFH | C17: Klinikum im Friedrichshain | D17: Landsberger Allee 49 | E17: 10249 Berlin | F17: pauschal | G17: 0
A18: 2 | B18: KHD | C18: Klinikum Kaulsdorf | D18: Myslowitzer Str. 45 | E18: 12621 Berlin
A19: 3 | B19: ARO | C19: Aroser Allee | D19: Aroser Allee 72 | E19: 13407 Berlin
A20: 4 | B20: HUK | C20: Humboldt-Klinikum | D20: Am Nordgraben 2 | E20: 13509 Berlin
A21: 5 | B21: KSP | C21: Klinikum Spandau | D21: Neue Bergstraße 6 | E21: 13585 Berlin
A22: 6 | B22: AVK | C22: Auguste-Viktoria-Klinikum | D22: Rubensstraße 125 | E22: 12157 Berlin
A23: 7 | B23: IWK | C23: Ida-Wolf-Krankenhaus | D23: Juchaczweg 21 | E23: 12351 Berlin
A24: 8 | B24: KAU | C24: Klinikum Am Urban | D24: Dieffenbachstraße 1 | E24: 10967 Berlin
A25: 9 | B25: KNK | C25: Klinikum Neukölln | D25: Rudower Straße 48 | E25: 12351 Berlin
A26: 10 | B26: WBK | C26: Vivantes Wenckebach-Klinikum | D26: Wenckebachstraße 23 | E26: 12099 Berlin
A27: Sonstige Standorte
A28: 11 | B28: KMV1 | C28: Krankenhaus des Maßregelvollzugs | D28: Olbendorfer Weg 70 | E28: 13403 Berlin
A29: 12 | B29: KMV2 | C29: Krankenhaus des Maßregelvollzugs | D29: Lindenberger Weg 69 | E29: 13125 Berlin
A30: 13 | B30: BBG | C30: Berliner Bildungscampus | D30: Waldstraße 86-90 | E30: 13403 Berlin
A31: 14 | B31: LSP | C31: Logistikzentrum Spandau | D31: Gartenfelder Str. 37 | E31: 13599 Berlin
A32: Forum für Senioren
A33: 15 | B33: HJZ | C33: Haus Jahreszeiten | D33: Büschingstraße 29 | E33: 10249 Berlin
A34: 16 | B34: HBZ | C34: Haus Britz | D34: Buschkrugallee 139 | E34: 12359 Berlin
A35: 17 | B35: HDS | C35: Haus Danziger Straße | D35: Danziger Straße 245 | E35: 10407 Berlin
A36: 18 | B36: HFP | C36: Haus Franckepark | D36: Götzstraße 20a | E36: 12099 Berlin
A37: 19 | B37: HEH | C37: Ernst-Hoppe-Haus | D37: Lanzendorfer Weg 30 | E37: 14089 Berlin
A38: 20 | B38: HRS | C38: Haus Rhinstraße | D38: Rhinstraße 105 | E38: 10315 Berlin
A39: 21 | B39: HJH | C39: Haus Jungfernheide | D39: Schweiggerweg 2-12 | E39: 13627 Berlin
A40: 22 | B40: HWD | C40: Haus Wilmersdorf | D40: Berkaer Str. 31-35 | E40: 14199 Berlin
A41: 23 | B41: HIW | C41: Ida-Wolff Haus | D41: Juchaczweg 21 | E41: 12351 Berlin
A42: 24 | B42: HJK | C42: Haus John F. Kennedy | D42: Alt-Wittenau 90 | E42: 13437 Berlin
A43: 25 | B43: HHK | C43: Dr. Herrmann-Kantorowicz-Haus | D43: Schönwalder Str. 50 | E43: 13585 Berlin
A44: 26 | B44: HLE | C44: Haus Leonore | D44: Leonorenstraße 17 | E44: 12247 Berlin
...

Sheet Standortübersicht
B1: Standorte | E1: =Deckblatt!B13 -> TEK2607042
B3: Los | C3: Region | D3: Kürzel | E3: Kliniken | F3: Adresse | H3: Ansprechpartner vor Ort
F4: Strasse | G4: PLZ, Ort | H4: Name | I4: Telefon | J4: Fax | K4: E-Mail
B5: 1 | C5: Ost | D5: KFH | E5: Klinikum im Friedrichshain | F5: Landsberger Allee 49 | G5: 10249 Berlin | H5: Thomas Harder | I5: (030) 130 231336 | J5: (030) 130 232030 | K5: thomas.harder@vivantes.de
D6: KHD | E6: Klinikum Kaulsdorf | F6: Myslowitzer Str. 45 | G6: 12621 Berlin | H6: Sebastian Kemmer | I6: (030) 130 172891 | J6: (030) 130 172892 | K6: sebastian.kemmer@vivantes.de
B7: 2 | C7: Nord | D7: ARO | E7: Aroser Allee | F7: Aroser Allee 72 | G7: 13407 Berlin | H7: Nicole Dornbusch | I7: (030) 130 115228 | J7: (030) 130 115372 | K7: Nicole.Dornbusch@vivantes.de
D8: HUK | E8: Humboldt-Klinikum | F8: Am Nordgraben 2 | G8: 13509 Berlin | H8: Christian Klimmek | I8: (030) 130 121530 | J8: (030) 130 121532 | K8: christian.klimmek@vivantes.de
D9: KMV | E9: Krankenhaus des Maßregelvollzugs | F9: Olbendorfer Weg 70 | G9: 13403 Berlin | H9: Nicole Dornbusch | I9: (030) 130 115228 | J9: (030) 130 115372 | K9: Nicole.Dornbusch@vivantes.de
D10: KSP | E10: Klinikum Spandau | F10: Neue Bergstraße 6 | G10: 13585 Berlin | H10: Renè Strache | I10: (030) 130 131400 | J10: (030) 130 131404 | K10: rene.strache@vivantes.de
B11: 3 | C11: Süd/West | D11: AVK | E11: Auguste-Viktoria-Klinikum | F11: Rubensstraße 125 | G11: 12157 Berlin | H11: Nicolai van de Bergh | I11: (030) 130 130 202202 | J11: (030) 130 202244 | K11: nicolai.vandebergh@vivantes.de
D12: IWK | E12: Ida-Wolf-Krankenhaus | F12: Juchaczweg 21 | G12: 12351 Berlin | H12: Lindenau Stefan | I12: (030) 130 142130 | J12: (030) 131 143599 | K12: Stefan.Lindenau@vivantes.de
D13: KAU | E13: Klinikum Am Urban | F13: Dieffenbachstraße 1 | G13: 10967 Berlin | H13: Christioph Radola | I13: (+49) 151 16318819 | J13: (030) 130 224024 | K13: Christoph.Radola@vivantes.de
D14: KNK | E14: Klinikum Neukölln | F14: Rudower Straße 48 | G14: 12351 Berlin | H14: Lindenau Stefan | I14: (030) 130 142130 | J14: (030) 131 143599 | K14: Stefan.Lindenau@vivantes.de
D15: WBK | E15: Vivantes Wenckebach-Klinikum | F15: Wenckebachstraße 23 | G15: 12099 Berlin | H15: Nicolai van de Bergh | I15: (030) 130 130 202202 | J15: (030) 130 202244 | K15: nicolai.vandebergh@vivantes.de
B16: 4 | C16: FFS - Forum für Senioren | D16: HTE | E16: Haus Teichstrasse | F16: Teichstraße 44 | G16: 13407 Berlin | H16: Marion Voigt | I16: (030) 417 275 2513 | J16: (030) 417 275 2504 | K16: marion.voigt@vivantes.de
D17: HSO | E17: Haus Sommerstrasse | F17: Sommerstraße 25 c | G17: 13409 Berlin | H17: Heike Sporkhorst | I17: (030) 497 690 325 67 | J17: (030) 497 690 325 80 | K17: heike.sporkhorst@vivantes.de
D18: HJK | E18: Haus John F. Kennedy | F18: Alt-Wittenau 90 - 90a | G18: 13437 Berlin | H18: Heike Sporkhorst | I18: (030) 322 926 401 | J18: (030) 322 926 491 | K18: heike.sporkhorst@vivantes.de
D19: HJH | E19: Haus Jungfernheide | F19: Schweiggerweg 2-12 | G19: 13627 Berlin | H19: Jakob Schlegel | I19: (030) 367 023 301 03 | J19: (030) 367 023 301 09 | K19: Jakob.Schlegel2@vivantes.de
D20: HSE | E20: Haus Seebrücke | F20: Am Maselakepark 20 | G20: 13587 Berlin | H20: Antje Stschepin-Lohfing | I20: (030) 550 051 153 | J20: (030) 550 051 183 | K20: antje.stschepin-lohfing@vivantes.de
D21: HEH | E21: Haus Ernst Hoppe | F21: Lanzendorfer Weg 30 | G21: 14089 Berlin | H21: Hans-Jürgen Duske | I21: (030) 365-05451 | J21: (030) 365 05 47 | K21: hans-juergen.duske@vivantes.de
D22: HHK | E22: Haus Dr. Herrmann Kantorowicz | F22: Schönwalder Str. 50-52 | G22: 13585 Berlin | H22: Hans-Jürgen Duske | I22: (030) 355 300 70 | J22: (030) 355 300 77 | K22: hans-juergen.duske@vivantes.de
D23: HWD | E23: Haus Wilmersdorf | F23: Berkaer Str. 31-35 | G23: 14199 Berlin | H23: Jakob Riedel | I23: (030) 832 242 201 | J23: (030) 832 242 230 | K23: jakob.riedel@vivantes.de
D24: HLE | E24: Haus Leonore | F24: Leonorenstraße 17 - 33 | G24: 12247 Berlin | H24: Zinka Malkwitz | I24: (030) 77 93 306 | J24: (030) 77 93 300 | K24: zinka.malkwitz@vivantes.de
D25: HIW | E25: Haus Ida Wolff | F25: Juchaczweg 21 | G25: 12351 Berlin | H25: Torsten Pestner | I25: (030) 130 149 800 | J25: (030) 130 149 809 | K25: torsten.pestner@vivantes.de
D26: HWE | E26: Haus Weidenweg | F26: Weidenweg 42 | G26: 10249 Berlin | H26: Carolin Utech | I26: (030) 422 035 13 | J26: (030) 422 035 48 | K26: carolin.utech@vivantes.de
D27: HJZ | E27: Haus Jahreszeiten | F27: Büschingstraße 29 | G27: 10249 Berlin | H27: André Schwarzbach | I27: (030) 847 119 124 | J27: (030) 847 119 141 | K27: andre.schwarzbach@vivantes.de
D28: HFP | E28: Haus Franckepark | F28: Götzstraße 20a | G28: 12099 Berlin | H28: Zinka Malkwitz | I28: (030) 757 748 1602 | J28: (030) 757 748 1699 | K28: gueler.ates@vivantes.de
... D33: HRK | E33: Haus Rhinstraße Kurzzeitpflege | F33: Rhinstraße 105 | G33: 10315 Berlin | H33: Sandra Ebner | I33: (030) 319 89 17 10 | J33: (030) 319 89 17 11 | K33: sandra.ebner@vivantes.de
D34: KWB | E34: Haus Wenckebach Kurzzeitpflege | F34: Wenckebachstraße 23 | G34: 12099 Berlin | H34: Michelle Apwisch | I34: 0151-53854951 | K34: michelle.apwisch@vivantes.de
D35: KIW | E35: Haus Ida Wolff Kurzzeitpflege am Standort Klinikum Neukölln / Haus 30, Station 33 | F35: Rudower Straße 48 | G35: 12351 Berlin | H35: Judith Hanisch | I35: (030) 130 14 9887 | J35: (030) 130 14 9991 | K35: judith.hanisch@vivantes.de
D36: GJF | E36: Haus John F. Kennedy Gerontopsychiatrie | F36: Alt-Wittenau 90 - 90a | G36: 13437 Berlin | H36: Heike Sporkhorst | I36: (030) 322 926 401 | J36: (030) 322 926 491 | K36: heike.sporkhorst@vivantes.de
D37: HKD | E37: Haus Kaulsdorf | F37: Münsterberger Weg 96 | G37: 12621 Berlin | H37: Antje Stschepin-Lohfing | I37: (030) 130 174 019 | J37: (030) 130 174 021 | K37: antje.stschepin-lohfing@vivantes.de
D38: HSR | E38: Haus St. Richard | F38: Schudomastrasse 16 | G38: 12055 Berlin | H38: Maria Galster | I38: (030) 319 8616 712 | J38: (030) 319 8616 716 | K38: maria.galster@vivantes.de
E39: Haus Erweiterungen | F39: Erweiterung in HLE, HLR, HIW

Sheet Unterschrift
A1: ="Anlage 4 Preisspiegel, Blatt: " & MID(CELL("Dateiname",A1),FIND("]",CELL("Dateiname",A1))+1,31) -> Anlage 4 Preisspiegel, Blatt: Unterschrift
A2: - Übersicht der Teilkataloge und Unterschiftsblatt -
A4: zum Vertrag | C4: =Deckblatt!B13 -> TEK2607042 | D4: gültig ab | E4: =Deckblatt!C29 -> 46419
D5: ersetzt Dokument vom | E5: =Deckblatt!C30 -> Erstausstellung
A6: Titel | C6: =Deckblatt!B10 -> Rahmenvertrag Lieferung Werkzeug und C-Material | D6: gültig bis | E6: =Deckblatt!C31 -> 47879
A8: Partner | B8: Firmenname | C8: =Deckblatt!B21 -> cde
B9: Straße | C9: =Deckblatt!B22 -> xstraße
B10: PLZ, Ort | C10: =Deckblatt!B23 -> xort
A11: Kontakt | B11: Name | C11: =Deckblatt!C26 -> xname
B12: Telefon | C12: =Deckblatt!C27 -> xtelefon
A14: Nr. | B14: Übersicht der Teilkataloge zum Preisspiegel
A15: 1 | B15: Preisspiegel Lose
A16: 2 | B16: Preisspiegel Standort
A17: 3 | B17: Preisspiegel Stunden
A18: 4 | B18: Preisspiegel Angebot
A19: 5 | B19: Epk SVS
A20: 6 | B20: Epk Aufschläge-Rabatt
A21: 7 | B21: Epk An-und Abfahrt
A22: 8 | B22: Epk Material
A23: 10
A24: 11
A25: 12
A26: 13
A27: 14
A28: Hinweis:
A29: Bei Teilnahme am elektronischen Vergabeverfahren ersetzt die elektronische Signatur die händische Unterschrift.
A32: Stempel/Unterschrift (AN)
A43: Stempel/Unterschrift (AG)
