Workbook

Sheet Übersicht 
B1: Honorarblatt - KAU Erweiterungsplanung VgV-Verfahren Technische Ausrüstung
B2: Neubau Funktionsbau (Neubau & Abriss), Interimsbau
C6: Übersicht Gesamtleistung
C8: I Honorar Grundleistungen, GESAMT NETTO, | G8: LPH 1-4
C9: Objekt Nr. 2 - Funktionsbau - Neubau | G9: ='LOS 2 Obj. 2 Funktionsneubau'!G44 -> 774117.46
C10: Objekt Nr. 2 - Funktionsbau - Bestand | G10: ='LOS 2 Obj. 2 Abriss_Bestand'!G44 -> 526925.31
C11: Objekt Nr. 2 - Interimsbau | G11: ='LOS 2 Obj. 2 Interimsgebäude'!G44 -> 293160.22
C12: II Honorar Besondere Leistungen, GESAMT NETTO, (Alle Besonderen Leistungen sind Optionale Leistungen) | G12: LPH 1-4
C13: Objekt Nr. 2 - Funktionsbau - Neubau | G13: ='LOS 2 Obj. 2 Funktionsneubau'!G92 -> 0
C14: Objekt Nr. 2 - Funktionsbau - Bestand | G14: ='LOS 2 Obj. 2 Abriss_Bestand'!G92 -> 0
C15: Objekt Nr. 2 - Interimsbau | G15: ='LOS 2 Obj. 2 Interimsgebäude'!G92 -> 0
C16: I-II Honorar Grund - und Besondere Leistungen GESAMT NETTO | G16: LPH 1-4
C17: Objekt Nr. 2 - Funktionsbau - Neubau | G17: ='LOS 2 Obj. 2 Funktionsneubau'!G93 -> 774117.46
C18: Objekt Nr. 2 - Funktionsbau - Bestand | G18: ='LOS 2 Obj. 2 Abriss_Bestand'!G93 -> 526925.31
C19: Objekt Nr. 2 - Interimsbau | G19: ='LOS 2 Obj. 2 Interimsgebäude'!G93 -> 293160.22
C20: I-II Honorar Grund - und Besondere Leistungen GESAMT NETTO, inkl. Nachlass/ Zuschlag und Nebenkosten | G20: LPH 1-4
C21: Objekt Nr. 2 - Funktionsbau - Neubau | G21: ='LOS 2 Obj. 2 Funktionsneubau'!G98 -> 774117.46
C22: Objekt Nr. 2 - Funktionsbau - Bestand | G22: ='LOS 2 Obj. 2 Abriss_Bestand'!G98 -> 526925.31
C23: Objekt Nr. 2 - Interimsbau | G23: ='LOS 2 Obj. 2 Interimsgebäude'!G98 -> 293160.22
C24: Honorar Grund - und Besondere Leistungen GESAMTSUMME NETTO Objekt Nr.2, inkl. Umbauzuschlag, Nachlass/ Zuschlag und Nebenkosten | G24: =SUM(G21:G23) -> 1594203
C25: zzgl. Mehrwertsteuer | F25: 0.19 | G25: =G24/100*19 -> 302898.57
C26: Honorar Grund - und Besondere Leistungen GESAMTSUMME BRUTTO Objekt Nr. 2, inkl. Umbauzuschlag, Nachlass/ Zuschlag und Nebenkosten | G26: =G24*1.19 -> 1897101.6
D27: → Eingabe dieses Wertes in das Angebotsschreiben IV 213 F
C29: Honorar zusätzlicher Stundenabruf optional (Auftragnehmer/ Inhaber a 75 h, Ingenieur a 50 h, Techn. Zeichner/ kfm. Mitarbeiter a 25 h) | G29: =$D$32*75+$D$33*50+$D$34*25 -> 0
C31: Stundensätze | D31: EUR netto/h
C32: Auftragnehmer/Inhaber | D32: 0
C33: Architekt/Ingenieur/Techniker | D33: 0
C34: Technischer Zeicher/kfm. Mitarbeiter | D34: 0
C35: Durchschnitt (Wertungsrelevant) | D35: =(D32+D33+D34)/3 -> 0
C37: Nebenkosten in Prozent (für alle Fachdisziplinen gleich) | D37: 0

Sheet Anrech. Kosten
B2: Vivantes - Kostenrahmen Psychiatrie
B3: Investitionskostenschätzung zur Generalplaner-Ausschreibung
B4: Stand: 02.12.2024
B6: Vivantes - Kostenrahmen Funktionsbau Neubau
B7: Investitionskostenschätzung zur Generalplaner-Ausschreibung
B8: Stand: 02.12.2024
B9: Kostengruppe | D9: Summe [netto] | E9: Summe [brutto] | G9: Bemerkung
B10: 100 | C10: Grundstück | D10: 0 | E10: =D10*1.19 -> 0 | G10: kein Ansatz
B11: 200 | C11: Herrichten und Erschließen | D11: 0 | E11: 0
B12: 300 - 400 | C12: Summe Bauwerk und Technische Anlagen | D12: =D13+D15+D16+D17+D18+D19+D20+D21+D22 -> 64382034 | E12: =D12*1.19 -> 76614620
B13: 300 | C13: Bauwerk | D13: 31032140 | E13: =D13*1.19 -> 36928247
B14: 400 | C14: Technische Anlagen | D14: =+SUM(D15:D23) -> 33349894 | E14: =D14*1.19 -> 39686373
B15: 410 | C15: Abwasser-, Wasser-, Gasanlagen | D15: 5736181.7 | E15: =D15*1.19 -> 6826056.2
B16: 420 | C16: Wärmeversorgungsanlagen | D16: 2734691.3 | E16: =D16*1.19 -> 3254282.6
B17: 430 | C17: Raumlufttechnische Anlagen | D17: 5602782.1 | E17: =D17*1.19 -> 6667310.7
B18: 440 | C18: Elektrische Anlagen | D18: 10738666 | E18: =D18*1.19 -> 12779012
B19: 450 | C19: Kommunikations, Sicherheits-, Informationstechnische Anlagen | D19: 4068687 | E19: =D19*1.19 -> 4841737.5
B20: 460 | C20: Förderanlagen | D20: 2267792.8 | E20: =D20*1.19 -> 2698673.4
B21: 470 | C21: Nutzerspezifische Anlagen | D21: 800397.44 | E21: =D21*1.19 -> 952472.95
B22: 480 | C22: Gebäude- und Anlagenautomation | D22: 1400695.5 | E22: =D22*1.19 -> 1666827.7
B23: 490 | C23: Sonstige Maßnahmen in Technische Anlagen
B24: 500 | C24: Außenanlagen | D24: 2060225 | E24: =D24*1.19 -> 2451667.8
B25: 600 | C25: Ausstattung | D25: =2375053/1.19 -> 1995842.9 | E25: =D25*1.19 -> 2375053
B26: Summe Baukosten (KG 200-600) | D26: =D11+D12+D24+D25 -> 68438102 | E26: =D26*1.19 -> 81441341
B29: Vivantes - Kostenrahmen Funktionsbau Bestand
B30: Investitionskostenschätzung zur Generalplaner-Ausschreibung
B31: Stand: 02.12.2024
B32: Kostengruppe | D32: Summe [netto] | E32: Summe [brutto] | G32: Bemerkung
B33: 100 | C33: Grundstück | D33: 0 | E33: =D33*1.19 -> 0 | G33: kein Ansatz
B34: 200 | C34: Herrichten und Erschließen | D34: 0 | E34: 0
B35: 300 - 400 | C35: Summe Bauwerk und Technische Anlagen | D35: =D36+D38+D39+D40+D41+D42+D43+D44+D45 -> 41748424 | E35: =D35*1.19 -> 49680625
B36: 300 | C36: Bauwerk | D36: 21542187 | E36: =D36*1.19 -> 25635202
B37: 400 | C37: Technische Anlagen | D37: =+SUM(D38:D45) -> 20206237 | E37: =D37*1.19 -> 24045422
B38: 410 | C38: Abwasser-, Wasser-, Gasanlagen | D38: 3475472.8 | E38: =D38*1.19 -> 4135812.6
B39: 420 | C39: Wärmeversorgungsanlagen | D39: 1656911.4 | E39: =D39*1.19 -> 1971724.6
B40: 430 | C40: Raumlufttechnische Anlagen | D40: 3394647.9 | E40: =D40*1.19 -> 4039630.9
B41: 440 | C41: Elektrische Anlagen | D41: 6506408.4 | E41: =D41*1.19 -> 7742626
B42: 450 | C42: Kommunikations, Sicherheits-, Informationstechnische Anlagen | D42: 2465160.9 | E42: =D42*1.19 -> 2933541.5
B43: 460 | C43: Förderanlagen | D43: 1374024.1 | E43: =D43*1.19 -> 1635088.7
B44: 470 | C44: Nutzerspezifische Anlagen | D44: 484949.69 | E44: =D44*1.19 -> 577090.13
B45: 480 | C45: Gebäude- und Anlagenautomation | D45: 848661.96 | E45: =D45*1.19 -> 1009907.7
B46: 490 | C46: Sonstige Maßnahmen in Technische Anlagen
B47: 500 | C47: Außenanlagen | D47: 1335949.6 | E47: =D47*1.19 -> 1589780
B48: 600 | C48: Ausstattung | D48: =1540099/1.19 -> 1294200.8 | E48: =D48*1.19 -> 1540099
B49: Summe Baukosten (KG 200-600) | D49: =D34+D35+D47+D48 -> 44378574 | E49: =D49*1.19 -> 52810504
B52: Vivantes - Kostenrahmen Interim
B53: Investitionskostenschätzung zur Generalplaner-Ausschreibung
B54: Stand: 02.12.2024
B55: Kostengruppe | D55: Summe [netto] | E55: Summe [brutto] | G55: Bemerkung
B56: 100 | C56: Grundstück | D56: 0 | E56: =D56*1.19 -> 0 | G56: kein Ansatz
B57: 200 | C57: Herrichten und Erschließen | D57: 0 | E57: 0
B58: 300 - 400 | C58: Summe Bauwerk und Technische Anlagen | D58: =D59+D61+D62+D63+D64+D65+D66+D67+D68 -> 23856242 | E58: =D58*1.19 -> 28388928
B59: 300 | C59: Bauwerk | D59: 14313745 | E59: =D59*1.19 -> 17033357
B60: 400 | C60: Technische Anlagen | D60: =+SUM(D61:D68) -> 9542496.9 | E60: =D60*1.19 -> 11355571
B61: 410 | C61: Abwasser-, Wasser-, Gasanlagen | D61: 1641309.5 | E61: =D61*1.19 -> 1953158.3
B62: 420 | C62: Wärmeversorgungsanlagen | D62: 782484.75 | E62: =D62*1.19 -> 931156.85
B63: 430 | C63: Raumlufttechnische Anlagen | D63: 1603139.5 | E63: =D63*1.19 -> 1907736
B64: 440 | C64: Elektrische Anlagen | D64: 3072684 | E64: =D64*1.19 -> 3656494
B65: 450 | C65: Kommunikations, Sicherheits-, Informationstechnische Anlagen | D65: 1164184.6 | E65: =D65*1.19 -> 1385379.7
B66: 460 | C66: Förderanlagen | D66: 648889.79 | E66: =D66*1.19 -> 772178.85
B67: 470 | C67: Nutzerspezifische Anlagen | D67: 229019.93 | E67: =D67*1.19 -> 272533.72
B68: 480 | C68: Gebäude- und Anlagenautomation | D68: 400784.87 | E68: =D68*1.19 -> 476934
B69: 490 | C69: Sonstige Maßnahmen in Technische Anlagen
B70: 500 | C70: Außenanlagen | D70: 736399.75 | E70: =D70*1.19 -> 876315.7
B71: 600 | C71: Ausstattung | D71: =880057/1.19 -> 739543.7 | E71: =D71*1.19 -> 880057
B72: Summe Baukosten (KG 200-600) | D72: =D57+D58+D70+D71 -> 25332186 | E72: =D72*1.19 -> 30145301

Sheet LOS 2 Obj. 2 Funktionsneubau
B3: Honorarblatt - KAU Erweiterungsplanung - Neubau Funktionsgebäude VgV-VerfahrenTechnische Ausrüstung
C10: (Einzutragen ist der Name/Anschrift des Bieter)
B13: Leistung: AG 1-8 Funktionsneubau
B16: Das Honorarblatt einschließlich der Eintragungen des Bieters wird im Zuschlagsfall verbindlicher Vertragsbestandteil. Eintragungen sind nur in den gelb markierten Feldern vorzunehmen. Die Vergütung des AN für die Grundleistungen erfolgt in Anlehnung an die HOAI 2021 unter Berücksichtigung des nachfolgend Vereinbarten. Zum Zweck der Honorarberechnungsklarheit in allen Leistungsphasen gelten die vom Auftraggeber (AG) hier voreingetragenen Honorarparameter und die Eintragungen des Auftragnehmers zum Nachlass bzw. Zuschlag und zu den Nebenkosten als abschließend und verbindlich für die Ermittlung der Honorare für die Grundleistungen in allen Leistungsphasen als vereinbart. Der AG hat die anrechenbaren Kosten für das Vorhaben geschätzt und nachfolgend eingetragen. Dabei wurden abweichend von den Regelungen des § 11 und § 55 HOAI die anrechenbaren Kosten sämtlicher Anlagen jeder Anlagengruppe insgesamt erfasst und ein Gesamtbetrag der anrechenbaren Kosten ermittelt ("honorartechnische Erfassung aller Anlagen als ein Objekt"). Bei der Ermittlung der anrechenbaren Kosten ist eine Berücksichtigung von Ausführung der Technischen Ausrüstung in Baukonstruktion im Sinne von § 54 Abs. 5 Satz 1 HOAI und eine Berücksichtigung von Bauteilen der Kostengruppe Baukonstruktionen im Sinne von § 54 Abs. 5 Satz 2 HOAI nicht erfolgt und bleibt ausgeschlossen. Etwaige Aufwendungen des AN auf Grund der vorgenannten Vereinbarungen sind durch den AN eigenständig bei der Angebotskalkulation zu berücksichtigen. Sofern die anrechenbaren Kosten außerhalb der Honorartafeln der HOAI liegen sollten, finden insoweit die sog. erweiterten RifT-Bund-Tabellen Anwendung. Das endgültige Honorar des AN bemisst sich ausschließlich nach den vorgenannten Grundsätzen, jedoch unter Berücksichtigung der anrechenbaren Kosten auf der Grundlage der Kostenberechnung gem. § 2 Abs. 11 HOAI. Für diese Kostenberechnung gelten jedoch weiterhin alle oben benannten Vereinbarungen im Hinblick auf die honorartechnische Erfassung aller Anlagen als ein Objekt und der vorgenannten Grundsätze im Hinblick auf die Nichtberücksichtigung anrechenbarer Kosten gem. § 54 Abs. 5 HOAI .
B18: Honorarermittlung
D20: gem. HOAI, § 11:
D21: Die Leistungserbringung umfasst ein Objekt.
D23: Honorarzone gem. HOAI, § 5: | F23: II
D25: Zuschlag gem. HOAI, § 7: | F25: Basissatz
B27: Vorläufige Anrechenbare Kosten | H27: alle Angaben netto, ohne MwSt.
B28: gemäß § 4 HOAI 2021
C29: Kosten der KGR 400 | D29: ='Anrech. Kosten'!D14 -> 33349894 | E29: EUR | F29: 1 | G29: =D29*F29 -> 33349894 | H29: EUR
F30: Anrechenbare Herstellkosten gesamt | G30: =SUM(G29:G29) -> 33349894 | H30: EUR
E32: gemäß § 56 HOAI ergibt sich daraus folgendes vorläufiges Grundhonorar | F32: 1 | G32: 2580391.5 | H32: EUR
E33: Summe Grundhonorar gemäß § 56 HOAI | G33: =SUM(G32:G32) -> 2580391.5 | H33: EUR
B35: LPH | C35: Leistungen gem. Leistungsbeschreibung AG in Verbindung mit den Leistungsphasen HOAI | D35: Teilleistungspunkte | E35: Honorarzone (HZ) gemäß Objektliste HOAI | G35: Honorar in EUR [netto]
E36: HZ | F36: Von-/ Bis-Satz
B37: I | C37: Grundleistungen
B38: Stufe 1
B39: 1 | C39: Grundlagenermittlung | D39: 2 | E39: =$F$23 -> II | F39: =$F$25 -> Basissatz | G39: =$G$33*(D39/100) -> 51607.831 | H39: EUR
B40: 2 | C40: Vorplanung | D40: 9 | E40: =$F$23 -> II | F40: =$F$25 -> Basissatz | G40: =$G$33*(D40/100) -> 232235.24 | H40: EUR
B41: Stufe 2
B42: 3 | C42: Entwurfsplanung | D42: 17 | E42: =$F$23 -> II | F42: =$F$25 -> Basissatz | G42: =$G$33*(D42/100) -> 438666.56 | H42: EUR
B43: 4 | C43: Genehmigungsplanung | D43: 2 | E43: =$F$23 -> II | F43: =$F$25 -> Basissatz | G43: =$G$33*(D43/100) -> 51607.831 | H43: EUR
B44: I: Honorar Grundleistungen (ohne NK) | D44: =SUM(D39:D43) -> 30 | G44: =SUM(G39:G43) -> 774117.46 | H44: EUR
B45: II | C45: Besondere Leistungen
B46: Stufe 1
B47: 1 | C47: Vertiefte technische Bestandsaufnahme mit Öffnungen, Messungen, Medienverfolgung, Anlageninventur inkl. Ortsterminen mit Betreibern, soweit für belastbare Aussagen erforderlich | D47: optional | E47: psch | F47: Alle Positionen sind auszufüllen! | G47: 0 | H47: EUR
B48: 1 | C48: 3D Bestandsmodell oder modellbasierte Erfassung der TGA relevanten Bestandsstruktur, d.h. BIM-Leistung in Verbindung mit AIA und BAP | D48: optional | E48: psch | G48: 0 | H48: EUR
B49: 1 | C49: Zusätzliche Untersuchungen zu Medienkapazitäten, Netzreserven, Schaltanlagen, Druckverhältnissen, Luftmengenreserven oder Messdaten | D49: optional | E49: psch | G49: 0 | H49: EUR
B50: 1 | C50: Sondergutachten, Messkampagnen oder Probeöffnungen zur Verifizierung unklarer Bestandslagen | D50: optional | E50: psch | G50: 0 | H50: EUR
B51: 1 | C51: Vorbereitende Variantenuntersuchungen für komplexe Bestandsanschlüsse, Interimsflächen oder Technikstandorte | D51: optional | E51: psch | G51: 0 | H51: EUR
B52: 1 | C52: Begleitung gesonderter Nutzerworkshops, Betreiberinterviews oder Gremientermine über das übliche Maß hinaus | D52: optional | E52: psch | G52: 0 | H52: EUR
B53: 1 | C53: Aufstellen eines TGA bezogenen Bauphasen, Interimsversorgungs- und Aufrechterhaltungskonzepts für Bestandsumbau, Rückbau oder provisorische Versorgung | D53: optional | E53: psch | G53: 0 | H53: EUR
B54: 1 | C54: Erarbeiten eines Betreiberanforderungskatalogs für technische Anlagen, Wartungsstrategien, Verfügbarkeitsanforderungen und FM Belange | D54: optional | E54: psch | G54: 0 | H54: EUR
B55: 1 | C55: Durchführung vertiefter Abstimmungsworkshops mit Nutzern, Betrieb, IT, Sicherheit, Hygiene oder Medizintechnik, soweit dies über die übliche Grundlagenermittlung hinausgeht | D55: optional | E55: psch | G55: 0 | H55: EUR
B56: 1 | C56: Erarbeiten eines Rückbau-, Entflechtungs- und Außerbetriebnahmekonzepts für bestehende TGA Anlagen einschließlich erster Einschätzung von Risiken für den laufenden Betrieb | D56: optional | E56: psch | G56: 0 | H56: EUR
B57: 2 | C57: Variantenuntersuchungen mit vertiefter Kosten-, Termin-, Betriebs- und Wirtschaftlichkeitsbewertung | D57: optional | E57: psch | G57: 0 | H57: EUR
B58: 2 | C58: Simulationen, Sonderberechnungen, vertiefte Modellkoordination und Visualisierungen, BIM-Leistungen in Verbindung mit AIA und BAP | D58: optional | E58: psch | G58: 0 | H58: EUR
B59: 2 | C59: Raumbuchbezogene technische Vorabstimmung in erhöhter Detaillierung einschließlich Raum für Raum Auswertung | D59: optional | E59: psch | G59: 0 | H59: EUR
... B68: 2 | C68: Vorbereitende Abstimmungen für Sonderzustimmungen, Betreiberfreigaben oder technische Grundsatzentscheidungen, soweit diese über den üblichen Umfang der Vorplanung hinausgehen | D68: optional | E68: psch | G68: 0 | H68: EUR
B69: Stufe 2
B70: 3 | C70: Vertiefte Modellkoordination, Attributierung für BIM und FM Anforderungen, BIM-Leistung in Verbindung mit AIA und BAP | D70: optional | E70: psch | F70: Alle Positionen sind auszufüllen! | G70: 0 | H70: EUR
B71: 3 | C71: Erweiterte Simulationen, Visualisierungen, Anlagenmonitoringkonzepte oder Sondernachweise | D71: optional | E71: psch | G71: 0 | H71: EUR
B72: 3 | C72: Vertiefte Planung provisorischer Interimsanlagen, Ersatzanlagen oder Modulbauversorgung | D72: optional | E72: psch | G72: 0 | H72: EUR
B73: 3 | C73: Aufstellen erweiterter Raumbücher mit TGA bezogenen Attributen, Betreiberinformationen und Wartungsanforderungen | D73: optional | E73: psch | G73: 0 | H73: EUR
B74: 3 | C74: Erarbeiten einer funktionalen Leistungsbeschreibung für gesonderte Folgevergaben, soweit projektbedingt erforderlich | D74: optional | E74: psch | G74: 0 | H74: EUR
B75: 3 | C75: Zusätzliche Nachweise oder Sonderdarstellungen für Betreiberfreigaben, Hygiene, Brandschutz oder Fördermittelgeber | D75: optional | E75: psch | G75: 0 | H75: EUR
B76: 3 | C76: Modell oder planbasierte Bauablauf, Umschluss und Provisorienplanung für Bestandsbetrieb und Interimsversorgung | D76: optional | E76: psch | G76: 0 | H76: EUR
B77: 3 | C77: Vertiefte Wirtschaftlichkeitsabwägung bei technischen Alternativen einschließlich Lebenszyklusbetrachtung | D77: optional | E77: psch | G77: 0 | H77: EUR
B78: 3 | C78: Ausarbeitung besonderer Maßnahmen zur Reduktion von Energieverbrauch, Emissionen und Betriebsaufwand | D78: optional | E78: psch | G78: 0 | H78: EUR
B79: 3 | C79: Mitwirkung an gesonderten Entscheidungsvorlagen für Gremien, Betreiber, Nutzer oder Behörden | D79: optional | E79: psch | G79: 0 | H79: EUR
B80: 3 | C80: Erstellung vertiefter Funktions-, Steuerungs- oder Regelungskonzepte, soweit diese über die übliche Entwurfsplanung hinausgehen | D80: optional | E80: psch | G80: 0 | H80: EUR
B81: 3 | C81: Erstellung/Zuarbeit der Bauplanungsunterlagen – BPU gemäß III 130 Verfahren einer investiven Baumaßnahme – Ergänzende Ausführungsvorschriften zu den AV zu §24 LHO Berlin | D81: optional | E81: psch | G81: 0 | H81: EUR
B82: 4 | C82: Vertiefte Nachweise technischer, hygienischer, sicherheitsrelevanter oder betrieblicher Art für besondere Zustimmungen im Einzelfall | D82: optional | E82: psch | G82: 0 | H82: EUR
... B91: 4 | C91: Erarbeitung zusätzlicher Unterlagen für Sonderanträge, Befreiungen, Abweichungen oder Betreiberzustimmungen | D91: optional | E91: psch | G91: 0 | H91: EUR
B92: II: Honorar Besondere Leistungen (ohne NK) | G92: =SUM(G70:G91)+SUM(G47:G68) -> 0 | H92: EUR
B93: Zwischensumme aus I-III | G93: =G44+G92 -> 774117.46 | H93: EUR
B94: Nachlass | E94: 0 | G94: =-(G93*E94) -> 0 | H94: EUR
B95: Zuschlag | E95: 0 | G95: =(G93*E95) -> 0 | H95: EUR
B96: Gesamthonorar inkl. Nachlass/ Zuschlag | G96: =G93+G94+G95 -> 774117.46 | H96: EUR
B97: zzgl. Nebenkosten inkl. Reisekosten (des Gesamthonorars I+II) | E97: ='Übersicht '!D37 -> 0 | G97: =G96*E97 -> 0 | H97: EUR
B98: Gesamthonorar inkl. Nebenkosten | G98: =G96+G97 -> 774117.46 | H98: EUR

Sheet LOS 2 Obj. 2 Abriss_Bestand
B3: Honorarblatt - KAU Erweiterungsplanung - Abriss/Bestandsgebäude VgV-VerfahrenTechnische Ausrüstung
C10: (Einzutragen ist der Name/Anschrift des Bieter)
B13: Leistung: AG 1-8 Abriss / Bestandsgebäude
B16: Das Honorarblatt einschließlich der Eintragungen des Bieters wird im Zuschlagsfall verbindlicher Vertragsbestandteil. Eintragungen sind nur in den gelb markierten Feldern vorzunehmen. Die Vergütung des AN für die Grundleistungen erfolgt in Anlehnung an die HOAI 2021 unter Berücksichtigung des nachfolgend Vereinbarten. Zum Zweck der Honorarberechnungsklarheit in allen Leistungsphasen gelten die vom Auftraggeber (AG) hier voreingetragenen Honorarparameter und die Eintragungen des Auftragnehmers zum Nachlass bzw. Zuschlag und zu den Nebenkosten als abschließend und verbindlich für die Ermittlung der Honorare für die Grundleistungen in allen Leistungsphasen als vereinbart. Der AG hat die anrechenbaren Kosten für das Vorhaben geschätzt und nachfolgend eingetragen. Dabei wurden abweichend von den Regelungen des § 11 und § 55 HOAI die anrechenbaren Kosten sämtlicher Anlagen jeder Anlagengruppe insgesamt erfasst und ein Gesamtbetrag der anrechenbaren Kosten ermittelt ("honorartechnische Erfassung aller Anlagen als ein Objekt"). Bei der Ermittlung der anrechenbaren Kosten ist eine Berücksichtigung von Ausführung der Technischen Ausrüstung in Baukonstruktion im Sinne von § 54 Abs. 5 Satz 1 HOAI und eine Berücksichtigung von Bauteilen der Kostengruppe Baukonstruktionen im Sinne von § 54 Abs. 5 Satz 2 HOAI nicht erfolgt und bleibt ausgeschlossen. Etwaige Aufwendungen des AN auf Grund der vorgenannten Vereinbarungen sind durch den AN eigenständig bei der Angebotskalkulation zu berücksichtigen. Sofern die anrechenbaren Kosten außerhalb der Honorartafeln der HOAI liegen sollten, finden insoweit die sog. erweiterten RifT-Bund-Tabellen Anwendung. Das endgültige Honorar des AN bemisst sich ausschließlich nach den vorgenannten Grundsätzen, jedoch unter Berücksichtigung der anrechenbaren Kosten auf der Grundlage der Kostenberechnung gem. § 2 Abs. 11 HOAI. Für diese Kostenberechnung gelten jedoch weiterhin alle oben benannten Vereinbarungen im Hinblick auf die honorartechnische Erfassung aller Anlagen als ein Objekt und der vorgenannten Grundsätze im Hinblick auf die Nichtberücksichtigung anrechenbarer Kosten gem. § 54 Abs. 5 HOAI .
B18: Honorarermittlung
D20: gem. HOAI, § 11:
D21: Die Leistungserbringung umfasst ein Objekt.
D23: Honorarzone gem. HOAI, § 5: | F23: II
D25: Zuschlag gem. HOAI, § 7: | F25: Basissatz
B27: Vorläufige Anrechenbare Kosten | H27: alle Angaben netto, ohne MwSt.
B28: gemäß § 4 HOAI 2021
C29: Kosten der KGR 400 | D29: ='Anrech. Kosten'!D37 -> 20206237 | E29: EUR | F29: 1 | G29: =D29*F29 -> 20206237 | H29: EUR
F30: Anrechenbare Herstellkosten gesamt | G30: =SUM(G29:G29) -> 20206237 | H30: EUR
E32: gemäß § 56 HOAI ergibt sich daraus folgendes vorläufiges Grundhonorar | F32: 1 | G32: 1756417.7 | H32: EUR
E33: Summe Grundhonorar gemäß § 56 HOAI | G33: =SUM(G32:G32) -> 1756417.7 | H33: EUR
B35: LPH | C35: Leistungen gem. Leistungsbeschreibung AG in Verbindung mit den Leistungsphasen HOAI | D35: Teilleistungspunkte | E35: Honorarzone (HZ) gemäß Objektliste HOAI | G35: Honorar in EUR [netto]
E36: HZ | F36: Von-/ Bis-Satz
B37: I | C37: Grundleistungen
B38: Stufe 1
B39: 1 | C39: Grundlagenermittlung | D39: 2 | E39: =$F$23 -> II | F39: =$F$25 -> Basissatz | G39: =$G$33*(D39/100) -> 35128.354 | H39: EUR
B40: 2 | C40: Vorplanung | D40: 9 | E40: =$F$23 -> II | F40: =$F$25 -> Basissatz | G40: =$G$33*(D40/100) -> 158077.59 | H40: EUR
B41: Stufe 2
B42: 3 | C42: Entwurfsplanung | D42: 17 | E42: =$F$23 -> II | F42: =$F$25 -> Basissatz | G42: =$G$33*(D42/100) -> 298591.01 | H42: EUR
B43: 4 | C43: Genehmigungsplanung | D43: 2 | E43: =$F$23 -> II | F43: =$F$25 -> Basissatz | G43: =$G$33*(D43/100) -> 35128.354 | H43: EUR
B44: I: Honorar Grundleistungen (ohne NK) | D44: =SUM(D39:D43) -> 30 | G44: =SUM(G39:G43) -> 526925.31 | H44: EUR
B45: II | C45: Besondere Leistungen
B46: Stufe 1
B47: 1 | C47: Vertiefte technische Bestandsaufnahme mit Öffnungen, Messungen, Medienverfolgung, Anlageninventur inkl. Ortsterminen mit Betreibern, soweit für belastbare Aussagen erforderlich | D47: optional | E47: psch | F47: Alle Positionen sind auszufüllen! | G47: 0 | H47: EUR
B48: 1 | C48: 3D Bestandsmodell oder modellbasierte Erfassung der TGA relevanten Bestandsstruktur, d.h. BIM-Leistung in Verbindung mit AIA und BAP | D48: optional | E48: psch | G48: 0 | H48: EUR
B49: 1 | C49: Zusätzliche Untersuchungen zu Medienkapazitäten, Netzreserven, Schaltanlagen, Druckverhältnissen, Luftmengenreserven oder Messdaten | D49: optional | E49: psch | G49: 0 | H49: EUR
B50: 1 | C50: Sondergutachten, Messkampagnen oder Probeöffnungen zur Verifizierung unklarer Bestandslagen | D50: optional | E50: psch | G50: 0 | H50: EUR
B51: 1 | C51: Vorbereitende Variantenuntersuchungen für komplexe Bestandsanschlüsse, Interimsflächen oder Technikstandorte | D51: optional | E51: psch | G51: 0 | H51: EUR
B52: 1 | C52: Begleitung gesonderter Nutzerworkshops, Betreiberinterviews oder Gremientermine über das übliche Maß hinaus | D52: optional | E52: psch | G52: 0 | H52: EUR
B53: 1 | C53: Aufstellen eines TGA bezogenen Bauphasen, Interimsversorgungs- und Aufrechterhaltungskonzepts für Bestandsumbau, Rückbau oder provisorische Versorgung | D53: optional | E53: psch | G53: 0 | H53: EUR
B54: 1 | C54: Erarbeiten eines Betreiberanforderungskatalogs für technische Anlagen, Wartungsstrategien, Verfügbarkeitsanforderungen und FM Belange | D54: optional | E54: psch | G54: 0 | H54: EUR
B55: 1 | C55: Durchführung vertiefter Abstimmungsworkshops mit Nutzern, Betrieb, IT, Sicherheit, Hygiene oder Medizintechnik, soweit dies über die übliche Grundlagenermittlung hinausgeht | D55: optional | E55: psch | G55: 0 | H55: EUR
B56: 1 | C56: Erarbeiten eines Rückbau-, Entflechtungs- und Außerbetriebnahmekonzepts für bestehende TGA Anlagen einschließlich erster Einschätzung von Risiken für den laufenden Betrieb | D56: optional | E56: psch | G56: 0 | H56: EUR
B57: 2 | C57: Variantenuntersuchungen mit vertiefter Kosten-, Termin-, Betriebs- und Wirtschaftlichkeitsbewertung | D57: optional | E57: psch | G57: 0 | H57: EUR
B58: 2 | C58: Simulationen, Sonderberechnungen, vertiefte Modellkoordination und Visualisierungen, BIM-Leistungen in Verbindung mit AIA und BAP | D58: optional | E58: psch | G58: 0 | H58: EUR
B59: 2 | C59: Raumbuchbezogene technische Vorabstimmung in erhöhter Detaillierung einschließlich Raum für Raum Auswertung | D59: optional | E59: psch | G59: 0 | H59: EUR
... B68: 2 | C68: Vorbereitende Abstimmungen für Sonderzustimmungen, Betreiberfreigaben oder technische Grundsatzentscheidungen, soweit diese über den üblichen Umfang der Vorplanung hinausgehen | D68: optional | E68: psch | G68: 0 | H68: EUR
B69: Stufe 2
B70: 3 | C70: Vertiefte Modellkoordination, Attributierung für BIM und FM Anforderungen, BIM-Leistung in Verbindung mit AIA und BAP | D70: optional | E70: psch | F70: Alle Positionen sind auszufüllen! | G70: 0 | H70: EUR
B71: 3 | C71: Erweiterte Simulationen, Visualisierungen, Anlagenmonitoringkonzepte oder Sondernachweise | D71: optional | E71: psch | G71: 0 | H71: EUR
B72: 3 | C72: Vertiefte Planung provisorischer Interimsanlagen, Ersatzanlagen oder Modulbauversorgung | D72: optional | E72: psch | G72: 0 | H72: EUR
B73: 3 | C73: Aufstellen erweiterter Raumbücher mit TGA bezogenen Attributen, Betreiberinformationen und Wartungsanforderungen | D73: optional | E73: psch | G73: 0 | H73: EUR
B74: 3 | C74: Erarbeiten einer funktionalen Leistungsbeschreibung für gesonderte Folgevergaben, soweit projektbedingt erforderlich | D74: optional | E74: psch | G74: 0 | H74: EUR
B75: 3 | C75: Zusätzliche Nachweise oder Sonderdarstellungen für Betreiberfreigaben, Hygiene, Brandschutz oder Fördermittelgeber | D75: optional | E75: psch | G75: 0 | H75: EUR
B76: 3 | C76: Modell oder planbasierte Bauablauf, Umschluss und Provisorienplanung für Bestandsbetrieb und Interimsversorgung | D76: optional | E76: psch | G76: 0 | H76: EUR
B77: 3 | C77: Vertiefte Wirtschaftlichkeitsabwägung bei technischen Alternativen einschließlich Lebenszyklusbetrachtung | D77: optional | E77: psch | G77: 0 | H77: EUR
B78: 3 | C78: Ausarbeitung besonderer Maßnahmen zur Reduktion von Energieverbrauch, Emissionen und Betriebsaufwand | D78: optional | E78: psch | G78: 0 | H78: EUR
B79: 3 | C79: Mitwirkung an gesonderten Entscheidungsvorlagen für Gremien, Betreiber, Nutzer oder Behörden | D79: optional | E79: psch | G79: 0 | H79: EUR
B80: 3 | C80: Erstellung vertiefter Funktions-, Steuerungs- oder Regelungskonzepte, soweit diese über die übliche Entwurfsplanung hinausgehen | D80: optional | E80: psch | G80: 0 | H80: EUR
B81: 3 | C81: Erstellung/Zuarbeit der Bauplanungsunterlagen – BPU gemäß III 130 Verfahren einer investiven Baumaßnahme – Ergänzende Ausführungsvorschriften zu den AV zu §24 LHO Berlin | D81: optional | E81: psch | G81: 0 | H81: EUR
B82: 4 | C82: Vertiefte Nachweise technischer, hygienischer, sicherheitsrelevanter oder betrieblicher Art für besondere Zustimmungen im Einzelfall | D82: optional | E82: psch | G82: 0 | H82: EUR
... B91: 4 | C91: Erarbeitung zusätzlicher Unterlagen für Sonderanträge, Befreiungen, Abweichungen oder Betreiberzustimmungen | D91: optional | E91: psch | G91: 0 | H91: EUR
B92: II: Honorar Besondere Leistungen (ohne NK) | G92: =SUM(G70:G91)+SUM(G47:G68) -> 0 | H92: EUR
B93: Zwischensumme aus I-III | G93: =G44+G92 -> 526925.31 | H93: EUR
B94: Nachlass | E94: 0 | G94: =-(G93*E94) -> 0 | H94: EUR
B95: Zuschlag | E95: 0 | G95: =(G93*E95) -> 0 | H95: EUR
B96: Gesamthonorar inkl. Nachlass/ Zuschlag | G96: =G93+G94+G95 -> 526925.31 | H96: EUR
B97: zzgl. Nebenkosten inkl. Reisekosten (des Gesamthonorars I+II) | E97: ='Übersicht '!D37 -> 0 | G97: =G96*E97 -> 0 | H97: EUR
B98: Gesamthonorar inkl. Nebenkosten | G98: =G96+G97 -> 526925.31 | H98: EUR

Sheet LOS 2 Obj. 2 Interimsgebäude
B3: Honorarblatt - KAU Erweiterungsplanung - Interimsgebäude VgV-VerfahrenTechnische Ausrüstung
C10: (Einzutragen ist der Name/Anschrift des Bieter)
B13: Leistung: AG 1-8 Interimsgebäude
B16: Das Honorarblatt einschließlich der Eintragungen des Bieters wird im Zuschlagsfall verbindlicher Vertragsbestandteil. Eintragungen sind nur in den gelb markierten Feldern vorzunehmen. Die Vergütung des AN für die Grundleistungen erfolgt in Anlehnung an die HOAI 2021 unter Berücksichtigung des nachfolgend Vereinbarten. Zum Zweck der Honorarberechnungsklarheit in allen Leistungsphasen gelten die vom Auftraggeber (AG) hier voreingetragenen Honorarparameter und die Eintragungen des Auftragnehmers zum Nachlass bzw. Zuschlag und zu den Nebenkosten als abschließend und verbindlich für die Ermittlung der Honorare für die Grundleistungen in allen Leistungsphasen als vereinbart. Der AG hat die anrechenbaren Kosten für das Vorhaben geschätzt und nachfolgend eingetragen. Dabei wurden abweichend von den Regelungen des § 11 und § 55 HOAI die anrechenbaren Kosten sämtlicher Anlagen jeder Anlagengruppe insgesamt erfasst und ein Gesamtbetrag der anrechenbaren Kosten ermittelt ("honorartechnische Erfassung aller Anlagen als ein Objekt"). Bei der Ermittlung der anrechenbaren Kosten ist eine Berücksichtigung von Ausführung der Technischen Ausrüstung in Baukonstruktion im Sinne von § 54 Abs. 5 Satz 1 HOAI und eine Berücksichtigung von Bauteilen der Kostengruppe Baukonstruktionen im Sinne von § 54 Abs. 5 Satz 2 HOAI nicht erfolgt und bleibt ausgeschlossen. Etwaige Aufwendungen des AN auf Grund der vorgenannten Vereinbarungen sind durch den AN eigenständig bei der Angebotskalkulation zu berücksichtigen. Sofern die anrechenbaren Kosten außerhalb der Honorartafeln der HOAI liegen sollten, finden insoweit die sog. erweiterten RifT-Bund-Tabellen Anwendung. Das endgültige Honorar des AN bemisst sich ausschließlich nach den vorgenannten Grundsätzen, jedoch unter Berücksichtigung der anrechenbaren Kosten auf der Grundlage der Kostenberechnung gem. § 2 Abs. 11 HOAI. Für diese Kostenberechnung gelten jedoch weiterhin alle oben benannten Vereinbarungen im Hinblick auf die honorartechnische Erfassung aller Anlagen als ein Objekt und der vorgenannten Grundsätze im Hinblick auf die Nichtberücksichtigung anrechenbarer Kosten gem. § 54 Abs. 5 HOAI .
B18: Honorarermittlung
D20: gem. HOAI, § 11:
D21: Die Leistungserbringung umfasst ein Objekt.
D23: Honorarzone gem. HOAI, § 5: | F23: II
D25: Zuschlag gem. HOAI, § 7: | F25: Basissatz
B27: Vorläufige Anrechenbare Kosten | H27: alle Angaben netto, ohne MwSt.
B28: gemäß § 4 HOAI 2021
C29: Kosten der KGR 400 | D29: ='Anrech. Kosten'!D60 -> 9542496.9 | E29: EUR | F29: 1 | G29: =D29*F29 -> 9542496.9 | H29: EUR
F30: Anrechenbare Herstellkosten gesamt | G30: =SUM(G29:G29) -> 9542496.9 | H30: EUR
E32: gemäß § 56 HOAI ergibt sich daraus folgendes vorläufiges Grundhonorar | F32: 1 | G32: 977200.72 | H32: EUR
E33: Summe Grundhonorar gemäß § 56 HOAI | G33: =SUM(G32:G32) -> 977200.72 | H33: EUR
B35: LPH | C35: Leistungen gem. Leistungsbeschreibung AG in Verbindung mit den Leistungsphasen HOAI | D35: Teilleistungspunkte | E35: Honorarzone (HZ) gemäß Objektliste HOAI | G35: Honorar in EUR [netto]
E36: HZ | F36: Von-/ Bis-Satz
B37: I | C37: Grundleistungen
B38: Stufe 1
B39: 1 | C39: Grundlagenermittlung | D39: 2 | E39: =$F$23 -> II | F39: =$F$25 -> Basissatz | G39: =$G$33*(D39/100) -> 19544.014 | H39: EUR
B40: 2 | C40: Vorplanung | D40: 9 | E40: =$F$23 -> II | F40: =$F$25 -> Basissatz | G40: =$G$33*(D40/100) -> 87948.065 | H40: EUR
B41: Stufe 2
B42: 3 | C42: Entwurfsplanung | D42: 17 | E42: =$F$23 -> II | F42: =$F$25 -> Basissatz | G42: =$G$33*(D42/100) -> 166124.12 | H42: EUR
B43: 4 | C43: Genehmigungsplanung | D43: 2 | E43: =$F$23 -> II | F43: =$F$25 -> Basissatz | G43: =$G$33*(D43/100) -> 19544.014 | H43: EUR
B44: I: Honorar Grundleistungen (ohne NK) | D44: =SUM(D39:D43) -> 30 | G44: =SUM(G39:G43) -> 293160.22 | H44: EUR
B45: II | C45: Besondere Leistungen
B46: Stufe 1
B47: 1 | C47: Vertiefte technische Bestandsaufnahme mit Öffnungen, Messungen, Medienverfolgung, Anlageninventur inkl. Ortsterminen mit Betreibern, soweit für belastbare Aussagen erforderlich | D47: optional | E47: psch | F47: Alle Positionen sind auszufüllen! | G47: 0 | H47: EUR
B48: 1 | C48: 3D Bestandsmodell oder modellbasierte Erfassung der TGA relevanten Bestandsstruktur, d.h. BIM-Leistung in Verbindung mit AIA und BAP | D48: optional | E48: psch | G48: 0 | H48: EUR
B49: 1 | C49: Zusätzliche Untersuchungen zu Medienkapazitäten, Netzreserven, Schaltanlagen, Druckverhältnissen, Luftmengenreserven oder Messdaten | D49: optional | E49: psch | G49: 0 | H49: EUR
B50: 1 | C50: Sondergutachten, Messkampagnen oder Probeöffnungen zur Verifizierung unklarer Bestandslagen | D50: optional | E50: psch | G50: 0 | H50: EUR
B51: 1 | C51: Vorbereitende Variantenuntersuchungen für komplexe Bestandsanschlüsse, Interimsflächen oder Technikstandorte | D51: optional | E51: psch | G51: 0 | H51: EUR
B52: 1 | C52: Begleitung gesonderter Nutzerworkshops, Betreiberinterviews oder Gremientermine über das übliche Maß hinaus | D52: optional | E52: psch | G52: 0 | H52: EUR
B53: 1 | C53: Aufstellen eines TGA bezogenen Bauphasen, Interimsversorgungs- und Aufrechterhaltungskonzepts für Bestandsumbau, Rückbau oder provisorische Versorgung | D53: optional | E53: psch | G53: 0 | H53: EUR
B54: 1 | C54: Erarbeiten eines Betreiberanforderungskatalogs für technische Anlagen, Wartungsstrategien, Verfügbarkeitsanforderungen und FM Belange | D54: optional | E54: psch | G54: 0 | H54: EUR
B55: 1 | C55: Durchführung vertiefter Abstimmungsworkshops mit Nutzern, Betrieb, IT, Sicherheit, Hygiene oder Medizintechnik, soweit dies über die übliche Grundlagenermittlung hinausgeht | D55: optional | E55: psch | G55: 0 | H55: EUR
B56: 1 | C56: Erarbeiten eines Rückbau-, Entflechtungs- und Außerbetriebnahmekonzepts für bestehende TGA Anlagen einschließlich erster Einschätzung von Risiken für den laufenden Betrieb | D56: optional | E56: psch | G56: 0 | H56: EUR
B57: 2 | C57: Variantenuntersuchungen mit vertiefter Kosten-, Termin-, Betriebs- und Wirtschaftlichkeitsbewertung | D57: optional | E57: psch | G57: 0 | H57: EUR
B58: 2 | C58: Simulationen, Sonderberechnungen, vertiefte Modellkoordination und Visualisierungen, BIM-Leistungen in Verbindung mit AIA und BAP | D58: optional | E58: psch | G58: 0 | H58: EUR
B59: 2 | C59: Raumbuchbezogene technische Vorabstimmung in erhöhter Detaillierung einschließlich Raum für Raum Auswertung | D59: optional | E59: psch | G59: 0 | H59: EUR
... B68: 2 | C68: Vorbereitende Abstimmungen für Sonderzustimmungen, Betreiberfreigaben oder technische Grundsatzentscheidungen, soweit diese über den üblichen Umfang der Vorplanung hinausgehen | D68: optional | E68: psch | G68: 0 | H68: EUR
B69: Stufe 2
B70: 3 | C70: Vertiefte Modellkoordination, Attributierung für BIM und FM Anforderungen, BIM-Leistung in Verbindung mit AIA und BAP | D70: optional | E70: psch | F70: Alle Positionen sind auszufüllen! | G70: 0 | H70: EUR
B71: 3 | C71: Erweiterte Simulationen, Visualisierungen, Anlagenmonitoringkonzepte oder Sondernachweise | D71: optional | E71: psch | G71: 0 | H71: EUR
B72: 3 | C72: Vertiefte Planung provisorischer Interimsanlagen, Ersatzanlagen oder Modulbauversorgung | D72: optional | E72: psch | G72: 0 | H72: EUR
B73: 3 | C73: Aufstellen erweiterter Raumbücher mit TGA bezogenen Attributen, Betreiberinformationen und Wartungsanforderungen | D73: optional | E73: psch | G73: 0 | H73: EUR
B74: 3 | C74: Erarbeiten einer funktionalen Leistungsbeschreibung für gesonderte Folgevergaben, soweit projektbedingt erforderlich | D74: optional | E74: psch | G74: 0 | H74: EUR
B75: 3 | C75: Zusätzliche Nachweise oder Sonderdarstellungen für Betreiberfreigaben, Hygiene, Brandschutz oder Fördermittelgeber | D75: optional | E75: psch | G75: 0 | H75: EUR
B76: 3 | C76: Modell oder planbasierte Bauablauf, Umschluss und Provisorienplanung für Bestandsbetrieb und Interimsversorgung | D76: optional | E76: psch | G76: 0 | H76: EUR
B77: 3 | C77: Vertiefte Wirtschaftlichkeitsabwägung bei technischen Alternativen einschließlich Lebenszyklusbetrachtung | D77: optional | E77: psch | G77: 0 | H77: EUR
B78: 3 | C78: Ausarbeitung besonderer Maßnahmen zur Reduktion von Energieverbrauch, Emissionen und Betriebsaufwand | D78: optional | E78: psch | G78: 0 | H78: EUR
B79: 3 | C79: Mitwirkung an gesonderten Entscheidungsvorlagen für Gremien, Betreiber, Nutzer oder Behörden | D79: optional | E79: psch | G79: 0 | H79: EUR
B80: 3 | C80: Erstellung vertiefter Funktions-, Steuerungs- oder Regelungskonzepte, soweit diese über die übliche Entwurfsplanung hinausgehen | D80: optional | E80: psch | G80: 0 | H80: EUR
B81: 3 | C81: Erstellung/Zuarbeit der Bauplanungsunterlagen – BPU gemäß III 130 Verfahren einer investiven Baumaßnahme – Ergänzende Ausführungsvorschriften zu den AV zu §24 LHO Berlin | D81: optional | E81: psch | G81: 0 | H81: EUR
B82: 4 | C82: Vertiefte Nachweise technischer, hygienischer, sicherheitsrelevanter oder betrieblicher Art für besondere Zustimmungen im Einzelfall | D82: optional | E82: psch | G82: 0 | H82: EUR
... B91: 4 | C91: Erarbeitung zusätzlicher Unterlagen für Sonderanträge, Befreiungen, Abweichungen oder Betreiberzustimmungen | D91: optional | E91: psch | G91: 0 | H91: EUR
B92: II: Honorar Besondere Leistungen (ohne NK) | G92: =SUM(G70:G91)+SUM(G47:G68) -> 0 | H92: EUR
B93: Zwischensumme aus I-III | G93: =G44+G92 -> 293160.22 | H93: EUR
B94: Nachlass | E94: 0 | G94: =-(G93*E94) -> 0 | H94: EUR
B95: Zuschlag | E95: 0 | G95: =(G93*E95) -> 0 | H95: EUR
B96: Gesamthonorar inkl. Nachlass/ Zuschlag | G96: =G93+G94+G95 -> 293160.22 | H96: EUR
B97: zzgl. Nebenkosten inkl. Reisekosten (des Gesamthonorars I+II) | E97: ='Übersicht '!D37 -> 0 | G97: =G96*E97 -> 0 | H97: EUR
B98: Gesamthonorar inkl. Nebenkosten | G98: =G96+G97 -> 293160.22 | H98: EUR
