Workbook

Sheet Übersicht 
B1: Honorarblatt - KAU Erweiterungsplanung VgV-Verfahren Technische Ausrüstung
B2: Neubau Psychiatrie
C6: Übersicht Gesamtleistung
C8: I Honorar Grundleistungen, GESAMT NETTO, | G8: LPH 1-4
C9: Objekt Nr. 1 - Psychiatrie | G9: ='Los 1 Obj. 1 Neubau Psychiatrie'!G44 -> 614355.77
C10: II Honorar Besondere Leistungen, GESAMT NETTO, (Alle Besonderen Leistungen sind Optionale Leistungen) | G10: LPH 1-4
C11: Objekt Nr. 1 - Psychiatrie | G11: ='Los 1 Obj. 1 Neubau Psychiatrie'!G92 -> 0
C12: I-II Honorar Grund - und Besondere Leistungen GESAMT NETTO | G12: LPH 1-4
C13: Objekt Nr. 1 - Psychiatrie | G13: ='Los 1 Obj. 1 Neubau Psychiatrie'!G93 -> 614355.77
C14: I-II Honorar Grund - und Besondere Leistungen GESAMT NETTO, inkl. Nachlass/ Zuschlag und Nebenkosten | G14: LPH 1-4
C15: Objekt Nr. 1 - Psychiatrie | G15: ='Los 1 Obj. 1 Neubau Psychiatrie'!G98 -> 614355.77
C16: Honorar Grund - und Besondere Leistungen GESAMTSUMME NETTO Objekt Nr. 1, inkl. Umbauzuschlag, Nachlass/ Zuschlag und Nebenkosten | G16: =SUM(G15:G15) -> 614355.77
C17: zzgl. Mehrwertsteuer | F17: 0.19 | G17: =G16/100*19 -> 116727.6
C18: Honorar Grund - und Besondere Leistungen GESAMTSUMME BRUTTO Objekt Nr. 1, inkl. Umbauzuschlag, Nachlass/ Zuschlag und Nebenkosten | G18: =G16*1.19 -> 731083.37
D19: → Eingabe dieses Wertes in das Angebotsschreiben IV 213 F
C21: Honorar zusätzlicher Stundenabruf optional (Auftragnehmer/ Inhaber a 75 h, Ingenieur a 50 h, Techn. Zeichner/ kfm. Mitarbeiter a 25 h) | G21: =$D$24*75+$D$25*50+$D$26*25 -> 0
C23: Stundensätze | D23: EUR netto/h
C24: Auftragnehmer/Inhaber | D24: 0
C25: Architekt/Ingenieur/Techniker | D25: 0
C26: Technischer Zeicher/kfm. Mitarbeiter | D26: 0
C27: Durchschnitt (Wertungsrelevant) | D27: =(D24+D25+D26)/3 -> 0
C29: Nebenkosten in Prozent (für alle Fachdisziplinen gleich) | D29: 0

Sheet Anrech. Kosten
B2: Vivantes - Kostenrahmen Psychiatrie
B3: Investitionskostenschätzung zur Generalplaner-Ausschreibung
B4: Stand: 02.12.2024
B5: Kostengruppe | D5: Summe [netto] | E5: Summe [brutto] | G5: Bemerkung
B6: 100 | C6: Grundstück | D6: 0 | E6: =D6*1.19 -> 0 | G6: kein Ansatz
B7: 200 | C7: Herrichten und Erschließen | D7: 0 | E7: 0
B8: 300 - 400 | C8: Summe Bauwerk und Technische Anlagen | D8: =D9+D11+D12+D13+D14+D15+D16+D17+D18 -> 66797478 | E8: =D8*1.19 -> 79488999
B9: 300 | C9: Bauwerk | D9: 42149209 | E9: =D9*1.19 -> 50157559
B10: 400 | C10: Technische Anlagen | D10: =+SUM(D11:D19) -> 24648270 | E10: =D10*1.19 -> 29331441
B11: 410 | C11: Abwasser-, Wasser-, Gasanlagen | D11: 4239502.4 | E11: =D11*1.19 -> 5045007.8
B12: 420 | C12: Wärmeversorgungsanlagen | D12: 2021158.1 | E12: =D12*1.19 -> 2405178.1
B13: 430 | C13: Raumlufttechnische Anlagen | D13: 4140909.3 | E13: =D13*1.19 -> 4927682
B14: 440 | C14: Elektrische Anlagen | D14: 7936742.8 | E14: =D14*1.19 -> 9444723.9
B15: 450 | C15: Kommunikations, Sicherheits-, Informationstechnische Anlagen | D15: 3007088.9 | E15: =D15*1.19 -> 3578435.8
B16: 460 | C16: Förderanlagen | D16: 1676082.3 | E16: =D16*1.19 -> 1994538
B17: 470 | C17: Nutzerspezifische Anlagen | D17: 591558.47 | E17: =D17*1.19 -> 703954.58
B18: 480 | C18: Gebäude- und Anlagenautomation | D18: 1035227.3 | E18: =D18*1.19 -> 1231920.5
B19: 490 | C19: Sonstige Maßnahmen in Technische Anlagen
B20: 500 | C20: Außenanlagen | D20: 2137519.3 | E20: =D20*1.19 -> 2543648
B21: 600 | C21: Ausstattung | D21: =2464159/1.19 -> 2070721.8 | E21: =D21*1.19 -> 2464159
B22: Summe Baukosten (KG 200-600) | D22: =D7+D8+D20+D21 -> 71005720 | E22: =D22*1.19 -> 84496806

Sheet Los 1 Obj. 1 Neubau Psychiatrie
B3: Honorarblatt - KAU Erweiterungsplanung - Neubau Psychiatrie VgV-VerfahrenTechnische Ausrüstung
C10: (Einzutragen ist der Name/Anschrift des Bieter)
B13: Leistung: AG 1-8 Neubau Pyschiatrie
B16: Das Honorarblatt einschließlich der Eintragungen des Bieters wird im Zuschlagsfall verbindlicher Vertragsbestandteil. Eintragungen sind nur in den gelb markierten Feldern vorzunehmen. Die Vergütung des AN für die Grundleistungen erfolgt in Anlehnung an die HOAI 2021 unter Berücksichtigung des nachfolgend Vereinbarten. Zum Zweck der Honorarberechnungsklarheit in allen Leistungsphasen gelten die vom Auftraggeber (AG) hier voreingetragenen Honorarparameter und die Eintragungen des Auftragnehmers zum Nachlass bzw. Zuschlag und zu den Nebenkosten als abschließend und verbindlich für die Ermittlung der Honorare für die Grundleistungen in allen Leistungsphasen als vereinbart. Der AG hat die anrechenbaren Kosten für das Vorhaben geschätzt und nachfolgend eingetragen. Dabei wurden abweichend von den Regelungen des § 11 und § 55 HOAI die anrechenbaren Kosten sämtlicher Anlagen jeder Anlagengruppe insgesamt erfasst und ein Gesamtbetrag der anrechenbaren Kosten ermittelt ("honorartechnische Erfassung aller Anlagen als ein Objekt"). Bei der Ermittlung der anrechenbaren Kosten ist eine Berücksichtigung von Ausführung der Technischen Ausrüstung in Baukonstruktion im Sinne von § 54 Abs. 5 Satz 1 HOAI und eine Berücksichtigung von Bauteilen der Kostengruppe Baukonstruktionen im Sinne von § 54 Abs. 5 Satz 2 HOAI nicht erfolgt und bleibt ausgeschlossen. Etwaige Aufwendungen des AN auf Grund der vorgenannten Vereinbarungen sind durch den AN eigenständig bei der Angebotskalkulation zu berücksichtigen. Sofern die anrechenbaren Kosten außerhalb der Honorartafeln der HOAI liegen sollten, finden insoweit die sog. erweiterten RifT-Bund-Tabellen Anwendung. Das endgültige Honorar des AN bemisst sich ausschließlich nach den vorgenannten Grundsätzen, jedoch unter Berücksichtigung der anrechenbaren Kosten auf der Grundlage der Kostenberechnung gem. § 2 Abs. 11 HOAI. Für diese Kostenberechnung gelten jedoch weiterhin alle oben benannten Vereinbarungen im Hinblick auf die honorartechnische Erfassung aller Anlagen als ein Objekt und der vorgenannten Grundsätze im Hinblick auf die Nichtberücksichtigung anrechenbarer Kosten gem. § 54 Abs. 5 HOAI .
B18: Honorarermittlung
D20: gem. HOAI, § 11:
D21: Die Leistungserbringung umfasst ein Objekt.
D23: Honorarzone gem. HOAI, § 5: | F23: II
D25: Zuschlag gem. HOAI, § 7: | F25: Basissatz
B27: Vorläufige Anrechenbare Kosten | H27: alle Angaben netto, ohne MwSt.
B28: gemäß § 4 HOAI 2021
C29: Kosten der KGR 400 | D29: ='Anrech. Kosten'!D10 -> 24648270 | E29: EUR | F29: 1 | G29: =D29*F29 -> 24648270 | H29: EUR
F30: Anrechenbare Herstellkosten gesamt | G30: =SUM(G29:G29) -> 24648270 | H30: EUR
E32: gemäß § 56 HOAI ergibt sich daraus folgendes vorläufiges Grundhonorar | F32: 1 | G32: 2047852.6 | H32: EUR
E33: Summe Grundhonorar gemäß § 56 HOAI | G33: =SUM(G32:G32) -> 2047852.6 | H33: EUR
B35: LPH | C35: Leistungen gem. Leistungsbeschreibung AG in Verbindung mit den Leistungsphasen HOAI | D35: Teilleistungspunkte | E35: Honorarzone (HZ) gemäß Objektliste HOAI | G35: Honorar in EUR [netto]
E36: HZ | F36: Von-/ Bis-Satz
B37: I | C37: Grundleistungen
B38: Stufe 1
B39: 1 | C39: Grundlagenermittlung | D39: 2 | E39: =$F$23 -> II | F39: =$F$25 -> Basissatz | G39: =$G$33*(D39/100) -> 40957.052 | H39: EUR
B40: 2 | C40: Vorplanung | D40: 9 | E40: =$F$23 -> II | F40: =$F$25 -> Basissatz | G40: =$G$33*(D40/100) -> 184306.73 | H40: EUR
B41: Stufe 2
B42: 3 | C42: Entwurfsplanung | D42: 17 | E42: =$F$23 -> II | F42: =$F$25 -> Basissatz | G42: =$G$33*(D42/100) -> 348134.94 | H42: EUR
B43: 4 | C43: Genehmigungsplanung | D43: 2 | E43: =$F$23 -> II | F43: =$F$25 -> Basissatz | G43: =$G$33*(D43/100) -> 40957.052 | H43: EUR
B44: I: Honorar Grundleistungen (ohne NK) | D44: =SUM(D39:D43) -> 30 | G44: =SUM(G39:G43) -> 614355.77 | H44: EUR
B45: II | C45: Besondere Leistungen
B46: Stufe 1
B47: 1 | C47: Vertiefte technische Bestandsaufnahme mit Öffnungen, Messungen, Medienverfolgung, Anlageninventur inkl. Ortsterminen mit Betreibern, soweit für belastbare Aussagen erforderlich | D47: optional | E47: psch | F47: Alle Positionen sind auszufüllen! | G47: 0 | H47: EUR
B48: 1 | C48: 3D Bestandsmodell oder modellbasierte Erfassung der TGA relevanten Bestandsstruktur, d.h. BIM-Leistung in Verbindung mit AIA und BAP | D48: optional | E48: psch | G48: 0 | H48: EUR
B49: 1 | C49: Zusätzliche Untersuchungen zu Medienkapazitäten, Netzreserven, Schaltanlagen, Druckverhältnissen, Luftmengenreserven oder Messdaten | D49: optional | E49: psch | G49: 0 | H49: EUR
B50: 1 | C50: Sondergutachten, Messkampagnen oder Probeöffnungen zur Verifizierung unklarer Bestandslagen | D50: optional | E50: psch | G50: 0 | H50: EUR
B51: 1 | C51: Vorbereitende Variantenuntersuchungen für komplexe Bestandsanschlüsse, Interimsflächen oder Technikstandorte | D51: optional | E51: psch | G51: 0 | H51: EUR
B52: 1 | C52: Begleitung gesonderter Nutzerworkshops, Betreiberinterviews oder Gremientermine über das übliche Maß hinaus | D52: optional | E52: psch | G52: 0 | H52: EUR
B53: 1 | C53: Aufstellen eines TGA bezogenen Bauphasen, Interimsversorgungs- und Aufrechterhaltungskonzepts für Bestandsumbau, Rückbau oder provisorische Versorgung | D53: optional | E53: psch | G53: 0 | H53: EUR
B54: 1 | C54: Erarbeiten eines Betreiberanforderungskatalogs für technische Anlagen, Wartungsstrategien, Verfügbarkeitsanforderungen und FM Belange | D54: optional | E54: psch | G54: 0 | H54: EUR
B55: 1 | C55: Durchführung vertiefter Abstimmungsworkshops mit Nutzern, Betrieb, IT, Sicherheit, Hygiene oder Medizintechnik, soweit dies über die übliche Grundlagenermittlung hinausgeht | D55: optional | E55: psch | G55: 0 | H55: EUR
B56: 1 | C56: Erarbeiten eines Rückbau-, Entflechtungs- und Außerbetriebnahmekonzepts für bestehende TGA Anlagen einschließlich erster Einschätzung von Risiken für den laufenden Betrieb | D56: optional | E56: psch | G56: 0 | H56: EUR
B57: 2 | C57: Variantenuntersuchungen mit vertiefter Kosten-, Termin-, Betriebs- und Wirtschaftlichkeitsbewertung | D57: optional | E57: psch | G57: 0 | H57: EUR
B58: 2 | C58: Simulationen, Sonderberechnungen, vertiefte Modellkoordination und Visualisierungen, BIM-Leistungen in Verbindung mit AIA und BAP | D58: optional | E58: psch | G58: 0 | H58: EUR
B59: 2 | C59: Raumbuchbezogene technische Vorabstimmung in erhöhter Detaillierung einschließlich Raum für Raum Auswertung | D59: optional | E59: psch | G59: 0 | H59: EUR
...
