Workbook

Sheet Übersicht
B2: Honorarblatt Generalplanerleistung Gesamt - Angebot I
B3: Vergabe Nr.: | C3: P_0899-2025_GP_IV-1
B4: CPV: | C4: 71000000-8
B6: Übersicht Gesamtleistung - Genralplanerleistung
B8: 1. Honorar Grundleistungen GESAMT LPH 2-9 NETTO inkl. Umbauzuschlag | G8: =SUM(G9,G10,G13) -> 1609271.1 | H8: EUR NETTO
C9: Objektplanung Gebäude und Innenräume | G9: =OPL!G48 -> 690043.29
C10: Technische Gebäudeausrüstung ELT | G10: =SUM(G11:G12) -> 743210.73
D11: AG 4 | E11: Starkstromanlagen | G11: ='AG 4 '!G49 -> 721139.85
D12: AG 5 | E12: Fernmelde- und infotechnische Anlagen | G12: ='AG 5'!G49 -> 22070.88
C13: Tragwerksplanung | G13: ='TWP '!G46 -> 176017.03
B14: 2. Honorar Besondere Leistungen GESAMT NETTO, (Bitte beachten das nicht alle Besonderen Leistungen optional sind.) | G14: =SUM(G15,G16,G19) -> 0 | H14: EUR NETTO
C15: Objektplanung Gebäude und Innenräume | G15: =OPL!G75+OPL!G77 -> 0
C16: Technische Gebäudeausrüstung ELT | G16: =SUM(G17:G18) -> 0
D17: AG 4 | E17: Starkstromanlagen | G17: ='AG 4 '!G83+'AG 4 '!G81 -> 0
D18: AG 5 | E18: Fernmelde- und infotechnische Anlagen | G18: ='AG 5'!G81+'AG 5'!G83 -> 0
C19: Tragwerksplanung | G19: ='TWP '!G83+'TWP '!G85 -> 0
B20: Honorar Grund - und optionale Leistungen inkl. Nachlass, Zuschlag und Nebenkosten GESAMT NETTO | G20: =SUM(G21,G22,G25) -> 1609271.1 | H20: EUR NETTO
C21: Objektplanung Gebäude und Innenräume | G21: =OPL!G83 -> 690043.29
C22: Technische Gebäudeausrüstung ELT | G22: =SUM(G23:G24) -> 743210.73
D23: AG 4 | E23: Starkstromanlagen | G23: ='AG 4 '!G89 -> 721139.85
D24: AG 5 | E24: Fernmelde- und infotechnische Anlagen | G24: ='AG 5'!G89 -> 22070.88
C25: Tragwerksplanung | G25: ='TWP '!G91 -> 176017.03
B26: Gesamt Genralplanerhonorar Grund - und optionale Leistungen inkl. Nachlass, Zuschlag und Nebenkosten GESAMT NETTO | G26: =SUM(G21,G22,G25) -> 1609271.1 | H26: EUR NETTO
B27: zzgl. Mehrwertsteuer | F27: 0.19 | G27: =G26*0.19 -> 305761.5 | H27: EUR
B28: Gesamt Genralplanerhonorar Grund - und Besondere Leistungen GESAMT BRUTTO, inkl. Nebenkosten und optionale Leistungen | G28: =G26+G27 -> 1915032.6 | H28: EUR BRUTTO
D29: → Eingabe dieses Wertes in das Angebotsschreiben IV 213 F
B31: Nebenkosten in Prozent | D31: 0

Sheet OPL
B3: Honorarblatt Objektplanung - Angebot I
B4: Vergabe Nr.: | C4: P_0899-2025_GP_IV-1
B5: CPV: | C5: 71000000-8
B10: (Einzutragen ist der Name/Anschrift des Bieter)
B12: Leistungen bei Opjektplanung (KG 300)
B15: Das Honorarblatt einschließlich der Eintragungen des Bieters wird im Zuschlagsfall verbindlicher Vertragsbestandteil. Eintragungen sind nur in den gelb markierten Feldern vorzunehmen. Die Vergütung des AN für die Grundleistungen erfolgt in Anlehnung an die HOAI 2021 unter Berücksichtigung des nachfolgend Vereinbarten. Zum Zweck der Honorarberechnungsklarheit in allen Leistungsphasen gelten die vom Auftraggeber hier voreingetragenen Honorarparameter und die Eintragungen des Auftragnehmers zum Nachlass bzw. Zuschlag und zu den Nebenkosten als abschließend und verbindlich für die Ermittlung der Honorare für die Grundleistungen in allen Leistungsphasen vereinbart. Insbesondere die vorgegebene honorartechnische Erfassung als ein Objekt bleibt ebenso wie die vom Auftraggeber vorgenommene Zuordnung der Honorarzone in allen Leistungsphasen auch dann verbindlich, wenn nach den Regelungen der HOAI eine andere Zuordnung möglich sein sollte. Der AG hat die anrechenbaren Kosten für das Vorhaben gem. § 33 Abs. 1 u. 2 HOAI geschätzt und nachfolgend eingetragen. Sofern die anrechenbaren Kosten außerhalb der Honorartafeln der HOAI liegen sollten, finden insoweit die sog. erweiterten RifT-Bund-Tabellen Anwendung. Bei der Ermittlung der anrechenbaren Kosten gem. § 33 Abs. 1 u. 2 HOAI für die Baukonstruktion und Technische Anlagen erfolgt keine Berücksichtigungung etwaig mitzuverarbeitender Bausubstanz und wegen Ausführung in Baukonstruktionen gem. § 54 Abs. 5 HOAI. Es ist vereinbart, dass ein Umbau- und Modernisierungszuschlag nicht anzusetzen ist. Etwaige Aufwendungen hierfür sind in der Angebotsphase durch den AN eigenständig zu berücksichtigen. Das endgültige Honorar des AN bemisst sich nach sämtlichen vorgenannten Grundsätzen und Festlegungen, jedoch unter Berücksichtigung der anrechenbaren Kosten auf der Grundlage der Kostenberechnung gem. § 2 Abs. 11 HOAI. Für diese Kostenberechnung gelten sämtliche vorgenannte Grundsätze und Festlegungen im Hinblick auf die Berücksichtigung der mitzuverarbeitenden Bausubstanz und der Ausführung in Baukonstruktionen (§ 54 Abs. 5 HOAI) gleichermaßen.
D17: gem. HOAI, § 11:
D18: Die Leistungserbringung umfasst ein Objekt.
D20: Honorarzone gem. HOAI, § 5: | F20: III
D21: Umbau- und Modernisierungszuschlag | F21: kein
D22: Honorarsatz: | G22: Basissatz
B24: Vorläufige Anrechenbare Kosten | H24: alle Angaben netto, ohne MwSt.
B25: gemäß § 6 iVm § 33 HOAI 2021, DIN 276 2018 ist zu berücksichtigen
C26: Kosten der KGR 300 | D26: 4260000 | E26: EUR | F26: zu 100% | G26: =D26 -> 4260000 | H26: EUR
C27: Kosten der KGR 400 | D27: 5845000 | E27: EUR | F27: anteilig | G27: 3455000 | H27: EUR
F28: Anrechenbare Herstellkosten gesamt | G28: =SUM(G26:G27) -> 7715000 | H28: EUR
E30: gemäß § 35 HOAI ergibt sich daraus folgendes vorläufiges Grundhonorar | F30: 1 | G30: 704125.81 | H30: EUR
B32: LPH | C32: Leistungsphasen nach HOAI | D32: Teilleistungs-punkte | E32: Honorarzone (HZ) gemäß Objektliste HOAI | G32: Honorar in EUR [netto]
E33: HZ | F33: Von-/ Bis-Satz
B34: Stufe 1
B35: 1 | C35: Grundlagenermittlung | D35: 2 | E35: =F20 -> III | F35: =F22 -> 0 | G35: =$G$30*(D35/100) -> 14082.516 | H35: EUR
B36: 2 | C36: Vorplanung | D36: 7 | G36: =$G$30*(D36/100) -> 49288.807 | H36: EUR
B37: Stufe 2
B38: 3 | C38: Entwurfsplanung | D38: 15 | G38: =$G$30*(D38/100) -> 105618.87 | H38: EUR
B39: 4 | C39: Genehmigungsplanung | D39: 3 | G39: =$G$30*(D39/100) -> 21123.774 | H39: EUR
B40: 5 | C40: Ausführungsplanung | D40: 25 | G40: =$G$30*(D40/100) -> 176031.45 | H40: EUR
B41: Stufe 3
B42: 6 | C42: Vorbereitung der Vergabe | D42: 10 | G42: =$G$30*(D42/100) -> 70412.581 | H42: EUR
B43: 7 | C43: Mitwirkung bei der Vergabe | D43: 2 | G43: =$G$30*(D43/100) -> 14082.516 | H43: EUR
B44: Stufe 4
B45: 8 | C45: Objektüberwachung und Dokumentation | D45: 32 | G45: =$G$30*(D45/100) -> 225320.26 | H45: EUR
B46: Stufe 5
B47: 9 | C47: Objektbetreuung (optional) | D47: 2 | G47: =$G$30*(D47/100) -> 14082.516 | H47: EUR
B48: I. Honorar Grundleistungen (ohne NK) | D48: =SUM(D35:D47) -> 98 | G48: =SUM(G35:G47) -> 690043.29 | H48: EUR
B49: II. Besondere Leistungen optional
B50: Lph 1 | C50: Vertiefte bauliche Bestandsaufnahme der Gebäude auch mit angrenzenden Kellerbereichen, Kabelkanälen, Öffnungen und Anbindungen an den Bestand. | F50: psch | G50: 0 | H50: EUR
B51: Lph 1 | C51: Untersuchung und Bewertung der bestehenden Gebäudestrukturen, insbesondere der bautechnischen Eigenschaften, Koordination und Bewertung notwendiger Schadstoffuntersuchungen und bautechnischen Messungen | F51: psch | G51: 0 | H51: EUR
B52: Lph 1 | C52: Abstimmung und Beratung inkl. Ortsterminen mit Betreibern und fachlich Beteiligten | F52: psch | G52: 0 | H52: EUR
B53: Lph 1 | C53: Möglichkeiten von Förderungen eruieren | F53: psch | G53: 0 | H53: EUR
B54: Lph 2 | C54: Variantenuntersuchungen mit vertiefter Kosten-, Termin-, Betriebs- und Wirtschaftlichkeitsbewertung | F54: psch | G54: 0 | H54: EUR
...

Sheet AG 4 
B3: Honorarblatt - ELT AG 4 Angebot I VgV-Verfahren
B4: Vergabe Nr.: P_0899-2025_GP_IV-1
B5: CPV NR.: | C5: =[1]Übersicht!C4 -> 71300000-1
C10: (Einzutragen ist der Name/Anschrift des Bieter)
B14: Leistungen - Starkstromanlagen (KG 440)
B17: Das Honorarblatt einschließlich der Eintragungen des Bieters wird im Zuschlagsfall verbindlicher Vertragsbestandteil. Eintragungen sind nur in den gelb markierten Feldern vorzunehmen. Die Vergütung des AN für die Grundleistungen erfolgt in Anlehnung an die HOAI 2021 unter Berücksichtigung des nachfolgend Vereinbarten. Zum Zweck der Honorarberechnungsklarheit in allen Leistungsphasen gelten die vom Auftraggeber hier voreingetragenen Honorarparameter und die Eintragungen des Auftragnehmers zum Nachlass bzw. Zuschlag und zu den Nebenkosten als abschließend und verbindlich für die Ermittlung der Honorare für die Grundleistungen in allen Leistungsphasen vereinbart. Die vorgegebene honorartechnische Erfassung als ein Objekt ist ebenfalls für alle Leistungsphasen verbindlich. Insbesondere die vorgegebene honorartechnische Erfassung als ein Objekt bleibt ebenso wie die vom Auftraggeber vorgenommene Zuordnung der Honorarzone in allen Leistungsphasen auch dann verbindlich, wenn nach den Regelungen der HOAI eine andere Zuordnung möglich sein sollte. Der AG hat die anrechenbaren Kosten für das Vorhaben gem. § 54 HOAI geschätzt und nachfolgend eingetragen. Sofern die anrechenbaren Kosten außerhalb der Honorartafeln der HOAI liegen sollten, finden insoweit die sog. erweiterten RifT-Bund-Tabellen Anwendung. Bei der Ermittlung der anrechenbaren Kosten erfolgt keine Berücksichtigungung etwaig mitzuverarbeitender Bausubstanz und keine Berücksichtigung von Kosten wegen etwaiger Ausführung der technischen Ausrüstung in Baukonstruktionen gem. § 54 Abs. 5 HOAI. Es ist vereinbart, dass ein Umbau- und Modernisierungszuschlag nicht anzusetzen ist. Etwaige Aufwendungen hierfür sind in der Angebotsphase durch den AN eigenständig zu berücksichtigen. Das endgültige Honorar des AN bemisst sich nach sämtlichen vorgenannten Grundsätzen und Festlegungen, jedoch unter Berücksichtigung der anrechenbaren Kosten auf der Grundlage der Kostenberechnung gem. § 2 Abs. 11 HOAI. Für diese Kostenberechnung gelten sämtliche vorgenannte Grundsätze und Festlegungen zur mitzuverarbeitenden Bausubstanz und der Ausführung in Baukonstruktionen (§ 54 Abs. 5 HOAI) gleichermaßen.
D19: gem. HOAI, § 11:
D20: Die Leistungserbringung umfasst ein Objekt.
E22: Honorarzone gem. HOAI, § 5: | F22: III
D23: Umbau- und Modernisierungszuschlag | F23: kein
E24: Honorarsatz: | F24: Basissatz
B26: Vorläufige Anrechenbare Kosten | H26: alle Angaben netto, ohne MwSt.
B27: gemäß § 6 iVm § 54 HOAI 2013, DIN 276 2018 ist zu berücksichtigen
C28: Kosten der KGR 440 | D28: 5465000 | E28: EUR | F28: zu 100% | G28: =D28 -> 5465000 | H28: EUR
F29: Anrechenbare Herstellkosten gesamt | G29: =SUM(G28:G28) -> 5465000 | H29: EUR
E31: gemäß § 56 HOAI ergibt sich daraus folgendes vorläufiges Grundhonorar | F31: 1 | G31: 739630.62 | H31: EUR
B33: LPH | C33: Leistungsphasen nach HOAI | D33: Teilleistungs-punkte | E33: Honorarzone (HZ) gemäß Objektliste HOAI | G33: Honorar in EUR [netto]
E34: HZ | F34: Von-/ Bis-Satz
B35: Stufe 1
B36: 1 | C36: Grundlagenermittlung | D36: 2 | E36: =F22 -> III | F36: =F24 -> Basissatz | G36: =$G$31*(D36/100) -> 14792.612 | H36: EUR
B37: 2 | C37: Vorplanung | D37: 9 | G37: =$G$31*(D37/100) -> 66566.756 | H37: EUR
B38: Stufe 2
B39: 3 | C39: Entwurfsplanung | D39: 17 | G39: =$G$31*(D39/100) -> 125737.21 | H39: EUR
B40: 4 | C40: Genehmigungsplanung | D40: 2 | G40: =$G$31*(D40/100) -> 14792.612 | H40: EUR
B41: 5 | C41: Ausführungsplanung | D41: 22 | G41: =$G$31*(D41/100) -> 162718.74 | H41: EUR
B42: Stufe 3
B43: 6 | C43: Vorbereitung der Vergabe | D43: 7 | G43: =$G$31*(D43/100) -> 51774.143 | H43: EUR
B44: 7 | C44: Mitwirkung bei der Vergabe | D44: 2.5 | G44: =$G$31*(D44/100) -> 18490.766 | H44: EUR
B45: Stufe 4
B46: 8 | C46: Objektüberwachung und Dokumentation | D46: 35 | G46: =$G$31*(D46/100) -> 258870.72 | H46: EUR
B47: Stufe 5
B48: 9 | C48: Objektbetreuung | D48: 1 | G48: =$G$31*(D48/100) -> 7396.3062 | H48: EUR
B49: I: Honorar Grundleistungen (ohne NK) | D49: =SUM(D36:D48) -> 97.5 | G49: =SUM(G36:G48) -> 721139.85 | H49: EUR
B50: II: Besondere Leistungen
B51: Lph 1 | C51: Bestandsaufnahme Kabelkeller mit Typ, Abmessungen, Lage im Raum, Aufnahme Hauptverteilungen, Unterverteilungen, Trassen, Blitzschutz | D51: optional | F51: psch | G51: 0 | H51: EUR
B52: Lph | C52: Datenerfassung und Vorschläge Optimierung im Bestand; Verbrauchsmessungen | D52: optional | F52: psch | G52: 0 | H52: EUR
B53: LPh 2 | C53: Variantenvergleich Energieversorgung, PV, Speicher, Ladeinfrastruktur, Sicherheitsstromversorgung, Netzersatzanlage | D53: optional | F53: psch | G53: 0 | H53: EUR
B54: LPH3 | C54: Detaillierter Wirtschaftlichkeitsnachweis | D54: optional | F54: psch | G54: 0 | H54: EUR
B55: LPH 3 | C55: Mitwirken bei vertiefter Kostenberechnung | D55: optional | F55: psch | G55: 0 | H55: EUR
B56: LPH 3 | C56: Selektivitäts- und Kurzschlussstromberechnungen mit erhöhtem Detaillierungsgrad, Netzqualitätsbetrachtungen, Lastflussberechnungen, Speicher-/PV-Simulationen, Betriebs- und Störfallmatrix, Funktionsmatrix Sicherheitstechnik | D56: optional | F56: psch | G56: 0 | H56: EUR
...

Sheet AG 5
B3: Honorarblatt Los 1 - ELT Angebot I VgV-Verfahren
B4: Vergabe Nr.: | C4: P_0899-2025_GP_IV-1
B5: CPV NR.: | C5: =[1]Übersicht!C4 -> 71300000-1
C10: (Einzutragen ist der Name/Anschrift des Bieter)
B14: Leistungen - Fernmelde- und informationstechnische Anlagen (KG 450)
B17: Das Honorarblatt einschließlich der Eintragungen des Bieters wird im Zuschlagsfall verbindlicher Vertragsbestandteil. Eintragungen sind nur in den gelb markierten Feldern vorzunehmen. Die Vergütung des AN für die Grundleistungen erfolgt in Anlehnung an die HOAI 2021 unter Berücksichtigung des nachfolgend Vereinbarten. Zum Zweck der Honorarberechnungsklarheit in allen Leistungsphasen gelten die vom Auftraggeber hier voreingetragenen Honorarparameter und die Eintragungen des Auftragnehmers zum Nachlass bzw. Zuschlag und zu den Nebenkosten als abschließend und verbindlich für die Ermittlung der Honorare für die Grundleistungen in allen Leistungsphasen vereinbart. Die vorgegebene honorartechnische Erfassung als ein Objekt ist ebenfalls für alle Leistungsphasen verbindlich. Insbesondere die vorgegebene honorartechnische Erfassung als ein Objekt bleibt ebenso wie die vom Auftraggeber vorgenommene Zuordnung der Honorarzone in allen Leistungsphasen auch dann verbindlich, wenn nach den Regelungen der HOAI eine andere Zuordnung möglich sein sollte. Der AG hat die anrechenbaren Kosten für das Vorhaben gem. § 54 HOAI geschätzt und nachfolgend eingetragen. Sofern die anrechenbaren Kosten außerhalb der Honorartafeln der HOAI liegen sollten, finden insoweit die sog. erweiterten RifT-Bund-Tabellen Anwendung. Bei der Ermittlung der anrechenbaren Kosten erfolgt keine Berücksichtigungung etwaig mitzuverarbeitender Bausubstanz und keine Berücksichtigung von Kosten wegen etwaiger Ausführung der technischen Ausrüstung in Baukonstruktionen gem. § 54 Abs. 5 HOAI. Es ist vereinbart, dass ein Umbau- und Modernisierungszuschlag nicht anzusetzen ist. Etwaige Aufwendungen hierfür sind in der Angebotsphase durch den AN eigenständig zu berücksichtigen. Das endgültige Honorar des AN bemisst sich nach sämtlichen vorgenannten Grundsätzen und Festlegungen, jedoch unter Berücksichtigung der anrechenbaren Kosten auf der Grundlage der Kostenberechnung gem. § 2 Abs. 11 HOAI. Für diese Kostenberechnung gelten sämtliche vorgenannte Grundsätze und Festlegungen zur mitzuverarbeitenden Bausubstanz und der Ausführung in Baukonstruktionen (§ 54 Abs. 5 HOAI) gleichermaßen.
D19: gem. HOAI, § 11:
D20: Die Leistungserbringung umfasst ein Objekt.
E22: Honorarzone gem. HOAI, § 5: | F22: III
D23: Umbau- und Modernisierungszuschlag | F23: kein
E24: Honorarsatz: | F24: Basissatz
B26: Vorläufige Anrechenbare Kosten | H26: alle Angaben netto, ohne MwSt.
B27: gemäß § 6 iVm § 54 HOAI 2013, DIN 276 2018 ist zu berücksichtigen
C28: Kosten der KGR 450 | D28: 65000 | E28: EUR | F28: zu 100% | G28: =D28 -> 65000 | H28: EUR
F29: Anrechenbare Herstellkosten gesamt | G29: =SUM(G28:G28) -> 65000 | H29: EUR
E31: gemäß § 56 HOAI ergibt sich daraus folgendes vorläufiges Grundhonorar | F31: 1 | G31: 22636.8 | H31: EUR
B33: LPH | C33: Leistungsphasen nach HOAI | D33: Teilleistungs-punkte | E33: Honorarzone (HZ) gemäß Objektliste HOAI | G33: Honorar in EUR [netto]
E34: HZ | F34: Von-/ Bis-Satz
B35: Stufe 1
B36: 1 | C36: Grundlagenermittlung | D36: 2 | E36: =F22 -> III | F36: =F24 -> Basissatz | G36: =$G$31*(D36/100) -> 452.736 | H36: EUR
B37: 2 | C37: Vorplanung | D37: 9 | G37: =$G$31*(D37/100) -> 2037.312 | H37: EUR
B38: Stufe 2
B39: 3 | C39: Entwurfsplanung | D39: 17 | G39: =$G$31*(D39/100) -> 3848.256 | H39: EUR
B40: 4 | C40: Genehmigungsplanung | D40: 2 | G40: =$G$31*(D40/100) -> 452.736 | H40: EUR
B41: 5 | C41: Ausführungsplanung | D41: 22 | G41: =$G$31*(D41/100) -> 4980.096 | H41: EUR
B42: Stufe 3
B43: 6 | C43: Vorbereitung der Vergabe | D43: 7 | G43: =$G$31*(D43/100) -> 1584.576 | H43: EUR
B44: 7 | C44: Mitwirkung bei der Vergabe | D44: 2.5 | G44: =$G$31*(D44/100) -> 565.92 | H44: EUR
B45: Stufe 4
B46: 8 | C46: Objektüberwachung und Dokumentation | D46: 35 | G46: =$G$31*(D46/100) -> 7922.88 | H46: EUR
B47: Stufe 5
B48: 9 | C48: Objektbetreuung optional | D48: 1 | G48: =$G$31*(D48/100) -> 226.368 | H48: EUR
B49: I: Honorar Grundleistungen (ohne NK) | D49: =SUM(D36:D48) -> 97.5 | G49: =SUM(G36:G48) -> 22070.88 | H49: EUR
B50: II: Besondere Leistungen
B51: Lph 1 | C51: Bestandsaufnahme Kabelkeller mit Typ, Abmessungen, Lage im Raum, Aufnahme Hauptverteilungen, Unterverteilungen, Trassen, Blitzschutz | D51: optional | F51: psch | G51: 0 | H51: EUR
B52: Lph | C52: Datenerfassung und Vorschläge Optimierung im Bestand; Verbrauchsmessungen | G52: 0 | H52: EUR
B53: LPh 2 | C53: Variantenvergleich Energieversorgung, PV, Speicher, Ladeinfrastruktur, Sicherheitsstromversorgung, Netzersatzanlage | G53: 0 | H53: EUR
B54: LPH3 | C54: Detaillierter Wirtschaftlichkeitsnachweis | G54: 0 | H54: EUR
B55: LPH 3 | C55: Mitwirken bei vertiefter Kostenberechnung | G55: 0 | H55: EUR
B56: LPH 3 | C56: Selektivitäts- und Kurzschlussstromberechnungen mit erhöhtem Detaillierungsgrad, Netzqualitätsbetrachtungen, Lastflussberechnungen, Speicher-/PV-Simulationen, Betriebs- und Störfallmatrix, Funktionsmatrix Sicherheitstechnik | G56: 0 | H56: EUR
...

Sheet TWP 
B3: Honorarblatt - TWP Offenes Verfahren
B4: Vergabenummer: P_0899-2025_GP_IV-1
B5: CPV: 71320000-7
C10: (Einzutragen ist der Name/Anschrift des Bieter)
B14: Leistungen - Tragwerksplanung Das Honorarblatt einschließlich der Eintragungen des Bieters wird im Zuschlagsfall verbindlicher Vertragsbestandteil. Eintragungen sind nur in den gelb markierten Feldern vorzunehmen. Die Vergütung des AN für die Grundleistungen erfolgt in Anlehnung an die HOAI 2021 unter Berücksichtigung des nachfolgend Vereinbarten. Zum Zweck der Honorarberechnungsklarheit in allen Leistungsphasen gelten die vom Auftraggeber hier voreingetragenen Honorarparameter und die Eintragungen des Auftragnehmers zum Nachlass bzw. Zuschlag und zu den Nebenkosten als abschließend und verbindlich für die Ermittlung der Honorare für die Grundleistungen in allen Leistungsphasen vereinbart. Die vorgegebene honorartechnische Erfassung als ein Objekt ist ebenfalls für alle Leistungsphasen verbindlich. Insbesondere die vorgegebene honorartechnische Erfassung als ein Objekt bleibt ebenso wie die vom Auftraggeber vorgenommene Zuordnung der Honorarzone in allen Leistungsphasen auch dann verbindlich, wenn nach den Regelungen der HOAI eine andere Zuordnung möglich sein sollte. Der AG hat die anrechenbaren Kosten für das Vorhaben gem. § 50 Abs. 1 HOAI geschätzt und nachfolgend eingetragen. Sofern die anrechenbaren Kosten außerhalb der Honorartafeln der HOAI liegen sollten, finden insoweit die sog. erweiterten RifT-Bund-Tabellen Anwendung. Bei der Ermittlung der anrechenbaren Kosten gem. § 50 Abs. 1 HOAI für die Baukonstruktion und Technische Anlagen erfolgt keine Berücksichtigungung etwaig mitzuverarbeitender Bausubstanz und wegen Ausführung in Baukonstruktionen gem. § 54 Abs. 5 HOAI. Es ist vereinbart, dass ein Umbau- und Modernisierungszuschlag nicht anzusetzen ist. Etwaige Aufwendungen hierfür sind in der Angebotsphase durch den AN eigenständig zu berücksichtigen. Das endgültige Honorar des AN bemisst sich nach den vorgenannten Grundsätzen und Festlegungen, jedoch unter Berücksichtigung der anrechenbaren Kosten auf der Grundlage der Kostenberechnung gem. § 2 Abs. 11 HOAI. Für diese Kostenberechnung gelten sämtliche vorgenannte Grundsätze und Festlegungen im Hinblick auf die Berücksichtigung der mitzuverarbeitenden Bausubstanz und der Ausführung in Baukonstruktionen (§ 54 Abs. 5 HOAI) gleichermaßen.
B17: Honorarermittlung (Grundlage für die Abrechnung ist die zum Zeitpunkt des Vertragsabschlusses gültige HOAI 2021)
D19: gem. HOAI, § 11:
D20: Die Leistungserbringung umfasst ein Objekt.
D22: Honorarzone gem. HOAI, § 5: | F22: III
D23: Umbau- und Modernisierungszuschlag | F23: kein
D24: Honorarsatz: | F24: Mindest | G24: (Basissatz)
B26: Vorläufige Anrechenbare Kosten | H26: alle Angaben netto, ohne MwSt.
B27: gemäß § 4 HOAI 2013
C28: Kosten der KGR 300 | D28: 4260000 | E28: EUR | F28: 0.55 | G28: =D28*F28 -> 2343000 | H28: EUR
C29: Kosten der KGR 400 | D29: 5845000 | E29: EUR | F29: 0.1 | G29: =D29*F29 -> 584500 | H29: EUR
F30: Anrechenbare Herstellkosten gesamt | G30: =SUM(G28:G29) -> 2927500 | H30: EUR
E32: gemäß § 52 HOAI ergibt sich daraus folgendes vorläufiges Grundhonorar | F32: 1 | G32: 178697.49 | H32: EUR
E33: Summe Grundhonorar gemäß § 52 HOAI | G33: =SUM(G32:G32) -> 178697.49 | H33: EUR
G34: =G33 -> 178697.49
B35: LPH | C35: Leistungsphasen nach HOAI | D35: Teilleistungs-punkte | E35: Honorarzone (HZ) gemäß Objektliste HOAI | G35: Honorar in EUR [netto]
E36: HZ | F36: Von-/ Bis-Satz
B37: Stufe 1
B38: 1 | C38: Grundlagenermittlung | D38: 3 | E38: =F22 -> III | F38: =F24 -> Mindest | G38: =G33*(D38/100) -> 5360.9247 | H38: EUR
B39: 2 | C39: Vorplanung | D39: 10 | G39: =$G$33*(D39/100) -> 17869.749 | H39: EUR
B40: 3 | C40: Entwurfsplanung | D40: 15 | G40: =$G$33*(D40/100) -> 26804.623 | H40: EUR
B41: 4 | C41: Genehmigungsplanung, ohne Anlage 14.1 LPH 4 b) Bei Ingenieurbauwerken: Erfassen von normalen Bauzuständen | D41: 29 | G41: =$G$33*(D41/100) -> 51822.272 | H41: EUR
B42: Stufe 2
B43: 5 | C43: Ausführungsplanung | D43: 40 | G43: =$G$33*(D43/100) -> 71478.996 | H43: EUR
B44: Stufe 3
B45: 6 | C45: Vorbereitung der Vergabe, ohne Anlage 14.1 LPH 6 b) Überschlägiges Ermitteln der Mengen der konstruktiven Stahlteile und statisch erforderlichen Verbindungs- und Befestigungsmittel im Ingenieurholzbau. | D45: 1.5 | G45: =$G$33*(D45/100) -> 2680.4623 | H45: EUR
B46: I: Honorar Grundleistungen (ohne NK) | D46: =SUM(D38:D45) -> 98.5 | G46: =SUM(G38:G45) -> 176017.03 | H46: EUR
B47: II | C47: Besondere Leistungen
B48: Lph 1 | C48: Unterstützung und Bewertung der Hochbauplanung bei vertiefter baulicher Bestandsaufnahme und Bewertung der Gebäude auch mit angrenzenden Kellerbereichen, Kabelkanälen, Öffnungen und Anbindungen an den Bestand | D48: optional | E48: psch | G48: 0 | H48: EUR
B49: Lph 1 | C49: Unterstützung und Bewertung der bestehenden Gebäudestrukturen, insbesondere der bautechnischen Eigenschaften, Koordination und Bewertung notwendiger Schadstoffuntersuchungen und bautechnischen Messungen | G49: 0 | H49: EUR
B50: Lph 1 | C50: Abstimmung und Beratung inkl. Ortsterminen mit Betreibern und fachlich Beteiligten | G50: 0 | H50: EUR
B51: Lph 2 | C51: Aufstellen von Vergleichsberechnungen für mehrere Lösungsmöglichkeiten unter verschiedenen Objektbedingungen | G51: 0 | H51: EUR
B52: Lph 2 | C52: Aufstellen eines Lastenplans, zum Beispiel als Grundlage für die Baugrundbeurteilung und Gründungsberatung | G52: 0 | H52: EUR
B53: Lph 2 | C53: Vorläufige nachprüfbare Berechnung wesentlicher tragender Teile | G53: 0 | H53: EUR
B54: Lph 2 | C54: Vorläufige nachprüfbare Berechnung der Gründung | G54: 0 | H54: EUR
B55: Lph 3 | C55: Vorgezogene, prüfbare und für die Ausführung geeignete Berechnung wesentlich tragender Teile | G55: 0 | H55: EUR
...
