Workbook
Name _ftn1: 'Epk Aufschläge'!#REF!
Name _ftnref1: 'Epk Aufschläge'!#REF!
Name SuA_Art: #REF!
Name SuA_Art: #REF!
Name SuA_Art: #REF!
Name SuA_Masseiheit: #REF!
Name SuA_Masseiheit: #REF!

Sheet Deckblatt
B7: Menge und Preisspiegel
B8: Anlage 4
B9: über
B10: DGUV V4 Prüfung ortsveränderliche elektrische Betriebsmittel
B12: Vergabenummer
B13: TEK2604026
B14: zwischen
B15: Vivantes - Netzwerk für Gesundheit GmbH
B16: Aroser Allee 72-76
B17: 13407 Berlin
B18: - nachfolgend als Auftraggeber (AG) bezeichnet –
B20: und
... B24: - nachfolgend als Auftragnehmer (AN) bezeichnet –
B26: Kontakt Name: | C26: xname
B27: Telefon | C27: xtelefon
B28: Basiert auf Musterversion | C28: 2.0
B29: gültig ab | C29: 46419
B30: ersetzt Dokument vom | C30: Erstausstellung
B31: gültig bis | C31: 47879
B32: Vergabeart | C32: Offenes Verfahren (EU weit)
A35: Achtung: Diese Tabelle enthält Macros. Beim Öffnen müssen für eine saubere Funktion Macros zugelassen werden. Auf gar keinen Fall dürfen auf denSeiten Deckblatt und Unterschrift, sowie in allen Kopfzeilen bis Zeile 5 Änderungen die zu Zellverschiebungen führen vorgenommen werden. Die Daten in den Kopfzeilen und im Unterschriftenblatt werden automatisch gefüllt. Hier ist nichts zu Ändern....

Sheet Preisspiegel
A1: Preisspiegel nach Losen
B4: Leistung | C4: =Deckblatt!B10 -> DGUV V4 Prüfung ortsveränderliche elektrische Betriebsmittel | I4: gültig ab | J4: =Deckblatt!C29 -> 46419
I5: ersetzt Dokument vom | J5: =Deckblatt!C30 -> Erstausstellung
B6: Vergabenr. | C6: =Deckblatt!B13 -> TEK2604026 | I6: gültig bis | J6: =Deckblatt!C31 -> 47879
B8: Partner | C8: Firmenname | D8: =Deckblatt!B21 -> cde
C9: Straße | D9: =Deckblatt!B22 -> xstraße
C10: PLZ, Ort | D10: =Deckblatt!B23 -> xort
B11: Kontakt | C11: Name | D11: =Deckblatt!C26 -> xname
C12: Telefon | D12: =Deckblatt!C27 -> xtelefon
A15: Prüfung der ortsveränderlichen elektrischen Betriebsmittel (Prüfung erfogt jährlich)
A17: Los Nr. | B17: Bezeichnung/Übersicht Lose | C17: Menge | D17: Einzelpreis(netto) in € | E17: Gesamtpreis p.a. (netto) in € | F17: Gesamtpreis Über 4 Jahre Laufzeit (netto) in €
A18: 1 | B18: KNK, IWK, BBG, div.Nebenstandorte | C18: 34731 | D18: 0 | E18: =D18*C18 -> 0 | F18: =E18*4 -> 0
A19: 2 | B19: WBK | C19: 8712 | D19: 0 | E19: =D19*C19 -> 0 | F19: =E19*4 -> 0
A20: 3 | B20: KFH | C20: 25900 | D20: 0 | E20: =D20*C20 -> 0 | F20: =E20*4 -> 0
A21: 4 | B21: AVK | C21: 16324 | D21: 0 | E21: =D21*C21 -> 0 | F21: =E21*4 -> 0
A22: 5 | B22: HUK | C22: 12892 | D22: 0 | E22: =D22*C22 -> 0 | F22: =E22*4 -> 0
A23: 6 | B23: KSP | C23: 14045 | D23: 0 | E23: =D23*C23 -> 0 | F23: =E23*4 -> 0
A24: 7 | B24: KHD | C24: 8792 | D24: 0 | E24: =D24*C24 -> 0 | F24: =E24*4 -> 0
A25: 8 | B25: KAU | C25: 12931 | D25: 0 | E25: =D25*C25 -> 0 | F25: =E25*4 -> 0
A26: 9 | B26: GAR | C26: 500 | D26: 0 | E26: =D26*C26 -> 0 | F26: =E26*4 -> 0
A27: 10 | B27: ARO | C27: 10920 | D27: 0 | E27: =D27*C27 -> 0 | F27: =E27*4 -> 0
A28: 11 | B28: BBG (Nord und Mitte) | C28: =1771+2590 -> 4361 | D28: 0 | E28: =D28*C28 -> 0 | F28: =E28*4 -> 0
B29: Gesamtpreis, Netto: EUR | E29: =SUM(E18:E28) -> 0 | F29: =SUM(F18:F28) -> 0 | G29: <-- ist in Angebotschreiben zu übertragen
B30: zzgl. MwSt. (19,0 %): EUR | E30: =E29*0.19 -> 0 | F30: =F29*0.19 -> 0
B31: Gesamtpreis, Brutto: EUR | E31: =E29*1.19 -> 0 | F31: =F29*1.19 -> 0

Sheet Epk SVS
A1: Einheitspreiskatalog: Einheitspreise Stundensätze | B1: ="Einheitspreiskatalog, Blatt: " & MID(CELL("Dateiname",B1),FIND("]",CELL("Dateiname",B1))+1,31) -> Einheitspreiskatalog, Blatt: Epk SVS | C1: ="Einheitspreiskatalog, Blatt: " & MID(CELL("Dateiname",C1),FIND("]",CELL("Dateiname",C1))+1,31) -> Einheitspreiskatalog, Blatt: Epk SVS | D1: ="Einheitspreiskatalog, Blatt: " & MID(CELL("Dateiname",D1),FIND("]",CELL("Dateiname",D1))+1,31) -> Einheitspreiskatalog, Blatt: Epk SVS | E1: ="Einheitspreiskatalog, Blatt: " & MID(CELL("Dateiname",E1),FIND("]",CELL("Dateiname",E1))+1,31) -> Einheitspreiskatalog, Blatt: Epk SVS | F1: ="Einheitspreiskatalog, Blatt: " & MID(CELL("Dateiname",F1),FIND("]",CELL("Dateiname",F1))+1,31) -> Einheitspreiskatalog, Blatt: Epk SVS
A4: Leistung | B4: =Deckblatt!B10 -> DGUV V4 Prüfung ortsveränderliche elektrische Betriebsmittel | E4: gültig ab | F4: =Deckblatt!C29 -> 46419
E5: ersetzt Dokument vom | F5: =Deckblatt!C30 -> Erstausstellung
A6: Vergabenr. | B6: =Deckblatt!B13 -> TEK2604026 | E6: gültig bis | F6: =Deckblatt!C31 -> 47879
A8: Partner | B8: Firmenname | C8: =Deckblatt!B21 -> cde
B9: Straße | C9: =Deckblatt!B22 -> xstraße
B10: PLZ, Ort | C10: =Deckblatt!B23 -> xort
A11: Kontakt | B11: Name | C11: =Deckblatt!C26 -> xname
B12: Telefon | C12: =Deckblatt!C27 -> xtelefon
A14: Nr. | B14: Leistung Vorlaufzeit 1 Werktag, sofern in der Position nichts anderes vereinbart ist. Bei besonderen Anforderungen (Umfang, Dauer) kann eine längerer Vorlaufzeit erforderlich sein, die einvermehmlich zwischen AG und AN abzustimmen ist | D14: Basis-menge der jew. Einheit | E14: Maß-einheit | F14: Basispreis netto
B15: Standort | C15: Kurzbeschreibung
A16: Arbeiten, welche nicht in den Positionen erfasst sind und gegen Nachweis zur Ausführung kommen.
A17: 1 | B17: Alle | C17: Vorarbeiter | D17: 1 | E17: Std. | F17: 0
A18: 2 | B18: Alle | C18: Facharbeiter | D18: 1 | E18: Std. | F18: 0
A19: 3 | B19: Alle | C19: Helfer | D19: 1 | E19: Std. | F19: 0
A20: 4 | B20: Alle | C20: Projektleiter (Tagessatz für 8 Std.) | D20: 1 | E20: Tag | F20: 0

Sheet Epk Aufschläge
A1: Einheitspreiskatalog: Rabatte und Aufschläge
A4: Leistung | B4: =Deckblatt!B10 -> DGUV V4 Prüfung ortsveränderliche elektrische Betriebsmittel | D4: gültig ab | E4: =Deckblatt!C29 -> 46419
D5: ersetzt Dokument vom | E5: =Deckblatt!C30 -> Erstausstellung
A6: Vergabenr. | B6: =Deckblatt!B13 -> TEK2604026 | D6: gültig bis | E6: =Deckblatt!C31 -> 47879
A8: Partner | B8: Firmenname | C8: =Deckblatt!B21 -> cde
B9: Straße | C9: =Deckblatt!B22 -> xstraße
B10: PLZ, Ort | C10: =Deckblatt!B23 -> xort
A11: Kontakt | B11: Name | C11: =Deckblatt!C26 -> xname
B12: Telefon | C12: =Deckblatt!C27 -> xtelefon
A14: Nr. | B14: Leistung | D14: Maß-einheit | E14: auf Nettopreis der jew. Position
B15: Standort | C15: Kurzbeschreibung
A16: Aufschlag besondere Zeiten
A17: 1 | B17: Alle | C17: Zuschlag Nachtarbeit ab 20:00 Uhr bis 24:00 Uhr | D17: % | E17: 0
A18: 2 | B18: Alle | C18: Zuschlag Nachtarbeit ab 24:00 Uhr bis 04:00 Uhr | D18: % | E18: 0
A19: 3 | B19: Alle | C19: Zuschlag Nachtarbeit ab 04:00 Uhr bis 06:00 Uhr | D19: % | E19: 0
A20: 4 | B20: Alle | C20: Zuschlag Sonntagsarbeit | D20: % | E20: 0
A21: 5 | B21: Alle | C21: Zuschlag Arbeiten an gesetzlichen Feiertagen | D21: % | E21: 0

Sheet Standortübersicht
B1: Standorte | E1: =Deckblatt!B13 -> TEK2604026
B3: Los | C3: Region | D3: Kürzel | E3: Kliniken/Standort | F3: Adresse | H3: Ansprechpartner vor Ort
F4: Strasse | G4: PLZ, Ort | H4: Name | I4: Telefon | J4: Fax | K4: E-Mail
B5: 1 | C5: Ost | D5: KFH | E5: Klinikum im Friedrichshain | F5: Landsberger Allee 49 | G5: 10249 Berlin | H5: Thomas Harder | I5: (030) 130 231336 | J5: (030) 130 232030 | K5: thomas.harder@vivantes.de
D6: KHD | E6: Klinikum Kaulsdorf | F6: Myslowitzer Str. 45 | G6: 12621 Berlin | H6: Sebastian Kemmer | I6: (030) 130 172891 | J6: (030) 130 172892 | K6: sebastian.kemmer@vivantes.de
B7: 2 | C7: Nord | D7: ARO | E7: Aroser Allee | F7: Aroser Allee 72 | G7: 13407 Berlin | H7: Nicole Dornbusch | I7: (030) 130 115228 | J7: (030) 130 115372 | K7: Nicole.Dornbusch@vivantes.de
D8: HUK | E8: Humboldt-Klinikum | F8: Am Nordgraben 2 | G8: 13509 Berlin | H8: Christian Klimmek | I8: (030) 130 121530 | J8: (030) 130 121532 | K8: christian.klimmek@vivantes.de
D9: GAR | E9: Logostikzentrum | F9: Gartenfelder Staße 37 | G9: 13599 Berlin | H9: Nicole Dornbusch | I9: (030) 130 115228 | J9: (030) 130 115372 | K9: Nicole.Dornbusch@vivantes.de
D10: KSP | E10: Klinikum Spandau | F10: Neue Bergstraße 6 | G10: 13585 Berlin | H10: Renè Strache | I10: (030) 130 131400 | J10: (030) 130 131404 | K10: rene.strache@vivantes.de
D11: BBG | E11: Berliner Bildungscampus für Gesundheitsberufe gGmbH | F11: Waldstraße 86-90 | G11: 13403 Berlin | H11: Kerstin Schulz | I11: (030) 450 576 181 | K11: kerstin.schulz@bildungscampus-berlin.de
B12: 3 | C12: Süd/West | D12: AVK | E12: Auguste-Viktoria-Klinikum | F12: Rubensstraße 125 | G12: 12157 Berlin | H12: Nicolai van de Bergh | I12: (030) 130 130 202202 | J12: (030) 130 202244 | K12: nicolai.vandebergh@vivantes.de
D13: IWK | E13: Ida-Wolf-Krankenhaus | F13: Juchaczweg 21 | G13: 12351 Berlin | H13: Lindenau Stefan | I13: (030) 130 142130 | J13: (030) 131 143599 | K13: Stefan.Lindenau@vivantes.de
D14: KAU | E14: Klinikum Am Urban | F14: Dieffenbachstraße 1 | G14: 10967 Berlin | H14: Christioph Radola | I14: (+49) 151 16318819 | J14: (030) 130 224024 | K14: Christoph.Radola@vivantes.de
D15: KNK | E15: Klinikum Neukölln | F15: Rudower Straße 48 | G15: 12351 Berlin | H15: Lindenau Stefan | I15: (030) 130 142130 | J15: (030) 131 143599 | K15: Stefan.Lindenau@vivantes.de
D16: KNK-RIE | E16: Tagesklinik Riesestraße | F16: Riesestr. 1 | G16: 12347 Berlin | H16: Lindenau Stefan | I16: (030) 130 142130 | J16: (030) 131 143599 | K16: Stefan.Lindenau@vivantes.de
D17: KNK-EMS | E17: Tagesklinik Emser Straße | F17: Emser Str. 31 | G17: 12051 Berlin | H17: Lindenau Stefan | I17: (030) 130 142130 | J17: (030) 131 143599 | K17: Stefan.Lindenau@vivantes.de
D18: KNK-SON | E18: Tagesklinik Sonnenallee | F18: Sonnenallee 47 | G18: 12045 Berlin | H18: Lindenau Stefan | I18: (030) 130 142130 | J18: (030) 131 143599 | K18: Stefan.Lindenau@vivantes.de
D19: KNK-WUH | E19: Tagesklinik An der Wuhlheide | F19: An der Wuhlheide 232 A | G19: 12459 Berlin | H19: Lindenau Stefan | I19: (030) 130 142130 | J19: (030) 131 143599 | K19: Stefan.Lindenau@vivantes.de
D20: KNK-VZ2 | E20: Versorgungszentrum II | F20: Buschkrugallee 21-33 | G20: 12359 Berlin | H20: Lindenau Stefan | I20: (030) 130 142130 | J20: (030) 131 143599 | K20: Stefan.Lindenau@vivantes.de
D21: KNK-BKA | E21: Archiv | F21: Buschkrugallee 21-33 | G21: 12359 Berlin | H21: Lindenau Stefan | I21: (030) 130 142130 | J21: (030) 131 143599 | K21: Stefan.Lindenau@vivantes.de
D22: KNK-NUR | E22: Interimsapotheke | F22: Nunsdorfer Ring 22b | G22: 12277 Berlin | H22: Lindenau Stefan | I22: (030) 130 142130 | J22: (030) 131 143599 | K22: Stefan.Lindenau@vivantes.de
D23: KNK-MVZ-ADL | E23: MVZ Adlershof | F23: Justus-von-Liebig Str. 7 | G23: 12489 Berlin | H23: Lindenau Stefan | I23: (030) 130 142130 | J23: (030) 131 143599 | K23: Stefan.Lindenau@vivantes.de
D24: WBK | E24: Vivantes Wenckebach-Klinikum | F24: Wenckebachstraße 23 | G24: 12099 Berlin | H24: Nicolai van de Bergh | I24: (030) 130 130 202202 | J24: (030) 130 202244 | K24: nicolai.vandebergh@vivantes.de
B25: 4 | C25: FFS - Forum für Senioren | D25: HTE | E25: Haus Teichstrasse | F25: Teichstraße 44 | G25: 13407 Berlin | H25: Marion Voigt | I25: (030) 417 275 2513 | J25: (030) 417 275 2504 | K25: marion.voigt@vivantes.de
D26: HSO | E26: Haus Sommerstrasse | F26: Sommerstraße 25 c | G26: 13409 Berlin | H26: Heike Sporkhorst | I26: (030) 497 690 325 67 | J26: (030) 497 690 325 80 | K26: heike.sporkhorst@vivantes.de
D27: HJK | E27: Haus John F. Kennedy | F27: Alt-Wittenau 90 - 90a | G27: 13437 Berlin | H27: Heike Sporkhorst | I27: (030) 322 926 401 | J27: (030) 322 926 491 | K27: heike.sporkhorst@vivantes.de
D28: HJH | E28: Haus Jungfernheide | F28: Schweiggerweg 2-12 | G28: 13627 Berlin | H28: Jakob Schlegel | I28: (030) 367 023 301 03 | J28: (030) 367 023 301 09 | K28: Jakob.Schlegel2@vivantes.de
D29: HSE | E29: Haus Seebrücke | F29: Am Maselakepark 20 | G29: 13587 Berlin | H29: Antje Stschepin-Lohfing | I29: (030) 550 051 153 | J29: (030) 550 051 183 | K29: antje.stschepin-lohfing@vivantes.de
D30: HEH | E30: Haus Ernst Hoppe | F30: Lanzendorfer Weg 30 | G30: 14089 Berlin | H30: Hans-Jürgen Duske | I30: (030) 365-05451 | J30: (030) 365 05 47 | K30: hans-juergen.duske@vivantes.de
D31: HHK | E31: Haus Dr. Herrmann Kantorowicz | F31: Schönwalder Str. 50-52 | G31: 13585 Berlin | H31: Hans-Jürgen Duske | I31: (030) 355 300 70 | J31: (030) 355 300 77 | K31: hans-juergen.duske@vivantes.de
D32: HWD | E32: Haus Wilmersdorf | F32: Berkaer Str. 31-35 | G32: 14199 Berlin | H32: Jakob Riedel | I32: (030) 832 242 201 | J32: (030) 832 242 230 | K32: jakob.riedel@vivantes.de
D33: HLE | E33: Haus Leonore | F33: Leonorenstraße 17 - 33 | G33: 12247 Berlin | H33: Zinka Malkwitz | I33: (030) 77 93 306 | J33: (030) 77 93 300 | K33: zinka.malkwitz@vivantes.de
D34: HIW | E34: Haus Ida Wolff | F34: Juchaczweg 21 | G34: 12351 Berlin | H34: Torsten Pestner | I34: (030) 130 149 800 | J34: (030) 130 149 809 | K34: torsten.pestner@vivantes.de
D35: HWE | E35: Haus Weidenweg | F35: Weidenweg 42 | G35: 10249 Berlin | H35: Carolin Utech | I35: (030) 422 035 13 | J35: (030) 422 035 48 | K35: carolin.utech@vivantes.de
D36: HJZ | E36: Haus Jahreszeiten | F36: Büschingstraße 29 | G36: 10249 Berlin | H36: André Schwarzbach | I36: (030) 847 119 124 | J36: (030) 847 119 141 | K36: andre.schwarzbach@vivantes.de
D37: HFP | E37: Haus Franckepark | F37: Götzstraße 20a | G37: 12099 Berlin | H37: Zinka Malkwitz | I37: (030) 757 748 1602 | J37: (030) 757 748 1699 | K37: gueler.ates@vivantes.de
... D42: HRK | E42: Haus Rhinstraße Kurzzeitpflege | F42: Rhinstraße 105 | G42: 10315 Berlin | H42: Sandra Ebner | I42: (030) 319 89 17 10 | J42: (030) 319 89 17 11 | K42: sandra.ebner@vivantes.de
D43: KWB | E43: Haus Wenckebach Kurzzeitpflege | F43: Wenckebachstraße 23 | G43: 12099 Berlin | H43: Michelle Apwisch | I43: 0151-53854951 | K43: michelle.apwisch@vivantes.de
D44: KIW | E44: Haus Ida Wolff Kurzzeitpflege am Standort Klinikum Neukölln / Haus 30, Station 33 | F44: Rudower Straße 48 | G44: 12351 Berlin | H44: Judith Hanisch | I44: (030) 130 14 9887 | J44: (030) 130 14 9991 | K44: judith.hanisch@vivantes.de
D45: GJF | E45: Haus John F. Kennedy Gerontopsychiatrie | F45: Alt-Wittenau 90 - 90a | G45: 13437 Berlin | H45: Heike Sporkhorst | I45: (030) 322 926 401 | J45: (030) 322 926 491 | K45: heike.sporkhorst@vivantes.de
...
