Workbook
Name SuA_Art: #REF!
Name SuA_Masseiheit: #REF!

Sheet Deckblatt
B7: Menge und Preisspiegel
B8: Anlage 4
B9: über
B10: DGUV V4 Prüfung ortsfester elektrische Anlagen
B12: Vergabenummer
B13: TEK2608046
B14: zwischen
B15: Vivantes - Netzwerk für Gesundheit GmbH
B16: Aroser Allee 72-76
B17: 13407 Berlin
B18: - nachfolgend als Auftraggeber (AG) bezeichnet –
B20: und
... B24: - nachfolgend als Auftragnehmer (AN) bezeichnet –
B26: Kontakt Name: | C26: xname
B27: Telefon | C27: xtelefon
B28: Basiert auf Musterversion | C28: 2.0
B29: gültig ab | C29: 46419
B30: ersetzt Dokument vom | C30: Erstausstellung
B31: gültig bis | C31: 47879
B32: Vergabeart | C32: Offenes Verfahren (EU weit)
A35: Achtung: Diese Tabelle enthält Macros. Beim Öffnen müssen für eine saubere Funktion Macros zugelassen werden. Auf gar keinen Fall dürfen auf denSeiten Deckblatt und Unterschrift, sowie in allen Kopfzeilen bis Zeile 5 Änderungen die zu Zellverschiebungen führen vorgenommen werden. Die Daten in den Kopfzeilen und im Unterschriftenblatt werden automatisch gefüllt. Hier ist nichts zu Ändern....

Sheet Preisspiegel Los 1
A1: Preisspiegel nach Losen
B4: Leistung | C4: =Deckblatt!B10 -> DGUV V4 Prüfung ortsfester elektrische Anlagen | I4: gültig ab | J4: =Deckblatt!C29 -> 46419
I5: ersetzt Dokument vom | J5: =Deckblatt!C30 -> Erstausstellung
B6: Vergabenr. | C6: =Deckblatt!B13 -> TEK2608046 | I6: gültig bis | J6: =Deckblatt!C31 -> 47879
B8: Partner | C8: Firmenname | D8: =Deckblatt!B21 -> cde
C9: Straße | D9: =Deckblatt!B22 -> xstraße
C10: PLZ, Ort | D10: =Deckblatt!B23 -> xort
B11: Kontakt | C11: Name | D11: =Deckblatt!C26 -> xname
C12: Telefon | D12: =Deckblatt!C27 -> xtelefon
A14: Los 1 - Preisblatt
A15: Prüfung der ortsfesten elektrischen Anlagen (Prüfung erfolgt alle 36 Monate)
A17: Pos. | B17: Standort | C17: Menge | D17: Einzelpreis(netto) in € | E17: Gesamtpreis pro Prüfung (netto) in € (Verteilung kann in den einzelnen Jahren variieren) | F17: Gesamtpreis für 2 Prüfungen in über 4 Jahre Laufzeit (netto) in €
A18: 1 | B18: Anlagen/ Verteilungen KFH | C18: 579 | D18: 0 | E18: =D18*C18 -> 0 | F18: =E18*2 -> 0
A19: 2 | B19: Anlagen/ Verteilungen KHD | C19: 193 | D19: 0 | E19: =D19*C19 -> 0 | F19: =E19*2 -> 0
B20: Gesamtpreis, Netto: EUR | E20: =SUM(E18:E19) -> 0 | F20: =SUM(F18:F19) -> 0 | G20: <-- ist in Angebotschreiben zu übertragen
B21: zzgl. MwSt. (19,0 %): EUR | E21: =E20*0.19 -> 0 | F21: =F20*0.19 -> 0
B22: Gesamtpreis, Brutto: EUR | E22: =E20*1.19 -> 0 | F22: =F20*1.19 -> 0

Sheet Preisspiegel Los 2
A1: Preisspiegel nach Losen
B4: Leistung | C4: =Deckblatt!B10 -> DGUV V4 Prüfung ortsfester elektrische Anlagen | I4: gültig ab | J4: =Deckblatt!C29 -> 46419
I5: ersetzt Dokument vom | J5: =Deckblatt!C30 -> Erstausstellung
B6: Vergabenr. | C6: =Deckblatt!B13 -> TEK2608046 | I6: gültig bis | J6: =Deckblatt!C31 -> 47879
B8: Partner | C8: Firmenname | D8: =Deckblatt!B21 -> cde
C9: Straße | D9: =Deckblatt!B22 -> xstraße
C10: PLZ, Ort | D10: =Deckblatt!B23 -> xort
B11: Kontakt | C11: Name | D11: =Deckblatt!C26 -> xname
C12: Telefon | D12: =Deckblatt!C27 -> xtelefon
A14: Los 2 - Preisblatt
A15: Prüfung der ortsfesten elektrischen Anlagen (Prüfung erfolgt alle 36 Monate)
A17: Pos. | B17: Standort | C17: Menge | D17: Einzelpreis(netto) in € | E17: Gesamtpreis pro Prüfung (netto) in € (Verteilung kann in den einzelnen Jahren variieren) | F17: Gesamtpreis für 2 Prüfungen in über 4 Jahre Laufzeit (netto) in €
A18: 1 | B18: Anlagen/ Verteilungen HUK | C18: 273 | D18: 0 | E18: =D18*C18 -> 0 | F18: =E18*2 -> 0
A19: 2 | B19: Anlagen/ Verteilungen KSP | C19: 234 | D19: 0 | E19: =D19*C19 -> 0 | F19: =E19*2 -> 0
A20: 3 | B20: Anlagen/ Verteilungen GAR | C20: 31 | D20: 0 | E20: =D20*C20 -> 0 | F20: =E20*2 -> 0
B21: Gesamtpreis, Netto: EUR | E21: =SUM(E18:E20) -> 0 | F21: =SUM(F18:F20) -> 0 | G21: <-- ist in Angebotschreiben zu übertragen
B22: zzgl. MwSt. (19,0 %): EUR | E22: =E21*0.19 -> 0 | F22: =F21*0.19 -> 0
B23: Gesamtpreis, Brutto: EUR | E23: =E21*1.19 -> 0 | F23: =F21*1.19 -> 0

Sheet Preisspiegel Los 3
A1: Preisspiegel nach Losen
B4: Leistung | C4: =Deckblatt!B10 -> DGUV V4 Prüfung ortsfester elektrische Anlagen | I4: gültig ab | J4: =Deckblatt!C29 -> 46419
I5: ersetzt Dokument vom | J5: =Deckblatt!C30 -> Erstausstellung
B6: Vergabenr. | C6: =Deckblatt!B13 -> TEK2608046 | I6: gültig bis | J6: =Deckblatt!C31 -> 47879
B8: Partner | C8: Firmenname | D8: =Deckblatt!B21 -> cde
C9: Straße | D9: =Deckblatt!B22 -> xstraße
C10: PLZ, Ort | D10: =Deckblatt!B23 -> xort
B11: Kontakt | C11: Name | D11: =Deckblatt!C26 -> xname
C12: Telefon | D12: =Deckblatt!C27 -> xtelefon
A14: Los 3 - Preisblatt
A15: Prüfung der ortsfesten elektrischen Anlagen (Prüfung erfolgt alle 36 Monate)
A17: Pos. | B17: Standort | C17: Menge | D17: Einzelpreis(netto) in € | E17: Gesamtpreis pro Prüfung (netto) in € (Verteilung kann in den einzelnen Jahren variieren) | F17: Gesamtpreis für 2 Prüfungen in über 4 Jahre Laufzeit (netto) in €
A18: 1 | B18: Anlagen/ Verteilungen WBK | C18: 273 | D18: 0 | E18: =D18*C18 -> 0 | F18: =E18*2 -> 0
A19: 2 | B19: Anlagen/ Verteilungen AVK | C19: 345 | D19: 0 | E19: =D19*C19 -> 0 | F19: =E19*2 -> 0
A20: 3 | B20: Anlagen/ Verteilungen KAU | C20: 248 | D20: 0 | E20: =D20*C20 -> 0 | F20: =E20*2 -> 0
B21: Gesamtpreis, Netto: EUR | E21: =SUM(E18:E20) -> 0 | F21: =SUM(F18:F20) -> 0 | G21: <-- ist in Angebotschreiben zu übertragen
B22: zzgl. MwSt. (19,0 %): EUR | E22: =E21*0.19 -> 0 | F22: =F21*0.19 -> 0
B23: Gesamtpreis, Brutto: EUR | E23: =E21*1.19 -> 0 | F23: =F21*1.19 -> 0

Sheet Preisspiegel Los 4
A1: Preisspiegel nach Losen
B4: Leistung | C4: =Deckblatt!B10 -> DGUV V4 Prüfung ortsfester elektrische Anlagen | I4: gültig ab | J4: =Deckblatt!C29 -> 46419
I5: ersetzt Dokument vom | J5: =Deckblatt!C30 -> Erstausstellung
B6: Vergabenr. | C6: =Deckblatt!B13 -> TEK2608046 | I6: gültig bis | J6: =Deckblatt!C31 -> 47879
B8: Partner | C8: Firmenname | D8: =Deckblatt!B21 -> cde
C9: Straße | D9: =Deckblatt!B22 -> xstraße
C10: PLZ, Ort | D10: =Deckblatt!B23 -> xort
B11: Kontakt | C11: Name | D11: =Deckblatt!C26 -> xname
C12: Telefon | D12: =Deckblatt!C27 -> xtelefon
A14: Los 4 - Preisblatt
A15: Prüfung der ortsfesten elektrischen Anlagen (Prüfung erfolgt alle 36 Monate)
A17: Pos. | B17: Standort | C17: Menge | D17: Einzelpreis(netto) in € | E17: Gesamtpreis pro Prüfung (netto) in € (Verteilung kann in den einzelnen Jahren variieren) | F17: Gesamtpreis für 2 Prüfungen in über 4 Jahre Laufzeit (netto) in €
A18: 1 | B18: Anlagen/ Verteilungen KNK und IWK | C18: 1150 | D18: 0 | E18: =D18*C18 -> 0 | F18: =E18*2 -> 0
B19: Gesamtpreis, Netto: EUR | E19: =SUM(E18:E18) -> 0 | F19: =SUM(F18:F18) -> 0 | G19: <-- ist in Angebotschreiben zu übertragen
B20: zzgl. MwSt. (19,0 %): EUR | E20: =E19*0.19 -> 0 | F20: =F19*0.19 -> 0
B21: Gesamtpreis, Brutto: EUR | E21: =E19*1.19 -> 0 | F21: =F19*1.19 -> 0

Sheet Preisspiegel Los 5
A1: Preisspiegel nach Losen
B4: Leistung | C4: =Deckblatt!B10 -> DGUV V4 Prüfung ortsfester elektrische Anlagen | I4: gültig ab | J4: =Deckblatt!C29 -> 46419
I5: ersetzt Dokument vom | J5: =Deckblatt!C30 -> Erstausstellung
B6: Vergabenr. | C6: =Deckblatt!B13 -> TEK2608046 | I6: gültig bis | J6: =Deckblatt!C31 -> 47879
B8: Partner | C8: Firmenname | D8: =Deckblatt!B21 -> cde
C9: Straße | D9: =Deckblatt!B22 -> xstraße
C10: PLZ, Ort | D10: =Deckblatt!B23 -> xort
B11: Kontakt | C11: Name | D11: =Deckblatt!C26 -> xname
C12: Telefon | D12: =Deckblatt!C27 -> xtelefon
A14: Los 5 - Preisblatt
A15: Prüfung der ortsfesten elektrischen Anlagen in medizinisch genutzten Bereichen nach DIN VDE 0100-710 IT-Netze (Intensivstation) (Prüfung erfogt alle 12 Monate)
A17: Pos. | B17: Beschreibung | C17: Menge | D17: Einzelpreis(netto) in € | E17: Gesamtpreis pro Prüfung/Jahr (netto) in € | F17: Gesamtpreis für 4 Jahre Laufzeit (netto) in €
A18: 1 | B18: Anlagen/ Verteilungen KNK und IWK | C18: 140 | D18: 0 | E18: =D18*C18 -> 0 | F18: =E18*4 -> 0
A19: 2 | B19: Anlagen/ Verteilungen WBK | C19: 36 | D19: 0 | E19: =D19*C19 -> 0 | F19: =E19*4 -> 0
A20: 3 | B20: Anlagen/ Verteilungen KFH | C20: 65 | D20: 0 | E20: =D20*C20 -> 0 | F20: =E20*4 -> 0
A21: 4 | B21: Anlagen/ Verteilungen AVK | C21: 34 | D21: 0 | E21: =D21*C21 -> 0 | F21: =E21*4 -> 0
A22: 5 | B22: Anlagen/ Verteilungen HUK | C22: 21 | D22: 0 | E22: =D22*C22 -> 0 | F22: =E22*4 -> 0
A23: 6 | B23: Anlagen/ Verteilungen KSP | C23: 24 | D23: 0 | E23: =D23*C23 -> 0 | F23: =E23*4 -> 0
A24: 7 | B24: Anlagen/ Verteilungen KHD | C24: 12 | D24: 0 | E24: =D24*C24 -> 0 | F24: =E24*4 -> 0
A25: 8 | B25: Anlagen/ Verteilungen KAU | C25: 25 | D25: 0 | E25: =D25*C25 -> 0 | F25: =E25*4 -> 0
B26: Gesamtpreis, Netto: EUR | E26: =SUM(E18:E25) -> 0 | F26: =SUM(F18:F25) -> 0 | G26: <-- ist in Angebotschreiben zu übertragen
B27: zzgl. MwSt. (19,0 %): EUR | E27: =E26*0.19 -> 0 | F27: =F26*0.19 -> 0
B28: Gesamtpreis, Brutto: EUR | E28: =E26*1.19 -> 0 | F28: =F26*1.19 -> 0

Sheet Epk SVS
A1: Einheitspreiskatalog: Einheitspreise Stundensätze | B1: ="Einheitspreiskatalog, Blatt: " & MID(CELL("Dateiname",B1),FIND("]",CELL("Dateiname",B1))+1,31) -> Einheitspreiskatalog, Blatt: Epk SVS | C1: ="Einheitspreiskatalog, Blatt: " & MID(CELL("Dateiname",C1),FIND("]",CELL("Dateiname",C1))+1,31) -> Einheitspreiskatalog, Blatt: Epk SVS | D1: ="Einheitspreiskatalog, Blatt: " & MID(CELL("Dateiname",D1),FIND("]",CELL("Dateiname",D1))+1,31) -> Einheitspreiskatalog, Blatt: Epk SVS | E1: ="Einheitspreiskatalog, Blatt: " & MID(CELL("Dateiname",E1),FIND("]",CELL("Dateiname",E1))+1,31) -> Einheitspreiskatalog, Blatt: Epk SVS | F1: ="Einheitspreiskatalog, Blatt: " & MID(CELL("Dateiname",F1),FIND("]",CELL("Dateiname",F1))+1,31) -> Einheitspreiskatalog, Blatt: Epk SVS
A4: Leistung | B4: =Deckblatt!B10 -> DGUV V4 Prüfung ortsfester elektrische Anlagen | E4: gültig ab | F4: =Deckblatt!C29 -> 46419
E5: ersetzt Dokument vom | F5: =Deckblatt!C30 -> Erstausstellung
A6: Vergabenr. | B6: =Deckblatt!B13 -> TEK2608046 | E6: gültig bis | F6: =Deckblatt!C31 -> 47879
A8: Partner | B8: Firmenname | C8: =Deckblatt!B21 -> cde
B9: Straße | C9: =Deckblatt!B22 -> xstraße
B10: PLZ, Ort | C10: =Deckblatt!B23 -> xort
A11: Kontakt | B11: Name | C11: =Deckblatt!C26 -> xname
B12: Telefon | C12: =Deckblatt!C27 -> xtelefon
A14: Nr. | B14: Leistung Vorlaufzeit 1 Werktag, sofern in der Position nichts anderes vereinbart ist. Bei besonderen Anforderungen (Umfang, Dauer) kann eine längerer Vorlaufzeit erforderlich sein, die einvermehmlich zwischen AG und AN abzustimmen ist | D14: Basis-menge der jew. Einheit | E14: Maß-einheit | F14: Basispreis netto
B15: Standort | C15: Kurzbeschreibung
A16: Arbeiten, welche nicht in den Positionen erfasst sind und gegen Nachweis zur Ausführung kommen.
A17: 1 | B17: Alle | C17: Vorarbeiter | D17: 1 | E17: Std. | F17: 0
A18: 2 | B18: Alle | C18: Facharbeiter | D18: 1 | E18: Std. | F18: 0
A19: 3 | B19: Alle | C19: Helfer | D19: 1 | E19: Std. | F19: 0
A20: 4 | B20: Alle | C20: Projektleiter (Tagessatz für 8 Std.) | D20: 1 | E20: Tag | F20: 0

Sheet Epk Aufschläge
A1: Einheitspreiskatalog: Aufschläge
A4: Leistung | B4: =Deckblatt!B10 -> DGUV V4 Prüfung ortsfester elektrische Anlagen | D4: gültig ab | E4: =Deckblatt!C29 -> 46419
D5: ersetzt Dokument vom | E5: =Deckblatt!C30 -> Erstausstellung
A6: Vergabenr. | B6: =Deckblatt!B13 -> TEK2608046 | D6: gültig bis | E6: =Deckblatt!C31 -> 47879
A8: Partner | B8: Firmenname | C8: =Deckblatt!B21 -> cde
B9: Straße | C9: =Deckblatt!B22 -> xstraße
B10: PLZ, Ort | C10: =Deckblatt!B23 -> xort
A11: Kontakt | B11: Name | C11: =Deckblatt!C26 -> xname
B12: Telefon | C12: =Deckblatt!C27 -> xtelefon
A14: Nr. | B14: Leistung | D14: Maß-einheit | E14: auf Nettopreis der jew. Position
B15: Standort | C15: Kurzbeschreibung
A16: Aufschlag besondere Zeiten
A17: 1 | B17: Alle | C17: Zuschlag Nachtarbeit ab 20:00 Uhr bis 24:00 Uhr | D17: % | E17: 0
A18: 2 | B18: Alle | C18: Zuschlag Nachtarbeit ab 24:00 Uhr bis 04:00 Uhr | D18: % | E18: 0
A19: 3 | B19: Alle | C19: Zuschlag Nachtarbeit ab 04:00 Uhr bis 06:00 Uhr | D19: % | E19: 0
A20: 4 | B20: Alle | C20: Zuschlag Sonntagsarbeit | D20: % | E20: 0
A21: 5 | B21: Alle | C21: Zuschlag Arbeiten an gesetzlichen Feiertagen | D21: % | E21: 0

Sheet Standortübersicht
B1: Standorte | E1: =Deckblatt!B13 -> TEK2608046
B3: Los | C3: Region | D3: Kürzel | E3: Kliniken/Standort | F3: Adresse | H3: Ansprechpartner vor Ort
F4: Strasse | G4: PLZ, Ort | H4: Name | I4: Telefon | J4: Fax | K4: E-Mail
B5: 1 | C5: Ost | D5: KFH | E5: Klinikum im Friedrichshain | F5: Landsberger Allee 49 | G5: 10249 Berlin | H5: Thomas Harder | I5: (030) 130 231336 | J5: (030) 130 232030 | K5: thomas.harder@vivantes.de
D6: KHD | E6: Klinikum Kaulsdorf | F6: Myslowitzer Str. 45 | G6: 12621 Berlin | H6: Sebastian Kemmer | I6: (030) 130 172891 | J6: (030) 130 172892 | K6: sebastian.kemmer@vivantes.de
B7: 2 | C7: Nord | D7: ARO | E7: Aroser Allee | F7: Aroser Allee 72 | G7: 13407 Berlin | H7: Nicole Dornbusch | I7: (030) 130 115228 | J7: (030) 130 115372 | K7: Nicole.Dornbusch@vivantes.de
D8: HUK | E8: Humboldt-Klinikum | F8: Am Nordgraben 2 | G8: 13509 Berlin | H8: Christian Klimmek | I8: (030) 130 121530 | J8: (030) 130 121532 | K8: christian.klimmek@vivantes.de
D9: GAR | E9: Logostikzentrum | F9: Gartenfelder Staße 37 | G9: 13599 Berlin | H9: Nicole Dornbusch | I9: (030) 130 115228 | J9: (030) 130 115372 | K9: Nicole.Dornbusch@vivantes.de
D10: KSP | E10: Klinikum Spandau | F10: Neue Bergstraße 6 | G10: 13585 Berlin | H10: Renè Strache | I10: (030) 130 131400 | J10: (030) 130 131404 | K10: rene.strache@vivantes.de
D11: BBG | E11: Berliner Bildungscampus für Gesundheitsberufe gGmbH | F11: Waldstraße 86-90 | G11: 13403 Berlin | H11: Kerstin Schulz | I11: (030) 450 576 181 | K11: kerstin.schulz@bildungscampus-berlin.de
B12: 3 | C12: Süd/West | D12: AVK | E12: Auguste-Viktoria-Klinikum | F12: Rubensstraße 125 | G12: 12157 Berlin | H12: Nicolai van de Bergh | I12: (030) 130 130 202202 | J12: (030) 130 202244 | K12: nicolai.vandebergh@vivantes.de
D13: IWK | E13: Ida-Wolf-Krankenhaus | F13: Juchaczweg 21 | G13: 12351 Berlin | H13: Lindenau Stefan | I13: (030) 130 142130 | J13: (030) 131 143599 | K13: Stefan.Lindenau@vivantes.de
D14: KAU | E14: Klinikum Am Urban | F14: Dieffenbachstraße 1 | G14: 10967 Berlin | H14: Christioph Radola | I14: (+49) 151 16318819 | J14: (030) 130 224024 | K14: Christoph.Radola@vivantes.de
D15: KNK | E15: Klinikum Neukölln | F15: Rudower Straße 48 | G15: 12351 Berlin | H15: Lindenau Stefan | I15: (030) 130 142130 | J15: (030) 131 143599 | K15: Stefan.Lindenau@vivantes.de
D16: WBK | E16: Vivantes Wenckebach-Klinikum | F16: Wenckebachstraße 23 | G16: 12099 Berlin | H16: Nicolai van de Bergh | I16: (030) 130 130 202202 | J16: (030) 130 202244 | K16: nicolai.vandebergh@vivantes.de
B17: 4 | C17: FFS - Forum für Senioren | D17: HTE | E17: Haus Teichstrasse | F17: Teichstraße 44 | G17: 13407 Berlin | H17: Marion Voigt | I17: (030) 417 275 2513 | J17: (030) 417 275 2504 | K17: marion.voigt@vivantes.de
D18: HSO | E18: Haus Sommerstrasse | F18: Sommerstraße 25 c | G18: 13409 Berlin | H18: Heike Sporkhorst | I18: (030) 497 690 325 67 | J18: (030) 497 690 325 80 | K18: heike.sporkhorst@vivantes.de
D19: HJK | E19: Haus John F. Kennedy | F19: Alt-Wittenau 90 - 90a | G19: 13437 Berlin | H19: Heike Sporkhorst | I19: (030) 322 926 401 | J19: (030) 322 926 491 | K19: heike.sporkhorst@vivantes.de
D20: HJH | E20: Haus Jungfernheide | F20: Schweiggerweg 2-12 | G20: 13627 Berlin | H20: Jakob Schlegel | I20: (030) 367 023 301 03 | J20: (030) 367 023 301 09 | K20: Jakob.Schlegel2@vivantes.de
D21: HSE | E21: Haus Seebrücke | F21: Am Maselakepark 20 | G21: 13587 Berlin | H21: Antje Stschepin-Lohfing | I21: (030) 550 051 153 | J21: (030) 550 051 183 | K21: antje.stschepin-lohfing@vivantes.de
D22: HEH | E22: Haus Ernst Hoppe | F22: Lanzendorfer Weg 30 | G22: 14089 Berlin | H22: Hans-Jürgen Duske | I22: (030) 365-05451 | J22: (030) 365 05 47 | K22: hans-juergen.duske@vivantes.de
D23: HHK | E23: Haus Dr. Herrmann Kantorowicz | F23: Schönwalder Str. 50-52 | G23: 13585 Berlin | H23: Hans-Jürgen Duske | I23: (030) 355 300 70 | J23: (030) 355 300 77 | K23: hans-juergen.duske@vivantes.de
D24: HWD | E24: Haus Wilmersdorf | F24: Berkaer Str. 31-35 | G24: 14199 Berlin | H24: Jakob Riedel | I24: (030) 832 242 201 | J24: (030) 832 242 230 | K24: jakob.riedel@vivantes.de
D25: HLE | E25: Haus Leonore | F25: Leonorenstraße 17 - 33 | G25: 12247 Berlin | H25: Zinka Malkwitz | I25: (030) 77 93 306 | J25: (030) 77 93 300 | K25: zinka.malkwitz@vivantes.de
D26: HIW | E26: Haus Ida Wolff | F26: Juchaczweg 21 | G26: 12351 Berlin | H26: Torsten Pestner | I26: (030) 130 149 800 | J26: (030) 130 149 809 | K26: torsten.pestner@vivantes.de
D27: HWE | E27: Haus Weidenweg | F27: Weidenweg 42 | G27: 10249 Berlin | H27: Carolin Utech | I27: (030) 422 035 13 | J27: (030) 422 035 48 | K27: carolin.utech@vivantes.de
D28: HJZ | E28: Haus Jahreszeiten | F28: Büschingstraße 29 | G28: 10249 Berlin | H28: André Schwarzbach | I28: (030) 847 119 124 | J28: (030) 847 119 141 | K28: andre.schwarzbach@vivantes.de
D29: HFP | E29: Haus Franckepark | F29: Götzstraße 20a | G29: 12099 Berlin | H29: Zinka Malkwitz | I29: (030) 757 748 1602 | J29: (030) 757 748 1699 | K29: gueler.ates@vivantes.de
... D34: HRK | E34: Haus Rhinstraße Kurzzeitpflege | F34: Rhinstraße 105 | G34: 10315 Berlin | H34: Sandra Ebner | I34: (030) 319 89 17 10 | J34: (030) 319 89 17 11 | K34: sandra.ebner@vivantes.de
D35: KWB | E35: Haus Wenckebach Kurzzeitpflege | F35: Wenckebachstraße 23 | G35: 12099 Berlin | H35: Michelle Apwisch | I35: 0151-53854951 | K35: michelle.apwisch@vivantes.de
D36: KIW | E36: Haus Ida Wolff Kurzzeitpflege am Standort Klinikum Neukölln / Haus 30, Station 33 | F36: Rudower Straße 48 | G36: 12351 Berlin | H36: Judith Hanisch | I36: (030) 130 14 9887 | J36: (030) 130 14 9991 | K36: judith.hanisch@vivantes.de
D37: GJF | E37: Haus John F. Kennedy Gerontopsychiatrie | F37: Alt-Wittenau 90 - 90a | G37: 13437 Berlin | H37: Heike Sporkhorst | I37: (030) 322 926 401 | J37: (030) 322 926 491 | K37: heike.sporkhorst@vivantes.de
D38: HKD | E38: Haus Kaulsdorf | F38: Münsterberger Weg 96 | G38: 12621 Berlin | H38: Antje Stschepin-Lohfing | I38: (030) 130 174 019 | J38: (030) 130 174 021 | K38: antje.stschepin-lohfing@vivantes.de
D39: HSR | E39: Haus St. Richard | F39: Schudomastrasse 16 | G39: 12055 Berlin | H39: Maria Galster | I39: (030) 319 8616 712 | J39: (030) 319 8616 716 | K39: maria.galster@vivantes.de
E40: Haus Erweiterungen | F40: Erweiterung in HLE, HLR, HIW
B41: 4 | C41: Mitte | D41: BBG | E41: Berliner Bildungscampus für Gesundheitsberufe gGmbH | F41: Oudenarder Straße 16 | G41: 13347 Berlin | H41: Kerstin Schulz | I41: (030) 450 576 181 | K41: kerstin.schulz@bildungscampus-berlin.de
