Workbook

Sheet Hinweise
B2: Allgemeine Hinweise zum Preisblatt
B4: Durch den Bieter sind NUR die gelb gefärbten Felder auszufüllen.
B8: Die in den Anlage B.1 Leistungsverzeichnis aufgeführten Lieferpositionen sind vom Bieter in der Anlage B.2 Preisblatt zu bepreisen, indem die vorgegebenen Einzelpreispositionen (in gelb) entsprechend auszufüllen sind. Fehlende Preisangaben können zum Ausschluss des Angebots führen. Die Angabe des Preises „0“ ist zulässig. Hinweis: Die der Ausschreibung zugrundeliegende Währung ist Euro (EUR).
B15: Das Preisblatt ist vollständig in der vorgegebenen Form auszufüllen. Änderungen und Ergänzungen des Preisblatts sind nicht zulässig und führen zum Ausschluss des Angebots. Ausschließlich die in diesem Preisblatt abgegebenen Preise finden Anwendung.
B22: Alle Preise sind ohne die gesetzliche Umsatzsteuer, d.h. netto, anzugeben.

Sheet Deckblatt
B2: Preisblatt Rohrmaterial Verdichter VS Wittenburg
B6: Name des Bieters/der Bietergemeinschaft:
B11: Bitte tragen Sie nachstehend Ihr Preisangebot für die in den Vergabeunterlagen, insbesondere in Anlage B.2 Preisblatt Rohrmaterial Verdichter beschriebenen Lieferpositionen ein. Im Angebot sind sämtliche Kosten sowie Nebenleistungen einzukalkulieren und zu bepreisen.

Sheet Übersicht
B4: Bezeichnung | C4: Summen
B5: Summe - Stationsrohr | C5: =Stationsrohr!G11 -> 0
B6: Summe - Stationsrohrbogen | C6: =Rohrbogen!F12 -> 0
B7: Summe - T-Stück | C7: ='T-Stück'!F13 -> 0
B8: Summe Reduzierungen | C8: =Reduzierung!F17 -> 0
B9: Summe - Korbbogenboden | C9: =Korbbogenboden!F12 -> 0
B10: Summe - Flansch | C10: =Flansch!F21 -> 0
B11: Summe RTJ Dichtungen | C11: ='RTJ Dichtungen'!F11 -> 0
B12: Summe - Optionen | C12: =Optionen!F52 -> 0
B13: Gesamtsumme | C13: =SUM(C5:C12) -> 0

Sheet Stationsrohr
B2: Stationsrohr >= 16" / DN400
B4: Bezeichnung | C4: Technische Beschreibung | D4: Anzahl | E4: Einheit | F4: EP | G4: GP
B5: Stationsrohr DN400 / 16" - P323 | C5: Auslegungsdruck 105 bar Auslegungstemperatur -20 bis +120°C gem. GASCADE Spezifikation P323 | D5: 36 | E5: M | G5: =D5*F5 -> 0
B6: Stationsrohr DN500 / 20" - P323 | C6: Auslegungsdruck 105 bar Auslegungstemperatur -20 bis +120°C gem. GASCADE Spezifikation P323 | D6: 108 | E6: M | G6: =D6*F6 -> 0
B7: Stationsrohr DN600 / 24" - P303 | C7: Auslegungsdruck 105 bar Auslegungstemperatur -20 bis +60°C gem. GASCADE Spezifikation P303 | D7: 130 | E7: M | G7: =D7*F7 -> 0
B8: Stationsrohr DN1000 / 40" - P323 | C8: Auslegungsdruck 105 bar Auslegungstemperatur -20 bis +120°C gem. GASCADE Spezifikation P323 | D8: 360 | E8: M | G8: =D8*F8 -> 0
B9: Stationsrohr DN1200 / 48" - P323 | C9: Auslegungsdruck 105 bar Auslegungstemperatur -20 bis +120°C gem. GASCADE Spezifikation P323 | D9: 48 | E9: M | G9: =D9*F9 -> 0
B11: Summe - Stationsrohr | G11: =SUM(G5:G9) -> 0

Sheet Rohrbogen
B2: Stationsrohrbogen DN800 / 32"
B4: Bezeichnung | C4: Technische Beschreibung | D4: Anzahl | E4: Einheit | F4: EP | G4: GP
B5: Stationsrohrbogen DN800 / 32" - E303 | C5: Bauart 3 (r=1,5D) Bauform 90° Auslegungsdruck 105 bar Auslegungstemperatur -20 bis +60°C gem. GASCADE Spezifikation E303 | D5: 3 | E5: ST | G5: =D5*F5 -> 0
B7: Stationsrohrbogen DN1000 / 40"
B9: Bezeichnung | C9: Technische Beschreibung | D9: Anzahl | E9: Einheit | F9: EP | G9: GP
B10: Stationsrohrbogen DN1000 / 40" - E323 | C10: Bauart 3 (r=1,5D) Bauform 90° Auslegungsdruck 105 bar Auslegungstemperatur -20 bis +120°C gem. GASCADE Spezifikation E323 | D10: 21 | E10: ST | G10: =D10*F10 -> 0
B12: Summe - Stationsrohrbogen | F12: =G5+G10 -> 0

Sheet T-Stück
B2: T-Stück DN1000 / 40"
B4: Bezeichnung | C4: Technische Beschreibung | D4: Anzahl | E4: Einheit | F4: EP | G4: GP
B5: T-Stück 1000-1000 - ET303 | C5: D1: DN1000 / 40" D2: DN1000 / 40" Auslegungsdruck 105 bar Auslegungstemperatur -20 bis +60°C gem. GASCADE Spezifikation ET303 | D5: 3 | E5: ST | G5: =D5*F5 -> 0
B7: T-Stück DN1200 / 48"
B9: Bezeichnung | C9: Technische Beschreibung | D9: Anzahl | E9: Einheit | F9: EP | G9: GP
B10: T-Stück 1200-1200 - ET323 | C10: D1: DN1200 / 48" D2: DN1200 / 48" Auslegungsdruck 105 bar Auslegungstemperatur -20 bis +120°C gem. GASCADE Spezifikation ET323 | D10: 3 | E10: ST | G10: =D10*F10 -> 0
B11: T-Stück 1200-500 - ET323 | C11: D1: DN1200 / 48" D2: DN500 / 20" Auslegungsdruck 105 bar Auslegungstemperatur -20 bis +120°C gem. GASCADE Spezifikation ET323 | D11: 6 | E11: ST | G11: =D11*F11 -> 0
B13: Summe - T-Stück | F13: =G5+G10+G11 -> 0

Sheet Korbbogenboden
B2: Korbbogenboden DN800 / 32"
B4: Bezeichnung | C4: Technische Beschreibung | D4: Anzahl | E4: Einheit | F4: EP | G4: GP
B5: Korbbogenboden DN800 / 32" - EA303 | C5: Auslegungsdruck 105 bar Auslegungstemperatur -20 bis +60°C gem. GASCADE Spezifikation EA303 | D5: 8 | E5: ST | G5: =D5*F5 -> 0
B7: Korbbogenboden DN1200 / 48"
B9: Bezeichnung | C9: Technische Beschreibung | D9: Anzahl | E9: Einheit | F9: EP | G9: GP
B10: Korbbogenboden DN1200 /48" - EA323 | C10: Auslegungsdruck 105 bar Auslegungstemperatur -20 bis +120°C gem. GASCADE Spezifikation EA323 | D10: 6 | E10: ST | G10: =D10*F10 -> 0
B12: Summe - Korbbogenboden | F12: =G5+G10 -> 0

Sheet Flansch
B2: Flansch DN 400 / 16"
B4: Bezeichnung | C4: Technische Beschreibung | D4: Anzahl | E4: Einheit | F4: EP | G4: GP
B5: Vorschweißflansch DN400 / 16" - 120 °C | C5: Auslegungsdruck ANSI 600 lbs (100 bar) ASME 600 RTJ in Anlehnung an GASCADE Spezifikation F301, aber Auslegungstemperatur -20 bis 120°C, Auslegungsdruck 100 bar, Werkstoff der Gruppe 8E3 (P355NH oder P355QH1) | D5: 12 | E5: ST | G5: =D5*F5 -> 0
B6: Blindflansch DN400 / 16" - 120 °C | C6: Auslegungsdruck ANSI 600 lbs (100 bar) ASME 600 RTJ in Anlehnung an GASCADE Spezifikation FB301, aber Auslegungstemperatur -20 bis 120°C, Auslegungsdruck 100 bar, Werkstoff der Gruppe 8E3 (P355NH oder P355QH1) | D6: 6 | E6: ST | G6: =D6*F6 -> 0
B7: Blindflansch DN400 / 16" - Class 900 | C7: ASME B 16.5 - Class 900 RTJ - Auslegungstemperatur -20 bis 120 °C, Auslegungsdruck 100 bar | D7: 6 | E7: ST | G7: =D7*F7 -> 0
B9: Flansch DN 500 / 20"
B11: Bezeichnung | C11: Technische Beschreibung | D11: Anzahl | E11: Einheit | F11: EP | G11: GP
B12: Vorschweißflansch DN500 / 20" - F301 | C12: Auslegungsdruck ANSI 600 lbs (105 bar) ASME 600 RTJ Auslegungstemperatur -20 bis +60°C gem. GASCADE Spezifikation F301 | D12: 4 | E12: ST | G12: =D12*F12 -> 0
B13: Blindflansch DN500 / 20" - Class 900 | C13: ASME B 16.5 - Class 900 RTJ - Auslegungstemperatur -20 bis 60 °C, Auslegungsdruck 100 bar | D13: 6 | E13: ST | G13: =D13*F13 -> 0
B15: Flansch DN 600 / 24"
B17: Bezeichnung | C17: Technische Beschreibung | D17: Anzahl | E17: Einheit | F17: EP | G17: GP
B18: Vorschweißflansch DN600 / 24" - F301 | C18: Auslegungsdruck ANSI 600 lbs (105 bar) ASME 600 RTJ Auslegungstemperatur -20 bis +60°C gem. GASCADE Spezifikation F301 | D18: 34 | E18: ST | G18: =D18*F18 -> 0
B19: Blindflansch DN600 / 24" - FB301 | C19: Auslegungsdruck ANSI 600 lbs (105 bar) ASME 600 RTJ Auslegungstemperatur -20 bis 60°C gem. GASCADE Spezifikation FB301 | D19: 6 | E19: ST | G19: =D19*F19 -> 0
B21: Summe - Flansch | F21: =G5+G6+G7+G12+G13+G18+G19 -> 0

Sheet Reduzierung
B2: Reduzierungen konzentrisch
B4: Bezeichnung | C4: Technische Beschreibung | D4: Anzahl | E4: Einheit | F4: EP | G4: GP
B5: Reduzierung konzentrisch DN600 / 24" - EO303 | C5: D1: DN600 / 24" D2: DN500 / 20" Auslegungsdruck 105 bar Auslegungstemperatur -20 bis +60°C gem. GASCADE Spezifikation EO303 | D5: 6 | E5: ST | G5: =D5*F5 -> 0
B6: Reduzierung konzentrisch DN800 / 32" - EO323 | C6: D1: DN800 / 32" D2: DN400 / 16" Auslegungsdruck 105 bar Auslegungstemperatur -20 bis +120°C gem. GASCADE Spezifikation EO323 | D6: 6 | E6: ST | G6: =D6*F6 -> 0
B7: Reduzierung konzentrisch DN800 / 32" - EO323 | C7: D1: DN800 / 32" D2: DN500 / 20" Auslegungsdruck 105 bar Auslegungstemperatur -20 bis +120°C gem. GASCADE Spezifikation EO323 | D7: 6 | E7: ST | G7: =D7*F7 -> 0
B8: Reduzierung konzentrisch DN1000 / 40" - EO303 | C8: D1: DN1000 / 40" D2: DN600 / 24" Auslegungsdruck 105 bar Auslegungstemperatur -20 bis +60°C gem. GASCADE Spezifikation EO303 | D8: 6 | E8: ST | G8: =D8*F8 -> 0
B10: Reduzierungen exzentrisch
B12: Bezeichnung | C12: Technische Beschreibung | D12: Anzahl | E12: Einheit | F12: EP | G12: GP
B13: Reduzierung exzentrisch DN600 / 24" - EX303 | C13: D1: DN600 / 24" D2: DN500 / 20" Auslegungsdruck 105 bar Auslegungstemperatur -20 bis +60°C gem. GASCADE Spezifikation EX303 | D13: 2 | E13: ST | G13: =D13*F13 -> 0
B14: Reduzierung exzentrisch DN800 / 32" - EX303 | C14: D1: DN800 / 32" D2: DN600 / 24" Auslegungsdruck 105 bar Auslegungstemperatur -20 bis +60°C gem. GASCADE Spezifikation EX303 | D14: 6 | E14: ST | G14: =D14*F14 -> 0
B15: Reduzierung exzentrisch DN1200 / 48" - EX323 | C15: D1: DN1200 / 48" D2: DN1000 / 40" Auslegungsdruck 105 bar Auslegungstemperatur -20 bis +120°C gem. GASCADE Spezifikation EX323 | D15: 3 | E15: ST | G15: =D15*F15 -> 0
B17: Summe Reduzierungen | F17: =G5+G6+G7+G14+G8+G15+G13 -> 0

Sheet RTJ Dichtungen
B2: Ring Joint Dichtungen RTJ
B4: Bezeichnung | C4: Technische Beschreibung | D4: Anzahl | E4: Einheit | F4: EP | G4: GP
B5: Ring Joint Dichtung RTJ - DN400 - R 65 | C5: ASME B 16.5 - 16" - Class 600 - R 65 gem. GASCADE Spezifikation GN333 | D5: 30 | E5: ST | G5: =D5*F5 -> 0
B6: Ring Joint Dichtung RTJ - DN400 - R 66 | C6: ASME B 16.5 - 16" - Class 900 - R 66 gem. GASCADE Spezifikation GN333 | D6: 30 | E6: ST | G6: =D6*F6 -> 0
B7: Ring Joint Dichtung RTJ - DN500 - R 73 | C7: ASME B 16.5 - 16" - Class 600 - R 73 gem. GASCADE Spezifikation GN333 | D7: 20 | E7: ST | G7: =D7*F7 -> 0
B8: Ring Joint Dichtung RTJ - DN500 - R 74 | C8: ASME B 16.5 - 16" - Class 900 - R 74 gem. GASCADE Spezifikation GN333 | D8: 20 | E8: ST | G8: =D8*F8 -> 0
B9: Ring Joint Dichtung RTJ - DN600 - R 77 | C9: ASME B 16.5 - 24" - Class 600 - R 77 gem. GASCADE Spezifikation GN333 | D9: 100 | E9: ST | G9: =D9*F9 -> 0
B11: Summe RTJ Dichtungen | F11: =SUM(G5:G9) -> 0

Sheet Optionen
B2: Korbbogenboden DN400 / 16"
B4: Bezeichnung | C4: Technische Beschreibung | D4: Anzahl | E4: Einheit | F4: EP | G4: GP
B5: Korbbogenboden DN400 /16" - EA323 - OPTIONAL | C5: Auslegungsdruck 105 bar Auslegungstemperatur -20 bis +120°C gem. GASCADE Spezifikation EA323 | D5: 2 | E5: ST | G5: =D5*F5 -> 0
B7: Korbbogenboden DN500 / 20"
B9: Bezeichnung | C9: Technische Beschreibung | D9: Anzahl | E9: Einheit | F9: EP | G9: GP
B10: Korbbogenboden DN500 /20" - EA323 - OPTIONAL | C10: Auslegungsdruck 105 bar Auslegungstemperatur -20 bis +120°C gem. GASCADE Spezifikation EA323 | D10: 2 | E10: ST | G10: =D10*F10 -> 0
B12: Korbbogenboden DN600 / 24"
B14: Bezeichnung | C14: Technische Beschreibung | D14: Anzahl | E14: Einheit | F14: EP | G14: GP
B15: Korbbogenboden DN600 /24" - EA303 - OPTIONAL | C15: Auslegungsdruck 105 bar Auslegungstemperatur -20 bis +60°C gem. GASCADE Spezifikation EA303 | D15: 2 | E15: ST | G15: =D15*F15 -> 0
B17: Korbbogenboden DN800 / 32"
B19: Bezeichnung | C19: Technische Beschreibung | D19: Anzahl | E19: Einheit | F19: EP | G19: GP
B20: Korbbogenboden DN800 / 32" - EA323 - OPTIONAL | C20: Auslegungsdruck 105 bar Auslegungstemperatur -20 bis +120°C gem. GASCADE Spezifikation EA323 | D20: 2 | E20: ST | G20: =D20*F20 -> 0
B22: Korbbogenboden DN1000 / 40"
B24: Bezeichnung | C24: Technische Beschreibung | D24: Anzahl | E24: Einheit | F24: EP | G24: GP
B25: Korbbogenboden DN1000 /40" - EA303 - OPTIONAL | C25: Auslegungsdruck 105 bar Auslegungstemperatur -20 bis +60°C gem. GASCADE Spezifikation EA303 | D25: 2 | E25: ST | G25: =D25*F25 -> 0
B26: Korbbogenboden DN1000 /40" - EA323 - OPTIONAL | C26: Auslegungsdruck 105 bar Auslegungstemperatur -20 bis +120°C gem. GASCADE Spezifikation EA323 | D26: 2 | E26: ST | G26: =D26*F26 -> 0
B28: Stationsrohrbogen DN400 / 16"
B31: Bezeichnung | C31: Technische Beschreibung | D31: Anzahl | E31: Einheit | F31: EP | G31: GP
B32: Stationsrohrbogen DN400 / 16" - E323 - OPTIONAL | C32: Bauart 3 (r=1,5D) Bauform 90° Auslegungsdruck 105 bar Auslegungstemperatur -20 bis +120°C gem. GASCADE Spezifikation E323 | D32: 6 | E32: ST | G32: =D32*F32 -> 0
B33: Stationsrohrbogen DN400 / 16" - PN100 - OPTIONAL | C33: Bauart 3 (r=1,5D) Bauform 90° Auslegungstemperatur -20 bis +120°C in Anlehnung an GASCADE Spezifikation E323 aber Auslegungsdruck 100 bar | D33: 6 | E33: ST | G33: =D33*F33 -> 0
B35: Stationsrohrbogen DN500 / 20"
B37: Bezeichnung | C37: Technische Beschreibung | D37: Anzahl | E37: Einheit | F37: EP | G37: GP
B38: Stationsrohrbogen DN500 / 20" - E323 - OPTIONAL | C38: Bauart 3 (r=1,5D) Bauform 90° Auslegungsdruck 105 bar Auslegungstemperatur -20 bis +120°C gem. GASCADE Spezifikation E323 | D38: 18 | E38: ST | G38: =D38*F38 -> 0
B39: Stationsrohrbogen DN500 / 20" - PN100 - OPTIONAL | C39: Bauart 3 (r=1,5D) Bauform 90° Auslegungstemperatur -20 bis +120°C in Anlehnung an GASCADE Spezifikation E323 aber Auslegungsdruck 100 bar | D39: 18 | E39: ST | G39: =D39*F39 -> 0
B41: Stationsrohrbogen DN600 / 24"
B43: Bezeichnung | C43: Technische Beschreibung | D43: Anzahl | E43: Einheit | F43: EP | G43: GP
B44: Stationsrohrbogen DN600 / 24" - E303 - OPTIONAL | C44: Bauart 3 (r=1,5D) Bauform 90° Auslegungsdruck 105 bar Auslegungstemperatur -20 bis +60°C gem. GASCADE Spezifikation E303 | D44: 26 | E44: ST | G44: =D44*F44 -> 0
B45: Stationsrohrbogen DN600 / 24" - PN100 - OPTIONAL | C45: Bauart 3 (r=1,5D) Bauform 90° Auslegungstemperatur -20 bis +60°C in Anlehnung an GASCADE Spezifikation E303 aber Auslegungsdruck 100 bar | D45: 26 | E45: ST | G45: =D45*F45 -> 0
B47: Stationsrohr >= 16" / DN400
B49: Bezeichnung | C49: Technische Beschreibung | D49: Anzahl | E49: Einheit | F49: EP | G49: GP
B50: Stationsrohr DN500 / 20" - P303 - OPTIONAL | C50: Auslegungsdruck 105 bar Auslegungstemperatur -20 bis +60°C gem. GASCADE Spezifikation P303 | D50: 12 | E50: M | G50: =D50*F50 -> 0
B52: Summe - Optionen | F52: =G5+G10+G15+G20+G25+G26+G32+G33+G38+G39+G44+G45+G50 -> 0
