Workbook
Name Angebotsdatum: Angebotsübersicht!$B$43
Name Bieter: Angebotsübersicht!$G$5
Name Name_Bieter: Angebotsübersicht!$E$43
Name RT_allgemein: Leistungswerte!$C$29
Name RT_Schule: Reinigungstage!$G$16
Name SVS_GLR: Leistungswerte!$A$8
Name SVS_GR: 'SVS Grundreinigung'!$A$22
Name SVS_UR: 'SVS Unterhaltsreinigung'!$A$22

Sheet Angebotsübersicht
G1: Stadt Garbsen
G2: Der Bürgermeister
A5: Name des Bieters (Firma):
A7: Preisübersicht
A9: Pos. | B9: Objekt | G9: Preis netto | H9: MwSt. (19%) | I9: Preis brutto
A10: 1.1 | B10: ='Objekt (1)'!$O$2 -> Grundschule Stelingen (Altbau) | G10: =ROUND('Objekt (1)'!$G$14,2) -> 0 | H10: =ROUND('Objekt (1)'!$G$15,2) -> 0 | I10: =ROUND('Objekt (1)'!$G$16,2) -> 0
A11: 2.1 | B11: ='Objekt (2)'!$O$2 -> Grundschule Stelingen (Neubau) | G11: =ROUND('Objekt (2)'!$G$14,2) -> 0 | H11: =ROUND('Objekt (2)'!$G$15,2) -> 0 | I11: =ROUND('Objekt (2)'!$G$16,2) -> 0
A12: 3.1 | B12: ='Objekt (3)'!$O$2 -> GS Stelingen (Sporthalle) | G12: =ROUND('Objekt (3)'!$G$14,2) -> 0 | H12: =ROUND('Objekt (3)'!$G$15,2) -> 0 | I12: =ROUND('Objekt (3)'!$G$16,2) -> 0
A13: 1.2 | B13: =B10&" (Grundreinigung)" -> Grundschule Stelingen (Altbau) (Grundreinigung) | G13: =ROUND('Objekt (1)'!$O$14,2) -> 0 | H13: =ROUND('Objekt (1)'!$O$15,2) -> 0 | I13: =ROUND('Objekt (1)'!$O$16,2) -> 0
A14: 2.2 | B14: =B11&" (Grundreinigung)" -> Grundschule Stelingen (Neubau) (Grundreinigung) | G14: =ROUND('Objekt (2)'!$O$14,2) -> 0 | H14: =ROUND('Objekt (2)'!$O$15,2) -> 0 | I14: =ROUND('Objekt (2)'!$O$16,2) -> 0
A15: 3.2 | B15: =B12&" (Grundreinigung)" -> GS Stelingen (Sporthalle) (Grundreinigung) | G15: =ROUND('Objekt (3)'!$O$14,2) -> 0 | H15: =ROUND('Objekt (3)'!$O$15,2) -> 0 | I15: =ROUND('Objekt (3)'!$O$16,2) -> 0
B16: Gesamt-Angebotspreis pro Jahr | G16: =SUM(G10:G15) -> 0 | H16: =SUM(H10:H15) -> 0 | I16: =SUM(I10:I15) -> 0
A20: Stundenübersicht
A22: Pos. | B22: Objekt | C22: Tage/ Jahr | D22: Tage/ Woche | E22: Fläche | F22: Std./Tag | G22: Std./Jahr | H22: m²/Jahr | I22: Leistung im Ø
A23: 1.1 | B23: ='Objekt (1)'!$O$2 -> Grundschule Stelingen (Altbau) | C23: ='Objekt (1)'!$G$5 -> 196 | D23: ='Objekt (1)'!$G$6 -> 5 | E23: ='Objekt (1)'!$G$7 -> 400.04 | F23: ='Objekt (1)'!$G$10 -> 0 | G23: ='Objekt (1)'!$G$9 -> 0 | H23: ='Objekt (1)'!$G$8 -> 62826.232 | I23: ='Objekt (1)'!$G$11 -> 0
A24: 2.1 | B24: ='Objekt (2)'!$O$2 -> Grundschule Stelingen (Neubau) | C24: ='Objekt (2)'!$G$5 -> 196 | D24: ='Objekt (2)'!$G$6 -> 5 | E24: ='Objekt (2)'!$G$7 -> 1617.68 | F24: ='Objekt (2)'!$G$10 -> 0 | G24: ='Objekt (2)'!$G$9 -> 0 | H24: ='Objekt (2)'!$G$8 -> 223970.37 | I24: ='Objekt (2)'!$G$11 -> 0
A25: 3.1 | B25: ='Objekt (3)'!$O$2 -> GS Stelingen (Sporthalle) | C25: ='Objekt (3)'!$G$5 -> 196 | D25: ='Objekt (3)'!$G$6 -> 5 | E25: ='Objekt (3)'!$G$7 -> 816.57 | F25: ='Objekt (3)'!$G$10 -> 0 | G25: ='Objekt (3)'!$G$9 -> 0 | H25: ='Objekt (3)'!$G$8 -> 140146.9 | I25: ='Objekt (3)'!$G$11 -> 0
A26: 1.2 | B26: =B23&" (Grundreinigung)" -> Grundschule Stelingen (Altbau) (Grundreinigung) | G26: ='Objekt (1)'!$O$9 -> 0 | H26: ='Objekt (1)'!$O$8 -> 400.04 | I26: ='Objekt (2)'!$O$11 -> #DIV/0!
A27: 2.2 | B27: =B24&" (Grundreinigung)" -> Grundschule Stelingen (Neubau) (Grundreinigung) | G27: ='Objekt (2)'!$O$9 -> 0 | H27: ='Objekt (2)'!$O$8 -> 1617.68 | I27: ='Objekt (2)'!$O$11 -> #DIV/0!
A28: 3.2 | B28: =B25&" (Grundreinigung)" -> GS Stelingen (Sporthalle) (Grundreinigung) | G28: ='Objekt (3)'!$O$9 -> 0 | H28: ='Objekt (3)'!$O$8 -> 816.57 | I28: ='Objekt (2)'!$O$11 -> #DIV/0!
B29: Gesamt pro Jahr | E29: =SUM(E23:E25) -> 2834.29 | F29: =SUM(F23:F25) -> 0 | G29: =SUM(G23:G28) -> 0 | H29: =SUM(H23:H28) -> 429777.79
A32: Preise und Zuschläge für Zusatzleistungen
A34: Pos. | B34: Beschreibung | E34: Zuschlag % | G34: Preis netto | H34: MwSt. (19%) | I34: Preis brutto
A35: 1 | B35: Unterhaltsreinigung / Zusatzleistung ohne Zuschlag | F35: 0 | G35: =SVS_UR -> 0 | H35: =G35*0.19 -> 0 | I35: =G35+H35 -> 0
A36: 2 | B36: Unterhaltsreinigung / Zusatzleistung (22.00 - 05:00 Uhr) | F36: 0 | G36: =$G$35*(1+F36) -> 0 | H36: =G36*0.19 -> 0 | I36: =G36+H36 -> 0
A37: 3 | B37: Unterhaltsreinigung / Zusatzleistung (Sonntage/Feiertage) | F37: 0 | G37: =$G$35*(1+F37) -> 0 | H37: =G37*0.19 -> 0 | I37: =G37+H37 -> 0
A38: 4 | B38: Unterhaltsreinigung / Zusatzleistung (1. Mai, Neujahrstag sowie 1. und 2. Weihnachtsfeiertag) | F38: 0 | G38: =$G$35*(1+F38) -> 0 | H38: =G38*0.19 -> 0 | I38: =G38+H38 -> 0
A39: 5 | B39: Grundreinigung / Zusatzleistung ohne Zuschlag | F39: 0 | G39: =SVS_GR -> 0 | H39: =G39*0.19 -> 0 | I39: =G39+H39 -> 0
B44: Datum | E44: Name des Bieters (Vor- und Zuname)

Sheet SVS Unterhaltsreinigung
A1: Kalkulation Stundenverrechnungssatz | C1: Unterhaltsreinigung
A3: Name des Bieters: | C3: =IF(Bieter<>"",Bieter,"Bietername fehlt !") -> Bietername fehlt !
A5: Basis:
A6: Tarifvereinbarung Gebäudereinigerhandwerk, Stand 01.01.2026 | C6: sozialversicherungs-pflichtiges Personal | E6: „Midi-Job“ (603,01 € bis maximal 2.000 €) | G6: geringfügig beschäftigtes Personal („603-Euro-Job“)
A9: Pos. | B9: Bezeichnung | C9: Prozent | D9: Euro | E9: Prozent | F9: Euro | G9: Prozent | H9: Euro
A10: 1.00 | B10: Tariflicher Lohn (mind. 15,00 €/Std.) | C10: 1 | D10: 0 | E10: 1 | F10: =D10 -> 0 | G10: 1 | H10: =D10 -> 0
A11: 2.00 | B11: Lohngebundene Kosten
A12: 2.10 | B12: Sozialversicherungsbeiträge (Arbeitgeberanteil)
A13: 2.11a | B13: Krankenversicherung einschließlich Zusatzbeitrag | C13: 0 | D13: =C13*$D$10 -> 0 | E13: 0 | F13: =E13*$F$10 -> 0 | H13: entfällt
A14: 2.11b | B14: Pauschalabgabe an Bundesknappschaft für KV | D14: entfällt | F14: entfällt | G14: 0 | H14: =G14*$H$10 -> 0
A15: 2.12a | B15: Rentenversicherung | C15: 0 | D15: =C15*$D$10 -> 0 | E15: 0 | F15: =E15*$F$10 -> 0 | H15: entfällt
A16: 2.12b | B16: Pauschalabgabe an Bundesknappschaft für RV | D16: entfällt | F16: entfällt | G16: 0 | H16: =G16*$H$10 -> 0
A17: 2.13 | B17: Arbeitslosenversicherung | C17: 0 | D17: =C17*$D$10 -> 0 | E17: 0 | F17: =E17*$F$10 -> 0 | H17: entfällt
A18: 2.14 | B18: Pflegeversicherung | C18: 0 | D18: =C18*$D$10 -> 0 | E18: 0 | F18: =E18*$F$10 -> 0 | H18: entfällt
A19: 2.15 | B19: U2 Mutterschaftsaufwendungen | C19: 0 | D19: =C19*$D$10 -> 0 | E19: 0 | F19: =E19*$F$10 -> 0 | G19: 0 | H19: =G19*$H$10 -> 0
A20: 2.16 | B20: U3 (Insolvenzgeldumlage | C20: 0 | D20: =C20*$D$10 -> 0 | E20: 0 | F20: =E20*$F$10 -> 0 | G20: =E20 -> 0 | H20: =G20*$H$10 -> 0
A21: 2.17 | B21: Gesetzliche Unfallversicherung | C21: 0 | D21: =C21*$D$10 -> 0 | E21: 0 | F21: =E21*$F$10 -> 0 | G21: =E21 -> 0 | H21: =G21*$H$10 -> 0
A22: =IF(SVS_GLR-TODAY()>0,D62,RT_allgemein) -> 0 | B22: Zwischensumme 2.10 Sozialversicherungsbeiträge | C22: =SUM(C13:C21) -> 0 | D22: =SUM(D13:D21) -> 0 | E22: =SUM(E13:E21) -> 0 | F22: =SUM(F13:F21) -> 0 | G22: =SUM(G13:G21) -> 0 | H22: =SUM(H13:H21) -> 0
A23: 2.20 | B23: Soziallöhne
A24: 2.21 | B24: Gesetzliche Feiertage | C24: 0 | D24: =C24*$D$10 -> 0 | E24: =C24 -> 0 | F24: =E24*$F$10 -> 0 | G24: =E24 -> 0 | H24: =G24*$H$10 -> 0
A25: 2.22 | B25: Urlaubsentgelt | C25: 0 | D25: =C25*$D$10 -> 0 | E25: =C25 -> 0 | F25: =E25*$F$10 -> 0 | G25: =E25 -> 0 | H25: =G25*$H$10 -> 0
A26: 2.23 | B26: Arbeitsfreistellung | C26: 0 | D26: =C26*$D$10 -> 0 | E26: =C26 -> 0 | F26: =E26*$F$10 -> 0 | G26: =E26 -> 0 | H26: =G26*$H$10 -> 0
A27: 2.24 | B27: Entgeltfortzahlung im Krankheitsfall | C27: 0 | D27: =C27*$D$10 -> 0 | E27: =C27 -> 0 | F27: =E27*$F$10 -> 0 | G27: =E27 -> 0 | H27: =G27*$H$10 -> 0
A28: 2.25 | B28: Zusätzliches Urlaubsgeld | C28: 0 | D28: =C28*$D$10 -> 0 | E28: =C28 -> 0 | F28: =E28*$F$10 -> 0 | G28: =E28 -> 0 | H28: =G28*$H$10 -> 0
A29: 2.25 | B29: Sozialversicherungsbeiträge auf Soziallöhne (aus Zwischensumme 2.10 Sozialversicherungsbeiträge) | C29: =IF($D$10<>0,D29/$D$10,0) -> 0 | D29: =SUM(D24:D28)*C22 -> 0 | E29: =IF($F$10<>0,F29/$F$10,0) -> 0 | F29: =SUM(F24:F28)*E22 -> 0 | G29: =IF($F$10<>0,H29/$F$10,0) -> 0 | H29: =SUM(H24:H28)*G22 -> 0
B30: Zwischensumme 2.20 Soziallöhne | C30: =IF($D$10<>0,D30/$D$10,0) -> 0 | D30: =SUM(D24:D29) -> 0 | E30: =IF($D$10<>0,F30/$D$10,0) -> 0 | F30: =SUM(F24:F29) -> 0 | G30: =IF($D$10<>0,H30/$D$10,0) -> 0 | H30: =SUM(H24:H29) -> 0
B31: Summe Sozialversicherungsbeiträge und Soziallöhne | C31: =D31/D10 -> #DIV/0! | D31: =D22+D30 -> 0 | E31: =F31/F10 -> #DIV/0! | F31: =F22+F30 -> 0 | G31: =H31/H10 -> #DIV/0! | H31: =H22+H30 -> 0
A32: 2.30 | B32: Zusätzliche lohngebundene Kosten
A33: 2.31 | B33: Haftpflichtversicherung | C33: 0 | D33: =C33*$D$10 -> 0 | E33: =C33 -> 0 | F33: =E33*$F$10 -> 0 | G33: =E33 -> 0 | H33: =G33*$H$10 -> 0
A34: 2.32 | B34: Sonstige Personalkosten (Arbeitskleidung, usw.) | C34: 0 | D34: =C34*$D$10 -> 0 | E34: =C34 -> 0 | F34: =E34*$F$10 -> 0 | G34: =E34 -> 0 | H34: =G34*$H$10 -> 0
B35: Summe lohngebundene Kosten | C35: =SUM(C31:C34) -> #DIV/0! | D35: =SUM(D31:D34) -> 0 | E35: =SUM(E31:E34) -> #DIV/0! | F35: =SUM(F31:F34) -> 0 | G35: =SUM(G31:G34) -> #DIV/0! | H35: =SUM(H31:H34) -> 0
A36: 3.00 | B36: Sonstige auftragsbezogene Kosten
A37: 3.10 | B37: Aufsichtslohn Vorarbeiter inkl. Soziale Folgekosten | C37: 0 | D37: =C37*$D$10 -> 0 | E37: =C37 -> 0 | F37: =E37*$F$10 -> 0 | G37: =E37 -> 0 | H37: =G37*$H$10 -> 0
A38: 3.20 | B38: Fahrkostenzuschuss | C38: 0 | D38: =C38*$D$10 -> 0 | E38: =C38 -> 0 | F38: =E38*$F$10 -> 0 | G38: =E38 -> 0 | H38: =G38*$H$10 -> 0
A39: 3.31 | B39: Fertigungsmaterial | C39: 0 | D39: =C39*$D$10 -> 0 | E39: =C39 -> 0 | F39: =E39*$F$10 -> 0 | G39: =E39 -> 0 | H39: =G39*$H$10 -> 0
A40: 3.32 | B40: Maschinen und Gerätekosten, Afa etc. | C40: 0 | D40: =C40*$D$10 -> 0 | E40: =C40 -> 0 | F40: =E40*$F$10 -> 0 | G40: =E40 -> 0 | H40: =G40*$H$10 -> 0
A41: 3.40 | B41: Sondereinzelkosten | C41: 0 | D41: =C41*$D$10 -> 0 | E41: =C41 -> 0 | F41: =E41*$F$10 -> 0 | G41: =E41 -> 0 | H41: =G41*$H$10 -> 0
B42: Summe 3.00 auftragsgebundene Kosten | C42: =SUM(C37:C41) -> 0 | D42: =SUM(D37:D41) -> 0 | E42: =SUM(E37:E41) -> 0 | F42: =SUM(F37:F41) -> 0 | G42: =SUM(G37:G41) -> 0 | H42: =SUM(H37:H41) -> 0
A43: 4.00 | B43: Unternehmensbezogene Kosten
A44: 4.11 | B44: Gehälter technische Angestellte | C44: 0 | D44: =C44*$D$10 -> 0 | E44: =C44 -> 0 | F44: =E44*$F$10 -> 0 | G44: =E44 -> 0 | H44: =G44*$H$10 -> 0
...

Sheet SVS Grundreinigung
A1: Kalkulation Stundenverrechnungssatz | C1: Grundreinigung
A3: Name des Bieters: | C3: =IF(Bieter<>"",Bieter,"Bietername fehlt !") -> Bietername fehlt !
A5: Basis:
A6: Tarifvereinbarung Gebäudereinigerhandwerk, Stand 01.01.2026 | C6: sozialversicherungs-pflichtiges Personal | E6: „Midi-Job“ (603,01 € bis maximal 2.000 €) | G6: geringfügig beschäftigtes Personal („603-Euro-Job“)
A9: Pos. | B9: Bezeichnung | C9: Prozent | D9: Euro | E9: Prozent | F9: Euro | G9: Prozent | H9: Euro
A10: 1.00 | B10: Tariflicher Lohn (mind. 15,00 €/Std.) | C10: 1 | D10: 0 | E10: 1 | F10: =D10 -> 0 | G10: 1 | H10: =D10 -> 0
A11: 2.00 | B11: Lohngebundene Kosten
A12: 2.10 | B12: Sozialversicherungsbeiträge (Arbeitgeberanteil)
A13: 2.11a | B13: Krankenversicherung einschließlich Zusatzbeitrag | C13: 0 | D13: =C13*$D$10 -> 0 | E13: 0 | F13: =E13*$F$10 -> 0 | H13: entfällt
A14: 2.11b | B14: Pauschalabgabe an Bundesknappschaft für KV | D14: entfällt | F14: entfällt | G14: 0 | H14: =G14*$H$10 -> 0
A15: 2.12a | B15: Rentenversicherung | C15: 0 | D15: =C15*$D$10 -> 0 | E15: 0 | F15: =E15*$F$10 -> 0 | H15: entfällt
A16: 2.12b | B16: Pauschalabgabe an Bundesknappschaft für RV | D16: entfällt | F16: entfällt | G16: 0 | H16: =G16*$H$10 -> 0
A17: 2.13 | B17: Arbeitslosenversicherung | C17: 0 | D17: =C17*$D$10 -> 0 | E17: 0 | F17: =E17*$F$10 -> 0 | H17: entfällt
A18: 2.14 | B18: Pflegeversicherung | C18: 0 | D18: =C18*$D$10 -> 0 | E18: 0 | F18: =E18*$F$10 -> 0 | H18: entfällt
A19: 2.15 | B19: U2 Mutterschaftsaufwendungen | C19: 0 | D19: =C19*$D$10 -> 0 | E19: 0 | F19: =E19*$F$10 -> 0 | G19: 0 | H19: =G19*$H$10 -> 0
A20: 2.16 | B20: U3 (Insolvenzgeldumlage | C20: 0 | D20: =C20*$D$10 -> 0 | E20: 0 | F20: =E20*$F$10 -> 0 | G20: =E20 -> 0 | H20: =G20*$H$10 -> 0
A21: 2.17 | B21: Gesetzliche Unfallversicherung | C21: 0 | D21: =C21*$D$10 -> 0 | E21: 0 | F21: =E21*$F$10 -> 0 | G21: =E21 -> 0 | H21: =G21*$H$10 -> 0
A22: =IF(SVS_GLR-TODAY()>0,D62,RT_allgemein) -> 0 | B22: Zwischensumme 2.10 Sozialversicherungsbeiträge | C22: =SUM(C13:C21) -> 0 | D22: =SUM(D13:D21) -> 0 | E22: =SUM(E13:E21) -> 0 | F22: =SUM(F13:F21) -> 0 | G22: =SUM(G13:G21) -> 0 | H22: =SUM(H13:H21) -> 0
A23: 2.20 | B23: Soziallöhne
A24: 2.21 | B24: Gesetzliche Feiertage | C24: 0 | D24: =C24*$D$10 -> 0 | E24: =C24 -> 0 | F24: =E24*$F$10 -> 0 | G24: =E24 -> 0 | H24: =G24*$H$10 -> 0
A25: 2.22 | B25: Urlaubsentgelt | C25: 0 | D25: =C25*$D$10 -> 0 | E25: =C25 -> 0 | F25: =E25*$F$10 -> 0 | G25: =E25 -> 0 | H25: =G25*$H$10 -> 0
A26: 2.23 | B26: Arbeitsfreistellung | C26: 0 | D26: =C26*$D$10 -> 0 | E26: =C26 -> 0 | F26: =E26*$F$10 -> 0 | G26: =E26 -> 0 | H26: =G26*$H$10 -> 0
A27: 2.24 | B27: Entgeltfortzahlung im Krankheitsfall | C27: 0 | D27: =C27*$D$10 -> 0 | E27: =C27 -> 0 | F27: =E27*$F$10 -> 0 | G27: =E27 -> 0 | H27: =G27*$H$10 -> 0
A28: 2.25 | B28: Zusätzliches Urlaubsgeld | C28: 0 | D28: =C28*$D$10 -> 0 | E28: =C28 -> 0 | F28: =E28*$F$10 -> 0 | G28: =E28 -> 0 | H28: =G28*$H$10 -> 0
A29: 2.25 | B29: Sozialversicherungsbeiträge auf Soziallöhne (aus Zwischensumme 2.10 Sozialversicherungsbeiträge) | C29: =IF($D$10<>0,D29/$D$10,0) -> 0 | D29: =SUM(D24:D28)*C22 -> 0 | E29: =IF($F$10<>0,F29/$F$10,0) -> 0 | F29: =SUM(F24:F28)*E22 -> 0 | G29: =IF($F$10<>0,H29/$F$10,0) -> 0 | H29: =SUM(H24:H28)*G22 -> 0
B30: Zwischensumme 2.20 Soziallöhne | C30: =IF($D$10<>0,D30/$D$10,0) -> 0 | D30: =SUM(D24:D29) -> 0 | E30: =IF($D$10<>0,F30/$D$10,0) -> 0 | F30: =SUM(F24:F29) -> 0 | G30: =IF($D$10<>0,H30/$D$10,0) -> 0 | H30: =SUM(H24:H29) -> 0
B31: Summe Sozialversicherungsbeiträge und Soziallöhne | C31: =D31/D10 -> #DIV/0! | D31: =D22+D30 -> 0 | E31: =F31/F10 -> #DIV/0! | F31: =F22+F30 -> 0 | G31: =H31/H10 -> #DIV/0! | H31: =H22+H30 -> 0
A32: 2.30 | B32: Zusätzliche lohngebundene Kosten
A33: 2.31 | B33: Haftpflichtversicherung | C33: 0 | D33: =C33*$D$10 -> 0 | E33: =C33 -> 0 | F33: =E33*$F$10 -> 0 | G33: =E33 -> 0 | H33: =G33*$H$10 -> 0
A34: 2.32 | B34: Sonstige Personalkosten (Arbeitskleidung, usw.) | C34: 0 | D34: =C34*$D$10 -> 0 | E34: =C34 -> 0 | F34: =E34*$F$10 -> 0 | G34: =E34 -> 0 | H34: =G34*$H$10 -> 0
B35: Summe lohngebundene Kosten | C35: =SUM(C31:C34) -> #DIV/0! | D35: =SUM(D31:D34) -> 0 | E35: =SUM(E31:E34) -> #DIV/0! | F35: =SUM(F31:F34) -> 0 | G35: =SUM(G31:G34) -> #DIV/0! | H35: =SUM(H31:H34) -> 0
A36: 3.00 | B36: Sonstige auftragsbezogene Kosten
A37: 3.10 | B37: Aufsichtslohn Vorarbeiter inkl. Soziale Folgekosten | C37: 0 | D37: =C37*$D$10 -> 0 | E37: =C37 -> 0 | F37: =E37*$F$10 -> 0 | G37: =E37 -> 0 | H37: =G37*$H$10 -> 0
A38: 3.20 | B38: Fahrkostenzuschuss | C38: 0 | D38: =C38*$D$10 -> 0 | E38: =C38 -> 0 | F38: =E38*$F$10 -> 0 | G38: =E38 -> 0 | H38: =G38*$H$10 -> 0
A39: 3.31 | B39: Fertigungsmaterial | C39: 0 | D39: =C39*$D$10 -> 0 | E39: =C39 -> 0 | F39: =E39*$F$10 -> 0 | G39: =E39 -> 0 | H39: =G39*$H$10 -> 0
A40: 3.32 | B40: Maschinen und Gerätekosten, Afa etc. | C40: 0 | D40: =C40*$D$10 -> 0 | E40: =C40 -> 0 | F40: =E40*$F$10 -> 0 | G40: =E40 -> 0 | H40: =G40*$H$10 -> 0
A41: 3.40 | B41: Sondereinzelkosten | C41: 0 | D41: =C41*$D$10 -> 0 | E41: =C41 -> 0 | F41: =E41*$F$10 -> 0 | G41: =E41 -> 0 | H41: =G41*$H$10 -> 0
B42: Summe 3.00 auftragsgebundene Kosten | C42: =SUM(C37:C41) -> 0 | D42: =SUM(D37:D41) -> 0 | E42: =SUM(E37:E41) -> 0 | F42: =SUM(F37:F41) -> 0 | G42: =SUM(G37:G41) -> 0 | H42: =SUM(H37:H41) -> 0
A43: 4.00 | B43: Unternehmensbezogene Kosten
A44: 4.11 | B44: Gehälter technische Angestellte | C44: 0 | D44: =C44*$D$10 -> 0 | E44: =C44 -> 0 | F44: =E44*$F$10 -> 0 | G44: =E44 -> 0 | H44: =G44*$H$10 -> 0
...

Sheet Reinigungstage
B2: Reinigungstage in Schulgebäuden / Turnhalle
B3: 2027 | C3: Tage | D3: Wochenende | E3: Feiertage | F3: Ferien | G3: Normaltage
B4: Januar | C4: 31 | D4: 10 | E4: 1 | F4: 4 | G4: =C4-SUM(D4:F4) -> 16
B5: Februar | C5: 28 | D5: 8 | F5: 2 | G5: =C5-SUM(D5:F5) -> 18
B6: März | C6: 31 | D6: 8 | E6: 2 | F6: 6 | G6: =C6-SUM(D6:F6) -> 15
B7: April | C7: 30 | D7: 8 | F7: 2 | G7: =C7-SUM(D7:F7) -> 20
B8: Mai | C8: 31 | D8: 9 | E8: 3 | F8: 2 | G8: =C8-SUM(D8:F8) -> 17
B9: Juni | C9: 30 | D9: 8 | G9: =C9-SUM(D9:F9) -> 22
B10: Juli | C10: 31 | D10: 9 | F10: 17 | G10: =C10-SUM(D10:F10) -> 5
B11: August | C11: 31 | D11: 9 | F11: 12 | G11: =C11-SUM(D11:F11) -> 10
B12: September | C12: 30 | D12: 8 | G12: =C12-SUM(D12:F12) -> 22
B13: Oktober | C13: 31 | D13: 8 | E13: 2 | F13: 9 | G13: =C13-SUM(D13:F13) -> 12
B14: November | C14: 30 | D14: 8 | G14: =C14-SUM(D14:F14) -> 22
B15: Dezember | C15: 31 | D15: 6 | E15: 2 | F15: 6 | G15: =C15-SUM(D15:F15) -> 17
B16: Summe | C16: =SUM(C4:C15) -> 365 | D16: =SUM(D4:D15) -> 99 | E16: =SUM(E4:E15) -> 10 | F16: =SUM(F4:F15) -> 60 | G16: =SUM(G4:G15) -> 196
B17: * je 1 Reinigungstag am Ende der Winter-, Frühjahrs-, Sommer- und Herbstferien
B41: grün: | C41: Schulferien Niedersachsen
B42: rot: | C42: gesetzliche Feiertage

Sheet Leistungswerte
A1: Kalkulationsschema für die Leistung je Reinigungsstunde
A2: Bietername: | B2: =IF(Bieter<>"",Bieter,"Bietername fehlt !") -> Bietername fehlt !
A4: Leistungswerte je Reinigungsgruppe
C6: Intervall pro | F6: Grundschule Stelingen (Altbau / Neubau) | G6: ='Objekt (3)'!$O$2 -> GS Stelingen (Sporthalle)
A7: Reinigungsgruppe / Reinigungsbereich | C7: Woche | D7: Monat | E7: Jahr | F7: Leistung (m²/Std.) | G7: Leistung (m²/Std.)
A8: 46492 | B8: Schulgebäude (S)
A9: S1-3 | B9: Unterrichtsräume, Klassenräume, Gruppenräume | C9: 3 | F9: 0
A10: S2-3 | B10: Fachklassen, naturwissenschaftliche und technische Unterrichtsräume, Mehrzweckräume | C10: 3 | F10: 0
A11: S3-1 | B11: Werkräume, Kunst- und Handarbeitsräume | C11: 1 | F11: 0
A12: S4-1 | B12: Vorbereitungsräume, Sammlungen und Kartenräume | C12: 1 | F12: 0
A13: S5-5 | B13: Sporthallen | C13: 5 | G13: 0
A14: S6-2 | B14: Bibliotheken und Medienräume | C14: 2 | F14: 0
A15: S7-2 | B15: Verwaltungs- und Büroräume, Lehrerzimmer, Besprechungs- und Konferenzräume, Elternsprechzimmer, Kopierräume, Arztzimmer | C15: 2 | F15: 0
A16: S7-5 | B16: Verwaltungs- und Büroräume, Lehrerzimmer, Besprechungs- und Konferenzräume, Elternsprechzimmer, Kopierräume, Arztzimmer | C16: 5 | F16: 0
A17: S8-5 | B17: Garderoben, Umkleideräume | C17: 5 | G17: 0
A18: S9-3 | B18: Regie- und Aufsichtsräume | C18: 3 | G18: 0
A19: S10-5 | B19: Verkehrsflächen (Flure, Foyer, Eingangsbereiche) | C19: 5 | F19: 0 | G19: 0
A20: S11-5 | B20: Verkehrsflächen (Treppen, Treppenhäuser) | C20: 5 | F20: 0
A21: S12-5 | B21: Sanitärräume (Toiletten, Waschräume, Duschen) | C21: 5 | F21: 0 | G21: 0
A22: S13-5 | B22: Sozialräume (Cafeteria, Mensa) | C22: 5 | F22: 0
A23: S14-5 | B23: Lehrküchen, Küchen zur Schülerverpflegung | C23: 5 | F23: 0
A24: S15-4J | B24: Lager-/Abstellflächen, Archive, Geräteräume, Fahrradabstellräume, Keller | E24: 4 | G24: 0
A25: S15-1M | B25: Lager-/Abstellflächen, Archive, Geräteräume, Fahrradabstellräume, Keller | D25: 1 | F25: 0 | G25: 0
A26: S21-5 | B26: Windfang, Windschleusen | C26: 5 | F26: 0
A27: S22-5 | B27: Aufzüge | C27: 5 | F27: 0
A28: S-GR | B28: Grundreinigung | E28: 1 | F28: 0 | G28: 0
A29: KR | B29: Keine Reinigung | C29: 0 | D29: 0 | E29: 0

Sheet Objekt (1)
G2: =IF(Bieter<>"",Bieter,"Bietername fehlt !") -> Bietername fehlt ! | O2: Grundschule Stelingen (Altbau) | P2: 6
E4: Zusammenfassung Kalkulation Unterhaltsreinigung: | L4: Zusammenfassung Kalkulation Grundreinigung:
E5: Reinigungstage pro Jahr: | G5: =RT_Schule -> 196 | L5: Grundreinigung zu kalkulieren (ja/nein): | O5: ja
E6: Reinigungstage pro Woche: | G6: 5
E7: Grundfläche: | G7: =SUM($G$23:$G$39) -> 400.04 | L7: Grundfläche: | O7: =IF($O$5="JA",$G$48,0) -> 400.04
E8: Reinigungsfläche pro Jahr: | G8: =SUM($L$23:$L$39) -> 62826.232 | L8: Reinigungsfläche pro Jahr: | O8: =IF($O$5="JA",$L$48,0) -> 400.04
E9: Reinigungsstunden pro Jahr: | G9: =SUM($O$23:$O$39) -> 0 | L9: Reinigungsstunden pro Jahr: | O9: =IF($O$5="JA",$O$48,0) -> 0
E10: Reinigungsstd. pro Tag (Durchschnitt): | G10: =G9/G5 -> 0
E11: Leistung pro Stunde (Durchschnitt): | G11: =IF(G9>0,G8/G9,0) -> 0 | L11: Leistung pro Stunde (Durchschnitt): | O11: =IF($O$5="JA",$O$8/$O$9,0) -> #DIV/0!
E12: Std.-Verr.-Satz (netto / Durchschnitt): | G12: =IF(G9>0,G14/G9,0) -> 0 | L12: Std.-Verr.-Satz (netto / Durchschnitt): | O12: =IF($O$5="JA",$O$14/$O$9,0) -> #DIV/0!
E14: Preis pro Tag / pro Jahr (netto) | F14: =G14/G5 -> 0 | G14: =SUM(Q23:Q39) -> 0 | L14: Preis pro Jahr (netto) | O14: =IF($O$5="JA",$Q$48,0) -> 0
E15: Mehrwertsteuer (19%) | G15: =G14*0.19 -> 0 | L15: Mehrwertsteuer (19%) | O15: =IF($O$5="JA",O14*0.19,0) -> 0
E16: Preis pro Jahr (brutto) | G16: =G14+G15 -> 0 | L16: Preis pro Jahr (brutto) | O16: =IF(O14<>0,SUM(O14:O15),0) -> 0
E18: Zur Angebotsübersicht | L18: Zu den Leistungswerten
A20: Pos. | B20: Etage | C20: Bauteil | D20: Nr. | E20: Gebäude / | F20: Bodenbelag | G20: Grundfläche | H20: LV | I20: Intervall pro.. | L20: Reinigungsfläche | M20: Leistung | N20: Zeit/Ausf. | O20: Reinigungsstunden | P20: SVS | Q20: Preis pro Jahr
E21: Raumbezeichnung | G21: [m²] | I21: Woche | J21: Monat | K21: Jahr | L21: [m² / Jahr ] | M21: [m² / Std.] | N21: [hh:mm:ss] | O21: [Std. / Jahr] | P21: [EUR / Std.] | Q21: [EUR netto]
A22: x | B22: x | D22: x | E22: x | F22: x | G22: x | H22: x | I22: x | J22: x | K22: x | L22: x | M22: x | N22: x | O22: x | P22: x | Q22: x
A23: 1 | B23: EG | C23: Altbau | E23: Flur | F23: Linoleum | G23: 25.44 | H23: S10-5 | I23: =VLOOKUP($H23,Leistungswerte!$A$8:$E$29,3,FALSE) -> 5 | J23: =VLOOKUP($H23,Leistungswerte!$A$8:$E$29,4,FALSE) -> 0 | K23: =VLOOKUP($H23,Leistungswerte!$A$8:$E$29,5,FALSE) -> 0 | L23: =($G$5/$G$6*I23+J23*12+K23)*G23 -> 4986.24 | M23: =VLOOKUP($H23,Leistungswerte!$A$8:$G$29,$P$2,FALSE) -> 0 | N23: =IF(M23<>0,G23/M23/24,0) -> 0 | O23: =IF(M23<>0,L23/M23,0) -> 0 | P23: =SVS_UR -> 0 | Q23: =O23*P23 -> 0
A24: =A23+1 -> 2 | B24: EG | C24: Altbau | E24: Aufzug | F24: Linoleum | G24: 2.97 | H24: S22-5 | I24: =VLOOKUP($H24,Leistungswerte!$A$8:$E$29,3,FALSE) -> 5 | J24: =VLOOKUP($H24,Leistungswerte!$A$8:$E$29,4,FALSE) -> 0 | K24: =VLOOKUP($H24,Leistungswerte!$A$8:$E$29,5,FALSE) -> 0 | L24: =($G$5/$G$6*I24+J24*12+K24)*G24 -> 582.12 | M24: =VLOOKUP($H24,Leistungswerte!$A$8:$G$29,$P$2,FALSE) -> 0 | N24: =IF(M24<>0,G24/M24/24,0) -> 0 | O24: =IF(M24<>0,L24/M24,0) -> 0 | P24: =SVS_UR -> 0 | Q24: =O24*P24 -> 0
A25: =A24+1 -> 3 | B25: EG | C25: Altbau | E25: Cafeteria | F25: Linoleum | G25: 44.27 | H25: S13-5 | I25: =VLOOKUP($H25,Leistungswerte!$A$8:$E$29,3,FALSE) -> 5 | J25: =VLOOKUP($H25,Leistungswerte!$A$8:$E$29,4,FALSE) -> 0 | K25: =VLOOKUP($H25,Leistungswerte!$A$8:$E$29,5,FALSE) -> 0 | L25: =($G$5/$G$6*I25+J25*12+K25)*G25 -> 8676.92 | M25: =VLOOKUP($H25,Leistungswerte!$A$8:$G$29,$P$2,FALSE) -> 0 | N25: =IF(M25<>0,G25/M25/24,0) -> 0 | O25: =IF(M25<>0,L25/M25,0) -> 0 | P25: =SVS_UR -> 0 | Q25: =O25*P25 -> 0
A26: =A25+1 -> 4 | B26: EG | C26: Altbau | E26: Flur WC | F26: Fliesen | G26: 1.33 | H26: S10-5 | I26: =VLOOKUP($H26,Leistungswerte!$A$8:$E$29,3,FALSE) -> 5 | J26: =VLOOKUP($H26,Leistungswerte!$A$8:$E$29,4,FALSE) -> 0 | K26: =VLOOKUP($H26,Leistungswerte!$A$8:$E$29,5,FALSE) -> 0 | L26: =($G$5/$G$6*I26+J26*12+K26)*G26 -> 260.68 | M26: =VLOOKUP($H26,Leistungswerte!$A$8:$G$29,$P$2,FALSE) -> 0 | N26: =IF(M26<>0,G26/M26/24,0) -> 0 | O26: =IF(M26<>0,L26/M26,0) -> 0 | P26: =SVS_UR -> 0 | Q26: =O26*P26 -> 0
A27: =A26+1 -> 5 | B27: EG | C27: Altbau | E27: WC Damen | F27: Fliesen | G27: 5.57 | H27: S12-5 | I27: =VLOOKUP($H27,Leistungswerte!$A$8:$E$29,3,FALSE) -> 5 | J27: =VLOOKUP($H27,Leistungswerte!$A$8:$E$29,4,FALSE) -> 0 | K27: =VLOOKUP($H27,Leistungswerte!$A$8:$E$29,5,FALSE) -> 0 | L27: =($G$5/$G$6*I27+J27*12+K27)*G27 -> 1091.72 | M27: =VLOOKUP($H27,Leistungswerte!$A$8:$G$29,$P$2,FALSE) -> 0 | N27: =IF(M27<>0,G27/M27/24,0) -> 0 | O27: =IF(M27<>0,L27/M27,0) -> 0 | P27: =SVS_UR -> 0 | Q27: =O27*P27 -> 0
A28: =A27+1 -> 6 | B28: EG | C28: Altbau | E28: WC Herren | F28: Fliesen | G28: 5.11 | H28: S12-5 | I28: =VLOOKUP($H28,Leistungswerte!$A$8:$E$29,3,FALSE) -> 5 | J28: =VLOOKUP($H28,Leistungswerte!$A$8:$E$29,4,FALSE) -> 0 | K28: =VLOOKUP($H28,Leistungswerte!$A$8:$E$29,5,FALSE) -> 0 | L28: =($G$5/$G$6*I28+J28*12+K28)*G28 -> 1001.56 | M28: =VLOOKUP($H28,Leistungswerte!$A$8:$G$29,$P$2,FALSE) -> 0 | N28: =IF(M28<>0,G28/M28/24,0) -> 0 | O28: =IF(M28<>0,L28/M28,0) -> 0 | P28: =SVS_UR -> 0 | Q28: =O28*P28 -> 0
A29: =A28+1 -> 7 | B29: EG | C29: Altbau | E29: WC barrierefrei | F29: Fliesen | G29: 6.16 | H29: S12-5 | I29: =VLOOKUP($H29,Leistungswerte!$A$8:$E$29,3,FALSE) -> 5 | J29: =VLOOKUP($H29,Leistungswerte!$A$8:$E$29,4,FALSE) -> 0 | K29: =VLOOKUP($H29,Leistungswerte!$A$8:$E$29,5,FALSE) -> 0 | L29: =($G$5/$G$6*I29+J29*12+K29)*G29 -> 1207.36 | M29: =VLOOKUP($H29,Leistungswerte!$A$8:$G$29,$P$2,FALSE) -> 0 | N29: =IF(M29<>0,G29/M29/24,0) -> 0 | O29: =IF(M29<>0,L29/M29,0) -> 0 | P29: =SVS_UR -> 0 | Q29: =O29*P29 -> 0
A30: =A29+1 -> 8 | B30: EG | C30: Altbau | E30: Putzmittelraum | F30: Anstrich | G30: 11.81 | H30: KR | I30: =VLOOKUP($H30,Leistungswerte!$A$8:$E$29,3,FALSE) -> 0 | J30: =VLOOKUP($H30,Leistungswerte!$A$8:$E$29,4,FALSE) -> 0 | K30: =VLOOKUP($H30,Leistungswerte!$A$8:$E$29,5,FALSE) -> 0 | L30: =($G$5/$G$6*I30+J30*12+K30)*G30 -> 0 | M30: =VLOOKUP($H30,Leistungswerte!$A$8:$G$29,$P$2,FALSE) -> 0 | N30: =IF(M30<>0,G30/M30/24,0) -> 0 | O30: =IF(M30<>0,L30/M30,0) -> 0 | P30: =SVS_UR -> 0 | Q30: =O30*P30 -> 0
A31: =A30+1 -> 9 | B31: EG | C31: Altbau | E31: Küche | F31: Fliesen | G31: 21.66 | H31: S14-5 | I31: =VLOOKUP($H31,Leistungswerte!$A$8:$E$29,3,FALSE) -> 5 | J31: =VLOOKUP($H31,Leistungswerte!$A$8:$E$29,4,FALSE) -> 0 | K31: =VLOOKUP($H31,Leistungswerte!$A$8:$E$29,5,FALSE) -> 0 | L31: =($G$5/$G$6*I31+J31*12+K31)*G31 -> 4245.36 | M31: =VLOOKUP($H31,Leistungswerte!$A$8:$G$29,$P$2,FALSE) -> 0 | N31: =IF(M31<>0,G31/M31/24,0) -> 0 | O31: =IF(M31<>0,L31/M31,0) -> 0 | P31: =SVS_UR -> 0 | Q31: =O31*P31 -> 0
A32: =A31+1 -> 10 | B32: EG | C32: Altbau | E32: Mensa | F32: Linoleum | G32: 80.71 | H32: S13-5 | I32: =VLOOKUP($H32,Leistungswerte!$A$8:$E$29,3,FALSE) -> 5 | J32: =VLOOKUP($H32,Leistungswerte!$A$8:$E$29,4,FALSE) -> 0 | K32: =VLOOKUP($H32,Leistungswerte!$A$8:$E$29,5,FALSE) -> 0 | L32: =($G$5/$G$6*I32+J32*12+K32)*G32 -> 15819.16 | M32: =VLOOKUP($H32,Leistungswerte!$A$8:$G$29,$P$2,FALSE) -> 0 | N32: =IF(M32<>0,G32/M32/24,0) -> 0 | O32: =IF(M32<>0,L32/M32,0) -> 0 | P32: =SVS_UR -> 0 | Q32: =O32*P32 -> 0
A33: =A32+1 -> 11 | B33: EG | C33: Altbau | E33: Treppe | F33: Betonwerkstein | G33: 14.47 | H33: S11-5 | I33: =VLOOKUP($H33,Leistungswerte!$A$8:$E$29,3,FALSE) -> 5 | J33: =VLOOKUP($H33,Leistungswerte!$A$8:$E$29,4,FALSE) -> 0 | K33: =VLOOKUP($H33,Leistungswerte!$A$8:$E$29,5,FALSE) -> 0 | L33: =($G$5/$G$6*I33+J33*12+K33)*G33 -> 2836.12 | M33: =VLOOKUP($H33,Leistungswerte!$A$8:$G$29,$P$2,FALSE) -> 0 | N33: =IF(M33<>0,G33/M33/24,0) -> 0 | O33: =IF(M33<>0,L33/M33,0) -> 0 | P33: =SVS_UR -> 0 | Q33: =O33*P33 -> 0
A34: =A33+1 -> 12 | B34: DG | C34: Altbau | E34: Flur | F34: Linoleum | G34: 14.15 | H34: S10-5 | I34: =VLOOKUP($H34,Leistungswerte!$A$8:$E$29,3,FALSE) -> 5 | J34: =VLOOKUP($H34,Leistungswerte!$A$8:$E$29,4,FALSE) -> 0 | K34: =VLOOKUP($H34,Leistungswerte!$A$8:$E$29,5,FALSE) -> 0 | L34: =($G$5/$G$6*I34+J34*12+K34)*G34 -> 2773.4 | M34: =VLOOKUP($H34,Leistungswerte!$A$8:$G$29,$P$2,FALSE) -> 0 | N34: =IF(M34<>0,G34/M34/24,0) -> 0 | O34: =IF(M34<>0,L34/M34,0) -> 0 | P34: =SVS_UR -> 0 | Q34: =O34*P34 -> 0
A35: =A34+1 -> 13 | B35: DG | C35: Altbau | E35: Computerraum | F35: Linoleum | G35: 71.31 | H35: S2-3 | I35: =VLOOKUP($H35,Leistungswerte!$A$8:$E$29,3,FALSE) -> 3 | J35: =VLOOKUP($H35,Leistungswerte!$A$8:$E$29,4,FALSE) -> 0 | K35: =VLOOKUP($H35,Leistungswerte!$A$8:$E$29,5,FALSE) -> 0 | L35: =($G$5/$G$6*I35+J35*12+K35)*G35 -> 8386.056 | M35: =VLOOKUP($H35,Leistungswerte!$A$8:$G$29,$P$2,FALSE) -> 0 | N35: =IF(M35<>0,G35/M35/24,0) -> 0 | O35: =IF(M35<>0,L35/M35,0) -> 0 | P35: =SVS_UR -> 0 | Q35: =O35*P35 -> 0
... A38: =A37+1 -> 16 | B38: DG | C38: Altbau | E38: Mehrzweckraum | F38: Linoleum | G38: 68.07 | H38: S2-3 | I38: =VLOOKUP($H38,Leistungswerte!$A$8:$E$29,3,FALSE) -> 3 | J38: =VLOOKUP($H38,Leistungswerte!$A$8:$E$29,4,FALSE) -> 0 | K38: =VLOOKUP($H38,Leistungswerte!$A$8:$E$29,5,FALSE) -> 0 | L38: =($G$5/$G$6*I38+J38*12+K38)*G38 -> 8005.032 | M38: =VLOOKUP($H38,Leistungswerte!$A$8:$G$29,$P$2,FALSE) -> 0 | N38: =IF(M38<>0,G38/M38/24,0) -> 0 | O38: =IF(M38<>0,L38/M38,0) -> 0 | P38: =SVS_UR -> 0 | Q38: =O38*P38 -> 0
A40: Summen / Durchschnitt pro Jahr (Unterhaltsreinigung): | G40: =SUBTOTAL(9,G23:G39) -> 400.04 | L40: =SUBTOTAL(9,L23:L39) -> 62826.232 | M40: =L40/O40 -> #DIV/0! | O40: =SUBTOTAL(9,O23:O39) -> 0 | Q40: =SUBTOTAL(9,Q23:Q39) -> 0
A43: Pos. | B43: Etage | D43: Nr. | E43: Gebäude / | F43: Bodenbelag | G43: Grundfläche | H43: LV | I43: Intervall pro.. | L43: Reinigungsfläche | M43: Leistung | N43: Zeit/Ausf. | O43: Reinigungsstunden | P43: SVS | Q43: Preis pro Jahr
E44: Raumbezeichnung | G44: [m²] | I44: Woche | J44: Monat | K44: Jahr | L44: [m² / Jahr ] | M44: [m² / Std.] | N44: [hh:mm:ss] | O44: [Std. / Jahr] | P44: [EUR / Std.] | Q44: [EUR netto]
A45: x | B45: x | D45: x | E45: x | F45: x | G45: x | H45: x | I45: x | J45: x | K45: x | L45: x | M45: x | N45: x | O45: x | P45: x | Q45: x
A46: =A38+1 -> 17 | E46: Grundreinigung aller Räume | G46: =IF($O$5="JA",SUM($G$22:G39),0) -> 400.04 | H46: S-GR | I46: =VLOOKUP($H46,Leistungswerte!$A$8:$E$29,3,FALSE) -> 0 | J46: =VLOOKUP($H46,Leistungswerte!$A$8:$E$29,4,FALSE) -> 0 | K46: =VLOOKUP($H46,Leistungswerte!$A$8:$E$29,5,FALSE) -> 1 | L46: =($G$5/$G$6*I46+J46*12+K46)*G46 -> 400.04 | M46: =VLOOKUP($H46,Leistungswerte!$A$8:$G$29,$P$2,FALSE) -> 0 | N46: =IF(M46<>0,G46/M46/24,0) -> 0 | O46: =IF(M46<>0,L46/M46,0) -> 0 | P46: =SVS_GR -> 0 | Q46: =O46*P46 -> 0
A48: Summen / Durchschnitt pro Jahr (Grundreinigung): | G48: =SUM(G46:G47) -> 400.04 | L48: =SUM(L46:L47) -> 400.04 | M48: =L48/O48 -> #DIV/0! | O48: =SUM(O46:O47) -> 0 | Q48: =SUM(Q46:Q47) -> 0
E51: Hinweise zum Objekt, Besonderheiten, usw.:
E52: Adresse: | F52: Grundschule Stelingen (Altbau), Stöckener Straße 2, 30827 Garbsen
E53: Reinigungstage: | F53: Schultage montags-freitags, zzgl. 1 Reinigungstag am Ende der Winter-, Frühjahrs-, Sommer- und Herbstferien
...

Sheet Objekt (2)
G2: =IF(Bieter<>"",Bieter,"Bietername fehlt !") -> Bietername fehlt ! | O2: Grundschule Stelingen (Neubau) | P2: 6
E4: Zusammenfassung Kalkulation Unterhaltsreinigung: | L4: Zusammenfassung Kalkulation Grundreinigung:
E5: Reinigungstage pro Jahr: | G5: =RT_Schule -> 196 | L5: Grundreinigung zu kalkulieren (ja/nein): | O5: ja
E6: Reinigungstage pro Woche: | G6: 5
E7: Grundfläche: | G7: =SUM($G$23:$G$81) -> 1617.68 | L7: Grundfläche: | O7: =IF($O$5="JA",$G$90,0) -> 1617.68
E8: Reinigungsfläche pro Jahr: | G8: =SUM($L$23:$L$81) -> 223970.37 | L8: Reinigungsfläche pro Jahr: | O8: =IF($O$5="JA",$L$90,0) -> 1617.68
E9: Reinigungsstunden pro Jahr: | G9: =SUM($O$23:$O$81) -> 0 | L9: Reinigungsstunden pro Jahr: | O9: =IF($O$5="JA",$O$90,0) -> 0
E10: Reinigungsstd. pro Tag (Durchschnitt): | G10: =G9/G5 -> 0
E11: Leistung pro Stunde (Durchschnitt): | G11: =IF(G9>0,G8/G9,0) -> 0 | L11: Leistung pro Stunde (Durchschnitt): | O11: =IF($O$5="JA",$O$8/$O$9,0) -> #DIV/0!
E12: Std.-Verr.-Satz (netto / Durchschnitt): | G12: =IF(G9>0,G14/G9,0) -> 0 | L12: Std.-Verr.-Satz (netto / Durchschnitt): | O12: =IF($O$5="JA",$O$14/$O$9,0) -> #DIV/0!
E14: Preis pro Tag / pro Jahr (netto) | F14: =G14/G5 -> 0 | G14: =SUM(Q23:Q81) -> 0 | L14: Preis pro Jahr (netto) | O14: =IF($O$5="JA",$Q$90,0) -> 0
E15: Mehrwertsteuer (19%) | G15: =G14*0.19 -> 0 | L15: Mehrwertsteuer (19%) | O15: =IF($O$5="JA",O14*0.19,0) -> 0
E16: Preis pro Jahr (brutto) | G16: =G14+G15 -> 0 | L16: Preis pro Jahr (brutto) | O16: =IF(O14<>0,SUM(O14:O15),0) -> 0
E18: Zur Angebotsübersicht | L18: Zu den Leistungswerten
A20: Pos. | B20: Etage | C20: Bauteil | D20: Nr. | E20: Gebäude / | F20: Bodenbelag | G20: Grundfläche | H20: LV | I20: Intervall pro.. | L20: Reinigungsfläche | M20: Leistung | N20: Zeit/Ausf. | O20: Reinigungsstunden | P20: SVS | Q20: Preis pro Jahr
E21: Raumbezeichnung | G21: [m²] | I21: Woche | J21: Monat | K21: Jahr | L21: [m² / Jahr ] | M21: [m² / Std.] | N21: [hh:mm:ss] | O21: [Std. / Jahr] | P21: [EUR / Std.] | Q21: [EUR netto]
A22: x | B22: x | D22: x | E22: x | F22: x | G22: x | H22: x | I22: x | J22: x | K22: x | L22: x | M22: x | N22: x | O22: x | P22: x | Q22: x
A23: 1 | B23: EG | C23: Neubau | E23: Windfang | F23: Betonwerkstein | G23: 9.2 | H23: S21-5 | I23: =VLOOKUP($H23,Leistungswerte!$A$8:$E$29,3,FALSE) -> 5 | J23: =VLOOKUP($H23,Leistungswerte!$A$8:$E$29,4,FALSE) -> 0 | K23: =VLOOKUP($H23,Leistungswerte!$A$8:$E$29,5,FALSE) -> 0 | L23: =($G$5/$G$6*I23+J23*12+K23)*G23 -> 1803.2 | M23: =VLOOKUP($H23,Leistungswerte!$A$8:$G$29,$P$2,FALSE) -> 0 | N23: =IF(M23<>0,G23/M23/24,0) -> 0 | O23: =IF(M23<>0,L23/M23,0) -> 0 | P23: =SVS_UR -> 0 | Q23: =O23*P23 -> 0
A24: =A23+1 -> 2 | B24: EG | C24: Neubau | E24: Stuhllager | F24: Anstrich | G24: 9.44 | H24: S15-1M | I24: =VLOOKUP($H24,Leistungswerte!$A$8:$E$29,3,FALSE) -> 0 | J24: =VLOOKUP($H24,Leistungswerte!$A$8:$E$29,4,FALSE) -> 1 | K24: =VLOOKUP($H24,Leistungswerte!$A$8:$E$29,5,FALSE) -> 0 | L24: =($G$5/$G$6*I24+J24*12+K24)*G24 -> 113.28 | M24: =VLOOKUP($H24,Leistungswerte!$A$8:$G$29,$P$2,FALSE) -> 0 | N24: =IF(M24<>0,G24/M24/24,0) -> 0 | O24: =IF(M24<>0,L24/M24,0) -> 0 | P24: =SVS_UR -> 0 | Q24: =O24*P24 -> 0
A25: =A24+1 -> 3 | B25: EG | C25: Neubau | E25: Eingang | F25: Linoleum | G25: 76.99 | H25: S10-5 | I25: =VLOOKUP($H25,Leistungswerte!$A$8:$E$29,3,FALSE) -> 5 | J25: =VLOOKUP($H25,Leistungswerte!$A$8:$E$29,4,FALSE) -> 0 | K25: =VLOOKUP($H25,Leistungswerte!$A$8:$E$29,5,FALSE) -> 0 | L25: =($G$5/$G$6*I25+J25*12+K25)*G25 -> 15090.04 | M25: =VLOOKUP($H25,Leistungswerte!$A$8:$G$29,$P$2,FALSE) -> 0 | N25: =IF(M25<>0,G25/M25/24,0) -> 0 | O25: =IF(M25<>0,L25/M25,0) -> 0 | P25: =SVS_UR -> 0 | Q25: =O25*P25 -> 0
A26: =A25+1 -> 4 | B26: EG | C26: Neubau | E26: Musik | F26: Linoleum | G26: 75.44 | H26: S2-3 | I26: =VLOOKUP($H26,Leistungswerte!$A$8:$E$29,3,FALSE) -> 3 | J26: =VLOOKUP($H26,Leistungswerte!$A$8:$E$29,4,FALSE) -> 0 | K26: =VLOOKUP($H26,Leistungswerte!$A$8:$E$29,5,FALSE) -> 0 | L26: =($G$5/$G$6*I26+J26*12+K26)*G26 -> 8871.744 | M26: =VLOOKUP($H26,Leistungswerte!$A$8:$G$29,$P$2,FALSE) -> 0 | N26: =IF(M26<>0,G26/M26/24,0) -> 0 | O26: =IF(M26<>0,L26/M26,0) -> 0 | P26: =SVS_UR -> 0 | Q26: =O26*P26 -> 0
A27: =A26+1 -> 5 | B27: EG | C27: Neubau | E27: Flur 1 | F27: Linoleum | G27: 103.64 | H27: S10-5 | I27: =VLOOKUP($H27,Leistungswerte!$A$8:$E$29,3,FALSE) -> 5 | J27: =VLOOKUP($H27,Leistungswerte!$A$8:$E$29,4,FALSE) -> 0 | K27: =VLOOKUP($H27,Leistungswerte!$A$8:$E$29,5,FALSE) -> 0 | L27: =($G$5/$G$6*I27+J27*12+K27)*G27 -> 20313.44 | M27: =VLOOKUP($H27,Leistungswerte!$A$8:$G$29,$P$2,FALSE) -> 0 | N27: =IF(M27<>0,G27/M27/24,0) -> 0 | O27: =IF(M27<>0,L27/M27,0) -> 0 | P27: =SVS_UR -> 0 | Q27: =O27*P27 -> 0
A28: =A27+1 -> 6 | B28: EG | C28: Neubau | E28: Aufzug | F28: Linoleum | G28: 3.3 | H28: S22-5 | I28: =VLOOKUP($H28,Leistungswerte!$A$8:$E$29,3,FALSE) -> 5 | J28: =VLOOKUP($H28,Leistungswerte!$A$8:$E$29,4,FALSE) -> 0 | K28: =VLOOKUP($H28,Leistungswerte!$A$8:$E$29,5,FALSE) -> 0 | L28: =($G$5/$G$6*I28+J28*12+K28)*G28 -> 646.8 | M28: =VLOOKUP($H28,Leistungswerte!$A$8:$G$29,$P$2,FALSE) -> 0 | N28: =IF(M28<>0,G28/M28/24,0) -> 0 | O28: =IF(M28<>0,L28/M28,0) -> 0 | P28: =SVS_UR -> 0 | Q28: =O28*P28 -> 0
A29: =A28+1 -> 7 | B29: EG | C29: Neubau | E29: AUR 1 | F29: Linoleum | G29: 63.73 | H29: S1-3 | I29: =VLOOKUP($H29,Leistungswerte!$A$8:$E$29,3,FALSE) -> 3 | J29: =VLOOKUP($H29,Leistungswerte!$A$8:$E$29,4,FALSE) -> 0 | K29: =VLOOKUP($H29,Leistungswerte!$A$8:$E$29,5,FALSE) -> 0 | L29: =($G$5/$G$6*I29+J29*12+K29)*G29 -> 7494.648 | M29: =VLOOKUP($H29,Leistungswerte!$A$8:$G$29,$P$2,FALSE) -> 0 | N29: =IF(M29<>0,G29/M29/24,0) -> 0 | O29: =IF(M29<>0,L29/M29,0) -> 0 | P29: =SVS_UR -> 0 | Q29: =O29*P29 -> 0
A30: =A29+1 -> 8 | B30: EG | C30: Neubau | E30: KGR 1 | F30: Linoleum | G30: 21 | H30: S1-3 | I30: =VLOOKUP($H30,Leistungswerte!$A$8:$E$29,3,FALSE) -> 3 | J30: =VLOOKUP($H30,Leistungswerte!$A$8:$E$29,4,FALSE) -> 0 | K30: =VLOOKUP($H30,Leistungswerte!$A$8:$E$29,5,FALSE) -> 0 | L30: =($G$5/$G$6*I30+J30*12+K30)*G30 -> 2469.6 | M30: =VLOOKUP($H30,Leistungswerte!$A$8:$G$29,$P$2,FALSE) -> 0 | N30: =IF(M30<>0,G30/M30/24,0) -> 0 | O30: =IF(M30<>0,L30/M30,0) -> 0 | P30: =SVS_UR -> 0 | Q30: =O30*P30 -> 0
A31: =A30+1 -> 9 | B31: EG | C31: Neubau | E31: AUR 2 | F31: Linoleum | G31: 65.05 | H31: S1-3 | I31: =VLOOKUP($H31,Leistungswerte!$A$8:$E$29,3,FALSE) -> 3 | J31: =VLOOKUP($H31,Leistungswerte!$A$8:$E$29,4,FALSE) -> 0 | K31: =VLOOKUP($H31,Leistungswerte!$A$8:$E$29,5,FALSE) -> 0 | L31: =($G$5/$G$6*I31+J31*12+K31)*G31 -> 7649.88 | M31: =VLOOKUP($H31,Leistungswerte!$A$8:$G$29,$P$2,FALSE) -> 0 | N31: =IF(M31<>0,G31/M31/24,0) -> 0 | O31: =IF(M31<>0,L31/M31,0) -> 0 | P31: =SVS_UR -> 0 | Q31: =O31*P31 -> 0
A32: =A31+1 -> 10 | B32: EG | C32: Neubau | E32: Vorraum WC Damen | F32: Fliesen | G32: 4.9 | H32: S12-5 | I32: =VLOOKUP($H32,Leistungswerte!$A$8:$E$29,3,FALSE) -> 5 | J32: =VLOOKUP($H32,Leistungswerte!$A$8:$E$29,4,FALSE) -> 0 | K32: =VLOOKUP($H32,Leistungswerte!$A$8:$E$29,5,FALSE) -> 0 | L32: =($G$5/$G$6*I32+J32*12+K32)*G32 -> 960.4 | M32: =VLOOKUP($H32,Leistungswerte!$A$8:$G$29,$P$2,FALSE) -> 0 | N32: =IF(M32<>0,G32/M32/24,0) -> 0 | O32: =IF(M32<>0,L32/M32,0) -> 0 | P32: =SVS_UR -> 0 | Q32: =O32*P32 -> 0
A33: =A32+1 -> 11 | B33: EG | C33: Neubau | E33: WC Damen | F33: Fliesen | G33: 9.38 | H33: S12-5 | I33: =VLOOKUP($H33,Leistungswerte!$A$8:$E$29,3,FALSE) -> 5 | J33: =VLOOKUP($H33,Leistungswerte!$A$8:$E$29,4,FALSE) -> 0 | K33: =VLOOKUP($H33,Leistungswerte!$A$8:$E$29,5,FALSE) -> 0 | L33: =($G$5/$G$6*I33+J33*12+K33)*G33 -> 1838.48 | M33: =VLOOKUP($H33,Leistungswerte!$A$8:$G$29,$P$2,FALSE) -> 0 | N33: =IF(M33<>0,G33/M33/24,0) -> 0 | O33: =IF(M33<>0,L33/M33,0) -> 0 | P33: =SVS_UR -> 0 | Q33: =O33*P33 -> 0
A34: =A33+1 -> 12 | B34: EG | C34: Neubau | E34: WC Herren | F34: Fliesen | G34: 9.36 | H34: S12-5 | I34: =VLOOKUP($H34,Leistungswerte!$A$8:$E$29,3,FALSE) -> 5 | J34: =VLOOKUP($H34,Leistungswerte!$A$8:$E$29,4,FALSE) -> 0 | K34: =VLOOKUP($H34,Leistungswerte!$A$8:$E$29,5,FALSE) -> 0 | L34: =($G$5/$G$6*I34+J34*12+K34)*G34 -> 1834.56 | M34: =VLOOKUP($H34,Leistungswerte!$A$8:$G$29,$P$2,FALSE) -> 0 | N34: =IF(M34<>0,G34/M34/24,0) -> 0 | O34: =IF(M34<>0,L34/M34,0) -> 0 | P34: =SVS_UR -> 0 | Q34: =O34*P34 -> 0
A35: =A34+1 -> 13 | B35: EG | C35: Neubau | E35: Vorraum WC Herren | F35: Fliesen | G35: 4.89 | H35: S12-5 | I35: =VLOOKUP($H35,Leistungswerte!$A$8:$E$29,3,FALSE) -> 5 | J35: =VLOOKUP($H35,Leistungswerte!$A$8:$E$29,4,FALSE) -> 0 | K35: =VLOOKUP($H35,Leistungswerte!$A$8:$E$29,5,FALSE) -> 0 | L35: =($G$5/$G$6*I35+J35*12+K35)*G35 -> 958.44 | M35: =VLOOKUP($H35,Leistungswerte!$A$8:$G$29,$P$2,FALSE) -> 0 | N35: =IF(M35<>0,G35/M35/24,0) -> 0 | O35: =IF(M35<>0,L35/M35,0) -> 0 | P35: =SVS_UR -> 0 | Q35: =O35*P35 -> 0
... A56: =A55+1 -> 34 | B56: OG | C56: Neubau | E56: AUR 5 | F56: Linoleum | G56: 63.73 | H56: S1-3 | I56: =VLOOKUP($H56,Leistungswerte!$A$8:$E$29,3,FALSE) -> 3 | J56: =VLOOKUP($H56,Leistungswerte!$A$8:$E$29,4,FALSE) -> 0 | K56: =VLOOKUP($H56,Leistungswerte!$A$8:$E$29,5,FALSE) -> 0 | L56: =($G$5/$G$6*I56+J56*12+K56)*G56 -> 7494.648 | M56: =VLOOKUP($H56,Leistungswerte!$A$8:$G$29,$P$2,FALSE) -> 0 | N56: =IF(M56<>0,G56/M56/24,0) -> 0 | O56: =IF(M56<>0,L56/M56,0) -> 0 | P56: =SVS_UR -> 0 | Q56: =O56*P56 -> 0
A57: =A56+1 -> 35 | B57: OG | C57: Neubau | E57: KGR 3 | F57: Linoleum | G57: 21 | H57: S1-3 | I57: =VLOOKUP($H57,Leistungswerte!$A$8:$E$29,3,FALSE) -> 3 | J57: =VLOOKUP($H57,Leistungswerte!$A$8:$E$29,4,FALSE) -> 0 | K57: =VLOOKUP($H57,Leistungswerte!$A$8:$E$29,5,FALSE) -> 0 | L57: =($G$5/$G$6*I57+J57*12+K57)*G57 -> 2469.6 | M57: =VLOOKUP($H57,Leistungswerte!$A$8:$G$29,$P$2,FALSE) -> 0 | N57: =IF(M57<>0,G57/M57/24,0) -> 0 | O57: =($G$5/$G$6*I57+J57*12+K57)*N57*24 -> 0 | P57: =SVS_UR -> 0 | Q57: =O57*P57 -> 0
A58: =A57+1 -> 36 | B58: OG | C58: Neubau | E58: AUR 6 | F58: Linoleum | G58: 65.05 | H58: S1-3 | I58: =VLOOKUP($H58,Leistungswerte!$A$8:$E$29,3,FALSE) -> 3 | J58: =VLOOKUP($H58,Leistungswerte!$A$8:$E$29,4,FALSE) -> 0 | K58: =VLOOKUP($H58,Leistungswerte!$A$8:$E$29,5,FALSE) -> 0 | L58: =($G$5/$G$6*I58+J58*12+K58)*G58 -> 7649.88 | M58: =VLOOKUP($H58,Leistungswerte!$A$8:$G$29,$P$2,FALSE) -> 0 | N58: =IF(M58<>0,G58/M58/24,0) -> 0 | O58: =IF(M58<>0,L58/M58,0) -> 0 | P58: =SVS_UR -> 0 | Q58: =O58*P58 -> 0
A59: =A58+1 -> 37 | B59: OG | C59: Neubau | E59: Vorraum WC Damen | F59: Fliesen | G59: 4.9 | H59: S12-5 | I59: =VLOOKUP($H59,Leistungswerte!$A$8:$E$29,3,FALSE) -> 5 | J59: =VLOOKUP($H59,Leistungswerte!$A$8:$E$29,4,FALSE) -> 0 | K59: =VLOOKUP($H59,Leistungswerte!$A$8:$E$29,5,FALSE) -> 0 | L59: =($G$5/$G$6*I59+J59*12+K59)*G59 -> 960.4 | M59: =VLOOKUP($H59,Leistungswerte!$A$8:$G$29,$P$2,FALSE) -> 0 | N59: =IF(M59<>0,G59/M59/24,0) -> 0 | O59: =IF(M59<>0,L59/M59,0) -> 0 | P59: =SVS_UR -> 0 | Q59: =O59*P59 -> 0
A60: =A59+1 -> 38 | B60: OG | C60: Neubau | E60: WC Damen | F60: Fliesen | G60: 9.38 | H60: S12-5 | I60: =VLOOKUP($H60,Leistungswerte!$A$8:$E$29,3,FALSE) -> 5 | J60: =VLOOKUP($H60,Leistungswerte!$A$8:$E$29,4,FALSE) -> 0 | K60: =VLOOKUP($H60,Leistungswerte!$A$8:$E$29,5,FALSE) -> 0 | L60: =($G$5/$G$6*I60+J60*12+K60)*G60 -> 1838.48 | M60: =VLOOKUP($H60,Leistungswerte!$A$8:$G$29,$P$2,FALSE) -> 0 | N60: =IF(M60<>0,G60/M60/24,0) -> 0 | O60: =IF(M60<>0,L60/M60,0) -> 0 | P60: =SVS_UR -> 0 | Q60: =O60*P60 -> 0
A61: =A60+1 -> 39 | B61: OG | C61: Neubau | E61: WC Herren | F61: Fliesen | G61: 9.36 | H61: S12-5 | I61: =VLOOKUP($H61,Leistungswerte!$A$8:$E$29,3,FALSE) -> 5 | J61: =VLOOKUP($H61,Leistungswerte!$A$8:$E$29,4,FALSE) -> 0 | K61: =VLOOKUP($H61,Leistungswerte!$A$8:$E$29,5,FALSE) -> 0 | L61: =($G$5/$G$6*I61+J61*12+K61)*G61 -> 1834.56 | M61: =VLOOKUP($H61,Leistungswerte!$A$8:$G$29,$P$2,FALSE) -> 0 | N61: =IF(M61<>0,G61/M61/24,0) -> 0 | O61: =IF(M61<>0,L61/M61,0) -> 0 | P61: =SVS_UR -> 0 | Q61: =O61*P61 -> 0
A62: =A61+1 -> 40 | B62: OG | C62: Neubau | E62: Vorraum WC Herren | F62: Fliesen | G62: 4.89 | H62: S12-5 | I62: =VLOOKUP($H62,Leistungswerte!$A$8:$E$29,3,FALSE) -> 5 | J62: =VLOOKUP($H62,Leistungswerte!$A$8:$E$29,4,FALSE) -> 0 | K62: =VLOOKUP($H62,Leistungswerte!$A$8:$E$29,5,FALSE) -> 0 | L62: =($G$5/$G$6*I62+J62*12+K62)*G62 -> 958.44 | M62: =VLOOKUP($H62,Leistungswerte!$A$8:$G$29,$P$2,FALSE) -> 0 | N62: =IF(M62<>0,G62/M62/24,0) -> 0 | O62: =IF(M62<>0,L62/M62,0) -> 0 | P62: =SVS_UR -> 0 | Q62: =O62*P62 -> 0
A63: =A62+1 -> 41 | B63: OG | C63: Neubau | E63: Lüftung 3 | F63: Linoleum | G63: 0.65 | H63: KR | I63: =VLOOKUP($H63,Leistungswerte!$A$8:$E$29,3,FALSE) -> 0 | J63: =VLOOKUP($H63,Leistungswerte!$A$8:$E$29,4,FALSE) -> 0 | K63: =VLOOKUP($H63,Leistungswerte!$A$8:$E$29,5,FALSE) -> 0 | L63: =($G$5/$G$6*I63+J63*12+K63)*G63 -> 0 | M63: =VLOOKUP($H63,Leistungswerte!$A$8:$G$29,$P$2,FALSE) -> 0 | N63: =IF(M63<>0,G63/M63/24,0) -> 0 | O63: =IF(M63<>0,L63/M63,0) -> 0 | P63: =SVS_UR -> 0 | Q63: =O63*P63 -> 0
A64: =A63+1 -> 42 | B64: OG | C64: Neubau | E64: AUR 7 | F64: Linoleum | G64: 65.02 | H64: S1-3 | I64: =VLOOKUP($H64,Leistungswerte!$A$8:$E$29,3,FALSE) -> 3 | J64: =VLOOKUP($H64,Leistungswerte!$A$8:$E$29,4,FALSE) -> 0 | K64: =VLOOKUP($H64,Leistungswerte!$A$8:$E$29,5,FALSE) -> 0 | L64: =($G$5/$G$6*I64+J64*12+K64)*G64 -> 7646.352 | M64: =VLOOKUP($H64,Leistungswerte!$A$8:$G$29,$P$2,FALSE) -> 0 | N64: =IF(M64<>0,G64/M64/24,0) -> 0 | O64: =IF(M64<>0,L64/M64,0) -> 0 | P64: =SVS_UR -> 0 | Q64: =O64*P64 -> 0
A65: =A64+1 -> 43 | B65: OG | C65: Neubau | E65: KGR 4 | F65: Linoleum | G65: 21 | H65: S1-3 | I65: =VLOOKUP($H65,Leistungswerte!$A$8:$E$29,3,FALSE) -> 3 | J65: =VLOOKUP($H65,Leistungswerte!$A$8:$E$29,4,FALSE) -> 0 | K65: =VLOOKUP($H65,Leistungswerte!$A$8:$E$29,5,FALSE) -> 0 | L65: =($G$5/$G$6*I65+J65*12+K65)*G65 -> 2469.6 | M65: =VLOOKUP($H65,Leistungswerte!$A$8:$G$29,$P$2,FALSE) -> 0 | N65: =IF(M65<>0,G65/M65/24,0) -> 0 | O65: =IF(M65<>0,L65/M65,0) -> 0 | P65: =SVS_UR -> 0 | Q65: =O65*P65 -> 0
...

Sheet Objekt (3)
G2: =IF(Bieter<>"",Bieter,"Bietername fehlt !") -> Bietername fehlt ! | O2: GS Stelingen (Sporthalle) | P2: 7
E4: Zusammenfassung Kalkulation Unterhaltsreinigung: | L4: Zusammenfassung Kalkulation Grundreinigung:
E5: Reinigungstage pro Jahr: | G5: =RT_Schule -> 196 | L5: Grundreinigung zu kalkulieren (ja/nein): | O5: ja
E6: Reinigungstage pro Woche: | G6: 5
E7: Grundfläche: | G7: =SUM($G$23:$G$43) -> 816.57 | L7: Grundfläche: | O7: =IF($O$5="JA",$G$52,0) -> 816.57
E8: Reinigungsfläche pro Jahr: | G8: =SUM($L$23:$L$43) -> 140146.9 | L8: Reinigungsfläche pro Jahr: | O8: =IF($O$5="JA",$L$52,0) -> 816.57
E9: Reinigungsstunden pro Jahr: | G9: =SUM($O$23:$O$43) -> 0 | L9: Reinigungsstunden pro Jahr: | O9: =IF($O$5="JA",$O$52,0) -> 0
E10: Reinigungsstd. pro Tag (Durchschnitt): | G10: =G9/G5 -> 0
E11: Leistung pro Stunde (Durchschnitt): | G11: =IF(G9>0,G8/G9,0) -> 0 | L11: Leistung pro Stunde (Durchschnitt): | O11: =IF($O$5="JA",$O$8/$O$9,0) -> #DIV/0!
E12: Std.-Verr.-Satz (netto / Durchschnitt): | G12: =IF(G9>0,G14/G9,0) -> 0 | L12: Std.-Verr.-Satz (netto / Durchschnitt): | O12: =IF($O$5="JA",$O$14/$O$9,0) -> #DIV/0!
E14: Preis pro Tag / pro Jahr (netto) | F14: =G14/G5 -> 0 | G14: =SUM(Q23:Q43) -> 0 | L14: Preis pro Jahr (netto) | O14: =IF($O$5="JA",$Q$52,0) -> 0
E15: Mehrwertsteuer (19%) | G15: =G14*0.19 -> 0 | L15: Mehrwertsteuer (19%) | O15: =IF($O$5="JA",O14*0.19,0) -> 0
E16: Preis pro Jahr (brutto) | G16: =G14+G15 -> 0 | L16: Preis pro Jahr (brutto) | O16: =IF(O14<>0,SUM(O14:O15),0) -> 0
E18: Zur Angebotsübersicht | L18: Zu den Leistungswerten
A20: Pos. | B20: Etage | C20: Bauteil | D20: Nr. | E20: Gebäude / | F20: Bodenbelag | G20: Grundfläche | H20: LV | I20: Intervall pro.. | L20: Reinigungsfläche | M20: Leistung | N20: Zeit/Ausf. | O20: Reinigungsstunden | P20: SVS | Q20: Preis pro Jahr
E21: Raumbezeichnung | G21: [m²] | I21: Woche | J21: Monat | K21: Jahr | L21: [m² / Jahr ] | M21: [m² / Std.] | N21: [hh:mm:ss] | O21: [Std. / Jahr] | P21: [EUR / Std.] | Q21: [EUR netto]
A22: x | B22: x | D22: x | E22: x | F22: x | G22: x | H22: x | I22: x | J22: x | K22: x | L22: x | M22: x | N22: x | O22: x | P22: x | Q22: x
A23: 1 | C23: Sporthalle | E23: Flur | F23: Betonwerkstein | G23: 43.13 | H23: S10-5 | I23: =VLOOKUP($H23,Leistungswerte!$A$8:$E$29,3,FALSE) -> 5 | J23: =VLOOKUP($H23,Leistungswerte!$A$8:$E$29,4,FALSE) -> 0 | K23: =VLOOKUP($H23,Leistungswerte!$A$8:$E$29,5,FALSE) -> 0 | L23: =($G$5/$G$6*I23+J23*12+K23)*G23 -> 8453.48 | M23: =VLOOKUP($H23,Leistungswerte!$A$8:$G$29,$P$2,FALSE) -> 0 | N23: =IF(M23<>0,G23/M23/24,0) -> 0 | O23: =IF(M23<>0,L23/M23,0) -> 0 | P23: =SVS_UR -> 0 | Q23: =O23*P23 -> 0
A24: =A23+1 -> 2 | C24: Sporthalle | E24: Umkleide | F24: Linoleum / PVC | G24: 33.48 | H24: S8-5 | I24: =VLOOKUP($H24,Leistungswerte!$A$8:$E$29,3,FALSE) -> 5 | J24: =VLOOKUP($H24,Leistungswerte!$A$8:$E$29,4,FALSE) -> 0 | K24: =VLOOKUP($H24,Leistungswerte!$A$8:$E$29,5,FALSE) -> 0 | L24: =($G$5/$G$6*I24+J24*12+K24)*G24 -> 6562.08 | M24: =VLOOKUP($H24,Leistungswerte!$A$8:$G$29,$P$2,FALSE) -> 0 | N24: =IF(M24<>0,G24/M24/24,0) -> 0 | O24: =IF(M24<>0,L24/M24,0) -> 0 | P24: =SVS_UR -> 0 | Q24: =O24*P24 -> 0
A25: =A24+1 -> 3 | C25: Sporthalle | E25: Vorraum | F25: Fliesen | G25: 3.8 | H25: S12-5 | I25: =VLOOKUP($H25,Leistungswerte!$A$8:$E$29,3,FALSE) -> 5 | J25: =VLOOKUP($H25,Leistungswerte!$A$8:$E$29,4,FALSE) -> 0 | K25: =VLOOKUP($H25,Leistungswerte!$A$8:$E$29,5,FALSE) -> 0 | L25: =($G$5/$G$6*I25+J25*12+K25)*G25 -> 744.8 | M25: =VLOOKUP($H25,Leistungswerte!$A$8:$G$29,$P$2,FALSE) -> 0 | N25: =IF(M25<>0,G25/M25/24,0) -> 0 | O25: =IF(M25<>0,L25/M25,0) -> 0 | P25: =SVS_UR -> 0 | Q25: =O25*P25 -> 0
A26: =A25+1 -> 4 | C26: Sporthalle | E26: WC | F26: Fliesen | G26: 2.18 | H26: S12-5 | I26: =VLOOKUP($H26,Leistungswerte!$A$8:$E$29,3,FALSE) -> 5 | J26: =VLOOKUP($H26,Leistungswerte!$A$8:$E$29,4,FALSE) -> 0 | K26: =VLOOKUP($H26,Leistungswerte!$A$8:$E$29,5,FALSE) -> 0 | L26: =($G$5/$G$6*I26+J26*12+K26)*G26 -> 427.28 | M26: =VLOOKUP($H26,Leistungswerte!$A$8:$G$29,$P$2,FALSE) -> 0 | N26: =IF(M26<>0,G26/M26/24,0) -> 0 | O26: =IF(M26<>0,L26/M26,0) -> 0 | P26: =SVS_UR -> 0 | Q26: =O26*P26 -> 0
A27: =A26+1 -> 5 | C27: Sporthalle | E27: Waschraum / Duschen | F27: Fliesen | G27: 24.26 | H27: S12-5 | I27: =VLOOKUP($H27,Leistungswerte!$A$8:$E$29,3,FALSE) -> 5 | J27: =VLOOKUP($H27,Leistungswerte!$A$8:$E$29,4,FALSE) -> 0 | K27: =VLOOKUP($H27,Leistungswerte!$A$8:$E$29,5,FALSE) -> 0 | L27: =($G$5/$G$6*I27+J27*12+K27)*G27 -> 4754.96 | M27: =VLOOKUP($H27,Leistungswerte!$A$8:$G$29,$P$2,FALSE) -> 0 | N27: =IF(M27<>0,G27/M27/24,0) -> 0 | O27: =IF(M27<>0,L27/M27,0) -> 0 | P27: =SVS_UR -> 0 | Q27: =O27*P27 -> 0
A28: =A27+1 -> 6 | C28: Sporthalle | E28: Umkleide | F28: Linoleum / PVC | G28: 33.48 | H28: S8-5 | I28: =VLOOKUP($H28,Leistungswerte!$A$8:$E$29,3,FALSE) -> 5 | J28: =VLOOKUP($H28,Leistungswerte!$A$8:$E$29,4,FALSE) -> 0 | K28: =VLOOKUP($H28,Leistungswerte!$A$8:$E$29,5,FALSE) -> 0 | L28: =($G$5/$G$6*I28+J28*12+K28)*G28 -> 6562.08 | M28: =VLOOKUP($H28,Leistungswerte!$A$8:$G$29,$P$2,FALSE) -> 0 | N28: =IF(M28<>0,G28/M28/24,0) -> 0 | O28: =IF(M28<>0,L28/M28,0) -> 0 | P28: =SVS_UR -> 0 | Q28: =O28*P28 -> 0
A29: =A28+1 -> 7 | C29: Sporthalle | E29: Vorraum | F29: Fliesen | G29: 3.8 | H29: S12-5 | I29: =VLOOKUP($H29,Leistungswerte!$A$8:$E$29,3,FALSE) -> 5 | J29: =VLOOKUP($H29,Leistungswerte!$A$8:$E$29,4,FALSE) -> 0 | K29: =VLOOKUP($H29,Leistungswerte!$A$8:$E$29,5,FALSE) -> 0 | L29: =($G$5/$G$6*I29+J29*12+K29)*G29 -> 744.8 | M29: =VLOOKUP($H29,Leistungswerte!$A$8:$G$29,$P$2,FALSE) -> 0 | N29: =IF(M29<>0,G29/M29/24,0) -> 0 | O29: =IF(M29<>0,L29/M29,0) -> 0 | P29: =SVS_UR -> 0 | Q29: =O29*P29 -> 0
A30: =A29+1 -> 8 | C30: Sporthalle | E30: WC | F30: Fliesen | G30: 2.18 | H30: S12-5 | I30: =VLOOKUP($H30,Leistungswerte!$A$8:$E$29,3,FALSE) -> 5 | J30: =VLOOKUP($H30,Leistungswerte!$A$8:$E$29,4,FALSE) -> 0 | K30: =VLOOKUP($H30,Leistungswerte!$A$8:$E$29,5,FALSE) -> 0 | L30: =($G$5/$G$6*I30+J30*12+K30)*G30 -> 427.28 | M30: =VLOOKUP($H30,Leistungswerte!$A$8:$G$29,$P$2,FALSE) -> 0 | N30: =IF(M30<>0,G30/M30/24,0) -> 0 | O30: =IF(M30<>0,L30/M30,0) -> 0 | P30: =SVS_UR -> 0 | Q30: =O30*P30 -> 0
A31: =A30+1 -> 9 | C31: Sporthalle | E31: Waschraum / Duschen | F31: Fliesen | G31: 24.26 | H31: S12-5 | I31: =VLOOKUP($H31,Leistungswerte!$A$8:$E$29,3,FALSE) -> 5 | J31: =VLOOKUP($H31,Leistungswerte!$A$8:$E$29,4,FALSE) -> 0 | K31: =VLOOKUP($H31,Leistungswerte!$A$8:$E$29,5,FALSE) -> 0 | L31: =($G$5/$G$6*I31+J31*12+K31)*G31 -> 4754.96 | M31: =VLOOKUP($H31,Leistungswerte!$A$8:$G$29,$P$2,FALSE) -> 0 | N31: =IF(M31<>0,G31/M31/24,0) -> 0 | O31: =IF(M31<>0,L31/M31,0) -> 0 | P31: =SVS_UR -> 0 | Q31: =O31*P31 -> 0
A32: =A31+1 -> 10 | C32: Sporthalle | E32: Flur 2 | F32: Linoleum / PVC | G32: 38.82 | H32: S10-5 | I32: =VLOOKUP($H32,Leistungswerte!$A$8:$E$29,3,FALSE) -> 5 | J32: =VLOOKUP($H32,Leistungswerte!$A$8:$E$29,4,FALSE) -> 0 | K32: =VLOOKUP($H32,Leistungswerte!$A$8:$E$29,5,FALSE) -> 0 | L32: =($G$5/$G$6*I32+J32*12+K32)*G32 -> 7608.72 | M32: =VLOOKUP($H32,Leistungswerte!$A$8:$G$29,$P$2,FALSE) -> 0 | N32: =IF(M32<>0,G32/M32/24,0) -> 0 | O32: =IF(M32<>0,L32/M32,0) -> 0 | P32: =SVS_UR -> 0 | Q32: =O32*P32 -> 0
A33: =A32+1 -> 11 | C33: Sporthalle | E33: Heizung | F33: Beton / Anstrich | G33: 11.49 | H33: KR | I33: =VLOOKUP($H33,Leistungswerte!$A$8:$E$29,3,FALSE) -> 0 | J33: =VLOOKUP($H33,Leistungswerte!$A$8:$E$29,4,FALSE) -> 0 | K33: =VLOOKUP($H33,Leistungswerte!$A$8:$E$29,5,FALSE) -> 0 | L33: =($G$5/$G$6*I33+J33*12+K33)*G33 -> 0 | M33: =VLOOKUP($H33,Leistungswerte!$A$8:$G$29,$P$2,FALSE) -> 0 | N33: =IF(M33<>0,G33/M33/24,0) -> 0 | O33: =IF(M33<>0,L33/M33,0) -> 0 | P33: =SVS_UR -> 0 | Q33: =O33*P33 -> 0
A34: =A33+1 -> 12 | C34: Sporthalle | E34: Flur 1 | F34: Betonwerkstein | G34: 43.61 | H34: S10-5 | I34: =VLOOKUP($H34,Leistungswerte!$A$8:$E$29,3,FALSE) -> 5 | J34: =VLOOKUP($H34,Leistungswerte!$A$8:$E$29,4,FALSE) -> 0 | K34: =VLOOKUP($H34,Leistungswerte!$A$8:$E$29,5,FALSE) -> 0 | L34: =($G$5/$G$6*I34+J34*12+K34)*G34 -> 8547.56 | M34: =VLOOKUP($H34,Leistungswerte!$A$8:$G$29,$P$2,FALSE) -> 0 | N34: =IF(M34<>0,G34/M34/24,0) -> 0 | O34: =IF(M34<>0,L34/M34,0) -> 0 | P34: =SVS_UR -> 0 | Q34: =O34*P34 -> 0
A35: =A34+1 -> 13 | C35: Sporthalle | E35: Putzmittel | F35: Linoleum / PVC | G35: 9.27 | H35: KR | I35: =VLOOKUP($H35,Leistungswerte!$A$8:$E$29,3,FALSE) -> 0 | J35: =VLOOKUP($H35,Leistungswerte!$A$8:$E$29,4,FALSE) -> 0 | K35: =VLOOKUP($H35,Leistungswerte!$A$8:$E$29,5,FALSE) -> 0 | L35: =($G$5/$G$6*I35+J35*12+K35)*G35 -> 0 | M35: =VLOOKUP($H35,Leistungswerte!$A$8:$G$29,$P$2,FALSE) -> 0 | N35: =IF(M35<>0,G35/M35/24,0) -> 0 | O35: =IF(M35<>0,L35/M35,0) -> 0 | P35: =SVS_UR -> 0 | Q35: =O35*P35 -> 0
... A42: =A41+1 -> 20 | C42: Sporthalle | E42: Aussengeräte | F42: Beton / Anstrich | G42: 18.67 | H42: S15-4J | I42: =VLOOKUP($H42,Leistungswerte!$A$8:$E$29,3,FALSE) -> 0 | J42: =VLOOKUP($H42,Leistungswerte!$A$8:$E$29,4,FALSE) -> 0 | K42: =VLOOKUP($H42,Leistungswerte!$A$8:$E$29,5,FALSE) -> 4 | L42: =($G$5/$G$6*I42+J42*12+K42)*G42 -> 74.68 | M42: =VLOOKUP($H42,Leistungswerte!$A$8:$G$29,$P$2,FALSE) -> 0 | N42: =IF(M42<>0,G42/M42/24,0) -> 0 | O42: =IF(M42<>0,L42/M42,0) -> 0 | P42: =SVS_UR -> 0 | Q42: =O42*P42 -> 0
A44: Summen / Durchschnitt pro Jahr (Unterhaltsreinigung): | G44: =SUBTOTAL(9,G23:G43) -> 816.57 | L44: =SUBTOTAL(9,L23:L43) -> 140146.9 | M44: =L44/O44 -> #DIV/0! | O44: =SUBTOTAL(9,O23:O43) -> 0 | Q44: =SUBTOTAL(9,Q23:Q43) -> 0
A47: Pos. | B47: Etage | D47: Nr. | E47: Gebäude / | F47: Bodenbelag | G47: Grundfläche | H47: LV | I47: Intervall pro.. | L47: Reinigungsfläche | M47: Leistung | N47: Zeit/Ausf. | O47: Reinigungsstunden | P47: SVS | Q47: Preis pro Jahr
E48: Raumbezeichnung | G48: [m²] | I48: Woche | J48: Monat | K48: Jahr | L48: [m² / Jahr ] | M48: [m² / Std.] | N48: [hh:mm:ss] | O48: [Std. / Jahr] | P48: [EUR / Std.] | Q48: [EUR netto]
A49: x | B49: x | D49: x | E49: x | F49: x | G49: x | H49: x | I49: x | J49: x | K49: x | L49: x | M49: x | N49: x | O49: x | P49: x | Q49: x
A50: =A42+1 -> 21 | E50: Grundreinigung aller Räume | G50: =IF($O$5="JA",SUM($G$22:G43),0) -> 816.57 | H50: S-GR | I50: =VLOOKUP($H50,Leistungswerte!$A$8:$E$29,3,FALSE) -> 0 | J50: =VLOOKUP($H50,Leistungswerte!$A$8:$E$29,4,FALSE) -> 0 | K50: =VLOOKUP($H50,Leistungswerte!$A$8:$E$29,5,FALSE) -> 1 | L50: =($G$5/$G$6*I50+J50*12+K50)*G50 -> 816.57 | M50: =VLOOKUP($H50,Leistungswerte!$A$8:$G$29,$P$2,FALSE) -> 0 | N50: =IF(M50<>0,G50/M50/24,0) -> 0 | O50: =IF(M50<>0,L50/M50,0) -> 0 | P50: =SVS_GR -> 0 | Q50: =O50*P50 -> 0
A52: Summen / Durchschnitt pro Jahr (Grundreinigung): | G52: =SUM(G50:G51) -> 816.57 | L52: =SUM(L50:L51) -> 816.57 | M52: =L52/O52 -> #DIV/0! | O52: =SUM(O50:O51) -> 0 | Q52: =SUM(Q50:Q51) -> 0
E55: Hinweise zum Objekt, Besonderheiten, usw.:
E56: Adresse: | F56: Grundschule Stelingen (Sporthalle), Stöckener Straße 2, 30827 Garbsen
E57: Reinigungstage: | F57: Schultage montags-freitags, zzgl. 1 Reinigungstag am Ende der Winter-, Frühjahrs-, Sommer- und Herbstferien
...

Sheet Objekt (5)
G2: =IF(Bieter<>"",Bieter,"Bietername fehlt !") -> Bietername fehlt ! | O2: Objekt 5 | P2: 10
E4: Zusammenfassung Kalkulation Unterhaltsreinigung: | L4: Zusammenfassung Kalkulation Grundreinigung:
E5: Reinigungstage pro Jahr: | G5: =RT_Schule -> 196 | L5: Grundreinigung zu kalkulieren (ja/nein): | O5: ja
E6: Reinigungstage pro Woche: | G6: 5
E7: Grundfläche: | G7: =SUM($G$23:$G$423) -> 0 | L7: Grundfläche: | O7: =IF($O$5="JA",$G$432,0) -> 0
E8: Reinigungsfläche pro Jahr: | G8: =SUM($L$23:$L$423) -> #N/A | L8: Reinigungsfläche pro Jahr: | O8: =IF($O$5="JA",$L$432,0) -> 0
E9: Reinigungsstunden pro Jahr: | G9: =SUM($O$23:$O$423) -> #N/A | L9: Reinigungsstunden pro Jahr: | O9: =IF($O$5="JA",$O$432,0) -> #REF!
E10: Reinigungsstd. pro Tag (Durchschnitt): | G10: =G9/G5 -> #N/A
E11: Leistung pro Stunde (Durchschnitt): | G11: =IF(G9>0,G8/G9,0) -> #N/A | L11: Leistung pro Stunde (Durchschnitt): | O11: =IF($O$5="JA",$O$8/$O$9,0) -> #REF!
E12: Std.-Verr.-Satz (netto / Durchschnitt): | G12: =IF(G9>0,G14/G9,0) -> #N/A | L12: Std.-Verr.-Satz (netto / Durchschnitt): | O12: =IF($O$5="JA",$O$14/$O$9,0) -> #REF!
E14: Preis pro Tag / pro Jahr (netto) | F14: =G14/G5 -> #N/A | G14: =SUM(Q23:Q423) -> #N/A | L14: Preis pro Jahr (netto) | O14: =IF($O$5="JA",$Q$432,0) -> #REF!
E15: Mehrwertsteuer (19%) | G15: =G14*0.19 -> #N/A | L15: Mehrwertsteuer (19%) | O15: =IF($O$5="JA",O14*0.19,0) -> #REF!
E16: Preis pro Jahr (brutto) | G16: =G14+G15 -> #N/A | L16: Preis pro Jahr (brutto) | O16: =IF(O14<>0,SUM(O14:O15),0) -> #REF!
E18: Zur Angebotsübersicht | L18: Zu den Leistungswerten
A20: Pos. | B20: Etage | C20: Bauteil | D20: Nr. | E20: Gebäude / | F20: Bodenbelag | G20: Grundfläche | H20: LV | I20: Intervall pro.. | L20: Reinigungsfläche | M20: Leistung | N20: Zeit/Ausf. | O20: Reinigungsstunden | P20: SVS | Q20: Preis pro Jahr
E21: Raumbezeichnung | G21: [m²] | I21: Woche | J21: Monat | K21: Jahr | L21: [m² / Jahr ] | M21: [m² / Std.] | N21: [hh:mm:ss] | O21: [Std. / Jahr] | P21: [EUR / Std.] | Q21: [EUR netto]
A22: x | B22: x | D22: x | E22: x | F22: x | G22: x | H22: x | I22: x | J22: x | K22: x | L22: x | M22: x | N22: x | O22: x | P22: x | Q22: x
A23: 1 | I23: =VLOOKUP($H23,Leistungswerte!$A$8:$E$29,3,FALSE) -> #N/A | J23: =VLOOKUP($H23,Leistungswerte!$A$8:$E$29,4,FALSE) -> #N/A | K23: =VLOOKUP($H23,Leistungswerte!$A$8:$E$29,5,FALSE) -> #N/A | L23: =($G$5/$G$6*I23+J23*12+K23)*G23 -> #N/A | M23: =VLOOKUP($H23,Leistungswerte!$A$8:$G$29,$P$2,FALSE) -> #N/A | N23: =IF(M23<>0,G23/M23/24,0) -> #N/A | O23: =IF(M23<>0,L23/M23,0) -> #N/A | P23: =SVS_UR -> 0 | Q23: =O23*P23 -> #N/A
A24: =A23+1 -> 2 | I24: =VLOOKUP($H24,Leistungswerte!$A$8:$E$29,3,FALSE) -> #N/A | J24: =VLOOKUP($H24,Leistungswerte!$A$8:$E$29,4,FALSE) -> #N/A | K24: =VLOOKUP($H24,Leistungswerte!$A$8:$E$29,5,FALSE) -> #N/A | L24: =($G$5/$G$6*I24+J24*12+K24)*G24 -> #N/A | M24: =VLOOKUP($H24,Leistungswerte!$A$8:$G$29,$P$2,FALSE) -> #N/A | N24: =IF(M24<>0,G24/M24/24,0) -> #N/A | O24: =IF(M24<>0,L24/M24,0) -> #N/A | P24: =SVS_UR -> 0 | Q24: =O24*P24 -> #N/A
A25: =A24+1 -> 3 | I25: =VLOOKUP($H25,Leistungswerte!$A$8:$E$29,3,FALSE) -> #N/A | J25: =VLOOKUP($H25,Leistungswerte!$A$8:$E$29,4,FALSE) -> #N/A | K25: =VLOOKUP($H25,Leistungswerte!$A$8:$E$29,5,FALSE) -> #N/A | L25: =($G$5/$G$6*I25+J25*12+K25)*G25 -> #N/A | M25: =VLOOKUP($H25,Leistungswerte!$A$8:$G$29,$P$2,FALSE) -> #N/A | N25: =IF(M25<>0,G25/M25/24,0) -> #N/A | O25: =IF(M25<>0,L25/M25,0) -> #N/A | P25: =SVS_UR -> 0 | Q25: =O25*P25 -> #N/A
A26: =A25+1 -> 4 | I26: =VLOOKUP($H26,Leistungswerte!$A$8:$E$29,3,FALSE) -> #N/A | J26: =VLOOKUP($H26,Leistungswerte!$A$8:$E$29,4,FALSE) -> #N/A | K26: =VLOOKUP($H26,Leistungswerte!$A$8:$E$29,5,FALSE) -> #N/A | L26: =($G$5/$G$6*I26+J26*12+K26)*G26 -> #N/A | M26: =VLOOKUP($H26,Leistungswerte!$A$8:$G$29,$P$2,FALSE) -> #N/A | N26: =IF(M26<>0,G26/M26/24,0) -> #N/A | O26: =IF(M26<>0,L26/M26,0) -> #N/A | P26: =SVS_UR -> 0 | Q26: =O26*P26 -> #N/A
A27: =A26+1 -> 5 | I27: =VLOOKUP($H27,Leistungswerte!$A$8:$E$29,3,FALSE) -> #N/A | J27: =VLOOKUP($H27,Leistungswerte!$A$8:$E$29,4,FALSE) -> #N/A | K27: =VLOOKUP($H27,Leistungswerte!$A$8:$E$29,5,FALSE) -> #N/A | L27: =($G$5/$G$6*I27+J27*12+K27)*G27 -> #N/A | M27: =VLOOKUP($H27,Leistungswerte!$A$8:$G$29,$P$2,FALSE) -> #N/A | N27: =IF(M27<>0,G27/M27/24,0) -> #N/A | O27: =IF(M27<>0,L27/M27,0) -> #N/A | P27: =SVS_UR -> 0 | Q27: =O27*P27 -> #N/A
A28: =A27+1 -> 6 | I28: =VLOOKUP($H28,Leistungswerte!$A$8:$E$29,3,FALSE) -> #N/A | J28: =VLOOKUP($H28,Leistungswerte!$A$8:$E$29,4,FALSE) -> #N/A | K28: =VLOOKUP($H28,Leistungswerte!$A$8:$E$29,5,FALSE) -> #N/A | L28: =($G$5/$G$6*I28+J28*12+K28)*G28 -> #N/A | M28: =VLOOKUP($H28,Leistungswerte!$A$8:$G$29,$P$2,FALSE) -> #N/A | N28: =IF(M28<>0,G28/M28/24,0) -> #N/A | O28: =IF(M28<>0,L28/M28,0) -> #N/A | P28: =SVS_UR -> 0 | Q28: =O28*P28 -> #N/A
