Workbook

Sheet Preisblatt
A2: SPK-2026-00071 Preisblatt
A3: Rahmenvereinbarung Versanddienstleistungen Stiftung Preußischer Kulturbesitz
A4: Die angebotenen Preise sind Festpreise und gelten über die gesamte Laufzeit der Rahmenvereinbarung. Die Excel Datei "Preisblatt und fiktive Kalkulation" ist vollständig auszufüllen und mit dem Angebot einzureichen. Sie ist bereits so angelegt, dass sich die eingetragenen Preise unter dem Reiter Preisblatt automatisch in die Tabelle "Fiktive Kalkulation" übertragen. Fehlende Preisangaben können zum Ausschluss des Angebotes führen. Bitte beachten Sie, dass die Excel-Datei "Preisblatt und Fiktive Kalkulation" mehere "Datei-Reiter" beinhaltet, in die Preise oder sonstige Angaben einzutragen sind. Die vom Bieter auszufüllenden Felder sind gelb unterlegt.
A6: Ansprechpersonen beim Auftragnehmer:
A7: Hauptansprechperson | C7: Name | F7: Telefon:
C8: E-Mail
A9: Vertretung | C9: Name | F9: Telefon:
C10: E-Mail
A12: Im Preisblatt verwendete Farbcodes
A13: Allgemeine Leistungen
A14: Maschinelle Verarbeitung
A15: Manuelle Verarbeitung
A17: Position | B17: Allgemeine Leistungen
A18: 1 | B18: Allgemeine Kosten (in Euro ohne USt.) je Auftrag | F18: Gesamtpreis
A19: 1.1 | B19: Abholung des Versandmaterials (Berlin)
A20: 1.2 | B20: Rücklieferung an eine Adresse
A21: 1.3 | B21: Rücklieferung je weiterer Adresse
A22: 1.4 | B22: Übernahme der Adressdaten
A23: 1.5 | B23: Portooptimierungsprogramm, Erstellung von Postauflieferungslisten
A24: 1.6 | B24: Kilometerpauschale für Abholung außerhalb Berlins (je km)
A26: 2 | B26: Bereitstellung von Umschlägen/Kuverts
A27: 2.1 | B27: Bereitstellung von Umschlägen/Kuverts (in Euro ohne USt.), je 1.000 Exemplare
A28: 2.1.1 | B28: DIN C4 o. F.
A29: 2.1.2 | B29: DIN C4 m. F.
A30: 2.1.3 | B30: DIN C4 stabile Wellpappe
A31: 2.1.4 | B31: DIN lang o. F.
A32: 2.1.5 | B32: DIN lang m. F.
A33: 2.1.6 | B33: DIN C5 o. F.
A35: 2.2 | B35: Bereitstellung von Umschlägen/Kuverts maschinengeeignet* (in Euro ohne USt.), je 1.000 Exemplare
A36: 2.2.1 | B36: DIN C4 o. F.
A37: 2.2.2 | B37: DIN C4 m. F.
A38: 2.2.3 | B38: DIN C4 stabile Wellpappe
A39: 2.2.4 | B39: DIN lang o. F.
... A41: 2.2.6 | B41: DIN C5 o. F.
A43: 3 | B43: Direktadressierung (in Euro ohne USt.), je 1.000 Exemplare
A44: 3.1 | B44: DIN C4 o. F.
A45: 3.2 | B45: DIN C4 stabile Wellpappe
A46: 3.3 | B46: DIN lang o.F.
A47: 3.4 | B47: DIN C5 o. F.
A49: 4 | B49: Drucken von Briefen je 100 Seite (in Euro ohne USt.): | F49: Gesamtpreis
...

Sheet Verbrauchsmaterial
A2: SPK-2026-00071 Preisblatt
A3: Rahmenvereinbarung Versanddienstleistungen Stiftung Preußischer Kulturbesitz
A4: Die angebotenen Preise sind Festpreise und gelten über die gesamte Laufzeit der Rahmenvereinbarung. Hier können alternative Briefumschläge (nicht im Preisblatt enthalten) und Papiersorten für den Druck pauschal angeboten werden. Dies können Premium oder Eco-Varianten oder Sonderformate für Papier/Umschläge sein. Pflichtpositionen (orange) müssen angegeben werden. Optionale Positionen (blau) können angegeben werden. Die Benennung der Produkte obliegt dem AN. Die hier beschriebenen Positionen werden nicht gewertet. Das hier angebotene Papier ist Basis für den Druck (Preisblatt Position 4), soweit nicht von der SPK gesondert Papier gestellt wird.
A6: Position | B6: Pflichtpositionen
A7: P1 | B7: Papiersorten je 1.000 Blatt | F7: Preis in € / netto
A8: P1.1 | B8: Briefpapier 120g/qm, gestrichen, matt | E8: weitere Angaben - z. B. Hersteller hier ergänzen
A9: P1.2 | B9: Briefpapier A4, 80 g/qm, 70er Weiße, FSC, Blauer Engel uz14-zertifiziert | E9: weitere Angaben - z. B. Hersteller hier ergänzen
A10: P1.3 | B10: Briefpapier A4, 80 g/qm, 80er Weiße, Blauer Engel uz14-zertifiziert | E10: weitere Angaben - z. B. Hersteller hier ergänzen
A11: P1.4 | B11: Briefpapier A4, 90 g/qm, 70er Weiße, Blauer Engel uz14-zertifiziert | E11: weitere Angaben - z. B. Hersteller hier ergänzen
A12: P1.5 | B12: Briefpapier A4, 90 g/qm, 80er Weiße, Blauer Engel uz14-zertifiziert | E12: weitere Angaben - z. B. Hersteller hier ergänzen
A13: P2 | B13: Briefumschläge je 1.000 Stück | F13: Preis in € / netto
A14: P2.1 | B14: C4 mit 2cm Bodenfalz | E14: weitere Angaben - z. B. Hersteller hier ergänzen
A15: P2.2 | B15: C4 mit 4cm Bodenfalz | E15: weitere Angaben - z. B. Hersteller hier ergänzen
A16: P2.3 | B16: DIN Lang ohne Fenster, 100% Recyclingpapier Blauer Engel uz14-zertifiziert | E16: weitere Angaben - z. B. Hersteller hier ergänzen
A17: P2.4 | B17: DIN Lang ohne Fenster, 100% Recyclingpapier Blauer Engel uz14-zertifiziert, maschinengeeignet | E17: weitere Angaben - z. B. Hersteller hier ergänzen
A18: P2.5 | B18: DIN Lang mit Fenster, 100% Recyclingpapier Blauer Engel uz14-zertifiziert | E18: weitere Angaben - z. B. Hersteller hier ergänzen
A19: P2.6 | B19: DIN Lang mit Fenster, 100% Recyclingpapier Blauer Engel uz14-zertifiziert, maschinengeeignet | E19: weitere Angaben - z. B. Hersteller hier ergänzen
A20: P2.7 | B20: DIN A5, ohne Fenster, 90 g/qm, 100% Recyclingpapier Blauer Engel uz14-zertifiziert | E20: weitere Angaben - z. B. Hersteller hier ergänzen
A21: P2.8 | B21: DIN A5, ohne Fenster, 90 g/qm, 100% Recyclingpapier Blauer Engel uz14-zertifiziert, maschinengeeignet | E21: weitere Angaben - z. B. Hersteller hier ergänzen
A22: P2.9 | B22: DIN C4, ohne Fenster, 75 g/qm 100% Recyclingpapier Blauer Engel uz14-zertifiziert, | E22: weitere Angaben - z. B. Hersteller hier ergänzen
A23: P2.10 | B23: DIN C4, ohne Fenster, 75 g/qm 100% Recyclingpapier Blauer Engel uz14-zertifiziert, maschinengeeignet | E23: weitere Angaben - z. B. Hersteller hier ergänzen
A24: P2.11 | B24: DIN C4, mit Fenster, 75 g/qm 100% Recyclingpapier Blauer Engel uz14-zertifiziert | E24: weitere Angaben - z. B. Hersteller hier ergänzen
A25: P2.12 | B25: DIN C4, mit Fenster, 75 g/qm 100% Recyclingpapier Blauer Engel uz14-zertifiziert, maschinengeeignet | E25: weitere Angaben - z. B. Hersteller hier ergänzen
A27: Position | B27: Papier (optional)
A28: A1 | B28: Papiersorten je 1.000 Blatt | F28: Preis in € / netto
A29: A1.1
A30: A1.2
A31: A1.3
A32: A1.4
A33: A1.5
A34: A1.6
A35: A1.7
A36: A1.8
A37: A1.9
A38: A1.10
A40: Position | B40: Briefumschläge (optional)
A41: A2 | B41: Briefumschläge je 1.000 Stück | F41: Preis in € / netto
A42: A2.1
A43: A2.2
A44: A2.3
...

Sheet fiktive Kalkulation
A2: SPK-2026-00071 Preisblatt / Fiktive Kalkulation
A3: Rahmenvereinbarung Konfektionierung Stiftung Preußischer Kulturbesitz
A4: Die angebotenen Preise sind Festpreise und gelten über die gesamte Laufzeit der Rahmenvereinbarung. Die Excel Datei "Preisblatt und fiktive Kalkulation" ist vollständig auszufüllen und mit dem Angebot einzureichen. Sie ist bereits so angelegt, dass sich die eingetragenen Preise unter dem Reiter Preisblatt automatisch in die Tabelle "Fiktive Kalkulation" übertragen. Fehlende Preisangaben können zum Ausschluss des Angebotes führen. Bitte beachten Sie, dass die Excel-Datei "Preisblatt und Fiktive Kalkulation" mehere "Datei-Reiter" beinhaltet, in die Preise oder sonstige Angaben einzutragen sind. Die vom Bieter auszufüllenden Felder sind gelb unterlegt. Auf diesem Reiter "fiktive Kalkulation" müssen keine Eintragungen durch den Bieter vorgenommen werden!
O6: davon | P6: davon
O7: ZSE | P7: SMB
A8: Allgemeine Kosten (in Euro ohne USt.): | I8: Einzelpreis | K8: fiktive Menge | M8: Gesamtpreis
A9: Abholung des Versandmaterials | I9: =Preisblatt!F19 -> 0 | K9: 39 | M9: =I9*K9 -> 0 | O9: 4 | P9: 35
A10: Rücklieferung an eine Adresse | I10: =Preisblatt!F20 -> 0 | K10: 28 | M10: =I10*K10 -> 0 | O10: 4 | P10: 35
A11: Rücklieferung je weiterer Adresse | I11: =Preisblatt!F21 -> 0 | K11: 20 | M11: =I11*K11 -> 0 | P11: 20
A12: Übernahme der Adressdaten | I12: =Preisblatt!F22 -> 0 | K12: 39 | M12: =I12*K12 -> 0 | O12: 4 | P12: 35
A13: Portooptimierungsprogramm, Erstellung von Postauflieferungslisten | I13: =Preisblatt!F23 -> 0 | K13: 39 | M13: =I13*K13 -> 0 | O13: 4 | P13: 35
A15: Bereitstellung von Umschlägen/Kuverts (in Euro ohne USt.): | C15: Preis je 1.000 Exemplare | E15: fiktive Menge | G15: Gesamtpreis | I15: Preis je 1.000 Exemplare Maschinengeeignet | K15: fiktive Menge | M15: Gesamtpreis
A16: DIN C4 o. F. | C16: =Preisblatt!F28 -> 0 | E16: 0 | G16: =C16*E16 -> 0 | I16: =Preisblatt!F36 -> 0 | K16: 12 | M16: =I16*K16 -> 0 | O16: 2 | P16: 10
A17: DIN C4 m.F. | C17: =Preisblatt!F29 -> 0 | E17: 0 | G17: =C17*E17 -> 0 | I17: =Preisblatt!F37 -> 0 | K17: 12 | M17: =I17*K17 -> 0 | O17: 2 | P17: 10
A18: DIN C4 stabile Wellpappe | C18: =Preisblatt!F30 -> 0 | E18: 0 | G18: =C18*E18 -> 0 | I18: =Preisblatt!F38 -> 0 | K18: 0 | M18: =I18*K18 -> 0
A19: DIN lang o.F. | C19: =Preisblatt!F31 -> 0 | E19: 0 | G19: =C19*E19 -> 0 | I19: =Preisblatt!F39 -> 0 | K19: 24 | M19: =I19*K19 -> 0 | P19: 24
A20: DIN lang m. F. | C20: =Preisblatt!F32 -> 0 | E20: 0 | G20: =C20*E20 -> 0 | I20: =Preisblatt!F40 -> 0 | K20: 24 | M20: =I20*K20 -> 0 | P20: 24
A21: DIN C5 o.F. | C21: =Preisblatt!F33 -> 0 | E21: 0 | G21: =C21*E21 -> 0 | I21: =Preisblatt!F41 -> 0 | K21: 10 | M21: =I21*K21 -> 0 | P21: 10
A22: Summe | G22: =SUM(G16:H21) -> 0 | I22: Summe | M22: =SUM(M16:N21) -> 0
A24: Direktadressierung (in Euro ohne USt.): | I24: Preis je 1.000 Exemplare | K24: fiktive Menge | M24: Gesamtpreis
A25: DIN C4 | I25: =Preisblatt!F44 -> 0 | K25: 24 | M25: =I25*K25 -> 0 | O25: 4 | P25: 20
A26: DIN C4 stabile Wellpappe | I26: =Preisblatt!F45 -> 0 | K26: 0 | M26: =I26*K26 -> 0
A27: DIN lang | I27: =Preisblatt!F46 -> 0 | K27: 48 | M27: =I27*K27 -> 0 | P27: 48
A28: DIN C5 | I28: =Preisblatt!F47 -> 0 | K28: 10 | M28: =I28*K28 -> 0 | P28: 10
A29: Summe | M29: =SUM(M25:N28) -> 0
C31: Drucken von Briefen je 100 Seiten, personalisiert (in Euro ohne USt.): | I31: Drucken von Briefen je 100 Seiten, nicht personalisiert (in Euro ohne USt.):
C32: Einzelpreis | E32: fiktive Menge | G32: Gesamtpreis | I32: Einzelpreis | K32: fiktive Menge | M32: Gesamtpreis
A33: Simplex, s/w | C33: =Preisblatt!F50 -> 0 | E33: 0 | G33: =C33*E33 -> 0 | I33: =Preisblatt!F54 -> 0 | K33: 1 | M33: =I33*K33 -> 0 | O33: 1
A34: Simplex, farbig | C34: =Preisblatt!F51 -> 0 | E34: 0 | G34: =C34*E34 -> 0 | I34: =Preisblatt!F55 -> 0 | K34: 1 | M34: =I34*K34 -> 0 | O34: 1
A35: Duplex, s/w | C35: =Preisblatt!F52 -> 0 | E35: 0 | G35: =C35*E35 -> 0 | I35: =Preisblatt!F56 -> 0 | K35: 0 | M35: =I35*K35 -> 0
A36: Duplex, farbig | C36: =Preisblatt!F53 -> 0 | E36: 0 | G36: =C36*E36 -> 0 | I36: =Preisblatt!F57 -> 0 | K36: 0 | M36: =I36*K36 -> 0
A37: Summe | G37: =SUM(G33:H36) -> 0 | I37: Summe | M37: =SUM(M33:N36) -> 0
A39: Falzen (in Euro ohne USt.): | I39: Preis je 1.000 Exemplare | K39: fiktive Menge | M39: Gesamtpreis
A40: 1-fache Falz | I40: =Preisblatt!F60 -> 0 | K40: 1 | M40: =I40*K40 -> 0 | P40: 1
A41: 2-fache Falz | I41: =Preisblatt!F61 -> 0 | K41: 0 | M41: =I41*K41 -> 0
A42: Summe | M42: =M40+M41 -> 0
A44: Sortierung nach inter/-nationaler Post (in Euro ohne USt.): | I44: Einzelpreis | K44: fiktive Menge | M44: Gesamtpreis
A45: je 1.000 Sendungen | I45: =Preisblatt!F64 -> 0 | K45: 82 | M45: =I45*K45 -> 0 | O45: 4 | P45: 78
A47: Kuvertierung, maschinell (in Euro ohne USt.): | I47: Preis je 1.000 Exemplare | K47: fiktive Menge | M47: Gesamtpreis
A48: DIN C4 | I48: =Preisblatt!F68 -> 0 | K48: 8 | M48: =I48*K48 -> 0 | P48: 8
...
