Workbook

Sheet Preisblatt
A2: SPK-2026-00071 Preisblatt
A3: Rahmenvereinbarung Versanddienstleistungen Stiftung Preußischer Kulturbesitz
A4: Die angebotenen Preise sind Festpreise und gelten über die gesamte Laufzeit der Rahmenvereinbarung. Die Excel Datei "Preisblatt und fiktive Kalkulation" ist vollständig auszufüllen und mit dem Angebot einzureichen. Sie ist bereits so angelegt, dass sich die eingetragenen Preise unter dem Reiter Preisblatt automatisch in die Tabelle "Fiktive Kalkulation" übertragen. Fehlende Preisangaben können zum Ausschluss des Angebotes führen. Bitte beachten Sie, dass die Excel-Datei "Preisblatt und Fiktive Kalkulation" mehere "Datei-Reiter" beinhaltet, in die Preise oder sonstige Angaben einzutragen sind. Die vom Bieter auszufüllenden Felder sind gelb unterlegt.
A6: Ansprechpersonen beim Auftragnehmer:
A7: Hauptansprechperson | C7: Name | F7: Telefon:
C8: E-Mail
A9: Vertretung | C9: Name | F9: Telefon:
C10: E-Mail
A12: Im Preisblatt verwendete Farbcodes
A13: Allgemeine Leistungen
A14: Maschinelle Verarbeitung
A15: Manuelle Verarbeitung
A17: Position | B17: Allgemeine Leistungen
A18: 1 | B18: Allgemeine Kosten (in Euro ohne USt.) je Auftrag | F18: Gesamtpreis
A19: 1.1 | B19: Abholung des Versandmaterials (Berlin)
A20: 1.2 | B20: Rücklieferung an eine Adresse
A21: 1.3 | B21: Rücklieferung je weiterer Adresse
A22: 1.4 | B22: Übernahme der Adressdaten
A23: 1.5 | B23: Portooptimierungsprogramm, Erstellung von Postauflieferungslisten
A24: 1.6 | B24: Kilometerpauschale für Abholung außerhalb Berlins (je km)
A26: 2 | B26: Bereitstellung von Umschlägen/Kuverts
A27: 2.1 | B27: Bereitstellung von Umschlägen/Kuverts (in Euro ohne USt.), je 1.000 Exemplare
A28: 2.1.1 | B28: DIN C4 o. F.
A29: 2.1.2 | B29: DIN C4 m. F.
A30: 2.1.3 | B30: DIN C4 stabile Wellpappe
A31: 2.1.4 | B31: DIN lang o. F.
A32: 2.1.5 | B32: DIN lang m. F.
A33: 2.1.6 | B33: DIN C5 o. F.
A35: 2.2 | B35: Bereitstellung von Umschlägen/Kuverts maschinengeeignet* (in Euro ohne USt.), je 1.000 Exemplare
A36: 2.2.1 | B36: DIN C4 o. F.
A37: 2.2.2 | B37: DIN C4 m. F.
A38: 2.2.3 | B38: DIN C4 stabile Wellpappe
A39: 2.2.4 | B39: DIN lang o. F.
... A41: 2.2.6 | B41: DIN C5 o. F.
A43: 3 | B43: Direktadressierung (in Euro ohne USt.), je 1.000 Exemplare
A44: 3.1 | B44: DIN C4 o. F.
A45: 3.2 | B45: DIN C4 stabile Wellpappe
A46: 3.3 | B46: DIN lang o.F.
A47: 3.4 | B47: DIN C5 o. F.
A49: 4 | B49: Drucken von Briefen je 100 Seite (in Euro ohne USt.): | F49: Gesamtpreis
A50: 4.1 | B50: Druck, DIN A4 Simplexdruck, voll personalisiert, in Laserdruck-Qualität 1/0-fbg. schwarz
A51: 4.2 | B51: Druck, DIN A4 Simplexdruck, voll personalisiert, in Laserdruck-Qualität, farbig
A52: 4.3 | B52: Druck, DIN A4 Duplexdruck, voll personalisiert, in Laserdruck-Qualität 1/0-fbg. Schwarz
A53: 4.4 | B53: Druck, DIN A4 Duplexdruck, voll personalisiert, in Laserdruck-Qualität, farbig
A54: 4.5 | B54: Druck, DIN A4 Simplexdruck, nicht personalisiert, in Laserdruck-Qualität 1/0-fbg. Schwarz
A55: 4.6 | B55: Druck, DIN A4 Simplexdruck, nicht personalisiert, in Laserdruck-Qualität, farbig
A56: 4.7 | B56: Druck, DIN A4 Duplexdruck, nicht personalisiert, in Laserdruck-Qualität, 1/0-fbg. Schwarz
A57: 4.8 | B57: Druck, DIN A4 Duplexdruck, nicht personalisiert, in Laserdruck-Qualität, farbig
A59: 5 | B59: Falzen (in Euro ohne USt.), je 1.000 Exemplare
A60: 5.1 | B60: 1-fache Falz
A61: 5.2 | B61: 2-fache Falz
A63: 6 | B63: Sortierung nach inter/-nationaler Post (in Euro ohne USt.): | F63: Gesamtpreis
A64: 6.1 | B64: je 1.000 Sendungen
A66: 7 | B66: Maschinelles Kuvertieren
A67: 7.1 | B67: Kuvertierung, maschinell (in Euro ohne USt.), je 1.000 Exemplare
A68: 7.1.1 | B68: DIN C4
A69: 7.1.2 | B69: DIN C4 stabile Wellpappe
A70: 7.1.3 | B70: DIN lang
A71: 7.1.4 | B71: DIN C5
A73: 7.2 | B73: Kuvertierung, maschinell mit 1 Einleger, beliebige Stelle (in Euro ohne USt.), je 1.000 Exemplare
A74: 7.2.1 | B74: DIN C4
A75: 7.2.2 | B75: DIN C4 stabile Wellpappe
A76: 7.2.3 | B76: DIN lang
A77: 7.2.4 | B77: DIN C5
A79: 7.3 | B79: Kuvertierung, maschinell mit 1 Einleger, bestimmte Stelle (in Euro ohne USt.), je 1.000 Exemplare
A80: 7.3.1 | B80: DIN C4
... A107: 7.7.4 | B107: DIN C5
A109: 8 | B109: Manuelles Kuvertieren
A110: 8.1 | B110: Kuvertierung, manuell (in Euro ohne USt.), je 1.000 Exemplare
A111: 8.1.1 | B111: DIN C4
A112: 8.1.2 | B112: DIN C4 stabile Wellpappe
A113: 8.1.3 | B113: DIN lang
A114: 8.1.4 | B114: DIN C5
A116: 8.2 | B116: Kuvertierung, manuell mit 1 Einleger, beliebige Stelle (in Euro ohne USt.), je 1.000 Exemplare
A117: 8.2.1 | B117: DIN C4
A118: 8.2.2 | B118: DIN C4 stabile Wellpappe
A119: 8.2.3 | B119: DIN lang
A120: 8.2.4 | B120: DIN C5
A122: 8.3 | B122: Kuvertierung, manuell mit 1 Einleger, bestimmte Stelle (in Euro ohne USt.), je 1.000 Exemplare
A123: 8.3.1 | B123: DIN C4
... A150: 8.7.4 | B150: DIN C5
B152: *maschinengeeignet kann Maße abweichend von den benannten DIN-Maßen haben.

Sheet Verbrauchsmaterial
A2: SPK-2026-00071 Preisblatt
A3: Rahmenvereinbarung Versanddienstleistungen Stiftung Preußischer Kulturbesitz
A4: Die angebotenen Preise sind Festpreise und gelten über die gesamte Laufzeit der Rahmenvereinbarung. Hier können alternative Briefumschläge (nicht im Preisblatt enthalten) und Papiersorten für den Druck pauschal angeboten werden. Dies können Premium oder Eco-Varianten oder Sonderformate für Papier/Umschläge sein. Pflichtpositionen (orange) müssen angegeben werden. Optionale Positionen (blau) können angegeben werden. Die Benennung der Produkte obliegt dem AN. Die hier beschriebenen Positionen werden nicht gewertet. Das hier angebotene Papier ist Basis für den Druck (Preisblatt Position 4), soweit nicht von der SPK gesondert Papier gestellt wird.
A6: Position | B6: Pflichtpositionen
A7: P1 | B7: Papiersorten je 1.000 Blatt | F7: Preis in € / netto
A8: P1.1 | B8: Briefpapier 120g/qm, gestrichen, matt | E8: weitere Angaben - z. B. Hersteller hier ergänzen
A9: P1.2 | B9: Briefpapier A4, 80 g/qm, 70er Weiße, FSC, Blauer Engel uz14-zertifiziert | E9: weitere Angaben - z. B. Hersteller hier ergänzen
A10: P1.3 | B10: Briefpapier A4, 80 g/qm, 80er Weiße, Blauer Engel uz14-zertifiziert | E10: weitere Angaben - z. B. Hersteller hier ergänzen
A11: P1.4 | B11: Briefpapier A4, 90 g/qm, 70er Weiße, Blauer Engel uz14-zertifiziert | E11: weitere Angaben - z. B. Hersteller hier ergänzen
A12: P1.5 | B12: Briefpapier A4, 90 g/qm, 80er Weiße, Blauer Engel uz14-zertifiziert | E12: weitere Angaben - z. B. Hersteller hier ergänzen
A13: P2 | B13: Briefumschläge je 1.000 Stück | F13: Preis in € / netto
A14: P2.1 | B14: C4 mit 2cm Bodenfalz | E14: weitere Angaben - z. B. Hersteller hier ergänzen
A15: P2.2 | B15: C4 mit 4cm Bodenfalz | E15: weitere Angaben - z. B. Hersteller hier ergänzen
A16: P2.3 | B16: DIN Lang ohne Fenster, 100% Recyclingpapier Blauer Engel uz14-zertifiziert | E16: weitere Angaben - z. B. Hersteller hier ergänzen
A17: P2.4 | B17: DIN Lang ohne Fenster, 100% Recyclingpapier Blauer Engel uz14-zertifiziert, maschinengeeignet | E17: weitere Angaben - z. B. Hersteller hier ergänzen
A18: P2.5 | B18: DIN Lang mit Fenster, 100% Recyclingpapier Blauer Engel uz14-zertifiziert | E18: weitere Angaben - z. B. Hersteller hier ergänzen
A19: P2.6 | B19: DIN Lang mit Fenster, 100% Recyclingpapier Blauer Engel uz14-zertifiziert, maschinengeeignet | E19: weitere Angaben - z. B. Hersteller hier ergänzen
A20: P2.7 | B20: DIN A5, ohne Fenster, 90 g/qm, 100% Recyclingpapier Blauer Engel uz14-zertifiziert | E20: weitere Angaben - z. B. Hersteller hier ergänzen
A21: P2.8 | B21: DIN A5, ohne Fenster, 90 g/qm, 100% Recyclingpapier Blauer Engel uz14-zertifiziert, maschinengeeignet | E21: weitere Angaben - z. B. Hersteller hier ergänzen
A22: P2.9 | B22: DIN C4, ohne Fenster, 75 g/qm 100% Recyclingpapier Blauer Engel uz14-zertifiziert, | E22: weitere Angaben - z. B. Hersteller hier ergänzen
A23: P2.10 | B23: DIN C4, ohne Fenster, 75 g/qm 100% Recyclingpapier Blauer Engel uz14-zertifiziert, maschinengeeignet | E23: weitere Angaben - z. B. Hersteller hier ergänzen
A24: P2.11 | B24: DIN C4, mit Fenster, 75 g/qm 100% Recyclingpapier Blauer Engel uz14-zertifiziert | E24: weitere Angaben - z. B. Hersteller hier ergänzen
A25: P2.12 | B25: DIN C4, mit Fenster, 75 g/qm 100% Recyclingpapier Blauer Engel uz14-zertifiziert, maschinengeeignet | E25: weitere Angaben - z. B. Hersteller hier ergänzen
A27: Position | B27: Papier (optional)
A28: A1 | B28: Papiersorten je 1.000 Blatt | F28: Preis in € / netto
A29: A1.1
A30: A1.2
A31: A1.3
A32: A1.4
A33: A1.5
A34: A1.6
A35: A1.7
A36: A1.8
A37: A1.9
A38: A1.10
A40: Position | B40: Briefumschläge (optional)
A41: A2 | B41: Briefumschläge je 1.000 Stück | F41: Preis in € / netto
A42: A2.1
A43: A2.2
A44: A2.3
A45: A2.4
A46: A2.5
A47: A2.6
A48: A2.7
A49: A2.8
A50: A2.9
A51: A2.10

Sheet fiktive Kalkulation
A2: SPK-2026-00071 Preisblatt / Fiktive Kalkulation
A3: Rahmenvereinbarung Konfektionierung Stiftung Preußischer Kulturbesitz
A4: Die angebotenen Preise sind Festpreise und gelten über die gesamte Laufzeit der Rahmenvereinbarung. Die Excel Datei "Preisblatt und fiktive Kalkulation" ist vollständig auszufüllen und mit dem Angebot einzureichen. Sie ist bereits so angelegt, dass sich die eingetragenen Preise unter dem Reiter Preisblatt automatisch in die Tabelle "Fiktive Kalkulation" übertragen. Fehlende Preisangaben können zum Ausschluss des Angebotes führen. Bitte beachten Sie, dass die Excel-Datei "Preisblatt und Fiktive Kalkulation" mehere "Datei-Reiter" beinhaltet, in die Preise oder sonstige Angaben einzutragen sind. Die vom Bieter auszufüllenden Felder sind gelb unterlegt. Auf diesem Reiter "fiktive Kalkulation" müssen keine Eintragungen durch den Bieter vorgenommen werden!
O6: davon | P6: davon
O7: ZSE | P7: SMB
A8: Allgemeine Kosten (in Euro ohne USt.): | I8: Einzelpreis | K8: fiktive Menge | M8: Gesamtpreis
A9: Abholung des Versandmaterials | I9: =Preisblatt!F19 -> 0 | K9: 39 | M9: =I9*K9 -> 0 | O9: 4 | P9: 35
A10: Rücklieferung an eine Adresse | I10: =Preisblatt!F20 -> 0 | K10: 28 | M10: =I10*K10 -> 0 | O10: 4 | P10: 35
A11: Rücklieferung je weiterer Adresse | I11: =Preisblatt!F21 -> 0 | K11: 20 | M11: =I11*K11 -> 0 | P11: 20
A12: Übernahme der Adressdaten | I12: =Preisblatt!F22 -> 0 | K12: 39 | M12: =I12*K12 -> 0 | O12: 4 | P12: 35
A13: Portooptimierungsprogramm, Erstellung von Postauflieferungslisten | I13: =Preisblatt!F23 -> 0 | K13: 39 | M13: =I13*K13 -> 0 | O13: 4 | P13: 35
A15: Bereitstellung von Umschlägen/Kuverts (in Euro ohne USt.): | C15: Preis je 1.000 Exemplare | E15: fiktive Menge | G15: Gesamtpreis | I15: Preis je 1.000 Exemplare Maschinengeeignet | K15: fiktive Menge | M15: Gesamtpreis
A16: DIN C4 o. F. | C16: =Preisblatt!F28 -> 0 | E16: 0 | G16: =C16*E16 -> 0 | I16: =Preisblatt!F36 -> 0 | K16: 12 | M16: =I16*K16 -> 0 | O16: 2 | P16: 10
A17: DIN C4 m.F. | C17: =Preisblatt!F29 -> 0 | E17: 0 | G17: =C17*E17 -> 0 | I17: =Preisblatt!F37 -> 0 | K17: 12 | M17: =I17*K17 -> 0 | O17: 2 | P17: 10
A18: DIN C4 stabile Wellpappe | C18: =Preisblatt!F30 -> 0 | E18: 0 | G18: =C18*E18 -> 0 | I18: =Preisblatt!F38 -> 0 | K18: 0 | M18: =I18*K18 -> 0
A19: DIN lang o.F. | C19: =Preisblatt!F31 -> 0 | E19: 0 | G19: =C19*E19 -> 0 | I19: =Preisblatt!F39 -> 0 | K19: 24 | M19: =I19*K19 -> 0 | P19: 24
A20: DIN lang m. F. | C20: =Preisblatt!F32 -> 0 | E20: 0 | G20: =C20*E20 -> 0 | I20: =Preisblatt!F40 -> 0 | K20: 24 | M20: =I20*K20 -> 0 | P20: 24
A21: DIN C5 o.F. | C21: =Preisblatt!F33 -> 0 | E21: 0 | G21: =C21*E21 -> 0 | I21: =Preisblatt!F41 -> 0 | K21: 10 | M21: =I21*K21 -> 0 | P21: 10
A22: Summe | G22: =SUM(G16:H21) -> 0 | I22: Summe | M22: =SUM(M16:N21) -> 0
A24: Direktadressierung (in Euro ohne USt.): | I24: Preis je 1.000 Exemplare | K24: fiktive Menge | M24: Gesamtpreis
A25: DIN C4 | I25: =Preisblatt!F44 -> 0 | K25: 24 | M25: =I25*K25 -> 0 | O25: 4 | P25: 20
A26: DIN C4 stabile Wellpappe | I26: =Preisblatt!F45 -> 0 | K26: 0 | M26: =I26*K26 -> 0
A27: DIN lang | I27: =Preisblatt!F46 -> 0 | K27: 48 | M27: =I27*K27 -> 0 | P27: 48
A28: DIN C5 | I28: =Preisblatt!F47 -> 0 | K28: 10 | M28: =I28*K28 -> 0 | P28: 10
A29: Summe | M29: =SUM(M25:N28) -> 0
C31: Drucken von Briefen je 100 Seiten, personalisiert (in Euro ohne USt.): | I31: Drucken von Briefen je 100 Seiten, nicht personalisiert (in Euro ohne USt.):
C32: Einzelpreis | E32: fiktive Menge | G32: Gesamtpreis | I32: Einzelpreis | K32: fiktive Menge | M32: Gesamtpreis
A33: Simplex, s/w | C33: =Preisblatt!F50 -> 0 | E33: 0 | G33: =C33*E33 -> 0 | I33: =Preisblatt!F54 -> 0 | K33: 1 | M33: =I33*K33 -> 0 | O33: 1
A34: Simplex, farbig | C34: =Preisblatt!F51 -> 0 | E34: 0 | G34: =C34*E34 -> 0 | I34: =Preisblatt!F55 -> 0 | K34: 1 | M34: =I34*K34 -> 0 | O34: 1
A35: Duplex, s/w | C35: =Preisblatt!F52 -> 0 | E35: 0 | G35: =C35*E35 -> 0 | I35: =Preisblatt!F56 -> 0 | K35: 0 | M35: =I35*K35 -> 0
A36: Duplex, farbig | C36: =Preisblatt!F53 -> 0 | E36: 0 | G36: =C36*E36 -> 0 | I36: =Preisblatt!F57 -> 0 | K36: 0 | M36: =I36*K36 -> 0
A37: Summe | G37: =SUM(G33:H36) -> 0 | I37: Summe | M37: =SUM(M33:N36) -> 0
A39: Falzen (in Euro ohne USt.): | I39: Preis je 1.000 Exemplare | K39: fiktive Menge | M39: Gesamtpreis
A40: 1-fache Falz | I40: =Preisblatt!F60 -> 0 | K40: 1 | M40: =I40*K40 -> 0 | P40: 1
A41: 2-fache Falz | I41: =Preisblatt!F61 -> 0 | K41: 0 | M41: =I41*K41 -> 0
A42: Summe | M42: =M40+M41 -> 0
A44: Sortierung nach inter/-nationaler Post (in Euro ohne USt.): | I44: Einzelpreis | K44: fiktive Menge | M44: Gesamtpreis
A45: je 1.000 Sendungen | I45: =Preisblatt!F64 -> 0 | K45: 82 | M45: =I45*K45 -> 0 | O45: 4 | P45: 78
A47: Kuvertierung, maschinell (in Euro ohne USt.): | I47: Preis je 1.000 Exemplare | K47: fiktive Menge | M47: Gesamtpreis
A48: DIN C4 | I48: =Preisblatt!F68 -> 0 | K48: 8 | M48: =I48*K48 -> 0 | P48: 8
A49: DIN C4 stabile Wellpappe | I49: =Preisblatt!F69 -> 0 | K49: 0 | M49: =I49*K49 -> 0
A50: DIN lang | I50: =Preisblatt!F70 -> 0 | K50: 20 | M50: =I50*K50 -> 0 | P50: 20
A51: DIN C5 | I51: =Preisblatt!F71 -> 0 | K51: 4 | M51: =I51*K51 -> 0 | P51: 4
A52: Summe | M52: =SUM(M48:N51) -> 0
A54: Kuvertierung, maschinell mit 1 Einleger (in Euro ohne USt.): | C54: Preis je 1.000 Exemplare beliebige Stelle | E54: fiktive Menge | G54: Gesamtpreis | I54: Preis je 1.000 Exemplare bestimmte Stelle | K54: fiktive Menge | M54: Gesamtpreis
A55: DIN C4 | C55: =Preisblatt!F74 -> 0 | E55: 1 | G55: =C55*E55 -> 0 | I55: =Preisblatt!F80 -> 0 | K55: 0 | M55: =I55*K55 -> 0 | P55: 1
A56: DIN C4 stabile Wellpappe | C56: =Preisblatt!F75 -> 0 | E56: 0 | G56: =C56*E56 -> 0 | I56: =Preisblatt!F81 -> 0 | K56: 0 | M56: =I56*K56 -> 0
A57: DIN lang | C57: =Preisblatt!F76 -> 0 | E57: 2 | G57: =C57*E57 -> 0 | I57: =Preisblatt!F82 -> 0 | K57: 0 | M57: =I57*K57 -> 0 | P57: 2
A58: DIN C5 | C58: =Preisblatt!F77 -> 0 | E58: 1 | G58: =C58*E58 -> 0 | I58: =Preisblatt!F83 -> 0 | K58: 0 | M58: =I58*K58 -> 0 | P58: 1
A59: Summe | G59: =SUM(G55:H58) -> 0 | I59: Summe | M59: =SUM(M55:N58) -> 0
A61: Kuvertierung, maschinell mit 2 Einlegern (in Euro ohne USt.): | C61: Preis je 1.000 Exemplare beliebige Stelle | E61: fiktive Menge | G61: Gesamtpreis | I61: Preis je 1.000 Exemplare bestimmte Stelle | K61: fiktive Menge | M61: Gesamtpreis
A62: DIN C4 | C62: =Preisblatt!F86 -> 0 | E62: 1 | G62: =C62*E62 -> 0 | I62: =Preisblatt!F92 -> 0 | K62: 0 | M62: =I62*K62 -> 0 | P62: 1
A63: DIN C4 stabile Wellpappe | C63: =Preisblatt!F87 -> 0 | E63: 0 | G63: =C63*E63 -> 0 | I63: =Preisblatt!F93 -> 0 | K63: 0 | M63: =I63*K63 -> 0
A64: DIN lang | C64: =Preisblatt!F88 -> 0 | E64: 2 | G64: =C64*E64 -> 0 | I64: =Preisblatt!F94 -> 0 | K64: 0 | M64: =I64*K64 -> 0 | P64: 2
A65: DIN C5 | C65: =Preisblatt!F89 -> 0 | E65: 0 | G65: =C65*E65 -> 0 | I65: =Preisblatt!F95 -> 0 | K65: 0 | M65: =I65*K65 -> 0
A66: Summe | G66: =SUM(G62:H65) -> 0 | I66: Summe | M66: =SUM(M62:N65) -> 0
A68: Kuvertierung, maschinell mit 3 Einlegern (in Euro ohne USt.): | C68: Preis je 1.000 Exemplare beliebige Stelle | E68: fiktive Menge | G68: Gesamtpreis | I68: Preis je 1.000 Exemplare bestimmte Stelle | K68: fiktive Menge | M68: Gesamtpreis
A69: DIN C4 | C69: =Preisblatt!F98 -> 0 | E69: 0 | G69: =C69*E69 -> 0 | I69: =Preisblatt!F104 -> 0 | K69: 0 | M69: =I69*K69 -> 0
A70: DIN C4 stabile Wellpappe | C70: =Preisblatt!F99 -> 0 | E70: 0 | G70: =C70*E70 -> 0 | I70: =Preisblatt!F105 -> 0 | K70: 0 | M70: =I70*K70 -> 0
A71: DIN lang | C71: =Preisblatt!F100 -> 0 | E71: 0 | G71: =C71*E71 -> 0 | I71: =Preisblatt!F106 -> 0 | K71: 0 | M71: =I71*K71 -> 0
A72: DIN C5 | C72: =Preisblatt!F101 -> 0 | E72: 0 | G72: =C72*E72 -> 0 | I72: =Preisblatt!F107 -> 0 | K72: 0 | M72: =I72*K72 -> 0
A73: Summe | G73: =SUM(G69:H72) -> 0 | I73: Summe | M73: =SUM(M69:N72) -> 0
A75: Kuvertierung, manuell (in Euro ohne USt.): | I75: Preis je 1.000 Exemplare | K75: fiktive Menge | M75: Gesamtpreis
A76: DIN C4 | I76: =Preisblatt!F111 -> 0 | K76: 8 | M76: =I76*K76 -> 0 | P76: 8
A77: DIN C4 stabile Wellpappe | I77: =Preisblatt!F112 -> 0 | K77: 0 | M77: =I77*K77 -> 0
A78: DIN lang | I78: =Preisblatt!F113 -> 0 | K78: 20 | M78: =I78*K78 -> 0 | P78: 20
A79: DIN C5 | I79: =Preisblatt!F114 -> 0 | K79: 4 | M79: =I79*K79 -> 0 | P79: 4
A80: Summe | M80: =SUM(M76:N79) -> 0
A82: Kuvertierung, manuell mit 1 Einleger (in Euro ohne USt.): | C82: Preis je 1.000 Exemplare beliebige Stelle | E82: fiktive Menge | G82: Gesamtpreis | I82: Preis je 1.000 Exemplare bestimmte Stelle | K82: fiktive Menge | M82: Gesamtpreis
A83: DIN C4 | C83: =Preisblatt!F117 -> 0 | E83: 0 | G83: =C83*E83 -> 0 | I83: =Preisblatt!F123 -> 0 | K83: 5 | M83: =I83*K83 -> 0 | O83: 4 | P83: 1
A84: DIN C4 stabile Wellpappe | C84: =Preisblatt!F118 -> 0 | E84: 0 | G84: =C84*E84 -> 0 | I84: =Preisblatt!F124 -> 0 | K84: 0 | M84: =I84*K84 -> 0
A85: DIN lang | C85: =Preisblatt!F119 -> 0 | E85: 0 | G85: =C85*E85 -> 0 | I85: =Preisblatt!F125 -> 0 | K85: 2 | M85: =I85*K85 -> 0 | P85: 2
A86: DIN C5 | C86: =Preisblatt!F120 -> 0 | E86: 0 | G86: =C86*E86 -> 0 | I86: =Preisblatt!F126 -> 0 | K86: 1 | M86: =I86*K86 -> 0 | P86: 1
A87: Summe | G87: =SUM(G83:H86) -> 0 | I87: Summe | M87: =SUM(M83:N86) -> 0
A89: Kuvertierung, manuell mit 2 Einlegern (in Euro ohne USt.): | C89: Preis je 1.000 Exemplare beliebige Stelle | E89: fiktive Menge | G89: Gesamtpreis | I89: Preis je 1.000 Exemplare bestimmte Stelle | K89: fiktive Menge | M89: Gesamtpreis
A90: DIN C4 | C90: =Preisblatt!F129 -> 0 | E90: 0 | G90: =C90*E90 -> 0 | I90: =Preisblatt!F135 -> 0 | K90: 2 | M90: =I90*K90 -> 0 | O90: 1 | P90: 1
A91: DIN C4 stabile Wellpappe | C91: =Preisblatt!F130 -> 0 | E91: 0 | G91: =C91*E91 -> 0 | I91: =Preisblatt!F136 -> 0 | K91: 0 | M91: =I91*K91 -> 0
A92: DIN lang | C92: =Preisblatt!F131 -> 0 | E92: 0 | G92: =C92*E92 -> 0 | I92: =Preisblatt!F137 -> 0 | K92: 2 | M92: =I92*K92 -> 0 | P92: 2
A93: DIN C5 | C93: =Preisblatt!F132 -> 0 | E93: 0 | G93: =C93*E93 -> 0 | I93: =Preisblatt!F138 -> 0 | K93: 0 | M93: =I93*K93 -> 0
A94: Summe | G94: =SUM(G90:H93) -> 0 | I94: Summe | M94: =SUM(M90:N93) -> 0
A96: Kuvertierung, manuell mit 3 Einlegern (in Euro ohne USt.): | C96: Preis je 1.000 Exemplare beliebige Stelle | E96: fiktive Menge | G96: Gesamtpreis | I96: Preis je 1.000 Exemplare bestimmte Stelle | K96: fiktive Menge | M96: Gesamtpreis
A97: DIN C4 | C97: =Preisblatt!F141 -> 0 | E97: 0 | G97: =C97*E97 -> 0 | I97: =Preisblatt!F147 -> 0 | K97: 0 | M97: =I97*K97 -> 0
A98: DIN C4 stabile Wellpappe | C98: =Preisblatt!F142 -> 0 | E98: 0 | G98: =C98*E98 -> 0 | I98: =Preisblatt!F148 -> 0 | K98: 0 | M98: =I98*K98 -> 0
A99: DIN lang | C99: =Preisblatt!F143 -> 0 | E99: 0 | G99: =C99*E99 -> 0 | I99: =Preisblatt!F149 -> 0 | K99: 0 | M99: =I99*K99 -> 0
A100: DIN C5 | C100: =Preisblatt!F144 -> 0 | E100: 0 | G100: =C100*E100 -> 0 | I100: =Preisblatt!F150 -> 0 | K100: 0 | M100: =I100*K100 -> 0
A101: Summe | G101: =SUM(G97:H100) -> 0 | I101: Summe | M101: =SUM(M97:N100) -> 0
A103: Gesamtwert - Angebotspreis (netto) | I103: =SUM(M9+M10+M11+M12+M13+M22+M29+G37+M37+M42+M45+M52+G59+M59+G66+M66+G73+M73+M80+G87+M87+G94+M94+G101+M101) -> 0
