Workbook
Name _Hlk202730306: '00_vorbemerkung'!#REF!
Name _Hlk202730306: '01_aufforderung tnw'!$I$22
Name _Hlk202730306: '02_teilnahmeantrag'!$I$16
Name _Hlk202730306: '03_unternehmensangaben'!#REF!
Name _Hlk202730306: '04_eigenerklaerungen'!#REF!
Name _Hlk202730306: '05-erlaubnis-berufsausuebung'!#REF!
Name _Hlk202730306: '06_wirtsch_leistungsfaehigkeit'!#REF!
Name _Hlk202730306: '07_techn_leistungsfaehigkeit'!#REF!
Name _Hlk202730306: '08_formblatt-234'!#REF!
Name _Hlk202730306: '09_formblatt-233'!#REF!
Name _Hlk202730306: '10_formblatt-235'!#REF!
Name _Hlk205721037: '00_vorbemerkung'!#REF!
Name _Hlk205721037: '01_aufforderung tnw'!$C$32
Name _Hlk205721037: '02_teilnahmeantrag'!$C$29
Name _Hlk205721037: '03_unternehmensangaben'!#REF!
Name _Hlk205721037: '04_eigenerklaerungen'!#REF!
Name _Hlk205721037: '05-erlaubnis-berufsausuebung'!#REF!
Name _Hlk205721037: '06_wirtsch_leistungsfaehigkeit'!#REF!
Name _Hlk205721037: '07_techn_leistungsfaehigkeit'!#REF!
Name _Hlk205721037: '08_formblatt-234'!#REF!
Name _Hlk205721037: '09_formblatt-233'!#REF!
Name _Hlk205721037: '10_formblatt-235'!#REF!

Sheet 00_system
B2: Systemeinstellungen
B3: Dateistand | C3: 12.10.2026 (v1)
B5: Verfahrensinformationen
B6: Gewerk | C6: Sicherheitsdienstleistungen
B7: Verfahrensbezeichnung | C7: in den Flüchtlings- und Asylunterkünften des Landkreises Dachau
B8: Los und Los-Bezeichnung
B9: Vergabenummer | C9: 10-804-242120932-1
B10: Verfahrensart | C10: Nicht Offenes Verfahren mit Teilnahmewettbewerb (§ 16 VgV)
B11: Dateibezeichnung | C11: 01_lra-dah_sicherheit_teilnahmeantrag.xlsx
B12: Kurzbezeichnung | C12: lra-dah
B13: Logo | C13: #VALUE!
B14: Export-Bezeichnung | C14: =CONCATENATE(C9,"_",C12,"_tn-antrag_",'03_unternehmensangaben'!F21) -> 10-804-242120932-1_lra-dah_tn-antrag_
B16: Daten der Ausschreibungsstelle
B17: Vergabestelle | C17: Zentrale Vergabestelle
B18: Bezeichnung | C18: Landratsamt Dachau
B19: Straße | C19: Weiherweg 16
B20: Ort | C20: 85221 Dachau
B21: Hilfsbezeichnung | C21: das Landratsamt Dachau
B23: Vergabeplattform
B24: Vergabeplattform | C24: elektronisch über das Vergabeportal
B25: Internetadresse | C25: https://satellite.dtvp.de
B27: Fristenplanung
B28: Veröffentlichung TNW | C28: 12.10.2026 | E28: Montag | F28: =E28 & "" & ", den" & " " & C28 -> Montag, den 12.10.2026
B29: Fragefrist | C29: 04.11.2026 | E29: Mittwoch | F29: =C29 -> 04.11.2026
B30: Antwortfrist | C30: 05.11.2026 | E30: Donnerstag | F30: =C30 -> 05.11.2026
B31: Frist in Tagen
B32: Teilnahmefrist | C32: 12.11.2026 | D32: 10:00 Uhr | E32: Donnerstag | F32: =E32 & "" & ", den" & " " & C32 & "" & " um " & "" & D32 -> Donnerstag, den 12.11.2026 um 10:00 Uhr
B33: Leistungsbeginn | C33: 01.02.2027 | F33: =C33 -> 01.02.2027
B34: Leistungsende | C34: 31.01.2029 | F34: =C34 -> 31.01.2029
B35: Verlängerungen | C35: viermal
B36: Absolutes Enddatum | C36: 31.01.2033 | F36: =C36 -> 31.01.2033
B38: Referenzanforderungen
B39: Veröffentlichung TNW | C39: 46307 | E39: =C39 -> 46307 | F39: =CONCATENATE(TEXT(E39,"TTTT"),", den ",TEXT(C39,"TT.MM.JJJJ")) -> Montag, den 12.10.2026
B41: Mindestanforderungen:
B42: a) Der Referenzauftrag umfasste Sicherheits- bzw. Bewachungsleistungen in einer Flüchtlings-, Asyl- oder vergleichbaren Gemeinschaftsunterkunft (vergleichbar ist jede Gemeinschaftsunterbringung von Personen mit Wohn- und Übernachtungsfunktion, insbesondere Aufnahmeeinrichtungen, Notunterkünfte und Unterkünfte für Wohnungslose)
B43: b) Die Kapazität der im Referenzauftrag bewachten Unterkünfte beträgt insgesamt mindestens 100 Plätze | G43: 100
B44: c) Die Leistungserbringung im Referenzauftrag dauert noch an oder wurde nicht früher als 36 Monate vor dem Tag der Absendung der EU-Bekanntmachung (12.10.2026) beendet. | G44: =EDATE(C39,-36) -> 45211
B45: d) Die Leistungserbringung im Referenzauftrag umfasst einen zusammenhängenden Zeitraum von mindestens 12 Monaten; bei laufenden Aufträgen wird bis zum Tag der Absendung der EU-Bekanntmachung (12.10.2026) gerechnet. | G45: =EDATE(C39,-12) -> 45942
B47: Zusätzliche Bewertungspunkte:
B48: 1 Punkt: Der Referenzauftrag umfasste die Bewachung von einem oder zwei Standorten von Flüchtlings- oder Asylunterkünften. | F48: 1 | G48: Ein oder zwei Standorte (Flüchtlings- oder Asylunterkunft)
...

Sheet 00_vorbemerkung
N2: Zur Aufforderung der Abgabe eines Teilnahmeantrag
C3: ='00_system'!C6 -> Sicherheitsdienstleistungen | I3: ='00_system'!C13 -> #VALUE!
C4: ='00_system'!C7 -> in den Flüchtlings- und Asylunterkünften des Landkreises Dachau
C6: =IF('00_system'!C8="","",'00_system'!C8)
C8: =CONCATENATE("Vergabenummer: ",'00_system'!C9) -> Vergabenummer: 10-804-242120932-1
C9: =CONCATENATE("Stand: ",'00_system'!C3) -> Stand: 12.10.2026 (v1)
C12: Vorbemerkungen / Ausfüllinformationen
C14: Sehr geehrte Bewerberinnen und Bewerber, sehr geehrte Damen und Herren,
C15: =CONCATENATE("wir freuen uns über Ihr Interesse am Teilnahmewettbewerb betreffend die Vergabe von ",'00_system'!C6," ",'00_system'!C7,".") -> wir freuen uns über Ihr Interesse am Teilnahmewettbewerb betreffend die Vergabe von Sicherheitsdienstleistungen in den Flüchtlings- und Asylunterkünften des Landkreises Dachau.
C16: Zur übersichtlichen und nutzerfreundlichen Gestaltung des Teilnahmewettbewerbs haben wir in diesem Dokument sämtliche erforderlichen Informationen zum Verfahren sowie die für den Teilnahmeantrag abzugebenden Angaben und Erklärungen zusammengefasst. Anlagen und Nachweise sind – soweit sie nicht ausdrücklich gefordert werden – nicht einzureichen. Wir bitten daher ausdrücklich, von der Einreichung unaufgeforderter Anlagen und Nachweise abzusehen. Wichtiger Hinweis: Auf gesonderte Aufforderung der Vergabestelle sind gegebenenfalls Unbedenklichkeitsbescheinigungen der Krankenkassen, der Berufsgenossenschaft, des Finanzamts oder sonstige geeignete Nachweise zur Verifizierung der im Teilnahmeantrag gemachten Angaben vorzulegen. In den jeweiligen Reitern befindet sich rechts neben den Ausfüllfeldern jeweils eine Spalte „Pflichtangaben“, aus der hervorgeht, in welchem Umfang Angaben zu machen sind. Darüber hinaus steht eine Spalte „Vollständigkeitskontrolle“ zur Verfügung. Nur wenn dort sämtliche Felder grün markiert sind und der Hinweis „Angaben vollständig“ erscheint, gelten alle erforderlichen Felder als vollständig ausgefüllt. Im Reiter „02_Teilnahmeantrag“ ist diese Übersicht zusätzlich zusammengefasst.
C17: Wichtiger Hinweis: In die Wertung des Teilnahmeantrags werden ausschließlich Angaben einbezogen, die vollständig und innerhalb der dafür vorgesehenen Textfelder eingetragen wurden. Unvollständige Angaben sowie Eintragungen außerhalb der vorgesehenen Textfelder bleiben unberücksichtigt.
C18: =CONCATENATE("Etwaige Fragen zum Teilnahmewettbewerb sind bitte ausschließlich über die Bieterkommunikation der Vergabeplattform und spätestens bis zum ",'00_system'!F29," einzureichen. Mündliche Anfragen werden grundsätzlich nicht beantwortet.") -> Etwaige Fragen zum Teilnahmewettbewerb sind bitte ausschließlich über die Bieterkommunikation der Vergabeplattform und spätestens bis zum 04.11.2026 einzureichen. Mündliche Anfragen werden grundsätzlich nicht beantwortet. | U18: Bitte beachten Sie, dass Fragen und Antworten zum Teilnahmewettbewerb auf der Vergabeplattform veröffentlicht werden, über die auch die Vergabeunterlagen bereitgestellt werden. Es obliegt den Bewerbern, eigenverantwortlich zu prüfen, ob Fragen eingegangen und beantwortet worden sind. Die letzte Aktualisierung erfolgt voraussichtlich am
C19: =U18 & "" & '00_system'!F30 & "" & U19 -> Bitte beachten Sie, dass Fragen und Antworten zum Teilnahmewettbewerb auf der Vergabeplattform veröffentlicht werden, über die auch die Vergabeunterlagen bereitgestellt werden. Es obliegt den Bewerbern, eigenverantwortlich zu prüfen, ob Fragen eingegangen und beantwortet worden sind. Die letzte Aktualisierung erfolgt voraussichtlich am 05.11.2026. Soweit ein Bewerber die von der Vergabestelle veröffentlichten Antworten nicht abruft oder bei der Angebotserstellung nicht berücksichtigt, geht dies zu seinen Lasten. | U19: . Soweit ein Bewerber die von der Vergabestelle veröffentlichten Antworten nicht abruft oder bei der Angebotserstellung nicht berücksichtigt, geht dies zu seinen Lasten.
C20: Soweit die Teilnahmeunterlagen nach Auffassung des Bewerbers Unklarheiten, Unvollständigkeiten oder Fehler enthalten, hat er die Vergabestelle hierauf unverzüglich und vor Ablauf der Einreichungsfrist in elektronischer Form über die Vergabeplattform hinzuweisen.
C21: Der Teilnahmeantrag ist für Microsoft Excel 365 optimiert. Die Nutzung wurde zudem mit LibreOffice Calc und Google Tabellen getestet. In diesen Anwendungen können im Einzelfall trotz erfolgreicher Tests Darstellungsabweichungen nicht ausgeschlossen werden; die inhaltliche Bearbeitung und Befüllung des Formulars ist jedoch grundsätzlich möglich.
C22: Wichtiger Hinweis: Das Deaktivieren oder Umgehen des Blattschutzes, Änderungen an Formeln, Verknüpfungen oder Bezügen sowie jede sonstige technische oder inhaltliche Veränderung des Teilnahmeantrags oder der zugehörigen Dokumente sind unzulässig. Derartige Änderungen führen grundsätzlich zum zwingenden Ausschluss des Teilnahmeantrags vom weiteren Vergabeverfahren.
C23: =CONCATENATE('00_system'!C17," ",'00_system'!C18) -> Zentrale Vergabestelle Landratsamt Dachau

Sheet 01_aufforderung tnw
N2: zum Teilnahmeantrag
C3: ='00_system'!C6 -> Sicherheitsdienstleistungen | I3: ='00_system'!C13 -> #VALUE!
C4: ='00_system'!C7 -> in den Flüchtlings- und Asylunterkünften des Landkreises Dachau
C6: =IF('00_system'!C8="","",'00_system'!C8)
C8: =CONCATENATE("Vergabenummer: ",'00_system'!C9) -> Vergabenummer: 10-804-242120932-1
C9: =CONCATENATE("Stand: ",'00_system'!C3) -> Stand: 12.10.2026 (v1)
I12: Vergabestelle:
I13: ='00_system'!C18 -> Landratsamt Dachau
C14: Empfänger | I14: ='00_system'!C17 -> Zentrale Vergabestelle
C15: Interessierte Bewerber | I15: ='00_system'!C19 -> Weiherweg 16
C16: und Bewerbergemeinschaften | I16: ='00_system'!C20 -> 85221 Dachau
I18: Ablauf der Teilnahmefrist:
I19: ='00_system'!F32 -> Donnerstag, den 12.11.2026 um 10:00 Uhr
I21: Abgabe des Teilnahmeantrags:
I22: =CONCATENATE('00_system'!C24," unter ",'00_system'!C25) -> elektronisch über das Vergabeportal unter https://satellite.dtvp.de
C24: Aufforderung zur Abgabe eines Teilnahmeantrags
C26: Sehr geehrte Damen und Herren,
C28: =CONCATENATE('00_system'!C21," ","beabsichtigt, die Sicherheitsdienstleistungen ",'00_system'!C7," zu vergeben. Wir fordern Sie auf, unter Beachtung der Vergabebedingungen, einen Teilnahmeantrag abzugeben:") -> das Landratsamt Dachau beabsichtigt, die Sicherheitsdienstleistungen in den Flüchtlings- und Asylunterkünften des Landkreises Dachau zu vergeben. Wir fordern Sie auf, unter Beachtung der Vergabebedingungen, einen Teilnahmeantrag abzugeben:
C30: 1. | D30: Art der Vergabe
D31: ='00_system'!C10 -> Nicht Offenes Verfahren mit Teilnahmewettbewerb (§ 16 VgV) | V31: Die Leistungszeit beginnt am
V32: und läuft zunächst für eine Festlaufzeit von zwei Jahren bis zum
C33: 2. | D33: Ausführungszeitraum | V33: . Der Vertrag verlängert sich anschließend
D34: =V31 & "" & '00_system'!C33 & " " & V32 & "" & '00_system'!C34 & "" & V33 & "" & '00_system'!C35 & "" & '01_aufforderung tnw'!V34 & "" & '00_system'!C36 & "" & '01_aufforderung tnw'!V35 -> Die Leistungszeit beginnt am 01.02.2027 und läuft zunächst für eine Festlaufzeit von zwei Jahren bis zum 31.01.2029. Der Vertrag verlängert sich anschließend viermal um jeweils zwölf Monate, wenn nicht der Auftraggeber spätestens sechs Monate vor Ablauf der jeweiligen Laufzeit in Textform erklärt, dass er den Vertrag nicht verlängert. Der Vertrag endet spätestens am 31.01.2033, ohne dass es einer Kündigung bedarf. | V34: um jeweils zwölf Monate, wenn nicht der Auftraggeber spätestens sechs Monate vor Ablauf der jeweiligen Laufzeit in Textform erklärt, dass er den Vertrag nicht verlängert. Der Vertrag endet spätestens am
V35: , ohne dass es einer Kündigung bedarf.
C36: 3. | D36: Leistungsinhalt:
D37: Abschluss einer Rahmenvereinbarung mit einem Auftragnehmer über Sicherheitsdienstleistungen in sämtlichen Flüchtlings- und Asylunterkünften des Landkreises Dachau, insbesondere stationäre Objektbewachung, die mobile Bestreifung dezentraler Unterkünfte sowie die Unterstützung der Essensausgabe. Die Leistungen werden durch Einzelaufträge abgerufen; eine Mindestabnahme wird nicht vereinbart. Der Höchstwert der Rahmenvereinbarung ist im Rahmenvertrag angegeben. Informationen über weitere Einzelheiten können aus den Vergabeunterlagen entnommen werden.
V38: Für den Teilnahmeantrag ist der vom Auftraggeber zur Verfügung gestellte Vordruck "
C39: 4. | D39: Vordrucke, Änderungen und Ergänzungen:
D40: =V38 & "" & '00_system'!C11 & "" & '01_aufforderung tnw'!V40 -> Für den Teilnahmeantrag ist der vom Auftraggeber zur Verfügung gestellte Vordruck "01_lra-dah_sicherheit_teilnahmeantrag.xlsx" zu verwenden; die Verwendung selbst gefertigter Vervielfältigungen, Abschriften oder Kurzfassungen ist – wenn nicht ausdrücklich im Einzelfall zugelassen – nicht zulässig. Änderungen und Ergänzungen an den Vergabeunterlagen sind unzulässig. Änderungsvorschläge sind nicht zugelassen. HINWEIS: Nur Angaben, die vollständig und innerhalb der Textfelder eingetragen sind, werden in die Wertung des Teilnahmeantrags einbezogen. Unvollständige oder außerhalb dieser Textfelder befindliche Angaben bleiben unberücksichtigt. | V40: " zu verwenden; die Verwendung selbst gefertigter Vervielfältigungen, Abschriften oder Kurzfassungen ist – wenn nicht ausdrücklich im Einzelfall zugelassen – nicht zulässig. Änderungen und Ergänzungen an den Vergabeunterlagen sind unzulässig. Änderungsvorschläge sind nicht zugelassen. HINWEIS: Nur Angaben, die vollständig und innerhalb der Textfelder eingetragen sind, werden in die Wertung des Teilnahmeantrags einbezogen. Unvollständige oder außerhalb dieser Textfelder befindliche Angaben bleiben unberücksichtigt.
C42: 5. | D42: Sprache
D43: Der Teilnahmeantrag, sämtliche beizubringenden Erklärungen und weitergehende Korrespondenz sind in deutscher Sprache abzufassen. Einem Schriftstück, das in einer fremden Sprache eingereicht wird, ist eine beglaubigte oder von einem öffentlich bestellten oder beeidigten Übersetzer oder Dolmetscher angefertigte Übersetzung beizufügen.
C45: 6. | D45: Abgabe des Teilnahmeantrags:
D46: =CONCATENATE("Der Teilnahmeantrag ist bis Ablauf der Teilnahmefrist ",'00_system'!C24," (",'00_system'!C25,")"," unter Verwendung des hier zur Verfügung gestellten Tools zur Angebotserstellung abzugeben. Die Bewerber haben sich rechtzeitig technisch hiermit vertraut zu machen.") -> Der Teilnahmeantrag ist bis Ablauf der Teilnahmefrist elektronisch über das Vergabeportal (https://satellite.dtvp.de) unter Verwendung des hier zur Verfügung gestellten Tools zur Angebotserstellung abzugeben. Die Bewerber haben sich rechtzeitig technisch hiermit vertraut zu machen.
C48: 7. | D48: Frist für Teilnahmeanträge:
D49: =CONCATENATE('00_system'!F32,". Ein nicht fristgerecht / formgerecht eingereichter Teilnahmeantrag wird ausgeschlossen.") -> Donnerstag, den 12.11.2026 um 10:00 Uhr. Ein nicht fristgerecht / formgerecht eingereichter Teilnahmeantrag wird ausgeschlossen.
V50: Etwaige Fragen zum Teilnahmewettbewerb richten Sie bitte bis spätestens zum
C51: 8. | D51: Fragen zum Teilnahmewettbewerb: | V51: ausschließlich über die Bieterkommunikation der Vergabeplattform. Mündliche Anfragen werden grundsätzlich nicht beantwortet. Bitte beachten Sie, dass Fragen und Antworten zum Teilnahmewettbewerb auf der Plattform, auf der Sie auch die Vergabeunterlagen einsehen können, eingestellt werden. Es obliegt dem Bewerber selbständig zu prüfen, ob Fragen eingegangen und beantwortet wurden. Die letzte Aktualisierung findet voraussichtlich am
D52: =V50 & "" & '00_system'!C29 & "" & '01_aufforderung tnw'!V51 & "" & '00_system'!C30 & "" & '01_aufforderung tnw'!V52 -> Etwaige Fragen zum Teilnahmewettbewerb richten Sie bitte bis spätestens zum 04.11.2026 ausschließlich über die Bieterkommunikation der Vergabeplattform. Mündliche Anfragen werden grundsätzlich nicht beantwortet. Bitte beachten Sie, dass Fragen und Antworten zum Teilnahmewettbewerb auf der Plattform, auf der Sie auch die Vergabeunterlagen einsehen können, eingestellt werden. Es obliegt dem Bewerber selbständig zu prüfen, ob Fragen eingegangen und beantwortet wurden. Die letzte Aktualisierung findet voraussichtlich am 05.11.2026 statt. Soweit der Bewerber die Antworten der Vergabestelle nicht abgerufen und berücksichtigt hat, geht dies zu seinen Lasten. Enthalten die Teilnahmeunterlagen nach Auffassung des Bewerbers Unklarheiten, Unvollständigkeiten oder Fehler, so hat er unverzüglich die Vergabestelle vor dem Ablauf der Einreichungsfrist elektronisch über die Vergabeplattform darauf hinzuweisen. | V52: statt. Soweit der Bewerber die Antworten der Vergabestelle nicht abgerufen und berücksichtigt hat, geht dies zu seinen Lasten. Enthalten die Teilnahmeunterlagen nach Auffassung des Bewerbers Unklarheiten, Unvollständigkeiten oder Fehler, so hat er unverzüglich die Vergabestelle vor dem Ablauf der Einreichungsfrist elektronisch über die Vergabeplattform darauf hinzuweisen.
C54: 9. | D54: Objektbesichtigung:
D55: Eine Objektbesichtigung wird nicht angeboten. Die für die Angebotserstellung erforderlichen Angaben ergeben sich aus den Vergabeunterlagen. | V55: Der Teilnahmeantrag (Vordruck: „
...

Sheet 02_teilnahmeantrag
C3: ='00_system'!C6 -> Sicherheitsdienstleistungen | I3: ='00_system'!C13 -> #VALUE!
C4: ='00_system'!C7 -> in den Flüchtlings- und Asylunterkünften des Landkreises Dachau
C6: =IF('00_system'!C8="","",'00_system'!C8)
C8: =CONCATENATE("Vergabenummer: ",'00_system'!C9) -> Vergabenummer: 10-804-242120932-1
C9: =CONCATENATE("Stand: ",'00_system'!C3) -> Stand: 12.10.2026 (v1)
C12: Empfänger | I12: Ablauf der Teilnahmefrist:
C13: ='00_system'!C18 -> Landratsamt Dachau | I13: ='00_system'!F32 -> Donnerstag, den 12.11.2026 um 10:00 Uhr
C14: ='00_system'!C17 -> Zentrale Vergabestelle
C15: ='00_system'!C19 -> Weiherweg 16 | I15: Abgabe des Teilnahmeantrags:
C16: ='00_system'!C20 -> 85221 Dachau | I16: =CONCATENATE('00_system'!C24," unter ",'00_system'!C25) -> elektronisch über das Vergabeportal unter https://satellite.dtvp.de
C19: =CONCATENATE("Teilnahmeantrag der ",'03_unternehmensangaben'!F21) -> Teilnahmeantrag der
C21: Sehr geehrte Damen und Herren,
C23: =CONCATENATE("ich bewerbe mich / wir bewerben uns um die Teilnahme im Vergabeverfahren für die ",'00_system'!C6," ",'00_system'!C7,".") -> ich bewerbe mich / wir bewerben uns um die Teilnahme im Vergabeverfahren für die Sicherheitsdienstleistungen in den Flüchtlings- und Asylunterkünften des Landkreises Dachau. | O23: Pflichtangabe | S23: Vollständigkeits- kontrolle
C25: 1. | D25: Bietergemeinschaft | AC25: Bitte Auswahl treffen
D26: Bitte Auswahl treffen | O26: (obligatorisch) | S26: =IF(D26="Bitte Auswahl treffen","Angaben unvollständig","Angaben vollständig") -> Angaben unvollständig | X26: =IF(S26="Angaben unvollständig",1,0) -> 1 | AB26: =IF(D26=AC27,"BG_JA","BG_NEIN") -> BG_NEIN | AC26: Es liegt keine Bietergemeinschaft vor.
D27: Bezeichnung der Bewerbergemeinschaft: | O27: (sofern erforderlich) | S27: =IF(D26=AC27,IF(G27="","Angaben unvollständig","Angaben vollständig"),"Angaben vollständig") -> Angaben vollständig | X27: =IF(S27="Angaben unvollständig",1,0) -> 0 | AC27: Wir bewerben uns um Teilnahme im Rahmen einer Bewerbergemeinschaft. Die geforderten Eignungskriterien werden von der Bewerbergemeinschaft erfüllt. Das ausgefüllte Dokument “Erklärung Bieter-/Arbeitsgemeinschaft“ ist beigefügt. Jedes Gemeinschaftsmitglied verpflichtet sich darin mit Abgabe der Erklärung in Textform, für die vertragsgemäße Ausführung der Leistung gesamtschuldnerisch zu haften.
D28: Die Erklärung Bewerber-/Bieter-/Arbeitsgemeinschaft (Formblatt 234) wurde ausgefüllt: | J28: =IF(D26=AC26,"nicht erforderlich",IF('08_formblatt-234'!AA12=0,"JA","NEIN")) -> NEIN | K28: LINK | O28: (sofern erforderlich) | S28: =IF(D26=AC27,IF(J28="JA","Angaben vollständig","Angaben unvollständig"),"Angaben vollständig") -> Angaben vollständig | X28: =IF(S28="Angaben unvollständig",1,0) -> 0
C30: 2. | D30: Nachunternehmerleistungen | AC30: Bitte Auswahl treffen
D31: Bitte Auswahl treffen | O31: (obligatorisch) | S31: =IF(D31="Bitte Auswahl treffen","Angaben unvollständig","Angaben vollständig") -> Angaben unvollständig | X31: =IF(S31="Angaben unvollständig",1,0) -> 1 | AB31: =IF(D31=AC32,"NU_JA","NU_NEIN") -> NU_NEIN | AC31: Ich erkläre / Wir erklären, dass ich / wir alle Leistungen im eigenen Betrieb ausführen werde(n).
D32: Das Verzeichnis Nachunternehmerleistungen (Formblatt 233) wurde ausgefüllt: | J32: =IF(D31=AC31,"nicht erforderlich",IF('09_formblatt-233'!AA12=0,"JA","NEIN")) -> NEIN | K32: LINK | O32: (sofern erforderlich) | S32: =IF(D31=AC32,IF(J32="JA","Angaben vollständig","Angaben unvollständig"),"Angaben vollständig") -> Angaben vollständig | X32: =IF(S32="Angaben unvollständig",1,0) -> 0 | AC32: Ich erkläre / Wir erklären, dass ich / wir alle wesentlichen Leistungen, die nicht im „Verzeichnis der Nachunternehmerleistungen“ aufgeführt sind, im eigenen Betrieb ausführen werde(n).
C34: 3. | D34: Leistungen/Kapazitäten anderer Unternehmen | AC34: Bitte Auswahl treffen
D35: Bitte Auswahl treffen | O35: (obligatorisch) | S35: =IF(D35="Bitte Auswahl treffen","Angaben unvollständig","Angaben vollständig") -> Angaben unvollständig | X35: =IF(S35="Angaben unvollständig",1,0) -> 1 | AB35: =IF(D35=AC36,"EL_JA","EL_NEIN") -> EL_NEIN | AC35: Ich erkläre / Wir erklären, dass ich / wir NICHT auf Leistungen/Kapazitäten anderer Unternehmen zurückgreifen werde(n).
D36: Das Verzeichnis der Leistungen/Kapazitäten anderer Unternehmen (Formblatt 235) wurde ausgefüllt: | J36: =IF(D35=AC35,"nicht erforderlich",IF('10_formblatt-235'!AA12=0,"JA","NEIN")) -> NEIN | K36: LINK | O36: (sofern erforderlich) | S36: =IF(D35=AC36,IF(J36="JA","Angaben vollständig","Angaben unvollständig"),"Angaben vollständig") -> Angaben vollständig | X36: =IF(S36="Angaben unvollständig",1,0) -> 0 | AC36: Ich erkläre / Wir erklären, dass ich / wir alle wesentlichen Leistungen, die nicht im „Verzeichnis der Leistungen/Kapazitäten anderer Unternehmen“ aufgeführt sind, im eigenen Betrieb ausführen werde(n).
C38: 4. | D38: Allgemeine Unternehmensangaben und Zugehörigkeiten des Bewerbers
D39: Die Angaben im Reiter "Allgemeine Unternehmensangaben und Zugehörigkeiten des Bewerbers" wurden vollständig ausgefüllt: | J39: =IF('03_unternehmensangaben'!Z60=0,"JA","NEIN") -> NEIN | K39: LINK | O39: (obligatorisch) | S39: =IF(J39="JA","Angaben vollständig","Angaben unvollständig") -> Angaben unvollständig | X39: =IF(S39="Angaben unvollständig",1,0) -> 1
C41: 5. | D41: Eigenerklärungen
D42: Die Angaben im Reiter "Eigenerklärungen" wurden vollständig ausgefüllt: | J42: =IF('04_eigenerklaerungen'!AA12=0,"JA","NEIN") -> NEIN | K42: LINK | O42: (obligatorisch) | S42: =IF(J42="JA","Angaben vollständig","Angaben unvollständig") -> Angaben unvollständig | X42: =IF(S42="Angaben unvollständig",1,0) -> 1
C44: 6. | D44: Erlaubnis Berufsausübung
D45: Die Angaben im Reiter "Erlaubnis Berufsausübung" wurden vollständig ausgefüllt: | J45: =IF('05-erlaubnis-berufsausuebung'!AA12=0,"JA","NEIN") -> NEIN | K45: LINK | O45: (obligatorisch) | S45: =IF(J45="JA","Angaben vollständig","Angaben unvollständig") -> Angaben unvollständig | X45: =IF(S45="Angaben unvollständig",1,0) -> 1
C47: 7. | D47: Erklärung zur wirtschaftlichen und finanziellen Leistungsfähigkeit
D48: Die Angaben im Reiter "Erklärung zur wirtschaftlichen und finanziellen Leistungsfähigkeit" wurden vollständig ausgefüllt: | J48: =IF('06_wirtsch_leistungsfaehigkeit'!AA12=0,"JA","NEIN") -> NEIN | K48: LINK | O48: (obligatorisch) | S48: =IF(J48="JA","Angaben vollständig","Angaben unvollständig") -> Angaben unvollständig | X48: =IF(S48="Angaben unvollständig",1,0) -> 1
C50: 8. | D50: Erklärung zur technischen Leistungsfähigkeit
D51: Die Angaben im Reiter "Erklärung zur technischen Leistungsfähigkeit" wurden vollständig ausgefüllt: | J51: =IF('07_techn_leistungsfaehigkeit'!AE12=0,"JA","NEIN") -> NEIN | K51: LINK | O51: (obligatorisch) | S51: =IF(J51="JA","Angaben vollständig","Angaben unvollständig") -> Angaben unvollständig | X51: =IF(S51="Angaben unvollständig",1,0) -> 1
D53: Ort: | O53: (obligatorisch) | S53: =IF(F53="","Angaben unvollständig","Angaben vollständig") -> Angaben unvollständig | X53: =IF(S53="Angaben unvollständig",1,0) -> 1
D54: Datum: | O54: (obligatorisch) | S54: =IF(F54="","Angaben unvollständig","Angaben vollständig") -> Angaben unvollständig | X54: =IF(S54="Angaben unvollständig",1,0) -> 1
D55: Name des Erklärenden im Sinne des § 126b BGB: | O55: (obligatorisch) | S55: =IF(F55="","Angaben unvollständig","Angaben vollständig") -> Angaben unvollständig | X55: =IF(S55="Angaben unvollständig",1,0) -> 1
F56: =TEXT(F54,"TT.MM.JJJJ") -> 00.01.1900
D57: Ist bei elektronisch übermittelten Teilnahmeantrag in Textform der Name der natürlichen Person, die die Erklärung abgibt, nicht angegeben, werden Sie nicht zur Teilnahme zugelassen. | X57: =SUM(X26:X55) -> 11

Sheet 03_unternehmensangaben
Q2: zurück zum Teilnahmeantrag
C3: ='00_system'!C6 -> Sicherheitsdienstleistungen | K3: ='00_system'!C13 -> #VALUE!
C4: ='00_system'!C7 -> in den Flüchtlings- und Asylunterkünften des Landkreises Dachau
C6: =IF('00_system'!C8="","",'00_system'!C8)
C8: =CONCATENATE("Vergabenummer: ",'00_system'!C9) -> Vergabenummer: 10-804-242120932-1
C9: =CONCATENATE("Stand: ",'00_system'!C3) -> Stand: 12.10.2026 (v1)
C12: Vergabestelle: | K12: Ablauf der Teilnahmefrist:
C13: ='00_system'!C18 -> Landratsamt Dachau | K13: ='00_system'!F32 -> Donnerstag, den 12.11.2026 um 10:00 Uhr
C14: ='00_system'!C17 -> Zentrale Vergabestelle
C15: ='00_system'!C19 -> Weiherweg 16 | K15: Abgabe des Teilnahmeantrags:
C16: ='00_system'!C20 -> 85221 Dachau | K16: =CONCATENATE('00_system'!C24," unter ",'00_system'!C25) -> elektronisch über das Vergabeportal unter https://satellite.dtvp.de
C19: 1. Allgemeine Unternehmensangaben und Zugehörigkeiten des Bewerbers (Informationskriterium) | Q19: Pflichtangabe | U19: Vollständigkeits- kontrolle
C21: Firmenbezeichnung: | Q21: (obligatorisch) | U21: =IF(F21="","Angaben unvollständig","Angaben vollständig") -> Angaben unvollständig | Z21: =IF(U21="Angaben unvollständig",1,0) -> 1
C22: Straße und Hausnummer: | Q22: (obligatorisch) | U22: =IF(F22="","Angaben unvollständig","Angaben vollständig") -> Angaben unvollständig | Z22: =IF(U22="Angaben unvollständig",1,0) -> 1
C23: Postleitzahl und Ort: | Q23: (obligatorisch) | U23: =IF(F23="","Angaben unvollständig","Angaben vollständig") -> Angaben unvollständig | Z23: =IF(U23="Angaben unvollständig",1,0) -> 1
C24: Land: | Q24: (obligatorisch) | U24: =IF(F24="","Angaben unvollständig","Angaben vollständig") -> Angaben unvollständig | Z24: =IF(U24="Angaben unvollständig",1,0) -> 1
C26: Zuständiger Ansprechpartner: | Q26: (obligatorisch) | U26: =IF(F26="","Angaben unvollständig","Angaben vollständig") -> Angaben unvollständig | Z26: =IF(U26="Angaben unvollständig",1,0) -> 1
C27: Telefon: | Q27: (obligatorisch) | U27: =IF(F27="","Angaben unvollständig","Angaben vollständig") -> Angaben unvollständig | Z27: =IF(U27="Angaben unvollständig",1,0) -> 1
C28: Telefax: | Q28: (sofern vorhanden) | U28: ="Angaben vollständig" -> Angaben vollständig | Z28: =IF(U28="Angaben unvollständig",1,0) -> 0
C29: E-Mail: | Q29: (obligatorisch) | U29: =IF(F29="","Angaben unvollständig","Angaben vollständig") -> Angaben unvollständig | Z29: =IF(U29="Angaben unvollständig",1,0) -> 1
C31: Nationale Identifikationsnummer: | Q31: (sofern bereits vorliegend)
C32: Umsatzsteuer-Identifikationsnummer: | Q32: (obligatorisch) | U32: =IF(F32="","Angaben unvollständig","Angaben vollständig") -> Angaben unvollständig | Z32: =IF(U32="Angaben unvollständig",1,0) -> 1
AE33: Bitte Auswahl treffen
C34: Kartellerklärung: | F34: Bitte Auswahl treffen | Q34: (obligatorisch) | U34: =IF(F34="Bitte Auswahl treffen","Angaben unvollständig","Angaben vollständig") -> Angaben unvollständig | Z34: =IF(U34="Angaben unvollständig",1,0) -> 1 | AE34: Ich/Wir gehöre(n) KEINER Vereinbarung / KEINEM Kartell gem. §§ 2, 3 GWB an.
F35: Folgende Firmen sind beteiligt: | Q35: (sofern erforderlich) | U35: =IF(F34=AE35,IF(J35="","Angaben unvollständig","Angaben vollständig"),"Angaben vollständig") -> Angaben vollständig | Z35: =IF(U35="Angaben unvollständig",1,0) -> 0 | AE35: Ich/Wir gehöre(n) einer Vereinbarung / einem Kartell gem. §§ 2, 3 GWB an.
AE36: Bitte Auswahl treffen
C37: Eintragung Handelsregister: | F37: Bitte Auswahl treffen | Q37: (obligatorisch) | U37: =IF(F37="Bitte Auswahl treffen","Angaben unvollständig","Angaben vollständig") -> Angaben unvollständig | Z37: =IF(U37="Angaben unvollständig",1,0) -> 1 | AE37: Ich bin / Wir sind NICHT zur Eintragung in das Handelsregister verpflichtet.
F38: Registernummer: | Q38: (sofern erforderlich) | U38: =IF(F37=AE38,IF(J38="","Angaben unvollständig","Angaben vollständig"),"Angaben vollständig") -> Angaben vollständig | Z38: =IF(U38="Angaben unvollständig",1,0) -> 0 | AE38: Ich bin / Wir sind zur Eintragung in das Handelsregister verpflichtet.
F39: Registergericht: | Q39: (sofern erforderlich) | U39: =IF(F37=AE38,IF(J39="","Angaben unvollständig","Angaben vollständig"),"Angaben vollständig") -> Angaben vollständig | Z39: =IF(U39="Angaben unvollständig",1,0) -> 0
AE40: Bitte Auswahl treffen
C41: Börsennotierung: | F41: Bitte Auswahl treffen | Q41: (obligatorisch) | U41: =IF(F41="Bitte Auswahl treffen","Angaben unvollständig","Angaben vollständig") -> Angaben unvollständig | Z41: =IF(U41="Angaben unvollständig",1,0) -> 1 | AE41: Ja, es liegt eine Börsennotierung vor.
Q42: (sofern erforderlich) | U42: =IF(F41=AE42,IF(F42="","Angaben unvollständig","Angaben vollständig"),"Angaben vollständig") -> Angaben vollständig | Z42: =IF(U42="Angaben unvollständig",1,0) -> 0 | AE42: Nein, Angabe der Staatsangehörigkeit des Eigentümers/der Eigentümerin:
AE43: Bitte Auswahl treffen
C44: Mitgliedschaft Berufsgenossenschaft: | F44: Bitte Auswahl treffen | Q44: (obligatorisch) | U44: =IF(F44="Bitte Auswahl treffen","Angaben unvollständig","Angaben vollständig") -> Angaben unvollständig | Z44: =IF(U44="Angaben unvollständig",1,0) -> 1 | AE44: Mein /Unser Unternehmen ist NICHT bei der Berufsgenossenschaft versichert.
F45: Berufsgenossenschaft: | Q45: (sofern erforderlich) | U45: =IF(F44=AE45,IF(J45="","Angaben unvollständig","Angaben vollständig"),"Angaben vollständig") -> Angaben vollständig | Z45: =IF(U45="Angaben unvollständig",1,0) -> 0 | AE45: Mein /Unser Unternehmen ist bei der Berufsgenossenschaft versichert.
F46: Unternehmernummer: | Q46: (sofern erforderlich) | U46: =IF(F44=AE45,IF(J46="","Angaben unvollständig","Angaben vollständig"),"Angaben vollständig") -> Angaben vollständig | Z46: =IF(U46="Angaben unvollständig",1,0) -> 0
AE47: Bitte Auswahl treffen
C48: Mitgliedschaft Berufsverband: | F48: Bitte Auswahl treffen | Q48: (obligatorisch) | U48: =IF(F48="Bitte Auswahl treffen","Angaben unvollständig","Angaben vollständig") -> Angaben unvollständig | Z48: =IF(U48="Angaben unvollständig",1,0) -> 1 | AE48: Mein /Unser Unternehmen ist KEIN Mitglied bei einem Berufsverband.
F49: Name des Berufsverbandes: | Q49: (sofern erforderlich) | U49: =IF(F48=AE49,IF(J49="","Angaben unvollständig","Angaben vollständig"),"Angaben vollständig") -> Angaben vollständig | Z49: =IF(U49="Angaben unvollständig",1,0) -> 0 | AE49: Mein /Unser Unternehmen ist Mitglied bei einem Berufsverband.
AE50: Bitte Auswahl treffen
...

Sheet 04_eigenerklaerungen
R2: zurück zum Teilnahmeantrag
C3: ='00_system'!C6 -> Sicherheitsdienstleistungen | K3: ='00_system'!C13 -> #VALUE!
C4: ='00_system'!C7 -> in den Flüchtlings- und Asylunterkünften des Landkreises Dachau
C6: =IF('00_system'!C8="","",'00_system'!C8)
C8: =CONCATENATE("Vergabenummer: ",'00_system'!C9) -> Vergabenummer: 10-804-242120932-1
C9: =CONCATENATE("Stand: ",'00_system'!C3) -> Stand: 12.10.2026 (v1)
C12: 2. Eigenerklärungen | R12: Pflichtangabe | V12: Vollständigkeits- kontrolle | AA12: =SUM(AA15:AA93) -> 15 | AF12: =AF65+AF81+AF85+AF89+AF93+AF72 -> 0
C14: 2.1 Eigenerklärung zu § 123 Abs. 1 GWB (Ausschlusskriterium)
C15: Ein Ausschlussgrund liegt vor, wenn eine Person, deren Verhalten nach § 123 Abs. 3 GWB dem Unternehmen zuzurechnen ist, rechtskräftig verurteilt oder ist gegen das Unternehmen eine Geldbuße nach § 30 des Gesetzes über Ordnungswidrigkeiten rechtskräftig festgesetzt worden wegen einer Straftat nach:
C16: 1. | D16: § 129 des Strafgesetzbuchs (Bildung krimineller Vereinigungen), § 129a des Strafgesetzbuchs (Bildung terroristischer Vereinigungen); oder § 129b des Strafgesetzbuchs (Kriminelle und terroristische Vereinigungen im Ausland);
C17: 2. | D17: § 89c des Strafgesetzbuchs ( Terrorismusfinanzierung) oder wegen der Teilnahme an einer solchen Tat oder wegen der Bereitstellung oder Sammlung finanzieller Mittel in Kenntnis dessen, dass diese finanziellen Mittel ganz oder teilweise dazu verwendet werden oder verwendet werden sollen, eine Tat nach § 89a Absatz 2 Nummer 2 des Strafgesetzbuchs zu begehen;
C18: 3. | D18: § 261 des Strafgesetzbuchs (Geldwäsche; Verschleierung unrechtmäßig erlangter Vermögenswerte);
C19: 4. | D19: § 263 des Strafgesetzbuchs (Betrug), soweit sich die Straftat gegen den Haushalt der Europäischen Union oder gegen Haushalte, die von der Europäischen Union oder in ihrem Auftrag verwaltet werden oder gegen öffentliche Haushalte, richtet;
C20: 5. | D20: § 264 des Strafgesetzbuchs (Subventionsbetrug), soweit sich die Straftat gegen den Haushalt der Europäischen Union oder gegen Haushalte, die von der Europäischen Union oder in ihrem Auftrag verwaltet werden oder gegen öffentliche Haushalte, richtet;
C21: 6. | D21: § 299 des Strafgesetzbuchs (Bestechlichkeit und Bestechung im geschäftlichen Verkehr);
C22: 7. | D22: § 108e des Strafgesetzbuchs (Bestechlichkeit und Bestechung von Mandatsträgern);
C23: 8. | D23: den §§ 333 und 334 des Strafgesetzbuchs (Vorteilsgewährung und Bestechung), jeweils auch in Verbindung mit § 335a des Strafgesetzbuchs (Ausländische und internationale Bedienstete);
C24: 9. | D24: Artikel 2 § 2 des Gesetzes zur Bekämpfung internationaler Bestechung (Bestechung ausländischer Abgeordneter im Zusammenhang mit internationalem Geschäftsverkehr); | AK24: Bitte Auswahl treffen
C25: 10. | D25: den §§ 232, 232a Absatz 1 bis 5, den §§ 232b bis 233a des Strafgesetzbuches (Menschenhandel, Zwangsprostitution, Zwangsarbeit, Ausbeutung der Arbeitskraft, Ausbeutung unter Ausnutzung einer Freiheitsberaubung). | AK25: Ja, es liegt ein Ausschlussgrund vor.
C26: Liegt ein Ausschlussgrund nach § 123 Abs. 1 GWB vor? | K26: Bitte Auswahl treffen | R26: (obligatorisch) | V26: =IF(K26="Bitte Auswahl treffen","Angaben unvollständig","Angaben vollständig") -> Angaben unvollständig | AA26: =IF(V26="Angaben unvollständig",1,0) -> 1 | AF26: =IF(K26=AK25,1,0) -> 0 | AK26: Nein, es liegt kein Ausschlussgrund vor.
C28: 2.2 Eigenerklärung zu § 123 Abs. 4 GWB (Ausschlusskriterium) | AK28: Bitte Auswahl treffen
C29: Ein Ausschlussgrund liegt vor, wenn Ihr Unternehmen seinen Verpflichtungen zur Zahlung von Steuern, Abgaben oder Beiträgen zur Sozialversicherung nicht nachgekommen ist und dies durch eine rechtskräftige Gerichts- oder bestandskräftige Verwaltungsentscheidung festgestellt wurde oder der öffentliche Auftraggeber die Verletzung dieser Verpflichtungen auf sonstige geeignete Weise nachweisen kann. | AK29: Ja, es liegt ein Ausschlussgrund vor.
C30: Liegt ein Ausschlussgrund nach § 123 Abs. 4 GWB vor? | K30: Bitte Auswahl treffen | R30: (obligatorisch) | V30: =IF(K30="Bitte Auswahl treffen","Angaben unvollständig","Angaben vollständig") -> Angaben unvollständig | AA30: =IF(V30="Angaben unvollständig",1,0) -> 1 | AF30: =IF(K30=AK29,1,0) -> 0 | AK30: Nein, es liegt kein Ausschlussgrund vor.
C32: 2.3 Eigenerklärung zu § 124 Abs. 1 Nr. 1 GWB (Ausschlusskriterium) | AK32: Bitte Auswahl treffen
C33: Ein Ausschlussgrund liegt vor, wenn Ihr Unternehmen bei der Ausführung öffentlicher Aufträge nachweislich gegen geltende umwelt-, sozial- oder arbeitsrechtliche Verpflichtungen verstoßen hat. | AK33: Ja, es liegt ein Ausschlussgrund vor.
C34: Liegt ein Ausschlussgrund nach § 124 Abs. 1 Nr. 1 GWB vor? | K34: Bitte Auswahl treffen | R34: (obligatorisch) | V34: =IF(K34="Bitte Auswahl treffen","Angaben unvollständig","Angaben vollständig") -> Angaben unvollständig | AA34: =IF(V34="Angaben unvollständig",1,0) -> 1 | AF34: =IF(K34=AK33,1,0) -> 0 | AK34: Nein, es liegt kein Ausschlussgrund vor.
C36: 2.4 Eigenerklärung zu § 124 Abs. 1 Nr. 2 GWB (Ausschlusskriterium) | AK36: Bitte Auswahl treffen
C37: Ein Ausschlussgrund liegt vor, wenn Ihr Unternehmen zahlungsunfähig ist, über das Vermögen des Unternehmens ein Insolvenzverfahren oder ein vergleichbares Verfahren beantragt oder eröffnet worden ist, die Eröffnung eines solchen Verfahrens mangels Masse abgelehnt worden ist, sich das Unternehmen im Verfahren der Liquidation befindet oder seine Tätigkeit eingestellt hat. | AK37: Ja, es liegt ein Ausschlussgrund vor.
C38: Liegt ein Ausschlussgrund nach § 124 Abs. 1 Nr. 2 GWB vor? | K38: Bitte Auswahl treffen | R38: (obligatorisch) | V38: =IF(K38="Bitte Auswahl treffen","Angaben unvollständig","Angaben vollständig") -> Angaben unvollständig | AA38: =IF(V38="Angaben unvollständig",1,0) -> 1 | AF38: =IF(K38=AK37,1,0) -> 0 | AK38: Nein, es liegt kein Ausschlussgrund vor.
C40: 2.5 Eigenerklärung zu § 124 Abs. 1 Nr. 3 GWB (Ausschlusskriterium) | AK40: Bitte Auswahl treffen
C41: Ein Ausschlussgrund liegt vor, wenn Ihr Unternehmen im Rahmen der beruflichen Tätigkeit nachweislich eine schwere Verfehlung begangen hat, durch die die Integrität des Unternehmens infrage gestellt wird; § 123 Absatz 3 ist entsprechend anzuwenden. | AK41: Ja, es liegt ein Ausschlussgrund vor.
C42: Liegt ein Ausschlussgrund nach § 124 Abs. 1 Nr. 3 GWB vor? | K42: Bitte Auswahl treffen | R42: (obligatorisch) | V42: =IF(K42="Bitte Auswahl treffen","Angaben unvollständig","Angaben vollständig") -> Angaben unvollständig | AA42: =IF(V42="Angaben unvollständig",1,0) -> 1 | AF42: =IF(K42=AK41,1,0) -> 0 | AK42: Nein, es liegt kein Ausschlussgrund vor.
C44: 2.6 Eigenerklärung zu § 124 Abs. 1 Nr. 4 GWB (Ausschlusskriterium) | AK44: Bitte Auswahl treffen
C45: Ein Ausschlussgrund liegt vor, wenn Ihr Unternehmen mit anderen Unternehmen Vereinbarungen getroffen oder Verhaltensweisen aufeinander abgestimmt hat, die eine Verhinderung, Einschränkung oder Verfälschung des Wettbewerbs bezwecken oder bewirken. | AK45: Ja, es liegt ein Ausschlussgrund vor.
C46: Liegt ein Ausschlussgrund nach § 124 Abs. 1 Nr. 4 GWB vor? | K46: Bitte Auswahl treffen | R46: (obligatorisch) | V46: =IF(K46="Bitte Auswahl treffen","Angaben unvollständig","Angaben vollständig") -> Angaben unvollständig | AA46: =IF(V46="Angaben unvollständig",1,0) -> 1 | AF46: =IF(K46=AK45,1,0) -> 0 | AK46: Nein, es liegt kein Ausschlussgrund vor.
C48: 2.7 Eigenerklärung zu § 124 Abs. 1 Nr. 7 GWB (Ausschlusskriterium) | AK48: Bitte Auswahl treffen
C49: Ein Ausschlussgrund liegt vor, wenn Ihr Unternehmen eine wesentliche Anforderung bei der Ausführung eines früheren öffentlichen Auftrags oder Konzessionsvertrags erheblich oder fortdauernd mangelhaft erfüllt hat und dies zu einer vorzeitigen Beendigung, zu Schadensersatz oder zu einer vergleichbaren Rechtsfolge geführt hat. | AK49: Ja, es liegt ein Ausschlussgrund vor.
C50: Liegt ein Ausschlussgrund nach § 124 Abs. 1 Nr. 7 GWB vor? | K50: Bitte Auswahl treffen | R50: (obligatorisch) | V50: =IF(K50="Bitte Auswahl treffen","Angaben unvollständig","Angaben vollständig") -> Angaben unvollständig | AA50: =IF(V50="Angaben unvollständig",1,0) -> 1 | AF50: =IF(K50=AK49,1,0) -> 0 | AK50: Nein, es liegt kein Ausschlussgrund vor.
C52: 2.8 Eigenerklärung zu § 124 Abs. 1 Nr. 8 GWB (Ausschlusskriterium) | AK52: Bitte Auswahl treffen
C53: Ein Ausschlussgrund liegt vor, wenn Ihr Unternehmen in Bezug auf Ausschlussgründe oder Eignungskriterien eine schwerwiegende Täuschung begangen oder Auskünfte zurückgehalten hat oder nicht in der Lage ist, die erforderlichen Nachweise zu übermitteln. | AK53: Ja, es liegt ein Ausschlussgrund vor.
...

Sheet 05-erlaubnis-berufsausuebung
R2: zurück zum Teilnahmeantrag
C3: ='00_system'!C6 -> Sicherheitsdienstleistungen | K3: ='00_system'!C13 -> #VALUE!
C4: ='00_system'!C7 -> in den Flüchtlings- und Asylunterkünften des Landkreises Dachau
C6: =IF('00_system'!C8="","",'00_system'!C8)
C8: =CONCATENATE("Vergabenummer: ",'00_system'!C9) -> Vergabenummer: 10-804-242120932-1
C9: =CONCATENATE("Stand: ",'00_system'!C3) -> Stand: 12.10.2026 (v1)
C12: 3. Befähigung und Erlaubnis zur Berufsausübung | R12: Pflichtangabe | V12: Vollständigkeits- kontrolle | AA12: =SUM(AA16:AA17) -> 1
C13: Angabe / Erklärung der Befähigung und Erlaubnis zur Berufsausübung gemäß § 44 VgV.
C15: 3.1 Gewerbeerlaubnis nach § 34a GewO (Ausschlusskriterium)
C16: Es liegt eine gültige Gewerbeerlaubnis für das Bewachungsgewerbe nach § 34a Gewerbeordnung (GewO) vor.
C17: Erteilende Aufsicht- und Erlaubnisbehörde: | R17: (obligatorisch) | V17: =IF(H17="","Angaben unvollständig","Angaben vollständig") -> Angaben unvollständig | AA17: =IF(V17="Angaben unvollständig",1,0) -> 1

Sheet 06_wirtsch_leistungsfaehigkeit
R2: zurück zum Teilnahmeantrag
C3: ='00_system'!C6 -> Sicherheitsdienstleistungen | K3: ='00_system'!C13 -> #VALUE!
C4: ='00_system'!C7 -> in den Flüchtlings- und Asylunterkünften des Landkreises Dachau
C6: =IF('00_system'!C8="","",'00_system'!C8)
C8: =CONCATENATE("Vergabenummer: ",'00_system'!C9) -> Vergabenummer: 10-804-242120932-1
C9: =CONCATENATE("Stand: ",'00_system'!C3) -> Stand: 12.10.2026 (v1)
C12: 4. Wirtschaftliche und finanzielle Leistungsfähigkeit | R12: Pflichtangabe | V12: Vollständigkeits- kontrolle | AA12: =SUM(AA16:AA29) -> 7
C13: Angabe / Erklärung der wirtschaftlichen und finanziellen Leistungsfähigkeit gemäß § 45 VgV.
C15: 4.1 Angaben zu Umsätzen (Ausschlusskriterium)
C16: Umsatz 2025 im Bereich Sicherheitsdienstleistungen: (in Euro) | R16: (obligatorisch) | V16: =IF(G16="","Angaben unvollständig","Angaben vollständig") -> Angaben unvollständig | AA16: =IF(V16="Angaben unvollständig",1,0) -> 1 | AB16: =AA16+AA17+AA18+AA20+AA21+AA22 -> 4
C17: Eigenleistungsanteil 2025: (in %) | R17: (obligatorisch) | V17: =IF(G17="","Angaben unvollständig","Angaben vollständig") -> Angaben unvollständig | AA17: =IF(V17="Angaben unvollständig",1,0) -> 1
C18: Umsatz 2024 im Bereich Sicherheitsdienstleistungen: (in Euro) | R18: (obligatorisch) | V18: =IF(G18="","Angaben unvollständig","Angaben vollständig") -> Angaben unvollständig | AA18: =IF(V18="Angaben unvollständig",1,0) -> 1
C20: Geschäftsjahr: | G20: Bitte Auswahl treffen | R20: (obligatorisch) | V20: =IF(G20="Bitte Auswahl treffen","Angaben unvollständig","Angaben vollständig") -> Angaben unvollständig | AA20: =IF(V20="Angaben unvollständig",1,0) -> 1 | AF20: Bitte Auswahl treffen
G21: beginnt am: | R21: (sofern erforderlich) | V21: =IF(G20=AF22,IF(K21="","Angaben unvollständig","Angaben vollständig"),"Angaben vollständig") -> Angaben vollständig | AA21: =IF(V21="Angaben unvollständig",1,0) -> 0 | AF21: Das Geschäftsjahr entspricht dem Kalenderjahr.
G22: und endet am: | R22: (sofern erforderlich) | V22: =IF(G20=AF22,IF(K22="","Angaben unvollständig","Angaben vollständig"),"Angaben vollständig") -> Angaben vollständig | AA22: =IF(V22="Angaben unvollständig",1,0) -> 0 | AF22: Das Geschäftsjahr entspricht nicht dem Kalenderjahr, es
G23: =TEXT(G16,"#.##")
C24: 4.2 Angaben zur Betriebshaftpflichtversicherung (Ausschlusskriterium) | AF24: Bitte Auswahl treffen
C25: Mindestanforderung an den Versicherungsumfang: Leistungsbereich der Sicherheitsdienstleistungen mit mindestens folgenden Deckungssummen (bei mindestens zweifacher Maximierung je Versicherungsjahr) pro Schadensereignis für - 5.000.000,00 Euro für Personenschäden, - 2.500.000,00 Euro für Sach- und Vermögensschäden, - 1.000.000,00 Euro für Umweltschäden - 500.000,00 Euro für Bearbeitungsschäden, - 250.000,00 Euro für Schlüssel- und Transponderverlust | AF25: Ich erkläre / wir erklären, dass eine Haftpflichtversicherung entsprechend der Vergabe- und Vertragsunterlagen besteht und werde/n diese während des Leistungszeitraumes aufrechterhalten.
C26: Erklärung Betriebshaftpflichtversicherung: | G26: Bitte Auswahl treffen | R26: (obligatorisch) | V26: =IF(G26="Bitte Auswahl treffen","Angaben unvollständig","Angaben vollständig") -> Angaben unvollständig | AA26: =IF(V26="Angaben unvollständig",1,0) -> 1 | AB26: =AA26+AA28+AA29 -> 3 | AF26: Ich erkläre / Wir erklären, dass ich / wir nach Zuschlagserteilung unverzüglich eine Haftpflichtversicherung entsprechend der Vergabe- und Vertragsunterlagen abschließen und diese während des Leistungszeitraumes aufrechterhalten werden.
C28: Versicherungsgesellschaft: | R28: (sofern erforderlich) | V28: =IF(G26=AF26,"Angaben vollständig",IF(G28="","Angaben unvollständig","Angaben vollständig")) -> Angaben unvollständig | AA28: =IF(V28="Angaben unvollständig",1,0) -> 1
C29: Versicherungsnummer: | R29: (sofern erforderlich) | V29: =IF(G26=AF26,"Angaben vollständig",IF(G29="","Angaben unvollständig","Angaben vollständig")) -> Angaben unvollständig | AA29: =IF(V29="Angaben unvollständig",1,0) -> 1

Sheet 07_techn_leistungsfaehigkeit
R2: zurück zum Teilnahmeantrag
C3: ='00_system'!C6 -> Sicherheitsdienstleistungen | K3: ='00_system'!C13 -> #VALUE!
C4: ='00_system'!C7 -> in den Flüchtlings- und Asylunterkünften des Landkreises Dachau
C6: =IF('00_system'!C8="","",'00_system'!C8)
C8: =CONCATENATE("Vergabenummer: ",'00_system'!C9) -> Vergabenummer: 10-804-242120932-1
C9: =CONCATENATE("Stand: ",'00_system'!C3) -> Stand: 12.10.2026 (v1)
C12: 5. Technische und berufliche Leistungsfähigkeit | R12: Pflichtangabe | V12: Vollständigkeits- kontrolle | Z12: Bewertungs- punkte | AE12: =SUM(AE16:AE122) -> 22
C13: Angabe / Erklärung der technischen und beruflichen Leistungsfähigkeit gemäß § 46 VgV.
C15: 5.1 Angaben zu Mitarbeitenden (Ausschlusskriterium) | G15: 2025 | K15: 2024
C16: Mitarbeitende im Bereich Sicherheitsdienstleistungen (gesamt): | R16: (obligatorisch) | V16: =IF(OR(G16="",K16=""),"Angaben unvollständig","Angaben vollständig") -> Angaben unvollständig | AE16: =IF(V16="Angaben unvollständig",1,0) -> 1 | AF16: =AE16+AE17+AE18+AE19 -> 4
C17: davon geprüfte Fachkräfte: (Qualifikationen: Fachkraft für Schutz und Sicherheit, Geprüfte Schutz- und Sicherheitskraft, Meister/in für Schutz und Sicherheit, etc.) | R17: (obligatorisch) | V17: =IF(OR(G17="",K17=""),"Angaben unvollständig","Angaben vollständig") -> Angaben unvollständig | AE17: =IF(V17="Angaben unvollständig",1,0) -> 1
C18: davon Einsatz-/Objektleitungen: | R18: (obligatorisch) | V18: =IF(OR(G18="",K18=""),"Angaben unvollständig","Angaben vollständig") -> Angaben unvollständig | AE18: =IF(V18="Angaben unvollständig",1,0) -> 1
C19: davon Sicherheitskräfte: | R19: (obligatorisch) | V19: =IF(OR(G19="",K19=""),"Angaben unvollständig","Angaben vollständig") -> Angaben unvollständig | AE19: =IF(V19="Angaben unvollständig",1,0) -> 1
G22: =TEXT(G16,"#.##")
C24: Hinweis zu Bewertungskriterien
C25: Die nachfolgenden Eignungskriterien sind B-Kriterien (Bewertungskriterien). Hierzu werden die Angaben des Bewerbers im Teilnahmeantrag entsprechend der erreichten Bewertungspunkte gewertet. Die jeweilige volle Bewertungspunktzahl wird nur in dem Fall erreicht, wenn sämtliche in den nachfolgenden definierten Anforderungen eines B-Kriteriums erfüllt sind und entsprechende Erklärungen/Erläuterungen im Teilnahmeantrag bestätigt sind.
C27: 5.2 Angaben zur Zertifizierung nach DIN 77200-1 (Bewertungskriterium)
C28: Zertifizierung DIN 77200-1: (max. 5 Bewertungspunkte) | G28: Bitte Auswahl treffen | R28: (obligatorisch) | V28: =IF(G28="Bitte Auswahl treffen","Angaben unvollständig","Angaben vollständig") -> Angaben unvollständig | Z28: =IF(G28=AK29,0,IF(G28=AK30,3,IF(G28=AK31,5,0))) -> 0 | AE28: =IF(V28="Angaben unvollständig",1,0) -> 1 | AK28: Bitte Auswahl treffen
G29: Zertifizierungsstelle: | R29: (sofern erforderlich) | V29: =IF(G28=AK31,IF(J29="","Angaben unvollständig","Angaben vollständig"),"Angaben vollständig") -> Angaben vollständig | AE29: =IF(V29="Angaben unvollständig",1,0) -> 0 | AK29: Keine Angaben / keines Vorhanden (0 Punkte)
G30: Ausstelldatum Zertifikat: | R30: (sofern erforderlich) | V30: =IF(G28=AK31,IF(J30="","Angaben unvollständig","Angaben vollständig"),"Angaben vollständig") -> Angaben vollständig | AE30: =IF(V30="Angaben unvollständig",1,0) -> 0 | AK30: Eingeführtes und intern überwachtes Sicherungssystem für die Organisation, Personalführung und Arbeitsweise eines Unternehmens zur Erbringung von Sicherungsdienstleistungen in Anlehnung an die DIN 77200-1 (3 Punkte)
G31: Zertifikatsnummer: | R31: (sofern erforderlich) | V31: =IF(G28=AK31,IF(J31="","Angaben unvollständig","Angaben vollständig"),"Angaben vollständig") -> Angaben vollständig | AE31: =IF(V31="Angaben unvollständig",1,0) -> 0 | AK31: Unternehmen ist nach DIN 77200-1 (oder gleichwertig) zertifiziert (5 Punkte)
J32: =TEXT(J30,"TT.MM.JJJJ") -> 00.01.1900
C33: 5.3 Angaben zum Qualitätsmanagementsystem (Bewertungskriterium)
C34: Qualitätsmanagement: (max. 5 Bewertungspunkte) | G34: Bitte Auswahl treffen | R34: (obligatorisch) | V34: =IF(G34="Bitte Auswahl treffen","Angaben unvollständig","Angaben vollständig") -> Angaben unvollständig | Z34: =IF(G34=AK35,0,IF(G34=AK36,3,IF(G34=AK37,5,0))) -> 0 | AE34: =IF(V34="Angaben unvollständig",1,0) -> 1 | AK34: Bitte Auswahl treffen
G35: Zertifizierungsstelle: | R35: (sofern erforderlich) | V35: =IF(G34=AK37,IF(J35="","Angaben unvollständig","Angaben vollständig"),"Angaben vollständig") -> Angaben vollständig | AE35: =IF(V35="Angaben unvollständig",1,0) -> 0 | AK35: Keine Angaben / keines Vorhanden (0 Punkte)
G36: Ausstelldatum Zertifikat: | R36: (sofern erforderlich) | V36: =IF(G34=AK37,IF(J36="","Angaben unvollständig","Angaben vollständig"),"Angaben vollständig") -> Angaben vollständig | AE36: =IF(V36="Angaben unvollständig",1,0) -> 0 | AK36: Eingeführtes und intern überwachtes Sicherungssystem für das Qualitätsmanagement insbesondere Qualitätssicherung, Reklamations- und Beschwerdemanagement (3 Punkte)
G37: Zertifikatsnummer: | R37: (sofern erforderlich) | V37: =IF(G34=AK37,IF(J37="","Angaben unvollständig","Angaben vollständig"),"Angaben vollständig") -> Angaben vollständig | AE37: =IF(V37="Angaben unvollständig",1,0) -> 0 | AK37: Unternehmen ist nach DIN EN ISO 9001 (oder gleichwertig) zertifiziert (5 Punkte)
J38: =TEXT(J36,"TT.MM.JJJJ") -> 00.01.1900
C39: 5.4 Angaben zum Umweltmanagementsystem (Bewertungskriterium)
C40: Umweltmanagement: (max. 5 Bewertungspunkte) | G40: Bitte Auswahl treffen | R40: (obligatorisch) | V40: =IF(G40="Bitte Auswahl treffen","Angaben unvollständig","Angaben vollständig") -> Angaben unvollständig | Z40: =IF(G40=AK41,0,IF(G40=AK42,3,IF(G40=AK43,5,0))) -> 0 | AE40: =IF(V40="Angaben unvollständig",1,0) -> 1 | AK40: Bitte Auswahl treffen
G41: Zertifizierungsstelle: | R41: (sofern erforderlich) | V41: =IF(G40=AK43,IF(J41="","Angaben unvollständig","Angaben vollständig"),"Angaben vollständig") -> Angaben vollständig | AE41: =IF(V41="Angaben unvollständig",1,0) -> 0 | AK41: Keine Angaben / keines Vorhanden (0 Punkte)
G42: Ausstelldatum Zertifikat: | R42: (sofern erforderlich) | V42: =IF(G40=AK43,IF(J42="","Angaben unvollständig","Angaben vollständig"),"Angaben vollständig") -> Angaben vollständig | AE42: =IF(V42="Angaben unvollständig",1,0) -> 0 | AK42: Eingeführtes und intern überwachtes Sicherungssystem für das Umweltmanagement (3 Punkte)
G43: Zertifikatsnummer: | R43: (sofern erforderlich) | V43: =IF(G40=AK43,IF(J43="","Angaben unvollständig","Angaben vollständig"),"Angaben vollständig") -> Angaben vollständig | AE43: =IF(V43="Angaben unvollständig",1,0) -> 0 | AK43: Unternehmen ist nach DIN EN ISO 14001 (oder gleichwertig) zertifiziert (5 Punkte)
J44: =TEXT(J42,"TT.MM.JJJJ") -> 00.01.1900
C45: 5.5 Angaben zum Arbeitsschutzmanagementsystem (Bewertungskriterium)
C46: Arbeitsschutzmanagement: (max. 5 Bewertungspunkte) | G46: Bitte Auswahl treffen | R46: (obligatorisch) | V46: =IF(G46="Bitte Auswahl treffen","Angaben unvollständig","Angaben vollständig") -> Angaben unvollständig | Z46: =IF(G46=AK47,0,IF(G46=AK48,3,IF(G46=AK49,5,0))) -> 0 | AE46: =IF(V46="Angaben unvollständig",1,0) -> 1 | AK46: Bitte Auswahl treffen
G47: Zertifizierungsstelle: | R47: (sofern erforderlich) | V47: =IF(G46=AK49,IF(J47="","Angaben unvollständig","Angaben vollständig"),"Angaben vollständig") -> Angaben vollständig | AE47: =IF(V47="Angaben unvollständig",1,0) -> 0 | AK47: Keine Angaben / keines Vorhanden (0 Punkte)
G48: Ausstelldatum Zertifikat: | R48: (sofern erforderlich) | V48: =IF(G46=AK49,IF(J48="","Angaben unvollständig","Angaben vollständig"),"Angaben vollständig") -> Angaben vollständig | AE48: =IF(V48="Angaben unvollständig",1,0) -> 0 | AK48: Eingeführtes und intern überwachtes Sicherungssystem für das Arbeitsschutzmanagement (3 Punkte)
G49: Zertifikatsnummer: | R49: (sofern erforderlich) | V49: =IF(G46=AK49,IF(J49="","Angaben unvollständig","Angaben vollständig"),"Angaben vollständig") -> Angaben vollständig | AE49: =IF(V49="Angaben unvollständig",1,0) -> 0 | AK49: Unternehmen ist nach ISO 45001, OHRIS, SCC, AMS Bau (oder gleichwertig) zertifiziert (5 Punkte) | AO49: Angaben unvollständig | AP49: 0
J50: =TEXT(J48,"TT.MM.JJJJ") -> 00.01.1900 | AK50: Bitte Auswahl treffen | AO50: Bitte Auswahl treffen | AP50: 0
...

Sheet 08_formblatt-234
R2: zurück zum Teilnahmeantrag
C3: ='00_system'!C6 -> Sicherheitsdienstleistungen | K3: ='00_system'!C13 -> #VALUE!
C4: ='00_system'!C7 -> in den Flüchtlings- und Asylunterkünften des Landkreises Dachau
C6: =IF('00_system'!C8="","",'00_system'!C8)
C8: =CONCATENATE("Vergabenummer: ",'00_system'!C9) -> Vergabenummer: 10-804-242120932-1
C9: =CONCATENATE("Stand: ",'00_system'!C3) -> Stand: 12.10.2026 (v1)
C12: Erklärung Bewerber-/Bieter-/Arbeitsgemeinschaft (Formblatt 234) | R12: Pflichtangabe | V12: Vollständigkeits- kontrolle | AA12: =SUM(AA15:AA36) -> 8
C13: Wir, die nachstehend aufgeführten Unternehmen einer Bietergemeinschaft,
C15: Bevollmächtigter Vertreter: (Angabe von Firmenname, Anschrift sowie dem gesetzlicher Vertreter) | R15: (obligatorisch) | V15: =IF(H15="","Angaben unvollständig","Angaben vollständig") -> Angaben unvollständig | AA15: =IF(V15="Angaben unvollständig",1,0) -> 1
C16: Weiteres Mitglied 1: (Angabe von Firmenname, Anschrift sowie dem gesetzlicher Vertreter) | R16: (obligatorisch) | V16: =IF(H16="","Angaben unvollständig","Angaben vollständig") -> Angaben unvollständig | AA16: =IF(V16="Angaben unvollständig",1,0) -> 1
C17: Weiteres Mitglied 2: (Angabe von Firmenname, Anschrift sowie dem gesetzlicher Vertreter) | R17: (sofern erforderlich)
C18: Weiteres Mitglied 3: (Angabe von Firmenname, Anschrift sowie dem gesetzlicher Vertreter) | R18: (sofern erforderlich)
C20: beschließen, im Falle der Auftragserteilung eine Arbeitsgemeinschaft zu bilden und erklären, dass der bevollmächtigte Vertreter die Mitglieder gegenüber dem Auftraggeber rechtsverbindlich vertritt, zur Entgegennahme der Zahlungen mit befreiender Wirkung berechtigt ist und alle Mitglieder als Gesamtschuldner haften.
C22: Bevollmächtigter Vertreter | F22: Ort: | R22: (obligatorisch) | V22: =IF(J22="","Angaben unvollständig","Angaben vollständig") -> Angaben unvollständig | AA22: =IF(V22="Angaben unvollständig",1,0) -> 1
F23: Datum: | R23: (obligatorisch) | V23: =IF(J23="","Angaben unvollständig","Angaben vollständig") -> Angaben unvollständig | AA23: =IF(V23="Angaben unvollständig",1,0) -> 1
F24: Name des Erklärenden im Sinne des § 126b BGB: | R24: (obligatorisch) | V24: =IF(J24="","Angaben unvollständig","Angaben vollständig") -> Angaben unvollständig | AA24: =IF(V24="Angaben unvollständig",1,0) -> 1
C26: Weiteres Mitglied 1 | F26: Ort: | R26: (obligatorisch) | V26: =IF(J26="","Angaben unvollständig","Angaben vollständig") -> Angaben unvollständig | AA26: =IF(V26="Angaben unvollständig",1,0) -> 1
F27: Datum: | R27: (obligatorisch) | V27: =IF(J27="","Angaben unvollständig","Angaben vollständig") -> Angaben unvollständig | AA27: =IF(V27="Angaben unvollständig",1,0) -> 1
F28: Name des Erklärenden im Sinne des § 126b BGB: | R28: (obligatorisch) | V28: =IF(J28="","Angaben unvollständig","Angaben vollständig") -> Angaben unvollständig | AA28: =IF(V28="Angaben unvollständig",1,0) -> 1
C30: Weiteres Mitglied 2 | F30: Ort: | R30: (sofern erforderlich)
F31: Datum: | R31: (sofern erforderlich)
F32: Name des Erklärenden im Sinne des § 126b BGB: | R32: (sofern erforderlich)
C34: Weiteres Mitglied 3 | F34: Ort: | R34: (sofern erforderlich)
F35: Datum: | R35: (sofern erforderlich)
F36: Name des Erklärenden im Sinne des § 126b BGB: | R36: (sofern erforderlich)

Sheet 09_formblatt-233
R2: zurück zum Teilnahmeantrag
C3: ='00_system'!C6 -> Sicherheitsdienstleistungen | K3: ='00_system'!C13 -> #VALUE!
C4: ='00_system'!C7 -> in den Flüchtlings- und Asylunterkünften des Landkreises Dachau
C6: =IF('00_system'!C8="","",'00_system'!C8)
C8: =CONCATENATE("Vergabenummer: ",'00_system'!C9) -> Vergabenummer: 10-804-242120932-1
C9: =CONCATENATE("Stand: ",'00_system'!C3) -> Stand: 12.10.2026 (v1)
C12: Verzeichnis Nachunternehmerleistungen (Formblatt 233) | R12: Pflichtangabe | V12: Vollständigkeits- kontrolle | AA12: =SUM(AA15:AA18) -> 4
C13: Zur Ausführung der im Angebot enthaltenen Leistungen benenne(n) ich/wir Art und Umfang der durch Nachunternehmer auszuführenden Teilleistungen der Leistungsbeschreibung und die Namen der Nachunternehmer:
C15: Lfd. Nr. 1 | F15: Leistungsbereich: | R15: (obligatorisch) | V15: =IF(J15="","Angaben unvollständig","Angaben vollständig") -> Angaben unvollständig | AA15: =IF(V15="Angaben unvollständig",1,0) -> 1
F16: Beschreibung der Teilleistung: | R16: (obligatorisch) | V16: =IF(J16="","Angaben unvollständig","Angaben vollständig") -> Angaben unvollständig | AA16: =IF(V16="Angaben unvollständig",1,0) -> 1 | AE16: Bitte Auswahl treffen
F17: Name des Nachunternehmers: | R17: (obligatorisch) | V17: =IF(J17="","Angaben unvollständig","Angaben vollständig") -> Angaben unvollständig | AA17: =IF(V17="Angaben unvollständig",1,0) -> 1 | AE17: ja
F18: Mein/Unser Betrieb ist auf die Leistung eingerichtet: | R18: (obligatorisch) | V18: =IF(J18="","Angaben unvollständig","Angaben vollständig") -> Angaben unvollständig | AA18: =IF(V18="Angaben unvollständig",1,0) -> 1 | AE18: nein
C20: Lfd. Nr. 2 | F20: Leistungsbereich: | R20: (sofern erforderlich)
F21: Beschreibung der Teilleistung: | R21: (sofern erforderlich)
F22: Name des Nachunternehmers: | R22: (sofern erforderlich)
F23: Mein/Unser Betrieb ist auf die Leistung eingerichtet: | R23: (sofern erforderlich)
C25: Lfd. Nr. 3 | F25: Leistungsbereich: | R25: (sofern erforderlich)
F26: Beschreibung der Teilleistung: | R26: (sofern erforderlich)
F27: Name des Nachunternehmers: | R27: (sofern erforderlich)
F28: Mein/Unser Betrieb ist auf die Leistung eingerichtet: | R28: (sofern erforderlich)
C30: Lfd. Nr. 4 | F30: Leistungsbereich: | R30: (sofern erforderlich)
F31: Beschreibung der Teilleistung: | R31: (sofern erforderlich)
F32: Name des Nachunternehmers: | R32: (sofern erforderlich)
F33: Mein/Unser Betrieb ist auf die Leistung eingerichtet: | R33: (sofern erforderlich)
C35: Lfd. Nr. 5 | F35: Leistungsbereich: | R35: (sofern erforderlich)
F36: Beschreibung der Teilleistung: | R36: (sofern erforderlich)
F37: Name des Nachunternehmers: | R37: (sofern erforderlich)
F38: Mein/Unser Betrieb ist auf die Leistung eingerichtet: | R38: (sofern erforderlich)

Sheet 10_formblatt-235
R2: zurück zum Teilnahmeantrag
C3: ='00_system'!C6 -> Sicherheitsdienstleistungen | K3: ='00_system'!C13 -> #VALUE!
C4: ='00_system'!C7 -> in den Flüchtlings- und Asylunterkünften des Landkreises Dachau
