Workbook
Name _Hlk202730306: '00_vorbemerkung'!#REF!
Name _Hlk202730306: '01_aufforderung tnw'!$I$22
Name _Hlk202730306: '02_teilnahmeantrag'!$I$16
Name _Hlk202730306: '03_unternehmensangaben'!#REF!
Name _Hlk202730306: '04_eigenerklaerungen'!#REF!
Name _Hlk202730306: '05-erlaubnis-berufsausuebung'!#REF!
Name _Hlk202730306: '06_wirtsch_leistungsfaehigkeit'!#REF!
Name _Hlk202730306: '07_techn_leistungsfaehigkeit'!#REF!
Name _Hlk202730306: '08_formblatt-234'!#REF!
Name _Hlk202730306: '09_formblatt-233'!#REF!
Name _Hlk202730306: '10_formblatt-235'!#REF!
Name _Hlk205721037: '00_vorbemerkung'!#REF!
Name _Hlk205721037: '01_aufforderung tnw'!$C$32
Name _Hlk205721037: '02_teilnahmeantrag'!$C$29
Name _Hlk205721037: '03_unternehmensangaben'!#REF!
Name _Hlk205721037: '04_eigenerklaerungen'!#REF!
Name _Hlk205721037: '05-erlaubnis-berufsausuebung'!#REF!
Name _Hlk205721037: '06_wirtsch_leistungsfaehigkeit'!#REF!
Name _Hlk205721037: '07_techn_leistungsfaehigkeit'!#REF!
Name _Hlk205721037: '08_formblatt-234'!#REF!
Name _Hlk205721037: '09_formblatt-233'!#REF!
Name _Hlk205721037: '10_formblatt-235'!#REF!

Sheet 00_system
B2: Systemeinstellungen
B3: Dateistand | C3: 12.10.2026 (v1)
B5: Verfahrensinformationen
B6: Gewerk | C6: Sicherheitsdienstleistungen
B7: Verfahrensbezeichnung | C7: in den Flüchtlings- und Asylunterkünften des Landkreises Dachau
B8: Los und Los-Bezeichnung
B9: Vergabenummer | C9: 10-804-242120932-1
B10: Verfahrensart | C10: Nicht Offenes Verfahren mit Teilnahmewettbewerb (§ 16 VgV)
B11: Dateibezeichnung | C11: 01_lra-dah_sicherheit_teilnahmeantrag.xlsx
B12: Kurzbezeichnung | C12: lra-dah
B13: Logo | C13: #VALUE!
B14: Export-Bezeichnung | C14: =CONCATENATE(C9,"_",C12,"_tn-antrag_",'03_unternehmensangaben'!F21) -> 10-804-242120932-1_lra-dah_tn-antrag_
B16: Daten der Ausschreibungsstelle
B17: Vergabestelle | C17: Zentrale Vergabestelle
B18: Bezeichnung | C18: Landratsamt Dachau
B19: Straße | C19: Weiherweg 16
B20: Ort | C20: 85221 Dachau
B21: Hilfsbezeichnung | C21: das Landratsamt Dachau
B23: Vergabeplattform
B24: Vergabeplattform | C24: elektronisch über das Vergabeportal
B25: Internetadresse | C25: https://satellite.dtvp.de
B27: Fristenplanung
B28: Veröffentlichung TNW | C28: 12.10.2026 | E28: Montag | F28: =E28 & "" & ", den" & " " & C28 -> Montag, den 12.10.2026
B29: Fragefrist | C29: 04.11.2026 | E29: Mittwoch | F29: =C29 -> 04.11.2026
B30: Antwortfrist | C30: 05.11.2026 | E30: Donnerstag | F30: =C30 -> 05.11.2026
B31: Frist in Tagen
B32: Teilnahmefrist | C32: 12.11.2026 | D32: 10:00 Uhr | E32: Donnerstag | F32: =E32 & "" & ", den" & " " & C32 & "" & " um " & "" & D32 -> Donnerstag, den 12.11.2026 um 10:00 Uhr
B33: Leistungsbeginn | C33: 01.02.2027 | F33: =C33 -> 01.02.2027
B34: Leistungsende | C34: 31.01.2029 | F34: =C34 -> 31.01.2029
B35: Verlängerungen | C35: viermal
B36: Absolutes Enddatum | C36: 31.01.2033 | F36: =C36 -> 31.01.2033
B38: Referenzanforderungen
B39: Veröffentlichung TNW | C39: 46307 | E39: =C39 -> 46307 | F39: =CONCATENATE(TEXT(E39,"TTTT"),", den ",TEXT(C39,"TT.MM.JJJJ")) -> Montag, den 12.10.2026
B41: Mindestanforderungen:
B42: a) Der Referenzauftrag umfasste Sicherheits- bzw. Bewachungsleistungen in einer Flüchtlings-, Asyl- oder vergleichbaren Gemeinschaftsunterkunft (vergleichbar ist jede Gemeinschaftsunterbringung von Personen mit Wohn- und Übernachtungsfunktion, insbesondere Aufnahmeeinrichtungen, Notunterkünfte und Unterkünfte für Wohnungslose)
B43: b) Die Kapazität der im Referenzauftrag bewachten Unterkünfte beträgt insgesamt mindestens 100 Plätze | G43: 100
B44: c) Die Leistungserbringung im Referenzauftrag dauert noch an oder wurde nicht früher als 36 Monate vor dem Tag der Absendung der EU-Bekanntmachung (12.10.2026) beendet. | G44: =EDATE(C39,-36) -> 45211
B45: d) Die Leistungserbringung im Referenzauftrag umfasst einen zusammenhängenden Zeitraum von mindestens 12 Monaten; bei laufenden Aufträgen wird bis zum Tag der Absendung der EU-Bekanntmachung (12.10.2026) gerechnet. | G45: =EDATE(C39,-12) -> 45942
B47: Zusätzliche Bewertungspunkte:
B48: 1 Punkt: Der Referenzauftrag umfasste die Bewachung von einem oder zwei Standorten von Flüchtlings- oder Asylunterkünften. | F48: 1 | G48: Ein oder zwei Standorte (Flüchtlings- oder Asylunterkunft)
B49: 2 Punkte: Der Referenzauftrag umfasste die Bewachung mehrerer Flüchtlings- oder Asylunterkünfte (mindestens drei Standorte) im Rahmen eines Auftrags. | F49: 2 | G49: Mehrere Flüchtlings- oder Asylunterkünfte (mindestens drei Standorte)
B50: 3 Punkte: Der Referenzauftrag umfasste die Bewachung mehrerer Flüchtlings- oder Asylunterkünfte (mindestens drei Standorte) im Rahmen eines Auftrags, darunter dezentrale Unterkünfte, die mobil bestreift wurden. | F50: 3 | G50: Mehrere Unterkünfte einschließlich mobil bestreifter dezentraler Unterkünfte
B51: 2 Punkte: Die Kapazität der im Referenzauftrag bewachten Unterkünfte beträgt insgesamt mindestens 150 Plätze. | F51: 2 | G51: 150 | H51: 100000

Sheet 00_vorbemerkung
N2: Zur Aufforderung der Abgabe eines Teilnahmeantrag
C3: ='00_system'!C6 -> Sicherheitsdienstleistungen | I3: ='00_system'!C13 -> #VALUE!
C4: ='00_system'!C7 -> in den Flüchtlings- und Asylunterkünften des Landkreises Dachau
C6: =IF('00_system'!C8="","",'00_system'!C8)
C8: =CONCATENATE("Vergabenummer: ",'00_system'!C9) -> Vergabenummer: 10-804-242120932-1
C9: =CONCATENATE("Stand: ",'00_system'!C3) -> Stand: 12.10.2026 (v1)
C12: Vorbemerkungen / Ausfüllinformationen
C14: Sehr geehrte Bewerberinnen und Bewerber, sehr geehrte Damen und Herren,
C15: =CONCATENATE("wir freuen uns über Ihr Interesse am Teilnahmewettbewerb betreffend die Vergabe von ",'00_system'!C6," ",'00_system'!C7,".") -> wir freuen uns über Ihr Interesse am Teilnahmewettbewerb betreffend die Vergabe von Sicherheitsdienstleistungen in den Flüchtlings- und Asylunterkünften des Landkreises Dachau.
C16: Zur übersichtlichen und nutzerfreundlichen Gestaltung des Teilnahmewettbewerbs haben wir in diesem Dokument sämtliche erforderlichen Informationen zum Verfahren sowie die für den Teilnahmeantrag abzugebenden Angaben und Erklärungen zusammengefasst. Anlagen und Nachweise sind – soweit sie nicht ausdrücklich gefordert werden – nicht einzureichen. Wir bitten daher ausdrücklich, von der Einreichung unaufgeforderter Anlagen und Nachweise abzusehen. Wichtiger Hinweis: Auf gesonderte Aufforderung der Vergabestelle sind gegebenenfalls Unbedenklichkeitsbescheinigungen der Krankenkassen, der Berufsgenossenschaft, des Finanzamts oder sonstige geeignete Nachweise zur Verifizierung der im Teilnahmeantrag gemachten Angaben vorzulegen. In den jeweiligen Reitern befindet sich rechts neben den Ausfüllfeldern jeweils eine Spalte „Pflichtangaben“, aus der hervorgeht, in welchem Umfang Angaben zu machen sind. Darüber hinaus steht eine Spalte „Vollständigkeitskontrolle“ zur Verfügung. Nur wenn dort sämtliche Felder grün markiert sind und der Hinweis „Angaben vollständig“ erscheint, gelten alle erforderlichen Felder als vollständig ausgefüllt. Im Reiter „02_Teilnahmeantrag“ ist diese Übersicht zusätzlich zusammengefasst.
C17: Wichtiger Hinweis: In die Wertung des Teilnahmeantrags werden ausschließlich Angaben einbezogen, die vollständig und innerhalb der dafür vorgesehenen Textfelder eingetragen wurden. Unvollständige Angaben sowie Eintragungen außerhalb der vorgesehenen Textfelder bleiben unberücksichtigt.
C18: =CONCATENATE("Etwaige Fragen zum Teilnahmewettbewerb sind bitte ausschließlich über die Bieterkommunikation der Vergabeplattform und spätestens bis zum ",'00_system'!F29," einzureichen. Mündliche Anfragen werden grundsätzlich nicht beantwortet.") -> Etwaige Fragen zum Teilnahmewettbewerb sind bitte ausschließlich über die Bieterkommunikation der Vergabeplattform und spätestens bis zum 04.11.2026 einzureichen. Mündliche Anfragen werden grundsätzlich nicht beantwortet. | U18: Bitte beachten Sie, dass Fragen und Antworten zum Teilnahmewettbewerb auf der Vergabeplattform veröffentlicht werden, über die auch die Vergabeunterlagen bereitgestellt werden. Es obliegt den Bewerbern, eigenverantwortlich zu prüfen, ob Fragen eingegangen und beantwortet worden sind. Die letzte Aktualisierung erfolgt voraussichtlich am
C19: =U18 & "" & '00_system'!F30 & "" & U19 -> Bitte beachten Sie, dass Fragen und Antworten zum Teilnahmewettbewerb auf der Vergabeplattform veröffentlicht werden, über die auch die Vergabeunterlagen bereitgestellt werden. Es obliegt den Bewerbern, eigenverantwortlich zu prüfen, ob Fragen eingegangen und beantwortet worden sind. Die letzte Aktualisierung erfolgt voraussichtlich am 05.11.2026. Soweit ein Bewerber die von der Vergabestelle veröffentlichten Antworten nicht abruft oder bei der Angebotserstellung nicht berücksichtigt, geht dies zu seinen Lasten. | U19: . Soweit ein Bewerber die von der Vergabestelle veröffentlichten Antworten nicht abruft oder bei der Angebotserstellung nicht berücksichtigt, geht dies zu seinen Lasten.
C20: Soweit die Teilnahmeunterlagen nach Auffassung des Bewerbers Unklarheiten, Unvollständigkeiten oder Fehler enthalten, hat er die Vergabestelle hierauf unverzüglich und vor Ablauf der Einreichungsfrist in elektronischer Form über die Vergabeplattform hinzuweisen.
C21: Der Teilnahmeantrag ist für Microsoft Excel 365 optimiert. Die Nutzung wurde zudem mit LibreOffice Calc und Google Tabellen getestet. In diesen Anwendungen können im Einzelfall trotz erfolgreicher Tests Darstellungsabweichungen nicht ausgeschlossen werden; die inhaltliche Bearbeitung und Befüllung des Formulars ist jedoch grundsätzlich möglich.
C22: Wichtiger Hinweis: Das Deaktivieren oder Umgehen des Blattschutzes, Änderungen an Formeln, Verknüpfungen oder Bezügen sowie jede sonstige technische oder inhaltliche Veränderung des Teilnahmeantrags oder der zugehörigen Dokumente sind unzulässig. Derartige Änderungen führen grundsätzlich zum zwingenden Ausschluss des Teilnahmeantrags vom weiteren Vergabeverfahren.
C23: =CONCATENATE('00_system'!C17," ",'00_system'!C18) -> Zentrale Vergabestelle Landratsamt Dachau

Sheet 01_aufforderung tnw
N2: zum Teilnahmeantrag
C3: ='00_system'!C6 -> Sicherheitsdienstleistungen | I3: ='00_system'!C13 -> #VALUE!
C4: ='00_system'!C7 -> in den Flüchtlings- und Asylunterkünften des Landkreises Dachau
C6: =IF('00_system'!C8="","",'00_system'!C8)
C8: =CONCATENATE("Vergabenummer: ",'00_system'!C9) -> Vergabenummer: 10-804-242120932-1
C9: =CONCATENATE("Stand: ",'00_system'!C3) -> Stand: 12.10.2026 (v1)
I12: Vergabestelle:
I13: ='00_system'!C18 -> Landratsamt Dachau
C14: Empfänger | I14: ='00_system'!C17 -> Zentrale Vergabestelle
C15: Interessierte Bewerber | I15: ='00_system'!C19 -> Weiherweg 16
C16: und Bewerbergemeinschaften | I16: ='00_system'!C20 -> 85221 Dachau
I18: Ablauf der Teilnahmefrist:
I19: ='00_system'!F32 -> Donnerstag, den 12.11.2026 um 10:00 Uhr
I21: Abgabe des Teilnahmeantrags:
I22: =CONCATENATE('00_system'!C24," unter ",'00_system'!C25) -> elektronisch über das Vergabeportal unter https://satellite.dtvp.de
C24: Aufforderung zur Abgabe eines Teilnahmeantrags
C26: Sehr geehrte Damen und Herren,
C28: =CONCATENATE('00_system'!C21," ","beabsichtigt, die Sicherheitsdienstleistungen ",'00_system'!C7," zu vergeben. Wir fordern Sie auf, unter Beachtung der Vergabebedingungen, einen Teilnahmeantrag abzugeben:") -> das Landratsamt Dachau beabsichtigt, die Sicherheitsdienstleistungen in den Flüchtlings- und Asylunterkünften des Landkreises Dachau zu vergeben. Wir fordern Sie auf, unter Beachtung der Vergabebedingungen, einen Teilnahmeantrag abzugeben:
C30: 1. | D30: Art der Vergabe
D31: ='00_system'!C10 -> Nicht Offenes Verfahren mit Teilnahmewettbewerb (§ 16 VgV) | V31: Die Leistungszeit beginnt am
V32: und läuft zunächst für eine Festlaufzeit von zwei Jahren bis zum
C33: 2. | D33: Ausführungszeitraum | V33: . Der Vertrag verlängert sich anschließend
D34: =V31 & "" & '00_system'!C33 & " " & V32 & "" & '00_system'!C34 & "" & V33 & "" & '00_system'!C35 & "" & '01_aufforderung tnw'!V34 & "" & '00_system'!C36 & "" & '01_aufforderung tnw'!V35 -> Die Leistungszeit beginnt am 01.02.2027 und läuft zunächst für eine Festlaufzeit von zwei Jahren bis zum 31.01.2029. Der Vertrag verlängert sich anschließend viermal um jeweils zwölf Monate, wenn nicht der Auftraggeber spätestens sechs Monate vor Ablauf der jeweiligen Laufzeit in Textform erklärt, dass er den Vertrag nicht verlängert. Der Vertrag endet spätestens am 31.01.2033, ohne dass es einer Kündigung bedarf. | V34: um jeweils zwölf Monate, wenn nicht der Auftraggeber spätestens sechs Monate vor Ablauf der jeweiligen Laufzeit in Textform erklärt, dass er den Vertrag nicht verlängert. Der Vertrag endet spätestens am
V35: , ohne dass es einer Kündigung bedarf.
C36: 3. | D36: Leistungsinhalt:
D37: Abschluss einer Rahmenvereinbarung mit einem Auftragnehmer über Sicherheitsdienstleistungen in sämtlichen Flüchtlings- und Asylunterkünften des Landkreises Dachau, insbesondere stationäre Objektbewachung, die mobile Bestreifung dezentraler Unterkünfte sowie die Unterstützung der Essensausgabe. Die Leistungen werden durch Einzelaufträge abgerufen; eine Mindestabnahme wird nicht vereinbart. Der Höchstwert der Rahmenvereinbarung ist im Rahmenvertrag angegeben. Informationen über weitere Einzelheiten können aus den Vergabeunterlagen entnommen werden.
V38: Für den Teilnahmeantrag ist der vom Auftraggeber zur Verfügung gestellte Vordruck "
C39: 4. | D39: Vordrucke, Änderungen und Ergänzungen:
D40: =V38 & "" & '00_system'!C11 & "" & '01_aufforderung tnw'!V40 -> Für den Teilnahmeantrag ist der vom Auftraggeber zur Verfügung gestellte Vordruck "01_lra-dah_sicherheit_teilnahmeantrag.xlsx" zu verwenden; die Verwendung selbst gefertigter Vervielfältigungen, Abschriften oder Kurzfassungen ist – wenn nicht ausdrücklich im Einzelfall zugelassen – nicht zulässig. Änderungen und Ergänzungen an den Vergabeunterlagen sind unzulässig. Änderungsvorschläge sind nicht zugelassen. HINWEIS: Nur Angaben, die vollständig und innerhalb der Textfelder eingetragen sind, werden in die Wertung des Teilnahmeantrags einbezogen. Unvollständige oder außerhalb dieser Textfelder befindliche Angaben bleiben unberücksichtigt. | V40: " zu verwenden; die Verwendung selbst gefertigter Vervielfältigungen, Abschriften oder Kurzfassungen ist – wenn nicht ausdrücklich im Einzelfall zugelassen – nicht zulässig. Änderungen und Ergänzungen an den Vergabeunterlagen sind unzulässig. Änderungsvorschläge sind nicht zugelassen. HINWEIS: Nur Angaben, die vollständig und innerhalb der Textfelder eingetragen sind, werden in die Wertung des Teilnahmeantrags einbezogen. Unvollständige oder außerhalb dieser Textfelder befindliche Angaben bleiben unberücksichtigt.
C42: 5. | D42: Sprache
D43: Der Teilnahmeantrag, sämtliche beizubringenden Erklärungen und weitergehende Korrespondenz sind in deutscher Sprache abzufassen. Einem Schriftstück, das in einer fremden Sprache eingereicht wird, ist eine beglaubigte oder von einem öffentlich bestellten oder beeidigten Übersetzer oder Dolmetscher angefertigte Übersetzung beizufügen.
C45: 6. | D45: Abgabe des Teilnahmeantrags:
D46: =CONCATENATE("Der Teilnahmeantrag ist bis Ablauf der Teilnahmefrist ",'00_system'!C24," (",'00_system'!C25,")"," unter Verwendung des hier zur Verfügung gestellten Tools zur Angebotserstellung abzugeben. Die Bewerber haben sich rechtzeitig technisch hiermit vertraut zu machen.") -> Der Teilnahmeantrag ist bis Ablauf der Teilnahmefrist elektronisch über das Vergabeportal (https://satellite.dtvp.de) unter Verwendung des hier zur Verfügung gestellten Tools zur Angebotserstellung abzugeben. Die Bewerber haben sich rechtzeitig technisch hiermit vertraut zu machen.
C48: 7. | D48: Frist für Teilnahmeanträge:
D49: =CONCATENATE('00_system'!F32,". Ein nicht fristgerecht / formgerecht eingereichter Teilnahmeantrag wird ausgeschlossen.") -> Donnerstag, den 12.11.2026 um 10:00 Uhr. Ein nicht fristgerecht / formgerecht eingereichter Teilnahmeantrag wird ausgeschlossen.
V50: Etwaige Fragen zum Teilnahmewettbewerb richten Sie bitte bis spätestens zum
C51: 8. | D51: Fragen zum Teilnahmewettbewerb: | V51: ausschließlich über die Bieterkommunikation der Vergabeplattform. Mündliche Anfragen werden grundsätzlich nicht beantwortet. Bitte beachten Sie, dass Fragen und Antworten zum Teilnahmewettbewerb auf der Plattform, auf der Sie auch die Vergabeunterlagen einsehen können, eingestellt werden. Es obliegt dem Bewerber selbständig zu prüfen, ob Fragen eingegangen und beantwortet wurden. Die letzte Aktualisierung findet voraussichtlich am
D52: =V50 & "" & '00_system'!C29 & "" & '01_aufforderung tnw'!V51 & "" & '00_system'!C30 & "" & '01_aufforderung tnw'!V52 -> Etwaige Fragen zum Teilnahmewettbewerb richten Sie bitte bis spätestens zum 04.11.2026 ausschließlich über die Bieterkommunikation der Vergabeplattform. Mündliche Anfragen werden grundsätzlich nicht beantwortet. Bitte beachten Sie, dass Fragen und Antworten zum Teilnahmewettbewerb auf der Plattform, auf der Sie auch die Vergabeunterlagen einsehen können, eingestellt werden. Es obliegt dem Bewerber selbständig zu prüfen, ob Fragen eingegangen und beantwortet wurden. Die letzte Aktualisierung findet voraussichtlich am 05.11.2026 statt. Soweit der Bewerber die Antworten der Vergabestelle nicht abgerufen und berücksichtigt hat, geht dies zu seinen Lasten. Enthalten die Teilnahmeunterlagen nach Auffassung des Bewerbers Unklarheiten, Unvollständigkeiten oder Fehler, so hat er unverzüglich die Vergabestelle vor dem Ablauf der Einreichungsfrist elektronisch über die Vergabeplattform darauf hinzuweisen. | V52: statt. Soweit der Bewerber die Antworten der Vergabestelle nicht abgerufen und berücksichtigt hat, geht dies zu seinen Lasten. Enthalten die Teilnahmeunterlagen nach Auffassung des Bewerbers Unklarheiten, Unvollständigkeiten oder Fehler, so hat er unverzüglich die Vergabestelle vor dem Ablauf der Einreichungsfrist elektronisch über die Vergabeplattform darauf hinzuweisen.
C54: 9. | D54: Objektbesichtigung:
D55: Eine Objektbesichtigung wird nicht angeboten. Die für die Angebotserstellung erforderlichen Angaben ergeben sich aus den Vergabeunterlagen. | V55: Der Teilnahmeantrag (Vordruck: „
V56: “) mit Eigenerklärungen, Bestätigungen und Angaben zur Befähigung und Erlaubnis zur Berufsausübung sowie zur wirtschaftlichen, finanziellen, technischen und beruflichen Leistungsfähigkeit sowie in Abhängigkeit des Teilnahmeantrags: - Verzeichnis der Nachunternehmerleistungen (wenn Teile der Leistung an Nachunternehmer vergeben werden sollen) - Verzeichnis der Leistungen / Kapazitäten anderer Unternehmen (wenn sich der Bieter der Kapazitäten anderer Unternehmen bedienen wird) - Erklärung Bewerbergemeinschaft (wenn der Teilnahmeantrag von einer Bewerbergemeinschaft abgegeben wird) - Verpflichtungserklärung anderer Unternehmen
C57: 10. | D57: Erforderliche Unterlagen, die mit dem Teilnahmeantrag einzureichen sind:
D58: =V55 & "" & '00_system'!C11 & "" & '01_aufforderung tnw'!V56 -> Der Teilnahmeantrag (Vordruck: „01_lra-dah_sicherheit_teilnahmeantrag.xlsx“) mit Eigenerklärungen, Bestätigungen und Angaben zur Befähigung und Erlaubnis zur Berufsausübung sowie zur wirtschaftlichen, finanziellen, technischen und beruflichen Leistungsfähigkeit sowie in Abhängigkeit des Teilnahmeantrags: - Verzeichnis der Nachunternehmerleistungen (wenn Teile der Leistung an Nachunternehmer vergeben werden sollen) - Verzeichnis der Leistungen / Kapazitäten anderer Unternehmen (wenn sich der Bieter der Kapazitäten anderer Unternehmen bedienen wird) - Erklärung Bewerbergemeinschaft (wenn der Teilnahmeantrag von einer Bewerbergemeinschaft abgegeben wird) - Verpflichtungserklärung anderer Unternehmen
C60: 11. | D60: Nachforderung
D61: Fehlende Erklärungen und Nachweise, sofern diese nicht wertungsrelevant sind, können durch den Auftraggeber gemäß § 56 Abs. 2 VgV nachgefordert werden.
C63: 12. | D63: Bewerbergemeinschaften:
D64: Bewerbergemeinschaften haben mit ihrem Teilnahmeantrag eine Erklärung aller Mitglieder in Textform abzugeben, - in der die Bildung einer Arbeitsgemeinschaft im Auftragsfall erklärt ist, - in der alle Mitglieder aufgeführt sind und der für die Durchführung des Vertrages bevollmächtigte Vertreter bezeichnet ist, - dass der bevollmächtigte Vertreter die Mitglieder gegenüber dem Auftraggeber rechtsverbindlich vertritt. - dass alle Mitglieder als Gesamtschuldner haften. Angebote von Bewerbergemeinschaften, die sich erst nach der Aufforderung zur Angebotsabgabe aus aufgeforderten Unternehmen gebildet haben, sind nicht zugelassen.
C66: 13. | D66: Kapazitäten anderer Unternehmen (Unteraufträge / Eignungsleihe):
D67: Beabsichtigt der Bewerber Teile der Leistung von Unterauftragnehmern ausführen zu lassen oder sich bei der Erfüllung eines Auftrages im Hinblick auf die erforderliche wirtschaftliche, finanzielle, technische und berufliche Leistungsfähigkeit anderer Unternehmen zu bedienen (Eignungsleihe), so muss er die dafür vorgesehenen Teilleistungen / Kapazitäten in seinem Teilnahmeantrag benennen. Der Bewerber hat mit Abgabe des Teilnahmeantrags der Vergabestelle nachzuweisen, dass ihm die erforderlichen Kapazitäten der anderen Unternehmen zur Verfügung stehen und diese Unternehmen geeignet sind. Er hat den Namen, den gesetzlichen Vertreter sowie die Kontaktdaten dieser Unternehmen anzugeben und entsprechende Verpflichtungserklärungen dieser Unternehmen vorzulegen. Nimmt der Bewerber in Hinblick auf die Kriterien für die wirtschaftliche und finanzielle Leistungsfähigkeit im Rahmen einer Eignungsleihe die Kapazitäten anderer Unternehmen in Anspruch, müssen diese gemeinsam für die Auftragsausführung haften; ist die Haftungserklärung gleichzeitig mit der „Verpflichtungserklärung“ abzugeben. Der Bewerber hat andere Unternehmen, bei denen Ausschlussgründe vorliegen oder die das entsprechende Eignungskriterium nicht erfüllen, innerhalb einer von der Vergabestelle gesetzten Frist zu ersetzen.
C69: 14. | D69: Eignung:
D70: Der Bewerber hat zum Nachweis der Eignung die im nachfolgenden Teilnahmeantrag geforderten Eigenerklärungen, Bestätigungen und Angaben zur Befähigung und Erlaubnis zur Berufsausübung sowie zur wirtschaftlichen, finanziellen, technischen und beruflichen Leistungsfähigkeit anzugeben bzw. vorzulegen. Die nachfolgenden Erklärungen bzw. Anforderungen sind mit folgenden Kriterien gekennzeichnet:
D72: Informationskriterien (I-Kriterium): | F72: Die Informationskriterien (I) enthalten die allgemeinen Unternehmensangaben und dienen im weiteren Verlauf insbesondere für statistische Zwecke zur Erfüllung der Vergabe- und Statistikvorschriften.
D73: Ausschlusskriterien (A-Kriterium): | F73: Leistungsanforderungen / Mindestanforderungen, die mit einem (A) gekennzeichnet sind, müssen zwingend eingehalten werden. Das Nichterfüllen bereits eines dieser Kriterien führt zum Ausschluss des gesamten Teilnahmeantrags. Das A-Kriterium wird nur als erfüllt bewertet, wenn sämtliche in den nachfolgenden definierten Anforderungen eines A-Kriteriums erfüllt sind und entsprechende Erklärungen/Erläuterungen im Teilnahmeantrag bestätigt bzw. getätigt sind. Fehlende oder unvollständige Angaben zu A-Kriterien, die nicht wertungsrelevant sind (insbesondere Angaben zu Umsätzen und Mitarbeitenden), kann der Auftraggeber nach § 56 Abs. 2 VgV nachfordern. In diesem Fall führt erst die nicht fristgerechte oder unvollständige Vorlage der nachgeforderten Angaben zum Ausschluss.
D74: Bewertungskriterien (B-Kriterium): | F74: Die B-Kriterien (B) werden bewertet. Hierzu werden die Angaben des Bewerbers im Teilnahmeantrag entsprechend der erreichten Bewertungspunkte gewertet. Die jeweilige volle Bewertungspunktzahl wird nur in dem Fall erreicht, wenn sämtliche in den nachfolgenden definierten Anforderungen eines B-Kriteriums erfüllt sind und entsprechende Erklärungen/Erläuterungen im Teilnahmeantrag bestätigt sind.
D76: Unternehmensangaben | K76: I-Kriterium
D77: Allgemeine Unternehmensangaben und Zugehörigkeiten des Bewerbers
D79: Eigenerklärungen | K79: A-Kriterium
D80: - Eigenerklärung zu §§ 123, 124 GWB - ggf. Selbstreinigungsmaßnahmen - Eigenerklärung zu laufenden Verfahren (Erklärung; Würdigung im Einzelfall) - Eigenerklärung Bezug Russland - Antikorruptionserklärung - Erklärung zum Masernschutz - Scientology-Schutzerklärung (Erklärung zur Auftragsausführung; kein Ausschlusskriterium im Teilnahmewettbewerb)
D82: Befähigung und Erlaubnis zur Berufsausübung | K82: A-Kriterium
D83: Angabe / Erklärung der Befähigung und Erlaubnis zur Berufsausübung gemäß § 44 VgV. - Gewerbeerlaubnis nach § 34a GewO
D85: Wirtschaftliche und finanzielle Leistungsfähigkeit | K85: A-Kriterium
D86: Angabe / Erklärung der wirtschaftlichen und finanziellen Leistungsfähigkeit gemäß § 45 VgV. - Angaben zu Umsätzen - Angaben zur Betriebshaftpflichtversicherung
D88: Technische und berufliche Leistungsfähigkeit | K88: A-Kriterium
D89: Angabe / Erklärung der technischen und beruflichen Leistungsfähigkeit gemäß § 46 VgV. - Angaben zu Mitarbeitenden
D91: Technische und berufliche Leistungsfähigkeit | K91: B-Kriterium
D92: - Angaben zur Zertifizierung nach DIN 77200-1 0 Punkte: Keine Angaben / keines Vorhanden 3 Punkte: Eingeführtes und intern überwachtes Sicherungssystem für die Organisation, Personalführung und Arbeitsweise eines Unternehmens zur Erbringung von Sicherungsdienstleistungen in Anlehnung an die DIN 77200-1 5 Punkte: Unternehmen ist nach DIN 77200-1 (oder gleichwertig) zertifiziert | K92: max. 5 Bewertungs-punkte
D93: - Angaben zum Qualitätsmanagementsystem 0 Punkte: Keine Angaben / keines Vorhanden 3 Punkte: Eingeführtes und intern überwachtes Sicherungssystem für das Qualitätsmanagement insbesondere Qualitätssicherung, Reklamations- und Beschwerdemanagement 5 Punkte: Unternehmen ist nach DIN EN ISO 9001 (oder gleichwertig) zertifiziert | K93: max. 5 Bewertungs-punkte
D94: - Angaben zum Umweltmanagementsystem 0 Punkte: Keine Angaben / keines Vorhanden 3 Punkte: Eingeführtes und intern überwachtes Sicherungssystem für das Umweltmanagement 5 Punkte: Unternehmen ist nach DIN EN ISO 14001 (oder gleichwertig) zertifiziert | K94: max. 5 Bewertungs-punkte
D95: - Angaben zum Arbeitsschutzmanagementsystem 0 Punkte: Keine Angaben / keines Vorhanden 3 Punkte: Eingeführtes und intern überwachtes Sicherungssystem für das Arbeitsschutzmanagement 5 Punkte: Unternehmen ist nach ISO 45001, OHRIS, SCC, AMS Bau (oder gleichwertig) zertifiziert | K95: max. 5 Bewertungs-punkte
D96: - Angaben zur technischen Fachkraft, die mit der Qualitätskontrolle beauftragt ist 0 Punkte: keine Angabe oder Qualifikation, welche nicht dem Bewachungsgewerbe zuzuordnen ist. 2 Punkt: Weist eine Qualifikation im Bewachungsgewerbe auf, welche nachfolgend (3 Punkte bis 5 Punkte) nicht aufgelistet ist (z. B. Sachkundeprüfung nach § 34a GewO). 3 Punkte: Weist die Qualifikation als Geprüfte Schutz- und Sicherheitskraft bzw. Servicekraft für Schutz und Sicherheit auf 4 Punkte: Weist die Qualifikation als Fachkraft für Schutz und Sicherheit (IHK-Prüfung) auf 5 Punkte: Weist die Qualifikation als Meister/in für Schutz und Sicherheit (IHK-Meisterprüfung) oder eine vergleichbare Qualifikation auf | K96: max. 5 Bewertungs-punkte
D97: - Angaben zu Betriebsleitung, Fach- und Führungskräften 0 Punkte: keine Angabe oder weniger als zwei qualifizierte Fach- und Führungskräfte 3 Punkte: Für die Auftragsausführung stehen mindestens zwei (2) qualifizierte Fach- und Führungskräfte (z. B. Meister/in für Schutz und Sicherheit, Fachkraft für Schutz und Sicherheit, etc.) zur Verfügung 4 Punkte: Für die Auftragsausführung stehen mindestens drei (3) qualifizierte Fach- und Führungskräfte (z. B. Meister/in für Schutz und Sicherheit, Fachkraft für Schutz und Sicherheit, etc.) zur Verfügung 5 Punkte: Für die Auftragsausführung stehen mindestens vier (4) oder mehr qualifizierte Fach- und Führungskräfte (z. B. Meister/in für Schutz und Sicherheit, Fachkraft für Schutz und Sicherheit, etc.) zur Verfügung | K97: max. 5 Bewertungs-punkte
D98: ="Referenzangaben " & "" & V98 & " " & '00_system'!B42 & " " & '00_system'!B43 & " " & '00_system'!B44 & " " & '00_system'!B45 -> Referenzangaben Zum Nachweis der Eignung ist mindestens eine Referenz, die alle nachfolgenden Mindestanforderungen kumulativ erfüllt, anzugeben. Diese Mindestreferenz erhält 5 Bewertungspunkte. Wird keine Referenz angegeben, die alle Mindestanforderungen erfüllt, wird der Teilnahmeantrag ausgeschlossen. Bewerber können darüber hinaus bis zu zwei weiteren Referenzen angeben. Erfüllen diese alle nachfolgenden Mindestanforderungen kumulativ, erhält jede Referenz 5 Bewertungspunkte. Mindestanforderungen: a) Der Referenzauftrag umfasste Sicherheits- bzw. Bewachungsleistungen in einer Flüchtlings-, Asyl- oder vergleichbaren Gemeinschaftsunterkunft (vergleichbar ist jede Gemeinschaftsunterbringung von Personen mit Wohn- und Übernachtungsfunktion, insbesondere Aufnahmeeinrichtungen, Notunterkünfte und Unterkünfte für Wohnungslose) b) Die Kapazität der im Referenzauftrag bewachten Unterkünfte beträgt insgesamt mindestens 100 Plätze c) Die Leistungserbringung im Referenzauftrag dauert noch an oder wurde nicht früher als 36 Monate vor dem Tag der Absendung der EU-Bekanntmachung (12.10.2026) beendet. d) Die Leistungserbringung im Referenzauftrag umfasst einen zusammenhängenden Zeitraum von mindestens 12 Monaten; bei laufenden Aufträgen wird bis zum Tag der Absendung der EU-Bekanntmachung (12.10.2026) gerechnet. | K98: max. 10 Bewertungs-punkte je Referenz, folglich bis zu 30 Punkte in Summe | V98: Zum Nachweis der Eignung ist mindestens eine Referenz, die alle nachfolgenden Mindestanforderungen kumulativ erfüllt, anzugeben. Diese Mindestreferenz erhält 5 Bewertungspunkte. Wird keine Referenz angegeben, die alle Mindestanforderungen erfüllt, wird der Teilnahmeantrag ausgeschlossen. Bewerber können darüber hinaus bis zu zwei weiteren Referenzen angeben. Erfüllen diese alle nachfolgenden Mindestanforderungen kumulativ, erhält jede Referenz 5 Bewertungspunkte. Mindestanforderungen:
D99: =V99 & " " & '00_system'!B48 & " " & '00_system'!B49 & " " & '00_system'!B50 & " " & '00_system'!B51 -> Bewerber können zusätzliche Bewertungspunkte (5 Bewertungspunkte je Referenz, folglich bis zu 15 Bewertungspunkte in Summe) erzielen, indem die Referenzen neben den vorstehenden Mindestanforderungen folgende zusätzliche Anforderungen erfüllen. Bei der Objektart wird je Referenz ausschließlich die zutreffende Stufe gewertet; die Punkte für Objektart und Kapazität werden addiert. Zusätzliche Bewertungspunkte: 1 Punkt: Der Referenzauftrag umfasste die Bewachung von einem oder zwei Standorten von Flüchtlings- oder Asylunterkünften. 2 Punkte: Der Referenzauftrag umfasste die Bewachung mehrerer Flüchtlings- oder Asylunterkünfte (mindestens drei Standorte) im Rahmen eines Auftrags. 3 Punkte: Der Referenzauftrag umfasste die Bewachung mehrerer Flüchtlings- oder Asylunterkünfte (mindestens drei Standorte) im Rahmen eines Auftrags, darunter dezentrale Unterkünfte, die mobil bestreift wurden. 2 Punkte: Die Kapazität der im Referenzauftrag bewachten Unterkünfte beträgt insgesamt mindestens 150 Plätze. | V99: Bewerber können zusätzliche Bewertungspunkte (5 Bewertungspunkte je Referenz, folglich bis zu 15 Bewertungspunkte in Summe) erzielen, indem die Referenzen neben den vorstehenden Mindestanforderungen folgende zusätzliche Anforderungen erfüllen. Bei der Objektart wird je Referenz ausschließlich die zutreffende Stufe gewertet; die Punkte für Objektart und Kapazität werden addiert. Zusätzliche Bewertungspunkte:
D100: Im Rahmen der Wertung der Teilnahmeanträge verifiziert der Auftraggeber die durch den Bewerber angegebenen Referenzen sowie insbesondere die wertungsrelevanten Referenzangaben. Die Verarbeitung der personenbezogenen Daten aus der Referenzabfrage beruht auf Artikel 6 Absatz 1 Buchstabe c und e DSGVO. Sie ergibt sich aus der Verpflichtung des öffentlichen Auftraggebers, die Gesetze und Verordnungen des Vergaberechts zwingend anzuwenden. Auf die Angaben der Referenzabfrage kann insoweit nicht verzichtet werden. Wichtiger Hinweis: Nur Referenzangaben, die vollständig und innerhalb der nachfolgenden Textfelder eingetragen sind, werden in die Wertung des Teilnahmeantrags einbezogen. Unvollständige oder außerhalb dieser Textfelder befindliche Angaben bleiben unberücksichtigt.
C102: 14.1. | D102: Abschließende Wertung der Eignung
D103: Es können maximal 60 Punkte erreicht werden. Die vom Bewerber zu erreichende Mindestpunktzahl beträgt 30 Punkte. Erreicht ein Bewerber diese Mindestpunktzahl nicht, so wird sein Teilnahmeantrag ausgeschlossen.
C105: 15. | D105: Aufforderung zur Angebotsabgabe:
D106: Auf Grundlage des Gesamtergebnisses erfolgt eine Rangfolgenbildung. Es werden höchstens fünf Bewerber mit den höchsten Punktzahlen zur Angebotsabgabe aufgefordert. Bei Punktgleichheit auf Rang 5 werden alle Bewerber dieses Rangs zur Angebotsabgabe aufgefordert. Erfüllen weniger als fünf Bewerber die Anforderungen, wird das Verfahren mit diesen Bewerbern fortgeführt.
C108: 16. | D108: Stelle, an die sich der Bewerber oder Bieter zur Nachprüfung behaupteter Verstöße gegen die Vergabebestimmungen wenden kann:
D109: Vergabekammer Südbayern, Regierung von Oberbayern Maximilianstraße 39 in 80538 München E-Mail: vergabekammer.suedbayern@reg-ob.bayern.de Telefon: +49 89 21762411 Fax: +49 89 21762847

Sheet 02_teilnahmeantrag
C3: ='00_system'!C6 -> Sicherheitsdienstleistungen | I3: ='00_system'!C13 -> #VALUE!
C4: ='00_system'!C7 -> in den Flüchtlings- und Asylunterkünften des Landkreises Dachau
C6: =IF('00_system'!C8="","",'00_system'!C8)
C8: =CONCATENATE("Vergabenummer: ",'00_system'!C9) -> Vergabenummer: 10-804-242120932-1
C9: =CONCATENATE("Stand: ",'00_system'!C3) -> Stand: 12.10.2026 (v1)
C12: Empfänger | I12: Ablauf der Teilnahmefrist:
C13: ='00_system'!C18 -> Landratsamt Dachau | I13: ='00_system'!F32 -> Donnerstag, den 12.11.2026 um 10:00 Uhr
C14: ='00_system'!C17 -> Zentrale Vergabestelle
C15: ='00_system'!C19 -> Weiherweg 16 | I15: Abgabe des Teilnahmeantrags:
C16: ='00_system'!C20 -> 85221 Dachau | I16: =CONCATENATE('00_system'!C24," unter ",'00_system'!C25) -> elektronisch über das Vergabeportal unter https://satellite.dtvp.de
C19: =CONCATENATE("Teilnahmeantrag der ",'03_unternehmensangaben'!F21) -> Teilnahmeantrag der
C21: Sehr geehrte Damen und Herren,
C23: =CONCATENATE("ich bewerbe mich / wir bewerben uns um die Teilnahme im Vergabeverfahren für die ",'00_system'!C6," ",'00_system'!C7,".") -> ich bewerbe mich / wir bewerben uns um die Teilnahme im Vergabeverfahren für die Sicherheitsdienstleistungen in den Flüchtlings- und Asylunterkünften des Landkreises Dachau. | O23: Pflichtangabe | S23: Vollständigkeits- kontrolle
C25: 1. | D25: Bietergemeinschaft | AC25: Bitte Auswahl treffen
D26: Bitte Auswahl treffen | O26: (obligatorisch) | S26: =IF(D26="Bitte Auswahl treffen","Angaben unvollständig","Angaben vollständig") -> Angaben unvollständig | X26: =IF(S26="Angaben unvollständig",1,0) -> 1 | AB26: =IF(D26=AC27,"BG_JA","BG_NEIN") -> BG_NEIN | AC26: Es liegt keine Bietergemeinschaft vor.
D27: Bezeichnung der Bewerbergemeinschaft: | O27: (sofern erforderlich) | S27: =IF(D26=AC27,IF(G27="","Angaben unvollständig","Angaben vollständig"),"Angaben vollständig") -> Angaben vollständig | X27: =IF(S27="Angaben unvollständig",1,0) -> 0 | AC27: Wir bewerben uns um Teilnahme im Rahmen einer Bewerbergemeinschaft. Die geforderten Eignungskriterien werden von der Bewerbergemeinschaft erfüllt. Das ausgefüllte Dokument “Erklärung Bieter-/Arbeitsgemeinschaft“ ist beigefügt. Jedes Gemeinschaftsmitglied verpflichtet sich darin mit Abgabe der Erklärung in Textform, für die vertragsgemäße Ausführung der Leistung gesamtschuldnerisch zu haften.
D28: Die Erklärung Bewerber-/Bieter-/Arbeitsgemeinschaft (Formblatt 234) wurde ausgefüllt: | J28: =IF(D26=AC26,"nicht erforderlich",IF('08_formblatt-234'!AA12=0,"JA","NEIN")) -> NEIN | K28: LINK | O28: (sofern erforderlich) | S28: =IF(D26=AC27,IF(J28="JA","Angaben vollständig","Angaben unvollständig"),"Angaben vollständig") -> Angaben vollständig | X28: =IF(S28="Angaben unvollständig",1,0) -> 0
C30: 2. | D30: Nachunternehmerleistungen | AC30: Bitte Auswahl treffen
D31: Bitte Auswahl treffen | O31: (obligatorisch) | S31: =IF(D31="Bitte Auswahl treffen","Angaben unvollständig","Angaben vollständig") -> Angaben unvollständig | X31: =IF(S31="Angaben unvollständig",1,0) -> 1 | AB31: =IF(D31=AC32,"NU_JA","NU_NEIN") -> NU_NEIN | AC31: Ich erkläre / Wir erklären, dass ich / wir alle Leistungen im eigenen Betrieb ausführen werde(n).
D32: Das Verzeichnis Nachunternehmerleistungen (Formblatt 233) wurde ausgefüllt: | J32: =IF(D31=AC31,"nicht erforderlich",IF('09_formblatt-233'!AA12=0,"JA","NEIN")) -> NEIN | K32: LINK | O32: (sofern erforderlich) | S32: =IF(D31=AC32,IF(J32="JA","Angaben vollständig","Angaben unvollständig"),"Angaben vollständig") -> Angaben vollständig | X32: =IF(S32="Angaben unvollständig",1,0) -> 0 | AC32: Ich erkläre / Wir erklären, dass ich / wir alle wesentlichen Leistungen, die nicht im „Verzeichnis der Nachunternehmerleistungen“ aufgeführt sind, im eigenen Betrieb ausführen werde(n).
C34: 3. | D34: Leistungen/Kapazitäten anderer Unternehmen | AC34: Bitte Auswahl treffen
D35: Bitte Auswahl treffen | O35: (obligatorisch) | S35: =IF(D35="Bitte Auswahl treffen","Angaben unvollständig","Angaben vollständig") -> Angaben unvollständig | X35: =IF(S35="Angaben unvollständig",1,0) -> 1 | AB35: =IF(D35=AC36,"EL_JA","EL_NEIN") -> EL_NEIN | AC35: Ich erkläre / Wir erklären, dass ich / wir NICHT auf Leistungen/Kapazitäten anderer Unternehmen zurückgreifen werde(n).
D36: Das Verzeichnis der Leistungen/Kapazitäten anderer Unternehmen (Formblatt 235) wurde ausgefüllt: | J36: =IF(D35=AC35,"nicht erforderlich",IF('10_formblatt-235'!AA12=0,"JA","NEIN")) -> NEIN | K36: LINK | O36: (sofern erforderlich) | S36: =IF(D35=AC36,IF(J36="JA","Angaben vollständig","Angaben unvollständig"),"Angaben vollständig") -> Angaben vollständig | X36: =IF(S36="Angaben unvollständig",1,0) -> 0 | AC36: Ich erkläre / Wir erklären, dass ich / wir alle wesentlichen Leistungen, die nicht im „Verzeichnis der Leistungen/Kapazitäten anderer Unternehmen“ aufgeführt sind, im eigenen Betrieb ausführen werde(n).
C38: 4. | D38: Allgemeine Unternehmensangaben und Zugehörigkeiten des Bewerbers
D39: Die Angaben im Reiter "Allgemeine Unternehmensangaben und Zugehörigkeiten des Bewerbers" wurden vollständig ausgefüllt: | J39: =IF('03_unternehmensangaben'!Z60=0,"JA","NEIN") -> NEIN | K39: LINK | O39: (obligatorisch) | S39: =IF(J39="JA","Angaben vollständig","Angaben unvollständig") -> Angaben unvollständig | X39: =IF(S39="Angaben unvollständig",1,0) -> 1
C41: 5. | D41: Eigenerklärungen
D42: Die Angaben im Reiter "Eigenerklärungen" wurden vollständig ausgefüllt: | J42: =IF('04_eigenerklaerungen'!AA12=0,"JA","NEIN") -> NEIN | K42: LINK | O42: (obligatorisch) | S42: =IF(J42="JA","Angaben vollständig","Angaben unvollständig") -> Angaben unvollständig | X42: =IF(S42="Angaben unvollständig",1,0) -> 1
C44: 6. | D44: Erlaubnis Berufsausübung
D45: Die Angaben im Reiter "Erlaubnis Berufsausübung" wurden vollständig ausgefüllt: | J45: =IF('05-erlaubnis-berufsausuebung'!AA12=0,"JA","NEIN") -> NEIN | K45: LINK | O45: (obligatorisch) | S45: =IF(J45="JA","Angaben vollständig","Angaben unvollständig") -> Angaben unvollständig | X45: =IF(S45="Angaben unvollständig",1,0) -> 1
C47: 7. | D47: Erklärung zur wirtschaftlichen und finanziellen Leistungsfähigkeit
D48: Die Angaben im Reiter "Erklärung zur wirtschaftlichen und finanziellen Leistungsfähigkeit" wurden vollständig ausgefüllt: | J48: =IF('06_wirtsch_leistungsfaehigkeit'!AA12=0,"JA","NEIN") -> NEIN | K48: LINK | O48: (obligatorisch) | S48: =IF(J48="JA","Angaben vollständig","Angaben unvollständig") -> Angaben unvollständig | X48: =IF(S48="Angaben unvollständig",1,0) -> 1
C50: 8. | D50: Erklärung zur technischen Leistungsfähigkeit
D51: Die Angaben im Reiter "Erklärung zur technischen Leistungsfähigkeit" wurden vollständig ausgefüllt: | J51: =IF('07_techn_leistungsfaehigkeit'!AE12=0,"JA","NEIN") -> NEIN | K51: LINK | O51: (obligatorisch) | S51: =IF(J51="JA","Angaben vollständig","Angaben unvollständig") -> Angaben unvollständig | X51: =IF(S51="Angaben unvollständig",1,0) -> 1
D53: Ort: | O53: (obligatorisch) | S53: =IF(F53="","Angaben unvollständig","Angaben vollständig") -> Angaben unvollständig | X53: =IF(S53="Angaben unvollständig",1,0) -> 1
D54: Datum: | O54: (obligatorisch) | S54: =IF(F54="","Angaben unvollständig","Angaben vollständig") -> Angaben unvollständig | X54: =IF(S54="Angaben unvollständig",1,0) -> 1
D55: Name des Erklärenden im Sinne des § 126b BGB: | O55: (obligatorisch) | S55: =IF(F55="","Angaben unvollständig","Angaben vollständig") -> Angaben unvollständig | X55: =IF(S55="Angaben unvollständig",1,0) -> 1
F56: =TEXT(F54,"TT.MM.JJJJ") -> 00.01.1900
D57: Ist bei elektronisch übermittelten Teilnahmeantrag in Textform der Name der natürlichen Person, die die Erklärung abgibt, nicht angegeben, werden Sie nicht zur Teilnahme zugelassen. | X57: =SUM(X26:X55) -> 11

Sheet 03_unternehmensangaben
Q2: zurück zum Teilnahmeantrag
C3: ='00_system'!C6 -> Sicherheitsdienstleistungen | K3: ='00_system'!C13 -> #VALUE!
C4: ='00_system'!C7 -> in den Flüchtlings- und Asylunterkünften des Landkreises Dachau
C6: =IF('00_system'!C8="","",'00_system'!C8)
C8: =CONCATENATE("Vergabenummer: ",'00_system'!C9) -> Vergabenummer: 10-804-242120932-1
C9: =CONCATENATE("Stand: ",'00_system'!C3) -> Stand: 12.10.2026 (v1)
C12: Vergabestelle: | K12: Ablauf der Teilnahmefrist:
C13: ='00_system'!C18 -> Landratsamt Dachau | K13: ='00_system'!F32 -> Donnerstag, den 12.11.2026 um 10:00 Uhr
C14: ='00_system'!C17 -> Zentrale Vergabestelle
C15: ='00_system'!C19 -> Weiherweg 16 | K15: Abgabe des Teilnahmeantrags:
C16: ='00_system'!C20 -> 85221 Dachau | K16: =CONCATENATE('00_system'!C24," unter ",'00_system'!C25) -> elektronisch über das Vergabeportal unter https://satellite.dtvp.de
C19: 1. Allgemeine Unternehmensangaben und Zugehörigkeiten des Bewerbers (Informationskriterium) | Q19: Pflichtangabe | U19: Vollständigkeits- kontrolle
C21: Firmenbezeichnung: | Q21: (obligatorisch) | U21: =IF(F21="","Angaben unvollständig","Angaben vollständig") -> Angaben unvollständig | Z21: =IF(U21="Angaben unvollständig",1,0) -> 1
C22: Straße und Hausnummer: | Q22: (obligatorisch) | U22: =IF(F22="","Angaben unvollständig","Angaben vollständig") -> Angaben unvollständig | Z22: =IF(U22="Angaben unvollständig",1,0) -> 1
C23: Postleitzahl und Ort: | Q23: (obligatorisch) | U23: =IF(F23="","Angaben unvollständig","Angaben vollständig") -> Angaben unvollständig | Z23: =IF(U23="Angaben unvollständig",1,0) -> 1
C24: Land: | Q24: (obligatorisch) | U24: =IF(F24="","Angaben unvollständig","Angaben vollständig") -> Angaben unvollständig | Z24: =IF(U24="Angaben unvollständig",1,0) -> 1
C26: Zuständiger Ansprechpartner: | Q26: (obligatorisch) | U26: =IF(F26="","Angaben unvollständig","Angaben vollständig") -> Angaben unvollständig | Z26: =IF(U26="Angaben unvollständig",1,0) -> 1
C27: Telefon: | Q27: (obligatorisch) | U27: =IF(F27="","Angaben unvollständig","Angaben vollständig") -> Angaben unvollständig | Z27: =IF(U27="Angaben unvollständig",1,0) -> 1
C28: Telefax: | Q28: (sofern vorhanden) | U28: ="Angaben vollständig" -> Angaben vollständig | Z28: =IF(U28="Angaben unvollständig",1,0) -> 0
C29: E-Mail: | Q29: (obligatorisch) | U29: =IF(F29="","Angaben unvollständig","Angaben vollständig") -> Angaben unvollständig | Z29: =IF(U29="Angaben unvollständig",1,0) -> 1
C31: Nationale Identifikationsnummer: | Q31: (sofern bereits vorliegend)
C32: Umsatzsteuer-Identifikationsnummer: | Q32: (obligatorisch) | U32: =IF(F32="","Angaben unvollständig","Angaben vollständig") -> Angaben unvollständig | Z32: =IF(U32="Angaben unvollständig",1,0) -> 1
AE33: Bitte Auswahl treffen
C34: Kartellerklärung: | F34: Bitte Auswahl treffen | Q34: (obligatorisch) | U34: =IF(F34="Bitte Auswahl treffen","Angaben unvollständig","Angaben vollständig") -> Angaben unvollständig | Z34: =IF(U34="Angaben unvollständig",1,0) -> 1 | AE34: Ich/Wir gehöre(n) KEINER Vereinbarung / KEINEM Kartell gem. §§ 2, 3 GWB an.
F35: Folgende Firmen sind beteiligt: | Q35: (sofern erforderlich) | U35: =IF(F34=AE35,IF(J35="","Angaben unvollständig","Angaben vollständig"),"Angaben vollständig") -> Angaben vollständig | Z35: =IF(U35="Angaben unvollständig",1,0) -> 0 | AE35: Ich/Wir gehöre(n) einer Vereinbarung / einem Kartell gem. §§ 2, 3 GWB an.
AE36: Bitte Auswahl treffen
C37: Eintragung Handelsregister: | F37: Bitte Auswahl treffen | Q37: (obligatorisch) | U37: =IF(F37="Bitte Auswahl treffen","Angaben unvollständig","Angaben vollständig") -> Angaben unvollständig | Z37: =IF(U37="Angaben unvollständig",1,0) -> 1 | AE37: Ich bin / Wir sind NICHT zur Eintragung in das Handelsregister verpflichtet.
F38: Registernummer: | Q38: (sofern erforderlich) | U38: =IF(F37=AE38,IF(J38="","Angaben unvollständig","Angaben vollständig"),"Angaben vollständig") -> Angaben vollständig | Z38: =IF(U38="Angaben unvollständig",1,0) -> 0 | AE38: Ich bin / Wir sind zur Eintragung in das Handelsregister verpflichtet.
F39: Registergericht: | Q39: (sofern erforderlich) | U39: =IF(F37=AE38,IF(J39="","Angaben unvollständig","Angaben vollständig"),"Angaben vollständig") -> Angaben vollständig | Z39: =IF(U39="Angaben unvollständig",1,0) -> 0
AE40: Bitte Auswahl treffen
C41: Börsennotierung: | F41: Bitte Auswahl treffen | Q41: (obligatorisch) | U41: =IF(F41="Bitte Auswahl treffen","Angaben unvollständig","Angaben vollständig") -> Angaben unvollständig | Z41: =IF(U41="Angaben unvollständig",1,0) -> 1 | AE41: Ja, es liegt eine Börsennotierung vor.
Q42: (sofern erforderlich) | U42: =IF(F41=AE42,IF(F42="","Angaben unvollständig","Angaben vollständig"),"Angaben vollständig") -> Angaben vollständig | Z42: =IF(U42="Angaben unvollständig",1,0) -> 0 | AE42: Nein, Angabe der Staatsangehörigkeit des Eigentümers/der Eigentümerin:
AE43: Bitte Auswahl treffen
C44: Mitgliedschaft Berufsgenossenschaft: | F44: Bitte Auswahl treffen | Q44: (obligatorisch) | U44: =IF(F44="Bitte Auswahl treffen","Angaben unvollständig","Angaben vollständig") -> Angaben unvollständig | Z44: =IF(U44="Angaben unvollständig",1,0) -> 1 | AE44: Mein /Unser Unternehmen ist NICHT bei der Berufsgenossenschaft versichert.
F45: Berufsgenossenschaft: | Q45: (sofern erforderlich) | U45: =IF(F44=AE45,IF(J45="","Angaben unvollständig","Angaben vollständig"),"Angaben vollständig") -> Angaben vollständig | Z45: =IF(U45="Angaben unvollständig",1,0) -> 0 | AE45: Mein /Unser Unternehmen ist bei der Berufsgenossenschaft versichert.
F46: Unternehmernummer: | Q46: (sofern erforderlich) | U46: =IF(F44=AE45,IF(J46="","Angaben unvollständig","Angaben vollständig"),"Angaben vollständig") -> Angaben vollständig | Z46: =IF(U46="Angaben unvollständig",1,0) -> 0
AE47: Bitte Auswahl treffen
C48: Mitgliedschaft Berufsverband: | F48: Bitte Auswahl treffen | Q48: (obligatorisch) | U48: =IF(F48="Bitte Auswahl treffen","Angaben unvollständig","Angaben vollständig") -> Angaben unvollständig | Z48: =IF(U48="Angaben unvollständig",1,0) -> 1 | AE48: Mein /Unser Unternehmen ist KEIN Mitglied bei einem Berufsverband.
F49: Name des Berufsverbandes: | Q49: (sofern erforderlich) | U49: =IF(F48=AE49,IF(J49="","Angaben unvollständig","Angaben vollständig"),"Angaben vollständig") -> Angaben vollständig | Z49: =IF(U49="Angaben unvollständig",1,0) -> 0 | AE49: Mein /Unser Unternehmen ist Mitglied bei einem Berufsverband.
AE50: Bitte Auswahl treffen
C51: KMU-Eigenschaft: | F51: Bitte Auswahl treffen | Q51: (obligatorisch) | U51: =IF(F51="Bitte Auswahl treffen","Angaben unvollständig","Angaben vollständig") -> Angaben unvollständig | Z51: =IF(U51="Angaben unvollständig",1,0) -> 1 | AE51: Mein/Unser Unternehmen erfüllt NICHT die Eigenschaft als Kleinst-, kleines oder mittleres Unternehmen (KMU).
F52: Unternehmensgröße: | J52: Bitte Auswahl treffen | Q52: (sofern erforderlich) | U52: =IF(F51=AE52,IF(J52="","Angaben unvollständig","Angaben vollständig"),"Angaben vollständig") -> Angaben vollständig | Z52: =IF(U52="Angaben unvollständig",1,0) -> 0 | AE52: Mein/Unser Unternehmen erfüllt die Eigenschaft als Kleinst-, kleines oder mittleres Unternehmen (KMU).
C53: Definition: Ein Unternehmen gilt als KMU, wenn es weniger als 250 Mitarbeiter beschäftigt und der Jahresumsatz höchstens 50 Mio. Euro oder die Jahresbilanzsumme höchstens 43 Mio. Euro beträgt. Kleinstunternehmen: Weniger als 10 Mitarbeiter und ein Jahresumsatz oder eine Jahresbilanzsumme von höchstens 2 Millionen Euro. Kleine Unternehmen: Weniger als 50 Mitarbeiter und ein Jahresumsatz oder eine Jahresbilanzsumme von höchstens 10 Millionen Euro. Mittlere Unternehmen: Weniger als 250 Mitarbeiter und entweder ein Jahresumsatz von höchstens 50 Millionen Euro oder eine Jahresbilanzsumme von höchstens 43 Millionen Euro | AE53: Kleinstunternehmen
AE54: Kleines Unternehmen
AE55: Mittleres Unternehmen
AE56: Bitte Auswahl treffen
C57: Präqualifikation: | F57: Bitte Auswahl treffen | Q57: (obligatorisch) | U57: =IF(F57="Bitte Auswahl treffen","Angaben unvollständig","Angaben vollständig") -> Angaben unvollständig | Z57: =IF(U57="Angaben unvollständig",1,0) -> 1 | AE57: Mein /Unser Unternehmen ist NICHT im Amtlichen Verzeichnis präqualifizierter Unternehmen für den Liefer- und Dienstleistungsbereich (AVPQ) eingetragen.
F58: Zertifikatsnummer: | Q58: (sofern erforderlich) | U58: =IF(F57=AE58,IF(J58="","Angaben unvollständig","Angaben vollständig"),"Angaben vollständig") -> Angaben vollständig | Z58: =IF(U58="Angaben unvollständig",1,0) -> 0 | AE58: Mein /Unser Unternehmen ist in das Amtlichen Verzeichnis präqualifizierter Unternehmen für den Liefer- und Dienstleistungsbereich (AVPQ) eingetragen.
F59: Zugangscode: | Q59: (sofern erforderlich) | U59: =IF(F57=AE58,IF(J59="","Angaben unvollständig","Angaben vollständig"),"Angaben vollständig") -> Angaben vollständig | Z59: =IF(U59="Angaben unvollständig",1,0) -> 0
C60: Hinweis: Die Eintragung im o.g. Verzeichnis führt nicht automatisch dazu, dass der vorliegende Teilnahmeantrag vom Bewerber nicht ausgefüllt werden muss. Nur soweit der Nachweis der Eignung mittels der im AVPQ hinterlegten Informationen geführt werden kann, sind die in diesem Teilnahmeantrag geforderten Eigenerklärungen seitens des Bieters entbehrlich. | Z60: =SUM(Z21:Z59) -> 15

Sheet 04_eigenerklaerungen
R2: zurück zum Teilnahmeantrag
C3: ='00_system'!C6 -> Sicherheitsdienstleistungen | K3: ='00_system'!C13 -> #VALUE!
C4: ='00_system'!C7 -> in den Flüchtlings- und Asylunterkünften des Landkreises Dachau
C6: =IF('00_system'!C8="","",'00_system'!C8)
C8: =CONCATENATE("Vergabenummer: ",'00_system'!C9) -> Vergabenummer: 10-804-242120932-1
C9: =CONCATENATE("Stand: ",'00_system'!C3) -> Stand: 12.10.2026 (v1)
C12: 2. Eigenerklärungen | R12: Pflichtangabe | V12: Vollständigkeits- kontrolle | AA12: =SUM(AA15:AA93) -> 15 | AF12: =AF65+AF81+AF85+AF89+AF93+AF72 -> 0
C14: 2.1 Eigenerklärung zu § 123 Abs. 1 GWB (Ausschlusskriterium)
C15: Ein Ausschlussgrund liegt vor, wenn eine Person, deren Verhalten nach § 123 Abs. 3 GWB dem Unternehmen zuzurechnen ist, rechtskräftig verurteilt oder ist gegen das Unternehmen eine Geldbuße nach § 30 des Gesetzes über Ordnungswidrigkeiten rechtskräftig festgesetzt worden wegen einer Straftat nach:
C16: 1. | D16: § 129 des Strafgesetzbuchs (Bildung krimineller Vereinigungen), § 129a des Strafgesetzbuchs (Bildung terroristischer Vereinigungen); oder § 129b des Strafgesetzbuchs (Kriminelle und terroristische Vereinigungen im Ausland);
C17: 2. | D17: § 89c des Strafgesetzbuchs ( Terrorismusfinanzierung) oder wegen der Teilnahme an einer solchen Tat oder wegen der Bereitstellung oder Sammlung finanzieller Mittel in Kenntnis dessen, dass diese finanziellen Mittel ganz oder teilweise dazu verwendet werden oder verwendet werden sollen, eine Tat nach § 89a Absatz 2 Nummer 2 des Strafgesetzbuchs zu begehen;
C18: 3. | D18: § 261 des Strafgesetzbuchs (Geldwäsche; Verschleierung unrechtmäßig erlangter Vermögenswerte);
C19: 4. | D19: § 263 des Strafgesetzbuchs (Betrug), soweit sich die Straftat gegen den Haushalt der Europäischen Union oder gegen Haushalte, die von der Europäischen Union oder in ihrem Auftrag verwaltet werden oder gegen öffentliche Haushalte, richtet;
C20: 5. | D20: § 264 des Strafgesetzbuchs (Subventionsbetrug), soweit sich die Straftat gegen den Haushalt der Europäischen Union oder gegen Haushalte, die von der Europäischen Union oder in ihrem Auftrag verwaltet werden oder gegen öffentliche Haushalte, richtet;
C21: 6. | D21: § 299 des Strafgesetzbuchs (Bestechlichkeit und Bestechung im geschäftlichen Verkehr);
C22: 7. | D22: § 108e des Strafgesetzbuchs (Bestechlichkeit und Bestechung von Mandatsträgern);
C23: 8. | D23: den §§ 333 und 334 des Strafgesetzbuchs (Vorteilsgewährung und Bestechung), jeweils auch in Verbindung mit § 335a des Strafgesetzbuchs (Ausländische und internationale Bedienstete);
C24: 9. | D24: Artikel 2 § 2 des Gesetzes zur Bekämpfung internationaler Bestechung (Bestechung ausländischer Abgeordneter im Zusammenhang mit internationalem Geschäftsverkehr); | AK24: Bitte Auswahl treffen
C25: 10. | D25: den §§ 232, 232a Absatz 1 bis 5, den §§ 232b bis 233a des Strafgesetzbuches (Menschenhandel, Zwangsprostitution, Zwangsarbeit, Ausbeutung der Arbeitskraft, Ausbeutung unter Ausnutzung einer Freiheitsberaubung). | AK25: Ja, es liegt ein Ausschlussgrund vor.
C26: Liegt ein Ausschlussgrund nach § 123 Abs. 1 GWB vor? | K26: Bitte Auswahl treffen | R26: (obligatorisch) | V26: =IF(K26="Bitte Auswahl treffen","Angaben unvollständig","Angaben vollständig") -> Angaben unvollständig | AA26: =IF(V26="Angaben unvollständig",1,0) -> 1 | AF26: =IF(K26=AK25,1,0) -> 0 | AK26: Nein, es liegt kein Ausschlussgrund vor.
C28: 2.2 Eigenerklärung zu § 123 Abs. 4 GWB (Ausschlusskriterium) | AK28: Bitte Auswahl treffen
C29: Ein Ausschlussgrund liegt vor, wenn Ihr Unternehmen seinen Verpflichtungen zur Zahlung von Steuern, Abgaben oder Beiträgen zur Sozialversicherung nicht nachgekommen ist und dies durch eine rechtskräftige Gerichts- oder bestandskräftige Verwaltungsentscheidung festgestellt wurde oder der öffentliche Auftraggeber die Verletzung dieser Verpflichtungen auf sonstige geeignete Weise nachweisen kann. | AK29: Ja, es liegt ein Ausschlussgrund vor.
C30: Liegt ein Ausschlussgrund nach § 123 Abs. 4 GWB vor? | K30: Bitte Auswahl treffen | R30: (obligatorisch) | V30: =IF(K30="Bitte Auswahl treffen","Angaben unvollständig","Angaben vollständig") -> Angaben unvollständig | AA30: =IF(V30="Angaben unvollständig",1,0) -> 1 | AF30: =IF(K30=AK29,1,0) -> 0 | AK30: Nein, es liegt kein Ausschlussgrund vor.
C32: 2.3 Eigenerklärung zu § 124 Abs. 1 Nr. 1 GWB (Ausschlusskriterium) | AK32: Bitte Auswahl treffen
C33: Ein Ausschlussgrund liegt vor, wenn Ihr Unternehmen bei der Ausführung öffentlicher Aufträge nachweislich gegen geltende umwelt-, sozial- oder arbeitsrechtliche Verpflichtungen verstoßen hat. | AK33: Ja, es liegt ein Ausschlussgrund vor.
C34: Liegt ein Ausschlussgrund nach § 124 Abs. 1 Nr. 1 GWB vor? | K34: Bitte Auswahl treffen | R34: (obligatorisch) | V34: =IF(K34="Bitte Auswahl treffen","Angaben unvollständig","Angaben vollständig") -> Angaben unvollständig | AA34: =IF(V34="Angaben unvollständig",1,0) -> 1 | AF34: =IF(K34=AK33,1,0) -> 0 | AK34: Nein, es liegt kein Ausschlussgrund vor.
C36: 2.4 Eigenerklärung zu § 124 Abs. 1 Nr. 2 GWB (Ausschlusskriterium) | AK36: Bitte Auswahl treffen
C37: Ein Ausschlussgrund liegt vor, wenn Ihr Unternehmen zahlungsunfähig ist, über das Vermögen des Unternehmens ein Insolvenzverfahren oder ein vergleichbares Verfahren beantragt oder eröffnet worden ist, die Eröffnung eines solchen Verfahrens mangels Masse abgelehnt worden ist, sich das Unternehmen im Verfahren der Liquidation befindet oder seine Tätigkeit eingestellt hat. | AK37: Ja, es liegt ein Ausschlussgrund vor.
C38: Liegt ein Ausschlussgrund nach § 124 Abs. 1 Nr. 2 GWB vor? | K38: Bitte Auswahl treffen | R38: (obligatorisch) | V38: =IF(K38="Bitte Auswahl treffen","Angaben unvollständig","Angaben vollständig") -> Angaben unvollständig | AA38: =IF(V38="Angaben unvollständig",1,0) -> 1 | AF38: =IF(K38=AK37,1,0) -> 0 | AK38: Nein, es liegt kein Ausschlussgrund vor.
C40: 2.5 Eigenerklärung zu § 124 Abs. 1 Nr. 3 GWB (Ausschlusskriterium) | AK40: Bitte Auswahl treffen
C41: Ein Ausschlussgrund liegt vor, wenn Ihr Unternehmen im Rahmen der beruflichen Tätigkeit nachweislich eine schwere Verfehlung begangen hat, durch die die Integrität des Unternehmens infrage gestellt wird; § 123 Absatz 3 ist entsprechend anzuwenden. | AK41: Ja, es liegt ein Ausschlussgrund vor.
C42: Liegt ein Ausschlussgrund nach § 124 Abs. 1 Nr. 3 GWB vor? | K42: Bitte Auswahl treffen | R42: (obligatorisch) | V42: =IF(K42="Bitte Auswahl treffen","Angaben unvollständig","Angaben vollständig") -> Angaben unvollständig | AA42: =IF(V42="Angaben unvollständig",1,0) -> 1 | AF42: =IF(K42=AK41,1,0) -> 0 | AK42: Nein, es liegt kein Ausschlussgrund vor.
C44: 2.6 Eigenerklärung zu § 124 Abs. 1 Nr. 4 GWB (Ausschlusskriterium) | AK44: Bitte Auswahl treffen
C45: Ein Ausschlussgrund liegt vor, wenn Ihr Unternehmen mit anderen Unternehmen Vereinbarungen getroffen oder Verhaltensweisen aufeinander abgestimmt hat, die eine Verhinderung, Einschränkung oder Verfälschung des Wettbewerbs bezwecken oder bewirken. | AK45: Ja, es liegt ein Ausschlussgrund vor.
C46: Liegt ein Ausschlussgrund nach § 124 Abs. 1 Nr. 4 GWB vor? | K46: Bitte Auswahl treffen | R46: (obligatorisch) | V46: =IF(K46="Bitte Auswahl treffen","Angaben unvollständig","Angaben vollständig") -> Angaben unvollständig | AA46: =IF(V46="Angaben unvollständig",1,0) -> 1 | AF46: =IF(K46=AK45,1,0) -> 0 | AK46: Nein, es liegt kein Ausschlussgrund vor.
C48: 2.7 Eigenerklärung zu § 124 Abs. 1 Nr. 7 GWB (Ausschlusskriterium) | AK48: Bitte Auswahl treffen
C49: Ein Ausschlussgrund liegt vor, wenn Ihr Unternehmen eine wesentliche Anforderung bei der Ausführung eines früheren öffentlichen Auftrags oder Konzessionsvertrags erheblich oder fortdauernd mangelhaft erfüllt hat und dies zu einer vorzeitigen Beendigung, zu Schadensersatz oder zu einer vergleichbaren Rechtsfolge geführt hat. | AK49: Ja, es liegt ein Ausschlussgrund vor.
C50: Liegt ein Ausschlussgrund nach § 124 Abs. 1 Nr. 7 GWB vor? | K50: Bitte Auswahl treffen | R50: (obligatorisch) | V50: =IF(K50="Bitte Auswahl treffen","Angaben unvollständig","Angaben vollständig") -> Angaben unvollständig | AA50: =IF(V50="Angaben unvollständig",1,0) -> 1 | AF50: =IF(K50=AK49,1,0) -> 0 | AK50: Nein, es liegt kein Ausschlussgrund vor.
C52: 2.8 Eigenerklärung zu § 124 Abs. 1 Nr. 8 GWB (Ausschlusskriterium) | AK52: Bitte Auswahl treffen
C53: Ein Ausschlussgrund liegt vor, wenn Ihr Unternehmen in Bezug auf Ausschlussgründe oder Eignungskriterien eine schwerwiegende Täuschung begangen oder Auskünfte zurückgehalten hat oder nicht in der Lage ist, die erforderlichen Nachweise zu übermitteln. | AK53: Ja, es liegt ein Ausschlussgrund vor.
C54: Liegt ein Ausschlussgrund nach § 124 Abs. 1 Nr. 8 GWB vor? | K54: Bitte Auswahl treffen | R54: (obligatorisch) | V54: =IF(K54="Bitte Auswahl treffen","Angaben unvollständig","Angaben vollständig") -> Angaben unvollständig | AA54: =IF(V54="Angaben unvollständig",1,0) -> 1 | AF54: =IF(K54=AK53,1,0) -> 0 | AK54: Nein, es liegt kein Ausschlussgrund vor.
C56: 2.9 Eigenerklärung zu § 124 Abs. 1 Nr. 9 GWB (Ausschlusskriterium) | AK56: Bitte Auswahl treffen
C57: Ein Ausschlussgrund liegt vor, wenn Ihr Unternehmen a) versucht hat, die Entscheidungsfindung des öffentlichen Auftraggebers in unzulässiger Weise zu beeinflussen, b) versucht hat, vertrauliche Informationen zu erhalten, durch die es unzulässige Vorteile beim Vergabeverfahren erlangen könnte, oder c) fahrlässig oder vorsätzlich irreführende Informationen übermittelt hat, die die Vergabeentscheidung des öffentlichen Auftraggebers erheblich beeinflussen könnten, oder versucht hat, solche Informationen zu übermitteln. | AK57: Ja, es liegt ein Ausschlussgrund vor.
C58: Liegt ein Ausschlussgrund nach § 124 Abs. 1 Nr. 9 GWB vor? | K58: Bitte Auswahl treffen | R58: (obligatorisch) | V58: =IF(K58="Bitte Auswahl treffen","Angaben unvollständig","Angaben vollständig") -> Angaben unvollständig | AA58: =IF(V58="Angaben unvollständig",1,0) -> 1 | AF58: =IF(K58=AK57,1,0) -> 0 | AK58: Nein, es liegt kein Ausschlussgrund vor.
C60: 2.10 Eigenerklärung zu § 124 Abs. 2 GWB (Ausschlusskriterium) | AK60: Bitte Auswahl treffen
C61: Ein Ausschlussgrund liegt vor, wenn Ihr Unternehmen nach § 21 des Arbeitnehmer-Entsendegesetzes, § 98c des Aufenthaltsgesetzes, § 19 des Mindestlohngesetzes oder § 21 des Schwarzarbeitsbekämpfungsgesetzes von der Teilnahme an Vergabeverfahren ausgeschlossen werden soll oder ausgeschlossen ist. | AK61: Ja, es liegt ein Ausschlussgrund vor.
C62: Liegt ein Ausschlussgrund nach § 21 AEntG, § 98c Aufenthaltsgesetz, § 19 Mindestlohngesetz oder § 21 Schwarzarbeitsbekämpfungsgesetzes vor? | K62: Bitte Auswahl treffen | R62: (obligatorisch) | V62: =IF(K62="Bitte Auswahl treffen","Angaben unvollständig","Angaben vollständig") -> Angaben unvollständig | AA62: =IF(V62="Angaben unvollständig",1,0) -> 1 | AB62: =SUM(AA26:AA62) -> 10 | AF62: =IF(K62=AK61,1,0) -> 0 | AK62: Nein, es liegt kein Ausschlussgrund vor.
C64: 2.11 Selbstreinigung (Ausschlusskriterium)
C65: Aufgrund der Angaben der Eigenerklärungen 2.1 bis 2.10 sind weitere Erklärungen und Nachweise erforderlich: | AF65: =SUM(AF26:AF62) -> 0 | AK65: ACHTUNG: Es sind weitere Erklärungen und Nachweise erforderlich!
C66: =IF(AF65>0,"ACHTUNG: Es sind weitere Erklärungen und Nachweise erforderlich!","Es sind KEINE weiteren Erklärungen und Nachweise erforderlich.") -> Es sind KEINE weiteren Erklärungen und Nachweise erforderlich. | AK66: Es sind KEINE weiteren Erklärungen und Nachweise erforderlich.
C67: Erklärungen und Nachweise zu den ergriffenen Selbstreinigungsmaßnahmen, entsprechend den Anforderungen gemäß § 125 Abs. 1 GWB, sind dem Angebot als Anlage beigefügt.
C68: Bezeichnung der beigefügten Anlage: | R68: (obligatorisch) | V68: =IF(C66=AK65,IF(H68="","Angaben unvollständig","Angaben vollständig"),"Angaben vollständig") -> Angaben vollständig | AA68: =IF(V68="Angaben unvollständig",1,0) -> 0 | AF68: =IF(C66=AK66,"OK","ANLAGE_SELBSTREINIGUNG") -> OK
C70: 2.12 Eigenerklärung zu laufenden Verfahren (Erklärung; Würdigung im Einzelfall nach § 124 Abs. 1 Nr. 3 GWB) | AK70: Bitte Auswahl treffen
C71: Zudem erkläre/n ich/wir: | AK71: Gegen mich/uns ist kein Ermittlungs- und /oder Ordnungswidrigkeitenverfahren anhängig.
C72: Bitte Auswahl treffen | R72: (obligatorisch) | V72: =IF(C72="Bitte Auswahl treffen","Angaben unvollständig","Angaben vollständig") -> Angaben unvollständig | AA72: =IF(V72="Angaben unvollständig",1,0) -> 1 | AF72: =IF(C72=AK72,1,0) -> 0 | AK72: Gegen mich/uns ist ein Ermittlungs- und /oder ein Ordnungswidrigkeitenverfahren wegen einer Zuwiderhandlung gegen gesetzliche Vorschriften anhängig, die als schwere Verfehlung im Sinne des § 124 Abs. 1 Nr. 3 GWB einzustufen sein könnte.
C73: Erklärungen und Nachweise zu den Umständen sind dem Angebot als Anlage beigefügt.
C74: Bezeichnung der beigefügten Anlage: | R74: (obligatorisch) | V74: =IF(C72=AK72,IF(H74="","Angaben unvollständig","Angaben vollständig"),"Angaben vollständig") -> Angaben vollständig | AA74: =IF(V74="Angaben unvollständig",1,0) -> 0 | AF74: =IF(C72=AK71,"OK",IF(C72=AK70,"OK","ANLAGE_LAUFENDE_VERFAHREN")) -> OK
C76: 2.13 Eigenerklärung Bezug Russland (Ausschlusskriterium) | AK76: Bitte Auswahl treffen
C77: Nach Art. 5k der Verordnung (EU) Nr. 833/2014 in der Fassung der Verordnung (EU) 2022/576 dürfen öffentliche Aufträge und Konzessionen nach dem 9. April 2022 nicht an Personen oder Unternehmen vergeben werden, die einen Bezug zu Russland im Sinne der Vorschrift aufweisen. Dies umfasst sowohl unmittelbar als Bewerber, Bieter oder Auftragnehmer auftretende Personen oder Unternehmen als auch mittelbar, mit mehr als zehn Prozent, gemessen am Auftragswert, beteiligte Unterauftragnehmer, Lieferanten oder Eignungsverleiher. | AK77: Nein, es besteht KEINE Verbindung im Sinne des Art. 5k der Verordnung (EU) Nr. 833/2014.
C78: Ein Bezug zu Russland im Sinne der Vorschrift besteht a) durch die russische Staatsangehörigkeit des Bewerbers/Bieters oder die Niederlassung des Bewerbers/Bieters in Russland, b) durch die Beteiligung einer natürlichen Person oder eines Unternehmens, auf die eines der Kriterien nach Buchstabe a zutrifft, am Bewerber/Bieter über das Halten von Anteilen im Umfang von mehr als 50 Prozent, c) durch das Handeln der Bewerber/Bieter im Namen oder auf Anweisung von Personen oder Unternehmen, auf die die Kriterien der Buchstaben a) und/oder b) zutreffen. | AK78: Ja, es besteht eine Verbindung im Sinne des Art. 5k der Verordnung (EU) Nr. 833/2014.
C79: Ich/Wir erkläre(n), dass für mein/unser Unternehmen keiner der in den Buchstaben a) bis c) genannten Fälle zutrifft.
C80: Ich/Wir erkläre(n), dass ich/wir zur Ausführung des Auftrags für Teile der Leistung - nicht die Kapazitäten der in den Buchstaben a) bis c) genannten Personen oder Unternehmen in Anspruch nehmen werde(n) / genommen habe(n) (Eignungsleihe). - keine der in den Buchstaben a) bis c) genannten Personen oder Unternehmen als Nachunternehmen beauftrage(n) / beauftragt habe(n). - keine der in den Buchstaben a) bis c) genannten Personen oder Unternehmen als Lieferanten beauftrage(n) / beauftragt habe(n).
C81: Besteht eine Verbindung im Sinne des Art. 5k der Verordnung (EU) Nr. 833/2014? | K81: Bitte Auswahl treffen | R81: (obligatorisch) | V81: =IF(K81="Bitte Auswahl treffen","Angaben unvollständig","Angaben vollständig") -> Angaben unvollständig | AA81: =IF(V81="Angaben unvollständig",1,0) -> 1 | AF81: =IF(K81=AK78,1,0) -> 0
C83: 2.14 Antikorruptionserklärung (Ausschlusskriterium) | AK83: Bitte Auswahl treffen
C84: 1. Auftraggeber (AG) und Auftragnehmer (AN) verpflichten sich, alle erforderlichen Maßnahmen zur Vermeidung von Korruption zu ergreifen. Der AN stellt insbesondere durch organisatorische Maßnahmen und Belehrungen seiner Mitarbeiter sicher, dass er bzw. seine Mitarbeiter in den Geschäftsbeziehungen mit dem AG a) keine strafbaren Handlungen begehen, die unter die §§ 298, 299, 333, 334 StGB oder § 23 des Gesetzes zum Schutz von Geschäftsgeheimnissen (GeschGehG) fallen, b) über § 23 GeschGehG hinaus die dem AN im geschäftlichen Verkehr anvertrauten Vorlagen, Vorschriften und Informationen des AG, gleich ob in Papierform, auf Datenträgern oder in elektronischer Form, nicht zu Zwecken des Wettbewerbs oder der Eigennutzung unbefugt verwerten oder an Dritte weitergeben, c) Mitarbeitern des AG keine Zuwendungen oder andere Vorteile anbieten werden bzw. solche von diesen angenommen werden, d) Dritte nicht zu Handlungen gemäß Absatz 1, Buchstaben a)-c) dieser Antikorruptionserklärung anstiften bzw. hierzu Beihilfe leisten werden. 2. Bei einem schuldhaften Verstoß gegen die in Absatz 1 festgelegten Regelungen hat der AN dem AG eine Vertragsstrafe in Höhe von 5 % der im Vertragsjahr des Verstoßes abgerechneten Netto-Vergütung, mindestens jedoch 5.000 Euro, zu zahlen. Die Summe der Vertragsstrafen nach dieser Regelung ist auf 10 % der bis zum Bekanntwerden des Verstoßes insgesamt abgerechneten Netto-Vergütung, mindestens jedoch 5.000 Euro, begrenzt. Die Vertragsstrafe wird auf einen Schadensersatzanspruch wegen desselben Verstoßes angerechnet. 3. Bei einem Verstoß des AN oder seiner Mitarbeiter gegen die in Absatz 1 Buchstaben a)-d) festgelegten Regelungen ist der AG zur außerordentlichen fristlosen Kündigung des Vertrags berechtigt. Die Prüfung eines Ausschlusses von künftigen Vergabeverfahren nach den §§ 124 bis 126 GWB bleibt unberührt. | AK84: Ich bestätige den Inhalt der Antikorruptionserklärung.
C85: Bestätigung der Antikorruptionserklärung: | K85: Bitte Auswahl treffen | R85: (obligatorisch) | V85: =IF(K85="Bitte Auswahl treffen","Angaben unvollständig","Angaben vollständig") -> Angaben unvollständig | AA85: =IF(V85="Angaben unvollständig",1,0) -> 1 | AF85: =IF(K85=AK85,1,0) -> 0 | AK85: Ich bestätige NICHT den Inhalt der Antikorruptionserklärung.
C87: 2.15 Scientology-Schutzerklärung (Erklärung zur Auftragsausführung) | AK87: Bitte Auswahl treffen
C88: Der Bewerber versichert, • dass er gegenwärtig sowie während der gesamten Vertragsdauer die Technologie von L. Ron Hubbard nicht anwendet, lehrt oder in sonstiger Weise verbreitet, keine Kurse oder Seminare nach dieser Technologie besucht und Beschäftigte oder sonst zur Erfüllung des Vertrags eingesetzte Personen keine Kurse oder Seminare nach dieser Technologie besuchen lässt; • dass nach seiner Kenntnis keine der zur Erfüllung des Vertrags eingesetzten Personen die Technologie von L. Ron Hubbard anwendet, lehrt oder in sonstiger Weise verbreitet oder Kurse oder Seminare nach dieser Technologie besucht. Der Bewerber verpflichtet sich, solche zur Erfüllung des Vertrags eingesetzten Personen von der weiteren Durchführung des Vertrags unverzüglich auszuschließen, die während der Vertragsdauer die Technologie von L. Ron Hubbard anwenden, lehren, in sonstiger Weise verbreiten oder Kurse oder Seminare nach dieser Technologie besuchen. Diese Verpflichtung ist zugleich Bestandteil des Rahmenvertrags (Teil A Ziffer 5). Im Teilnahmewettbewerb wird sie nicht als Ausschlusskriterium gewertet. | AK88: Ich bestätige den Inhalt der Scientology-Schutzerklärung.
C89: Bestätigung der Scientology-Schutzerklärung: | K89: Bitte Auswahl treffen | R89: (obligatorisch) | V89: =IF(K89="Bitte Auswahl treffen","Angaben unvollständig","Angaben vollständig") -> Angaben unvollständig | AA89: =IF(V89="Angaben unvollständig",1,0) -> 1 | AF89: =IF(K89=AK89,1,0) -> 0 | AK89: Ich bestätige NICHT den Inhalt der Scientology-Schutzerklärung.
C91: 2.16 Erklärung zum Masernschutz (Ausschlusskriterium) | AK91: Bitte Auswahl treffen
C92: 1.1. Der Bewerber/Bieter versichert, dass alle zur Erfüllung des Vertrags eingesetzten Personen vor Beginn ihrer Tätigkeit die Anforderungen gemäß § 20 Abs. 8 und 9 IfSG erfüllen und sämtliche für die Nachweisführung gem. § 20 Abs. 9 IfSG notwendigen Unterlagen beim Bewerber/Bieter vorliegen. 1.2. Die Abgabe einer wissentlich falschen Erklärung nach Nr. 1.1 berechtigt den Auftraggeber zur Kündigung aus wichtigem Grund ohne Einhaltung einer Frist. 2. Mir/Uns ist bewusst, dass eine Nichtbeachtung dieser Erklärung meinen/unseren Ausschluss von der Teilnahme am Wettbewerb zur Folge haben kann. | AK92: Ich bestätige den Inhalt der Erklärung zum Masernschutz.
C93: Bestätigung der Erklärung zum Masernschutz: | K93: Bitte Auswahl treffen | R93: (obligatorisch) | V93: =IF(K93="Bitte Auswahl treffen","Angaben unvollständig","Angaben vollständig") -> Angaben unvollständig | AA93: =IF(V93="Angaben unvollständig",1,0) -> 1 | AF93: =IF(K93=AK93,1,0) -> 0 | AK93: Ich bestätige NICHT den Inhalt der Erklärung zum Masernschutz.

Sheet 05-erlaubnis-berufsausuebung
R2: zurück zum Teilnahmeantrag
C3: ='00_system'!C6 -> Sicherheitsdienstleistungen | K3: ='00_system'!C13 -> #VALUE!
C4: ='00_system'!C7 -> in den Flüchtlings- und Asylunterkünften des Landkreises Dachau
C6: =IF('00_system'!C8="","",'00_system'!C8)
C8: =CONCATENATE("Vergabenummer: ",'00_system'!C9) -> Vergabenummer: 10-804-242120932-1
C9: =CONCATENATE("Stand: ",'00_system'!C3) -> Stand: 12.10.2026 (v1)
C12: 3. Befähigung und Erlaubnis zur Berufsausübung | R12: Pflichtangabe | V12: Vollständigkeits- kontrolle | AA12: =SUM(AA16:AA17) -> 1
C13: Angabe / Erklärung der Befähigung und Erlaubnis zur Berufsausübung gemäß § 44 VgV.
C15: 3.1 Gewerbeerlaubnis nach § 34a GewO (Ausschlusskriterium)
C16: Es liegt eine gültige Gewerbeerlaubnis für das Bewachungsgewerbe nach § 34a Gewerbeordnung (GewO) vor.
C17: Erteilende Aufsicht- und Erlaubnisbehörde: | R17: (obligatorisch) | V17: =IF(H17="","Angaben unvollständig","Angaben vollständig") -> Angaben unvollständig | AA17: =IF(V17="Angaben unvollständig",1,0) -> 1

Sheet 06_wirtsch_leistungsfaehigkeit
R2: zurück zum Teilnahmeantrag
C3: ='00_system'!C6 -> Sicherheitsdienstleistungen | K3: ='00_system'!C13 -> #VALUE!
C4: ='00_system'!C7 -> in den Flüchtlings- und Asylunterkünften des Landkreises Dachau
C6: =IF('00_system'!C8="","",'00_system'!C8)
C8: =CONCATENATE("Vergabenummer: ",'00_system'!C9) -> Vergabenummer: 10-804-242120932-1
C9: =CONCATENATE("Stand: ",'00_system'!C3) -> Stand: 12.10.2026 (v1)
C12: 4. Wirtschaftliche und finanzielle Leistungsfähigkeit | R12: Pflichtangabe | V12: Vollständigkeits- kontrolle | AA12: =SUM(AA16:AA29) -> 7
C13: Angabe / Erklärung der wirtschaftlichen und finanziellen Leistungsfähigkeit gemäß § 45 VgV.
C15: 4.1 Angaben zu Umsätzen (Ausschlusskriterium)
C16: Umsatz 2025 im Bereich Sicherheitsdienstleistungen: (in Euro) | R16: (obligatorisch) | V16: =IF(G16="","Angaben unvollständig","Angaben vollständig") -> Angaben unvollständig | AA16: =IF(V16="Angaben unvollständig",1,0) -> 1 | AB16: =AA16+AA17+AA18+AA20+AA21+AA22 -> 4
C17: Eigenleistungsanteil 2025: (in %) | R17: (obligatorisch) | V17: =IF(G17="","Angaben unvollständig","Angaben vollständig") -> Angaben unvollständig | AA17: =IF(V17="Angaben unvollständig",1,0) -> 1
C18: Umsatz 2024 im Bereich Sicherheitsdienstleistungen: (in Euro) | R18: (obligatorisch) | V18: =IF(G18="","Angaben unvollständig","Angaben vollständig") -> Angaben unvollständig | AA18: =IF(V18="Angaben unvollständig",1,0) -> 1
C20: Geschäftsjahr: | G20: Bitte Auswahl treffen | R20: (obligatorisch) | V20: =IF(G20="Bitte Auswahl treffen","Angaben unvollständig","Angaben vollständig") -> Angaben unvollständig | AA20: =IF(V20="Angaben unvollständig",1,0) -> 1 | AF20: Bitte Auswahl treffen
G21: beginnt am: | R21: (sofern erforderlich) | V21: =IF(G20=AF22,IF(K21="","Angaben unvollständig","Angaben vollständig"),"Angaben vollständig") -> Angaben vollständig | AA21: =IF(V21="Angaben unvollständig",1,0) -> 0 | AF21: Das Geschäftsjahr entspricht dem Kalenderjahr.
G22: und endet am: | R22: (sofern erforderlich) | V22: =IF(G20=AF22,IF(K22="","Angaben unvollständig","Angaben vollständig"),"Angaben vollständig") -> Angaben vollständig | AA22: =IF(V22="Angaben unvollständig",1,0) -> 0 | AF22: Das Geschäftsjahr entspricht nicht dem Kalenderjahr, es
G23: =TEXT(G16,"#.##")
C24: 4.2 Angaben zur Betriebshaftpflichtversicherung (Ausschlusskriterium) | AF24: Bitte Auswahl treffen
C25: Mindestanforderung an den Versicherungsumfang: Leistungsbereich der Sicherheitsdienstleistungen mit mindestens folgenden Deckungssummen (bei mindestens zweifacher Maximierung je Versicherungsjahr) pro Schadensereignis für - 5.000.000,00 Euro für Personenschäden, - 2.500.000,00 Euro für Sach- und Vermögensschäden, - 1.000.000,00 Euro für Umweltschäden - 500.000,00 Euro für Bearbeitungsschäden, - 250.000,00 Euro für Schlüssel- und Transponderverlust | AF25: Ich erkläre / wir erklären, dass eine Haftpflichtversicherung entsprechend der Vergabe- und Vertragsunterlagen besteht und werde/n diese während des Leistungszeitraumes aufrechterhalten.
C26: Erklärung Betriebshaftpflichtversicherung: | G26: Bitte Auswahl treffen | R26: (obligatorisch) | V26: =IF(G26="Bitte Auswahl treffen","Angaben unvollständig","Angaben vollständig") -> Angaben unvollständig | AA26: =IF(V26="Angaben unvollständig",1,0) -> 1 | AB26: =AA26+AA28+AA29 -> 3 | AF26: Ich erkläre / Wir erklären, dass ich / wir nach Zuschlagserteilung unverzüglich eine Haftpflichtversicherung entsprechend der Vergabe- und Vertragsunterlagen abschließen und diese während des Leistungszeitraumes aufrechterhalten werden.
C28: Versicherungsgesellschaft: | R28: (sofern erforderlich) | V28: =IF(G26=AF26,"Angaben vollständig",IF(G28="","Angaben unvollständig","Angaben vollständig")) -> Angaben unvollständig | AA28: =IF(V28="Angaben unvollständig",1,0) -> 1
C29: Versicherungsnummer: | R29: (sofern erforderlich) | V29: =IF(G26=AF26,"Angaben vollständig",IF(G29="","Angaben unvollständig","Angaben vollständig")) -> Angaben unvollständig | AA29: =IF(V29="Angaben unvollständig",1,0) -> 1

Sheet 07_techn_leistungsfaehigkeit
R2: zurück zum Teilnahmeantrag
C3: ='00_system'!C6 -> Sicherheitsdienstleistungen | K3: ='00_system'!C13 -> #VALUE!
C4: ='00_system'!C7 -> in den Flüchtlings- und Asylunterkünften des Landkreises Dachau
C6: =IF('00_system'!C8="","",'00_system'!C8)
C8: =CONCATENATE("Vergabenummer: ",'00_system'!C9) -> Vergabenummer: 10-804-242120932-1
C9: =CONCATENATE("Stand: ",'00_system'!C3) -> Stand: 12.10.2026 (v1)
C12: 5. Technische und berufliche Leistungsfähigkeit | R12: Pflichtangabe | V12: Vollständigkeits- kontrolle | Z12: Bewertungs- punkte | AE12: =SUM(AE16:AE122) -> 22
C13: Angabe / Erklärung der technischen und beruflichen Leistungsfähigkeit gemäß § 46 VgV.
C15: 5.1 Angaben zu Mitarbeitenden (Ausschlusskriterium) | G15: 2025 | K15: 2024
C16: Mitarbeitende im Bereich Sicherheitsdienstleistungen (gesamt): | R16: (obligatorisch) | V16: =IF(OR(G16="",K16=""),"Angaben unvollständig","Angaben vollständig") -> Angaben unvollständig | AE16: =IF(V16="Angaben unvollständig",1,0) -> 1 | AF16: =AE16+AE17+AE18+AE19 -> 4
C17: davon geprüfte Fachkräfte: (Qualifikationen: Fachkraft für Schutz und Sicherheit, Geprüfte Schutz- und Sicherheitskraft, Meister/in für Schutz und Sicherheit, etc.) | R17: (obligatorisch) | V17: =IF(OR(G17="",K17=""),"Angaben unvollständig","Angaben vollständig") -> Angaben unvollständig | AE17: =IF(V17="Angaben unvollständig",1,0) -> 1
C18: davon Einsatz-/Objektleitungen: | R18: (obligatorisch) | V18: =IF(OR(G18="",K18=""),"Angaben unvollständig","Angaben vollständig") -> Angaben unvollständig | AE18: =IF(V18="Angaben unvollständig",1,0) -> 1
C19: davon Sicherheitskräfte: | R19: (obligatorisch) | V19: =IF(OR(G19="",K19=""),"Angaben unvollständig","Angaben vollständig") -> Angaben unvollständig | AE19: =IF(V19="Angaben unvollständig",1,0) -> 1
G22: =TEXT(G16,"#.##")
C24: Hinweis zu Bewertungskriterien
C25: Die nachfolgenden Eignungskriterien sind B-Kriterien (Bewertungskriterien). Hierzu werden die Angaben des Bewerbers im Teilnahmeantrag entsprechend der erreichten Bewertungspunkte gewertet. Die jeweilige volle Bewertungspunktzahl wird nur in dem Fall erreicht, wenn sämtliche in den nachfolgenden definierten Anforderungen eines B-Kriteriums erfüllt sind und entsprechende Erklärungen/Erläuterungen im Teilnahmeantrag bestätigt sind.
C27: 5.2 Angaben zur Zertifizierung nach DIN 77200-1 (Bewertungskriterium)
C28: Zertifizierung DIN 77200-1: (max. 5 Bewertungspunkte) | G28: Bitte Auswahl treffen | R28: (obligatorisch) | V28: =IF(G28="Bitte Auswahl treffen","Angaben unvollständig","Angaben vollständig") -> Angaben unvollständig | Z28: =IF(G28=AK29,0,IF(G28=AK30,3,IF(G28=AK31,5,0))) -> 0 | AE28: =IF(V28="Angaben unvollständig",1,0) -> 1 | AK28: Bitte Auswahl treffen
G29: Zertifizierungsstelle: | R29: (sofern erforderlich) | V29: =IF(G28=AK31,IF(J29="","Angaben unvollständig","Angaben vollständig"),"Angaben vollständig") -> Angaben vollständig | AE29: =IF(V29="Angaben unvollständig",1,0) -> 0 | AK29: Keine Angaben / keines Vorhanden (0 Punkte)
G30: Ausstelldatum Zertifikat: | R30: (sofern erforderlich) | V30: =IF(G28=AK31,IF(J30="","Angaben unvollständig","Angaben vollständig"),"Angaben vollständig") -> Angaben vollständig | AE30: =IF(V30="Angaben unvollständig",1,0) -> 0 | AK30: Eingeführtes und intern überwachtes Sicherungssystem für die Organisation, Personalführung und Arbeitsweise eines Unternehmens zur Erbringung von Sicherungsdienstleistungen in Anlehnung an die DIN 77200-1 (3 Punkte)
G31: Zertifikatsnummer: | R31: (sofern erforderlich) | V31: =IF(G28=AK31,IF(J31="","Angaben unvollständig","Angaben vollständig"),"Angaben vollständig") -> Angaben vollständig | AE31: =IF(V31="Angaben unvollständig",1,0) -> 0 | AK31: Unternehmen ist nach DIN 77200-1 (oder gleichwertig) zertifiziert (5 Punkte)
J32: =TEXT(J30,"TT.MM.JJJJ") -> 00.01.1900
C33: 5.3 Angaben zum Qualitätsmanagementsystem (Bewertungskriterium)
C34: Qualitätsmanagement: (max. 5 Bewertungspunkte) | G34: Bitte Auswahl treffen | R34: (obligatorisch) | V34: =IF(G34="Bitte Auswahl treffen","Angaben unvollständig","Angaben vollständig") -> Angaben unvollständig | Z34: =IF(G34=AK35,0,IF(G34=AK36,3,IF(G34=AK37,5,0))) -> 0 | AE34: =IF(V34="Angaben unvollständig",1,0) -> 1 | AK34: Bitte Auswahl treffen
G35: Zertifizierungsstelle: | R35: (sofern erforderlich) | V35: =IF(G34=AK37,IF(J35="","Angaben unvollständig","Angaben vollständig"),"Angaben vollständig") -> Angaben vollständig | AE35: =IF(V35="Angaben unvollständig",1,0) -> 0 | AK35: Keine Angaben / keines Vorhanden (0 Punkte)
G36: Ausstelldatum Zertifikat: | R36: (sofern erforderlich) | V36: =IF(G34=AK37,IF(J36="","Angaben unvollständig","Angaben vollständig"),"Angaben vollständig") -> Angaben vollständig | AE36: =IF(V36="Angaben unvollständig",1,0) -> 0 | AK36: Eingeführtes und intern überwachtes Sicherungssystem für das Qualitätsmanagement insbesondere Qualitätssicherung, Reklamations- und Beschwerdemanagement (3 Punkte)
G37: Zertifikatsnummer: | R37: (sofern erforderlich) | V37: =IF(G34=AK37,IF(J37="","Angaben unvollständig","Angaben vollständig"),"Angaben vollständig") -> Angaben vollständig | AE37: =IF(V37="Angaben unvollständig",1,0) -> 0 | AK37: Unternehmen ist nach DIN EN ISO 9001 (oder gleichwertig) zertifiziert (5 Punkte)
J38: =TEXT(J36,"TT.MM.JJJJ") -> 00.01.1900
C39: 5.4 Angaben zum Umweltmanagementsystem (Bewertungskriterium)
C40: Umweltmanagement: (max. 5 Bewertungspunkte) | G40: Bitte Auswahl treffen | R40: (obligatorisch) | V40: =IF(G40="Bitte Auswahl treffen","Angaben unvollständig","Angaben vollständig") -> Angaben unvollständig | Z40: =IF(G40=AK41,0,IF(G40=AK42,3,IF(G40=AK43,5,0))) -> 0 | AE40: =IF(V40="Angaben unvollständig",1,0) -> 1 | AK40: Bitte Auswahl treffen
G41: Zertifizierungsstelle: | R41: (sofern erforderlich) | V41: =IF(G40=AK43,IF(J41="","Angaben unvollständig","Angaben vollständig"),"Angaben vollständig") -> Angaben vollständig | AE41: =IF(V41="Angaben unvollständig",1,0) -> 0 | AK41: Keine Angaben / keines Vorhanden (0 Punkte)
G42: Ausstelldatum Zertifikat: | R42: (sofern erforderlich) | V42: =IF(G40=AK43,IF(J42="","Angaben unvollständig","Angaben vollständig"),"Angaben vollständig") -> Angaben vollständig | AE42: =IF(V42="Angaben unvollständig",1,0) -> 0 | AK42: Eingeführtes und intern überwachtes Sicherungssystem für das Umweltmanagement (3 Punkte)
G43: Zertifikatsnummer: | R43: (sofern erforderlich) | V43: =IF(G40=AK43,IF(J43="","Angaben unvollständig","Angaben vollständig"),"Angaben vollständig") -> Angaben vollständig | AE43: =IF(V43="Angaben unvollständig",1,0) -> 0 | AK43: Unternehmen ist nach DIN EN ISO 14001 (oder gleichwertig) zertifiziert (5 Punkte)
J44: =TEXT(J42,"TT.MM.JJJJ") -> 00.01.1900
C45: 5.5 Angaben zum Arbeitsschutzmanagementsystem (Bewertungskriterium)
C46: Arbeitsschutzmanagement: (max. 5 Bewertungspunkte) | G46: Bitte Auswahl treffen | R46: (obligatorisch) | V46: =IF(G46="Bitte Auswahl treffen","Angaben unvollständig","Angaben vollständig") -> Angaben unvollständig | Z46: =IF(G46=AK47,0,IF(G46=AK48,3,IF(G46=AK49,5,0))) -> 0 | AE46: =IF(V46="Angaben unvollständig",1,0) -> 1 | AK46: Bitte Auswahl treffen
G47: Zertifizierungsstelle: | R47: (sofern erforderlich) | V47: =IF(G46=AK49,IF(J47="","Angaben unvollständig","Angaben vollständig"),"Angaben vollständig") -> Angaben vollständig | AE47: =IF(V47="Angaben unvollständig",1,0) -> 0 | AK47: Keine Angaben / keines Vorhanden (0 Punkte)
G48: Ausstelldatum Zertifikat: | R48: (sofern erforderlich) | V48: =IF(G46=AK49,IF(J48="","Angaben unvollständig","Angaben vollständig"),"Angaben vollständig") -> Angaben vollständig | AE48: =IF(V48="Angaben unvollständig",1,0) -> 0 | AK48: Eingeführtes und intern überwachtes Sicherungssystem für das Arbeitsschutzmanagement (3 Punkte)
G49: Zertifikatsnummer: | R49: (sofern erforderlich) | V49: =IF(G46=AK49,IF(J49="","Angaben unvollständig","Angaben vollständig"),"Angaben vollständig") -> Angaben vollständig | AE49: =IF(V49="Angaben unvollständig",1,0) -> 0 | AK49: Unternehmen ist nach ISO 45001, OHRIS, SCC, AMS Bau (oder gleichwertig) zertifiziert (5 Punkte) | AO49: Angaben unvollständig | AP49: 0
J50: =TEXT(J48,"TT.MM.JJJJ") -> 00.01.1900 | AK50: Bitte Auswahl treffen | AO50: Bitte Auswahl treffen | AP50: 0
C51: 5.6 Angaben zur technischen Fachkraft, die mit der Qualitätskontrolle beauftragt ist (Bewertungskriterium) | AK51: keine Angabe oder Qualifikation, welche nicht dem Bewachungsgewerbe zuzuordnen ist. (0 Punkte) | AO51: keine Angabe oder Qualifikation, welche nicht dem Bewachungsgewerbe zuzuordnen ist | AP51: 0
C52: Technische Fachkraft Qualitätskontrolle: (max. 5 Bewertungspunkte) | G52: Bitte Auswahl treffen | R52: (obligatorisch) | V52: =IF(G52="Bitte Auswahl treffen","Angaben unvollständig","Angaben vollständig") -> Angaben unvollständig | Z52: =IF(G52=AK51,0,IF(G52=AK52,2,IF(G52=AK53,3,IF(G52=AK54,4,IF(G52=AK55,5,0))))) -> 0 | AE52: =IF(V52="Angaben unvollständig",1,0) -> 1 | AK52: Weist eine Qualifikation im Bewachungsgewerbe auf, welche nachfolgend (3 bis 5) nicht aufgelistet ist (z. B. Sachkundeprüfung nach § 34a GewO). (2 Punkte) | AO52: Weist eine Qualifikation im Bewachungsgewerbe auf, welche nachfolgend (3 bis 5) nicht aufgelistet ist (z. B. Sachkundeprüfung nach § 34a GewO) | AP52: 2
AK53: Weist die Qualifikation als Geprüfte Schutz- und Sicherheitskraft bzw. Servicekraft für Schutz und Sicherheit auf (3 Punkte) | AO53: Weist die Qualifikation als Geprüfte Schutz- und Sicherheitskraft bzw. Servicekraft für Schutz und Sicherheit auf | AP53: 3
C54: 5.7 Angaben zu Betriebsleitung, Fach- und Führungskräften (Bewertungskriterium) | AK54: Weist die Qualifikation als Fachkraft für Schutz und Sicherheit (IHK-Prüfung) auf (4 Punkte) | AO54: Weist die Qualifikation als Fachkraft für Schutz und Sicherheit (IHK-Prüfung) auf (4 Punkte) | AP54: 4
C55: Betriebsleitung, Fach- und Führungskräften: (max. 5 Bewertungspunkte) | G55: Bitte Auswahl treffen | R55: (obligatorisch) | V55: =IF(G55="Bitte Auswahl treffen","Angaben unvollständig","Angaben vollständig") -> Angaben unvollständig | Z55: =IF(G55=AK57,0,IF(G55=AK58,3,IF(G55=AK59,4,IF(G55=AK60,5,0)))) -> 0 | AE55: =IF(V55="Angaben unvollständig",1,0) -> 1 | AK55: Weist die Qualifikation als Meister/in für Schutz und Sicherheit (IHK-Meisterprüfung) oder eine vergleichbare Qualifikation auf (5 Punkte) | AO55: Weist die Qualifikation als Meister/in für Schutz und Sicherheit (IHK-Meisterprüfung) oder eine vergleichbare Qualifikation auf | AP55: 5
AK56: Bitte Auswahl treffen | AO56: Bitte Auswahl treffen | AP56: 0
C57: Vorbemerkung zu den nachfolgenden Referenzangaben | AK57: keine Angabe oder weniger als zwei qualifizierte Fach- und Führungskräfte (0 Punkte) | AO57: keine Angabe oder weniger als zwei qualifizierte Fach- und Führungskräfte | AP57: 0
C58: Im Rahmen der Wertung der Teilnahmeanträge verifiziert der Auftraggeber die durch den Bewerber angegebenen Referenzen sowie insbesondere die wertungsrelevanten Referenzangaben. Die Verarbeitung der personenbezogenen Daten aus der Referenzabfrage beruht auf Artikel 6 Absatz 1 Buchstabe c und e DSGVO. Sie ergibt sich aus der Verpflichtung des öffentlichen Auftraggebers, die Gesetze und Verordnungen des Vergaberechts zwingend anzuwenden. Auf die Angaben der Referenzabfrage kann insoweit nicht verzichtet werden. Wichtiger Hinweis: Nur Referenzangaben, die vollständig und innerhalb der nachfolgenden Textfelder eingetragen sind, werden in die Wertung des Teilnahmeantrags einbezogen. Unvollständige oder außerhalb dieser Textfelder befindliche Angaben bleiben unberücksichtigt. | AK58: Für die Auftragsausführung stehen mindestens zwei (2) qualifizierte Fach- und Führungskräfte (z. B. Meister/in für Schutz und Sicherheit, Fachkraft für Schutz und Sicherheit, etc.) zur Verfügung (3 Punkte) | AO58: Für die Auftragsausführung stehen mindestens zwei (2) qualifizierte Fach- und Führungskräfte (z. B. Meister/in für Schutz und Sicherheit, Fachkraft für Schutz und Sicherheit, etc.) zur Verfügung | AP58: 3
AK59: Für die Auftragsausführung stehen mindestens drei (3) qualifizierte Fach- und Führungskräfte (z. B. Meister/in für Schutz und Sicherheit, Fachkraft für Schutz und Sicherheit, etc.) zur Verfügung (4 Punkte) | AO59: Für die Auftragsausführung stehen mindestens drei (3) qualifizierte Fach- und Führungskräfte (z. B. Meister/in für Schutz und Sicherheit, Fachkraft für Schutz und Sicherheit, etc.) zur Verfügung | AP59: 4
C60: 5.8 Referenzangaben / Mindestanforderungen (Bewertungskriterium) | AK60: Für die Auftragsausführung stehen mindestens vier (4) oder mehr qualifizierte Fach- und Führungskräfte (z. B. Meister/in für Schutz und Sicherheit, Fachkraft für Schutz und Sicherheit, etc.) zur Verfügung (5 Punkte) | AO60: Für die Auftragsausführung stehen mindestens vier (4) oder mehr qualifizierte Fach- und Führungskräfte (z. B. Meister/in für Schutz und Sicherheit, Fachkraft für Schutz und Sicherheit, etc.) zur Verfügung | AP60: 5
C61: ='01_aufforderung tnw'!D98 -> Referenzangaben Zum Nachweis der Eignung ist mindestens eine Referenz, die alle nachfolgenden Mindestanforderungen kumulativ erfüllt, anzugeben. Diese Mindestreferenz erhält 5 Bewertungspunkte. Wird keine Referenz angegeben, die alle Mindestanforderungen erfüllt, wird der Teilnahmeantrag ausgeschlossen. Bewerber können darüber hinaus bis zu zwei weiteren Referenzen angeben. Erfüllen diese alle nachfolgenden Mindestanforderungen kumulativ, erhält jede Referenz 5 Bewertungspunkte. Mindestanforderungen: a) Der Referenzauftrag umfasste Sicherheits- bzw. Bewachungsleistungen in einer Flüchtlings-, Asyl- oder vergleichbaren Gemeinschaftsunterkunft (vergleichbar ist jede Gemeinschaftsunterbringung von Personen mit Wohn- und Übernachtungsfunktion, insbesondere Aufnahmeeinrichtungen, Notunterkünfte und Unterkünfte für Wohnungslose) b) Die Kapazität der im Referenzauftrag bewachten Unterkünfte beträgt insgesamt mindestens 100 Plätze c) Die Leistungserbringung im Referenzauftrag dauert noch an oder wurde nicht früher als 36 Monate vor dem Tag der Absendung der EU-Bekanntmachung (12.10.2026) beendet. d) Die Leistungserbringung im Referenzauftrag umfasst einen zusammenhängenden Zeitraum von mindestens 12 Monaten; bei laufenden Aufträgen wird bis zum Tag der Absendung der EU-Bekanntmachung (12.10.2026) gerechnet. | AO61: Angaben unvollständig | AP61: 0
C62: ='01_aufforderung tnw'!D99 -> Bewerber können zusätzliche Bewertungspunkte (5 Bewertungspunkte je Referenz, folglich bis zu 15 Bewertungspunkte in Summe) erzielen, indem die Referenzen neben den vorstehenden Mindestanforderungen folgende zusätzliche Anforderungen erfüllen. Bei der Objektart wird je Referenz ausschließlich die zutreffende Stufe gewertet; die Punkte für Objektart und Kapazität werden addiert. Zusätzliche Bewertungspunkte: 1 Punkt: Der Referenzauftrag umfasste die Bewachung von einem oder zwei Standorten von Flüchtlings- oder Asylunterkünften. 2 Punkte: Der Referenzauftrag umfasste die Bewachung mehrerer Flüchtlings- oder Asylunterkünfte (mindestens drei Standorte) im Rahmen eines Auftrags. 3 Punkte: Der Referenzauftrag umfasste die Bewachung mehrerer Flüchtlings- oder Asylunterkünfte (mindestens drei Standorte) im Rahmen eines Auftrags, darunter dezentrale Unterkünfte, die mobil bestreift wurden. 2 Punkte: Die Kapazität der im Referenzauftrag bewachten Unterkünfte beträgt insgesamt mindestens 150 Plätze.
C64: 5.8.1 Angaben zu Referenz Nr. 1 (Bewertungskriterium)
C65: Name des Auftraggebers: | R65: (obligatorisch) | V65: =IF(G65="","Angaben unvollständig","Angaben vollständig") -> Angaben unvollständig | AE65: =IF(V65="Angaben unvollständig",1,0) -> 1
C66: Ort des Auftraggebers: | R66: (obligatorisch) | V66: =IF(G66="","Angaben unvollständig","Angaben vollständig") -> Angaben unvollständig | AE66: =IF(V66="Angaben unvollständig",1,0) -> 1
C67: Ansprechpartner beim Auftraggeber: | R67: (obligatorisch) | V67: =IF(G67="","Angaben unvollständig","Angaben vollständig") -> Angaben unvollständig | AE67: =IF(V67="Angaben unvollständig",1,0) -> 1
C68: Telefon des Auftraggebers: | R68: (obligatorisch) | V68: =IF(G68="","Angaben unvollständig","Angaben vollständig") -> Angaben unvollständig | AE68: =IF(V68="Angaben unvollständig",1,0) -> 1
C69: E-Mail des Auftraggebers: | R69: (obligatorisch) | V69: =IF(G69="","Angaben unvollständig","Angaben vollständig") -> Angaben unvollständig | AE69: =IF(V69="Angaben unvollständig",1,0) -> 1 | AK69: =TEXT(G74,"MM/JJJJ") -> 01/1900
C70: Kurze Projektbeschreibung: (Beschreibung der bewachten Liegenschaft/en) | R70: (obligatorisch) | V70: =IF(G70="","Angaben unvollständig","Angaben vollständig") -> Angaben unvollständig | AE70: =IF(V70="Angaben unvollständig",1,0) -> 1 | AK70: Bitte Auswahl treffen
C71: Objektart / Objekttyp: | G71: Bitte Auswahl treffen | R71: (obligatorisch) | V71: =IF(G71="Bitte Auswahl treffen","Angaben unvollständig","Angaben vollständig") -> Angaben unvollständig | Z71: =IF(G71=AK71,AI71,IF(G71=AK72,AI72,IF(G71=AK73,AI73,0))) -> 0 | AE71: =IF(V71="Angaben unvollständig",1,0) -> 1 | AI71: ='00_system'!$F$48 -> 1 | AK71: ='00_system'!$G$48 -> Ein oder zwei Standorte (Flüchtlings- oder Asylunterkunft)
G72: Sonstiges: | R72: (sofern erforderlich) | AI72: ='00_system'!$F$49 -> 2 | AK72: ='00_system'!$G$49 -> Mehrere Flüchtlings- oder Asylunterkünfte (mindestens drei Standorte)
C73: Kapazität der bewachten Unterkünfte insgesamt: (Anzahl Plätze) | R73: (obligatorisch) | V73: =IF(G73="","Angaben unvollständig","Angaben vollständig") -> Angaben unvollständig | Z73: =AK79 -> 0 | AE73: =IF(V73="Angaben unvollständig",1,0) -> 1 | AI73: ='00_system'!$F$50 -> 3 | AK73: ='00_system'!$G$50 -> Mehrere Unterkünfte einschließlich mobil bestreifter dezentraler Unterkünfte
C74: Leistungsbeginn (Monat/Jahr) | R74: (obligatorisch) | V74: =IF(G74="","Angaben unvollständig","Angaben vollständig") -> Angaben unvollständig | AE74: =IF(V74="Angaben unvollständig",1,0) -> 1 | AK74: Vergleichbare Gemeinschaftsunterkunft (0 Zusatzpunkte)
C75: Leistungsende (Monat/Jahr; bei laufendem Auftrag leer lassen) | R75: (sofern beendet) | V75: ="Angaben vollständig" -> Angaben vollständig | AE75: =IF(V75="Angaben unvollständig",1,0) -> 0 | AK75: =TEXT(G73,"#.##")
C76: Zahl der eingesetzten Mitarbeitenden im Referenzobjekt (nur ganze Zahlen eintragen) | G76: Objektleitung: | R76: (obligatorisch) | V76: =IF(J76="","Angaben unvollständig","Angaben vollständig") -> Angaben unvollständig | AE76: =IF(V76="Angaben unvollständig",1,0) -> 1 | AI76: ='00_system'!$F$51 -> 2 | AK76: ='00_system'!$G$51 -> 150
G77: Schichtleitung: | R77: (sofern erforderlich) | AK77: ='00_system'!$H$51 -> 100000
G78: Sicherheitskräfte: | R78: (obligatorisch) | V78: =IF(J78="","Angaben unvollständig","Angaben vollständig") -> Angaben unvollständig | AE78: =IF(V78="Angaben unvollständig",1,0) -> 1 | AI78: =IF(AK78>='00_system'!$G$43,"OK",FALSE) -> FALSE | AJ78: =IF(AI78="OK",0,1) -> 1 | AK78: =G73 -> 0
G79: Sonstiges Personal: | R79: (sofern erforderlich) | AK79: =IF(AK78<AK77,IF(AK76<=AK78,AI76,0),0) -> 0
C80: Objektbesonderheiten: | R80: (obligatorisch) | V80: =IF(G80="","Angaben unvollständig","Angaben vollständig") -> Angaben unvollständig | AE80: =IF(V80="Angaben unvollständig",1,0) -> 1 | AI80: =IF(OR(G75="",ISTEXT(G75),AK80<=EOMONTH(G75,0)),"OK","FEHLER") -> OK | AJ80: =IF(AI80="OK",0,1) -> 0 | AK80: ='00_system'!$G$44 -> 45211
C81: Angaben zum eingesetzten Qualitätssicherungssystem: | R81: (freiwillige Angabe) | V81: ="Angaben vollständig" -> Angaben vollständig | AE81: =IF(V81="Angaben unvollständig",1,0) -> 0 | AI81: =IF(EDATE(G74,12)<=IF(OR(G75="",ISTEXT(G75)),'00_system'!$C$39,EOMONTH(G75,0)+1),"OK","FEHLER") -> OK | AJ81: =IF(AI81="OK",0,1) -> 0 | AK81: ='00_system'!$G$45 -> 45942
C82: Angaben zu Maßnahmen für den Umweltschutz: | R82: (freiwillige Angabe) | V82: ="Angaben vollständig" -> Angaben vollständig | AE82: =IF(V82="Angaben unvollständig",1,0) -> 0 | AI82: =IF(AJ82=0,"ja","nein") -> nein | AJ82: =AJ78+AJ80+AJ81 -> 1 | AK82: Referenzangaben erfüllen die Mindestanforderung
C84: 5.8.2 Angaben zu Referenz Nr. 2 (Bewertungskriterium) | AF84: =IF(OR(G85<>"",G86<>"",G87<>"",G88<>"",G89<>"",G90<>"",G91<>"Bitte Auswahl treffen",G93<>"",G94<>"",G95<>"",J96<>"",J97<>"",J98<>"",J99<>"",G100<>"",G101<>"",G102<>""),1,0) -> 0
C85: Name des Auftraggebers: | R85: (sofern Referenz angegeben) | V85: =IF($AF$84=0,"Angaben vollständig",IF(G85="","Angaben unvollständig","Angaben vollständig")) -> Angaben vollständig | AE85: =IF(V85="Angaben unvollständig",1,0) -> 0
C86: Ort des Auftraggebers: | R86: (sofern Referenz angegeben) | V86: =IF($AF$84=0,"Angaben vollständig",IF(G86="","Angaben unvollständig","Angaben vollständig")) -> Angaben vollständig | AE86: =IF(V86="Angaben unvollständig",1,0) -> 0
C87: Ansprechpartner beim Auftraggeber: | R87: (sofern Referenz angegeben) | V87: =IF($AF$84=0,"Angaben vollständig",IF(G87="","Angaben unvollständig","Angaben vollständig")) -> Angaben vollständig | AE87: =IF(V87="Angaben unvollständig",1,0) -> 0
C88: Telefon des Auftraggebers: | R88: (sofern Referenz angegeben) | V88: =IF($AF$84=0,"Angaben vollständig",IF(G88="","Angaben unvollständig","Angaben vollständig")) -> Angaben vollständig | AE88: =IF(V88="Angaben unvollständig",1,0) -> 0
C89: E-Mail des Auftraggebers: | R89: (sofern Referenz angegeben) | V89: =IF($AF$84=0,"Angaben vollständig",IF(G89="","Angaben unvollständig","Angaben vollständig")) -> Angaben vollständig | AE89: =IF(V89="Angaben unvollständig",1,0) -> 0 | AK89: =TEXT(G94,"MM/JJJJ") -> 01/1900
C90: Kurze Projektbeschreibung: (Beschreibung der bewachten Liegenschaft/en) | R90: (sofern Referenz angegeben) | V90: =IF($AF$84=0,"Angaben vollständig",IF(G90="","Angaben unvollständig","Angaben vollständig")) -> Angaben vollständig | AE90: =IF(V90="Angaben unvollständig",1,0) -> 0 | AK90: Bitte Auswahl treffen
C91: Objektart / Objekttyp: | G91: Bitte Auswahl treffen | R91: (sofern Referenz angegeben) | V91: =IF($AF$84=0,"Angaben vollständig",IF(G91="Bitte Auswahl treffen","Angaben unvollständig","Angaben vollständig")) -> Angaben vollständig | Z91: =IF(G91=AK91,AI91,IF(G91=AK92,AI92,IF(G91=AK93,AI93,0))) -> 0 | AE91: =IF(V91="Angaben unvollständig",1,0) -> 0 | AI91: ='00_system'!$F$48 -> 1 | AK91: ='00_system'!$G$48 -> Ein oder zwei Standorte (Flüchtlings- oder Asylunterkunft)
G92: Sonstiges: | R92: (sofern erforderlich) | AI92: ='00_system'!$F$49 -> 2 | AK92: ='00_system'!$G$49 -> Mehrere Flüchtlings- oder Asylunterkünfte (mindestens drei Standorte)
C93: Kapazität der bewachten Unterkünfte insgesamt: (Anzahl Plätze) | R93: (sofern Referenz angegeben) | V93: =IF($AF$84=0,"Angaben vollständig",IF(G93="","Angaben unvollständig","Angaben vollständig")) -> Angaben vollständig | Z93: =AK99 -> 0 | AE93: =IF(V93="Angaben unvollständig",1,0) -> 0 | AI93: ='00_system'!$F$50 -> 3 | AK93: ='00_system'!$G$50 -> Mehrere Unterkünfte einschließlich mobil bestreifter dezentraler Unterkünfte
C94: Leistungsbeginn (Monat/Jahr) | R94: (sofern Referenz angegeben) | V94: =IF($AF$84=0,"Angaben vollständig",IF(G94="","Angaben unvollständig","Angaben vollständig")) -> Angaben vollständig | AE94: =IF(V94="Angaben unvollständig",1,0) -> 0 | AK94: Vergleichbare Gemeinschaftsunterkunft (0 Zusatzpunkte)
C95: Leistungsende (Monat/Jahr; bei laufendem Auftrag leer lassen) | R95: (sofern beendet) | V95: ="Angaben vollständig" -> Angaben vollständig | AE95: =IF(V95="Angaben unvollständig",1,0) -> 0 | AK95: =TEXT(G93,"#.##")
C96: Zahl der eingesetzten Mitarbeitenden im Referenzobjekt (nur ganze Zahlen eintragen) | G96: Objektleitung: | R96: (sofern Referenz angegeben) | V96: =IF($AF$84=0,"Angaben vollständig",IF(J96="","Angaben unvollständig","Angaben vollständig")) -> Angaben vollständig | AE96: =IF(V96="Angaben unvollständig",1,0) -> 0 | AI96: ='00_system'!$F$51 -> 2 | AK96: ='00_system'!$G$51 -> 150
G97: Schichtleitung: | R97: (sofern erforderlich) | AK97: ='00_system'!$H$51 -> 100000
G98: Sicherheitskräfte: | R98: (sofern Referenz angegeben) | V98: =IF($AF$84=0,"Angaben vollständig",IF(J98="","Angaben unvollständig","Angaben vollständig")) -> Angaben vollständig | AE98: =IF(V98="Angaben unvollständig",1,0) -> 0 | AI98: =IF(AK98>='00_system'!$G$43,"OK",FALSE) -> FALSE | AJ98: =IF(AI98="OK",0,1) -> 1 | AK98: =G93 -> 0
G99: Sonstiges Personal: | R99: (sofern erforderlich) | AK99: =IF(AK98<AK97,IF(AK96<=AK98,AI96,0),0) -> 0
C100: Objektbesonderheiten: | R100: (sofern Referenz angegeben) | V100: =IF($AF$84=0,"Angaben vollständig",IF(G100="","Angaben unvollständig","Angaben vollständig")) -> Angaben vollständig | AE100: =IF(V100="Angaben unvollständig",1,0) -> 0 | AI100: =IF(OR(G95="",ISTEXT(G95),AK100<=EOMONTH(G95,0)),"OK","FEHLER") -> OK | AJ100: =IF(AI100="OK",0,1) -> 0 | AK100: ='00_system'!$G$44 -> 45211
C101: Angaben zum eingesetzten Qualitätssicherungssystem: | R101: (freiwillige Angabe) | V101: ="Angaben vollständig" -> Angaben vollständig | AE101: =IF(V101="Angaben unvollständig",1,0) -> 0 | AI101: =IF(EDATE(G94,12)<=IF(OR(G95="",ISTEXT(G95)),'00_system'!$C$39,EOMONTH(G95,0)+1),"OK","FEHLER") -> OK | AJ101: =IF(AI101="OK",0,1) -> 0 | AK101: ='00_system'!$G$45 -> 45942
C102: Angaben zu Maßnahmen für den Umweltschutz: | R102: (freiwillige Angabe) | V102: ="Angaben vollständig" -> Angaben vollständig | AE102: =IF(V102="Angaben unvollständig",1,0) -> 0 | AI102: =IF(AJ102=0,"ja","nein") -> nein | AJ102: =AJ98+AJ100+AJ101 -> 1 | AK102: Referenzangaben erfüllen die Mindestanforderung
C104: 5.8.3 Angaben zu Referenz Nr. 3 (Bewertungskriterium) | AF104: =IF(OR(G105<>"",G106<>"",G107<>"",G108<>"",G109<>"",G110<>"",G111<>"Bitte Auswahl treffen",G113<>"",G114<>"",G115<>"",J116<>"",J117<>"",J118<>"",J119<>"",G120<>"",G121<>"",G122<>""),1,0) -> 0
C105: Name des Auftraggebers: | R105: (sofern Referenz angegeben) | V105: =IF($AF$104=0,"Angaben vollständig",IF(G105="","Angaben unvollständig","Angaben vollständig")) -> Angaben vollständig | AE105: =IF(V105="Angaben unvollständig",1,0) -> 0
C106: Ort des Auftraggebers: | R106: (sofern Referenz angegeben) | V106: =IF($AF$104=0,"Angaben vollständig",IF(G106="","Angaben unvollständig","Angaben vollständig")) -> Angaben vollständig | AE106: =IF(V106="Angaben unvollständig",1,0) -> 0
C107: Ansprechpartner beim Auftraggeber: | R107: (sofern Referenz angegeben) | V107: =IF($AF$104=0,"Angaben vollständig",IF(G107="","Angaben unvollständig","Angaben vollständig")) -> Angaben vollständig | AE107: =IF(V107="Angaben unvollständig",1,0) -> 0
C108: Telefon des Auftraggebers: | R108: (sofern Referenz angegeben) | V108: =IF($AF$104=0,"Angaben vollständig",IF(G108="","Angaben unvollständig","Angaben vollständig")) -> Angaben vollständig | AE108: =IF(V108="Angaben unvollständig",1,0) -> 0
C109: E-Mail des Auftraggebers: | R109: (sofern Referenz angegeben) | V109: =IF($AF$104=0,"Angaben vollständig",IF(G109="","Angaben unvollständig","Angaben vollständig")) -> Angaben vollständig | AE109: =IF(V109="Angaben unvollständig",1,0) -> 0 | AK109: =TEXT(G114,"MM/JJJJ") -> 01/1900
C110: Kurze Projektbeschreibung: (Beschreibung der bewachten Liegenschaft/en) | R110: (sofern Referenz angegeben) | V110: =IF($AF$104=0,"Angaben vollständig",IF(G110="","Angaben unvollständig","Angaben vollständig")) -> Angaben vollständig | AE110: =IF(V110="Angaben unvollständig",1,0) -> 0 | AK110: Bitte Auswahl treffen
C111: Objektart / Objekttyp: | G111: Bitte Auswahl treffen | R111: (sofern Referenz angegeben) | V111: =IF($AF$104=0,"Angaben vollständig",IF(G111="Bitte Auswahl treffen","Angaben unvollständig","Angaben vollständig")) -> Angaben vollständig | Z111: =IF(G111=AK111,AI111,IF(G111=AK112,AI112,IF(G111=AK113,AI113,0))) -> 0 | AE111: =IF(V111="Angaben unvollständig",1,0) -> 0 | AI111: ='00_system'!$F$48 -> 1 | AK111: ='00_system'!$G$48 -> Ein oder zwei Standorte (Flüchtlings- oder Asylunterkunft)
G112: Sonstiges: | R112: (sofern erforderlich) | AI112: ='00_system'!$F$49 -> 2 | AK112: ='00_system'!$G$49 -> Mehrere Flüchtlings- oder Asylunterkünfte (mindestens drei Standorte)
C113: Kapazität der bewachten Unterkünfte insgesamt: (Anzahl Plätze) | R113: (sofern Referenz angegeben) | V113: =IF($AF$104=0,"Angaben vollständig",IF(G113="","Angaben unvollständig","Angaben vollständig")) -> Angaben vollständig | Z113: =AK119 -> 0 | AE113: =IF(V113="Angaben unvollständig",1,0) -> 0 | AI113: ='00_system'!$F$50 -> 3 | AK113: ='00_system'!$G$50 -> Mehrere Unterkünfte einschließlich mobil bestreifter dezentraler Unterkünfte
...

Sheet 08_formblatt-234
R2: zurück zum Teilnahmeantrag
C3: ='00_system'!C6 -> Sicherheitsdienstleistungen | K3: ='00_system'!C13 -> #VALUE!
C4: ='00_system'!C7 -> in den Flüchtlings- und Asylunterkünften des Landkreises Dachau
C6: =IF('00_system'!C8="","",'00_system'!C8)
C8: =CONCATENATE("Vergabenummer: ",'00_system'!C9) -> Vergabenummer: 10-804-242120932-1
C9: =CONCATENATE("Stand: ",'00_system'!C3) -> Stand: 12.10.2026 (v1)
C12: Erklärung Bewerber-/Bieter-/Arbeitsgemeinschaft (Formblatt 234) | R12: Pflichtangabe | V12: Vollständigkeits- kontrolle | AA12: =SUM(AA15:AA36) -> 8
C13: Wir, die nachstehend aufgeführten Unternehmen einer Bietergemeinschaft,
C15: Bevollmächtigter Vertreter: (Angabe von Firmenname, Anschrift sowie dem gesetzlicher Vertreter) | R15: (obligatorisch) | V15: =IF(H15="","Angaben unvollständig","Angaben vollständig") -> Angaben unvollständig | AA15: =IF(V15="Angaben unvollständig",1,0) -> 1
C16: Weiteres Mitglied 1: (Angabe von Firmenname, Anschrift sowie dem gesetzlicher Vertreter) | R16: (obligatorisch) | V16: =IF(H16="","Angaben unvollständig","Angaben vollständig") -> Angaben unvollständig | AA16: =IF(V16="Angaben unvollständig",1,0) -> 1
C17: Weiteres Mitglied 2: (Angabe von Firmenname, Anschrift sowie dem gesetzlicher Vertreter) | R17: (sofern erforderlich)
C18: Weiteres Mitglied 3: (Angabe von Firmenname, Anschrift sowie dem gesetzlicher Vertreter) | R18: (sofern erforderlich)
C20: beschließen, im Falle der Auftragserteilung eine Arbeitsgemeinschaft zu bilden und erklären, dass der bevollmächtigte Vertreter die Mitglieder gegenüber dem Auftraggeber rechtsverbindlich vertritt, zur Entgegennahme der Zahlungen mit befreiender Wirkung berechtigt ist und alle Mitglieder als Gesamtschuldner haften.
C22: Bevollmächtigter Vertreter | F22: Ort: | R22: (obligatorisch) | V22: =IF(J22="","Angaben unvollständig","Angaben vollständig") -> Angaben unvollständig | AA22: =IF(V22="Angaben unvollständig",1,0) -> 1
F23: Datum: | R23: (obligatorisch) | V23: =IF(J23="","Angaben unvollständig","Angaben vollständig") -> Angaben unvollständig | AA23: =IF(V23="Angaben unvollständig",1,0) -> 1
F24: Name des Erklärenden im Sinne des § 126b BGB: | R24: (obligatorisch) | V24: =IF(J24="","Angaben unvollständig","Angaben vollständig") -> Angaben unvollständig | AA24: =IF(V24="Angaben unvollständig",1,0) -> 1
C26: Weiteres Mitglied 1 | F26: Ort: | R26: (obligatorisch) | V26: =IF(J26="","Angaben unvollständig","Angaben vollständig") -> Angaben unvollständig | AA26: =IF(V26="Angaben unvollständig",1,0) -> 1
F27: Datum: | R27: (obligatorisch) | V27: =IF(J27="","Angaben unvollständig","Angaben vollständig") -> Angaben unvollständig | AA27: =IF(V27="Angaben unvollständig",1,0) -> 1
F28: Name des Erklärenden im Sinne des § 126b BGB: | R28: (obligatorisch) | V28: =IF(J28="","Angaben unvollständig","Angaben vollständig") -> Angaben unvollständig | AA28: =IF(V28="Angaben unvollständig",1,0) -> 1
C30: Weiteres Mitglied 2 | F30: Ort: | R30: (sofern erforderlich)
F31: Datum: | R31: (sofern erforderlich)
F32: Name des Erklärenden im Sinne des § 126b BGB: | R32: (sofern erforderlich)
C34: Weiteres Mitglied 3 | F34: Ort: | R34: (sofern erforderlich)
F35: Datum: | R35: (sofern erforderlich)
F36: Name des Erklärenden im Sinne des § 126b BGB: | R36: (sofern erforderlich)

Sheet 09_formblatt-233
R2: zurück zum Teilnahmeantrag
C3: ='00_system'!C6 -> Sicherheitsdienstleistungen | K3: ='00_system'!C13 -> #VALUE!
C4: ='00_system'!C7 -> in den Flüchtlings- und Asylunterkünften des Landkreises Dachau
C6: =IF('00_system'!C8="","",'00_system'!C8)
C8: =CONCATENATE("Vergabenummer: ",'00_system'!C9) -> Vergabenummer: 10-804-242120932-1
C9: =CONCATENATE("Stand: ",'00_system'!C3) -> Stand: 12.10.2026 (v1)
C12: Verzeichnis Nachunternehmerleistungen (Formblatt 233) | R12: Pflichtangabe | V12: Vollständigkeits- kontrolle | AA12: =SUM(AA15:AA18) -> 4
C13: Zur Ausführung der im Angebot enthaltenen Leistungen benenne(n) ich/wir Art und Umfang der durch Nachunternehmer auszuführenden Teilleistungen der Leistungsbeschreibung und die Namen der Nachunternehmer:
C15: Lfd. Nr. 1 | F15: Leistungsbereich: | R15: (obligatorisch) | V15: =IF(J15="","Angaben unvollständig","Angaben vollständig") -> Angaben unvollständig | AA15: =IF(V15="Angaben unvollständig",1,0) -> 1
F16: Beschreibung der Teilleistung: | R16: (obligatorisch) | V16: =IF(J16="","Angaben unvollständig","Angaben vollständig") -> Angaben unvollständig | AA16: =IF(V16="Angaben unvollständig",1,0) -> 1 | AE16: Bitte Auswahl treffen
F17: Name des Nachunternehmers: | R17: (obligatorisch) | V17: =IF(J17="","Angaben unvollständig","Angaben vollständig") -> Angaben unvollständig | AA17: =IF(V17="Angaben unvollständig",1,0) -> 1 | AE17: ja
F18: Mein/Unser Betrieb ist auf die Leistung eingerichtet: | R18: (obligatorisch) | V18: =IF(J18="","Angaben unvollständig","Angaben vollständig") -> Angaben unvollständig | AA18: =IF(V18="Angaben unvollständig",1,0) -> 1 | AE18: nein
C20: Lfd. Nr. 2 | F20: Leistungsbereich: | R20: (sofern erforderlich)
F21: Beschreibung der Teilleistung: | R21: (sofern erforderlich)
F22: Name des Nachunternehmers: | R22: (sofern erforderlich)
F23: Mein/Unser Betrieb ist auf die Leistung eingerichtet: | R23: (sofern erforderlich)
C25: Lfd. Nr. 3 | F25: Leistungsbereich: | R25: (sofern erforderlich)
F26: Beschreibung der Teilleistung: | R26: (sofern erforderlich)
F27: Name des Nachunternehmers: | R27: (sofern erforderlich)
F28: Mein/Unser Betrieb ist auf die Leistung eingerichtet: | R28: (sofern erforderlich)
C30: Lfd. Nr. 4 | F30: Leistungsbereich: | R30: (sofern erforderlich)
F31: Beschreibung der Teilleistung: | R31: (sofern erforderlich)
F32: Name des Nachunternehmers: | R32: (sofern erforderlich)
F33: Mein/Unser Betrieb ist auf die Leistung eingerichtet: | R33: (sofern erforderlich)
C35: Lfd. Nr. 5 | F35: Leistungsbereich: | R35: (sofern erforderlich)
F36: Beschreibung der Teilleistung: | R36: (sofern erforderlich)
F37: Name des Nachunternehmers: | R37: (sofern erforderlich)
F38: Mein/Unser Betrieb ist auf die Leistung eingerichtet: | R38: (sofern erforderlich)

Sheet 10_formblatt-235
R2: zurück zum Teilnahmeantrag
C3: ='00_system'!C6 -> Sicherheitsdienstleistungen | K3: ='00_system'!C13 -> #VALUE!
C4: ='00_system'!C7 -> in den Flüchtlings- und Asylunterkünften des Landkreises Dachau
C6: =IF('00_system'!C8="","",'00_system'!C8)
C8: =CONCATENATE("Vergabenummer: ",'00_system'!C9) -> Vergabenummer: 10-804-242120932-1
C9: =CONCATENATE("Stand: ",'00_system'!C3) -> Stand: 12.10.2026 (v1)
C12: Verzeichnis der Leistungen/Kapazitäten anderer Unternehmen (Formblatt 235) | R12: Pflichtangabe | V12: Vollständigkeits- kontrolle | AA12: =SUM(AA15:AA33) -> 2
C13: Zur Ausführung der im Angebot enthaltenen Leistungen benenne ich Art und Umfang der Teilleistungen, für die ich mich/wir uns anderer Unternehmen bedienen werde(n).
C15: Lfd. Nr. 1 | F15: Leistungsbereich: | R15: (sofern erforderlich)
F16: Beschreibung der (Teil)Leistungen: | R16: (sofern erforderlich)
C18: Lfd. Nr. 2 | F18: Leistungsbereich: | R18: (sofern erforderlich)
F19: Beschreibung der (Teil)Leistungen: | R19: (sofern erforderlich)
C21: Lfd. Nr. 3 | F21: Leistungsbereich: | R21: (sofern erforderlich)
F22: Beschreibung der (Teil)Leistungen: | R22: (sofern erforderlich)
C24: In Hinsicht auf meine/unsere wirtschaftliche und finanzielle Leistungsfähigkeit
C26: Lfd. Nr. 1 | F26: Name des Unternehmens: | R26: (obligatorisch) | V26: =IF(J26="","Angaben unvollständig","Angaben vollständig") -> Angaben unvollständig | AA26: =IF(V26="Angaben unvollständig",1,0) -> 1
F27: Angabe zu der von diesem Unternehmen überlassenen Eignung: | R27: (obligatorisch) | V27: =IF(J27="","Angaben unvollständig","Angaben vollständig") -> Angaben unvollständig | AA27: =IF(V27="Angaben unvollständig",1,0) -> 1
C29: Lfd. Nr. 2 | F29: Name des Unternehmens: | R29: (sofern erforderlich)
F30: Angabe zu der von diesem Unternehmen überlassenen Eignung: | R30: (sofern erforderlich)
C32: Lfd. Nr. 3 | F32: Name des Unternehmens: | R32: (sofern erforderlich)
F33: Angabe zu der von diesem Unternehmen überlassenen Eignung: | R33: (sofern erforderlich)
