Workbook
Name bedarf_anteil_kurz: '9_Bedarfsleistungen'!$AT$177
Name svs32feier: '3_Stundenverrechnungssätze'!$T$72
Name svs32feiernacht: '3_Stundenverrechnungssätze'!$T$74
Name svs32kurz: '9_Bedarfsleistungen'!$AT$167
Name svs32nacht: '3_Stundenverrechnungssätze'!$T$66
Name svs32sonn: '3_Stundenverrechnungssätze'!$T$68
Name svs32sonnnacht: '3_Stundenverrechnungssätze'!$T$70
Name svs32tag: '3_Stundenverrechnungssätze'!$T$58
Name svs32zulage: '3_Stundenverrechnungssätze'!$X$26
Name svs33feier: '3_Stundenverrechnungssätze'!$AC$72
Name svs33feiernacht: '3_Stundenverrechnungssätze'!$AC$74
Name svs33kurz: '9_Bedarfsleistungen'!$AT$169
Name svs33nacht: '3_Stundenverrechnungssätze'!$AC$66
Name svs33sonn: '3_Stundenverrechnungssätze'!$AC$68
Name svs33sonnnacht: '3_Stundenverrechnungssätze'!$AC$70
Name svs33tag: '3_Stundenverrechnungssätze'!$AC$58
Name svs33zulage: '3_Stundenverrechnungssätze'!$AG$26
Name svs34feier: '3_Stundenverrechnungssätze'!$AL$72
Name svs34feiernacht: '3_Stundenverrechnungssätze'!$AL$74
Name svs34kurz: '9_Bedarfsleistungen'!$AT$171
Name svs34nacht: '3_Stundenverrechnungssätze'!$AL$66
Name svs34sonn: '3_Stundenverrechnungssätze'!$AL$68
Name svs34sonnnacht: '3_Stundenverrechnungssätze'!$AL$70
Name svs34tag: '3_Stundenverrechnungssätze'!$AL$58
Name svs34zulage: '3_Stundenverrechnungssätze'!$AP$26
Name svs35feier: '3_Stundenverrechnungssätze'!$AU$72
Name svs35feiernacht: '3_Stundenverrechnungssätze'!$AU$74
Name svs35kurz: '9_Bedarfsleistungen'!$AT$173
Name svs35nacht: '3_Stundenverrechnungssätze'!$AU$66
Name svs35sonn: '3_Stundenverrechnungssätze'!$AU$68
Name svs35sonnnacht: '3_Stundenverrechnungssätze'!$AU$70
Name svs35tag: '3_Stundenverrechnungssätze'!$AU$58
Name svs35zulage: '3_Stundenverrechnungssätze'!$AY$26
Name svs39feier: '3_Stundenverrechnungssätze'!$BD$72
Name svs39feiernacht: '3_Stundenverrechnungssätze'!$BD$74
Name svs39kurz: '9_Bedarfsleistungen'!$AT$175
Name svs39nacht: '3_Stundenverrechnungssätze'!$BD$66
Name svs39sonn: '3_Stundenverrechnungssätze'!$BD$68
Name svs39sonnnacht: '3_Stundenverrechnungssätze'!$BD$70
Name svs39tag: '3_Stundenverrechnungssätze'!$BD$58
Name svs39zulage: '3_Stundenverrechnungssätze'!$BH$26

Sheet 0_uebersicht
B2: Sicherheitsdienstleistungen
B3: in den Liegenschaften der
B4: GSI Helmholtzzentrum für Schwerionenforschung GmbH und FAIR GmbH
B6: Übersicht
B9: Die gelben Felder sind vom Bieter (bei gemeinschaftlichen Bietern vom federführenden Unternehmen - soweit zutreffend) vollständig auszufüllen und mit den erforderlichen Angebotsunterlagen elektronisch einzureichen. Die blau fettumrandeten Feldinhalte sind in das Angebotsblatt zu übertragen.
B14: Name des Bieters (inkl. Rechtsform)
B21: Preiszusammenfassung | BL21: Vollständigkeitsprüfung Bieterangaben
C23: Position | O23: Positionssumme | AA23: Faktor | AM23: Laufzeitpositionssumme | BL23: Eingabebereich | BR23: Status
C25: Einmalige Leistungen: | O25: ='1_einmalige leistungen'!BK29 -> 0 | AA25: 1 | AM25: =O25*AA25 -> 0 | BL25: Übersicht – Name des Bieters | BR25: =IF(LEN(TRIM(C16))=0,1,0) -> 1
BL26: Blatt 1 – Einmalige Leistungen (2 Felder) | BR26: =2-COUNT('1_einmalige leistungen'!BK17,'1_einmalige leistungen'!BK23) -> 2
C27: Regelmäßige Leistungen PKW: | O27: ='2_regelmäßige leistungen'!BK23 -> 0 | AA27: 72 | AM27: =O27*AA27 -> 0 | BL27: Blatt 2 – Kraftfahrzeug (1 Feld) | BR27: =1-COUNT('2_regelmäßige leistungen'!BK17) -> 1
BL28: Blatt 3 – Tariflöhne (5 Felder) | BR28: =(N('3_Stundenverrechnungssätze'!X25)<=0)+(N('3_Stundenverrechnungssätze'!AG25)<=0)+(N('3_Stundenverrechnungssätze'!AP25)<=0)+(N('3_Stundenverrechnungssätze'!AY25)<=0)+(N('3_Stundenverrechnungssätze'!BH25)<=0) -> 5
C29: Objektleitung: | O29: ='4_objektleitung'!BU29 -> 0 | AA29: 6 | AM29: =O29*AA29 -> 0 | BL29: Blatt 3 – Auftragsbezogene Zulage (5 Felder) | BR29: =5-COUNT('3_Stundenverrechnungssätze'!X26,'3_Stundenverrechnungssätze'!AG26,'3_Stundenverrechnungssätze'!AP26,'3_Stundenverrechnungssätze'!AY26,'3_Stundenverrechnungssätze'!BH26) -> 5
BL30: Blatt 3 – II. Sozialversicherung (35 Felder) | BR30: =35-COUNT('3_Stundenverrechnungssätze'!T30:T36,'3_Stundenverrechnungssätze'!AC30:AC36,'3_Stundenverrechnungssätze'!AL30:AL36,'3_Stundenverrechnungssätze'!AU30:AU36,'3_Stundenverrechnungssätze'!BD30:BD36) -> 35
C31: GSI Campus: | O31: ='5_GSI Campus'!BU125 -> 0 | AA31: 6 | AM31: =O31*AA31 -> 0 | BL31: Blatt 3 – III. Lohnfolgekosten (5 Felder) | BR31: =5-COUNT('3_Stundenverrechnungssätze'!T40,'3_Stundenverrechnungssätze'!AC40,'3_Stundenverrechnungssätze'!AL40,'3_Stundenverrechnungssätze'!AU40,'3_Stundenverrechnungssätze'!BD40) -> 5
BL32: Blatt 3 – IV. Auftragsbezogene Kosten (25 Felder) | BR32: =25-COUNT('3_Stundenverrechnungssätze'!T44:T48,'3_Stundenverrechnungssätze'!AC44:AC48,'3_Stundenverrechnungssätze'!AL44:AL48,'3_Stundenverrechnungssätze'!AU44:AU48,'3_Stundenverrechnungssätze'!BD44:BD48) -> 25
C33: FAIR: | O33: ='6_FAIR'!BU77 -> 0 | AA33: 6 | AM33: =O33*AA33 -> 0 | BL33: Blatt 3 – V. Unternehmensbezogene Kosten (20 Felder) | BR33: =20-COUNT('3_Stundenverrechnungssätze'!T52:T55,'3_Stundenverrechnungssätze'!AC52:AC55,'3_Stundenverrechnungssätze'!AL52:AL55,'3_Stundenverrechnungssätze'!AU52:AU55,'3_Stundenverrechnungssätze'!BD52:BD55) -> 20
BL34: Blatt 3 – Zuschläge Nacht/Sonn-/Feiertag (20 Felder) | BR34: =20-COUNT('3_Stundenverrechnungssätze'!T61:T64,'3_Stundenverrechnungssätze'!AC61:AC64,'3_Stundenverrechnungssätze'!AL61:AL64,'3_Stundenverrechnungssätze'!AU61:AU64,'3_Stundenverrechnungssätze'!BD61:BD64) -> 20
C35: Sicherheitsberatung, Analyse und Fachplanung: | O35: ='7_Sicherheitsberatung'!BU30 -> 0 | AA35: 6 | AM35: =O35*AA35 -> 0 | BL35: Blatt 7 – Stundensatz Sicherheitsberatung (1 Feld) | BR35: =(N('7_Sicherheitsberatung'!BL23)<=0)*1 -> 1
BL36: Blatt 9 – Zuschlag kurzfristige Bedarfsleistungen (5 Felder) | BR36: =5-COUNT('9_Bedarfsleistungen'!AT167,'9_Bedarfsleistungen'!AT169,'9_Bedarfsleistungen'!AT171,'9_Bedarfsleistungen'!AT173,'9_Bedarfsleistungen'!AT175) -> 5
C37: Empfangsdienst KBW: (Bedarfsleistung/Vertretung) | O37: ='8_Empfangsdienst KBW'!BU29 -> 0 | AA37: 6 | AM37: =O37*AA37 -> 0
BL38: Ergebnis der Vollständigkeitsprüfung: | BR38: =SUM(BR25:BR36) -> 125
C39: Bedarfsleistungen: (planbar und kurzfristig) | O39: ='9_Bedarfsleistungen'!AT155 -> 0 | AA39: 6 | AM39: =O39*AA39 -> 0
C41: Zuschlag kurzfristige Bedarfsleistungen: | O41: ='9_Bedarfsleistungen'!BU155 -> 0 | AA41: 6 | AM41: =O41*AA41 -> 0 | BL41: Hinweis: Die Prüfung zeigt nur an, ob alle gelben Eingabefelder ausgefüllt sind; Tariflöhne und der Stundensatz Sicherheitsberatung müssen größer als 0 sein. Eine inhaltliche Prüfung der Angaben findet nicht statt. Dieser Bereich ist nicht Bestandteil des Ausdrucks und des Angebots.
C43: Netto-Gesamtsumme: (Laufzeit 6 Jahre) | AM43: =SUM(AM25:AX42) -> 0 | AZ43: Übertrag in das Angebotsblatt
C46: Rechnerischer Netto-Monatspreis ohne Einmalleistungen: | AM46: =(AM43-AM25)/AA27 -> 0
B47: Hinweise zu Mengenansätzen, Preiswertung und Abrechnung
C49: Die Kalkulationsdatei rechnet die Einsatzzeiten entsprechend der Leistungsbeschreibung auf ein durchschnittliches Kalenderjahr hoch. Sämtliche angegebenen Stunden und Mengen sind Schätzwerte des Auftraggebers, die ausschließlich der Preiswertung der Angebote dienen. Für die Regel- und Vertretungsleistung bilden sie den derzeit geplanten Leistungsumfang ab, für Bedarfsleistungen beruhen sie auf Vorjahres- und Erfahrungswerten. Eine Abnahmeverpflichtung des Auftraggebers ist damit nicht verbunden (Teil A Ziffer 1 Nr. 4 und 6). Sämtliche Leistungen werden durch Einzelabruf des Auftraggebers beauftragt, Bedarfsleistungen jeweils gesondert nach Teil B Ziffer 4.4.1 und 4.4.2. Abgerechnet werden ausschließlich die tatsächlich abgerufenen, erbrachten und ordnungsgemäßen Leistungen bzw. die im elektronischen Wachbuch nachgewiesenen Einsatzstunden, und zwar zu den angebotenen Einheitspreisen (Teil A Ziffer 8 Nr. 2). Abweichungen des tatsächlichen Abrufumfangs von den Schätzwerten begründen keinen Anspruch auf Anpassung der Einheitspreise. Über den Vertrag hinausgehende Zusatz- und Sonderleistungen sind nicht Gegenstand der Preiswertung. Sie werden nur nach gesonderter schriftlicher Beauftragung zu den Stundenverrechnungssätzen dieser Kalkulationsdatei gegen gegengezeichneten Tätigkeitsnachweis vergütet (Teil A Ziffer 8 Nr. 3).

Sheet 1_einmalige leistungen
B2: ='0_uebersicht'!$B$2 -> Sicherheitsdienstleistungen
B3: ='0_uebersicht'!$B$3 -> in den Liegenschaften der
B4: ='0_uebersicht'!$B$4 -> GSI Helmholtzzentrum für Schwerionenforschung GmbH und FAIR GmbH
B6: Einmalige Leistungen
B10: Name des Bieters (inkl. Rechtsform)
C12: ='0_uebersicht'!C16 -> 0
C17: Kosten für Ersteinweisung des Personalpools | S17: Mit der hier kalkulierten Pauschale sind sämtliche Ersteinweisungen etc. im Rahmen der Implementierungsphase gemäß der Leistungsbeschreibung abgegolten. Insbesondere die Mindesteinarbeitungsdauer wurde ausreichend berücksichtigt. Hinweis: Weitere Kosten für Einweisungen, Unterweisungen, Einarbeitungen, Nachschulungen und Fortbildungen, insbesondere im laufenden Regelbetrieb, werden grundsätzlich nicht gesondert vergütet und sind ggf. in die Stundenverrechnungssätze einzukalkulieren.
C23: Kosten für Einrichtung und Betrieb einer ganzheitlichen Sicherheitsdienst-Software (Wächterkontrollsystem und Elektronisches Wachbuch) | S23: Mit der hier kalkulierten Pauschale sind sämtliche Kosten für die Montage, den Ersatz bei Verlust oder Beschädigung von erforderlichen Software-/Hardwarezubehör sowie für die Einrichtung, Wartung und Instandhaltung der ganzheitlichen Softwarelösung für Sicherheitsdienstleistungen gemäß der Leistungsbeschreibung abgegolten. Hinweis: Mögliche Kosten für den fortlaufenden Betrieb der ganzheitlichen Softwarelösung für Sicherheitsdienstleistungen werden grundsätzlich nicht gesondert vergütet und sind ggf. in die Stundenverrechnungssätze einzukalkulieren.
C29: Gesamtsumme Einmalige Leistungen: | BK29: =BK17+BK23 -> 0

Sheet 2_regelmäßige leistungen
B2: ='0_uebersicht'!$B$2 -> Sicherheitsdienstleistungen
B3: ='0_uebersicht'!$B$3 -> in den Liegenschaften der
B4: ='0_uebersicht'!$B$4 -> GSI Helmholtzzentrum für Schwerionenforschung GmbH und FAIR GmbH
B6: Regelleistung Kraftfahrzeug
B10: Name des Bieters (inkl. Rechtsform)
C12: ='0_uebersicht'!C16 -> 0
C17: Kraftfahrzeug (vgl. 4.2 der Leistungsbeschreibung) | S17: Mit der hier kalkulierten Pauschale sind sämtliche Aufwände gemäß 4.2 der Leistungsbeschreibung abgegolten. Hinweis: Weitere Kosten für die Beschaffung und den Betrieb, insbesondere für die Strom-Versorgung, Versicherung, Wartung und Verschleiß, werden grundsätzlich nicht gesondert vergütet und sind ggf. in die Stundenverrechnungssätze einzukalkulieren.
C23: Gesamtsumme Regelmäßige Leistungen: | BK23: =SUM(BK17:BZ22) -> 0

Sheet 3_Stundenverrechnungssätze
B2: ='0_uebersicht'!$B$2 -> Sicherheitsdienstleistungen
B3: ='0_uebersicht'!$B$3 -> in den Liegenschaften der
B4: ='0_uebersicht'!$B$4 -> GSI Helmholtzzentrum für Schwerionenforschung GmbH und FAIR GmbH
B6: Kalkulation der Stundenverrechnungssätze
B10: Name des Bieters (inkl. Rechtsform)
C12: ='0_uebersicht'!C16 -> 0
T17: Objektleitung (vgl. 5.2.2 der Leistungsbeschreibung) | AC17: Schichtleiter (vgl. 5.2.3 der Leistungsbeschreibung) | AL17: Sicherheitsfachkraft (vgl. 5.2.4 der Leistungsbeschreibung) | AU17: Sicherheitskraft (vgl. 5.2.5 der Leistungsbeschreibung) | BD17: Empfangskraft (vgl. 5.2.6 der Leistungsbeschreibung)
C22: Zu berücksichtigende Lohngruppe: | T22: II. 5. | AC22: II. 4. | AL22: II. 2. | AU22: II. 1. a. | BD22: II. 1.
C24: I. Stundenlohn
C25: Tariflohn zzgl. tarifvertragliche Zulagen, Basis 2027:
C26: auftragsbezogenen Zulage:
B27: Summe I. Stundenlohn: | T27: 1 | X27: =SUM(X25:AA26) -> 0 | AC27: 1 | AG27: =SUM(AG25:AJ26) -> 0 | AL27: 1 | AP27: =SUM(AP25:AS26) -> 0 | AU27: 1 | AY27: =SUM(AY25:BB26) -> 0 | BD27: 1 | BH27: =SUM(BH25:BK26) -> 0
C29: II. Sozialversicherung
C30: Rentenversicherung: | X30: =T30*$X$27 -> 0 | AG30: =AC30*AG$27 -> 0 | AP30: =AL30*AP$27 -> 0 | AY30: =AU30*AY$27 -> 0 | BH30: =BD30*BH$27 -> 0
C31: Krankenversicherung: | X31: =T31*$X$27 -> 0 | AG31: =AC31*AG$27 -> 0 | AP31: =AL31*AP$27 -> 0 | AY31: =AU31*AY$27 -> 0 | BH31: =BD31*BH$27 -> 0
C32: Pflegeversicherung: | X32: =T32*$X$27 -> 0 | AG32: =AC32*AG$27 -> 0 | AP32: =AL32*AP$27 -> 0 | AY32: =AU32*AY$27 -> 0 | BH32: =BD32*BH$27 -> 0
C33: Arbeitslosenversicherung: | X33: =T33*$X$27 -> 0 | AG33: =AC33*AG$27 -> 0 | AP33: =AL33*AP$27 -> 0 | AY33: =AU33*AY$27 -> 0 | BH33: =BD33*BH$27 -> 0
C34: U1 (sofern Pflicht), U2 & Insolvenzumlage: | X34: =T34*$X$27 -> 0 | AG34: =AC34*AG$27 -> 0 | AP34: =AL34*AP$27 -> 0 | AY34: =AU34*AY$27 -> 0 | BH34: =BD34*BH$27 -> 0
C35: Zuschlag für Midijob (sofern zutreffend): | X35: =T35*$X$27 -> 0 | AG35: =AC35*AG$27 -> 0 | AP35: =AL35*AP$27 -> 0 | AY35: =AU35*AY$27 -> 0 | BH35: =BD35*BH$27 -> 0
C36: Unfallversicherung / BG-Beitrag: | X36: =T36*$X$27 -> 0 | AG36: =AC36*AG$27 -> 0 | AP36: =AL36*AP$27 -> 0 | AY36: =AU36*AY$27 -> 0 | BH36: =BD36*BH$27 -> 0
B37: Summe II. Sozialversicherung: | T37: =SUM(T30:W36) -> 0 | X37: =SUM(X30:AA36) -> 0 | AC37: =SUM(AC30:AF36) -> 0 | AG37: =SUM(AG30:AJ36) -> 0 | AL37: =SUM(AL30:AO36) -> 0 | AP37: =SUM(AP30:AS36) -> 0 | AU37: =SUM(AU30:AX36) -> 0 | AY37: =SUM(AY30:BB36) -> 0 | BD37: =SUM(BD30:BG36) -> 0 | BH37: =SUM(BH30:BK36) -> 0
C39: III. Lohnfolgekosten
C40: Lohnfolgekosten: | X40: =T40*$X$27 -> 0 | AG40: =AC40*AG$27 -> 0 | AP40: =AL40*AP$27 -> 0 | AY40: =AU40*AY$27 -> 0 | BH40: =BD40*BH$27 -> 0
B41: Summe III. Lohnfolgekosten: | T41: =SUM(T40) -> 0 | X41: =SUM(X40) -> 0 | AC41: =SUM(AC40) -> 0 | AG41: =SUM(AG40) -> 0 | AL41: =SUM(AL40) -> 0 | AP41: =SUM(AP40) -> 0 | AU41: =SUM(AU40) -> 0 | AY41: =SUM(AY40) -> 0 | BD41: =SUM(BD40) -> 0 | BH41: =SUM(BH40) -> 0
C43: IV. Auftragsbezogene Kosten
C44: Einweisung, Nachschulung und Fortbildung: | X44: =T44*$X$27 -> 0 | AG44: =AC44*AG$27 -> 0 | AP44: =AL44*AP$27 -> 0 | AY44: =AU44*AY$27 -> 0 | BH44: =BD44*BH$27 -> 0
C45: Bekleidung, Ausrüstung, Geräte, AfA, etc.: | X45: =T45*$X$27 -> 0 | AG45: =AC45*AG$27 -> 0 | AP45: =AL45*AP$27 -> 0 | AY45: =AU45*AY$27 -> 0 | BH45: =BD45*BH$27 -> 0
C46: Qualitätssicherung | X46: =T46*$X$27 -> 0 | AG46: =AC46*AG$27 -> 0 | AP46: =AL46*AP$27 -> 0 | AY46: =AU46*AY$27 -> 0 | BH46: =BD46*BH$27 -> 0
C47: Operative Betriebskosten: | X47: =T47*$X$27 -> 0 | AG47: =AC47*AG$27 -> 0 | AP47: =AL47*AP$27 -> 0 | AY47: =AU47*AY$27 -> 0 | BH47: =BD47*BH$27 -> 0
C48: Sonstige Kosten: | X48: =T48*$X$27 -> 0 | AG48: =AC48*AG$27 -> 0 | AP48: =AL48*AP$27 -> 0 | AY48: =AU48*AY$27 -> 0 | BH48: =BD48*BH$27 -> 0
B49: Summe IV. Auftragsbezogene Kosten: | T49: =SUM(T44:W48) -> 0 | X49: =SUM(X44:AA48) -> 0 | AC49: =SUM(AC44:AF48) -> 0 | AG49: =SUM(AG44:AJ48) -> 0 | AL49: =SUM(AL44:AO48) -> 0 | AP49: =SUM(AP44:AS48) -> 0 | AU49: =SUM(AU44:AX48) -> 0 | AY49: =SUM(AY44:BB48) -> 0 | BD49: =SUM(BD44:BG48) -> 0 | BH49: =SUM(BH44:BK48) -> 0
C51: V. Unternehmensbezogene Kosten
C52: Administrative Betriebskosten: | X52: =T52*$X$27 -> 0 | AG52: =AC52*AG$27 -> 0 | AP52: =AL52*AP$27 -> 0 | AY52: =AU52*AY$27 -> 0 | BH52: =BD52*BH$27 -> 0
C53: Sonstige Gemein-/Verwaltungskosten: | X53: =T53*$X$27 -> 0 | AG53: =AC53*AG$27 -> 0 | AP53: =AL53*AP$27 -> 0 | AY53: =AU53*AY$27 -> 0 | BH53: =BD53*BH$27 -> 0
C54: Gewerbesteuer: | X54: =T54*$X$27 -> 0 | AG54: =AC54*AG$27 -> 0 | AP54: =AL54*AP$27 -> 0 | AY54: =AU54*AY$27 -> 0 | BH54: =BD54*BH$27 -> 0
C55: Wagnis & Gewinn | X55: =T55*$X$27 -> 0 | AG55: =AC55*AG$27 -> 0 | AP55: =AL55*AP$27 -> 0 | AY55: =AU55*AY$27 -> 0 | BH55: =BD55*BH$27 -> 0
B56: Summe V. Unternehmensbezogene Kosten: | T56: =SUM(T52:W55) -> 0 | X56: =SUM(X52:AA55) -> 0 | AC56: =SUM(AC52:AF55) -> 0 | AG56: =SUM(AG52:AJ55) -> 0 | AL56: =SUM(AL52:AO55) -> 0 | AP56: =SUM(AP52:AS55) -> 0 | AU56: =SUM(AU52:AX55) -> 0 | AY56: =SUM(AY52:BB55) -> 0 | BD56: =SUM(BD52:BG55) -> 0 | BH56: =SUM(BH52:BK55) -> 0
C58: Stundenverrechnungssatz Werktags: (zwischen 06:00 bis 20:00 Uhr, tags) | T58: =ROUND(X27+X37+X41+X49+X56,2) -> 0 | AC58: =ROUND(AG27+AG37+AG41+AG49+AG56,2) -> 0 | AL58: =ROUND(AP27+AP37+AP41+AP49+AP56,2) -> 0 | AU58: =ROUND(AY27+AY37+AY41+AY49+AY56,2) -> 0 | BD58: =ROUND(BH27+BH37+BH41+BH49+BH56,2) -> 0
C61: Nachtzuschlag (nur auf Tariflohn):
C62: Sonntagszuschlag (nur auf Tariflohn):
...

Sheet 4_objektleitung
B2: ='0_uebersicht'!$B$2 -> Sicherheitsdienstleistungen
B3: ='0_uebersicht'!$B$3 -> in den Liegenschaften der
B4: ='0_uebersicht'!$B$4 -> GSI Helmholtzzentrum für Schwerionenforschung GmbH und FAIR GmbH
B6: Objektleitung (vgl. 5.2.2 der Leistungsbeschreibung)
B10: Name des Bieters (inkl. Rechtsform)
C12: ='0_uebersicht'!C16 -> 0
C17: Qualifikation | S17: Einsatzzeiten | AB17: Besetzungsstärke | AK17: Stunden pro Arbeitstag | AT17: Arbeitstage pro Jahr | BC17: Stunden pro Jahr | BL17: Stundenverrechnungssatz | BU17: Preis pro Jahr
C23: Objektleitung (vgl. 5.2.2 der Leistungsbeschreibung) | S23: Montag bis Freitag 06.00 Uhr bis 18.00 Uhr (Die acht Stunden sind innerhalb des Zeitraums von 06:00 bis 18:00 Uhr zu erbringen) | AB23: 1 | AK23: 8 | AT23: 250 | BC23: =AB23*AK23*AT23 -> 2000 | BL23: =svs32tag -> 0 | BU23: =BC23*BL23 -> 0
C29: Gesamtsumme pro Jahr Objektleitung: | BU29: =BU23 -> 0

Sheet 5_GSI Campus
B2: ='0_uebersicht'!$B$2 -> Sicherheitsdienstleistungen
B3: ='0_uebersicht'!$B$3 -> in den Liegenschaften der
B4: ='0_uebersicht'!$B$4 -> GSI Helmholtzzentrum für Schwerionenforschung GmbH und FAIR GmbH
B6: GSI Campus (vgl. 4.2 und 4.2.1/5.2.3/5.2.4/5.2.5 der Leistungsbeschreibung)
B10: Name des Bieters (inkl. Rechtsform)
C12: ='0_uebersicht'!C16 -> 0
C17: Qualifikation | S17: Einsatzzeiten | AB17: Besetzungsstärke | AK17: Stunden pro Arbeitstag | AT17: Arbeitstage pro Jahr | BC17: Stunden pro Jahr | BL17: Stundenverrechnungssatz | BU17: Preis pro Jahr
C23: Sicherheitsfachkraft (vgl. 5.2.4 der Leistungsbeschreibung) | S23: Frühschicht Montag bis Freitag 06.00 Uhr bis 14.00 Uhr | AB23: 1 | AK23: 8 | AT23: 250 | BC23: =AB23*AK23*AT23 -> 2000 | BL23: =svs34tag -> 0 | BU23: =BC23*BL23 -> 0
C29: Schichtleiter (vgl. 5.2.3 der Leistungsbeschreibung) | S29: Spätschicht Montag bis Freitag 14.00 Uhr bis 20.00 Uhr | AB29: 1 | AK29: 6 | AT29: 250 | BC29: =AB29*AK29*AT29 -> 1500 | BL29: =svs33tag -> 0 | BU29: =BC29*BL29 -> 0
C35: Sicherheitsfachkraft (vgl. 5.2.4 der Leistungsbeschreibung) | S35: Spätschicht Montag bis Freitag 14.00 Uhr bis 20.00 Uhr | AB35: 1 | AK35: 6 | AT35: 250 | BC35: =AB35*AK35*AT35 -> 1500 | BL35: =svs34tag -> 0 | BU35: =BC35*BL35 -> 0
C41: Schichtleiter (vgl. 5.2.3 der Leistungsbeschreibung) | S41: Nachtschicht Montag bis Freitag 20.00 Uhr bis 06.00 Uhr | AB41: 1 | AK41: 10 | AT41: 250 | BC41: =AB41*AK41*AT41 -> 2500 | BL41: =svs33nacht -> 0 | BU41: =BC41*BL41 -> 0
C47: Sicherheitsfachkraft (vgl. 5.2.4 der Leistungsbeschreibung) | S47: Nachtschicht Montag bis Freitag 20.00 Uhr bis 06.00 Uhr | AB47: 1 | AK47: 10 | AT47: 250 | BC47: =AB47*AK47*AT47 -> 2500 | BL47: =svs34nacht -> 0 | BU47: =BC47*BL47 -> 0
C53: Schichtleiter (vgl. 5.2.3 der Leistungsbeschreibung) | S53: Tagschicht Samstag 06.00 Uhr bis 20.00 Uhr | AB53: 1 | AK53: 14 | AT53: 52 | BC53: =AB53*AK53*AT53 -> 728 | BL53: =svs33tag -> 0 | BU53: =BC53*BL53 -> 0
C59: Sicherheitsfachkraft (vgl. 5.2.4 der Leistungsbeschreibung) | S59: Tagschicht Samstag 06.00 Uhr bis 20.00 Uhr | AB59: 1 | AK59: 14 | AT59: 52 | BC59: =AB59*AK59*AT59 -> 728 | BL59: =svs34tag -> 0 | BU59: =BC59*BL59 -> 0
C65: Schichtleiter (vgl. 5.2.3 der Leistungsbeschreibung) | S65: Nachtschicht Samstag 20.00 Uhr bis 06.00 Uhr | AB65: 1 | AK65: 10 | AT65: 52 | BC65: =AB65*AK65*AT65 -> 520 | BL65: =svs33nacht -> 0 | BU65: =BC65*BL65 -> 0
C71: Sicherheitsfachkraft (vgl. 5.2.4 der Leistungsbeschreibung) | S71: Nachtschicht Samstag 20.00 Uhr bis 06.00 Uhr | AB71: 1 | AK71: 10 | AT71: 52 | BC71: =AB71*AK71*AT71 -> 520 | BL71: =svs34nacht -> 0 | BU71: =BC71*BL71 -> 0
C77: Schichtleiter (vgl. 5.2.3 der Leistungsbeschreibung) | S77: Tagschicht Sonntag 06.00 Uhr bis 20.00 Uhr | AB77: 1 | AK77: 14 | AT77: 52 | BC77: =AB77*AK77*AT77 -> 728 | BL77: =svs33sonn -> 0 | BU77: =BC77*BL77 -> 0
C83: Sicherheitsfachkraft (vgl. 5.2.4 der Leistungsbeschreibung) | S83: Tagschicht Sonntag 06.00 Uhr bis 20.00 Uhr | AB83: 1 | AK83: 14 | AT83: 52 | BC83: =AB83*AK83*AT83 -> 728 | BL83: =svs34sonn -> 0 | BU83: =BC83*BL83 -> 0
C89: Schichtleiter (vgl. 5.2.3 der Leistungsbeschreibung) | S89: Nachtschicht Sonntag 20.00 Uhr bis 06.00 Uhr | AB89: 1 | AK89: 10 | AT89: 52 | BC89: =AB89*AK89*AT89 -> 520 | BL89: =svs33sonnnacht -> 0 | BU89: =BC89*BL89 -> 0
C95: Sicherheitsfachkraft (vgl. 5.2.4 der Leistungsbeschreibung) | S95: Nachtschicht Sonntag 20.00 Uhr bis 06.00 Uhr | AB95: 1 | AK95: 10 | AT95: 52 | BC95: =AB95*AK95*AT95 -> 520 | BL95: =svs34sonnnacht -> 0 | BU95: =BC95*BL95 -> 0
C101: Schichtleiter (vgl. 5.2.3 der Leistungsbeschreibung) | S101: Tagschicht Feiertag 06.00 Uhr bis 20.00 Uhr | AB101: 1 | AK101: 14 | AT101: 10 | BC101: =AB101*AK101*AT101 -> 140 | BL101: =svs33feier -> 0 | BU101: =BC101*BL101 -> 0
C107: Sicherheitsfachkraft (vgl. 5.2.4 der Leistungsbeschreibung) | S107: Tagschicht Feiertag 06.00 Uhr bis 20.00 Uhr | AB107: 1 | AK107: 14 | AT107: 10 | BC107: =AB107*AK107*AT107 -> 140 | BL107: =svs34feier -> 0 | BU107: =BC107*BL107 -> 0
C113: Schichtleiter (vgl. 5.2.3 der Leistungsbeschreibung) | S113: Nachtschicht Feiertag 20.00 Uhr bis 06.00 Uhr | AB113: 1 | AK113: 10 | AT113: 10 | BC113: =AB113*AK113*AT113 -> 100 | BL113: =svs33feiernacht -> 0 | BU113: =BC113*BL113 -> 0
C119: Sicherheitsfachkraft (vgl. 5.2.4 der Leistungsbeschreibung) | S119: Nachtschicht Feiertag 20.00 Uhr bis 06.00 Uhr | AB119: 1 | AK119: 10 | AT119: 10 | BC119: =AB119*AK119*AT119 -> 100 | BL119: =svs34feiernacht -> 0 | BU119: =BC119*BL119 -> 0
C125: Gesamtsumme pro Jahr GSI Campus: | BU125: =SUM(BU23:CC124) -> 0

Sheet 6_FAIR
B2: ='0_uebersicht'!$B$2 -> Sicherheitsdienstleistungen
B3: ='0_uebersicht'!$B$3 -> in den Liegenschaften der
B4: ='0_uebersicht'!$B$4 -> GSI Helmholtzzentrum für Schwerionenforschung GmbH und FAIR GmbH
B6: FAIR (vgl. 4.2 und 4.2.1/5.2.3/5.2.4/5.2.5 der Leistungsbeschreibung)
B10: Name des Bieters (inkl. Rechtsform)
C12: ='0_uebersicht'!C16 -> 0
C17: Qualifikation | S17: Einsatzzeiten | AB17: Besetzungsstärke | AK17: Stunden pro Arbeitstag | AT17: Arbeitstage pro Jahr | BC17: Stunden pro Jahr | BL17: Stundenverrechnungssatz | BU17: Preis pro Jahr
C23: Sicherheitskraft (vgl. 5.2.5 der Leistungsbeschreibung) | S23: Frühschicht Montag bis Freitag 06.00 Uhr bis 14.00 Uhr | AB23: 1 | AK23: 8 | AT23: 250 | BC23: =AB23*AK23*AT23 -> 2000 | BL23: =svs35tag -> 0 | BU23: =BC23*BL23 -> 0
C29: Sicherheitskraft (vgl. 5.2.5 der Leistungsbeschreibung) | S29: Spätschicht Montag bis Freitag 14.00 Uhr bis 22.00 Uhr (ab 20.00 Uhr inkl. Nachtzuschlag) | AB29: 1 | AK29: 6 | AT29: 250 | BC29: =AB29*AK29*AT29 -> 1500 | BL29: =svs35tag -> 0 | BU29: =BC29*BL29 -> 0
AB32: 1 | AK32: 2 | AT32: 250 | BC32: =AB32*AK32*AT32 -> 500 | BL32: =svs35nacht -> 0 | BU32: =BC32*BL32 -> 0
C35: Sicherheitskraft (vgl. 5.2.5 der Leistungsbeschreibung) | S35: Nachtschicht Montag bis Freitag 22.00 Uhr bis 06.00 Uhr | AB35: 1 | AK35: 8 | AT35: 250 | BC35: =AB35*AK35*AT35 -> 2000 | BL35: =svs35nacht -> 0 | BU35: =BC35*BL35 -> 0
C41: Sicherheitskraft (vgl. 5.2.5 der Leistungsbeschreibung) | S41: Tagschicht Samstag 06.00 Uhr bis 20.00 Uhr | AB41: 1 | AK41: 14 | AT41: 52 | BC41: =AB41*AK41*AT41 -> 728 | BL41: =svs35tag -> 0 | BU41: =BC41*BL41 -> 0
C47: Sicherheitskraft (vgl. 5.2.5 der Leistungsbeschreibung) | S47: Nachtschicht Samstag 20.00 Uhr bis 06.00 Uhr | AB47: 1 | AK47: 10 | AT47: 52 | BC47: =AB47*AK47*AT47 -> 520 | BL47: =svs35nacht -> 0 | BU47: =BC47*BL47 -> 0
C53: Sicherheitskraft (vgl. 5.2.5 der Leistungsbeschreibung) | S53: Tagschicht Sonntag 06.00 Uhr bis 20.00 Uhr | AB53: 1 | AK53: 14 | AT53: 52 | BC53: =AB53*AK53*AT53 -> 728 | BL53: =svs35sonn -> 0 | BU53: =BC53*BL53 -> 0
C59: Sicherheitskraft (vgl. 5.2.5 der Leistungsbeschreibung) | S59: Nachtschicht Sonntag 20.00 Uhr bis 06.00 Uhr | AB59: 1 | AK59: 10 | AT59: 52 | BC59: =AB59*AK59*AT59 -> 520 | BL59: =svs35sonnnacht -> 0 | BU59: =BC59*BL59 -> 0
C65: Sicherheitskraft (vgl. 5.2.5 der Leistungsbeschreibung) | S65: Tagschicht Feiertag 06.00 Uhr bis 20.00 Uhr | AB65: 1 | AK65: 14 | AT65: 10 | BC65: =AB65*AK65*AT65 -> 140 | BL65: =svs35feier -> 0 | BU65: =BC65*BL65 -> 0
C71: Sicherheitskraft (vgl. 5.2.5 der Leistungsbeschreibung) | S71: Nachtschicht Feiertag 20.00 Uhr bis 06.00 Uhr | AB71: 1 | AK71: 10 | AT71: 10 | BC71: =AB71*AK71*AT71 -> 100 | BL71: =svs35feiernacht -> 0 | BU71: =BC71*BL71 -> 0
C77: Gesamtsumme pro Jahr FAIR: | BU77: =SUM(BU23:CC76) -> 0

Sheet 7_Sicherheitsberatung
B2: ='0_uebersicht'!$B$2 -> Sicherheitsdienstleistungen
B3: ='0_uebersicht'!$B$3 -> in den Liegenschaften der
B4: ='0_uebersicht'!$B$4 -> GSI Helmholtzzentrum für Schwerionenforschung GmbH und FAIR GmbH
B6: Sicherheitsberatung, Analyse und Fachplanung (vgl. 4.5 der Leistungsbeschreibung)
B10: Name des Bieters (inkl. Rechtsform)
C12: ='0_uebersicht'!C16 -> 0
C17: Qualifikation | S17: Einsatzzeiten | AB17: Qualifikationsanforderungen | BC17: Stunden pro Jahr | BL17: Stundenverrechnungssatz | BU17: Preis pro Jahr
C23: Sicherheitsberatung (vgl. 4.5 der Leistungsbeschreibung) | S23: Nach Bedarf / Auf Abruf | AB23: Die eingesetzte Fachkraft muss über ein einschlägiges Hochschulstudium, insbesondere in den Bereichen Sicherheitsmanagement, Sicherheitstechnik, Ingenieurwesen oder einer vergleichbaren Fachrichtung, oder über einen Abschluss als Geprüfter Meister für Schutz und Sicherheit (IHK) verfügen. Darüber hinaus sind mindestens fünf Jahre Berufserfahrung in der konzeptionellen sicherheitsfachlichen Beratung von Liegenschaften vergleichbarer Größe und Komplexität sowie Kenntnisse der einschlägigen Regelwerke, insbesondere der DIN 77200, DIN EN 62676, DIN EN 60839 und der einschlägigen VdS-Richtlinien, erforderlich. | BC23: 80 | BU23: =ROUND(BC23*BL23,2) -> 0
C30: Gesamtsumme pro Jahr Sicherheitsberatung, Analyse und Fachplanung: | BU30: =SUM(BU23:CC29) -> 0

Sheet 8_Empfangsdienst KBW
B2: ='0_uebersicht'!$B$2 -> Sicherheitsdienstleistungen
B3: ='0_uebersicht'!$B$3 -> in den Liegenschaften der
B4: ='0_uebersicht'!$B$4 -> GSI Helmholtzzentrum für Schwerionenforschung GmbH und FAIR GmbH
B6: Bedarfsleistung/Vertretung Empfangsdienst KBW (vgl. 4.3 der Leistungsbeschreibung)
B10: Name des Bieters (inkl. Rechtsform)
C12: ='0_uebersicht'!C16 -> 0
C17: Qualifikation | S17: Einsatzzeiten | AB17: Besetzungsstärke | AK17: Stunden pro Arbeitstag | AT17: Arbeitstage pro Jahr | BC17: Stunden pro Jahr | BL17: Stundenverrechnungssatz | BU17: Preis pro Jahr
C23: Empfangskraft (vgl. 5.2.6 der Leistungsbeschreibung) | S23: Montag bis Freitag 07.00 Uhr bis 16.00 Uhr (Freitag bis 14.00 Uhr) | AB23: 1 | AK23: 9 | AT23: 110 | BC23: =AB23*AK23*AT23 -> 990 | BL23: =svs39tag -> 0 | BU23: =BC23*BL23 -> 0
C29: Gesamtsumme pro Jahr Empfangsdienst KBW: | BU29: =SUM(BU23:CC28) -> 0

Sheet 9_Bedarfsleistungen
B2: ='0_uebersicht'!$B$2 -> Sicherheitsdienstleistungen
B3: ='0_uebersicht'!$B$3 -> in den Liegenschaften der
B4: ='0_uebersicht'!$B$4 -> GSI Helmholtzzentrum für Schwerionenforschung GmbH und FAIR GmbH
B6: Bedarfsleistungen – planbar und kurzfristig (vgl. 4.4 der Leistungsbeschreibung)
B10: Name des Bieters (inkl. Rechtsform)
C12: ='0_uebersicht'!C16 -> 0
C17: Hinweis zu den Mengenansätzen Die in diesem Blatt angegebenen Stunden sowie der Anteil kurzfristig abgerufener Stunden sind vom Auftraggeber festgelegte Schätzwerte, die ausschließlich der Preiswertung der Angebote dienen. Sie stellen weder eine Mindest- noch eine Höchstabnahmemenge dar und begründen keine Verpflichtung des Auftraggebers, Bedarfsleistungen in diesem oder einem anderen Umfang abzurufen (Teil A Ziffer 1 Nr. 4 und 6). Bedarfsleistungen werden ausschließlich durch Einzelabruf oder vereinbarten Einsatzplan nach Teil B Ziffer 4.4.1 und 4.4.2 beauftragt. Vergütet werden allein die tatsächlich abgerufenen und ordnungsgemäß erbrachten Stunden zum Stundenverrechnungssatz des jeweiligen Personalprofils und Zeitfensters (Blatt 3), bei kurzfristigen Bedarfsleistungen zuzüglich des auf diesem Blatt angebotenen Zuschlags. Die Mindestvergütungsdauer nach Teil B Ziffer 1.3 bleibt unberührt. Der tatsächliche Abrufumfang kann von den Schätzwerten erheblich abweichen, insbesondere durch länger andauernde oder dauerhafte personelle Verstärkungen (z. B. infolge der FAIR-Gebäudeübernahmen oder des Perimeterschutzes, Teil B Ziffer 1.4). Die angebotenen Stundenverrechnungssätze und Zuschläge gelten unabhängig vom tatsächlichen Abrufumfang. Mengenabweichungen nach oben wie nach unten begründen keinen Anspruch auf Anpassung der Vergütung; Anpassungen nach Teil A Ziffer 8 Nr. 5 bleiben unberührt. Sämtliche Abrufe erfolgen innerhalb des Höchstwerts nach Teil A Ziffer 1 Nr. 3.
C25: Qualifikation | S25: Einsatzzeiten | AB25: Stunden pro Jahr | AK25: Stundenverrechnungssatz | AT25: Preis pro Jahr | BC25: davon kurzfristig (Stunden pro Jahr) | BL25: Zuschlag kurzfristig (€ je Stunde) | BU25: Zuschlag kurzfristig pro Jahr
C30: Objektleitung (vgl. 5.2.2 der Leistungsbeschreibung) | S30: Werktag (Tag) 06.00 Uhr bis 20.00 Uhr | AB30: 125 | AK30: =svs32tag -> 0 | AT30: =AB30*AK30 -> 0 | BC30: =ROUND(AB30*bedarf_anteil_kurz,0) -> 63 | BL30: =svs32kurz -> 0 | BU30: =ROUND(BC30*BL30,2) -> 0
C35: Schichtleiter (vgl. 5.2.3 der Leistungsbeschreibung) | S35: Werktag (Tag) 06.00 Uhr bis 20.00 Uhr | AB35: 250 | AK35: =svs33tag -> 0 | AT35: =AB35*AK35 -> 0 | BC35: =ROUND(AB35*bedarf_anteil_kurz,0) -> 125 | BL35: =svs33kurz -> 0 | BU35: =ROUND(BC35*BL35,2) -> 0
C40: Sicherheitsfachkraft (vgl. 5.2.4 der Leistungsbeschreibung) | S40: Werktag (Tag) 06.00 Uhr bis 20.00 Uhr | AB40: 2000 | AK40: =svs34tag -> 0 | AT40: =AB40*AK40 -> 0 | BC40: =ROUND(AB40*bedarf_anteil_kurz,0) -> 1000 | BL40: =svs34kurz -> 0 | BU40: =ROUND(BC40*BL40,2) -> 0
C45: Sicherheitskraft (vgl. 5.2.5 der Leistungsbeschreibung) | S45: Werktag (Tag) 06.00 Uhr bis 20.00 Uhr | AB45: 2000 | AK45: =svs35tag -> 0 | AT45: =AB45*AK45 -> 0 | BC45: =ROUND(AB45*bedarf_anteil_kurz,0) -> 1000 | BL45: =svs35kurz -> 0 | BU45: =ROUND(BC45*BL45,2) -> 0
C50: Empfangskraft (vgl. 5.2.6 der Leistungsbeschreibung) | S50: Werktag (Tag) 06.00 Uhr bis 20.00 Uhr | AB50: 175 | AK50: =svs39tag -> 0 | AT50: =AB50*AK50 -> 0 | BC50: =ROUND(AB50*bedarf_anteil_kurz,0) -> 88 | BL50: =svs39kurz -> 0 | BU50: =ROUND(BC50*BL50,2) -> 0
C55: Schichtleiter (vgl. 5.2.3 der Leistungsbeschreibung) | S55: Werktag (Nacht) 20.00 Uhr bis 06.00 Uhr | AB55: 175 | AK55: =svs33nacht -> 0 | AT55: =AB55*AK55 -> 0 | BC55: =ROUND(AB55*bedarf_anteil_kurz,0) -> 88 | BL55: =svs33kurz -> 0 | BU55: =ROUND(BC55*BL55,2) -> 0
C60: Sicherheitsfachkraft (vgl. 5.2.4 der Leistungsbeschreibung) | S60: Werktag (Nacht) 20.00 Uhr bis 06.00 Uhr | AB60: 1500 | AK60: =svs34nacht -> 0 | AT60: =AB60*AK60 -> 0 | BC60: =ROUND(AB60*bedarf_anteil_kurz,0) -> 750 | BL60: =svs34kurz -> 0 | BU60: =ROUND(BC60*BL60,2) -> 0
C65: Sicherheitskraft (vgl. 5.2.5 der Leistungsbeschreibung) | S65: Werktag (Nacht) 20.00 Uhr bis 06.00 Uhr | AB65: 1500 | AK65: =svs35nacht -> 0 | AT65: =AB65*AK65 -> 0 | BC65: =ROUND(AB65*bedarf_anteil_kurz,0) -> 750 | BL65: =svs35kurz -> 0 | BU65: =ROUND(BC65*BL65,2) -> 0
C70: Empfangskraft (vgl. 5.2.6 der Leistungsbeschreibung) | S70: Werktag (Nacht) 20.00 Uhr bis 06.00 Uhr | AB70: 50 | AK70: =svs39nacht -> 0 | AT70: =AB70*AK70 -> 0 | BC70: =ROUND(AB70*bedarf_anteil_kurz,0) -> 25 | BL70: =svs39kurz -> 0 | BU70: =ROUND(BC70*BL70,2) -> 0
C75: Schichtleiter (vgl. 5.2.3 der Leistungsbeschreibung) | S75: Sonntag (Tag) 06.00 Uhr bis 20.00 Uhr | AB75: 10 | AK75: =svs33sonn -> 0 | AT75: =AB75*AK75 -> 0 | BC75: =ROUND(AB75*bedarf_anteil_kurz,0) -> 5 | BL75: =svs33kurz -> 0 | BU75: =ROUND(BC75*BL75,2) -> 0
C80: Sicherheitsfachkraft (vgl. 5.2.4 der Leistungsbeschreibung) | S80: Sonntag (Tag) 06.00 Uhr bis 20.00 Uhr | AB80: 350 | AK80: =svs34sonn -> 0 | AT80: =AB80*AK80 -> 0 | BC80: =ROUND(AB80*bedarf_anteil_kurz,0) -> 175 | BL80: =svs34kurz -> 0 | BU80: =ROUND(BC80*BL80,2) -> 0
C85: Sicherheitskraft (vgl. 5.2.5 der Leistungsbeschreibung) | S85: Sonntag (Tag) 06.00 Uhr bis 20.00 Uhr | AB85: 350 | AK85: =svs35sonn -> 0 | AT85: =AB85*AK85 -> 0 | BC85: =ROUND(AB85*bedarf_anteil_kurz,0) -> 175 | BL85: =svs35kurz -> 0 | BU85: =ROUND(BC85*BL85,2) -> 0
C90: Empfangskraft (vgl. 5.2.6 der Leistungsbeschreibung) | S90: Sonntag (Tag) 06.00 Uhr bis 20.00 Uhr | AB90: 10 | AK90: =svs39sonn -> 0 | AT90: =AB90*AK90 -> 0 | BC90: =ROUND(AB90*bedarf_anteil_kurz,0) -> 5 | BL90: =svs39kurz -> 0 | BU90: =ROUND(BC90*BL90,2) -> 0
C95: Schichtleiter (vgl. 5.2.3 der Leistungsbeschreibung) | S95: Sonntag (Nacht) 20.00 Uhr bis 06.00 Uhr | AB95: 10 | AK95: =svs33sonnnacht -> 0 | AT95: =AB95*AK95 -> 0 | BC95: =ROUND(AB95*bedarf_anteil_kurz,0) -> 5 | BL95: =svs33kurz -> 0 | BU95: =ROUND(BC95*BL95,2) -> 0
C100: Sicherheitsfachkraft (vgl. 5.2.4 der Leistungsbeschreibung) | S100: Sonntag (Nacht) 20.00 Uhr bis 06.00 Uhr | AB100: 250 | AK100: =svs34sonnnacht -> 0 | AT100: =AB100*AK100 -> 0 | BC100: =ROUND(AB100*bedarf_anteil_kurz,0) -> 125 | BL100: =svs34kurz -> 0 | BU100: =ROUND(BC100*BL100,2) -> 0
C105: Sicherheitskraft (vgl. 5.2.5 der Leistungsbeschreibung) | S105: Sonntag (Nacht) 20.00 Uhr bis 06.00 Uhr | AB105: 250 | AK105: =svs35sonnnacht -> 0 | AT105: =AB105*AK105 -> 0 | BC105: =ROUND(AB105*bedarf_anteil_kurz,0) -> 125 | BL105: =svs35kurz -> 0 | BU105: =ROUND(BC105*BL105,2) -> 0
C110: Empfangskraft (vgl. 5.2.6 der Leistungsbeschreibung) | S110: Sonntag (Nacht) 20.00 Uhr bis 06.00 Uhr | AB110: 10 | AK110: =svs39sonnnacht -> 0 | AT110: =AB110*AK110 -> 0 | BC110: =ROUND(AB110*bedarf_anteil_kurz,0) -> 5 | BL110: =svs39kurz -> 0 | BU110: =ROUND(BC110*BL110,2) -> 0
C115: Schichtleiter (vgl. 5.2.3 der Leistungsbeschreibung) | S115: Feiertag (Tag) 06.00 Uhr bis 20.00 Uhr | AB115: 10 | AK115: =svs33feier -> 0 | AT115: =AB115*AK115 -> 0 | BC115: =ROUND(AB115*bedarf_anteil_kurz,0) -> 5 | BL115: =svs33kurz -> 0 | BU115: =ROUND(BC115*BL115,2) -> 0
C120: Sicherheitsfachkraft (vgl. 5.2.4 der Leistungsbeschreibung) | S120: Feiertag (Tag) 06.00 Uhr bis 20.00 Uhr | AB120: 100 | AK120: =svs34feier -> 0 | AT120: =AB120*AK120 -> 0 | BC120: =ROUND(AB120*bedarf_anteil_kurz,0) -> 50 | BL120: =svs34kurz -> 0 | BU120: =ROUND(BC120*BL120,2) -> 0
C125: Sicherheitskraft (vgl. 5.2.5 der Leistungsbeschreibung) | S125: Feiertag (Tag) 06.00 Uhr bis 20.00 Uhr | AB125: 100 | AK125: =svs35feier -> 0 | AT125: =AB125*AK125 -> 0 | BC125: =ROUND(AB125*bedarf_anteil_kurz,0) -> 50 | BL125: =svs35kurz -> 0 | BU125: =ROUND(BC125*BL125,2) -> 0
C130: Empfangskraft (vgl. 5.2.6 der Leistungsbeschreibung) | S130: Feiertag (Tag) 06.00 Uhr bis 20.00 Uhr | AB130: 5 | AK130: =svs39feier -> 0 | AT130: =AB130*AK130 -> 0 | BC130: =ROUND(AB130*bedarf_anteil_kurz,0) -> 3 | BL130: =svs39kurz -> 0 | BU130: =ROUND(BC130*BL130,2) -> 0
C135: Schichtleiter (vgl. 5.2.3 der Leistungsbeschreibung) | S135: Feiertag (Nacht) 20.00 Uhr bis 06.00 Uhr | AB135: 10 | AK135: =svs33feiernacht -> 0 | AT135: =AB135*AK135 -> 0 | BC135: =ROUND(AB135*bedarf_anteil_kurz,0) -> 5 | BL135: =svs33kurz -> 0 | BU135: =ROUND(BC135*BL135,2) -> 0
C140: Sicherheitsfachkraft (vgl. 5.2.4 der Leistungsbeschreibung) | S140: Feiertag (Nacht) 20.00 Uhr bis 06.00 Uhr | AB140: 75 | AK140: =svs34feiernacht -> 0 | AT140: =AB140*AK140 -> 0 | BC140: =ROUND(AB140*bedarf_anteil_kurz,0) -> 38 | BL140: =svs34kurz -> 0 | BU140: =ROUND(BC140*BL140,2) -> 0
C145: Sicherheitskraft (vgl. 5.2.5 der Leistungsbeschreibung) | S145: Feiertag (Nacht) 20.00 Uhr bis 06.00 Uhr | AB145: 75 | AK145: =svs35feiernacht -> 0 | AT145: =AB145*AK145 -> 0 | BC145: =ROUND(AB145*bedarf_anteil_kurz,0) -> 38 | BL145: =svs35kurz -> 0 | BU145: =ROUND(BC145*BL145,2) -> 0
C150: Empfangskraft (vgl. 5.2.6 der Leistungsbeschreibung) | S150: Feiertag (Nacht) 20.00 Uhr bis 06.00 Uhr | AB150: 5 | AK150: =svs39feiernacht -> 0 | AT150: =AB150*AK150 -> 0 | BC150: =ROUND(AB150*bedarf_anteil_kurz,0) -> 3 | BL150: =svs39kurz -> 0 | BU150: =ROUND(BC150*BL150,2) -> 0
C155: Gesamtsumme pro Jahr Bedarfsleistungen: | AT155: =SUM(AT30:BB154) -> 0 | BC155: Gesamtsumme pro Jahr Zuschlag kurzfristige Bedarfsleistungen: | BU155: =SUM(BU30:CC154) -> 0
C162: Personalprofil | S162: Zuschlag für kurzfristige Bedarfsleistungen (vgl. Teil B Ziffer 1.3 und 4.4.2 der Leistungsbeschreibung) | AT162: Zuschlag in € je Stunde
C167: Objektleitung | S167: Der Zuschlag wird ausschließlich bei kurzfristigen Bedarfsleistungen (Teil B Ziffer 4.4.2) zusätzlich zum Stundenverrechnungssatz des abgerufenen Personalprofils je geleisteter Stunde vergütet. Er gilt einheitlich für alle Zeitfenster (werktags, sonntags, feiertags; tags und nachts) und entfällt ab dem sechsten zusammenhängenden Kalendertag eines Einsatzes. Planbare Bedarfsleistungen (Teil B Ziffer 4.4.1) werden ohne Zuschlag vergütet.
C169: Schichtleiter
C171: Sicherheitsfachkraft
C173: Sicherheitskraft
C175: Empfangskraft
...
