Workbook

Sheet Projektkosten gesamt
A1: Ausschreibung 80/2600041001
A2: Projekt: GSI – Green IT Cube / Ertüchtigung und Erweiterung der MSR-Technik
A3: Zellen füllen sich automatisch aus, wenn die Grau-hinterlegten Zellen in den nachfolgenden Reitern befüllt worden sind.
A4: Nr. | B4: Bezeichnung | C4: Gesamtpreis
A5: 1 | B5: allg. Projektkosten | C5: ='allg. Projektkosten'!G26 -> 0
A6: 2 | B6: Neue Kopfstation KP.Uxx | C6: ='Neue Kopfstation KP.Uxx'!G59 -> 0
A7: 3 | B7: Anpassung KP.U80 | C7: ='Anpassung KP.U80'!G25 -> 0
A8: 4 | B8: Anpassung KP.U81 | C8: ='Anpassung KP.U81'!G10 -> 0
A9: 5 | B9: Anpassung KP.U83 | C9: ='Anpassung KP.U83'!G26 -> 0
A10: 6 | B10: Anpassung KP.U84 | C10: ='Anpassung KP.U84'!G25 -> 0
A11: 7 | B11: Anpassung KP.U86 | C11: ='Anpassung KP.U86'!G25 -> 0
A12: 8 | B12: Anpassung LA.U88 | C12: ='Anpassung LA.U88'!G25 -> 0
A13: Projektkosten gesamt | C13: =SUM(C5:C12) -> 0

Sheet allg. Projektkosten
A1: Ausschreibung 80/2600041001
A2: Projekt: GSI – Green IT Cube / Ertüchtigung und Erweiterung der MSR-Technik
A3: Allgemeine Projektkosten über alle genannten KP.UXX-Komponenten, Schaltschränke etc. Preiseintragung in den GRAU-hinterlegten Feldern.
A4: Nr. | B4: Menge | C4: Einheit | D4: Bezeichnung | E4: Beschreibung | F4: Einzelpreis | G4: Gesamtpreis
A5: 1 | B5: 1 | C5: LE | D5: Gesamt-Projektierung, Koordination und -dokumentation | E5: Kommunikation und Absprache mit dem Auftraggeber bzgl. technischer Planung, Umsetzung und Dokumentation, Klärung mit anderen Gewerken, Terminkoordination und Abstimmung der Nachunternehmer, Materiallogistik, Ressourcenplanung, remote | G5: =B5*F5 -> 0
A6: 2 | B6: 10 | C6: Tage | D6: An- und Abfahrtspauschale | E6: nur für Abstimmungen, die zwingend Vor-Ort erfolgen müssen Die Abrechnung erfolgt ausschließlich gemäß Bundesreisekostengesetz (vgl. Leitfaden Bundesreisekostengesetz). Hotelkosten werden erst ab einen Umkreis von 100km gewährt. Reisezeiten werden nicht vergütet. Hotelkosten werden max. in Höhe von 87 € inkl. Frühstück pro Übernachtung & Person vergütet. Für Strecken, die mit einem Kraftfahrzeug (unabhängig von Art und Hubraum des Fahrzeuges) zurückgelegt werden, wird eine pauschale Wegstrecken-entschädigung in Höhe von 0,20 Euro pro Kilometer, begrenzt auf einen Höchstbetrag von 130,-- Euro gewährt. Mit dieser Wegstreckenentschädigung sind auch die Kosten für die Mitnahme weiterer Mitarbeiter sowie die Mitnahme von dienstlichem und persönlichem Gepäck abgegolten. Die tatsächlich entstanden Aufwendungen sind als Nachweis einzureichen und können nach Prüfung durch den AG in Rechnung gestellt werden. | G6: =B6*F6 -> 0
A7: 3 | B7: =288+1+1+162+1+1+107+1+1+78+1 -> 642 | C7: Std. | D7: Projektierung, Planung und Auslegung | E7: Anpassung und Auslegung Zuordnungsliste, Anpassung Geberliste Überarbeitung Funktionsbeschreibung, Auslegung AG Aufbau, Planerstellung für Netzwerktopologie Profibus/ Netzwerk, bei Bedarf Projektierung diverser Schaltschränke | G7: =B7*F7 -> 0
A8: 4 | B8: =284+184+162+107+78 -> 815 | C8: Std. | D8: Programmierung (NEU) | E8: in divers. Schaltschränken | G8: =B8*F8 -> 0
A9: 5 | B9: =170+40+40+40+40 -> 330 | C9: Std. | D9: Prüfung bestehender Programmierungen | E9: Prüfung bestehender Programmierungen und Optimierung aktueller Regelstrategie, Programmier-, Dokumentationsaufwand in diversen Schaltschränken Abrechnung erfolgt nach tatsächlich erbrachten Aufwand | G9: =B9*F9 -> 0
A10: 6 | B10: 1 | C10: LE | D10: Schnittstellenprogrammierung zu GSI-IT | E10: Bereitstellung von Messwerten und Anlagenzuständen von den SIMATIC- Steuerungen für das Monitoring-System der GSI-IT; inkl. gemeinsame Inbetriebnahme mit dem AG. | G10: =B10*F10 -> 0
A11: 7 | B11: =286+184+1+162+1+107+1+78+1 -> 821 | C11: LE | D11: Inbetriebnahme | E11: neuer Kopfstation und diversen Schaltschränken | G11: =B11*F11 -> 0
A12: 8 | B12: 1 | C12: PSC | D12: Mehraufwand für Inbetriebnahme aufgrund Umbau im lfd. Betrieb pro Arbeitspaket | E12: Mehraufwand ist vorab dem AG anzuzeigen und von diesem freizugeben, ohne schriftliche Freigabe des angezeigten Mehraufwandes vorab, erfolgt keine Abrechnung. Der AG geht von max. 10 Std. Mehraufwand aus | G12: =B12*F12 -> 0
A13: 9 | B13: =2+1+1+1+1 -> 6 | C13: LE | D13: Prüfung bestehender Kabelbeschilderung pro Arbeitspaket | E13: bei Bedarf in diversen Schaltschränken bestehend aus: - Abgleich mit dem Stromlaufplan - Erstellen notwendiger neuer Schilder - Reviosion im Stromlaufplan | G13: =B13*F13 -> 0
A14: 10 | B14: 1 | C14: LE | D14: Dokumentation nach GSI Standard | E14: Für alle gelieferten und eingebauten Geräte sind die technischen Datenblätter, Herstellerunterlagen, Konformitäts-/Zulassungsnachweise und erforderlichen Dokumentationsunterlagen mit der Projektdokumentation zu übergeben. Einzubeziehen sind insbesondere Bestands-/Revisionsunterlagen der bearbeiteten Schaltschrank- und Automationskomponenten sowie die zugehörigen technischen Unterlagen. | G14: =B14*F14 -> 0
A15: 11 | B15: =20+8+7+5+4 -> 44 | C15: Stück | D15: Grafik -/Anlagenbild | E15: bei Bedarf an diversen Schaltschränken, beinhaltet ebenfalls die Anpassung bestehender Grafiken | G15: =B15*F15 -> 0
A16: 12 | B16: =284+184+162+107+78 -> 815 | C16: Stück | D16: Dynamische Einblendung | E16: bei Bedarf an diversen Schaltschränken | G16: =B16*F16 -> 0
A17: 13 | B17: 1 | C17: LE | D17: Anpassung Standardbibliothek | E17: GSI-Standard Erweiterung der bestehenden HLK- Bibliothek, um die neu hinzukommenden Funktionen zu integrieren | G17: =B17*F17 -> 0
A18: 14 | B18: 50 | C18: Std. | D18: 1:1 Test zusammen mit AG | E18: Die Abrechnung dieser Position erfolgt lediglich für unvorhergesehene Arbeiten nach Zeit und Aufwand zu dem genannten Stundensatz. Bemerkung zu 1:1 Test Schaltschrank: Nur im Schrank von DDC bis Klemme. | G18: =B18*F18 -> 0
A19: 15 | B19: 1 | C19: LE | D19: 2 Wochen Probebetrieb | E19: bestehend aus: - Einstellung der Parameter mit AG - Stichpunktartiger Funktionstest mit AG - Mögliche daraus resultierende - Anlagenoptimierung | G19: =B19*F19 -> 0
A20: 17 | B20: 1 | C20: LE | D20: Demontage & Montage | E20: Demontage alter Komponenten, TP, CPU und I/O Einbau und Verdrahtung neuer Komponenten, CPU und I/O. | G20: =B20*F20 -> 0
A21: 18 | B21: 200 | C21: Meter | D21: Datensteuerleitung, halogenfrei, – oder gleichwertig | E21: geschirmt 2x2x0,5mm² Fachgerechte Verlegung sowie Anschluss auf Bestandstrasse. 1.546,00 | G21: =B21*F21 -> 0
A22: 19 | B22: 200 | C22: Meter | D22: Datensteuerleitung, halogenfrei, – oder gleichwertig | E22: geschirmt 4x2x0,5mm² Fachgerechte Verlegung sowie Anschluss auf Bestandstrasse. | G22: =B22*F22 -> 0
A23: 20 | B23: 200 | C23: Meter | D23: SUPER-PAAR-TRONIC-340-C-PUR grau – oder gleichwertig | E23: Fachgerechte Verlegung auf Bestandstrasse. | G23: =B23*F23 -> 0
A24: 21 | B24: 25 | C24: Std. | D24: Stundenverrechnungssatz Obermonteur | E24: Leistung beinhaltet das fachgerechte Verlegen, Anklemmen und Rückbauen bauseits bereitgestellter Kabel. Inkl. Teilnahme an Besprechungen sowie deren Vor- und Nachbereitung. Die Abrechnung erfolgt auf Nachweis je erbrachter Stunde. | G24: =B24*F24 -> 0
A25: 22 | B25: 25 | C25: Std. | D25: Stundenverrechnungssatz Fachmonteur | E25: Leistung beinhaltet das fachgerechte Verlegen, Anklemmen und Rückbauen bauseits bereitgestellter Kabel. Inkl. Teilnahme an Besprechungen sowie deren Vor- und Nachbereitung. Die Abrechnung erfolgt auf Nachweis je erbrachter Stunde. | G25: =B25*F25 -> 0
E26: Gesamtkosten "allg. Projektkosten" | G26: =SUM(H5:H25) -> 0

Sheet Neue Kopfstation KP.Uxx
A1: Ausschreibung 80/2600041001
A2: Projekt: GSI – Green IT Cube / Ertüchtigung und Erweiterung der MSR-Technik
A3: Das Gerät/die Geräte sind in der genannten Ausführung bzw. mit den genannten technischen Mindestmerkmalen anzubieten. Ein technisch gleichwertiges Gerät(e) ist zulässig. Die Gleichwertigkeit ist durch den Bieter anhand von Datenblättern und technischen Unterlagen nachzuweisen. Preiseintragung in den GRAU-hinterlegten Feldern.
A4: Nr. | B4: Menge | C4: Einheit | D4: Bezeichnung | E4: Beschreibung | F4: Einzelpreis | G4: Gesamtpreis
A5: 1 | B5: 1 | C5: Stück | D5: SIMATIC S7-1500, Profilschiene 245mm – oder gleichwertig | E5: inkl. Erdungsschraube SIMATIC S7-1500, Profilschiene 245mm (ca. 9,6 inch); inkl. Erdungsschraube, integrierte Hutprofilschiene zum Montieren von Kleinmaterial wie z.B. Klemmen, Sicherungs- Automaten und Relais | G5: =B5*F5 -> 0
A6: 2 | B6: 1 | C6: Stück | D6: SIMATIC S7-1500, CPU 1517-3 PN – oder gleichwertig | E6: Zentralbaugruppe 4MB/50MB SIMATIC S7-1500, CPU 1517-3 PN, Zentralbaugruppe mit Arbeitsspeicher 4MByte für Programm und 50MByte für Daten, 1. Schnittstelle: PROFINET IRT mit 2 Port Switch, 2. Schnittstelle: PROFINET IRT, mit 2 Port Switch, 3. Schnittstelle: Ethernet, 0,6 ns Bit- Performance, SIMATIC Memory Card notwendig Merkmale: - Programmierbar entsprechend IEC 61131 - Konsistente Datenhaltung der Anwendersoftware auf der CPU - Automatisches netzwerkunabhängiges Routing über PROFINET/PROFIBUS - Integrierter Webserver - Integrierte Kommunikationsdienste (PROFINET IO, TCP/IP, UDP, ISO on TCP, SNMP, DCP, LLDP, MODBUS TCP, OPC UA) - Integrierte Securityfunktionen wie Know How-, Kopier- sowie Zugriffsschutz - Display zur Klartextanzeige, Diagnosemeldung und Grundeinstellungen, mehrsprachig - Erweiterbar mit Dezentraler Peripherie Zulassungen: CE; ATEX; EN 61000-6-4; EN 60068-2-1/-2/-6/-13/-14/-27/-30/-31/- 42/-43/-78; EN 61131-2. | G6: =B6*F6 -> 0
A7: 3 | B7: 1 | C7: Stück | D7: Kommunikationsprozessor CP 1545-1 zum – oder gleichwertig | E7: Anschluss von SIMATIC S7-1500 | G7: =B7*F7 -> 0
A8: 4 | B8: 1 | C8: Stück | D8: Phasenüberwachung Janitza UMG96RM-PN – oder gleichwertig | E8: Phasenüberwachung Janitza UMG96RM-PN. | G8: =B8*F8 -> 0
A9: 5 | B9: 1 | C9: Stück | D9: SIMATIC S7, Memory Card für S7-1x00 | E9: 256 MByte SIMATIC S7, Memory Card für S7-1x00 CPU/SINAMICS, 3, 3V Flash, 256 Mbyte. | G9: =B9*F9 -> 0
A10: 6 | B10: 1 | C10: Stück | D10: SIMATIC, Normprofilschiene | E10: 35mm,Länge 530mm, für 600mm-Schränke SIMATIC, NORMPROFILSCHIENE 35MM, LAENGE 530MM FUER 600MM-SCHRÄNKE | G10: =B10*F10 -> 0
A11: 7 | B11: 1 | C11: Stück | D11: SIMATIC ET 200SP, Bundle | E11: PROFINET Interface-Modul IM 155-6 PN ST, max. 32 Peripheriemodule, und 16 ET 200AL Module, Multi Hot SWAP, optionale PN-Zugentlastung, PN Security Class 1, Bundle besteht aus: Interface-Modul (6ES7155-6AU02-0BN0), Server-Modul (6ES7193-6PA00-0AA0), SIMATIC Busadapter BA 2x RJ45 (6ES7193-6AR00-0AA0) | G11: =B11*F11 -> 0
A12: 8 | B12: 1 | C12: Stück | D12: SIMATIC ET200SP, DI 16x 24V DC ST 1 – oder gleichwertig | E12: DI-Modul Standard, E-typ 3, VPE 1 SIMATIC ET 200SP, Digitales Eingangsmodul, DI 16x 24V DC Standard, Eingangstyp 3 (IEC 61131), Sink Input, (PNP, P-lesend), Verpackungseinheit: 1 Stück, passend für BU-Typ A0, Farbcode CC00, Eingangsverzögerung 0,05..20ms; Modul-Diagnose für: Drahtbruch, Versorgungsspannung. | G12: =B12*F12 -> 0
A13: 9 | B13: 1 | C13: Stück | D13: SIMANTIC ET200SP BASEUNIT – oder gleichwertig | E13: BU15-P16+A0+2D SIMATIC ET 200SP, BASEUNIT BU15-P16+A0+ 2D, BU-TYPE A0, PUSH-IN KLEMMEN, OHNE AUX-KLEMMEN, NEUE LASTGRUPPE, BXH: 15MMX117MM | G13: =B13*F13 -> 0
A14: 10 | B14: 1 | C14: Stück | D14: SIMANTIC ET200SP DQ 16xDC/05 – oder gleichwertig | E14: SIMATIC ET200SP, DQ 16xDC 24V/0,5A, DQ-Modul Standard, VPE 1 SIMATIC ET 200SP, Digitales Ausgangsmodul, DQ 16x 24V DC/0,5A Standard, Source Output (PNP,P-schaltend) Verpackungseinheit: 1 Stück, passend für BU-Typ A0, Farbcode CC00, Ersatzwertausgabe, Modul-Diagnose für: Kurzschluss nach L+ und M, Drahtbruch, Versorgungsspannung | G14: =B14*F14 -> 0
A15: 11 | B15: 1 | C15: Stück | D15: SIMANTIC ET200SP AI 3xU/I – oder gleichwertig | E15: SIMATIC ET200SP, AI 4xU/I ST 1 AI-Modul 2-wire Standard, VPE 1 SIMATIC ET 200SP, analoges Eingangsmodul, AI 4XU/I 2-Wire Standard, Verpackungsmenge: 1 Stück, passend für BU-Typ A0, A1, Farbcode CC03, Modul-Diagnose, 16 Bit, +/-0,3% | G15: =B15*F15 -> 0
A16: 12 | B16: 1 | C16: Stück | D16: SIMANTIC ET200SP AI 4xRTD/TC – oder gleichwertig | E16: SIMATIC ET200SP, AI 4xRTD/TC HF 1 AI-Modul 2-/3-/4-wire HF, VPE 1 SIMATIC ET 200SP, analoges Eingangsmodul, AI 4xRTD/TC High Feature, passend für BU-Typ A0, A1, Farbcode CC00, Kanal-Diagnose, 16Bit, +/-0,1%, 2-/3-/4-Wire | G16: =B16*F16 -> 0
... A58: 54 | B58: 8 | C58: Std. | D58: AGAG-Kopplung für Kommunikationsaustausch | E58: Leistung für die Einrichtung bzw. Bearbeitung einer AGAG-Kopplung zum Kommunikationsaustausch. Abrechnung nach Stunden. Die Leistung umfasst die erforderlichen Abstimmungen und Arbeiten zur Herstellung bzw. Anpassung des vorgesehenen Kommunikationsaustauschs gemäß Projektvorgaben. | G58: =B58*F58 -> 0
E59: Gesamtkosten "Neue Kopfstation KP.Uxx" | G59: =SUM(H5:H58) -> 0

Sheet Anpassung KP.U80
A1: Ausschreibung 80/2600041001
A2: Projekt: GSI – Green IT Cube / Ertüchtigung und Erweiterung der MSR-Technik
A3: Das Gerät/die Geräte sind in der genannten Ausführung bzw. mit den genannten technischen Mindestmerkmalen anzubieten. Ein technisch gleichwertiges Gerät(e) ist zulässig. Die Gleichwertigkeit ist durch den Bieter anhand von Datenblättern und technischen Unterlagen nachzuweisen. Preiseintragung in den GRAU-hinterlegten Feldern.
A4: Nr. | B4: Menge | C4: Einheit | D4: Bezeichnung | E4: Beschreibung | F4: Einzelpreis | G4: Gesamtpreis
A5: 1 | B5: 1 | C5: Stück | D5: SIMATIC S7-1500, Profilschiene 245mm – oder gleichwertig | E5: inkl. Erdungsschraube SIMATIC S7-1500, Profilschiene 245mm (ca. 9,6 inch); inkl. Erdungsschraube, integrierte Hutprofilschiene zum Montieren von Kleinmaterial wie z.B. Klemmen, Sicherungs- Automaten und Relais | G5: =B5*F5 -> 0
A6: 2 | B6: 1 | C6: Stück | D6: SIMATIC S7-1500, CPU 1517-3 PN – oder gleichwertig | E6: Zentralbaugruppe 4MB/50MB SIMATIC S7-1500, CPU 1517-3 PN, Zentralbaugruppe mit Arbeitsspeicher 4MByte für Programm und 50MByte für Daten, 1. Schnittstelle: PROFINET IRT mit 2 Port Switch, 2. Schnittstelle: PROFINET IRT, mit 2 Port Switch, 3. Schnittstelle: Ethernet, 0,6 ns Bit- Performance, SIMATIC Memory Card notwendig Merkmale: - Programmierbar entsprechend IEC 61131 - Konsistente Datenhaltung der Anwendersoftware auf der CPU - Automatisches netzwerkunabhängiges Routing über PROFINET/PROFIBUS - Integrierter Webserver - Integrierte Kommunikationsdienste (PROFINET IO, TCP/IP, UDP, ISO on TCP, SNMP, DCP, LLDP, MODBUS TCP, OPC UA) - Integrierte Securityfunktionen wie Know How-, Kopier- sowie Zugriffsschutz - Display zur Klartextanzeige, Diagnosemeldung und Grundeinstellungen, mehrsprachig - Erweiterbar mit Dezentraler Peripherie Zulassungen: CE; ATEX; EN 61000-6-4; EN 60068-2-1/-2/-6/-13/-14/-27/-30/-31/- 42/-43/-78; EN 61131-2. | G6: =B6*F6 -> 0
A7: 3 | B7: 1 | C7: Stück | D7: Kommunikationsprozessor CP 1545-1 zum – oder gleichwertig | E7: Anschluss von SIMATIC S7-1500 | G7: =B7*F7 -> 0
A8: 4 | B8: 1 | C8: Stück | D8: Phasenüberwachung Janitza UMG96RM-PN – oder gleichwertig | E8: Phasenüberwachung Janitza UMG96RM-PN. | G8: =B8*F8 -> 0
A9: 5 | B9: 1 | C9: Stück | D9: SIMATIC S7, Memory Card für S7-1x00 | E9: 256 MByte SIMATIC S7, Memory Card für S7-1x00 CPU/SINAMICS, 3, 3V Flash, 256 Mbyte. | G9: =B9*F9 -> 0
A10: 6 | B10: 1 | C10: Stück | D10: SIMATIC, Normprofilschiene | E10: 35mm,Länge 530mm, für 600mm-Schränke SIMATIC, NORMPROFILSCHIENE 35MM, LAENGE 530MM FUER 600MM-SCHRÄNKE. | G10: =B10*F10 -> 0
A11: 7 | B11: 1 | C11: Stück | D11: SIMATIC ET 200SP, Bundle | E11: PROFINET Interface-Modul IM 155-6 PN ST, max. 32 Peripheriemodule, und 16 ET 200AL Module, Multi Hot SWAP, optionale PN-Zugentlastung, PN Security Class 1, Bundle besteht aus: Interface-Modul (6ES7155-6AU02-0BN0), Server-Modul (6ES7193-6PA00-0AA0), SIMATIC Busadapter BA 2x RJ45 (6ES7193-6AR00-0AA0) | G11: =B11*F11 -> 0
A12: 8 | B12: 6 | C12: Stück | D12: SIMATIC ET200SP, DI 16x 24V DC ST 1 – oder gleichwertig | E12: DI-Modul Standard, E-typ 3, VPE 1 SIMATIC ET 200SP, Digitales Eingangsmodul, DI 16x 24V DC Standard, Eingangstyp 3 (IEC 61131), Sink Input, (PNP, P-lesend), Verpackungseinheit: 1 Stück, passend für BU-Typ A0, Farbcode CC00, Eingangsverzögerung 0,05..20ms; Modul-Diagnose für: Drahtbruch, Versorgungsspannung. | G12: =B12*F12 -> 0
A13: 9 | B13: 13 | C13: Stück | D13: SIMANTIC ET200SP BASEUNIT – oder gleichwertig | E13: BU15-P16+A0+2D SIMATIC ET 200SP, BASEUNIT BU15-P16+A0+ 2D, BU-TYPE A0, PUSH-IN KLEMMEN, OHNE AUX-KLEMMEN, NEUE LASTGRUPPE, BXH: 15MMX117MM | G13: =B13*F13 -> 0
A14: 10 | B14: 2 | C14: Stück | D14: SIMANTIC ET200SP DQ 16xDC/05 – oder gleichwertig | E14: SIMATIC ET200SP, DQ 16xDC 24V/0,5A, DQ-Modul Standard, VPE 1 SIMATIC ET 200SP, Digitales Ausgangsmodul, DQ 16x 24V DC/0,5A Standard, Source Output (PNP,P-schaltend) Verpackungseinheit: 1 Stück, passend für BU-Typ A0, Farbcode CC00, Ersatzwertausgabe, Modul-Diagnose für: Kurzschluss nach L+ und M, Drahtbruch, Versorgungsspannung | G14: =B14*F14 -> 0
A15: 11 | B15: 3 | C15: Stück | D15: SIMANTIC ET200SP AI 3xU/I – oder gleichwertig | E15: SIMATIC ET200SP, AI 4xU/I ST 1 AI-Modul 2-wire Standard, VPE 1 SIMATIC ET 200SP, analoges Eingangsmodul, AI 4XU/I 2-Wire Standard, Verpackungsmenge: 1 Stück, passend für BU-Typ A0, A1, Farbcode CC03, Modul-Diagnose, 16 Bit, +/-0,3% | G15: =B15*F15 -> 0
A16: 12 | B16: 1 | C16: Stück | D16: SIMANTIC ET200SP AI 4xRTD/TC – oder gleichwertig | E16: SIMATIC ET200SP, AI 4xRTD/TC HF 1 AI-Modul 2-/3-/4-wire HF, VPE 1 SIMATIC ET 200SP, analoges Eingangsmodul, AI 4xRTD/TC High Feature, passend für BU-Typ A0, A1, Farbcode CC00, Kanal-Diagnose, 16Bit, +/-0,1%, 2-/3-/4-Wire | G16: =B16*F16 -> 0
... A24: 20 | B24: 15 | C24: Stück | D24: Elektronischer Schutzschalter; 1-kanalig – oder gleichwertig | E24: Eingangsspannung DC 24 V; einstellbar 1 # 8 A; Meldekontakt nur DDC Feld | G24: =B24*F24 -> 0
E25: Gesamtkosten "Anpassung KP.U80" | G25: =SUM(H5:H24) -> 0

Sheet Anpassung KP.U81
A1: Ausschreibung 80/2600041001
A2: Projekt: GSI – Green IT Cube / Ertüchtigung und Erweiterung der MSR-Technik
A3: Das Gerät/die Geräte sind in der genannten Ausführung bzw. mit den genannten technischen Mindestmerkmalen anzubieten. Ein technisch gleichwertiges Gerät(e) ist zulässig. Die Gleichwertigkeit ist durch den Bieter anhand von Datenblättern und technischen Unterlagen nachzuweisen. Preiseintragung in den GRAU-hinterlegten Feldern.
A4: Nr. | B4: Menge | C4: Einheit | D4: Bezeichnung | E4: Beschreibung | F4: Einzelpreis | G4: Gesamtpreis
A5: 1 | B5: 1 | C5: Stück | D5: SIMATIC HMI MTP1500,Unified ComfortPanel – oder gleichwertig | E5: Touchbedienung,15,6" Widescreen TFT-Disp IMATIC HMI MTP1500, Unified Comfort Panel, Touchbedienung, 15,6" Widescreen- TFT-Display, 16 MIO Farben, PROFINET Schnittstelle, projektierbar ab WinCC Unified Comfort V16 | G5: =B5*F5 -> 0
A6: 4 | B6: 1 | C6: Stück | D6: Phasenüberwachung Janitza UMG96RM-PN – oder gleichwertig | G6: =B6*F6 -> 0
A7: 5 | B7: 1 | C7: Stück | D7: SCALANCE XC208 managed Layer 2 Switch – oder gleichwertig | E7: 8 x 10/100 Mbit/s SCALANCE XC208 managebarer Layer 2 IE Switch; 8x 10/100 Mbit/s RJ45-Ports; 1x Konsolen-Port; Diagnose-LED; redundante Spannungsversorgung; Temp.-Bereich-40°C bis +70°C; Montage: Hut-/S7- Profilschiene/Wand Redundanzfunktionen Office Features (RSTP, VLAN ,...); PROFINET IO-Device Ethernet/IP-konform C-PLUG Schacht | G7: =B7*F7 -> 0
A8: 19 | B8: 1 | C8: LE | D8: Bearbeitung von TP | E8: Verschließen Öffnungen TP mit Blech, Vergrößerung Türausschnitt für neues TP, | G8: =B8*F8 -> 0
A9: 20 | B9: 27 | C9: Stück | D9: Elektronischer Schutzschalter; 1-kanalig – oder gleichwertig | E9: Eingangsspannung DC 24 V; einstellbar 1 # 8 A; Meldekontakt nur DDC Feld | G9: =B9*F9 -> 0
E10: Gesamtkosten "Anpassung KP.U81" | G10: =SUM(H5:H9) -> 0

Sheet Anpassung KP.U83
A1: Ausschreibung 80/2600041001
A2: Projekt: GSI – Green IT Cube / Ertüchtigung und Erweiterung der MSR-Technik
A3: Das Gerät/die Geräte sind in der genannten Ausführung bzw. mit den genannten technischen Mindestmerkmalen anzubieten. Ein technisch gleichwertiges Gerät(e) ist zulässig. Die Gleichwertigkeit ist durch den Bieter anhand von Datenblättern und technischen Unterlagen nachzuweisen. Preiseintragung in den GRAU-hinterlegten Feldern.
A4: Nr. | B4: Menge | C4: Einheit | D4: Bezeichnung | E4: Beschreibung | F4: Einzelpreis | G4: Gesamtpreis
A5: 1 | B5: 1 | C5: Stück | D5: SIMATIC S7-1500, Profilschiene 245mm – oder gleichwertig | E5: inkl. Erdungsschraube SIMATIC S7-1500, Profilschiene 245mm (ca. 9,6 inch); inkl. Erdungsschraube, integrierte Hutprofilschiene zum Montieren von Kleinmaterial wie z.B. Klemmen, Sicherungs- Automaten und Relais | G5: =B5*F5 -> 0
A6: 2 | B6: 1 | C6: Stück | D6: SIMATIC S7-1500, CPU 1517-3 PN – oder gleichwertig | E6: Zentralbaugruppe 4MB/50MB SIMATIC S7-1500, CPU 1517-3 PN, Zentralbaugruppe mit Arbeitsspeicher 4MByte für Programm und 50MByte für Daten, 1. Schnittstelle: PROFINET IRT mit 2 Port Switch, 2. Schnittstelle: PROFINET IRT, mit 2 Port Switch, 3. Schnittstelle: Ethernet, 0,6 ns Bit- Performance, SIMATIC Memory Card notwendig Merkmale: - Programmierbar entsprechend IEC 61131 - Konsistente Datenhaltung der Anwendersoftware auf der CPU - Automatisches netzwerkunabhängiges Routing über PROFINET/PROFIBUS - Integrierter Webserver - Integrierte Kommunikationsdienste (PROFINET IO, TCP/IP, UDP, ISO on TCP, SNMP, DCP, LLDP, MODBUS TCP, OPC UA) - Integrierte Securityfunktionen wie Know How-, Kopier- sowie Zugriffsschutz - Display zur Klartextanzeige, Diagnosemeldung und Grundeinstellungen, mehrsprachig - Erweiterbar mit Dezentraler Peripherie Zulassungen: CE; ATEX; EN 61000-6-4; EN 60068-2-1/-2/-6/-13/-14/-27/-30/-31/- 42/-43/-78; EN 61131-2. | G6: =B6*F6 -> 0
A7: 3 | B7: 1 | C7: Stück | D7: Kommunikationsprozessor CP 1545-1 zum – oder gleichwertig | E7: Anschluss von SIMATIC S7-1500 1.902,06 | G7: =B7*F7 -> 0
A8: 4 | B8: 1 | C8: Stück | D8: Phasenüberwachung Janitza UMG96RM-PN – oder gleichwertig | G8: =B8*F8 -> 0
A9: 5 | B9: 1 | C9: Stück | D9: SIMATIC S7-1500, CP 1542-5 – oder gleichwertig | E9: Kommunikationsprozessor CP 1542-5 zum Anschluss von SIMATIC S7-1500 an PROFIBUS-DP, DPV1-Master oder DP-Slave, S7- und PG/OP-Kommunikation, Uhrzeitsynchronisation, Diagnose, kleineres Mengengerüst | G9: =B9*F9 -> 0
A10: 6 | B10: 1 | C10: Stück | D10: SIMATIC S7, Memory Card für S7-1x00 | E10: 256 MByte SIMATIC S7, Memory Card für S7-1x00 CPU/SINAMICS, 3, 3V Flash, 256 Mbyte. | G10: =B10*F10 -> 0
A11: 7 | B11: 1 | C11: Stück | D11: SIMATIC, Normprofilschiene | E11: 35mm,Länge 530mm, für 600mm-Schränke SIMATIC, NORMPROFILSCHIENE 35MM, LAENGE 530MM FUER 600MM-SCHRÄNKE. | G11: =B11*F11 -> 0
A12: 8 | B12: 1 | C12: Stück | D12: SIMATIC ET 200SP, Bundle | E12: PROFINET Interface-Modul IM 155-6 PN ST, max. 32 Peripheriemodule, und 16 ET 200AL Module, Multi Hot SWAP, optionale PN-Zugentlastung, PN Security Class 1, Bundle besteht aus: Interface-Modul (6ES7155-6AU02-0BN0), Server-Modul (6ES7193-6PA00-0AA0), SIMATIC Busadapter BA 2x RJ45 (6ES7193-6AR00-0AA0) | G12: =B12*F12 -> 0
A13: 9 | B13: 7 | C13: Stück | D13: SIMATIC ET200SP, DI 16x 24V DC ST 1 – oder gleichwertig | E13: DI-Modul Standard, E-typ 3, VPE 1 SIMATIC ET 200SP, Digitales Eingangsmodul, DI 16x 24V DC Standard, Eingangstyp 3 (IEC 61131), Sink Input, (PNP, P-lesend), Verpackungseinheit: 1 Stück, passend für BU-Typ A0, Farbcode CC00, Eingangsverzögerung 0,05..20ms; Modul-Diagnose für: Drahtbruch, Versorgungsspannung. | G13: =B13*F13 -> 0
A14: 10 | B14: 25 | C14: Stück | D14: SIMANTIC ET200SP BASEUNIT – oder gleichwertig | E14: BU15-P16+A0+2D SIMATIC ET 200SP, BASEUNIT BU15-P16+A0+ 2D, BU-TYPE A0, PUSH-IN KLEMMEN, OHNE AUX-KLEMMEN, NEUE LASTGRUPPE, BXH: 15MMX117MM | G14: =B14*F14 -> 0
A15: 11 | B15: 2 | C15: Stück | D15: SIMANTIC ET200SP DQ 16xDC/05 – oder gleichwertig | E15: SIMATIC ET200SP, DQ 16xDC 24V/0,5A, DQ-Modul Standard, VPE 1 SIMATIC ET 200SP, Digitales Ausgangsmodul, DQ 16x 24V DC/0,5A Standard, Source Output (PNP,P-schaltend) Verpackungseinheit: 1 Stück, passend für BU-Typ A0, Farbcode CC00, Ersatzwertausgabe, Modul-Diagnose für: Kurzschluss nach L+ und M, Drahtbruch, Versorgungsspannung | G15: =B15*F15 -> 0
A16: 12 | B16: 6 | C16: Stück | D16: SIMATIC ET200SP, AI 4xU/I ST 1 – oder gleichwertig | E16: AI-Modul 2-wire Standard, VPE 1 SIMATIC ET 200SP, analoges Eingangsmodul, AI 4XU/I 2-Wire Standard, Verpackungsmenge: 1 Stück, passend für BU-Typ A0, A1, Farbcode CC03, Modul-Diagnose, 16 Bit, +/-0,3% | G16: =B16*F16 -> 0
A17: 13 | B17: 8 | C17: Stück | D17: SIMANTIC ET200SP AI 4xRTD/TC HF 1– oder gleichwertig | E17: AI-Modul 2-/3-/4-wire HF, VPE 1 SIMATIC ET 200SP, analoges Eingangsmodul, AI 4xRTD/TC High Feature, passend für BU-Typ A0, A1, Farbcode CC00, Kanal-Diagnose, 16Bit, +/-0,1%, 2-/3-/4-Wire | G17: =B17*F17 -> 0
A18: 14 | B18: 2 | C18: Stück | D18: SIMANTIC ET200SP DQ AQ 4xU/I ST 1– oder gleichwertig | E18: AQ-Modul Standard, VPE 1 SIMATIC ET 200SP, analoges Ausgangsmodul, AQ 2x U/I High Feature passend für BU-Typ A0, A1, Farbcode CC00, Kanal-Diagnose, 16 Bit, +/-0,1% | G18: =B18*F18 -> 0
A19: 15 | B19: 1 | C19: Stück | D19: SITOP PSU8200 24 V/20 A – oder gleichwertig | E19: SITOP PSU8200 24 V/20 A GEREGELTE STROMVERSORGUNG EINGANG: 3 AC 400-500 V SITOP PSU8200 24 V/20 A GEREGELTE STROMVERSORGUNG EINGANG: 3 AC 400-500 V AUSGANG: DC 24 V/20 A | G19: =B19*F19 -> 0
A20: 16 | B20: 1 | C20: Stück | D20: S7-1500 HLK Runtime-Lizenz groß – oder gleichwertig | E20: S7-1500 HLK Runtime-Lizenz groß für CPUs ab 1515 Runtimelizenz für eine SIMATIC S7-1500 HLK mit CPU 1515 bis 1518, Engineering über TIA Portal CFC und Erweiterungspaket HLK, wird pro CPU 1x benötigt | G20: =B20*F20 -> 0
... A25: 21 | B25: 8 | C25: Std. | D25: AGAG-Kopplung für Kommunikationsaustausch je Kopplung | E25: AGAG-Kopplung für Kommunikations- austausch je Kopplung | G25: =B25*F25 -> 0
E26: Gesamtkosten "Anpassung KP.U83" | G26: =SUM(H5:H25) -> 0

Sheet Anpassung KP.U84
A1: Ausschreibung 80/2600041001
A2: Projekt: GSI – Green IT Cube / Ertüchtigung und Erweiterung der MSR-Technik
A3: Das Gerät/die Geräte sind in der genannten Ausführung bzw. mit den genannten technischen Mindestmerkmalen anzubieten. Ein technisch gleichwertiges Gerät(e) ist zulässig. Die Gleichwertigkeit ist durch den Bieter anhand von Datenblättern und technischen Unterlagen nachzuweisen. Preiseintragung in den GRAU-hinterlegten Feldern.
A4: Nr. | B4: Menge | C4: Einheit | D4: Bezeichnung | E4: Beschreibung | F4: Einzelpreis | G4: Gesamtpreis
A5: 1 | B5: 1 | C5: Stück | D5: SIMATIC S7-1500, Profilschiene 245mm – oder gleichwertig | E5: inkl. Erdungsschraube SIMATIC S7-1500, Profilschiene 245mm (ca. 9,6 inch); inkl. Erdungsschraube, integrierte Hutprofilschiene zum Montieren von Kleinmaterial wie z.B. Klemmen, Sicherungs- Automaten und Relais | G5: =B5*F5 -> 0
A6: 2 | B6: 1 | C6: Stück | D6: SIMATIC S7-1500, CPU 1517-3 PN – oder gleichwertig | E6: Zentralbaugruppe 4MB/50MB SIMATIC S7-1500, CPU 1517-3 PN, Zentralbaugruppe mit Arbeitsspeicher 4MByte für Programm und 50MByte für Daten, 1. Schnittstelle: PROFINET IRT mit 2 Port Switch, 2. Schnittstelle: PROFINET IRT, mit 2 Port Switch, 3. Schnittstelle: Ethernet, 0,6 ns Bit- Performance, SIMATIC Memory Card notwendig Merkmale: - Programmierbar entsprechend IEC 61131 - Konsistente Datenhaltung der Anwendersoftware auf der CPU - Automatisches netzwerkunabhängiges Routing über PROFINET/PROFIBUS - Integrierter Webserver - Integrierte Kommunikationsdienste (PROFINET IO, TCP/IP, UDP, ISO on TCP, SNMP, DCP, LLDP, MODBUS TCP, OPC UA) - Integrierte Securityfunktionen wie Know How-, Kopier- sowie Zugriffsschutz - Display zur Klartextanzeige, Diagnosemeldung und Grundeinstellungen, mehrsprachig - Erweiterbar mit Dezentraler Peripherie Zulassungen: CE; ATEX; EN 61000-6-4; EN 60068-2-1/-2/-6/-13/-14/-27/-30/-31/- 42/-43/-78; EN 61131-2. | G6: =B6*F6 -> 0
A7: 3 | B7: 1 | C7: Stück | D7: Kommunikationsprozessor CP 1545-1 zum – oder gleichwertig | E7: Anschluss von SIMATIC S7-1500 1.902,06 | G7: =B7*F7 -> 0
A8: 4 | B8: 1 | C8: Stück | D8: Phasenüberwachung Janitza UMG96RM-PN – oder gleichwertig | G8: =B8*F8 -> 0
A9: 5 | B9: 1 | C9: Stück | D9: SIMATIC S7, Memory Card für S7-1x00 | E9: 256 MByte SIMATIC S7, Memory Card für S7-1x00 CPU/SINAMICS, 3, 3V Flash, 256 Mbyte. | G9: =B9*F9 -> 0
A10: 6 | B10: 1 | C10: Stück | D10: SIMATIC, Normprofilschiene | E10: 35mm,Länge 530mm, für 600mm-Schränke SIMATIC, NORMPROFILSCHIENE 35MM, LAENGE 530MM FUER 600MM-SCHRÄNKE. | G10: =B10*F10 -> 0
A11: 7 | B11: 1 | C11: Stück | D11: SIMATIC ET 200SP, Bundle | E11: PROFINET Interface-Modul IM 155-6 PN ST, max. 32 Peripheriemodule, und 16 ET 200AL Module, Multi Hot SWAP, optionale PN-Zugentlastung, PN Security Class 1, Bundle besteht aus: Interface-Modul (6ES7155-6AU02-0BN0), Server-Modul (6ES7193-6PA00-0AA0), SIMATIC Busadapter BA 2x RJ45 (6ES7193-6AR00-0AA0) | G11: =B11*F11 -> 0
A12: 8 | B12: 6 | C12: Stück | D12: SIMATIC ET200SP, DI 16x 24V DC ST 1 – oder gleichwertig | E12: DI-Modul Standard, E-typ 3, VPE 1 SIMATIC ET 200SP, Digitales Eingangsmodul, DI 16x 24V DC Standard, Eingangstyp 3 (IEC 61131), Sink Input, (PNP, P-lesend), Verpackungseinheit: 1 Stück, passend für BU-Typ A0, Farbcode CC00, Eingangsverzögerung 0,05..20ms; Modul-Diagnose für: Drahtbruch, Versorgungsspannung. | G12: =B12*F12 -> 0
A13: 9 | B13: 1 | C13: Stück | D13: SIMANTIC ET200SP BASEUNIT – oder gleichwertig | E13: BU15-P16+A0+2D SIMATIC ET 200SP, BASEUNIT BU15-P16+A0+ 2D, BU-TYPE A0, PUSH-IN KLEMMEN, OHNE AUX-KLEMMEN, NEUE LASTGRUPPE, BXH: 15MMX117MM | G13: =B13*F13 -> 0
A14: 10 | B14: 2 | C14: Stück | D14: SIMANTIC ET200SP DQ 16xDC/05 – oder gleichwertig | E14: SIMATIC ET200SP, DQ 16xDC 24V/0,5A, DQ-Modul Standard, VPE 1 SIMATIC ET 200SP, Digitales Ausgangsmodul, DQ 16x 24V DC/0,5A Standard, Source Output (PNP,P-schaltend) Verpackungseinheit: 1 Stück, passend für BU-Typ A0, Farbcode CC00, Ersatzwertausgabe, Modul-Diagnose für: Kurzschluss nach L+ und M, Drahtbruch, Versorgungsspannung | G14: =B14*F14 -> 0
A15: 11 | B15: 8 | C15: Stück | D15: SIMATIC ET200SP, AI 4xU/I ST 1 – oder gleichwertig | E15: AI-Modul 2-wire Standard, VPE 1 SIMATIC ET 200SP, analoges Eingangsmodul, AI 4XU/I 2-Wire Standard, Verpackungsmenge: 1 Stück, passend für BU-Typ A0, A1, Farbcode CC03, Modul-Diagnose, 16 Bit, +/-0,3% | G15: =B15*F15 -> 0
A16: 12 | B16: 6 | C16: Stück | D16: SIMANTIC ET200SP AI 4xRTD/TC HF 1 – oder gleichwertig | E16: AI-Modul 2-/3-/4-wire HF, VPE 1 SIMATIC ET 200SP, analoges Eingangsmodul, AI 4xRTD/TC High Feature, passend für BU-Typ A0, A1, Farbcode CC00, Kanal-Diagnose, 16Bit, +/-0,1%, 2-/3-/4-Wire | G16: =B16*F16 -> 0
A17: 13 | B17: 2 | C17: Stück | D17: SIMANTIC ET200SP DQ AQ 4xU/I ST 1 – oder gleichwertig | E17: AQ-Modul Standard, VPE 1 SIMATIC ET 200SP, analoges Ausgangsmodul, AQ 2x U/I High Feature passend für BU-Typ A0, A1, Farbcode CC00, Kanal-Diagnose, 16 Bit, +/-0,1% | G17: =B17*F17 -> 0
A18: 14 | B18: 1 | C18: Stück | D18: SITOP PSU8200 24 V/20 A – oder gleichwertig | E18: SITOP PSU8200 24 V/20 A GEREGELTE STROMVERSORGUNG EINGANG: 3 AC 400-500 V SITOP PSU8200 24 V/20 A GEREGELTE STROMVERSORGUNG EINGANG: 3 AC 400-500 V AUSGANG: DC 24 V/20 A | G18: =B18*F18 -> 0
A19: 16 | B19: 1 | C19: Stück | D19: S7-1500 HLK Runtime-Lizenz groß – oder gleichwertig | E19: S7-1500 HLK Runtime-Lizenz groß für CPUs ab 1515 Runtimelizenz für eine SIMATIC S7-1500 HLK mit CPU 1515 bis 1518, Engineering über TIA Portal CFC und Erweiterungspaket HLK, wird pro CPU 1x benötigt | G19: =B19*F19 -> 0
A20: 17 | B20: 1 | C20: Stück | D20: SIMATIC STEP 7 CFC Runtime Lizenz – oder gleichwertig | E20: SIMATIC STEP 7 CFC Runtime Lizenz pro CPU, unbegrenzte Objekte SIMATIC STEP 7 CFC V17.0, Runtime CPU, (unbegrenzte Anzahl Objekte), Software, Certificate of License Download Single License für 1 CPU, R-SW, ohne SW, ohne Doku, Klasse A, 2-Sprachig (D, E), ablauffähig unter WIN 10 LTSC 2019 WIN Server 2019 Referenz-HW: PCS 7 IPC Bundle | G20: =B20*F20 -> 0
... A23: 20 | B23: 26 | C23: Stück | D23: Elektronischer Schutzschalter; 1-kanalig – oder gleichwertig | E23: Eingangsspannung DC 24 V; einstellbar 1 # 8 A; Meldekontakt nur DDC Feld | G23: =B23*F23 -> 0
A24: 21 | B24: 8 | C24: Std. | D24: AGAG-Kopplung für Kommunikationsaustausch je Kopplung | G24: =B24*F24 -> 0
E25: Gesamtkosten "Anpassung KP.U84" | G25: =SUM(H5:H24) -> 0

Sheet Anpassung KP.U86
A1: Ausschreibung 80/2600041001
A2: Projekt: GSI – Green IT Cube / Ertüchtigung und Erweiterung der MSR-Technik
A3: Das Gerät/die Geräte sind in der genannten Ausführung bzw. mit den genannten technischen Mindestmerkmalen anzubieten. Ein technisch gleichwertiges Gerät(e) ist zulässig. Die Gleichwertigkeit ist durch den Bieter anhand von Datenblättern und technischen Unterlagen nachzuweisen. Preiseintragung in den GRAU-hinterlegten Feldern.
A4: Nr. | B4: Menge | C4: Einheit | D4: Bezeichnung | E4: Beschreibung | F4: Einzelpreis | G4: Gesamtpreis
A5: 1 | B5: 1 | C5: Stück | D5: SIMATIC S7-1500, Profilschiene 245mm – oder gleichwertig | E5: inkl. Erdungsschraube SIMATIC S7-1500, Profilschiene 245mm (ca. 9,6 inch); inkl. Erdungsschraube, integrierte Hutprofilschiene zum Montieren von Kleinmaterial wie z.B. Klemmen, Sicherungs- Automaten und Relais | G5: =B5*F5 -> 0
A6: 2 | B6: 1 | C6: Stück | D6: SIMATIC S7-1500, CPU 1517-3 PN – oder gleichwertig | E6: Zentralbaugruppe 4MB/50MB SIMATIC S7-1500, CPU 1517-3 PN, Zentralbaugruppe mit Arbeitsspeicher 4MByte für Programm und 50MByte für Daten, 1. Schnittstelle: PROFINET IRT mit 2 Port Switch, 2. Schnittstelle: PROFINET IRT, mit 2 Port Switch, 3. Schnittstelle: Ethernet, 0,6 ns Bit- Performance, SIMATIC Memory Card notwendig Merkmale: - Programmierbar entsprechend IEC 61131 - Konsistente Datenhaltung der Anwendersoftware auf der CPU - Automatisches netzwerkunabhängiges Routing über PROFINET/PROFIBUS - Integrierter Webserver - Integrierte Kommunikationsdienste (PROFINET IO, TCP/IP, UDP, ISO on TCP, SNMP, DCP, LLDP, MODBUS TCP, OPC UA) - Integrierte Securityfunktionen wie Know How-, Kopier- sowie Zugriffsschutz - Display zur Klartextanzeige, Diagnosemeldung und Grundeinstellungen, mehrsprachig - Erweiterbar mit Dezentraler Peripherie Zulassungen: CE; ATEX; EN 61000-6-4; EN 60068-2-1/-2/-6/-13/-14/-27/-30/-31/- 42/-43/-78; EN 61131-2. | G6: =B6*F6 -> 0
A7: 3 | B7: 1 | C7: Stück | D7: Kommunikationsprozessor CP 1545-1 zum – oder gleichwertig | E7: Anschluss von SIMATIC S7-1500 1.902,06 | G7: =B7*F7 -> 0
A8: 4 | B8: 2 | C8: Stück | D8: Phasenüberwachung Janitza UMG96RM-PN – oder gleichwertig | G8: =B8*F8 -> 0
A9: 5 | B9: 1 | C9: Stück | D9: SIMATIC S7, Memory Card für S7-1x00 | E9: 256 MByte SIMATIC S7, Memory Card für S7-1x00 CPU/SINAMICS, 3, 3V Flash, 256 Mbyte. | G9: =B9*F9 -> 0
A10: 6 | B10: 1 | C10: Stück | D10: SIMATIC, Normprofilschiene | E10: 35mm,Länge 530mm, für 600mm-Schränke SIMATIC, NORMPROFILSCHIENE 35MM, LAENGE 530MM FUER 600MM-SCHRÄNKE. | G10: =B10*F10 -> 0
A11: 7 | B11: 1 | C11: Stück | D11: SIMATIC ET 200SP, Bundle | E11: PROFINET Interface-Modul IM 155-6 PN ST, max. 32 Peripheriemodule, und 16 ET 200AL Module, Multi Hot SWAP, optionale PN-Zugentlastung, PN Security Class 1, Bundle besteht aus: Interface-Modul (6ES7155-6AU02-0BN0), Server-Modul (6ES7193-6PA00-0AA0), SIMATIC Busadapter BA 2x RJ45 (6ES7193-6AR00-0AA0) | G11: =B11*F11 -> 0
A12: 8 | B12: 5 | C12: Stück | D12: SIMATIC ET200SP, DI 16x 24V DC ST 1 – oder gleichwertig | E12: DI-Modul Standard, E-typ 3, VPE 1 SIMATIC ET 200SP, Digitales Eingangsmodul, DI 16x 24V DC Standard, Eingangstyp 3 (IEC 61131), Sink Input, (PNP, P-lesend), Verpackungseinheit: 1 Stück, passend für BU-Typ A0, Farbcode CC00, Eingangsverzögerung 0,05..20ms; Modul-Diagnose für: Drahtbruch, Versorgungsspannung. | G12: =B12*F12 -> 0
A13: 9 | B13: 1 | C13: Stück | D13: SIMANTIC ET200SP BASEUNIT – oder gleichwertig | E13: BU15-P16+A0+2D SIMATIC ET 200SP, BASEUNIT BU15-P16+A0+ 2D, BU-TYPE A0, PUSH-IN KLEMMEN, OHNE AUX-KLEMMEN, NEUE LASTGRUPPE, BXH: 15MMX117MM | G13: =B13*F13 -> 0
A14: 10 | B14: 1 | C14: Stück | D14: SIMANTIC ET200SP DQ 16xDC/05 – oder gleichwertig | E14: SIMATIC ET200SP, DQ 16xDC 24V/0,5A, DQ-Modul Standard, VPE 1 SIMATIC ET 200SP, Digitales Ausgangsmodul, DQ 16x 24V DC/0,5A Standard, Source Output (PNP,P-schaltend) Verpackungseinheit: 1 Stück, passend für BU-Typ A0, Farbcode CC00, Ersatzwertausgabe, Modul-Diagnose für: Kurzschluss nach L+ und M, Drahtbruch, Versorgungsspannung | G14: =B14*F14 -> 0
A15: 11 | B15: 4 | C15: Stück | D15: SIMATIC ET200SP, AI 4xU/I ST 1 – oder gleichwertig | E15: AI-Modul 2-wire Standard, VPE 1 SIMATIC ET 200SP, analoges Eingangsmodul, AI 4XU/I 2-Wire Standard, Verpackungsmenge: 1 Stück, passend für BU-Typ A0, A1, Farbcode CC03, Modul-Diagnose, 16 Bit, +/-0,3% | G15: =B15*F15 -> 0
A16: 12 | B16: 3 | C16: Stück | D16: SIMANTIC ET200SP AI 4xRTD/TC HF 1 – oder gleichwertig | E16: AI-Modul 2-/3-/4-wire HF, VPE 1 SIMATIC ET 200SP, analoges Eingangsmodul, AI 4xRTD/TC High Feature, passend für BU-Typ A0, A1, Farbcode CC00, Kanal-Diagnose, 16Bit, +/-0,1%, 2-/3-/4-Wire | G16: =B16*F16 -> 0
A17: 13 | B17: 1 | C17: Stück | D17: SIMANTIC ET200SP DQ AQ 4xU/I ST 1 – oder gleichwertig | E17: AQ-Modul Standard, VPE 1 SIMATIC ET 200SP, analoges Ausgangsmodul, AQ 2x U/I High Feature passend für BU-Typ A0, A1, Farbcode CC00, Kanal-Diagnose, 16 Bit, +/-0,1% | G17: =B17*F17 -> 0
A18: 14 | B18: 1 | C18: Stück | D18: SITOP PSU8200 24 V/20 A – oder gleichwertig | E18: SITOP PSU8200 24 V/20 A GEREGELTE STROMVERSORGUNG EINGANG: 3 AC 400-500 V SITOP PSU8200 24 V/20 A GEREGELTE STROMVERSORGUNG EINGANG: 3 AC 400-500 V AUSGANG: DC 24 V/20 A | G18: =B18*F18 -> 0
A19: 16 | B19: 1 | C19: Stück | D19: S7-1500 HLK Runtime-Lizenz groß – oder gleichwertig | E19: S7-1500 HLK Runtime-Lizenz groß für CPUs ab 1515 Runtimelizenz für eine SIMATIC S7-1500 HLK mit CPU 1515 bis 1518, Engineering über TIA Portal CFC und Erweiterungspaket HLK, wird pro CPU 1x benötigt | G19: =B19*F19 -> 0
A20: 17 | B20: 1 | C20: Stück | D20: SIMATIC STEP 7 CFC Runtime Lizenz – oder gleichwertig | E20: SIMATIC STEP 7 CFC Runtime Lizenz pro CPU, unbegrenzte Objekte SIMATIC STEP 7 CFC V17.0, Runtime CPU, (unbegrenzte Anzahl Objekte), Software, Certificate of License Download Single License für 1 CPU, R-SW, ohne SW, ohne Doku, Klasse A, 2-Sprachig (D, E), ablauffähig unter WIN 10 LTSC 2019 WIN Server 2019 Referenz-HW: PCS 7 IPC Bundle | G20: =B20*F20 -> 0
... A23: 20 | B23: 16 | C23: Stück | D23: Elektronischer Schutzschalter; 1-kanalig – oder gleichwertig | E23: Eingangsspannung DC 24 V; einstellbar 1 # 8 A; Meldekontakt nur DDC Feld | G23: =B23*F23 -> 0
A24: 21 | B24: 40 | C24: Std. | D24: AGAG-Kopplung für Kommunikationsaustausch je Kopplung | G24: =B24*F24 -> 0
E25: Gesamtkosten "Anpassung KP.U86" | G25: =SUM(H5:H24) -> 0

Sheet Anpassung LA.U88
A1: Ausschreibung 80/2600041001
A2: Projekt: GSI – Green IT Cube / Ertüchtigung und Erweiterung der MSR-Technik
A3: Das Gerät/die Geräte sind in der genannten Ausführung bzw. mit den genannten technischen Mindestmerkmalen anzubieten. Ein technisch gleichwertiges Gerät(e) ist zulässig. Die Gleichwertigkeit ist durch den Bieter anhand von Datenblättern und technischen Unterlagen nachzuweisen. Preiseintragung in den GRAU-hinterlegten Feldern.
A4: Nr. | B4: Menge | C4: Einheit | D4: Bezeichnung | E4: Beschreibung | F4: Einzelpreis | G4: Gesamtpreis
A5: 1 | B5: 1 | C5: Stück | D5: SIMATIC S7-1500, Profilschiene 245mm – oder gleichwertig | E5: inkl. Erdungsschraube SIMATIC S7-1500, Profilschiene 245mm (ca. 9,6 inch); inkl. Erdungsschraube, integrierte Hutprofilschiene zum Montieren von Kleinmaterial wie z.B. Klemmen, Sicherungs- Automaten und Relais | G5: =B5*F5 -> 0
A6: 2 | B6: 1 | C6: Stück | D6: SIMATIC S7-1500, CPU 1517-3 PN – oder gleichwertig | E6: Zentralbaugruppe 4MB/50MB SIMATIC S7-1500, CPU 1517-3 PN, Zentralbaugruppe mit Arbeitsspeicher 4MByte für Programm und 50MByte für Daten, 1. Schnittstelle: PROFINET IRT mit 2 Port Switch, 2. Schnittstelle: PROFINET IRT, mit 2 Port Switch, 3. Schnittstelle: Ethernet, 0,6 ns Bit- Performance, SIMATIC Memory Card notwendig Merkmale: - Programmierbar entsprechend IEC 61131 - Konsistente Datenhaltung der Anwendersoftware auf der CPU - Automatisches netzwerkunabhängiges Routing über PROFINET/PROFIBUS - Integrierter Webserver - Integrierte Kommunikationsdienste (PROFINET IO, TCP/IP, UDP, ISO on TCP, SNMP, DCP, LLDP, MODBUS TCP, OPC UA) - Integrierte Securityfunktionen wie Know How-, Kopier- sowie Zugriffsschutz - Display zur Klartextanzeige, Diagnosemeldung und Grundeinstellungen, mehrsprachig - Erweiterbar mit Dezentraler Peripherie Zulassungen: CE; ATEX; EN 61000-6-4; EN 60068-2-1/-2/-6/-13/-14/-27/-30/-31/- 42/-43/-78; EN 61131-2. | G6: =B6*F6 -> 0
A7: 3 | B7: 1 | C7: Stück | D7: Kommunikationsprozessor CP 1545-1 zum – oder gleichwertig | E7: Anschluss von SIMATIC S7-1500 1.902,06 | G7: =B7*F7 -> 0
A8: 4 | B8: 1 | C8: Stück | D8: Phasenüberwachung Janitza UMG96RM-PN – oder gleichwertig | G8: =B8*F8 -> 0
A9: 5 | B9: 1 | C9: Stück | D9: SIMATIC S7, Memory Card für S7-1x00 | E9: 256 MByte SIMATIC S7, Memory Card für S7-1x00 CPU/SINAMICS, 3, 3V Flash, 256 Mbyte. | G9: =B9*F9 -> 0
A10: 6 | B10: 1 | C10: Stück | D10: SIMATIC, Normprofilschiene | E10: 35mm,Länge 530mm, für 600mm-Schränke SIMATIC, NORMPROFILSCHIENE 35MM, LAENGE 530MM FUER 600MM-SCHRÄNKE. | G10: =B10*F10 -> 0
A11: 7 | B11: 1 | C11: Stück | D11: SIMATIC ET 200SP, Bundle | E11: PROFINET Interface-Modul IM 155-6 PN ST, max. 32 Peripheriemodule, und 16 ET 200AL Module, Multi Hot SWAP, optionale PN-Zugentlastung, PN Security Class 1, Bundle besteht aus: Interface-Modul (6ES7155-6AU02-0BN0), Server-Modul (6ES7193-6PA00-0AA0), SIMATIC Busadapter BA 2x RJ45 (6ES7193-6AR00-0AA0) | G11: =B11*F11 -> 0
A12: 8 | B12: 3 | C12: Stück | D12: SIMATIC ET200SP, DI 16x 24V DC ST 1 – oder gleichwertig | E12: DI-Modul Standard, E-typ 3, VPE 1 SIMATIC ET 200SP, Digitales Eingangsmodul, DI 16x 24V DC Standard, Eingangstyp 3 (IEC 61131), Sink Input, (PNP, P-lesend), Verpackungseinheit: 1 Stück, passend für BU-Typ A0, Farbcode CC00, Eingangsverzögerung 0,05..20ms; Modul-Diagnose für: Drahtbruch, Versorgungsspannung. | G12: =B12*F12 -> 0
A13: 9 | B13: 1 | C13: Stück | D13: SIMANTIC ET200SP BASEUNIT – oder gleichwertig | E13: BU15-P16+A0+2D SIMATIC ET 200SP, BASEUNIT BU15-P16+A0+ 2D, BU-TYPE A0, PUSH-IN KLEMMEN, OHNE AUX-KLEMMEN, NEUE LASTGRUPPE, BXH: 15MMX117MM | G13: =B13*F13 -> 0
A14: 10 | B14: 1 | C14: Stück | D14: SIMANTIC ET200SP DQ 16xDC/05 – oder gleichwertig | E14: SIMATIC ET200SP, DQ 16xDC 24V/0,5A, DQ-Modul Standard, VPE 1 SIMATIC ET 200SP, Digitales Ausgangsmodul, DQ 16x 24V DC/0,5A Standard, Source Output (PNP,P-schaltend) Verpackungseinheit: 1 Stück, passend für BU-Typ A0, Farbcode CC00, Ersatzwertausgabe, Modul-Diagnose für: Kurzschluss nach L+ und M, Drahtbruch, Versorgungsspannung | G14: =B14*F14 -> 0
A15: 11 | B15: 4 | C15: Stück | D15: SIMATIC ET200SP, AI 4xU/I ST 1 – oder gleichwertig | E15: AI-Modul 2-wire Standard, VPE 1 SIMATIC ET 200SP, analoges Eingangsmodul, AI 4XU/I 2-Wire Standard, Verpackungsmenge: 1 Stück, passend für BU-Typ A0, A1, Farbcode CC03, Modul-Diagnose, 16 Bit, +/-0,3% | G15: =B15*F15 -> 0
A16: 12 | B16: 3 | C16: Stück | D16: SIMANTIC ET200SP AI 4xRTD/TC HF 1 – oder gleichwertig | E16: AI-Modul 2-/3-/4-wire HF, VPE 1 SIMATIC ET 200SP, analoges Eingangsmodul, AI 4xRTD/TC High Feature, passend für BU-Typ A0, A1, Farbcode CC00, Kanal-Diagnose, 16Bit, +/-0,1%, 2-/3-/4-Wire | G16: =B16*F16 -> 0
A17: 13 | B17: 1 | C17: Stück | D17: SIMANTIC ET200SP DQ AQ 4xU/I ST 1 – oder gleichwertig | E17: AQ-Modul Standard, VPE 1 SIMATIC ET 200SP, analoges Ausgangsmodul, AQ 2x U/I High Feature passend für BU-Typ A0, A1, Farbcode CC00, Kanal-Diagnose, 16 Bit, +/-0,1% | G17: =B17*F17 -> 0
A18: 14 | B18: 1 | C18: Stück | D18: SITOP PSU8200 24 V/20 A – oder gleichwertig | E18: SITOP PSU8200 24 V/20 A GEREGELTE STROMVERSORGUNG EINGANG: 3 AC 400-500 V SITOP PSU8200 24 V/20 A GEREGELTE STROMVERSORGUNG EINGANG: 3 AC 400-500 V AUSGANG: DC 24 V/20 A | G18: =B18*F18 -> 0
A19: 16 | B19: 1 | C19: Stück | D19: S7-1500 HLK Runtime-Lizenz groß – oder gleichwertig | E19: S7-1500 HLK Runtime-Lizenz groß für CPUs ab 1515 Runtimelizenz für eine SIMATIC S7-1500 HLK mit CPU 1515 bis 1518, Engineering über TIA Portal CFC und Erweiterungspaket HLK, wird pro CPU 1x benötigt | G19: =B19*F19 -> 0
A20: 17 | B20: 1 | C20: Stück | D20: SIMATIC STEP 7 CFC Runtime Lizenz – oder gleichwertig | E20: SIMATIC STEP 7 CFC Runtime Lizenz pro CPU, unbegrenzte Objekte SIMATIC STEP 7 CFC V17.0, Runtime CPU, (unbegrenzte Anzahl Objekte), Software, Certificate of License Download Single License für 1 CPU, R-SW, ohne SW, ohne Doku, Klasse A, 2-Sprachig (D, E), ablauffähig unter WIN 10 LTSC 2019 WIN Server 2019 Referenz-HW: PCS 7 IPC Bundle | G20: =B20*F20 -> 0
... A23: 20 | B23: 18 | C23: Stück | D23: Elektronischer Schutzschalter; 1-kanalig – oder gleichwertig | E23: Eingangsspannung DC 24 V; einstellbar 1 # 8 A; Meldekontakt nur DDC Feld | G23: =B23*F23 -> 0
A24: 21 | B24: 40 | C24: Std. | D24: AGAG-Kopplung für Kommunikationsaustausch je Kopplung | G24: =B24*F24 -> 0
E25: Gesamtkosten "Anpassung LA.U88" | G25: =SUM(H5:H24) -> 0
