Workbook
Name OLE_LINK21: '1. Unternehmen'!#REF!
Name OLE_LINK21: '2. System'!#REF!
Name OLE_LINK21: '3. Service'!#REF!
Name wp1677801: '1. Unternehmen'!#REF!
Name wp1677801: '2. System'!#REF!
Name wp1677801: '3. Service'!#REF!
Name wp1677825: '1. Unternehmen'!#REF!
Name wp1677825: '2. System'!#REF!
Name wp1677825: '3. Service'!#REF!
Name wp1677895: '1. Unternehmen'!#REF!
Name wp1677895: '2. System'!#REF!
Name wp1677895: '3. Service'!#REF!
Name wp1677909: '1. Unternehmen'!#REF!
Name wp1677909: '2. System'!#REF!
Name wp1677909: '3. Service'!#REF!
Name wp1677929: '1. Unternehmen'!#REF!
Name wp1677929: '2. System'!#REF!
Name wp1677929: '3. Service'!#REF!
Name wp1677939: '1. Unternehmen'!#REF!
Name wp1677939: '2. System'!#REF!
Name wp1677939: '3. Service'!#REF!

Sheet Deckblatt
A1: Klinikum St. Marien Amberg
A5: Ausschreibung Telekommunikationssystem
A7: Vergabenummer | B7: 24-11-096-TK
A9: Version | B9: 005_004#Bewertungsmatrix
A14: Diese Excel-Datei besteht aus nachfolgenden Tabellenblättern
A17: Tabellenblatt | D17: Angaben
A19: Deckblatt | D19: ----
D21: Angaben in dem Bereich - Bieterantworten
A22: 1. Unternehmen
A23: 2. Systemkonzept - Systemsoftware
A24: 3. Service
B28: - Pflichtfeld (Eingabe von Bieterangaben)
A31: Bewertungsmatrix - Gewichtung
F33: Maximale Leistungspunkte | G33: Erzielte Leistungspunkte
A34: Kriteriengruppe 1 | C34: Unternehmen | F34: =SUM('1. Unternehmen'!M155) -> 400 | G34: =SUM('1. Unternehmen'!Q155) -> 0 | I34: Punkte
A36: Kriteriengruppe 2 | C36: Systemkonzept - Systemsoftware | F36: =SUM('2. System'!M112) -> 250 | G36: =SUM('2. System'!Q112) -> 0 | I36: Punkte
A38: Kriteriengruppe 3 | C38: Service | F38: =SUM('3. Service'!M57) -> 150 | G38: =SUM('3. Service'!Q57) -> 0 | I38: Punkte
C40: Gesamtsumme - Technik | F40: =SUM(F34:F38) -> 800 | G40: =SUM(G34:H38) -> 0 | I40: Punkte

Sheet 1. Unternehmen
A1: Klinikum St. Marien Amberg
A4: Bewertungsmatrix
A7: Bereiche | E7: Angaben
K9: Angaben in dem Bereich - Bieterantworten
A10: 1. Unternehmen | E10: =SUM(M155) -> 400 | G10: Punkte | I10: =SUM(E10:F12) -> 800
A11: 2. Systemkonzept - Systemsoftware | E11: =SUM('2. System'!M112) -> 250 | G11: Punkte
A12: 3. Service | E12: =SUM('3. Service'!M57) -> 150 | G12: Punkte
B16: - Pflichtfeld (Eingabe von Bieterangaben)
B21: Anmerkungen zur Bearbeitung
B22: Antworten zu den jeweiligen Bieterfagen haben in dem entsprechenden Feld - Bieterantworten (gelb hinterlegt) zu erfolgen.
B23: Sind weitere Ausführungen / Erklärungen im Bereich Unternehmensdarstellung notwendig, so sind diese auf einem separaten Blatt darzustellen und mit dem Angebot einzureichen.
B24: Die Antworten erfolgen in den gelb hinterlegten Feldern über ein entsprechendes Dropdown-Menü
O27: Bieterantworten
A28: Kriteriengruppe | B28: Untergruppe | C28: Nummer | D28: Frage | E28: Kriterium | F28: A = Ausschlusskriterium | G28: B = Bewertungskriterium | H28: Antwort | I28: 1 = ja / nein | J28: 2 = Wert | K28: Bewertungspunkte | L28: Gewichtung | M28: Maximale Punkte | O28: Ja / Nein | P28: Wert | Q28: Punkte
A30: 1 | D30: Unternehmen
D32: Unternehmensdarstellung
A33: 1 | B33: 1 | C33: 1 | D33: Name
D34: Anschrift
A37: 1 | B37: 1 | C37: 2 | D37: Rechtsform
A39: 1 | B39: 1 | C39: 3 | D39: Organisatorische Gliederung
A50: 1 | B50: 1 | C50: 4 | D50: Mitarbeiterzahlen - Verwaltung
D51: Mitarbeiterzahlen - Technik
D52: Mitarbeiterzahlen - Service
A54: 1 | B54: 1 | C54: 5 | D54: Leistungsspektrum
A65: 1 | B65: 1 | C65: 6 | D65: Eintrag in ein Handelsregister
D66: alternativ eine Angabe nach Maßgabe der Rechtsvorschrift des Landes in der der Bewerber ansässig ist
A68: 1 | B68: 1 | C68: 7 | D68: Geben Sie den Jahresumsatz Ihres Unternehmens für die letzten drei Geschäftsjahre an | E68: 2024
E69: 2023
E70: 2022
A72: 1 | B72: 1 | C72: 8 | D72: Benennen Sie einen zentralen Ansprechpartner des Auftragnehmers für die gesamte Projektlaufzeit | E72: Name
E73: Kontaktdaten
D76: Installation und Inbetriebnahme
A77: 1 | B77: 2 | C77: 1 | D77: Der Auftragnehmer ist für die angebotenen Systemkomponenten zertifiziert. Entsprechende Dokumente / Zertifikate sind dem Angebot beizulegen. | E77: A | I77: Ja = erfüllt - Nein = Ausschluss | O77: - | Q77: =IF(E77="A",IF(O77="Ja","OK","-"),(IF(O77<>"Ja",L77*0,L77*1))) -> -
A78: 1 | B78: 2 | C78: 2 | D78: Für die zu liefernden / installierenden Systemkomponenten müssen durch den Auftragnehmer mindestens vier, auf die angebotene Systeme zertifizierte / ausgebildete Techniker während der Vertragslaufzeit zur Verfügung stehen. Entsprechende Nachweise sind dem Angebot beizulegen. | E78: A | I78: Ja = erfüllt - Nein = Ausschluss | O78: - | Q78: =IF(E78="A",IF(O78="Ja","OK","-"),(IF(O78<>"Ja",L78*0,L78*1))) -> -
A79: 1 | B79: 2 | C79: 3 | D79: Wieviele zertifizierte / ausgebildete Techniker stehen dem Auftraggeber für die zu liefernden / installierenden Systeme zur Verfügung? | E79: B | I79: 4 bis 5 Servicetechniker = 5 Punkte | L79: 2 | M79: 20 | O79: - | Q79: =IF(O79="4 bis 5 Servicetechniker",L79*5,IF(O79="mehr als 5 Servicetechniker",L79*10,0)) -> 0
I80: mehr als 5 Servicetechniker = 10 Punkte
A81: 1 | B81: 2 | C81: 4 | D81: Welchen Partnerstatus hat Ihr Unternehmen bei dem/den Hersteller(n) der angebotenen Lösung? Entsprechende Bestätigungen / Zertifikate sind dem Angebot beizulegen. (Beim Einsatz mehrer Hersteller ist das führende System ==> TK-Plattform gemeint) | E81: B | I81: Höchster Status = 10 Punkte | L81: 2 | M81: 20 | O81: - | Q81: =IF(O81="Höchster Status",L81*10,IF(O81="Mittlerer Status",L81*5,IF(O81="Niederigster Status",L81*2,0))) -> 0
I82: Mittlerer Status = 5 Punkte
I83: Niederigster Status = 2 Punkte
D86: Datenschutz und Sicherheit
A87: 1 | B87: 3 | C87: 1 | D87: Zertifizierung des Auftragsnehmers bzw. der Bietergemeinschaft nach ISO9001. Entsprechende Dokumente / Zertifikate sind dem Angebot beizulegen. | E87: B | I87: Ja = 5 Punkt - Nein = 0 Punkte | L87: 2 | M87: 10 | O87: - | Q87: =IF(E87="A",IF(O87="Ja","OK","-"),(IF(O87<>"Ja",L87*0,L87*5))) -> 0
A88: 1 | B88: 3 | C88: 2 | D88: Zertifizierung des Auftragsnehmers bzw. der Bietergemeinschaft, nach ISO27001 Entsprechende Dokumente / Zertifikate sind dem Angebot beizulegen. | E88: B | I88: Ja = 5 Punkt - Nein = 0 Punkte | L88: 2 | M88: 10 | O88: - | Q88: =IF(E88="A",IF(O88="Ja","OK","-"),(IF(O88<>"Ja",L88*0,L88*5))) -> 0
D91: Referenzprojekte - Telekommunikationssystem
D93: Erklärung der Erfahrung in der Planung und Ausführung von vergleichbaren Projekten durch Darstellung von 3 Referenzprojekten, die der Anbieter als direkter Auftragnehmer des Referenzkunden in den letzten 5 Jahren vor Bekanntmachung dieses Vorhabens realisiert hat. Für die angegebenen Referenzen sind Ansprechpartner mit entsprechenden Kontaktdaten der einzelnen Auftragnehmer zu nennen, die am Projekt federführend und maßgeblich beteiligt waren. Mindestanforderung: Realisierung einer Kommunikationsplattform mit mindestens 1.000 Usern
D95: Referenz - 1 | E95: A | I95: Ja = erfüllt - Nein = Ausschluss | O95: - | Q95: =IF(E95="A",IF(O95="Ja","OK","-"),(IF(O95<>"Ja",L95*0,L95*1))) -> -
A96: 1 | B96: 4 | C96: 1 | D96: Kunde
D97: Ansprechpartner
D98: Kontaktdaten
D100: Realisierungszeitraum
D101: Projektbeschreibung
A104: 1 | B104: 4 | C104: 2 | D104: Integration von Microsoft Teams als Kommunikationsplattform | E104: A | H104: 1 | K104: Ja = erfüllt - Nein = Ausschluss | O104: - | Q104: =IF(E104="A",IF(O104="Ja","OK","-"),(IF(O104<>"Ja",L104*0,L104*1))) -> -
D105: Wie viele Microsoft Teams Teilnehmer wurden in die Kommunikationsplattform integriert | E105: B | H105: 2 | K105: mehr als 100 Teilnehmer = 10 Punkte | L105: 3 | M105: 30 | O105: - | Q105: =IF(O105="mehr als 100 Teilnehmer",L105*10,IF(O105="51 - 100 Teilnehmer",L105*7,IF(O105="bis 50 Teilnehmer",L105*5,0))) -> 0
K106: 51 - 100 Teilnehmer = 7 Punkte
K107: bis 50 Teilnehmer = 5 Punkte
A108: 1 | B108: 4 | C108: 3 | D108: Integartion von WLAN-Telefonie (als SIP-Teilnehmer in die Kommunikationsplattform) | E108: A | H108: 1 | K108: Ja = erfüllt - Nein = Ausschluss | O108: - | Q108: =IF(E108="A",IF(O108="Ja","OK","-"),(IF(O108<>"Ja",L108*0,L108*1))) -> -
D109: Wie viele WLAN-Telefone wurden als Teilnehmer wurden in die Kommunikationsplattform integriert | E109: B | H109: 2 | K109: mehr als 500 Teilnehmer = 10 Punkte | L109: 3 | M109: 30 | O109: - | Q109: =IF(O109="mehr als 500 Teilnehmer",L109*10,IF(O109="201 - 500 Teilnehmer",L109*7,IF(O109="bis 200 Teilnehmer",L109*5,0))) -> 0
K110: 201 - 500 Teilnehmer = 7 Punkte
K111: bis 200 Teilnehmer = 5 Punkte
A112: 1 | B112: 4 | C112: 4 | D112: Auftraggeber - Gesundheitswesen | E112: B | H112: 1 | K112: Ja = 10 Punkt - Nein = 0 Punkte | L112: 2 | M112: 20 | O112: - | Q112: =IF(E112="A",IF(O112="Ja","OK","-"),(IF(O112<>"Ja",L112*0,L112*10))) -> 0
D115: Referenz - 2 | E115: A | I115: Ja = erfüllt - Nein = Ausschluss | O115: - | Q115: =IF(E115="A",IF(O115="Ja","OK","-"),(IF(O115<>"Ja",L115*0,L115*1))) -> -
A116: 1 | B116: 5 | C116: 1 | D116: Kunde
D117: Ansprechpartner
D118: Kontaktdaten
D120: Realisierungszeitraum
D121: Projektbeschreibung
A124: 1 | B124: 5 | C124: 2 | D124: Integration von Microsoft Teams als Kommunikationsplattform | E124: B | H124: 1 | K124: Ja = 10 Punkt - Nein = 0 Punkte | L124: 3 | M124: 30 | O124: - | Q124: =IF(E124="A",IF(O124="Ja","OK","-"),(IF(O124<>"Ja",L124*0,L124*10))) -> 0
D125: Wie viele Microsoft Teams Teilnehmer wurden in die Kommunikationsplattform integriert | E125: B | H125: 2 | K125: mehr als 100 Teilnehmer = 10 Punkte | L125: 3 | M125: 30 | O125: - | Q125: =IF(O125="mehr als 100 Teilnehmer",L125*10,IF(O125="51 - 100 Teilnehmer",L125*7,IF(O125="bis 50 Teilnehmer",L125*5,0))) -> 0
K126: 51 - 100 Teilnehmer = 7 Punkte
K127: bis 50 Teilnehmer = 5 Punkte
A128: 1 | B128: 5 | C128: 3 | D128: Integartion von WLAN-Telefonie (als SIP-Teilnehmer in die Kommunikationsplattform) | E128: B | H128: 1 | K128: Ja = 10 Punkt - Nein = 0 Punkte | L128: 2 | M128: 20 | O128: - | Q128: =IF(E128="A",IF(O128="Ja","OK","-"),(IF(O128<>"Ja",L128*0,L128*10))) -> 0
D129: Wie viele WLAN-Telefone wurden als Teilnehmer wurden in die Kommunikationsplattform integriert | E129: B | H129: 2 | K129: mehr als 500 Teilnehmer = 10 Punkte | L129: 3 | M129: 30 | O129: - | Q129: =IF(O129="mehr als 500 Teilnehmer",L129*10,IF(O129="201 - 500 Teilnehmer",L129*7,IF(O129="bis 200 Teilnehmer",L129*5,0))) -> 0
K130: 201 - 500 Teilnehmer = 7 Punkte
K131: bis 200 Teilnehmer = 5 Punkte
A132: 1 | B132: 5 | C132: 4 | D132: Auftraggeber - Gesundheitswesen | E132: B | H132: 1 | K132: Ja = 10 Punkt - Nein = 0 Punkte | L132: 2 | M132: 20 | O132: - | Q132: =IF(E132="A",IF(O132="Ja","OK","-"),(IF(O132<>"Ja",L132*0,L132*10))) -> 0
D136: Referenz - 3 | E136: A | I136: Ja = erfüllt - Nein = Ausschluss | O136: - | Q136: =IF(E136="A",IF(O136="Ja","OK","-"),(IF(O136<>"Ja",L136*0,L136*1))) -> -
A137: 1 | B137: 6 | C137: 1 | D137: Kunde
D138: Ansprechpartner
D139: Kontaktdaten
D141: Realisierungszeitraum
D142: Projektbeschreibung
A145: 1 | B145: 6 | C145: 2 | D145: Integration von Microsoft Teams als Kommunikationsplattform | E145: B | H145: 1 | K145: Ja = 10 Punkt - Nein = 0 Punkte | L145: 3 | M145: 30 | O145: - | Q145: =IF(E145="A",IF(O145="Ja","OK","-"),(IF(O145<>"Ja",L145*0,L145*10))) -> 0
D146: Wie viele Microsoft Teams Teilnehmer wurden in die Kommunikationsplattform integriert | E146: B | H146: 2 | K146: mehr als 100 Teilnehmer = 10 Punkte | L146: 3 | M146: 30 | O146: - | Q146: =IF(O146="mehr als 100 Teilnehmer",L146*10,IF(O146="51 - 100 Teilnehmer",L146*7,IF(O146="bis 50 Teilnehmer",L146*5,0))) -> 0
K147: 51 - 100 Teilnehmer = 7 Punkte
K148: bis 50 Teilnehmer = 5 Punkte
A149: 1 | B149: 6 | C149: 3 | D149: Integartion von WLAN-Telefonie (als SIP-Teilnehmer in die Kommunikationsplattform) | E149: B | H149: 1 | K149: Ja = 10 Punkt - Nein = 0 Punkte | L149: 2 | M149: 20 | O149: - | Q149: =IF(E149="A",IF(O149="Ja","OK","-"),(IF(O149<>"Ja",L149*0,L149*10))) -> 0
D150: Wie viele WLAN-Telefone wurden als Teilnehmer wurden in die Kommunikationsplattform integriert | E150: B | H150: 2 | K150: mehr als 500 Teilnehmer = 10 Punkte | L150: 3 | M150: 30 | O150: - | Q150: =IF(O150="mehr als 500 Teilnehmer",L150*10,IF(O150="201 - 500 Teilnehmer",L150*7,IF(O150="bis 200 Teilnehmer",L150*5,0))) -> 0
K151: 201 - 500 Teilnehmer = 7 Punkte
K152: bis 200 Teilnehmer = 5 Punkte
A153: 1 | B153: 6 | C153: 4 | D153: Auftraggeber - Gesundheitswesen | E153: B | H153: 1 | K153: Ja = 10 Punkt - Nein = 0 Punkte | L153: 2 | M153: 20 | O153: - | Q153: =IF(E153="A",IF(O153="Ja","OK","-"),(IF(O153<>"Ja",L153*0,L153*10))) -> 0
K155: Maximale Leistungspunkte | M155: =SUM(M79+M81+M87+M88+M105+M109+M112+M124+M125+M128+M129+M132+M145+M146+M149+M150+M153) -> 400 | Q155: =SUM(Q77:Q153) -> 0

Sheet 2. System
A1: Klinikum St. Marien Amberg
A4: Bewertungsmatrix
A7: Bereiche | E7: Angaben
K9: Angaben in dem Bereich - Bieterantworten
A10: 1. Unternehmen | E10: 400 | G10: Punkte | I10: =SUM(E10:F12) -> 800
A11: 2. Systemkonzept - Systemsoftware | E11: =SUM('2. System'!M112) -> 250 | G11: Punkte
A12: 3. Service | E12: =SUM('3. Service'!M57) -> 150 | G12: Punkte
B16: - Pflichtfeld (Eingabe von Bieterangaben)
B21: Anmerkungen zur Bearbeitung
B22: Antworten zu den jeweiligen Bieterfagen haben in dem entsprechenden Feld - Bieterantworten (gelb hinterlegt) zu erfolgen.
B23: Sind weitere Ausführungen / Erklärungen im Bereich Unternehmensdarstellung notwendig, so sind diese auf einem separaten Blatt darzustellen und mit dem Angebot einzureichen.
B24: Die Antworten erfolgen in den gelb hinterlegten Feldern über ein entsprechendes Dropdown-Menü
O27: Bieterantworten
A28: Kriteriengruppe | B28: Untergruppe | C28: Nummer | D28: Frage | E28: Kriterium | F28: A = Ausschlusskriterium | G28: B = Bewertungskriterium | H28: Antwort | I28: 1 = ja / nein | J28: 2 = Wert | K28: Bewertungspunkte | L28: Gewichtung | M28: Maximale Punkte | O28: Ja / Nein | P28: Wert | Q28: Punkte
A30: 2 | D30: Systemkonzept - Systemsoftware
D32: Konzept
D33: Beschreiben Sie bitte ausführlich den von Ihnen angebotenen Lösungsansatz in Bezug auf die Bereiche
A34: 2 | B34: 1 | C34: 1 | D34: Call Server und Systemaufbau | E34: A | H34: 1 | K34: Ja = erfüllt - Nein = Ausschluss | O34: - | Q34: =IF(E34="A",IF(O34="Ja","OK","-"),(IF(O34<>"Ja",L34*0,L34*1))) -> -
A35: 2 | B35: 1 | C35: 2 | D35: SIP-Trunk | E35: A | H35: 1 | K35: Ja = erfüllt - Nein = Ausschluss | O35: - | Q35: =IF(E35="A",IF(O35="Ja","OK","-"),(IF(O35<>"Ja",L35*0,L35*1))) -> -
A36: 2 | B36: 1 | C36: 3 | D36: Integartion WLAN-Telefonie | E36: A | H36: 1 | K36: Ja = erfüllt - Nein = Ausschluss | O36: - | Q36: =IF(E36="A",IF(O36="Ja","OK","-"),(IF(O36<>"Ja",L36*0,L36*1))) -> -
A37: 2 | B37: 1 | C37: 4 | D37: Integration Microsoft Teams | E37: A | H37: 1 | K37: Ja = erfüllt - Nein = Ausschluss | O37: - | Q37: =IF(E37="A",IF(O37="Ja","OK","-"),(IF(O37<>"Ja",L37*0,L37*1))) -> -
A38: 2 | B38: 1 | C38: 5 | D38: Integration Call Center Applikation und Integration von Microsoft Teams Teilnehmer (wenn Verfügbar) | E38: A | H38: 1 | K38: Ja = erfüllt - Nein = Ausschluss | O38: - | Q38: =IF(E38="A",IF(O38="Ja","OK","-"),(IF(O38<>"Ja",L38*0,L38*1))) -> -
D40: Lieferzeiten
A41: 2 | B41: 2 | C41: 1 | D41: Die angeboten Produkte sind innerhalb von mindestens 12 Wochen nach Auftragsvergabe lieferbar | E41: A | H41: 1 | K41: Ja = erfüllt - Nein = Ausschluss | O41: - | Q41: =IF(E41="A",IF(O41="Ja","OK","-"),(IF(O41<>"Ja",L41*0,L41*1))) -> -
A42: 2 | B42: 2 | C42: 2 | D42: Lieferzeiten für die angebotenen Produkte | E42: B | H42: 1 | K42: 4 Wochen - 7 Wochen = 10 Punkte | L42: 2 | M42: 20 | O42: - | Q42: =IF(O42="8 Wochen - 12 Wochen",L42*5,IF(O42="4 Wochen - 7 Wochen",L42*10,0)) -> 0
K43: 8 Wochen - 12 Wochen = 5 Punkte
A46: 2 | B46: 3 | C46: 1 | D46: Alle angebotenen Systemkomponenten (inklusive Endgeräte) unterstützen die IP-Protokolle IPv4 und IPv6 (Dual Stack) | E46: B | H46: 1 | K46: Ja = 10 Punkt - Nein = 0 Punkte | L46: 3 | M46: 30 | O46: - | Q46: =IF(E46="A",IF(O46="Ja","OK","-"),(IF(O46<>"Ja",L46*0,L46*10))) -> 0
A47: 2 | B47: 3 | C47: 2 | D47: Alle angebotenen 3rd-Party Applikationen sind an der zentralen Vermittlungseinrichtung (Media-Server) zertifiziert. Entsprechende Nachweise sind nach Aufforderung vorzulegen. | E47: A | H47: 1 | K47: Ja = erfüllt - Nein = Ausschluss | O47: - | Q47: =IF(E47="A",IF(O47="Ja","OK","-"),(IF(O47<>"Ja",L47*0,L47*1))) -> -
D50: Teilnehmerleistungsmerkmale
A51: 2 | B51: 4 | C51: 1 | D51: Abwurf definierter Anrufe zum Vermittlungsplatz oder Ansagegerät | E51: A | H51: 1 | K51: Ja = erfüllt - Nein = Ausschluss | O51: - | Q51: =IF(E51="A",IF(O51="Ja","OK","-"),(IF(O51<>"Ja",L51*0,L51*1))) -> -
A52: 2 | B52: 4 | C52: 2 | D52: Anrufschutz für Endgeräte/Endgerätegruppen durch den Vermittlungsplatz | E52: B | H52: 1 | K52: Ja = 1 Punkt - Nein = 0 Punkte | L52: 5 | M52: =SUM(L52*1) -> 5 | O52: - | Q52: =IF(E52="A",IF(O52="Ja","OK","-"),(IF(O52<>"Ja",L52*0,L52*1))) -> 0
A53: 2 | B53: 4 | C53: =SUM(C52+1) -> 3 | D53: Anzeige von Zeit und Datum im Display der Endgeräte | E53: A | H53: 1 | K53: Ja = erfüllt - Nein = Ausschluss | O53: - | Q53: =IF(E53="A",IF(O53="Ja","OK","-"),(IF(O53<>"Ja",L53*0,L53*1))) -> -
A54: 2 | B54: 4 | C54: 4 | D54: Berechtigungsänderung durch Kennzifferneingabe (elektronisches Schloss) | E54: B | H54: 1 | K54: Ja = 1 Punkt - Nein = 0 Punkte | L54: 5 | M54: =SUM(L54*1) -> 5 | O54: - | Q54: =IF(E54="A",IF(O54="Ja","OK","-"),(IF(O54<>"Ja",L54*0,L54*1))) -> 0
A55: 2 | B55: 4 | C55: 5 | D55: Berechtigungsänderung über private Kennziffer für definierte Gespräche (PIN) | E55: B | H55: 1 | K55: Ja = 1 Punkt - Nein = 0 Punkte | L55: 5 | M55: =SUM(L55*1) -> 5 | O55: - | Q55: =IF(E55="A",IF(O55="Ja","OK","-"),(IF(O55<>"Ja",L55*0,L55*1))) -> 0
A56: 2 | B56: 4 | C56: =SUM(C55+1) -> 6 | D56: Berechtigungsänderung, systemzeitabhängig | E56: B | H56: 1 | K56: Ja = 1 Punkt - Nein = 0 Punkte | L56: 5 | M56: =SUM(L56*1) -> 5 | O56: - | Q56: =IF(E56="A",IF(O56="Ja","OK","-"),(IF(O56<>"Ja",L56*0,L56*1))) -> 0
A57: 2 | B57: 4 | C57: =SUM(C56+1) -> 7 | D57: Berechtigungsumschaltung durch ausgewählte Teilnehmer | E57: B | H57: 1 | K57: Ja = 1 Punkt - Nein = 0 Punkte | L57: 5 | M57: =SUM(L57*1) -> 5 | O57: - | Q57: =IF(E57="A",IF(O57="Ja","OK","-"),(IF(O57<>"Ja",L57*0,L57*1))) -> 0
A58: 2 | B58: 4 | C58: =SUM(C57+1) -> 8 | D58: Bevorzugung besonderer Anrufe | E58: B | H58: 1 | K58: Ja = 1 Punkt - Nein = 0 Punkte | L58: 5 | M58: =SUM(L58*1) -> 5 | O58: - | Q58: =IF(E58="A",IF(O58="Ja","OK","-"),(IF(O58<>"Ja",L58*0,L58*1))) -> 0
A59: 2 | B59: 4 | C59: 9 | D59: Dreierkonferenz / Konferenz | E59: A | H59: 1 | K59: Ja = erfüllt - Nein = Ausschluss | O59: - | Q59: =IF(E59="A",IF(O59="Ja","OK","-"),(IF(O59<>"Ja",L59*0,L59*1))) -> -
A60: 2 | B60: 4 | C60: 10 | D60: editierbare Rufnummereingabe vor der Leitungsbelegung am IP-Telefon | E60: B | H60: 1 | K60: Ja = 1 Punkt - Nein = 0 Punkte | L60: 5 | M60: =SUM(L60*1) -> 5 | O60: - | Q60: =IF(E60="A",IF(O60="Ja","OK","-"),(IF(O60<>"Ja",L60*0,L60*1))) -> 0
A61: 2 | B61: 4 | C61: 11 | D61: Einstellbares Anrufsignal | E61: A | H61: 1 | K61: Ja = erfüllt - Nein = Ausschluss | O61: - | Q61: =IF(E61="A",IF(O61="Ja","OK","-"),(IF(O61<>"Ja",L61*0,L61*1))) -> -
A62: 2 | B62: 4 | C62: =SUM(C61+1) -> 12 | D62: Einzel-/Sammelnachtschaltung | E62: A | H62: 1 | K62: Ja = erfüllt - Nein = Ausschluss | O62: - | Q62: =IF(E62="A",IF(O62="Ja","OK","-"),(IF(O62<>"Ja",L62*0,L62*1))) -> -
A63: 2 | B63: 4 | C63: =SUM(C62+1) -> 13 | D63: Fallweise Rufnummernunterdrückung | E63: A | H63: 1 | K63: Ja = erfüllt - Nein = Ausschluss | O63: - | Q63: =IF(E63="A",IF(O63="Ja","OK","-"),(IF(O63<>"Ja",L63*0,L63*1))) -> -
A64: 2 | B64: 4 | C64: 14 | D64: Halten von Gesprächen | E64: A | H64: 1 | K64: Ja = erfüllt - Nein = Ausschluss | O64: - | Q64: =IF(E64="A",IF(O64="Ja","OK","-"),(IF(O64<>"Ja",L64*0,L64*1))) -> -
A65: 2 | B65: 4 | C65: =SUM(C64+1) -> 15 | D65: Heranholen des Rufes/Anrufübernahme einfach oder gezielt (Pick Up) | E65: A | H65: 1 | K65: Ja = erfüllt - Nein = Ausschluss | O65: - | Q65: =IF(E65="A",IF(O65="Ja","OK","-"),(IF(O65<>"Ja",L65*0,L65*1))) -> -
A66: 2 | B66: 4 | C66: =SUM(C65+1) -> 16 | D66: Konferenz/Makeln für analoge Teilnehmer und IP Endgeräte | E66: A | H66: 1 | K66: Ja = erfüllt - Nein = Ausschluss | O66: - | Q66: =IF(E66="A",IF(O66="Ja","OK","-"),(IF(O66<>"Ja",L66*0,L66*1))) -> -
A67: 2 | B67: 4 | C67: =SUM(C66+1) -> 17 | D67: Kurzwahl, individuell | E67: A | H67: 1 | K67: Ja = erfüllt - Nein = Ausschluss | O67: - | Q67: =IF(E67="A",IF(O67="Ja","OK","-"),(IF(O67<>"Ja",L67*0,L67*1))) -> -
A68: 2 | B68: 4 | C68: =SUM(C67+1) -> 18 | D68: Kurzwahl, zentral | E68: A | H68: 1 | K68: Ja = erfüllt - Nein = Ausschluss | O68: - | Q68: =IF(E68="A",IF(O68="Ja","OK","-"),(IF(O68<>"Ja",L68*0,L68*1))) -> -
A69: 2 | B69: 4 | C69: =SUM(C68+1) -> 19 | D69: Manuelle Abschaltung des Rufsignales am IP-Endgerät | E69: A | H69: 1 | K69: Ja = erfüllt - Nein = Ausschluss | O69: - | Q69: =IF(E69="A",IF(O69="Ja","OK","-"),(IF(O69<>"Ja",L69*0,L69*1))) -> -
A70: 2 | B70: 4 | C70: =SUM(C69+1) -> 20 | D70: Namentliche Anzeige des internen Anrufers | E70: A | H70: 1 | K70: Ja = erfüllt - Nein = Ausschluss | O70: - | Q70: =IF(E70="A",IF(O70="Ja","OK","-"),(IF(O70<>"Ja",L70*0,L70*1))) -> -
A71: 2 | B71: 4 | C71: =SUM(C70+1) -> 21 | D71: Parken von Gesprächen | E71: A | H71: 1 | K71: Ja = erfüllt - Nein = Ausschluss | O71: - | Q71: =IF(E71="A",IF(O71="Ja","OK","-"),(IF(O71<>"Ja",L71*0,L71*1))) -> -
A72: 2 | B72: 4 | C72: =SUM(C71+1) -> 22 | D72: Rückruf zum Vermittlungsplatz | E72: A | H72: 1 | K72: Ja = erfüllt - Nein = Ausschluss | O72: - | Q72: =IF(E72="A",IF(O72="Ja","OK","-"),(IF(O72<>"Ja",L72*0,L72*1))) -> -
A73: 2 | B73: 4 | C73: =SUM(C72+1) -> 23 | D73: Rufnummernanzeige für IP Endgeräte | E73: A | H73: 1 | K73: Ja = erfüllt - Nein = Ausschluss | O73: - | Q73: =IF(E73="A",IF(O73="Ja","OK","-"),(IF(O73<>"Ja",L73*0,L73*1))) -> -
A74: 2 | B74: 4 | C74: =SUM(C73+1) -> 24 | D74: Rufumleitung | E74: A | H74: 1 | K74: Ja = erfüllt - Nein = Ausschluss | O74: - | Q74: =IF(E74="A",IF(O74="Ja","OK","-"),(IF(O74<>"Ja",L74*0,L74*1))) -> -
A75: 2 | B75: 4 | C75: =SUM(C74+1) -> 25 | D75: Rufweiterleitung bei Frei, Besetzt und nach Anrufarten | E75: A | H75: 1 | K75: Ja = erfüllt - Nein = Ausschluss | O75: - | Q75: =IF(E75="A",IF(O75="Ja","OK","-"),(IF(O75<>"Ja",L75*0,L75*1))) -> -
A76: 2 | B76: 4 | C76: 26 | D76: Selbsttätiger Rückruf | E76: A | H76: 1 | K76: Ja = erfüllt - Nein = Ausschluss | O76: - | Q76: =IF(E76="A",IF(O76="Ja","OK","-"),(IF(O76<>"Ja",L76*0,L76*1))) -> -
A77: 2 | B77: 4 | C77: 27 | D77: Wahl bei aufgelegtem Handapparat | E77: A | H77: 1 | K77: Ja = erfüllt - Nein = Ausschluss | O77: - | Q77: =IF(E77="A",IF(O77="Ja","OK","-"),(IF(O77<>"Ja",L77*0,L77*1))) -> -
A78: 2 | B78: 4 | C78: =SUM(C77+1) -> 28 | D78: Wahlwiederholung einfach | E78: A | H78: 1 | K78: Ja = erfüllt - Nein = Ausschluss | O78: - | Q78: =IF(E78="A",IF(O78="Ja","OK","-"),(IF(O78<>"Ja",L78*0,L78*1))) -> -
A79: 2 | B79: 4 | C79: =SUM(C78+1) -> 29 | D79: Wahlwiederholung, gezielt | E79: A | H79: 1 | K79: Ja = erfüllt - Nein = Ausschluss | O79: - | Q79: =IF(E79="A",IF(O79="Ja","OK","-"),(IF(O79<>"Ja",L79*0,L79*1))) -> -
A80: 2 | B80: 4 | C80: =SUM(C79+1) -> 30 | D80: Zieltastenwahl, Namentastenwahl | E80: A | H80: 1 | K80: Ja = erfüllt - Nein = Ausschluss | O80: - | Q80: =IF(E80="A",IF(O80="Ja","OK","-"),(IF(O80<>"Ja",L80*0,L80*1))) -> -
D82: Systemleistungsmerkmale
A83: 2 | B83: 5 | C83: 1 | D83: Musik/Ansage im internen/externen Wartezustand | E83: A | H83: 1 | K83: Ja = erfüllt - Nein = Ausschluss | O83: - | Q83: =IF(E83="A",IF(O83="Ja","OK","-"),(IF(O83<>"Ja",L83*0,L83*1))) -> -
A84: 2 | B84: 5 | C84: 2 | D84: Sammelanschluss/Kurzwahl über Kopfnummer | E84: A | H84: 1 | K84: Ja = erfüllt - Nein = Ausschluss | O84: - | Q84: =IF(E84="A",IF(O84="Ja","OK","-"),(IF(O84<>"Ja",L84*0,L84*1))) -> -
A85: 2 | B85: 5 | C85: 3 | D85: Tageszeitabhängige Überlauffunktion | E85: B | H85: 1 | K85: Ja = 1 Punkt - Nein = 0 Punkte | L85: 5 | M85: =SUM(L85*1) -> 5 | O85: - | Q85: =IF(E85="A",IF(O85="Ja","OK","-"),(IF(O85<>"Ja",L85*0,L85*1))) -> 0
A86: 2 | B86: 5 | C86: =SUM(C85+1) -> 4 | D86: Verhinderung der Durchwahl zu definierten Teilnehmern oder Gruppen | E86: A | H86: 1 | K86: Ja = erfüllt - Nein = Ausschluss | O86: - | Q86: =IF(E86="A",IF(O86="Ja","OK","-"),(IF(O86<>"Ja",L86*0,L86*1))) -> -
A87: 2 | B87: 5 | C87: 5 | D87: Wahlweise Zuordnung der Nachtschaltung | E87: B | H87: 1 | K87: Ja = 1 Punkt - Nein = 0 Punkte | L87: 5 | M87: =SUM(L87*1) -> 5 | O87: - | Q87: =IF(E87="A",IF(O87="Ja","OK","-"),(IF(O87<>"Ja",L87*0,L87*1))) -> 0
D89: Unterstützte Standards
A90: 2 | B90: 6 | C90: 1 | D90: G. 711 | E90: A | H90: 1 | K90: Ja = erfüllt - Nein = Ausschluss | O90: - | Q90: =IF(E90="A",IF(O90="Ja","OK","-"),(IF(O90<>"Ja",L90*0,L90*1))) -> -
A91: 2 | B91: 6 | C91: =SUM(C90+1) -> 2 | D91: G. 722 | E91: A | H91: 1 | K91: Ja = erfüllt - Nein = Ausschluss | O91: - | Q91: =IF(E91="A",IF(O91="Ja","OK","-"),(IF(O91<>"Ja",L91*0,L91*1))) -> -
A92: 2 | B92: 6 | C92: =SUM(C91+1) -> 3 | D92: G. 723 | E92: B | H92: 1 | K92: Ja = 1 Punkt - Nein = 0 Punkte | L92: 5 | M92: 5 | O92: - | Q92: =IF(E92="A",IF(O92="Ja","OK","-"),(IF(O92<>"Ja",L92*0,L92*1))) -> 0
A93: 2 | B93: 6 | C93: =SUM(C92+1) -> 4 | D93: G. 726 | E93: B | H93: 1 | K93: Ja = 1 Punkt - Nein = 0 Punkte | L93: 5 | M93: 5 | O93: - | Q93: =IF(E93="A",IF(O93="Ja","OK","-"),(IF(O93<>"Ja",L93*0,L93*1))) -> 0
A94: 2 | B94: 6 | C94: =SUM(C93+1) -> 5 | D94: G. 729 | E94: A | H94: 1 | K94: Ja = erfüllt - Nein = Ausschluss | O94: - | Q94: =IF(E94="A",IF(O94="Ja","OK","-"),(IF(O94<>"Ja",L94*0,L94*1))) -> -
A95: 2 | B95: 6 | C95: 6 | D95: Fax-Group 3 | E95: A | H95: 1 | K95: Ja = erfüllt - Nein = Ausschluss | O95: - | Q95: =IF(E95="A",IF(O95="Ja","OK","-"),(IF(O95<>"Ja",L95*0,L95*1))) -> -
A96: 2 | B96: 6 | C96: 7 | D96: T. 38 | E96: A | H96: 1 | K96: Ja = erfüllt - Nein = Ausschluss | O96: - | Q96: =IF(E96="A",IF(O96="Ja","OK","-"),(IF(O96<>"Ja",L96*0,L96*1))) -> -
A97: 2 | B97: 6 | C97: 8 | D97: IPv4 | E97: A | H97: 1 | K97: Ja = erfüllt - Nein = Ausschluss | O97: - | Q97: =IF(E97="A",IF(O97="Ja","OK","-"),(IF(O97<>"Ja",L97*0,L97*1))) -> -
A98: 2 | B98: 6 | C98: 9 | D98: IPv6 | E98: B | H98: 1 | K98: Ja = 1 Punkt - Nein = 0 Punkte | L98: 5 | M98: 5 | O98: - | Q98: =IF(E98="A",IF(O98="Ja","OK","-"),(IF(O98<>"Ja",L98*0,L98*1))) -> 0
A99: 2 | B99: 6 | C99: 10 | D99: TCP/IP | E99: A | H99: 1 | K99: Ja = erfüllt - Nein = Ausschluss | O99: - | Q99: =IF(E99="A",IF(O99="Ja","OK","-"),(IF(O99<>"Ja",L99*0,L99*1))) -> -
A100: 2 | B100: 6 | C100: 11 | D100: DHCP | E100: A | H100: 1 | K100: Ja = erfüllt - Nein = Ausschluss | O100: - | Q100: =IF(E100="A",IF(O100="Ja","OK","-"),(IF(O100<>"Ja",L100*0,L100*1))) -> -
A101: 2 | B101: 6 | C101: 12 | D101: SIP | E101: A | H101: 1 | K101: Ja = erfüllt - Nein = Ausschluss | O101: - | Q101: =IF(E101="A",IF(O101="Ja","OK","-"),(IF(O101<>"Ja",L101*0,L101*1))) -> -
D103: Verschlüsselung
A104: 2 | B104: 7 | C104: 1 | D104: Auf welcher Bais wird die Mediaverschlüsselung nach SRTP (Secure Real Time Transport Protocol) unterstützen. | E104: B | H104: 1 | K104: AES-128 = 5 Punkte | L104: 4 | M104: 40 | O104: - | Q104: =IF(O104="AES - 128",L104*5,IF(O104="AES - 256",L104*10,0)) -> 0
K105: AES-256 = 10 Punkte
A106: 2 | B106: 7 | C106: 2 | D106: Auf welcher Basis erfolgt die Signalisierungsverschlüsselung nach TLS (Transport Layer Security) | E106: B | H106: 1 | K106: AES-128 = 5 Punkte | L106: 4 | M106: 40 | O106: - | Q106: =IF(O106="AES - 128",L106*5,IF(O106="AES - 256",L106*10,0)) -> 0
K107: AES-256 = 10 Punkte
D109: Call Center
A110: 2 | B110: 8 | C110: 1 | D110: Kann die angebotene Call Center Applikation um die Integration von Microsoft Teams Teilnehmer / Nutzer erweitert werden. | E110: B | H110: 1 | K110: Ja = 10 Punkt - Nein = 0 Punkte | L110: 6 | M110: 60 | O110: - | Q110: =IF(E110="A",IF(O110="Ja","OK","-"),(IF(O110<>"Ja",L110*0,L110*10))) -> 0
K112: Maximale Leistungspunkte | M112: =SUM(M34:M111) -> 250 | Q112: =SUM(Q33:Q110) -> 0

Sheet 3. Service
A1: Klinikum St. Marien Amberg
A4: Bewertungsmatrix
A7: Bereiche | E7: Angaben
K9: Angaben in dem Bereich - Bieterantworten
A10: 1. Unternehmen | E10: 400 | G10: Punkte | I10: =SUM(E10:F12) -> 800
A11: 2. Systemkonzept - Systemsoftware | E11: =SUM('2. System'!M112) -> 250 | G11: Punkte
A12: 3. Service | E12: =SUM('3. Service'!M57) -> 150 | G12: Punkte
B16: - Pflichtfeld (Eingabe von Bieterangaben)
B21: Anmerkungen zur Bearbeitung
B22: Antworten zu den jeweiligen Bieterfagen haben in dem entsprechenden Feld - Bieterantworten (gelb hinterlegt) zu erfolgen.
B23: Sind weitere Ausführungen / Erklärungen im Bereich Unternehmensdarstellung notwendig, so sind diese auf einem separaten Blatt darzustellen und mit dem Angebot einzureichen.
B24: Die Antworten erfolgen in den gelb hinterlegten Feldern über ein entsprechendes Dropdown-Menü
O27: Bieterantworten
A28: Kriteriengruppe | B28: Untergruppe | C28: Nummer | D28: Frage | E28: Kriterium | F28: A = Ausschlusskriterium | G28: B = Bewertungskriterium | H28: Antwort | I28: 1 = ja / nein | J28: 2 = Wert | K28: Bewertungspunkte | L28: Gewichtung | M28: Maximale Punkte | O28: Ja / Nein | P28: Wert | Q28: Punkte
A30: 3 | D30: Service
D32: Konzept
D33: Beschreiben Sie bitte ausführlich den von Ihnen angebotenen Lösungsansatz in Bezug auf die Bereiche
A34: 3 | B34: 1 | C34: 1 | D34: Servicekonzept | E34: A | H34: 1 | K34: Ja = erfüllt - Nein = Ausschluss | O34: - | Q34: =IF(E34="A",IF(O34="Ja","OK","-"),(IF(O34<>"Ja",L34*0,L34*1))) -> -
D36: Service- Ticketsystem
A37: 3 | B37: 2 | C37: 1 | D37: Möglichkeit zur Störungsmeldungen im WEB-Portal | E37: B | H37: 1 | K37: Ja = 1 Punkt - Nein = 0 Punkte | L37: 10 | M37: 10 | O37: - | Q37: =IF(E37="A",IF(O37="Ja","OK","-"),(IF(O37<>"Ja",L37*0,L37*1))) -> 0
A38: 3 | B38: 2 | C38: 2 | D38: Nutzung des WEB-Portal mit Zugang zum Trouble-Ticket-System | E38: B | H38: 1 | K38: Ja = 1 Punkt - Nein = 0 Punkte | L38: 10 | M38: 10 | O38: - | Q38: =IF(E38="A",IF(O38="Ja","OK","-"),(IF(O38<>"Ja",L38*0,L38*1))) -> 0
A39: 3 | B39: 2 | C39: 3 | D39: Stellt das von Ihnen zur Verfügung gestellte Ticket -System eine Web-API zur Verfügung? | E39: B | H39: 1 | K39: Ja = 1 Punkt - Nein = 0 Punkte | L39: 10 | M39: 10 | O39: - | Q39: =IF(E39="A",IF(O39="Ja","OK","-"),(IF(O39<>"Ja",L39*0,L39*1))) -> 0
A40: 3 | B40: 2 | C40: 4 | D40: Nutzung des WEB-Portal zur Priorisierung von Meldungen durch den Auftraggeber | E40: B | H40: 1 | K40: Ja = 1 Punkt - Nein = 0 Punkte | L40: 10 | M40: 10 | O40: - | Q40: =IF(E40="A",IF(O40="Ja","OK","-"),(IF(O40<>"Ja",L40*0,L40*1))) -> 0
A41: 3 | B41: 2 | C41: 5 | D41: Können über das WEB-Portal Änderungen in Bezug auf Benachrichtigungen von Statusänderungen eingerichtet werden? | E41: B | H41: 1 | K41: Ja = 1 Punkt - Nein = 0 Punkte | L41: 10 | M41: 10 | O41: - | Q41: =IF(E41="A",IF(O41="Ja","OK","-"),(IF(O41<>"Ja",L41*0,L41*1))) -> 0
A42: 3 | B42: 2 | C42: 6 | D42: Die Serviceprozesse sind nach ITIL standardisiert und der Bieter verfügt über ITIL-Zeritifzierte Mitarbeiter (mit Angebotsabgabe nachzuweisen). | E42: B | H42: 1 | K42: Ja = 1 Punkt - Nein = 0 Punkte | L42: 10 | M42: 10 | O42: - | Q42: =IF(E42="A",IF(O42="Ja","OK","-"),(IF(O42<>"Ja",L42*0,L42*1))) -> 0
A43: 3 | B43: 2 | C43: 7 | D43: Werden im WEB-Portal die Einhaltung der unterschiedlichen SLA dargestellt? | E43: B | H43: 1 | K43: Ja = 1 Punkt - Nein = 0 Punkte | L43: 10 | M43: 10 | O43: - | Q43: =IF(E43="A",IF(O43="Ja","OK","-"),(IF(O43<>"Ja",L43*0,L43*1))) -> 0
A44: 3 | B44: 2 | C44: 8 | D44: Besteht die Möglichkeit zur Bereitstellung einer monatlichen Statistik von gemeldeten / aufgetretenen Störungen | E44: B | H44: 1 | K44: Ja = 1 Punkt - Nein = 0 Punkte | L44: 10 | M44: 10 | O44: - | Q44: =IF(E44="A",IF(O44="Ja","OK","-"),(IF(O44<>"Ja",L44*0,L44*1))) -> 0
D46: Service-Meeting
A47: 3 | B47: 3 | C47: 1 | D47: Portfolio Meeting mindestens ein Mal im Jahr oder auf Anfrage des Auftraggebers (Informationen zum Anlagenstatus, Vertragsinhalte und -entgelte, Darstellung Hersteller Roadmap, technische Entwicklungen und Änderungen) | E47: B | H47: 1 | K47: Ja = 1 Punkt - Nein = 0 Punkte | L47: 10 | M47: 10 | O47: - | Q47: =IF(E47="A",IF(O47="Ja","OK","-"),(IF(O47<>"Ja",L47*0,L47*1))) -> 0
D49: Service-Stützpunkt
A50: 3 | B50: 4 | C50: 1 | D50: In welcher Entfernung befindet sich ihr nächstgelegener Servicestützpunkt zur nachfogend genannten Kundenadresse (einfache Entfernung / Hinweg). Darstellung unter Nennung der genauen Adresse auf einer Anlage zum Angebot.
D51: Klinik St. Marien Amberg - Mariahilfbergweg 7 - 92224 Amberg
D53: Wert der Entfernung eintragen. | E53: B | H53: 1 / 2 | K53: Entfernung bis 100 KM = 10 Punkte | L53: 6 | M53: 60 | O53: - | Q53: =IF(O53="bis 100 KM",L53*10,IF(O53="101 bis 150 KM",L53*7,IF(O53="mehr als 150 KM",L53*3,0))) -> 0
K54: Entfernung 101 bis 150 KM = 7 Punkte
K55: Entfernung mehr als 150 KM = 3 Punkte
K57: Maximale Leistungspunkte | M57: =SUM(M34:M55) -> 150 | Q57: =SUM(Q34:Q55) -> 0
