Workbook
Name OLE_LINK21: '1. Unternehmen'!#REF!
Name OLE_LINK21: '2. System'!#REF!
Name OLE_LINK21: '3. Service'!#REF!
Name wp1677801: '1. Unternehmen'!#REF!
Name wp1677801: '2. System'!#REF!
Name wp1677801: '3. Service'!#REF!
Name wp1677825: '1. Unternehmen'!#REF!
Name wp1677825: '2. System'!#REF!
Name wp1677825: '3. Service'!#REF!
Name wp1677895: '1. Unternehmen'!#REF!
Name wp1677895: '2. System'!#REF!
Name wp1677895: '3. Service'!#REF!
Name wp1677909: '1. Unternehmen'!#REF!
Name wp1677909: '2. System'!#REF!
Name wp1677909: '3. Service'!#REF!
Name wp1677929: '1. Unternehmen'!#REF!
Name wp1677929: '2. System'!#REF!
Name wp1677929: '3. Service'!#REF!
Name wp1677939: '1. Unternehmen'!#REF!
Name wp1677939: '2. System'!#REF!
Name wp1677939: '3. Service'!#REF!

Sheet Deckblatt
A1: Klinikum St. Marien Amberg
A5: Ausschreibung Telekommunikationssystem
A7: Vergabenummer | B7: 24-11-096-TK
A9: Version | B9: 005_004#Bewertungsmatrix
A14: Diese Excel-Datei besteht aus nachfolgenden Tabellenblättern
A17: Tabellenblatt | D17: Angaben
A19: Deckblatt | D19: ----
D21: Angaben in dem Bereich - Bieterantworten
A22: 1. Unternehmen
A23: 2. Systemkonzept - Systemsoftware
A24: 3. Service
B28: - Pflichtfeld (Eingabe von Bieterangaben)
A31: Bewertungsmatrix - Gewichtung
F33: Maximale Leistungspunkte | G33: Erzielte Leistungspunkte
A34: Kriteriengruppe 1 | C34: Unternehmen | F34: =SUM('1. Unternehmen'!M155) -> 400 | G34: =SUM('1. Unternehmen'!Q155) -> 0 | I34: Punkte
A36: Kriteriengruppe 2 | C36: Systemkonzept - Systemsoftware | F36: =SUM('2. System'!M112) -> 250 | G36: =SUM('2. System'!Q112) -> 0 | I36: Punkte
A38: Kriteriengruppe 3 | C38: Service | F38: =SUM('3. Service'!M57) -> 150 | G38: =SUM('3. Service'!Q57) -> 0 | I38: Punkte
C40: Gesamtsumme - Technik | F40: =SUM(F34:F38) -> 800 | G40: =SUM(G34:H38) -> 0 | I40: Punkte

Sheet 1. Unternehmen
A1: Klinikum St. Marien Amberg
A4: Bewertungsmatrix
A7: Bereiche | E7: Angaben
K9: Angaben in dem Bereich - Bieterantworten
A10: 1. Unternehmen | E10: =SUM(M155) -> 400 | G10: Punkte | I10: =SUM(E10:F12) -> 800
A11: 2. Systemkonzept - Systemsoftware | E11: =SUM('2. System'!M112) -> 250 | G11: Punkte
A12: 3. Service | E12: =SUM('3. Service'!M57) -> 150 | G12: Punkte
B16: - Pflichtfeld (Eingabe von Bieterangaben)
B21: Anmerkungen zur Bearbeitung
B22: Antworten zu den jeweiligen Bieterfagen haben in dem entsprechenden Feld - Bieterantworten (gelb hinterlegt) zu erfolgen.
B23: Sind weitere Ausführungen / Erklärungen im Bereich Unternehmensdarstellung notwendig, so sind diese auf einem separaten Blatt darzustellen und mit dem Angebot einzureichen.
B24: Die Antworten erfolgen in den gelb hinterlegten Feldern über ein entsprechendes Dropdown-Menü
O27: Bieterantworten
A28: Kriteriengruppe | B28: Untergruppe | C28: Nummer | D28: Frage | E28: Kriterium | F28: A = Ausschlusskriterium | G28: B = Bewertungskriterium | H28: Antwort | I28: 1 = ja / nein | J28: 2 = Wert | K28: Bewertungspunkte | L28: Gewichtung | M28: Maximale Punkte | O28: Ja / Nein | P28: Wert | Q28: Punkte
A30: 1 | D30: Unternehmen
D32: Unternehmensdarstellung
A33: 1 | B33: 1 | C33: 1 | D33: Name
D34: Anschrift
A37: 1 | B37: 1 | C37: 2 | D37: Rechtsform
A39: 1 | B39: 1 | C39: 3 | D39: Organisatorische Gliederung
A50: 1 | B50: 1 | C50: 4 | D50: Mitarbeiterzahlen - Verwaltung
D51: Mitarbeiterzahlen - Technik
D52: Mitarbeiterzahlen - Service
A54: 1 | B54: 1 | C54: 5 | D54: Leistungsspektrum
A65: 1 | B65: 1 | C65: 6 | D65: Eintrag in ein Handelsregister
D66: alternativ eine Angabe nach Maßgabe der Rechtsvorschrift des Landes in der der Bewerber ansässig ist
A68: 1 | B68: 1 | C68: 7 | D68: Geben Sie den Jahresumsatz Ihres Unternehmens für die letzten drei Geschäftsjahre an | E68: 2024
E69: 2023
E70: 2022
A72: 1 | B72: 1 | C72: 8 | D72: Benennen Sie einen zentralen Ansprechpartner des Auftragnehmers für die gesamte Projektlaufzeit | E72: Name
E73: Kontaktdaten
D76: Installation und Inbetriebnahme
A77: 1 | B77: 2 | C77: 1 | D77: Der Auftragnehmer ist für die angebotenen Systemkomponenten zertifiziert. Entsprechende Dokumente / Zertifikate sind dem Angebot beizulegen. | E77: A | I77: Ja = erfüllt - Nein = Ausschluss | O77: - | Q77: =IF(E77="A",IF(O77="Ja","OK","-"),(IF(O77<>"Ja",L77*0,L77*1))) -> -
A78: 1 | B78: 2 | C78: 2 | D78: Für die zu liefernden / installierenden Systemkomponenten müssen durch den Auftragnehmer mindestens vier, auf die angebotene Systeme zertifizierte / ausgebildete Techniker während der Vertragslaufzeit zur Verfügung stehen. Entsprechende Nachweise sind dem Angebot beizulegen. | E78: A | I78: Ja = erfüllt - Nein = Ausschluss | O78: - | Q78: =IF(E78="A",IF(O78="Ja","OK","-"),(IF(O78<>"Ja",L78*0,L78*1))) -> -
A79: 1 | B79: 2 | C79: 3 | D79: Wieviele zertifizierte / ausgebildete Techniker stehen dem Auftraggeber für die zu liefernden / installierenden Systeme zur Verfügung? | E79: B | I79: 4 bis 5 Servicetechniker = 5 Punkte | L79: 2 | M79: 20 | O79: - | Q79: =IF(O79="4 bis 5 Servicetechniker",L79*5,IF(O79="mehr als 5 Servicetechniker",L79*10,0)) -> 0
I80: mehr als 5 Servicetechniker = 10 Punkte
A81: 1 | B81: 2 | C81: 4 | D81: Welchen Partnerstatus hat Ihr Unternehmen bei dem/den Hersteller(n) der angebotenen Lösung? Entsprechende Bestätigungen / Zertifikate sind dem Angebot beizulegen. (Beim Einsatz mehrer Hersteller ist das führende System ==> TK-Plattform gemeint) | E81: B | I81: Höchster Status = 10 Punkte | L81: 2 | M81: 20 | O81: - | Q81: =IF(O81="Höchster Status",L81*10,IF(O81="Mittlerer Status",L81*5,IF(O81="Niederigster Status",L81*2,0))) -> 0
I82: Mittlerer Status = 5 Punkte
I83: Niederigster Status = 2 Punkte
D86: Datenschutz und Sicherheit
...

Sheet 2. System
A1: Klinikum St. Marien Amberg
A4: Bewertungsmatrix
A7: Bereiche | E7: Angaben
K9: Angaben in dem Bereich - Bieterantworten
A10: 1. Unternehmen | E10: 400 | G10: Punkte | I10: =SUM(E10:F12) -> 800
A11: 2. Systemkonzept - Systemsoftware | E11: =SUM('2. System'!M112) -> 250 | G11: Punkte
A12: 3. Service | E12: =SUM('3. Service'!M57) -> 150 | G12: Punkte
B16: - Pflichtfeld (Eingabe von Bieterangaben)
B21: Anmerkungen zur Bearbeitung
B22: Antworten zu den jeweiligen Bieterfagen haben in dem entsprechenden Feld - Bieterantworten (gelb hinterlegt) zu erfolgen.
B23: Sind weitere Ausführungen / Erklärungen im Bereich Unternehmensdarstellung notwendig, so sind diese auf einem separaten Blatt darzustellen und mit dem Angebot einzureichen.
B24: Die Antworten erfolgen in den gelb hinterlegten Feldern über ein entsprechendes Dropdown-Menü
O27: Bieterantworten
A28: Kriteriengruppe | B28: Untergruppe | C28: Nummer | D28: Frage | E28: Kriterium | F28: A = Ausschlusskriterium | G28: B = Bewertungskriterium | H28: Antwort | I28: 1 = ja / nein | J28: 2 = Wert | K28: Bewertungspunkte | L28: Gewichtung | M28: Maximale Punkte | O28: Ja / Nein | P28: Wert | Q28: Punkte
A30: 2 | D30: Systemkonzept - Systemsoftware
D32: Konzept
D33: Beschreiben Sie bitte ausführlich den von Ihnen angebotenen Lösungsansatz in Bezug auf die Bereiche
A34: 2 | B34: 1 | C34: 1 | D34: Call Server und Systemaufbau | E34: A | H34: 1 | K34: Ja = erfüllt - Nein = Ausschluss | O34: - | Q34: =IF(E34="A",IF(O34="Ja","OK","-"),(IF(O34<>"Ja",L34*0,L34*1))) -> -
A35: 2 | B35: 1 | C35: 2 | D35: SIP-Trunk | E35: A | H35: 1 | K35: Ja = erfüllt - Nein = Ausschluss | O35: - | Q35: =IF(E35="A",IF(O35="Ja","OK","-"),(IF(O35<>"Ja",L35*0,L35*1))) -> -
A36: 2 | B36: 1 | C36: 3 | D36: Integartion WLAN-Telefonie | E36: A | H36: 1 | K36: Ja = erfüllt - Nein = Ausschluss | O36: - | Q36: =IF(E36="A",IF(O36="Ja","OK","-"),(IF(O36<>"Ja",L36*0,L36*1))) -> -
A37: 2 | B37: 1 | C37: 4 | D37: Integration Microsoft Teams | E37: A | H37: 1 | K37: Ja = erfüllt - Nein = Ausschluss | O37: - | Q37: =IF(E37="A",IF(O37="Ja","OK","-"),(IF(O37<>"Ja",L37*0,L37*1))) -> -
A38: 2 | B38: 1 | C38: 5 | D38: Integration Call Center Applikation und Integration von Microsoft Teams Teilnehmer (wenn Verfügbar) | E38: A | H38: 1 | K38: Ja = erfüllt - Nein = Ausschluss | O38: - | Q38: =IF(E38="A",IF(O38="Ja","OK","-"),(IF(O38<>"Ja",L38*0,L38*1))) -> -
D40: Lieferzeiten
A41: 2 | B41: 2 | C41: 1 | D41: Die angeboten Produkte sind innerhalb von mindestens 12 Wochen nach Auftragsvergabe lieferbar | E41: A | H41: 1 | K41: Ja = erfüllt - Nein = Ausschluss | O41: - | Q41: =IF(E41="A",IF(O41="Ja","OK","-"),(IF(O41<>"Ja",L41*0,L41*1))) -> -
A42: 2 | B42: 2 | C42: 2 | D42: Lieferzeiten für die angebotenen Produkte | E42: B | H42: 1 | K42: 4 Wochen - 7 Wochen = 10 Punkte | L42: 2 | M42: 20 | O42: - | Q42: =IF(O42="8 Wochen - 12 Wochen",L42*5,IF(O42="4 Wochen - 7 Wochen",L42*10,0)) -> 0
K43: 8 Wochen - 12 Wochen = 5 Punkte
A46: 2 | B46: 3 | C46: 1 | D46: Alle angebotenen Systemkomponenten (inklusive Endgeräte) unterstützen die IP-Protokolle IPv4 und IPv6 (Dual Stack) | E46: B | H46: 1 | K46: Ja = 10 Punkt - Nein = 0 Punkte | L46: 3 | M46: 30 | O46: - | Q46: =IF(E46="A",IF(O46="Ja","OK","-"),(IF(O46<>"Ja",L46*0,L46*10))) -> 0
A47: 2 | B47: 3 | C47: 2 | D47: Alle angebotenen 3rd-Party Applikationen sind an der zentralen Vermittlungseinrichtung (Media-Server) zertifiziert. Entsprechende Nachweise sind nach Aufforderung vorzulegen. | E47: A | H47: 1 | K47: Ja = erfüllt - Nein = Ausschluss | O47: - | Q47: =IF(E47="A",IF(O47="Ja","OK","-"),(IF(O47<>"Ja",L47*0,L47*1))) -> -
D50: Teilnehmerleistungsmerkmale
A51: 2 | B51: 4 | C51: 1 | D51: Abwurf definierter Anrufe zum Vermittlungsplatz oder Ansagegerät | E51: A | H51: 1 | K51: Ja = erfüllt - Nein = Ausschluss | O51: - | Q51: =IF(E51="A",IF(O51="Ja","OK","-"),(IF(O51<>"Ja",L51*0,L51*1))) -> -
A52: 2 | B52: 4 | C52: 2 | D52: Anrufschutz für Endgeräte/Endgerätegruppen durch den Vermittlungsplatz | E52: B | H52: 1 | K52: Ja = 1 Punkt - Nein = 0 Punkte | L52: 5 | M52: =SUM(L52*1) -> 5 | O52: - | Q52: =IF(E52="A",IF(O52="Ja","OK","-"),(IF(O52<>"Ja",L52*0,L52*1))) -> 0
A53: 2 | B53: 4 | C53: =SUM(C52+1) -> 3 | D53: Anzeige von Zeit und Datum im Display der Endgeräte | E53: A | H53: 1 | K53: Ja = erfüllt - Nein = Ausschluss | O53: - | Q53: =IF(E53="A",IF(O53="Ja","OK","-"),(IF(O53<>"Ja",L53*0,L53*1))) -> -
A54: 2 | B54: 4 | C54: 4 | D54: Berechtigungsänderung durch Kennzifferneingabe (elektronisches Schloss) | E54: B | H54: 1 | K54: Ja = 1 Punkt - Nein = 0 Punkte | L54: 5 | M54: =SUM(L54*1) -> 5 | O54: - | Q54: =IF(E54="A",IF(O54="Ja","OK","-"),(IF(O54<>"Ja",L54*0,L54*1))) -> 0
A55: 2 | B55: 4 | C55: 5 | D55: Berechtigungsänderung über private Kennziffer für definierte Gespräche (PIN) | E55: B | H55: 1 | K55: Ja = 1 Punkt - Nein = 0 Punkte | L55: 5 | M55: =SUM(L55*1) -> 5 | O55: - | Q55: =IF(E55="A",IF(O55="Ja","OK","-"),(IF(O55<>"Ja",L55*0,L55*1))) -> 0
A56: 2 | B56: 4 | C56: =SUM(C55+1) -> 6 | D56: Berechtigungsänderung, systemzeitabhängig | E56: B | H56: 1 | K56: Ja = 1 Punkt - Nein = 0 Punkte | L56: 5 | M56: =SUM(L56*1) -> 5 | O56: - | Q56: =IF(E56="A",IF(O56="Ja","OK","-"),(IF(O56<>"Ja",L56*0,L56*1))) -> 0
A57: 2 | B57: 4 | C57: =SUM(C56+1) -> 7 | D57: Berechtigungsumschaltung durch ausgewählte Teilnehmer | E57: B | H57: 1 | K57: Ja = 1 Punkt - Nein = 0 Punkte | L57: 5 | M57: =SUM(L57*1) -> 5 | O57: - | Q57: =IF(E57="A",IF(O57="Ja","OK","-"),(IF(O57<>"Ja",L57*0,L57*1))) -> 0
A58: 2 | B58: 4 | C58: =SUM(C57+1) -> 8 | D58: Bevorzugung besonderer Anrufe | E58: B | H58: 1 | K58: Ja = 1 Punkt - Nein = 0 Punkte | L58: 5 | M58: =SUM(L58*1) -> 5 | O58: - | Q58: =IF(E58="A",IF(O58="Ja","OK","-"),(IF(O58<>"Ja",L58*0,L58*1))) -> 0
A59: 2 | B59: 4 | C59: 9 | D59: Dreierkonferenz / Konferenz | E59: A | H59: 1 | K59: Ja = erfüllt - Nein = Ausschluss | O59: - | Q59: =IF(E59="A",IF(O59="Ja","OK","-"),(IF(O59<>"Ja",L59*0,L59*1))) -> -
A60: 2 | B60: 4 | C60: 10 | D60: editierbare Rufnummereingabe vor der Leitungsbelegung am IP-Telefon | E60: B | H60: 1 | K60: Ja = 1 Punkt - Nein = 0 Punkte | L60: 5 | M60: =SUM(L60*1) -> 5 | O60: - | Q60: =IF(E60="A",IF(O60="Ja","OK","-"),(IF(O60<>"Ja",L60*0,L60*1))) -> 0
A61: 2 | B61: 4 | C61: 11 | D61: Einstellbares Anrufsignal | E61: A | H61: 1 | K61: Ja = erfüllt - Nein = Ausschluss | O61: - | Q61: =IF(E61="A",IF(O61="Ja","OK","-"),(IF(O61<>"Ja",L61*0,L61*1))) -> -
...

Sheet 3. Service
A1: Klinikum St. Marien Amberg
A4: Bewertungsmatrix
A7: Bereiche | E7: Angaben
K9: Angaben in dem Bereich - Bieterantworten
A10: 1. Unternehmen | E10: 400 | G10: Punkte | I10: =SUM(E10:F12) -> 800
A11: 2. Systemkonzept - Systemsoftware | E11: =SUM('2. System'!M112) -> 250 | G11: Punkte
A12: 3. Service | E12: =SUM('3. Service'!M57) -> 150 | G12: Punkte
B16: - Pflichtfeld (Eingabe von Bieterangaben)
B21: Anmerkungen zur Bearbeitung
B22: Antworten zu den jeweiligen Bieterfagen haben in dem entsprechenden Feld - Bieterantworten (gelb hinterlegt) zu erfolgen.
B23: Sind weitere Ausführungen / Erklärungen im Bereich Unternehmensdarstellung notwendig, so sind diese auf einem separaten Blatt darzustellen und mit dem Angebot einzureichen.
B24: Die Antworten erfolgen in den gelb hinterlegten Feldern über ein entsprechendes Dropdown-Menü
O27: Bieterantworten
A28: Kriteriengruppe | B28: Untergruppe | C28: Nummer | D28: Frage | E28: Kriterium | F28: A = Ausschlusskriterium | G28: B = Bewertungskriterium | H28: Antwort | I28: 1 = ja / nein | J28: 2 = Wert | K28: Bewertungspunkte | L28: Gewichtung | M28: Maximale Punkte | O28: Ja / Nein | P28: Wert | Q28: Punkte
A30: 3 | D30: Service
D32: Konzept
D33: Beschreiben Sie bitte ausführlich den von Ihnen angebotenen Lösungsansatz in Bezug auf die Bereiche
A34: 3 | B34: 1 | C34: 1 | D34: Servicekonzept | E34: A | H34: 1 | K34: Ja = erfüllt - Nein = Ausschluss | O34: - | Q34: =IF(E34="A",IF(O34="Ja","OK","-"),(IF(O34<>"Ja",L34*0,L34*1))) -> -
D36: Service- Ticketsystem
A37: 3 | B37: 2 | C37: 1 | D37: Möglichkeit zur Störungsmeldungen im WEB-Portal | E37: B | H37: 1 | K37: Ja = 1 Punkt - Nein = 0 Punkte | L37: 10 | M37: 10 | O37: - | Q37: =IF(E37="A",IF(O37="Ja","OK","-"),(IF(O37<>"Ja",L37*0,L37*1))) -> 0
A38: 3 | B38: 2 | C38: 2 | D38: Nutzung des WEB-Portal mit Zugang zum Trouble-Ticket-System | E38: B | H38: 1 | K38: Ja = 1 Punkt - Nein = 0 Punkte | L38: 10 | M38: 10 | O38: - | Q38: =IF(E38="A",IF(O38="Ja","OK","-"),(IF(O38<>"Ja",L38*0,L38*1))) -> 0
A39: 3 | B39: 2 | C39: 3 | D39: Stellt das von Ihnen zur Verfügung gestellte Ticket -System eine Web-API zur Verfügung? | E39: B | H39: 1 | K39: Ja = 1 Punkt - Nein = 0 Punkte | L39: 10 | M39: 10 | O39: - | Q39: =IF(E39="A",IF(O39="Ja","OK","-"),(IF(O39<>"Ja",L39*0,L39*1))) -> 0
A40: 3 | B40: 2 | C40: 4 | D40: Nutzung des WEB-Portal zur Priorisierung von Meldungen durch den Auftraggeber | E40: B | H40: 1 | K40: Ja = 1 Punkt - Nein = 0 Punkte | L40: 10 | M40: 10 | O40: - | Q40: =IF(E40="A",IF(O40="Ja","OK","-"),(IF(O40<>"Ja",L40*0,L40*1))) -> 0
A41: 3 | B41: 2 | C41: 5 | D41: Können über das WEB-Portal Änderungen in Bezug auf Benachrichtigungen von Statusänderungen eingerichtet werden? | E41: B | H41: 1 | K41: Ja = 1 Punkt - Nein = 0 Punkte | L41: 10 | M41: 10 | O41: - | Q41: =IF(E41="A",IF(O41="Ja","OK","-"),(IF(O41<>"Ja",L41*0,L41*1))) -> 0
A42: 3 | B42: 2 | C42: 6 | D42: Die Serviceprozesse sind nach ITIL standardisiert und der Bieter verfügt über ITIL-Zeritifzierte Mitarbeiter (mit Angebotsabgabe nachzuweisen). | E42: B | H42: 1 | K42: Ja = 1 Punkt - Nein = 0 Punkte | L42: 10 | M42: 10 | O42: - | Q42: =IF(E42="A",IF(O42="Ja","OK","-"),(IF(O42<>"Ja",L42*0,L42*1))) -> 0
A43: 3 | B43: 2 | C43: 7 | D43: Werden im WEB-Portal die Einhaltung der unterschiedlichen SLA dargestellt? | E43: B | H43: 1 | K43: Ja = 1 Punkt - Nein = 0 Punkte | L43: 10 | M43: 10 | O43: - | Q43: =IF(E43="A",IF(O43="Ja","OK","-"),(IF(O43<>"Ja",L43*0,L43*1))) -> 0
A44: 3 | B44: 2 | C44: 8 | D44: Besteht die Möglichkeit zur Bereitstellung einer monatlichen Statistik von gemeldeten / aufgetretenen Störungen | E44: B | H44: 1 | K44: Ja = 1 Punkt - Nein = 0 Punkte | L44: 10 | M44: 10 | O44: - | Q44: =IF(E44="A",IF(O44="Ja","OK","-"),(IF(O44<>"Ja",L44*0,L44*1))) -> 0
D46: Service-Meeting
A47: 3 | B47: 3 | C47: 1 | D47: Portfolio Meeting mindestens ein Mal im Jahr oder auf Anfrage des Auftraggebers (Informationen zum Anlagenstatus, Vertragsinhalte und -entgelte, Darstellung Hersteller Roadmap, technische Entwicklungen und Änderungen) | E47: B | H47: 1 | K47: Ja = 1 Punkt - Nein = 0 Punkte | L47: 10 | M47: 10 | O47: - | Q47: =IF(E47="A",IF(O47="Ja","OK","-"),(IF(O47<>"Ja",L47*0,L47*1))) -> 0
D49: Service-Stützpunkt
A50: 3 | B50: 4 | C50: 1 | D50: In welcher Entfernung befindet sich ihr nächstgelegener Servicestützpunkt zur nachfogend genannten Kundenadresse (einfache Entfernung / Hinweg). Darstellung unter Nennung der genauen Adresse auf einer Anlage zum Angebot.
D51: Klinik St. Marien Amberg - Mariahilfbergweg 7 - 92224 Amberg
D53: Wert der Entfernung eintragen. | E53: B | H53: 1 / 2 | K53: Entfernung bis 100 KM = 10 Punkte | L53: 6 | M53: 60 | O53: - | Q53: =IF(O53="bis 100 KM",L53*10,IF(O53="101 bis 150 KM",L53*7,IF(O53="mehr als 150 KM",L53*3,0))) -> 0
K54: Entfernung 101 bis 150 KM = 7 Punkte
K55: Entfernung mehr als 150 KM = 3 Punkte
K57: Maximale Leistungspunkte | M57: =SUM(M34:M55) -> 150 | Q57: =SUM(Q34:Q55) -> 0
