Workbook

Sheet Leistungsbeschreibung
A1: Leistungsbeschreibung – Automatisierte NGS-Library-Preparation-Workstation
A3: Artikelbezeichnung | B3: Hersteller | C3: Anzahl | D3: Standort | E3: Leistungsbeschreibung | H3: Begründung | I3: Antwort (J/N) | J3: Nachweis / Fundstelle | K3: Vergebene Punkt | L3: Max. Punkte
E4: Typ | F4: Bezeichnung | G4: Beschreibung
E5: 1. Allgemeines und Leistungsumfang
A6: Automatisierte NGS-Library-Preparation-Workstation | B6: herstellerneutral | C6: 1 | D6: Z4, B0.13 | E6: Ausschlusselement | F6: 1.1 Systemart | G6: Anzubieten ist eine automatisierte, modular konfigurierbare Liquid-Handling-Workstation für die weitgehend unbeaufsichtigte Präparation von NGS-Bibliotheken. Die Plattform muss eine variable Verarbeitung von 1 bis 96 Proben pro Ansatz ermöglichen. | L6: 0
E7: Ausschlusselement | F7: 1.2 Probenkapazität | G7: Das System muss NGS-Library-Preparation-Workflows mit variabler Probenzahl von 1 bis 96 Proben pro Ansatz verarbeiten können. | L7: 0
E8: Ausschlusselement | F8: 1.3 Offene Konfiguration | G8: Die Plattform muss unterschiedliche NGS-Kits und frei programmierbare Laborabläufe abbilden können; eine ausschließliche Bindung an einen einzelnen Reagenzienhersteller ist nicht zulässig. | L8: 0
E9: Ausschlusselement | F9: 1.4 Vollständiges Gesamtsystem | G9: Das Angebot muss Workstation, Robotikmodule, geeigneten Unterschrank, integrierte Prozessmodule, Plattenreader für Absorption- und Fluoreszenzmessungen, Steuer-PC, Monitor, Steuerungs- und Auswertesoftware, erforderliche Lizenzen, Deckelemente, Carrier/Adapter, Kabel, Starter-Verbrauchsmaterialien, Lieferung, Installation und Inbetriebnahme umfassen. | L9: 0
E10: Ausschlusselement | F10: 1.5 Neugerät | G10: Es ist fabrikneue, ungebrauchte Hardware der aktuellen und regulär unterstützten Produktgeneration anzubieten. | L10: 0
E11: Ausschlusselement | F11: 1.6 Gleichwertigkeit | G11: Bei einer vom internen Referenzsystem abweichenden Lösung ist die technische und funktionale Gleichwertigkeit zu sämtlichen Ausschlusselementen anhand konkreter Herstellerunterlagen nachzuweisen. | L11: 0
E12: 2. NGS-Applikation und Workflow
E13: Ausschlusselement | F13: 2.1 Initiale NGS-Applikation – TSO 500 v2 | G13: Für die zum Zeitpunkt der Veröffentlichung fachlich festgelegte aktuelle Version des Illumina TruSight Oncology 500 v2 Workflows ist ein vollständiges, lauffähiges und dokumentiertes Automationsprotokoll bereitzustellen. Der Bieter muss den Automationsumfang eindeutig darstellen: automatisierte und manuelle Prozessschritte, unterstützte Probenzahlen/Batchgrößen, eingesetzte Labware, erforderliche Zwischenbeladungen, thermische und magnetische Prozessschritte, Library-QC, Normalisierung und Pooling. | L13: 0
E14: Wertungselement | F14: 2.2. Zusätzliche NGS-Applikation - Agilent Technologies - SSlct Max PostCaptPool. CRE v4 | G14: Die Implementierung eines zweiten Workflows (Agilent Technologies - SureSelect Max PostCapturingPooling Clinical Research Exome (CRE) v4) wird positiv bewertet. | L14: 5
E15: Ausschlusselement | F15: 2.2 End-to-End-Automation | G15: Der Workflow muss die im Zielprotokoll automatisierbaren Schritte – insbesondere Pipettieren, Mischen, Inkubieren, magnetische Bead-Clean-ups, thermische Prozessschritte, Plattenhandling und Quantifizierung – automatisiert unterstützen. | L15: 0
E16: Ausschlusselement | F16: 2.3 Variable Batchgrößen | G16: Der automatisierte Ablauf muss für wechselnde Probenzahlen innerhalb des Bereichs 1–96 ohne grundlegende Änderung der Methode nutzbar sein; zeitkritische Trocknungs- und Inkubationsschritte müssen unabhängig von der Probenzahl prozesssicher abgebildet werden. | L16: 0
E17: Ausschlusselement | F17: 2.4 Walk-away-Betrieb | G17: Nach vollständiger Beladung muss ein mehrstündiger unbeaufsichtigter Betrieb mit automatischem Labware (Platten/Boxen/etc)-, Spitzen-, Reagenzien- und Modulhandling möglich sein. | L17: 0
E18: Ausschlusselement | F18: 2.5 Integrierte Quantifizierung | G18: Die automatisierte Messung von DNA-/RNA-Konzentrationen beziehungsweise Library-QC mittels integriertem Plattenreader muss Bestandteil des Gesamtsystems sein. | L18: 0
E19: Wertungselement | F19: 2.6 Weitere validierte NGS-Protokolle | G19: Die Anzahl weiterer bereits verfügbarer beziehungsweise durch den Hersteller unterstützter NGS-Library-Preparation-Protokolle ist darzustellen und wird positiv bewertet. | L19: 5
E20: Ausschlusselement | F20: 2.7 Anpassbarkeit durch geschulte Anwender | G20: Nach entsprechender Herstellerschulung muss es qualifizierten Systemverantwortlichen möglich sein, Anwendungen in der Steuerungssoftware selbst zu programmieren und bestehende Methoden beziehungsweise Liquid-Handling-Parameter zu optimieren. Zusätzlich verfügbare Unterstützungsleistungen für die spätere eigenständige Methodenentwicklung sind darzustellen. | L20: 0
E21: Ausschlusselement | F21: 2.8 Applikationssupport | G21: Für die Implementierung und spätere Erweiterung muss ein deutschsprachiges Applikationsteam mit nachgewiesener NGS-Erfahrung verfügbar sein. | L21: 0
E22: 3. Pipettier- und Robotikfunktionen
E23: Ausschlusselement | F23: 3.1 Robotik- und Prozessfunktionen | G23: Das System muss die für den Zielworkflow erforderlichen Funktionen für flexibles Einzelkanalpipettieren, paralleles Pipettieren vollständiger oder teilweise belegter 96-Well-Platten und automatisches Labware-/Plattenhandling bereitstellen. Die Funktionen müssen innerhalb eines automatisierten Laufs koordiniert und soweit prozessbedingt möglich parallel ausführbar sein. Die technische Realisierung kann durch mehrere physische Roboterarme oder eine funktional gleichwertige Architektur erfolgen. | L23: 0
E24: Ausschlusselement | F24: 3.2 Acht unabhängige Pipettierkanäle | G24: Ein Pipettiermodul mit mindestens acht einzeln ansteuerbaren, luftverdrängenden Kanälen für Einwegspitzen muss enthalten sein. Jeder Kanal ist mit einem Inline-Filter zur Vermeidung von Kontaminationen, beispielsweise bei der Verwendung falscher Spitzengrößen, ausgestattet. | L24: 0
E25: Ausschlusselement | F25: 3.3 Volumenbereich Einzelkanäle | G25: Der nutzbare Pipettierbereich der unabhängigen Einzelkanäle muss mindestens 0,5 bis 1.000 µl abdecken. Sofern einzelne Schritte des final festgelegten Zielprotokolls kleinere Volumina erfordern, muss der Bieter eine technisch gleichwertige, reproduzierbare Lösung für diese Prozessschritte nachweisen. | L25: 0
E26: Ausschlusselement | F26: 3.4 Automatische Anpassung an Gefäßformate | G26: Die unabhängigen und spreizbaren Pipettierkanäle müssen sich automatisch an die im Zielworkflow eingesetzten Röhrchen-, Reservoir- und Mikrotiterplattenformate (ANSI/SLAS-Norm) anpassen können. Der Bieter hat den technisch unterstützten Kanalabstandsbereich beziehungsweise die funktional gleichwertige Lösung sowie die kompatiblen Gefäßformate anzugeben. | L26: 0
E27: Ausschlusselement | F27: 3.5 Flüssigkeitsstanderkennung | G27: Die unabhängigen Pipettierkanäle müssen Flüssigkeitsstände automatisch erkennen, die Eintauchtiefe anpassen und eine automatisierte Aspirations-/Dispensierüberwachung unterstützen. | L27: 0
E28: Wertungselement | F28: 3.6 Pipettierüberwachung | G28: Über die standardmäßige Flüssigkeitsstanderkennung hinausgehende softwaregestützte Echtzeitüberwachungen des Pipettiervorgangs werden positiv bewertet. Besonders berücksichtigt werden KI-gestützte Verfahren zur automatischen Interpretation von Druckprofilen und Erkennung von Pipettieranomalien. Der Bieter gibt an, welche Funktionen enthalten bzw. optional lizenzierbar sind und welche Einschränkungen bestehen. | L28: 4
E29: Ausschlusselement | F29: 3.7 96-Kanal-Pipettierkopf | G29: Ein integrierter 96-Kanal-Pipettierkopf zur parallelen Bearbeitung vollständiger oder teilweise belegter 96-Well-Platten muss enthalten sein. | L29: 0
E30: Ausschlusselement | F30: 3.8 Volumenbereich 96-Kanal | G30: Der 96-Kanal-Pipettierkopf muss im freien Dispensiermodus mindestens einen Volumenbereich von 1 bis 1.000 µl unterstützen. | L30: 0
E31: Wertungselement | F31: 3.9 Selektive Spitzenaufnahme | G31: Die zeilen-, spalten- oder teilplattenweise Spitzenaufnahme durch den 96-Kanal-Kopf wird positiv bewertet. | L31: 4
E32: Wertungselement | F32: 3.10 Gemeinsame Spitzentypen | G32: Die Nutzbarkeit der gleichen Spitzen für Einzelkanal- und 96-Kanal-Pipettierung wird positiv bewertet. | L32: 3
E33: Ausschlusselement | F33: 3.11 Roboter-Greifarm mit erweiterter Z-Reichweite | G33: Ein in die Plattform integrierter automatischer Greifarm mit erweiterter Z-Reichweite muss Mikrotiterplatten verschiedener Höhen, im Zielworkflow benötigte Plastikware und Spitzenboxen zwischen Deck, Hotels und integrierten Modulen bewegen und Geräte unterhalb des Hauptdecks erreichen können. | L33: 0
E34: Ausschlusselement | F34: 3.12 Parallele Armsteuerung | G34: Robotikfunktionen müssen unabhängig, auf getrennten Armen untergebracht sein, um paralleles Arbeiten zu ermöglichen; softwaregestützte Bewegungsplanung und Kollisionsvermeidung sind erforderlich. | L34: 0
E35: 4. Deck, Labware und integrierte Prozessmodule
E36: Ausschlusselement | F36: 4.1 Nutzbare Deck- und Lagerkapazität | G36: Die nutzbare Deckkapazität muss für die automatisierte Bearbeitung des TSO500-v2-Workflows mit 1 bis 96 Proben ausgelegt sein. Hierfür müssen mindestens 35 gleichzeitig nutzbare Deckpositionen im SLAS-Format zur Verfügung stehen. Zusätzlich sollten 20 Lagerpositionen für Labware im SLAS-Format vorhanden sein. Der Nachweis erfolgt durch ein vollständiges Decklayout für die maximale Batchgröße des jeweiligen Methodenschritts. | L36: 0
E37: Ausschlusselement | F37: 4.2 Walk-away-Decklayout | G37: Der TSO500-v2-Workflow darf in nicht mehr als 3 automatisierte Methodenschritte unterteilt sein (1. cDNA-Synthese, 2. Bankenpräparation, 3. Normalisierung). Für jeden Methodenteil dieses Workflows muss die maximale Batchgröße der jeweiligen Methode ohne manuelles Umrüsten oder zwischenzeitliches Entfernen benötigter Labware (inkl. benötigten Platten, Spitzen, Reagenzien, Reservoire und Prozessmodule) abgebildet werden können. Der Nachweis erfolgt anhand eines vollständigen Decklayouts für 96 Proben für jeden der drei Prozessschritte. | L37: 0
E38: Ausschlusselement | F38: 4.3 Modular rekonfigurierbares Deck | G38: Decksegmente und Standardcarrier müssen präzise und ohne aufwendiges erneutes Einlernen austauschbar beziehungsweise rekonfigurierbar sein. | L38: 0
E39: Ausschlusselement | F39: 4.4 Mögliche Integration eines weiteren Thermocyclers | G39: Es muss die Möglichkeit bestehen auf dem System bei Einhaltung desselben Footprint einen weiteren Thermocycler zu integrieren. | L39: 0
E40: Ausschlusselement | F40: 4.5 Platten- und Spitzenhotels | G40: Es müssen ausreichende integrierte Lagerpositionen für Mikrotiterplatten und Spitzenboxen außerhalb der unmittelbar benötigten Pipettierpositionen vorhanden sein; mindestens 20 Lagerplätze beziehungsweise eine gleichwertige Kapazität werden gefordert. | L40: 0
E41: Ausschlusselement | F41: 4.6 Magnetmodul | G41: Ein für 96-Well-Platten geeignetes Magnetmodul zur automatisierten magnetischen Bead-Separation muss enthalten sein. | L41: 0
E42: Ausschlusselement | F42: 4.7 Temperatur- und Schüttelmodule | G42: Mindestens drei aktiv regelbare Heiz-/Kühlpositionen sowie ein temperaturgeregelter Plattenschüttler müssen integriert und softwaregesteuert sein. | L42: 0
E43: Ausschlusselement | F43: 4.8 On-Deck-Thermocycler | G43: Ein automatisiert beladbarer 96-Well-On-Deck-Thermocycler muss enthalten sein; Thermoblock mindestens +4 bis +99 °C, regelbarer Heizdeckel mindestens +30 bis +115 °C. | L43: 0
E44: Ausschlusselement | F44: 4.9 Automatisches Modulhandling | G44: Der Greifarm muss Schüttler, Magnet, Thermocycler, Reader und weitere automatisiert zugängliche Module beziehungsweise deren Labware sicher be- und entladen können. | L44: 0
E45: Ausschlusselement | F45: 4.10 Reagenzien- und Abfallhandling | G45: Geeignete Positionen für mindestens 25-ml- und 100-ml-Reagenzreservoire sowie eine sichere Entsorgung gebrauchter Pipettenspitzen müssen enthalten sein. | L45: 0
E46: 5. Automatisierte Library-QC, Normalisierung und Pooling
E47: Ausschlusselement | F47: 5.1 Automatisierte Library-QC | G47: Die angebotene Lösung muss Workflows mit Quantifizierung automatisiert – unter Nutzung des Plattenreaders – durchführen können, ohne dass ein manueller Datentransfer erforderlich ist. | L47: 0
E48: Ausschlusselement | F48: 5.2 Fluorometrische Quantifizierung | G48: Die automatisierte Quantifizierung von Nulkeinsäuren (z.B. NGS-Banken) muss mit einem geeigneten fluorometrischen Verfahren möglich sein. Der Bieter hat die unterstützten Assays, Messbereiche, Plattenformate, erforderlichen Volumina und die automatisierte Datenübergabe zu beschreiben. | L48: 0
E49: Ausschlusselement | F49: 5.3 SLAS-kompatible Plattenformate | G49: Der Plattenreader muss Platten- und Reaktionsgefäße im SLAS-Format automatisiert verarbeiten können. Der Bieter hat die kompatiblen Formate und gegebenenfalls erforderliche Adapter anzugeben. | L49: 0
E50: Ausschlusselement | F50: 5.4 Automatisierte Normalisierung und Datenexport | G50: Die Ergebnisse der Quantifizierung müssen automatisiert den jeweiligen Proben zugeordnet und zur Berechnung beziehungsweise Durchführung der im Workflow erforderlichen Normalisierung nutzbar sein, sowie als strukturierter Datensatz exportiert werden können. Der vollständige Datenfluss vom Messwert bis zur Normalisierung ist nachvollziehbar zu dokumentieren. | L50: 0
E51: Ausschlusselement | F51: 5.5 Automatisiertes Pooling und Datenexport | G51: Quantifizierung oder Normalisierungsdaten müssen automatisiert dem Lauf und den Proben zugeordnet, für das finale Pooling verwendet und als strukturierter Datensatz exportiert werden können. Der vollständige Datenfluss vom Messwert bis zum Pooling ist nachvollziehbar zu dokumentieren. | L51: 0
E52: 6. Software, Datenintegrität und Benutzerführung
E53: Ausschlusselement | F53: 6.1 Steuerungssoftware und Touchscreen | G53: Eine grafische Steuerungssoftware sowie ein am System verfügbarer Touchscreen für Routinebedienung, Statusanzeige und geführtes Beladen müssen enthalten sein. | L53: 0
E54: Ausschlusselement | F54: 6.2 Geführter Ladedialog | G54: Die Software muss benötigte Reagenz- und Verbrauchsmaterialmengen berechnen und den Anwender schrittweise durch die Beladung führen. | L54: 0
E55: Ausschlusselement | F55: 6.3 Kamerabasierte Deckkontrolle | G55: Die tatsächliche Deckbeladung muss kamerabasiert mit dem erwarteten Layout verglichen werden; fehlende, falsche, verschobene Labware oder Module und inkorrekte Decksegmente sind vor Laufstart anzuzeigen. | L55: 0
E56: Wertungselement | F56: 6.4 Kamerabasierte Fehlerkontrolle | G56: Aufnahme des Decks während eines Workflow/Laufs für eine visuelle Fehleranalyse im Falle eines Fehlers oder Abbruchs. Eine Aufnahme des kompletten Laufs ist nichts notwendig, jedoch müssen Videoaufnahmen 1 min vor und 30 s nach einer Fehlermeldung lokal verfügbar sein. | L56: 5
E57: Ausschlusselement | F57: 6.5 Rollenbasierte Benutzerverwaltung | G57: Die angebotene Systemsoftware muss eine geregelte Benutzerverwaltung für den qualitätsgesicherten Betrieb ermöglichen. Erforderlich sind mindestens individuelle Benutzerkonten sowie eine differenzierte Vergabe von Berechtigungen beziehungsweise Rollen für Routineanwender und Systemverantwortliche. Der konkrete Funktionsumfang ist durch Softwareunterlagen nachzuweisen. | L57: 0
E58: Ausschlusselement | F58: 6.6 Audit Trail und elektronische Datensätze | G58: Relevante Änderungen an Methoden, Konfigurationen, Benutzerrechten und elektronischen Laufdaten müssen nachvollziehbar protokolliert und exportierbar sein. | L58: 0
E59: Ausschlusselement | F59: 6.7 Elektronische Signaturen und Freigabe | G59: Elektronische Genehmigungs-/Freigabefunktionen für Methoden oder Datensätze werden gefordert, soweit sie Bestandteil der angebotenen Gx-Konfiguration sind; der genaue Funktionsumfang ist darzustellen. | L59: 0
E60: Ausschlusselement | F60: 6.8 Rückverfolgbarkeit und Berichte | G60: Proben-, Platten-, Methoden-, Benutzer-, Zeit- und Gerätezustandsinformationen müssen einem Lauf eindeutig zugeordnet und als Bericht oder strukturierter Datensatz exportierbar sein. | L60: 0
E61: Ausschlusselement | F61: 6.9 Simulation | G61: Workflows/Läufe müssen in der Systemsoftware simulierbar sein. | L61: 0
E62: Ausschlusselement | F62: 6.10 Steuersoftware/Simulation unabhängig vom der Workstation | G62: Fähigkeit der Installation der Systemsoftware auf einem separaten Rechner, um dort Workflows zu programmieren und simulieren muss gegeben sein. | L62: 0
E63: Ausschlusselement | F63: 6.11 Versionsverwaltung | G63: Versionsverwaltung und kontrollierte Wiederherstellung freigegebener Methodenstände muss integriert sein. | L63: 0
E64: Wertungselement | F64: 6.12 LIMS-/API-Anbindung | G64: Eine dokumentierte, automatisierbare Schnittstelle zur Übergabe von Auftrags-/Probeninformationen sowie zur Rückgabe von Laufstatus, Fehlerstatus, QC-/Quantifizierungsdaten und Ergebnissen an ein LIMS oder andere Drittsysteme wird positiv bewertet. Unterstützte Schnittstellenarten, Datenformate, Authentisierung, Verschlüsselung und technische Voraussetzungen sind zu beschreiben. | L64: 5
E65: 7. Sicherheit, Kontaminationsschutz und Konformität
E66: Ausschlusselement | F66: 7.1 Geschlossenes Sicherheitssystem | G66: Der Arbeitsbereich muss durch transparente, überwachte Schutzelemente eingehaust sein; sicherheitsrelevante Türen und Abdeckungen müssen während des Betriebs überwacht beziehungsweise verriegelt werden können. | L66: 0
E67: Ausschlusselement | F67: 7.2 Validierbares Dekontaminationskonzept | G67: Für den Arbeitsbereich muss ein wirksames, für molekularbiologische NGS-Workflows geeignetes und dokumentierbares Dekontaminationskonzept verfügbar sein. Zulässig sind UVC-basierte Verfahren oder funktional gleichwertige, vom Hersteller freigegebene Verfahren, sofern sie den erforderlichen Kontaminationsschutz gewährleisten und sicher in den Routinebetrieb integrierbar sind. | L67: 0
E68: Wertungselement | F68: 7.3 Kontrollierter Dekontaminationsprozess | G68: Ein automatisierter beziehungsweise softwaregestützt geführter, sicher kontrollierter und dokumentierbarer Dekontaminationsprozess wird positiv bewertet. Bewertet werden insbesondere Sicherheitsverriegelung, definierte Zyklus-/Einwirkparameter, Statusanzeige, Protokollierung und einfache Integration in den Routinebetrieb. | L68: 3
E69: Ausschlusselement | F69: 7.4 Kontaminationsarme Pipettierung | G69: Gefilterte Einwegspitzen und konstruktive Schutzmaßnahmen gegen das Eindringen von Flüssigkeit in die Pipettierkanäle müssen unterstützt werden. | L69: 0
E70: Ausschlusselement | F70: 7.5 CE- und Sicherheitsdokumentation | G70: Für alle relevanten Systemkomponenten sind gültige CE-Konformitätserklärungen, Sicherheitsinformationen und Angaben zu den anwendbaren Normen vorzulegen. | L70: 0
E71: 8. Aufstellung, Versorgung und IT-Infrastruktur
E72: Ausschlusselement | F72: 8.1 Stellfläche | G72: Die angebotene Konfiguration einschließlich Unterschrank muss am vorgesehenen Laborstandort aufstellbar sein. Außenmaße, Wartungs-/Bedienabstände und Transportmaße sind verbindlich anzugeben. | L72: 0
E73: Ausschlusselement | F73: 8.2 Gesamthöhe | G73: Gesamthöhe der Konfiguration, Einhausung und Unterschrank sowie erforderliche Freiräume für Wartung und Einbringung sind verbindlich anzugeben und dürfen folgende Maße nicht überschreiten: B 1700 mm x T 930 mm x 2500 mm | L73: 0
E74: Ausschlusselement | F74: 8.3 Gewicht und Lasten | G74: Gesamtgewicht, Punktlasten und Anforderungen an Boden beziehungsweise Aufstellfläche sind verbindlich anzugeben; ein geeigneter Unterschrank muss Bestandteil des Angebots sein. | L74: 0
E75: Ausschlusselement | F75: 8.4 Umgebungsbedingungen | G75: Zulässige Temperatur-, Luftfeuchte-, Belüftungs- und sonstige Umgebungsbedingungen sind verbindlich anzugeben und müssen mit einem üblichen klimatisierten molekularbiologischen Labor kompatibel sein. | L75: 0
E76: Ausschlusselement | F76: 8.5 Stromversorgung | G76: Spannung, Frequenz, maximale Leistungsaufnahme, Spitzenlast und Anzahl aller erforderlichen Stromanschlüsse sind anzugeben. Alle für den Betrieb in Deutschland erforderlichen Netzkabel sind mitzuliefern. | L76: 0
E77: Ausschlusselement | F77: 8.6 Steuer-PC | G77: Ein vom Hersteller freigegebener Steuer-PC mit zum Lieferzeitpunkt unterstütztem 64-Bit-Betriebssystem, Monitor und erforderlicher Peripherie muss enthalten sein. Hardware- und Software-Mindestanforderungen sind anzugeben. Soweit zusätzliche Client-/Administrationssoftware auf UMG-Arbeitsplätzen installiert wird, muss diese mindestens ein zum Lieferzeitpunkt unterstütztes Windows 11 Enterprise 64-Bit beziehungsweise bei webbasierten Clients aktuelle freigegebene Browser unterstützen; minimale und empfohlene Clientanforderungen sind anzugeben. | L77: 0
E78: Ausschlusselement | F78: 8.7 Netzwerk und lokaler Betrieb | G78: Erforderliche Netzwerkanschlüsse, lokale Kommunikationspfade und gegebenenfalls Remote-/Monitoring-Verbindungen sind vollständig offenzulegen. Die Kernfunktion des Systems muss ohne permanente externe Cloudverbindung nutzbar sein. Netzwerkparameter, die für den Routinebetrieb erforderlich sind, müssen durch administrativ berechtigte UMG-Mitarbeitende konfigurierbar sein oder kurzfristig und ohne zusätzliche Kosten durch den Anbieter angepasst werden können. | L78: 0
E79: 9. Lieferung, Installation und Abnahme
E80: Ausschlusselement | F80: 9.1 Lieferung und Einbringung | G80: Lieferung frei Verwendungsstelle, Einbringung, Aufstellung, Verpackungsentsorgung und Prüfung des Aufstell-/Transportwegs müssen im Leistungsumfang enthalten sein. Die Einbringung an den Zielstandort muss gewährleistet sein. | L80: 0
E81: Wertungselement | F81: 9.2 Terminplan | G81: Ein verbindlicher Terminplan für Produktion, Lieferung, Installation, Applikationsimplementierung und Abnahme ist vorzulegen; kurze realistische Gesamtzeiten werden positiv bewertet. | L81: 3
E82: Ausschlusselement | F82: 9.3 Installation | G82: Installation, Konfiguration und Standardprüfung müssen durch qualifiziertes Hersteller- oder autorisiertes Servicepersonal erfolgen. | L82: 0
E83: Ausschlusselement | F83: 9.4 IQ/OQ | G83: Für Workstation und alle integrierten Module ist eine dokumentierte Installations- und Funktionsqualifizierung (IQ/OQ) nach Herstellervorgaben durchzuführen. | L83: 0
E84: Ausschlusselement | F84: 9.5 Applikationsimplementierung | G84: Das vereinbarte NGS-Protokoll ist durch qualifiziertes Applikationspersonal zu installieren, zu konfigurieren und mit den verwendeten Labware-/Moduldefinitionen zu dokumentieren. | L84: 0
E85: Ausschlusselement | F85: 9.6 SAT und Pipettierprüfung | G85: Vor Abnahme ist ein praktischer System-Akzeptanztest (SAT) für den vollständigen Zielworkflow mit Wasser beziehungsweise geeigneten Surrogaten durchzuführen. Der SAT muss mindestens Pipettierfunktion, Modulhandling, Walk-away-Ablauf, automatisierte Library-QC/Normalisierung/Pooling sowie die mechanische und softwareseitige Integration des vorhandenen Covaris R230 einschließlich Übergabe/Rücknahme der Labware, Methodenstart, Status-/Fehlerrückmeldung und kontrollierter Workflow-Fortsetzung prüfen. | L85: 0
E86: Ausschlusselement | F86: 9.7 Abnahmedokumentation | G86: Zur Abnahme sind mindestens die IQ/OQ-Dokumente der Workstation und integrierten Module, der zugehörige Service Report, der Nachweis des erbrachten Applikationssupports sowie das unterzeichnete Acceptance-/SAT-Protokoll des Systemtests zu übergeben. Zusätzlich sind Seriennummern, installierte Softwarestände und die finale System-/Applikationskonfiguration zu dokumentieren. | L86: 0
E87: Ausschlusselement | F87: 9.8 Finale Testlauf | G87: Die Funktionsfähigkeit der Automationslösung gilt als bestätigt, wenn Kontrollproben (z. B. Agilent UHR RNA, Horizon HD753 DNA) nach Abschluss des Zielworkflows (TSO500 v2) folgende Kriterien erfüllt sind: Die Ausbeute (Konzentration) der NGS-Bibliotheken entspricht den Vorgaben des jeweiligen Reference Guides (z. B. >3 ng/µl pro Probe vor der Normalisierung). Die Qualität der resultierenden NGS-Bibliotheken wird durch eine positive Bewertung (z. B. Tapestation) bestätigt. Die eingesetzten Inputmengen entsprechen mindestens 30 ng DNA bzw. 40 ng RNA. Die anfallenden Kosten für Reagenzien und Labware trägt die CUG/IMG. | L87: 0
E88: 10. Schulung, Service und Verbrauchsmaterialien
E89: Ausschlusselement | F89: 10.1 Anwenderschulung | G89: Eine deutschsprachigesprachige Schulung für mindestens vier Routineanwender zu Beladung, Laufsteuerung, Fehlerbehandlung, Reinigung und Dekontamination ist im Leistungsumfang vorzusehen. | L89: 0
E90: Wertungselement | F90: 10.2 Administrator- und Methodentraining | G90: Ein vertieftes Training für mindestens zwei Systemverantwortliche zu Programmierung, Methodenoptimierung, Benutzerverwaltung und Systembetreuung wird positiv bewertet. | L90: 5
E91: Ausschlusselement | F91: 10.3 Gewährleistung | G91: Für das vollständige System ist eine Gewährleistungs- beziehungsweise Garantiezeit von mindestens 12 Monaten ab Abnahme vorzusehen. | L91: 0
E92: Wertungselement | F92: 10.4 Servicekonzept | G92: Verfügbare Wartungs- und Vollserviceverträge, präventive Wartung, priorisierte Unterstützung, Ferndiagnose, Reaktionszeiten und Serviceorganisation sind darzustellen und werden bewertet. | L92: 5
E93: Ausschlusselement | F93: 10.5 Starter-Verbrauchsmaterialien | G93: Eine für Installation, Qualifizierung, Training und erste Routineansätze ausreichende Grundausstattung an leitfähigen gefilterten Spitzen, Spitzenboxen, 25-/100-ml-Reservoiren und erforderlicher Standardlabware muss enthalten sein. Für NGS-Anwendungen ist geeignete molekularbiologische Reinheit nachzuweisen. | L93: 0
E94: 11. IT, Informationssicherheit, Datenschutz und Lebenszyklus
E95: Ausschlusselement | F95: 11.1 Netzwerk-/Kommunikationsdokumentation | G95: Mit dem Angebot sind ein Block-/Netzwerkdiagramm und eine vollständige Kommunikationsmatrix der angebotenen Gesamtlösung vorzulegen. Darzustellen sind mindestens Steuer-PC/Workstation, gegebenenfalls Server/Appliances, Reader/QC-Komponenten, LIMS-/Drittsysteme, Backup und Remote-Service. Für jede Kommunikation sind Quelle, Ziel, Port, Protokoll, Richtung, Verschlüsselung, Zertifikatsbedarf sowie DNS-/NTP-Abhängigkeiten und erforderliche Firewallfreigaben anzugeben. Kabelgebundenes Ethernet und IPv4 müssen unterstützt werden; IPv6-/Dual-Stack-Fähigkeit ist verbindlich anzugeben. | L95: 0
E96: Ausschlusselement | F96: 11.2 System-/Serverarchitektur und Virtualisierung | G96: Der Bieter muss die vollständige Systemarchitektur benennen. Soweit Server, Appliances oder virtuelle Maschinen erforderlich sind, sind minimale und empfohlene Anforderungen an CPU, RAM, Speicher, IOPS, Netzwerk, Betriebssystem, Datenbank/Middleware, Backup und Lizenzen anzugeben. Es ist verbindlich darzustellen, ob physische und/oder virtuelle Betriebsformen freigegeben sind. Für Virtualisierung sind unterstützte Hypervisor, Ressourcenanforderungen, Snapshot-/Backup-Einschränkungen, Lizenzfolgen, Performancegrenzen und Supportbedingungen anzugeben. Sind keine Serverkomponenten erforderlich, ist dies ausdrücklich zu bestätigen. | L96: 0
E97: Ausschlusselement | F97: 11.3 Benutzer-, Client- und Identitätsmanagement | G97: Für lokale und gegebenenfalls zentrale Benutzerverwaltung sind unterstützte Authentisierungs- und Rollenmodelle darzustellen. Die lokale rollenbasierte Benutzerverwaltung gemäß Kriterium 6.4 muss unabhängig von einer zentralen Identity-Anbindung nutzbar sein. Unterstützte Integrationen in zentrale Verzeichnis-/Identity-Dienste der UMG (z. B. Microsoft Active Directory/LDAP, Kerberos, SAML/OIDC oder funktional gleichwertig) sind anzugeben. Eine fehlende AD-/LDAP-Anbindung ist kein Ausschlussgrund, sofern die geforderten lokalen Benutzer- und Berechtigungsfunktionen vollständig erfüllt werden. | L97: 0
E98: Ausschlusselement | F98: 11.4 Software- und Lizenzmodell | G98: Für sämtliche mitangebotenen Softwarekomponenten sind Lizenzmetrik und Lizenzierungsverfahren vollständig darzustellen. Anzugeben sind insbesondere Lizenzierung pro Gerät/Server/Client/Nutzer/Concurrent User/Standort, Kauf-/Dauerlizenz oder Subscription, Laufzeit, Online-/Offline-Aktivierung, Lizenzserver oder Hardware-Dongle, Rehosting bei Hardwaretausch, Berechtigung für Test-/Desaster-Recovery-Instanzen, Update-/Upgrade-Rechte sowie einmalige und wiederkehrende Kosten. | L98: 0
E99: Ausschlusselement | F99: 11.5 Endpoint-Schutz, Sicherheitsupdates und Fernzugriff | G99: Der Hersteller muss einen dokumentierten Prozess für Sicherheitsmeldungen, Schwachstellenbewertung und sicherheitsrelevante Updates/Patches betreiben. Der Bieter muss angeben, ob der bei der UMG eingesetzte Endpoint-Schutz ESET auf den angebotenen Steuer-PC-/Server-/Clientkomponenten herstellerseitig freigegeben ist. Ist ESET nicht freigegeben, sind die technischen Gründe, erforderliche Ausschlüsse/Allowlisting-Regeln und herstellerseitig freigegebene gleichwertige Schutzmaßnahmen darzustellen; Abweichungen bedürfen der Freigabe der UMG-IT. Remote-Service darf nur nach Freigabe der UMG, zeitlich begrenzt und nachvollziehbar erfolgen. | L99: 0
E100: Ausschlusselement | F100: 11.6 Datenschutz und Verarbeitungskonzept | G100: Der Bieter muss darlegen, ob und welche personenbezogenen, pseudonymisierten oder gesundheitsbezogenen Daten durch Workstation, Steuerungssoftware, QC-Komponenten, Logs oder Remote-Service verarbeitet werden. Sofern entsprechende Daten verarbeitet werden, ist ein Datenschutz- und Verarbeitungskonzept vorzulegen, das mindestens Datenflüsse und Speicherorte, Rollen/Berechtigungen, Protokollierung, Verschlüsselung, Lösch-/Exportmöglichkeiten, Remote-Service, Unterauftragnehmer und etwaige Drittlandübermittlungen beschreibt. Soweit erforderlich, muss der Abschluss eines Auftragsverarbeitungsvertrags gemäß Art. 28 DSGVO möglich sein. | L100: 0
E101: Ausschlusselement | F101: 11.7 IT-/Software-Lebenszyklus, EOL/EOS und Migration | G101: Der Bieter muss für einen vorgesehenen Nutzungszeitraum von mindestens 10 Jahren ab Abnahme die geplante Produkt-, Software-, Sicherheits- und Servicepflege sowie die voraussichtliche Ersatzteilverfügbarkeit darstellen. Ein absolutes Verbot von End-of-Life-/End-of-Service-Ereignissen einzelner Betriebssystem-, Datenbank-, Server- oder Softwarekomponenten wird nicht verlangt. Werden Komponenten innerhalb des Nutzungszeitraums EOL/EOS, muss ein herstellerseitig unterstützter Migrations- oder Ersatzpfad verfügbar sein, der die bestimmungsgemäße Funktion, Datenintegrität, Schnittstellen und IT-Sicherheit erhält. Bekannte Abkündigungen, Fristen und Kosten sind offenzulegen. | L101: 0
...

Sheet Bewertungsvorschlag
A1: Bewertungsvorschlag und Kriterienübersicht
A4: Kapitel | B4: Kriterien gesamt | C4: Ausschluss- elemente | D4: Wertungs- elemente | E4: Max. Punkte | F4: Anteil an Wertungspunkten | G4: Bewertungsgrundsatz
A5: 1. Allgemeines und Leistungsumfang | B5: =COUNTIF(Leistungsbeschreibung!$F:$F,"1.*") -> 6 | C5: =COUNTIFS(Leistungsbeschreibung!$F:$F,"1.*",Leistungsbeschreibung!$E:$E,"Ausschlusselement") -> 6 | D5: =COUNTIFS(Leistungsbeschreibung!$F:$F,"1.*",Leistungsbeschreibung!$E:$E,"Wertungselement") -> 0 | E5: =SUMIF(Leistungsbeschreibung!$F:$F,"1.*",Leistungsbeschreibung!$L:$L) -> 0 | F5: =IFERROR(E5/SUM($E$5:$E$15),0) -> 0 | G5: 0 Punkte = kein/geringer Mehrwert; Maximalpunkte = vollständig nachgewiesener, erheblicher Mehrwert.
A6: 2. Konformität und Dokumentation | B6: =COUNTIF(Leistungsbeschreibung!$F:$F,"2.*") -> 9 | C6: =COUNTIFS(Leistungsbeschreibung!$F:$F,"2.*",Leistungsbeschreibung!$E:$E,"Ausschlusselement") -> 7 | D6: =COUNTIFS(Leistungsbeschreibung!$F:$F,"2.*",Leistungsbeschreibung!$E:$E,"Wertungselement") -> 2 | E6: =SUMIF(Leistungsbeschreibung!$F:$F,"2.*",Leistungsbeschreibung!$L:$L) -> 10 | F6: =IFERROR(E6/SUM($E$5:$E$15),0) -> 0.21276596 | G6: 0 Punkte = kein/geringer Mehrwert; Maximalpunkte = vollständig nachgewiesener, erheblicher Mehrwert.
A7: 3. Aufstellung und Umgebungsbedingungen | B7: =COUNTIF(Leistungsbeschreibung!$F:$F,"3.*") -> 12 | C7: =COUNTIFS(Leistungsbeschreibung!$F:$F,"3.*",Leistungsbeschreibung!$E:$E,"Ausschlusselement") -> 9 | D7: =COUNTIFS(Leistungsbeschreibung!$F:$F,"3.*",Leistungsbeschreibung!$E:$E,"Wertungselement") -> 3 | E7: =SUMIF(Leistungsbeschreibung!$F:$F,"3.*",Leistungsbeschreibung!$L:$L) -> 11 | F7: =IFERROR(E7/SUM($E$5:$E$15),0) -> 0.23404255 | G7: 0 Punkte = kein/geringer Mehrwert; Maximalpunkte = vollständig nachgewiesener, erheblicher Mehrwert.
A8: 4. Objektträgerhandling und Kapazität | B8: =COUNTIF(Leistungsbeschreibung!$F:$F,"4.*") -> 10 | C8: =COUNTIFS(Leistungsbeschreibung!$F:$F,"4.*",Leistungsbeschreibung!$E:$E,"Ausschlusselement") -> 10 | D8: =COUNTIFS(Leistungsbeschreibung!$F:$F,"4.*",Leistungsbeschreibung!$E:$E,"Wertungselement") -> 0 | E8: =SUMIF(Leistungsbeschreibung!$F:$F,"4.*",Leistungsbeschreibung!$L:$L) -> 0 | F8: =IFERROR(E8/SUM($E$5:$E$15),0) -> 0 | G8: 0 Punkte = kein/geringer Mehrwert; Maximalpunkte = vollständig nachgewiesener, erheblicher Mehrwert.
A9: 5. Scanleistung, Optik, Fokus und Qualität | B9: =COUNTIF(Leistungsbeschreibung!$F:$F,"5.*") -> 5 | C9: =COUNTIFS(Leistungsbeschreibung!$F:$F,"5.*",Leistungsbeschreibung!$E:$E,"Ausschlusselement") -> 5 | D9: =COUNTIFS(Leistungsbeschreibung!$F:$F,"5.*",Leistungsbeschreibung!$E:$E,"Wertungselement") -> 0 | E9: =SUMIF(Leistungsbeschreibung!$F:$F,"5.*",Leistungsbeschreibung!$L:$L) -> 0 | F9: =IFERROR(E9/SUM($E$5:$E$15),0) -> 0 | G9: 0 Punkte = kein/geringer Mehrwert; Maximalpunkte = vollständig nachgewiesener, erheblicher Mehrwert.
A10: 6. Identifikation und Rückverfolgbarkeit | B10: =COUNTIF(Leistungsbeschreibung!$F:$F,"6.*") -> 12 | C10: =COUNTIFS(Leistungsbeschreibung!$F:$F,"6.*",Leistungsbeschreibung!$E:$E,"Ausschlusselement") -> 10 | D10: =COUNTIFS(Leistungsbeschreibung!$F:$F,"6.*",Leistungsbeschreibung!$E:$E,"Wertungselement") -> 2 | E10: =SUMIF(Leistungsbeschreibung!$F:$F,"6.*",Leistungsbeschreibung!$L:$L) -> 10 | F10: =IFERROR(E10/SUM($E$5:$E$15),0) -> 0.21276596 | G10: 0 Punkte = kein/geringer Mehrwert; Maximalpunkte = vollständig nachgewiesener, erheblicher Mehrwert.
A11: 7. Software, Bildmanagement und Interoperabilität | B11: =COUNTIF(Leistungsbeschreibung!$F:$F,"7.*") -> 5 | C11: =COUNTIFS(Leistungsbeschreibung!$F:$F,"7.*",Leistungsbeschreibung!$E:$E,"Ausschlusselement") -> 4 | D11: =COUNTIFS(Leistungsbeschreibung!$F:$F,"7.*",Leistungsbeschreibung!$E:$E,"Wertungselement") -> 1 | E11: =SUMIF(Leistungsbeschreibung!$F:$F,"7.*",Leistungsbeschreibung!$L:$L) -> 3 | F11: =IFERROR(E11/SUM($E$5:$E$15),0) -> 0.063829787 | G11: 0 Punkte = kein/geringer Mehrwert; Maximalpunkte = vollständig nachgewiesener, erheblicher Mehrwert.
A12: 8. IT, Informationssicherheit und Datenschutz | B12: =COUNTIF(Leistungsbeschreibung!$F:$F,"8.*") -> 7 | C12: =COUNTIFS(Leistungsbeschreibung!$F:$F,"8.*",Leistungsbeschreibung!$E:$E,"Ausschlusselement") -> 7 | D12: =COUNTIFS(Leistungsbeschreibung!$F:$F,"8.*",Leistungsbeschreibung!$E:$E,"Wertungselement") -> 0 | E12: =SUMIF(Leistungsbeschreibung!$F:$F,"8.*",Leistungsbeschreibung!$L:$L) -> 0 | F12: =IFERROR(E12/SUM($E$5:$E$15),0) -> 0 | G12: 0 Punkte = kein/geringer Mehrwert; Maximalpunkte = vollständig nachgewiesener, erheblicher Mehrwert.
A13: 9. Service, Schulung und Gewährleistung | B13: =COUNTIF(Leistungsbeschreibung!$F:$F,"9.*") -> 8 | C13: =COUNTIFS(Leistungsbeschreibung!$F:$F,"9.*",Leistungsbeschreibung!$E:$E,"Ausschlusselement") -> 7 | D13: =COUNTIFS(Leistungsbeschreibung!$F:$F,"9.*",Leistungsbeschreibung!$E:$E,"Wertungselement") -> 1 | E13: =SUMIF(Leistungsbeschreibung!$F:$F,"9.*",Leistungsbeschreibung!$L:$L) -> 3 | F13: =IFERROR(E13/SUM($E$5:$E$15),0) -> 0.063829787 | G13: 0 Punkte = kein/geringer Mehrwert; Maximalpunkte = vollständig nachgewiesener, erheblicher Mehrwert.
A14: 10. Lieferung, Abnahme und Nachhaltigkeit | B14: =COUNTIF(Leistungsbeschreibung!$F:$F,"10.*") -> 5 | C14: =COUNTIFS(Leistungsbeschreibung!$F:$F,"10.*",Leistungsbeschreibung!$E:$E,"Ausschlusselement") -> 3 | D14: =COUNTIFS(Leistungsbeschreibung!$F:$F,"10.*",Leistungsbeschreibung!$E:$E,"Wertungselement") -> 2 | E14: =SUMIF(Leistungsbeschreibung!$F:$F,"10.*",Leistungsbeschreibung!$L:$L) -> 10 | F14: =IFERROR(E14/SUM($E$5:$E$15),0) -> 0.21276596 | G14: 0 Punkte = kein/geringer Mehrwert; Maximalpunkte = vollständig nachgewiesener, erheblicher Mehrwert.
A15: 11. IT, Informationssicherheit, Datenschutz und Lebenszyklus | B15: =COUNTIF(Leistungsbeschreibung!$F:$F,"11.*") -> 7 | C15: =COUNTIFS(Leistungsbeschreibung!$F:$F,"11.*",Leistungsbeschreibung!$E:$E,"Ausschlusselement") -> 7 | D15: =COUNTIFS(Leistungsbeschreibung!$F:$F,"11.*",Leistungsbeschreibung!$E:$E,"Wertungselement") -> 0 | E15: =SUMIF(Leistungsbeschreibung!$F:$F,"11.*",Leistungsbeschreibung!$L:$L) -> 0 | F15: =IFERROR(E15/SUM($E$5:$E$15),0) -> 0 | G15: 0 Punkte = kein/geringer Mehrwert; Maximalpunkte = vollständig nachgewiesener, erheblicher Mehrwert.
A16: Gesamt | B16: =SUM(B5:B15) -> 86 | C16: =SUM(C5:C15) -> 75 | D16: =SUM(D5:D15) -> 11 | E16: =SUM(E5:E15) -> 47 | F16: =SUM(F5:F15) -> 1
