Workbook
Name _Toc296687336: Einleitung!#REF!
Name _Toc296687337: Einleitung!$A$13
Name Dateiformat: '[1]Hilfsabellen'!$B$10:$B$11
Name Druckvolumen: '[1]Hilfsabellen'!$D$9:$D$11
Name Kopiergeschw.: '[1]Hilfsabellen'!$J$14:$J$19
Name MFG: '[1]Hilfsabellen'!$D$22:$D$23
Name Papierformate: '[1]Hilfsabellen'!$F$22:$F$23
Name _Hlk422207418: 'Leistungsklasse 1'!$A$7
Name Print_Titles: 'Leistungsklasse 1'!$5:$5
Name _Hlk422207418: 'Leistungsklasse 2'!$A$7
Name Print_Titles: 'Leistungsklasse 2'!$5:$5
Name _Hlk422207418: 'Leistungsklasse 3'!$A$7
Name Print_Titles: 'Leistungsklasse 3'!$5:$5
Name Auswertung: Hilfsabellen!$B$3:$B$4
Name Blattanzahl: Hilfsabellen!$F$3:$F$6
Name Dateiformat: Hilfsabellen!$B$9:$B$11
Name dpi: Hilfsabellen!$D$3:$D$5
Name Druckgeschw.: Hilfsabellen!$D$14:$D$19
Name Druckvolumen: Hilfsabellen!$D$9:$D$11
Name Duplexgrammatur: Hilfsabellen!$J$3:$J$5
Name Kopiergeschw.: Hilfsabellen!$J$14:$J$19
Name MFG: Hilfsabellen!$D$22:$D$23
Name Papierformate: Hilfsabellen!$F$22:$F$23
Name RAM: Hilfsabellen!$H$3:$H$5

Sheet Einleitung
A1: Bewertungsmatrix zur Ausschreibung der TU Clausthal über Drucker und Multifunktionsgeräte 2027
A3: Hinweise und Ausführungen zum Ausfüllen der Bewertungsmatrix Dieses Tabellenblatt dient lediglich der Dokumentation, hier erfolgt kein Eintrag.
A4: Wichtiger Hinweis! Beantworten Sie bitte die Fragen in allen nachfolgenden Tabellenblättern! Sollte ein Zellhintergrund nach der Beantwortung einer Frage rot hervorgehoben werden: Prüfen Sie, ob es sich um ein A-Kriterium (Spalte: Kriterienklassifizierung) handelt! Ein Beantworten der Fragen ist daher bspw. auch mit einer Rot/Grün-Sehschwäche möglich. Die Hervorhebung dient nur dem zusätzlichen Komfort. Beachten Sie bitte: Handelt es sich um ein Ausschlusskriterium, wird eine Nichterfüllung dieses Kriteriums zum Ausschluss des Gerätes und damit zum Ausschluss des gesamten Ausschreibungs-Angebotes führen.
A5: Die nachfolgenden Tabellenblätter enthalten standardisierte Tabellen. Je nach Geräteklasse (Drucker/Multifunktionsgerät) müssen unterschiedliche Kriterien erfüllt sowie Fragen beantwortet werden.
A6: Klassifizierung der Kriterien
A7: Kürzel | B7: Art und Bedeutung des Kriteriums
A8: A | B8: Ausschlusskriterium
B9: Ausschlusskriterien müssen mit einem „Ja“ ohne Einschränkungen beantwortet werden. Die Nichterfüllung einer als Ausschlusskriterium gekennzeichneten Anforderung führt zum Ausschluss des gesamten Angebotes (KO-Kriterium).
A10: B | B10: Bewertungskriterium Die mit einem „B“ gekennzeichneten Anforderungen stellen die innerhalb der Bewertungsskala mit Punkten zu bewertenden Kriterien dar und erhalten eine Gewichtung.
A11: I | B11: Informationskriterium Dieses Kriterium umfasst lediglich ergänzende Informationen, die dem Verständnis dienen und keinen Einfluss auf die Bewertung haben. Antworten auf I-Kriterien dürfen andere Antworten auf Bewertungskriterien oder Ausschlusskriterien nicht einschränken.
A12: Art der Beantwortung
A13: Die Vergabeunterlagen erfordern die Beantwortung von Fragenkatalogen. Für die Art der Beantwortung von Fragen werden nachfolgende Anforderungen im Hinblick auf die erwartete Ausführlichkeit der Beantwortung der Kriterien dargestellt.
A14: Kürzel | B14: Art und Bedeutung des Kriteriums
A15: D | B15: Detaillierte Antwort Die Ausführung der Antwort soll ausführlich und detailliert in einem der Fragestellung angemessenen Umfang erfolgen.
A16: K | B16: Kurze Antwort Die Ausführung der Antwort kann kurz und knapp erfolgen (ca. 1 bis 2 Sätze).
A17: E | B17: Entscheidungsantwort Die Antwort muss entweder „Ja“ oder „Nein“ lauten.
A19: Beispielabbildung eines Eingabebereichs: | D19: Für alle Felder gilt grundsätzlich: Bei der Eingabe von Werten werden nur Zahlen erwartet. Einheiten oder sonstige Ergänzungen, wie z.B. %-Zeichen, bitte nicht eingeben!
A20: Es folgt eine kurze Erläuterung zum Aufbau dieser Bewertungsmatrix, insbesondere der Spalten, die in den Tabellenblättern genutzt werden.
A22: Referenz | B22: Kriterium | C22: Kriterienklassifizierung | D22: Beantwortungsart
A23: Nummerierung zwecks Referenzierung | B23: Beschreibung des Bewertungs-Kriteriums | C23: siehe nachfolgende Erläuterungen
A24: Erläuterung zur Beantwortungstiefe
A25: Werden charakterisierende Zahlenwerte verwendet beziehen sich die Einheiten immer auf physikalische Größen (Auflösung 600ppi interpoliert ≠ 600ppi physikalische Auflösung),
A26: 1 GB(yte) = 1.024 MB(yte) = 1.048.576 kB(yte) = 1.073.741.824 B(yte)
A28: GP | B28: max. BP | C28: max. LP | D28: % Gesamt
A29: Gewichtungs-Punkte | B29: Bewertungs-Punkte | C29: maximale Anzahl der Leistungspunkte (LP = GP × BP) | D29: Prozentwert der Kriterienbewertung bezogen auf alle vergebenen Leistungspunkte
A30: Beantwortung durch den Bieter | C30: Unterkriterien der Vergabestelle
A31: Die Beantwortung erfolgt je nach der vorgesehenen Beantwortungsart durch Auswahl aus einem Dropdownfeld oder durch die Eingabe in dieses Feld | C31: In diesem Feld werden die maximal erreichbaren Bewertungspunkte aufgeschlüsselt. Beispiel: >= 1.024 MB = 10 Pkte.; < 1.024 MB = 5 Pkte.; 512 MB = 0 Pkte.
A33: Die Auswertung erfolgt nach der Angebotsöffnung anhand der erreichten Leistungspunkte.
A34: Leistungspunkte: Vergebene Bewertungspunkte multipliziert mit den Gewichtungspunkten.
A35: Bewertungspunkte: Spektrum: 0-10 Punkte; Die max. erreichbare Punktzahl für das Kriterium ist in der Spalte Unterkriterien der Vergabestelle festgelegt.
A36: Gewichtungspunkte: Spektrum 1-30. Sie spiegeln den Wert und die Bedeutung des jeweiligen B-Kriteriums wieder.
A52: Die Beanwortung der Fragen erfolgt in dieser Spalte.
A53: Die Kopfzeilen der Tabelle sind fixiert, so dass beim Durchscrollen der Fragen jederzeit die Überschriften zu sehen sind.
A54: Jedem Beantwortungsfeld ist ein Erläuterungshinweis zugewiesen. Der Hinweis wird angezeigt sobald das entsprechende Feld ausgewählt wird.

Sheet Generelle Fragen LK-unabhängig
A2: Fragen zu Software, die der allgemeinen Administration aller Geräte dienen
A4: Referenz | B4: Kriterium | C4: Kriterien-klassifi-zierung | D4: Beantwor-tungsart | E4: GP | F4: max. BP | G4: max. LP | H4: % Gesamt | I4: Beantwortung durch den Bieter | J4: AUSWERTUNG erreichte LP | K4: Unterkriterien der Vergabestelle
A5: S | B5: Software | H5: =H6 -> 100
A6: S.1 | B6: Externe Software | H6: =SUM(H7:H10) -> 100
A7: S.1.1 | B7: Bieten Sie kostenlose Software an, die aus abgefragten Gerätedaten folgende Informationen darstellt bzw. entsprechende Berichte erzeugen kann: - Hardware aus dem Rahmenvertrag, nach Gerätetyp - Je Gerät Auflistung der Optionen (Finisher, RAM, etc.) - Gerätenutzung für einen bestimmbaren Zeitraum - Anzahl der gedruckten Seiten nach Gerät, Geräteklasse - Fehlermeldungen nach Gerät und Monat. | C7: B | D7: E | E7: 10 | F7: 10 | G7: =IF(E7="","",E7*F7) -> 100 | H7: =IF(E7="","",100/$G$11*G7) -> 50 | I7: bitte wählen | J7: =IF(I7="ja",100,0) -> 0 | K7: Ja = 10 Pkte.; Nein = 0 Pkte.
A8: S.1.2 | B8: Benennen und Beschreiben Sie die Software der Referenz S.1.1 | C8: I | D8: D | G8: =IF(E8="","",E8*F8) | H8: =IF(E8="","",100/$G$98*G8) | I8: bitte wählen | K8: Die detaillierte Antwort im Vergabeportal zusätzlich zu den restlichen Unterlagen als Anlage beifügen. Bitte eindeutig referenzieren auf den Fragepunkt (hier S.1.2).
A9: S.1.3 | B9: Bieten Sie kostenlose Software zur Aufzeichnung und Auswertung von Betriebsunterbrechungen, Auslesen von Fehlerdateien sowie abrufbarer Fehlerhistorie an. | C9: B | D9: E | E9: 10 | F9: 10 | G9: =IF(E9="","",E9*F9) -> 100 | H9: =IF(E9="","",100/$G$11*G9) -> 50 | I9: bitte wählen | J9: =IF(I9="ja",100,0) -> 0 | K9: Ja = 10 Pkte.; Nein = 0 Pkte.
A10: S.1.4 | B10: Benennen und Beschreiben Sie die Software der Referenz S.1.3 | C10: I | D10: D | G10: =IF(E10="","",E10*F10) | H10: =IF(E10="","",100/$G$98*G10) | I10: bitte wählen | K10: Die detaillierte Antwort im Vergabeportal zusätzlich zu den restlichen Unterlagen als Anlage beifügen. Bitte eindeutig referenzieren auf den Fragepunkt (hier S.1.4).
B11: Summe der maximal erreichbaren Punkte | G11: =SUM(G7:G9) -> 200 | H11: =SUM(H7:H9) -> 100 | J11: =SUM(J7:J10) -> 0

Sheet Leistungsklasse 1
A2: Leistungsklasse 1
A3: DIN A4 Farb-Gerät min. 20 S./min
A5: Referenz | B5: Kriterium | C5: Kriterien-klassifi-zierung | D5: Beantwor-tungsart | E5: GP | F5: max. BP | G5: max. LP | H5: % Gesamt | I5: Beantwortung durch den Bieter | J5: AUSWERTUNG erreichte LP | K5: Unterkriterien der Vergabestelle
A6: 1 | B6: SYSTEM | H6: =H7+H18+H28+H25 -> 11.627907
A7: 1.1 | B7: Systemdaten | H7: =SUM(H8:H17) -> 7.5581395
A8: 1.1.1 | B8: Gerätebezeichnung und -typ | C8: I | D8: K | G8: =IF(E8="","",E8*F8) | H8: =IF(E8="","",100/$G$96*G8)
A9: 1.1.2 | B9: Abmessungen (Breite × Höhe × Tiefe) | C9: I | D9: K | G9: =IF(E9="","",E9*F9) | H9: =IF(E9="","",100/$G$96*G9)
A10: 1.1.3 | B10: Es handelt sich um ein Farbgerät | C10: A | D10: E | G10: =IF(E10="","",E10*F10) | H10: =IF(E10="","",100/$G$96*G10) | I10: bitte wählen
A11: 1.1.4 | B11: Gerät ist ausgelegt für Druckvolumen von min. 2.000 Seiten/Monat | C11: A | D11: E | G11: =IF(E11="","",E11*F11) | H11: =IF(E11="","",100/$G$96*G11) | I11: bitte wählen
A12: 1.1.5 | B12: Das Gerät verfügt über min. 512 MB RAM | C12: A | D12: E | G12: =IF(E12="","",E12*F12) | H12: =IF(E12="","",100/$G$96*G12) | I12: bitte wählen
A13: 1.1.6 | B13: Das Gerät verfügt über … MB RAM | C13: B | D13: K | E13: 5 | F13: 10 | G13: =IF(E13="","",E13*F13) -> 50 | H13: =IF(E13="","",100/$G$96*G13) -> 2.9069767 | J13: =IF(I13=512,0,IF(AND(I13<1024,I13>512),5*5,IF(I13>=1024,10*5,0))) -> 0 | K13: >= 1.024 MB = 10 Pkte.; < 1.024 MB = 5 Pkte.; 512 MB = 0 Pkte.
A14: 1.1.7 | B14: Das Gerät verfügt über ein internes Speichermedium | C14: B | D14: E | E14: 1 | F14: 10 | G14: =IF(E14="","",E14*F14) -> 10 | H14: =IF(E14="","",100/$G$96*G14) -> 0.58139535 | I14: bitte wählen | J14: =IF(I14="ja",10,0) -> 0 | K14: Ja = 10 Pkte.; Nein = 0 Pkte.
A15: 1.1.8 | B15: Das Gerät unterstützt SNMP V3 (Abfrage des Gerätestatus min. für folgende Parameter möglich: Tonerstatus, Papierstatus, anstehende Druckaufträge, alle Zählerstände). | C15: A | D15: E | G15: =IF(E15="","",E15*F15) | H15: =IF(E15="","",100/$G$96*G15) | I15: bitte wählen
A16: 1.1.9 | B16: Herstellerspezifische MIBs werden kostenfrei zur Verfügung gestellt. | C16: A | D16: E | G16: =IF(E16="","",E16*F16) | H16: =IF(E16="","",100/$G$96*G16) | I16: bitte wählen
A17: 1.1.10 | B17: Das Gerät kann RFID-Karten Mifare® DESFire sowie NFC (z.B. Smartphones) - bspw. über einen zusätzlich angeschlossenen Kartenleser - auslesen und zur Interaktion mit Papercut-MF genutzt werden. | C17: B | D17: E | E17: 7 | F17: 10 | G17: =IF(E17="","",E17*F17) -> 70 | H17: =IF(E17="","",100/$G$96*G17) -> 4.0697674 | I17: bitte wählen | J17: =IF(I17="ja",20,0) -> 0 | K17: Ja = 10 Pkte.; Nein = 0 Pkte.
A18: 1.2 | B18: Systemanschlüsse und –voraussetzungen | H18: =SUM(H19:H24) -> 3.4883721
A19: 1.2.1 | B19: Anschlusstechnik - min. 100BaseTX-Schnittstelle | C19: A | D19: E | G19: =IF(E19="","",E19*F19) | H19: =IF(E19="","",100/$G$96*G19) | I19: bitte wählen
A20: 1.2.2 | B20: Anschlusstechnik - 100/1000BaseTX-Schnittstelle | C20: B | D20: E | E20: 3 | F20: 10 | G20: =IF(E20="","",E20*F20) -> 30 | H20: =IF(E20="","",100/$G$96*G20) -> 1.744186 | I20: bitte wählen | J20: =IF(I20="ja",30,0) -> 0 | K20: Ja = 10 Pkte.; Nein = 0 Pkte.
A21: 1.2.3 | B21: Anschlusstechnik - USB 2-Schnittstelle | C21: A | D21: E | G21: =IF(E21="","",E21*F21) | H21: =IF(E21="","",100/$G$96*G21) | I21: bitte wählen
A22: 1.2.4 | B22: Anschlusstechnik - USB 3-Schnittstelle | C22: B | D22: E | E22: 3 | F22: 10 | G22: =IF(E22="","",E22*F22) -> 30 | H22: =IF(E22="","",100/$G$96*G22) -> 1.744186 | I22: bitte wählen | J22: =IF(I22="ja",30,0) -> 0 | K22: Ja = 10 Pkte.; Nein = 0 Pkte.
A23: 1.2.5 | B23: Das Gerät unterstützt 802.1x (Authentifizierung) | C23: A | D23: E | G23: =IF(E23="","",E23*F23) | H23: =IF(E23="","",100/$G$96*G23) | I23: bitte wählen
A24: 1.2.6 | B24: Das Gerät unterstützt IPsec | C24: A | D24: E | G24: =IF(E24="","",E24*F24) | H24: =IF(E24="","",100/$G$96*G24) | I24: bitte wählen
A25: 1.3 | B25: Normen | H25: 0
A26: 1.3.1 | B26: Gerät verfügt über gültige CE-Zertifizierung. Der Auftragnehmer hat auf Anfrage des Auftraggebers eine EU-Konformitätserklärung zur Verfügung zu stellen. Diese hat die Bestätigung über die Konformität des Produktes zu den anwendbaren Anforderungen und Schutzzielen der EU-Richtlinien zu beinhalten. | C26: A | D26: E | G26: =IF(E26="","",E26*F26) | H26: =IF(E26="","",100/$G$96*G26) | I26: bitte wählen
A27: 1.3.2 | B27: Die Anforderungen an die Aussendung elektrischer und magnetischer Felder müssen in Übereinstimmung mit der CE-Kennzeichnung erfüllt sein. (Störaussendung nach DIN EN 550022, Störfestigkeit nach DIN EN 55024) | C27: A | D27: E | G27: =IF(E27="","",E27*F27) | H27: =IF(E27="","",100/$G$96*G27) | I27: bitte wählen
A28: 1.4 | B28: Ergänzungen | H28: =SUM(H29:H29) -> 0.58139535
A29: 1.4.1 | B29: Unterschrank ist erhältlich | C29: B | D29: E | E29: 1 | F29: 10 | G29: =IF(E29="","",E29*F29) -> 10 | H29: =IF(E29="","",100/$G$96*G29) -> 0.58139535 | I29: bitte wählen | J29: =IF(I29="ja",10,0) -> 0 | K29: Ja = 10 Pkte.; Nein = 0 Pkte.
A30: 2 | B30: MEDIENVERARBEITUNG | H30: =H31+H41+H49 -> 30.232558
A31: 2.1 | B31: Drucken | H31: =SUM(H32:H40) -> 23.837209
A32: 2.1.1 | B32: Druckgeschwindigkeit von min. 20 Seiten/Minute Farbe (DIN A4) | C32: A | D32: E | G32: =IF(E32="","",E32*F32) | H32: =IF(E32="","",100/$G$96*G32) | I32: bitte wählen
A33: 2.1.2 | B33: Gerät unterstützt PCL 6 | C33: A | D33: E | G33: =IF(E33="","",E33*F33) | H33: =IF(E33="","",100/$G$96*G33) | I33: bitte wählen
A34: 2.1.3 | B34: Gerät unterstützt PS Level 3 | C34: A | D34: E | G34: =IF(E34="","",E34*F34) | H34: =IF(E34="","",100/$G$96*G34) | I34: bitte wählen
A35: 2.1.4 | B35: Bei Pos. 2.1.3 handelt es sich um ein lizensiertes Original PostScript-Modul | C35: B | D35: E | E35: 20 | F35: 10 | G35: =IF(E35="","",E35*F35) -> 200 | H35: =IF(E35="","",100/$G$96*G35) -> 11.627907 | I35: bitte wählen | J35: =IF(I35="ja",200,0) -> 0 | K35: Ja = 10 Pkte.; Nein = 0 Pkte.
A36: 2.1.5 | B36: Das Gerät unterstützt beidseitigen Druck (min. 80 g/m²) | C36: A | D36: E | G36: =IF(E36="","",E36*F36) | H36: =IF(E36="","",100/$G$96*G36) | I36: bitte wählen
A37: 2.1.6 | B37: Das Gerät unterstützt im beidseitigen Druck Grammaturen bis zu … g/m² | C37: B | D37: K | E37: 10 | F37: 10 | G37: =IF(E37="","",E37*F37) -> 100 | H37: =IF(E37="","",100/$G$96*G37) -> 5.8139535 | J37: =IF(I37>=160,100,IF(AND(I37<160,I37>=120),50,IF(AND(I37<120,I37>=100),20,0))) -> 0 | K37: >=160 g/m² = 10 Pkte.; >=120 g/m² = 5 Pkte.; >=100 g/m² = 2 Pkte.; <100 g/m² = 0 Pkte.
A38: 2.1.7 | B38: Die Druckgeschwindigkeit des Gerätes im beidseitigen Druck beträgt …% der nominellen Druckgeschwindigkeit | C38: B | D38: K | E38: 1 | F38: 10 | G38: =IF(E38="","",E38*F38) -> 10 | H38: =IF(E38="","",100/$G$96*G38) -> 0.58139535 | J38: =IF(I38=100,10,IF(I38>=60,5,0)) -> 0 | K38: 100% = 10 Pkte.; >=60% = 5 Pkte.; <60% = 0 Pkte.
A39: 2.1.8 | B39: Das Gerät verfügt über eine Funktion - "sicherer Druck" (Zertifizierung gemäß ISO/IEC 15408 EAL3) | C39: B | D39: E | E39: 10 | F39: 10 | G39: =IF(E39="","",E39*F39) -> 100 | H39: =IF(E39="","",100/$G$96*G39) -> 5.8139535 | I39: bitte wählen | J39: =IF(I39="ja",100,0) -> 0 | K39: Ja = 10 Pkte.; Nein = 0 Pkte.
A40: 2.1.9 | B40: Die Ausdrucke des Geräts sind dokumentenecht nach §29 der Dienstordnung für Notare (DONot) | C40: A | D40: E | G40: =IF(E40="","",E40*F40) | H40: =IF(E40="","",100/$G$96*G40) | I40: bitte wählen
A41: 2.2 | B41: Input Papierverarbeitung / -Management | H41: =SUM(H42:H48) -> 5.8139535
A42: 2.2.1 | B42: Das Gerät verfügt über mindestens zwei Papierkassetten, mit min. 200 Blatt à 80 g/m² Papier | C42: A | D42: E | G42: =IF(E42="","",E42*F42) | H42: =IF(E42="","",100/$G$96*G42) | I42: bitte wählen
A43: 2.2.2 | B43: Das Gerät verfügt über eine manuelle Blattzufuhr, über die Papier mit bis zu 160 g/m² verarbeitet werden kann. | C43: A | D43: E | G43: =IF(E43="","",E43*F43) | H43: =IF(E43="","",100/$G$96*G43) | I43: bitte wählen
A44: 2.2.3 | B44: Über die manuelle Blattzufuhr können Materialstärken über 160 g/m2 verarbeitet werden bis zu einer Stärke von… | C44: B | D44: K | E44: 5 | F44: 10 | G44: =IF(E44="","",E44*F44) -> 50 | H44: =IF(E44="","",100/$G$96*G44) -> 2.9069767 | J44: =IF(I44>=300,50,IF(I44>=250,25,IF(I44>=200,10,0))) -> 0 | K44: >=300 g/m² = 10 Pkte.; >=250 g/m² = 5 Pkte.; >=200 g/m² = 2 Pkte.; <200 g/m² = 0 Pkte.
A45: 2.2.4 | B45: Das Gerät verfügt über mindestens zwei Papierkassetten mit einer Kapazität von je min. 250 Blatt à 80 g/m² Papier | C45: B | D45: E | E45: 5 | F45: 10 | G45: =IF(E45="","",E45*F45) -> 50 | H45: =IF(E45="","",100/$G$96*G45) -> 2.9069767 | I45: bitte wählen | J45: =IF(I45="ja",50,0) -> 0 | K45: Ja = 10 Pkte.; Nein = 0 Pkte.
A46: 2.2.5 | B46: Die Kapazität der Papierkassetten bei 80 g/m² Papier beträgt bis zu … Blatt | C46: I | D46: K | G46: =IF(E47="","",E47*F47) | H46: =IF(E47="","",100/$G$96*G47)
A47: 2.2.6 | B47: Das Gerät kann aus den Papierkassetten Druckmedien mit einer Grammatur von 75-120 g/m² verarbeiten. | C47: A | D47: E | G47: =IF(E47="","",E47*F47) | H47: =IF(E47="","",100/$G$96*G47) | I47: bitte wählen
A48: 2.2.7 | B48: Mit wie vielen Papierkassetten kann das Gerät maximal ausgestattet werden? | C48: I | D48: K | G48: =IF(E48="","",E48*F48) | H48: =IF(E48="","",100/$G$96*G48)
A49: 2.3 | B49: Output Papierverarbeitung / -Management | H49: =SUM(H50:H51) -> 0.58139535
A50: 2.3.1 | B50: Die Standardausgabekapazität der Ablage umfasst min. 200 Blatt bei 80 g/m² | C50: A | D50: E | G50: =IF(E50="","",E50*F50) | H50: =IF(E50="","",100/$G$96*G50) | I50: bitte wählen
A51: 2.3.2 | B51: Die Standardausgabekapazität der Ablage umfasst max. ... Blatt bei 80 g/m² | C51: B | D51: K | E51: 1 | F51: 10 | G51: =IF(E51="","",E51*F51) -> 10 | H51: =IF(E51="","",100/$G$96*G51) -> 0.58139535 | J51: =IF(I51>=500,10,IF(I51>250,5,0)) -> 0 | K51: >=500 = 10 Pkte.; >200 = 5 Pkte.; =200 = 0 Pkte.
A52: 3 | B52: Umwelt & Emissionen | H52: =H53+H57 -> 0
A53: 3.1 | B53: Erfüllung der Anforderungen des ENERGY STAR | H53: 0
A54: 3.1.1 | B54: Gerät erfüllt mindestens die aktuell gültigen Anforderungen des ENERGY STAR-Programms für Bürogeräte oder vergleichbar | C54: A | D54: E | G54: =IF(E54="","",E54*F54) | H54: =IF(E54="","",100/$G$96*G54) | I54: bitte wählen
A55: 3.1.2 | B55: Angabe des typischen Stromverbrauchs pro Woche (TEC) gem. ENERGY STAR (for Imaging Equipment Ver. 2.0 oder neuer) oder vergleichbar | C55: I | D55: E | G55: =IF(E55="","",E55*F55) | H55: =IF(E55="","",100/$G$96*G55) | I55: bitte wählen | K55: Wird bei der Ermittlung des Preises berücksichtigt (siehe Vertrag Punkt 5.5 Preisermittlung)
A56: 3.1.3 | B56: Der TEC-Wert bezieht sich auf welcher ENERGY STAR Version? | C56: I | D56: E | G56: =IF(E56="","",E56*F56) | H56: =IF(E56="","",100/$G$96*G56) | I56: bitte wählen | K56: Beantwortung zur Bewertung des TEC-Wertes in Punkt 3.1.2 notwendig
A57: 3.2 | B57: Umwelt | H57: =SUM(H58:H59) -> 0
A58: 3.2.1 | B58: Das Gerät kann Recyclingpapier verarbeiten (EN 12281:2002) | C58: A | D58: E | G58: =IF(E58="","",E58*F58) | H58: =IF(E58="","",100/$G$96*G58) | I58: bitte wählen
A59: 3.2.2 | B59: Erfüllung der aktuellen Anforderungen des Blauen Engels (RAL-UZ-219) oder vergleichbar | C59: A | D59: E | I59: bitte wählen | J59: =IF(I59="ja",300,0) -> 0
A60: 4 | B60: Software | H60: =H61+H65 -> 17.44186
A61: 4.1 | B61: Externe Software | H61: =SUM(H62:H64) -> 5.8139535
A62: 4.1.1 | B62: Unterstützt werden aktuelle Versionen von Microsoft Windows (derzeit Windows 11) und aktuelle Versionen von Microsoft Windows Server (derzeit 2019, 2022, 2025), aktuelle Versionen von Apple Mac OS (derzeit 15-27), aktuelle Versionen gängiger Linux-Distributionen, vorrangig Debian und Ubuntu (derzeit Debian 13 und Ubuntu 24.04 LTS/26.04 LTS), sowie während der Laufzeit dieser Vereinbarung erscheinenden Folgeversionen der benannten Betriebssysteme | C62: A | D62: E | G62: =IF(E62="","",E62*F62) | H62: =IF(E62="","",100/$G$96*G62) | I62: bitte wählen
A63: 4.1.2 | B63: Der Status des Geräts ist über eine unentgeltlich zur Verfügung gestellte zentrale Management-Software überprüfbar. Funktionale Mindestanforderungen: Auslesen der gerätespezifischen Daten (Typ, Seriennummer, Konfiguration, Zubehör, Netzwerkparameter, Zähler- und Tonerstände) und Dateisicherung der Daten. Der Export als Excel/CSV-Datei muss möglich sein. | C63: A | D63: E | G63: =IF(E63="","",E63*F63) | H63: =IF(E63="","",100/$G$96*G63) | I63: bitte wählen
A64: 4.1.3 | B64: Das Gerät kann über eine zentrale Management-Software konfiguriert und administriert werden (gerätespezifische Daten, z. B. Pflege der lokalen Ansprechpartner, Konfiguration Ein- und Ausgabefächer, Netzwerkparameter, etc.). Die spezifischen Konfigurationseinstellungen eines Gerätes können gesichert und auf ein anderes Gerät übertragen werden. | C64: B | D64: E | E64: 10 | F64: 10 | G64: =IF(E64="","",E64*F64) -> 100 | H64: =IF(E64="","",100/$G$96*G64) -> 5.8139535 | I64: bitte wählen | J64: =IF(I64="ja",100,0) -> 0 | K64: Ja = 10 Pkte.; Nein = 0 Pkte.
A65: 4.2 | B65: Interne Software | H65: =SUM(H66:H67) -> 11.627907
A66: 4.2.1 | B66: Das Gerät verfügt über ein zugriffsgeschütztes Webinterface, über das es konfiguriert und administriert werden kann. Der Zugriff auf die Weboberfläche erfolgt per https-Protokoll, Version TLS 1.2 in Kombination mit Perfect Forward Secrecy (PFS) oder die Version TLS 1.3 mit PFS. | C66: B | D66: E | E66: 10 | F66: 10 | G66: =IF(E66="","",E66*F66) -> 100 | H66: =IF(E66="","",100/$G$96*G66) -> 5.8139535 | I66: bitte wählen
A67: 4.2.2 | B67: Eine Connector-Lösung zur Anbindung des Systems an Papercut MF (für Abrechnung, Authentifizierung, Follow-Me-Printing) kann eingebunden werden. | C67: B | D67: E | E67: 10 | F67: 10 | G67: 100 | H67: =IF(E67="","",100/$G$96*G67) -> 5.8139535 | I67: bitte wählen | J67: =IF(I67="ja",100,0) -> 0 | K67: Ja = 10 Pkte.; Nein = 0 Pkte.
A68: 5 | B68: Allgemeine Voraussetzungen Multifunktionsgeräte | H68: =H69+H90 -> 40.697674
A69: 5.1 | B69: Scannen | H69: =SUM(H70:H88) -> 40.697674
A70: 5.1.1 | B70: Gerät erstellt farbige Scans | C70: A | D70: E | H70: =IF(E70="","",100/$G$96*G70) | I70: bitte wählen
A71: 5.1.2 | B71: Vorlageneinzug von min. 50 Blatt à 80 g/m² | C71: A | D71: E | H71: =IF(E71="","",100/$G$96*G71) | I71: bitte wählen
A72: 5.1.3 | B72: Vorlageneinzug von mehr als 50 Blatt à 80 g/m² (Angabe der maximalen Anzahl) | C72: B | D72: K | E72: 5 | F72: 10 | G72: 50 | H72: =IF(E72="","",100/$G$96*G72) -> 2.9069767 | J72: =IF(I72>=100,50,IF(I72>=75,25,IF(I72>50,10,0))) -> 0 | K72: >=100 = 10 Pkte.; >=75 = 5 Pkte.; >50 = 2 Pkte.; 50 = 0 Pkte.
A73: 5.1.4 | B73: Auflösung des Scans in Farbe von min. 600 x 600 ppi | C73: A | D73: E | H73: =IF(E73="","",100/$G$96*G73) | I73: bitte wählen
A74: 5.1.5 | B74: Angabe der max. möglichen optischen Auflösung | C74: B | D74: K | E74: 5 | F74: 10 | G74: 50 | H74: =IF(E74="","",100/$G$96*G74) -> 2.9069767 | J74: =IF(I74>=1200,50,IF(I74>600,25,IF(I74=600,0,0))) -> 0 | K74: >=1200 dpi = 10 Pkte.; >600 dpi = 5 Pkte.; 600 dpi = 0 Pkte.
A75: 5.1.6 | B75: Gerät verfügt über die Fähigkeit beidseitig bedruckte Seiten zu erfassen. | C75: A | D75: E | H75: =IF(E75="","",100/$G$96*G75) | I75: bitte wählen
A76: 5.1.7 | B76: Gerät verfügt über 2 Sensorleisten, um beidseitig bedruckte Seiten in einem Durchgang zu erfassen. | C76: B | D76: E | E76: 5 | F76: 10 | G76: 50 | H76: =IF(E76="","",100/$G$96*G76) -> 2.9069767 | I76: bitte wählen | J76: =IF(I76="ja",50,IF(I76="nein",0,0)) -> 0 | K76: Ja = 10 Pkte.; Nein = 0 Pkte.
A77: 5.1.8 | B77: Technologie der Flachbett-Scaneinheit: CIS oder CCD? | C77: B | D77: E | E77: 10 | F77: 10 | G77: 100 | H77: =IF(E77="","",100/$G$96*G77) -> 5.8139535 | I77: bitte wählen | J77: =IF(I77="CCD",100,IF(I77="CIS",0,0)) -> 0 | K77: CCD = 10 Pkte.; CIS = 0 Pkte.
A78: 5.1.9 | B78: Wie viele Seiten/min kann das Gerät einseitig scannen? | C78: B | D78: K | E78: 5 | F78: 10 | G78: 50 | H78: =IF(E78="","",100/$G$96*G78) -> 2.9069767 | J78: =IF(I78>=50,50,IF(I78>=40,40,IF(I78>=30,30,IF(I78>20,20,IF(I78=20,0,0))))) -> 0 | K78: >=50 S./min = 10 Pkte.; >=40 S./min = 8 Pkte.; >=30 S./min = 6 Pkte.; >20 S./min = 4 Pkte.; <=20 S./min = 0 Pkte.
A79: 5.1.10 | B79: Wie viele Seiten/min kann das Gerät beidseitig scannen? | C79: B | D79: K | E79: 5 | F79: 10 | G79: 50 | H79: =IF(E79="","",100/$G$96*G79) -> 2.9069767 | J79: =IF(I79>=50,50,IF(I79>=40,40,IF(I79>=30,30,IF(I79>20,20,0)))) -> 0 | K79: >=50 S./min = 10 Pkte.; >=40 S./min = 8 Pkte.; >=30 S./min = 6 Pkte.; >20 S./min = 4 Pkte.; <=20 S./min = 0 Pkte.
A80: 5.1.11 | B80: Gerät verfügt über Funktion - Scan-to-Mail | C80: A | D80: E | H80: =IF(E80="","",100/$G$96*G80) | I80: bitte wählen
A81: 5.1.12 | B81: Gerät verfügt über Funktion - Scan-to-Folder (SMB Ver. 3.X) | C81: A | D81: E | H81: =IF(E81="","",100/$G$96*G81) | I81: bitte wählen
A82: 5.1.13 | B82: Gerät verfügt über Funktion - Scan-to-Application | C82: A | D82: E | H82: =IF(E82="","",100/$G$96*G82) | I82: bitte wählen
A83: 5.1.14 | B83: Gerät verfügt über Funktion - Scan-to-WEBDAV | C83: B | D83: E | E83: 5 | F83: 10 | G83: 50 | H83: =IF(E83="","",100/$G$96*G83) -> 2.9069767 | I83: bitte wählen | J83: =IF(I83="ja",50,IF(I83="nein",0,0)) -> 0 | K83: Ja = 10 Pkte.; Nein = 0 Pkte.
A84: 5.1.15 | B84: Gerät erstellt Dateien in den Formaten: PDF, TIFF, JPG | C84: A | D84: E | H84: =IF(E84="","",100/$G$96*G84) | I84: bitte wählen
A85: 5.1.16 | B85: Gerät erstellt PDF-Dateien im Format PDF/A | C85: B | D85: E | E85: 10 | F85: 10 | G85: 100 | H85: =IF(E85="","",100/$G$96*G85) -> 5.8139535 | I85: bitte wählen | J85: =IF(I85="ja",100,IF(I85="nein",0,0)) -> 0 | K85: Ja = 10 Pkte.; Nein = 0 Pkte.
A86: 5.1.17 | B86: Die Verwendung der JBIG2-Komprimierung bei der Dateierstellung ist ausgeschlossen. | C86: A | D86: E | H86: =IF(E86="","",100/$G$96*G86) | I86: bitte wählen
A87: 5.1.18 | B87: Gerät erstellt durchsuchbare PDF-Dateien (OCR-Erkennung) | C87: B | D87: E | E87: 10 | F87: 10 | G87: 100 | H87: =IF(E87="","",100/$G$96*G87) -> 5.8139535 | I87: bitte wählen | J87: =IF(I87="ja",100,IF(I87="nein",0,0)) -> 0 | K87: Ja = 10 Pkte.; Nein = 0 Pkte.
A88: 5.1.19 | B88: Kann während des Scanvorgangs parallel ein Druckauftrag ausgegeben werden? | C88: B | D88: E | E88: 10 | F88: 10 | G88: 100 | H88: =IF(E88="","",100/$G$96*G88) -> 5.8139535 | I88: bitte wählen | J88: =IF(I88="ja",150,IF(I88="nein",0,0)) -> 0 | K88: Ja = 10 Pkte.; Nein = 0 Pkte.
A89: 5.1.20 | B89: Die Vorgaben und Anforderungen der TR RESISCAN werden erfüllt | C89: A | D89: E | H89: =IF(E89="","",100/$G$96*G89) | I89: bitte wählen | J89: =IF(I89="ja",150,IF(I89="nein",0,0)) -> 0
A90: 5.2 | B90: Kopieren | H90: 0
A91: 5.2.1 | B91: Kopiergeschwindigkeit von min. 20 Seiten/Minute Farbe (DIN A4) | C91: A | D91: E | H91: =IF(E91="","",100/$G$96*G91) | I91: bitte wählen
A92: 5.2.2 | B92: Auflösung der Kopie von min. 600 x 600 dpi | C92: A | D92: E | H92: =IF(E92="","",100/$G$96*G92) | I92: bitte wählen
A93: 5.2.3 | B93: Max. Auflösung der Kopie … | C93: I | D93: K | H93: =IF(E93="","",100/$G$96*G93)
A94: 5.2.4 | B94: Gerät verfügt über Funktion - Duplexkopie (min. 80 g/m²) | C94: A | D94: E | H94: =IF(E94="","",100/$G$96*G94) | I94: bitte wählen
A95: 5.2.5 | B95: Gerät verfügt über Funktion - Zoom von x bis y (50 - 200%) | C95: A | D95: E | H95: =IF(E95="","",100/$G$96*G95) | I95: bitte wählen
B96: Summe der maximal erreichbaren Punkte | G96: =SUM(G2:G95) -> 1720 | H96: =H6+H30+H52+H60+H68 -> 100 | J96: =SUM(J8:J95) -> 0

Sheet Leistungsklasse 2
A2: Leistungsklasse 2
A3: DIN A3 Farb-Gerät min. 30 S./min
A5: Referenz | B5: Kriterium | C5: Kriterien-klassifi-zierung | D5: Beantwor-tungsart | E5: GP | F5: max. BP | G5: max. LP | H5: % Gesamt | I5: Beantwortung durch den Bieter | J5: AUSWERTUNG erreichte LP | K5: Unterkriterien der Vergabestelle
A6: 1 | B6: SYSTEM | H6: =H7+H19+H29+H26 -> 7.8431373
A7: 1.1 | B7: Systemdaten | H7: =SUM(H8:H18) -> 3.9215686
A8: 1.1.1 | B8: Gerätebezeichnung und -typ | C8: I | D8: K | G8: =IF(E8="","",E8*F8) | H8: =IF(E8="","",100/$G$106*G8)
A9: 1.1.2 | B9: Abmessungen (Breite × Höhe × Tiefe) | C9: I | D9: K | G9: =IF(E9="","",E9*F9) | H9: =IF(E9="","",100/$G$106*G9)
A10: 1.1.3 | B10: Es handelt sich um ein Farbgerät | C10: A | D10: E | G10: =IF(E10="","",E10*F10) | H10: =IF(E10="","",100/$G$106*G10) | I10: bitte wählen
A11: 1.1.4 | B11: Gerät ist ausgelegt für Druckvolumen von min. 10.000 Seiten/Monat | C11: A | D11: E | G11: =IF(E11="","",E11*F11) | H11: =IF(E11="","",100/$G$106*G11) | I11: bitte wählen
A12: 1.1.5 | B12: Das Gerät kann DIN A3-Formate verarbeiten | C12: A | D12: E | G12: =IF(E12="","",E12*F12) | H12: =IF(E12="","",100/$G$106*G12) | I12: bitte wählen
A13: 1.1.6 | B13: Das Gerät verfügt über min. 2048 MB RAM | C13: A | D13: E | G13: =IF(E13="","",E13*F13) | H13: =IF(E13="","",100/$G$106*G13) | I13: bitte wählen
A14: 1.1.7 | B14: Das Gerät verfügt über … MB RAM | C14: B | D14: K | E14: 5 | F14: 10 | G14: =IF(E14="","",E14*F14) -> 50 | H14: =IF(E14="","",100/$G$106*G14) -> 3.2679739 | J14: =IF(I14=512,0,IF(AND(I14<1024,I14>512),5*5,IF(I14>=1024,10*5,0))) -> 0 | K14: >= 4096 MB = 10 Pkte.; < 4096 MB = 5 Pkte.; 2048 MB = 0 Pkte.
A15: 1.1.8 | B15: Das Gerät verfügt über ein internes Speichermedium | C15: B | D15: E | E15: 1 | F15: 10 | G15: =IF(E15="","",E15*F15) -> 10 | H15: =IF(E15="","",100/$G$106*G15) -> 0.65359477 | I15: bitte wählen | J15: =IF(I15="ja",10,0) -> 0 | K15: Ja = 10 Pkte.; Nein = 0 Pkte.
A16: 1.1.9 | B16: Das Gerät unterstützt SNMP V3 (Abfrage des Gerätestatus min. für folgende Parameter möglich: Tonerstatus, Papierstatus, anstehende Druckaufträge, alle Zählerstände). | C16: A | D16: E | G16: =IF(E16="","",E16*F16) | H16: =IF(E16="","",100/$G$106*G16) | I16: bitte wählen
A17: 1.1.10 | B17: Herstellerspezifische MIBs werden kostenfrei zur Verfügung gestellt. | C17: A | D17: E | G17: =IF(E17="","",E17*F17) | H17: =IF(E17="","",100/$G$106*G17) | I17: bitte wählen
A18: 1.1.11 | B18: Das Gerät kann RFID-Karten Mifare® DESFire sowie NFC (z.B. Smartphones) - bspw. über einen zusätzlich angeschlossenen Kartenleser - auslesen und zur Interaktion mit Papercut-MF nutzen. | C18: A | D18: E | I18: bitte wählen | J18: =IF(I18="ja",20,0) -> 0
A19: 1.2 | B19: Systemanschlüsse und –voraussetzungen | H19: =SUM(H20:H25) -> 3.9215686
A20: 1.2.1 | B20: Anschlusstechnik - min. 100BaseTX-Schnittstelle | C20: A | D20: E | G20: =IF(E20="","",E20*F20) | H20: =IF(E20="","",100/$G$106*G20) | I20: bitte wählen
A21: 1.2.2 | B21: Anschlusstechnik - 100/1000BaseTX-Schnittstelle | C21: B | D21: E | E21: 3 | F21: 10 | G21: =IF(E21="","",E21*F21) -> 30 | H21: =IF(E21="","",100/$G$106*G21) -> 1.9607843 | I21: bitte wählen | J21: =IF(I21="ja",30,0) -> 0 | K21: Ja = 10 Pkte.; Nein = 0 Pkte.
A22: 1.2.3 | B22: Anschlusstechnik - USB 2-Schnittstelle | C22: A | D22: E | G22: =IF(E22="","",E22*F22) | H22: =IF(E22="","",100/$G$106*G22) | I22: bitte wählen
A23: 1.2.4 | B23: Anschlusstechnik - USB 3-Schnittstelle | C23: B | D23: E | E23: 3 | F23: 10 | G23: =IF(E23="","",E23*F23) -> 30 | H23: =IF(E23="","",100/$G$106*G23) -> 1.9607843 | I23: bitte wählen | J23: =IF(I23="ja",30,0) -> 0 | K23: Ja = 10 Pkte.; Nein = 0 Pkte.
A24: 1.2.5 | B24: Das Gerät unterstützt 802.1x (Authentifizierung) | C24: A | D24: E | G24: =IF(E24="","",E24*F24) | H24: =IF(E24="","",100/$G$106*G24) | I24: bitte wählen
A25: 1.2.6 | B25: Das Gerät unterstützt IPsec | C25: A | D25: E | G25: =IF(E25="","",E25*F25) | H25: =IF(E25="","",100/$G$106*G25) | I25: bitte wählen
A26: 1.3 | B26: Normen | H26: 0
A27: 1.3.1 | B27: Gerät verfügt über gültige CE-Zertifizierung. Der Auftragnehmer hat auf Anfrage des Auftraggebers eine EU-Konformitätserklärung zur Verfügung zu stellen. Diese hat die Bestätigung über die Konformität des Produktes zu den anwendbaren Anforderungen und Schutzzielen der EU-Richtlinien zu beinhalten. | C27: A | D27: E | G27: =IF(E27="","",E27*F27) | H27: =IF(E27="","",100/$G$106*G27) | I27: bitte wählen
A28: 1.3.2 | B28: Die Anforderungen an die Aussendung elektrischer und magnetischer Felder müssen in Übereinstimmung mit der CE-Kennzeichnung erfüllt sein. (Störaussendung nach DIN EN 550022, Störfestigkeit nach DIN EN 55024) | C28: A | D28: E | G28: =IF(E28="","",E28*F28) | H28: =IF(E28="","",100/$G$106*G28) | I28: bitte wählen
A29: 1.4 | B29: Ergänzungen / Zubehör | H29: =SUM(H30:H30) -> 0
A30: 1.4.1 | B30: Unterschrank mit Rollen ist erhältlich | C30: A | D30: E | G30: =IF(E30="","",E30*F30) | H30: =IF(E30="","",100/$G$106*G30) | I30: bitte wählen
A31: 2 | B31: MEDIENVERARBEITUNG | H31: =H32+H41+H51 -> 26.797386
A32: 2.1 | B32: Drucken | H32: =SUM(H33:H40) -> 20.261438
A33: 2.1.1 | B33: Druckgeschwindigkeit von min. 30 Seiten/Minute Farbe (DIN A4) | C33: A | D33: E | G33: =IF(E33="","",E33*F33) | H33: =IF(E33="","",100/$G$106*G33) | I33: bitte wählen
A34: 2.1.2 | B34: Gerät unterstützt PCL 6 | C34: A | D34: E | G34: =IF(E34="","",E34*F34) | H34: =IF(E34="","",100/$G$106*G34) | I34: bitte wählen
A35: 2.1.3 | B35: Gerät unterstützt PS Level 3 | C35: A | D35: E | G35: =IF(E35="","",E35*F35) | H35: =IF(E35="","",100/$G$106*G35) | I35: bitte wählen
A36: 2.1.4 | B36: Bei Pos. 2.1.3 handelt es sich um ein lizensiertes Original PostScript-Modul | C36: B | D36: E | E36: 20 | F36: 10 | G36: =IF(E36="","",E36*F36) -> 200 | H36: =IF(E36="","",100/$G$106*G36) -> 13.071895 | I36: bitte wählen | J36: =IF(I36="ja",200,0) -> 0 | K36: Ja = 10 Pkte.; Nein = 0 Pkte.
A37: 2.1.5 | B37: Das Gerät unterstützt beidseitigen Druck (min. 80 g/m²) | C37: A | D37: E | G37: =IF(E37="","",E37*F37) | H37: =IF(E37="","",100/$G$106*G37) | I37: bitte wählen
A38: 2.1.6 | B38: Das Gerät unterstützt im beidseitigen Druck Grammaturen bis zu … g/m² | C38: B | D38: K | E38: 10 | F38: 10 | G38: =IF(E38="","",E38*F38) -> 100 | H38: =IF(E38="","",100/$G$106*G38) -> 6.5359477 | J38: =IF(I38>=160,100,IF(I38>=120,50,IF(I38>=100,20,0))) -> 0 | K38: >=160 g/m² = 10 Pkte.; >=120 g/m² = 5 Pkte.; >=100 g/m² = 2 Pkte.; <100 g/m² = 0 Pkte.
A39: 2.1.7 | B39: Die Druckgeschwindigkeit des Gerätes im beidseitigen Druck beträgt …% der nominellen Druckgeschwindigkeit | C39: B | D39: E | E39: 1 | F39: 10 | G39: =IF(E39="","",E39*F39) -> 10 | H39: =IF(E39="","",100/$G$106*G39) -> 0.65359477 | J39: =IF(I39=100,10,IF(I39>=60,5,0)) -> 0 | K39: 100% = 10 Pkte.; >=60% = 5 Pkte.; <60% = 0 Pkte.
A40: 2.1.8 | B40: Die Ausdrucke des Geräts sind dokumentenecht nach §29 der Dienstordnung für Notare (DONot) | C40: A | D40: E | G40: =IF(E40="","",E40*F40) | H40: =IF(E40="","",100/$G$106*G40) | I40: bitte wählen
A41: 2.2 | B41: Input Papierverarbeitung / -Management | H41: =SUM(H42:H50) -> 3.9215686
A42: 2.2.1 | B42: Das Gerät verfügt über mindestens zwei Papierkassetten, mit min. 500 Blatt à 80 g/m² Papier | C42: A | D42: E | I42: bitte wählen
A43: 2.2.2 | B43: Die Kapazität der Papierkassetten bei 80 g/m² Papier beträgt bis zu … Blatt | C43: I | D43: K
A44: 2.2.3 | B44: Das Gerät verfügt über eine manuelle Blattzufuhr, über die Papier mit bis zu 250 g/m² verarbeitet werden kann. | C44: A | D44: E | I44: bitte wählen
A45: 2.2.4 | B45: Über die manuelle Blattzufuhr können Materialstärken über 250 g/m2 verarbeitet werden bis zu einer Stärke von… | C45: B | D45: E | E45: 5 | F45: 10 | G45: =IF(E45="","",E45*F45) -> 50 | H45: =IF(E45="","",100/$G$106*G45) -> 3.2679739 | J45: =IF(I45>=300,50,IF(I45>=250,25,IF(I45>=200,10,0))) -> 0 | K45: >=300 g/m² = 10 Pkte.; >250 g/m² = 5 Pkte.; =250 g/m² = 0 Pkte.
A46: 2.2.5 | B46: Das Gerät kann aus den Papierkassetten Druckmedien mit einer Grammatur von 75-160 g/m² verarbeiten. | C46: A | D46: E | I46: bitte wählen
A47: 2.2.6 | B47: Das Gerät kann aus den Papierkassetten folgende Druckmedien verarbeiten: Papier, Etiketten, Umschläge DIN C6 + DIN lang | C47: A | D47: E | I47: bitte wählen
A48: 2.2.7 | B48: Mit wie vielen Papierkassetten (min. 500 Blatt) kann das Gerät maximal ausgestattet werden? | C48: I | D48: K
A49: 2.2.8 | B49: Das Gerät kann mit einem Großraumpapiermagazin (min. 1.000 Blatt bei 80 g/m²) ausgestattet werden | C49: B | D49: E | E49: 1 | F49: 10 | G49: =IF(E49="","",E49*F49) -> 10 | H49: =IF(E49="","",100/$G$106*G49) -> 0.65359477 | I49: bitte wählen | K49: Ja = 10 Pkte.; Nein = 0 Pkte.
A50: 2.2.9 | B50: Die max. Kapazität des Großraumpapiermagazins bei 80 g/m² Papier beträgt bis zu … Blatt | C50: I | D50: K
A51: 2.3 | B51: Output Papierverarbeitung / -Management | H51: =SUM(H52:H60) -> 2.6143791
A52: 2.3.1 | B52: Die Standardausgabekapazität der Ablage umfasst min. 500 Blatt bei 80 g/m² | C52: A | D52: E | G52: =IF(E52="","",E52*F52) | H52: =IF(E52="","",100/$G$106*G52) | I52: bitte wählen
A53: 2.3.2 | B53: Die Standardausgabekapazität der Ablage umfasst max. ... Blatt bei 80 g/m² | C53: B | D53: K | E53: 1 | F53: 10 | G53: =IF(E53="","",E53*F53) -> 10 | H53: =IF(E53="","",100/$G$106*G53) -> 0.65359477 | J53: =IF(I53="bitte wählen","",IF(I53>=750,10,IF(I53>500,5,0))) -> 0 | K53: >=750 = 10 Pkte.; >500 = 5 Pkte.; =500 = 0 Pkte.
A54: 2.3.3 | B54: Heftfinisher, 500 Blatt Ausgabe, 50 Blatt Heftkapazität | C54: A | D54: E | G54: =IF(E54="","",E54*F54) | H54: =IF(E54="","",100/$G$106*G54) | I54: bitte wählen
A55: 2.3.4 | B55: Heftfinisher, 1.000 Blatt Ausgabe, 50 Blatt Heftkapazität | C55: A | D55: E | G55: =IF(E55="","",E55*F55) | H55: =IF(E55="","",100/$G$106*G55) | I55: bitte wählen
A56: 2.3.5 | B56: Heftfinisher, >1.000 Blatt Ausgabe, >50 Blatt Heftkapazität | C56: A | D56: E | G56: =IF(E56="","",E56*F56) | H56: =IF(E56="","",100/$G$106*G56) | I56: bitte wählen
A57: 2.3.6 | B57: Broschürenfinisher für Endformat DIN A5 bis zu 60 Seiten Broschüre | C57: B | D57: E | E57: 3 | F57: 10 | G57: =IF(E57="","",E57*F57) -> 30 | H57: =IF(E57="","",100/$G$106*G57) -> 1.9607843 | I57: bitte wählen | J57: =IF(I57="ja",10,0) -> 0 | K57: Ja = 10 Pkte.; Nein = 0 Pkte.
A58: 2.3.7 | B58: Heftklammereinheit | C58: A | D58: E | G58: =IF(E58="","",E58*F58) | H58: =IF(E58="","",100/$G$106*G58) | I58: bitte wählen
A59: 2.3.8 | B59: Locheinheit, 2-fach | C59: A | D59: E | G59: =IF(E59="","",E59*F59) | H59: =IF(E59="","",100/#REF!*G59) | I59: bitte wählen
A60: 2.3.9 | B60: Locheinheit, 4-fach | C60: A | D60: E | G60: =IF(E60="","",E60*F60) | H60: =IF(E60="","",100/#REF!*G60) | I60: bitte wählen
A61: 3 | B61: Umwelt & Emissionen | H61: =H62+H66 -> 6.5359477
A62: 3.1 | B62: Erfüllung der Anforderungen des ENERGY STAR | H62: 0
A63: 3.1.1 | B63: Gerät erfüllt mindestens die aktuell gültigen Anforderungen des ENERGY STAR-Programms für Bürogeräte oder vergleichbar | C63: A | D63: E | G63: =IF(E63="","",E63*F63) | H63: =IF(E63="","",100/$G$106*G63) | I63: bitte wählen
A64: 3.1.2 | B64: Angabe des typischen Stromverbrauchs pro Woche (TEC) gem. ENERGY STAR (for Imaging Equipment Ver. 2.0 oder neuer) oder vergleichbar | C64: I | D64: E | G64: =IF(E64="","",E64*F64) | H64: =IF(E64="","",100/$G$106*G64) | I64: bitte wählen | K64: Wird bei der Ermittlung des Preises berücksichtigt (siehe Vertrag Punkt 5.5 Preisermittlung)
A65: 3.1.3 | B65: Der TEC-Wert bezieht sich auf welcher ENERGY STAR Version? | C65: I | D65: E | G65: =IF(E65="","",E65*F65) | H65: =IF(E65="","",100/$G$106*G65) | I65: bitte wählen | K65: Beantwortung zur Bewertung des TEC-Wertes in Punkt 3.1.2 notwendig
A66: 3.2 | B66: Umwelt | H66: =SUM(H67:H69) -> 6.5359477
A67: 3.2.1 | B67: Das Gerät kann Recyclingpapier verarbeiten (EN 12281:2002) | C67: A | D67: E | G67: =IF(E67="","",E67*F67) | H67: =IF(E67="","",100/$G$106*G67) | I67: bitte wählen
A68: 3.2.2 | B68: Erfüllung der aktuellen Anforderungen des Blauen Engels (RAL-UZ-219) oder vergleichbar | C68: A | D68: E | G68: =IF(E68="","",E68*F68) | H68: =IF(E68="","",100/$G$106*G68) | I68: bitte wählen | J68: =IF(I68="ja",300,0) -> 0
A69: 3.2.3 | B69: Das klammerlose Heften ist möglich | C69: B | D69: E | E69: 10 | F69: 10 | G69: =IF(E69="","",E69*F69) -> 100 | H69: =IF(E69="","",100/$G$106*G69) -> 6.5359477 | I69: bitte wählen | J69: =IF(I69="ja",300,0) -> 0 | K69: Ja = 10 Pkte.; Nein = 0 Pkte.
A70: 4 | B70: Software | H70: =H71+H75 -> 13.071895
A71: 4.1 | B71: Externe Software | H71: =SUM(H72:H74) -> 6.5359477
A72: 4.1.1 | B72: Unterstützt werden aktuelle Versionen von Microsoft Windows (derzeit Windows 11) und aktuelle Versionen von Microsoft Windows Server (derzeit 2019, 2022, 2025), aktuelle Versionen von Apple Mac OS (derzeit 15-27), aktuelle Versionen gängiger Linux-Distributionen, vorrangig Debian und Ubuntu (derzeit Debian 13 und Ubuntu 24.04 LTS/26.04 LTS), sowie während der Laufzeit dieser Vereinbarung erscheinenden Folgeversionen der benannten Betriebssysteme | C72: A | D72: E | G72: =IF(E72="","",E72*F72) | H72: =IF(E72="","",100/$G$106*G72) | I72: bitte wählen
A73: 4.1.2 | B73: Der Status des Geräts ist über eine unentgeltlich zur Verfügung gestellte zentrale Management-Software überprüfbar. Funktionale Mindestanforderungen: Auslesen der gerätespezifischen Daten (Typ, Seriennummer, Konfiguration, Zubehör, Netzwerkparameter, Zähler- und Tonerstände) und Dateisicherung der Daten. Der Export als Excel/CSV-Datei muss möglich sein. | C73: A | D73: E | G73: =IF(E73="","",E73*F73) | H73: =IF(E73="","",100/$G$106*G73) | I73: bitte wählen
A74: 4.1.3 | B74: Das Gerät kann über eine zentrale Management-Software konfiguriert und administriert werden (gerätespezifische Daten, z. B. Pflege der lokalen Ansprechpartner, Konfiguration Ein- und Ausgabefächer, Netzwerkparameter, etc.). Die spezifischen Konfigurationseinstellungen eines Gerätes können gesichert und auf ein anderes Gerät übertragen werden. | C74: B | D74: E | E74: 10 | F74: 10 | G74: =IF(E74="","",E74*F74) -> 100 | H74: =IF(E74="","",100/$G$106*G74) -> 6.5359477 | I74: bitte wählen | J74: =IF(I74="ja",100,0) -> 0 | K74: Ja = 10 Pkte.; Nein = 0 Pkte.
A75: 4.2 | B75: Interne Software | H75: =SUM(H76:H77) -> 6.5359477
A76: 4.2.1 | B76: Das Gerät verfügt über ein zugriffsgeschütztes Webinterface, über das es konfiguriert und administriert werden kann. Der Zugriff auf die Weboberfläche erfolgt per https-Protokoll, Version TLS 1.2 in Kombination mit Perfect Forward Secrecy (PFS) oder die Version TLS 1.3 mit PFS. | C76: B | D76: E | E76: 10 | F76: 10 | G76: =IF(E76="","",E76*F76) -> 100 | H76: =IF(E76="","",100/$G$106*G76) -> 6.5359477 | I76: bitte wählen | J76: =IF(I76="ja",100,0) -> 0
A77: 4.2.2 | B77: Eine Connector-Lösung zur Anbindung des Systems an Papercut MF (für Abrechnung, Authentifizierung, Follow-Me-Printing) kann eingebunden werden. | C77: A | D77: E | H77: =IF(E77="","",100/$G$106*G77) | I77: bitte wählen | J77: =IF(I77="ja",100,0) -> 0
A78: 5 | B78: Allgemeine Voraussetzungen Multifunktionsgeräte | H78: =H79+H100 -> 45.751634
A79: 5.1 | B79: Scannen | H79: =SUM(H80:H98) -> 45.751634
A80: 5.1.1 | B80: Gerät erstellt farbige Scans | C80: A | D80: E | H80: =IF(E81="","",100/$G$79*G81) | I80: bitte wählen
A81: 5.1.2 | B81: Vorlageneinzug von min. 50 Blatt à 80 g/m² | C81: A | D81: E | I81: bitte wählen
A82: 5.1.3 | B82: Vorlageneinzug von mehr als 50 Blatt à 80 g/m² (Angabe der maximalen Anzahl) | C82: B | D82: K | E82: 5 | F82: 10 | G82: 50 | H82: =IF(E82="","",100/$G$106*G82) -> 3.2679739 | J82: =IF(I82>=100,50,IF(I82>=75,25,IF(I82>50,10,0))) -> 0 | K82: >=100 = 10 Pkte.; >=75 = 5 Pkte.; >50 = 2 Pkte.; 50 = 0 Pkte.
A83: 5.1.4 | B83: Auflösung des Scans in Farbe von min. 600 x 600 ppi | C83: A | D83: E | I83: bitte wählen
A84: 5.1.5 | B84: Angabe der max. möglichen optischen Auflösung | C84: B | D84: K | E84: 5 | F84: 10 | G84: 50 | H84: =IF(E84="","",100/$G$106*G84) -> 3.2679739 | J84: =IF(I84>=1200,50,IF(I84>600,25,IF(I84=600,0,0))) -> 0 | K84: >= 1200 dpi = 10 Pkte.; >600 dpi = 5 Pkte.; 600 dpi = 0 Pkte.
A85: 5.1.6 | B85: Gerät verfügt über die Fähigkeit beidseitig bedruckte Seiten zu erfassen. | C85: A | D85: E | I85: bitte wählen
A86: 5.1.7 | B86: Gerät verfügt über 2 Sensorleisten, um beidseitig bedruckte Seiten in einem Durchgang zu erfassen. | C86: B | D86: E | E86: 5 | F86: 10 | G86: 50 | H86: =IF(E86="","",100/$G$106*G86) -> 3.2679739 | I86: bitte wählen | J86: =IF(I86="ja",100,IF(I86="nein",0,0)) -> 0 | K86: Ja = 10 Pkte.; Nein = 0 Pkte.
A87: 5.1.8 | B87: Technologie der Flachbett-Scaneinheit: CIS oder CCD? | C87: B | D87: E | E87: 10 | F87: 10 | G87: 100 | H87: =IF(E87="","",100/$G$106*G87) -> 6.5359477 | I87: bitte wählen | J87: =IF(I87="CCD",100,IF(I87="CIS",0,0)) -> 0 | K87: CCD = 10 Pkte.; CIS = 0 Pkte.
A88: 5.1.9 | B88: Wie viele Seiten/min kann das Gerät einseitig scannen? | C88: B | D88: K | E88: 5 | F88: 10 | G88: 50 | H88: =IF(E88="","",100/$G$106*G88) -> 3.2679739 | J88: =IF(I88>=50,50,IF(I88>=40,40,IF(I88>=30,30,IF(I88>20,20,IF(I88=20,0,0))))) -> 0 | K88: >=50 S./min = 10 Pkte.; >=40 S./min = 8 Pkte.; >=30 S./min = 6 Pkte.; >20 S./min = 4 Pkte.; <=20 S./min = 0 Pkte.
A89: 5.1.10 | B89: Wie viele Seiten/min kann das Gerät beidseitig scannen? | C89: B | D89: K | E89: 5 | F89: 10 | G89: 50 | H89: =IF(E89="","",100/$G$106*G89) -> 3.2679739 | J89: =IF(I89>=50,50,IF(I89>=40,40,IF(I89>=30,30,IF(I89>20,20,0)))) -> 0 | K89: >=50 S./min = 10 Pkte.; >=40 S./min = 8 Pkte.; >=30 S./min = 6 Pkte.; >20 S./min = 4 Pkte.; <=20 S./min = 0 Pkte.
A90: 5.1.11 | B90: Gerät verfügt über Funktion - Scan-to-Mail | C90: A | D90: E | H90: =IF(E91="","",100/$G$79*G91) | I90: bitte wählen
A91: 5.1.12 | B91: Gerät verfügt über Funktion - Scan-to-Folder (SMB Ver. 3.X) | C91: A | D91: E | H91: =IF(E92="","",100/$G$79*G92) | I91: bitte wählen
A92: 5.1.13 | B92: Gerät verfügt über Funktion - Scan-to-Application | C92: A | D92: E | I92: bitte wählen
A93: 5.1.14 | B93: Gerät verfügt über Funktion - Scan-to-WEBDAV | C93: B | D93: E | E93: 5 | F93: 10 | G93: 50 | H93: =IF(E93="","",100/$G$106*G93) -> 3.2679739 | I93: bitte wählen | J93: =IF(I93="ja",50,IF(I93="nein",0,0)) -> 0 | K93: Ja = 10 Pkte.; Nein = 0 Pkte.
A94: 5.1.15 | B94: Gerät erstellt Dateien in den Formaten: PDF, TIFF, JPG | C94: A | D94: E | I94: bitte wählen
A95: 5.1.16 | B95: Gerät erstellt PDF-Dateien im Format PDF/A | C95: B | D95: E | E95: 10 | F95: 10 | G95: 100 | H95: =IF(E95="","",100/$G$106*G95) -> 6.5359477 | I95: bitte wählen | J95: =IF(I95="ja",100,IF(I95="nein",0,0)) -> 0 | K95: Ja = 10 Pkte.; Nein = 0 Pkte.
A96: 5.1.17 | B96: Die Verwendung der JBIG2-Komprimierung bei der Dateierstellung ist ausgeschlossen. | C96: A | D96: E | I96: bitte wählen
A97: 5.1.18 | B97: Gerät erstellt durchsuchbare PDF-Dateien (OCR-Erkennung) | C97: B | D97: E | E97: 10 | F97: 10 | G97: 100 | H97: =IF(E97="","",100/$G$106*G97) -> 6.5359477 | I97: bitte wählen | J97: =IF(I97="ja",100,IF(I97="nein",0,0)) -> 0 | K97: Ja = 10 Pkte.; Nein = 0 Pkte.
A98: 5.1.19 | B98: Kann während des Scanvorgangs parallel ein Druckauftrag ausgegeben werden? | C98: B | D98: E | E98: 10 | F98: 10 | G98: 100 | H98: =IF(E98="","",100/$G$106*G98) -> 6.5359477 | I98: bitte wählen | J98: =IF(I98="ja",150,IF(I98="nein",0,0)) -> 0 | K98: Ja = 10 Pkte.; Nein = 0 Pkte.
A99: 5.1.20 | B99: Die Vorgaben und Anforderungen der TR RESISCAN werden erfüllt | C99: A | D99: E | H99: =IF(E100="","",100/$G$79*G100) | I99: bitte wählen
A100: 5.2 | B100: Kopieren | H100: 0
A101: 5.2.1 | B101: Kopiergeschwindigkeit von min. 30 Seiten/Minute Farbe (DIN A4) | C101: A | D101: E | H101: =IF(E102="","",100/$G$79*G102) | I101: bitte wählen
A102: 5.2.2 | B102: Auflösung der Kopie von min. 600 x 600 dpi | C102: A | D102: E | H102: =IF(E103="","",100/$G$79*G103) | I102: bitte wählen
...

Sheet Leistungsklasse 3
A2: Leistungsklasse 3
A3: DIN A3 Farb-Gerät min. 45 S./min
A5: Referenz | B5: Kriterium | C5: Kriterien-klassifi-zierung | D5: Beantwor-tungsart | E5: GP | F5: max. BP | G5: max. LP | H5: % Gesamt | I5: Beantwortung durch den Bieter | J5: AUSWERTUNG erreichte LP | K5: Unterkriterien der Vergabestelle
A6: 1 | B6: SYSTEM | H6: =H7+H19+H29 -> 10.967742
A7: 1.1 | B7: Systemdaten | H7: =SUM(H8:H18) -> 3.8709677
A8: 1.1.1 | B8: Gerätebezeichnung und -typ | C8: I | D8: K | G8: =IF(E8="","",E8*F8) | H8: =IF(E8="","",100/$G$108*G8)
A9: 1.1.2 | B9: Abmessungen (Breite × Höhe × Tiefe) | C9: I | D9: K | G9: =IF(E9="","",E9*F9) | H9: =IF(E9="","",100/$G$108*G9)
A10: 1.1.3 | B10: Es handelt sich um ein Farbgerät | C10: A | D10: E | G10: =IF(E10="","",E10*F10) | H10: =IF(E10="","",100/$G$108*G10) | I10: bitte wählen
A11: 1.1.4 | B11: Gerät ist ausgelegt für Druckvolumen von min. 35.000 Seiten/Monat | C11: A | D11: E | G11: =IF(E11="","",E11*F11) | H11: =IF(E11="","",100/$G$108*G11) | I11: bitte wählen
A12: 1.1.5 | B12: Das Gerät kann DIN A3-Formate verarbeiten | C12: A | D12: E | G12: =IF(E12="","",E12*F12) | H12: =IF(E12="","",100/$G$108*G12) | I12: bitte wählen
A13: 1.1.6 | B13: Das Gerät verfügt über min. 2048 MB RAM | C13: A | D13: E | G13: =IF(E13="","",E13*F13) | H13: =IF(E13="","",100/$G$108*G13) | I13: bitte wählen
A14: 1.1.7 | B14: Das Gerät verfügt über … MB RAM | C14: B | D14: K | E14: 5 | F14: 10 | G14: =IF(E14="","",E14*F14) -> 50 | H14: =IF(E14="","",100/$G$108*G14) -> 3.2258065 | J14: =IF(I14=512,0,IF(AND(I14<1024,I14>512),5*5,IF(I14>=1024,10*5,0))) -> 0 | K14: >= 4096 MB = 10 Pkte.; < 4096 MB = 5 Pkte.; 2048 MB = 0 Pkte.
A15: 1.1.8 | B15: Das Gerät verfügt über ein internes Speichermedium | C15: B | D15: E | E15: 1 | F15: 10 | G15: =IF(E15="","",E15*F15) -> 10 | H15: =IF(E15="","",100/$G$108*G15) -> 0.64516129 | I15: bitte wählen | J15: =IF(I15="ja",10,0) -> 0 | K15: Ja = 10 Pkte.; Nein = 0 Pkte.
A16: 1.1.9 | B16: Das Gerät unterstützt SNMP V3 (Abfrage des Gerätestatus min. für folgende Parameter möglich: Tonerstatus, Papierstatus, anstehende Druckaufträge, alle Zählerstände). | C16: A | D16: E | G16: =IF(E16="","",E16*F16) | H16: =IF(E16="","",100/$G$108*G16) | I16: bitte wählen
A17: 1.1.10 | B17: Herstellerspezifische MIBs werden kostenfrei zur Verfügung gestellt. | C17: A | D17: E | G17: =IF(E17="","",E17*F17) | H17: =IF(E17="","",100/$G$108*G17) | I17: bitte wählen
A18: 1.1.11 | B18: Das Gerät kann RFID-Karten Mifare® DESFire sowie NFC (z.B. Smartphones) - bspw. über einen zusätzlich angeschlossenen Kartenleser - auslesen und zur Interaktion mit Papercut-MF nutzen. | C18: A | D18: E | G18: =IF(E18="","",E18*F18) | H18: =IF(E18="","",100/$G$108*G18) | I18: bitte wählen | J18: =IF(I18="ja",20,0) -> 0
A19: 1.2 | B19: Systemanschlüsse und –voraussetzungen | H19: =SUM(H20:H25) -> 3.8709677
A20: 1.2.1 | B20: Anschlusstechnik - min. 100BaseTX-Schnittstelle | C20: A | D20: E | G20: =IF(E20="","",E20*F20) | H20: =IF(E20="","",100/$G$108*G20) | I20: bitte wählen
A21: 1.2.2 | B21: Anschlusstechnik - 100/1000BaseTX-Schnittstelle | C21: B | D21: E | E21: 3 | F21: 10 | G21: =IF(E21="","",E21*F21) -> 30 | H21: =IF(E21="","",100/$G$108*G21) -> 1.9354839 | I21: bitte wählen | J21: =IF(I21="ja",30,0) -> 0 | K21: Ja = 10 Pkte.; Nein = 0 Pkte.
A22: 1.2.3 | B22: Anschlusstechnik - USB 2-Schnittstelle | C22: A | D22: E | G22: =IF(E22="","",E22*F22) | H22: =IF(E22="","",100/$G$108*G22) | I22: bitte wählen
A23: 1.2.4 | B23: Anschlusstechnik - USB 3-Schnittstelle | C23: B | D23: E | E23: 3 | F23: 10 | G23: =IF(E23="","",E23*F23) -> 30 | H23: =IF(E23="","",100/$G$108*G23) -> 1.9354839 | I23: bitte wählen | J23: =IF(I23="ja",30,0) -> 0 | K23: Ja = 10 Pkte.; Nein = 0 Pkte.
A24: 1.2.5 | B24: Das Gerät unterstützt 802.1x (Authentifizierung) | C24: A | D24: E | G24: =IF(E24="","",E24*F24) | H24: =IF(E24="","",100/$G$108*G24) | I24: bitte wählen
A25: 1.2.6 | B25: Das Gerät unterstützt IPsec | C25: A | D25: E | G25: =IF(E25="","",E25*F25) | H25: =IF(E25="","",100/$G$108*G25) | I25: bitte wählen
A26: 1.3 | B26: Normen | H26: 0
A27: 1.3.1 | B27: Gerät verfügt über gültige CE-Zertifizierung. Der Auftragnehmer hat auf Anfrage des Auftraggebers eine EU-Konformitätserklärung zur Verfügung zu stellen. Diese hat die Bestätigung über die Konformität des Produktes zu den anwendbaren Anforderungen und Schutzzielen der EU-Richtlinien zu beinhalten. | C27: A | D27: E | G27: =IF(E27="","",E27*F27) | H27: =IF(E27="","",100/$G$108*G27) | I27: bitte wählen
A28: 1.3.2 | B28: Die Anforderungen an die Aussendung elektrischer und magnetischer Felder müssen in Übereinstimmung mit der CE-Kennzeichnung erfüllt sein. (Störaussendung nach DIN EN 550022, Störfestigkeit nach DIN EN 55024) | C28: A | D28: E | G28: =IF(E28="","",E28*F28) | H28: =IF(E28="","",100/$G$108*G28) | I28: bitte wählen
A29: 1.4 | B29: Ergänzungen | H29: =SUM(H30:H31) -> 3.2258065
A30: 1.4.1 | B30: Unterschrank mit Rollen ist erhältlich | C30: A | D30: E | G30: =IF(E30="","",E30*F30) | H30: =IF(E30="","",100/$G$108*G30) | I30: bitte wählen
A31: 1.4.2 | B31: Eine Versatzablage ist integriert oder als Zubehörteil erhältlich | C31: B | D31: E | E31: 5 | F31: 10 | G31: =IF(E31="","",E31*F31) -> 50 | H31: =IF(E31="","",100/$G$108*G31) -> 3.2258065 | I31: bitte wählen | K31: Ja = 10 Pkte.; Nein = 0 Pkte.
A32: 2 | B32: MEDIENVERARBEITUNG | H32: =H33+H42+H53 -> 24.516129
A33: 2.1 | B33: Drucken | H33: =SUM(H34:H41) -> 20
A34: 2.1.1 | B34: Druckgeschwindigkeit von min. 45 Seiten/Minute Farbe (DIN A4) | C34: A | D34: E | G34: =IF(E34="","",E34*F34) | H34: =IF(E34="","",100/$G$108*G34) | I34: bitte wählen
A35: 2.1.2 | B35: Gerät unterstützt PCL 6 | C35: A | D35: E | G35: =IF(E35="","",E35*F35) | H35: =IF(E35="","",100/$G$108*G35) | I35: bitte wählen
A36: 2.1.3 | B36: Gerät unterstützt PS Level 3 | C36: A | D36: E | G36: =IF(E36="","",E36*F36) | H36: =IF(E36="","",100/$G$108*G36) | I36: bitte wählen
A37: 2.1.4 | B37: Bei Pos. 2.1.3 handelt es sich um ein lizensiertes Original PostScript-Modul | C37: B | D37: E | E37: 20 | F37: 10 | G37: =IF(E37="","",E37*F37) -> 200 | H37: =IF(E37="","",100/$G$108*G37) -> 12.903226 | I37: bitte wählen | J37: =IF(I37="ja",200,0) -> 0 | K37: Ja = 10 Pkte.; Nein = 0 Pkte.
A38: 2.1.5 | B38: Das Gerät unterstützt beidseitigen Druck (min. 80 g/m²) | C38: A | D38: E | G38: =IF(E38="","",E38*F38) | H38: =IF(E38="","",100/$G$108*G38) | I38: bitte wählen
A39: 2.1.6 | B39: Das Gerät unterstützt im beidseitigen Druck Grammaturen bis zu … g/m² | C39: B | D39: K | E39: 10 | F39: 10 | G39: =IF(E39="","",E39*F39) -> 100 | H39: =IF(E39="","",100/$G$108*G39) -> 6.4516129 | J39: =IF(I39>=160,100,IF(I39>=120,50,IF(I39>=100,20,0))) -> 0 | K39: >=160 g/m² = 10 Pkte.; >=120 g/m² = 5 Pkte.; >=100 g/m² = 2 Pkte.; <100 g/m² = 0 Pkte.
A40: 2.1.7 | B40: Die Druckgeschwindigkeit des Gerätes im beidseitigen Druck beträgt …% der nominellen Druckgeschwindigkeit | C40: B | D40: E | E40: 1 | F40: 10 | G40: =IF(E40="","",E40*F40) -> 10 | H40: =IF(E40="","",100/$G$108*G40) -> 0.64516129 | J40: =IF(I40=100,10,IF(I40>=60,5,0)) -> 0 | K40: 100% = 10 Pkte.; >=60% = 5 Pkte.; <60% = 0 Pkte.
A41: 2.1.8 | B41: Die Ausdrucke des Geräts sind dokumentenecht nach §29 der Dienstordnung für Notare (DONot) | C41: A | D41: E | G41: =IF(E41="","",E41*F41) | H41: =IF(E41="","",100/$G$108*G41) | I41: bitte wählen
A42: 2.2 | B42: Input Papierverarbeitung / -Management | H42: =SUM(H43:H52) -> 1.9354839
A43: 2.2.1 | B43: Das Gerät verfügt über mindestens zwei Papierkassetten, mit min. 500 Blatt à 80 g/m² Papier | C43: A | D43: E | I43: bitte wählen
A44: 2.2.2 | B44: Die Kapazität der Papierkassetten bei 80 g/m² Papier beträgt bis zu … Blatt | C44: I | D44: K
A45: 2.2.3 | B45: Das Gerät verfügt über eine manuelle Blattzufuhr, über die Papier mit bis zu 300 g/m² verarbeitet werden kann. | C45: A | D45: E | I45: bitte wählen
A46: 2.2.4 | B46: Das Gerät kann aus den Papierkassetten Druckmedien mit einer Grammatur von 75-160 g/m² verarbeiten. | C46: A | D46: E | I46: bitte wählen
A47: 2.2.5 | B47: Das Gerät kann aus den Papierkassetten folgende Druckmedien verarbeiten: Papier, Etiketten, Umschläge DIN C6 + DIN lang | C47: A | D47: E | I47: bitte wählen
A48: 2.2.6 | B48: Mit wie vielen Papierkassetten (min. 500 Blatt) kann das Gerät maximal ausgestattet werden? | C48: I | D48: K
A49: 2.2.7 | B49: Das Gerät kann mit einem Großraumpapiermagazin (min. 1.000 Blatt bei 80 g/m²) ausgestattet werden | C49: A | D49: E | I49: bitte wählen
A50: 2.2.8 | B50: Die max. Kapazität des Großraumpapiermagazins bei 80 g/m² Papier beträgt bis zu … Blatt | C50: I | D50: K
A51: 2.2.9 | B51: Das Gerät kann mit einem seitlichen Großraumpapiermagazin (min. 1.000 Blatt bei 80 g/m²) ausgestattet werden | C51: B | D51: E | E51: 3 | F51: 10 | G51: =IF(E51="","",E51*F51) -> 30 | H51: =IF(E51="","",100/$G$108*G51) -> 1.9354839 | I51: bitte wählen | J51: =IF(I51="ja",30,0) -> 0 | K51: Ja = 10 Pkte.; Nein = 0 Pkte.
A52: 2.2.10 | B52: Die max. Kapazität des seitlichen Großraumpapiermagazins bei 80 g/m² Papier beträgt bis zu … Blatt | C52: I | D52: K
A53: 2.3 | B53: Output Papierverarbeitung / -Management | H53: =SUM(H54:H62) -> 2.5806452
A54: 2.3.1 | B54: Die Standardausgabekapazität der Ablage umfasst min. 500 Blatt bei 80 g/m² | C54: A | D54: E | G54: =IF(E54="","",E54*F54) | H54: =IF(E54="","",100/$G$108*G54) | I54: bitte wählen
A55: 2.3.2 | B55: Die Standardausgabekapazität der Ablage umfasst max. ... Blatt bei 80 g/m² | C55: B | D55: K | E55: 1 | F55: 10 | G55: =IF(E55="","",E55*F55) -> 10 | H55: =IF(E55="","",100/$G$108*G55) -> 0.64516129 | J55: =IF(I55="bitte wählen","",IF(I55>=750,10,IF(I55>500,5,0))) -> 0 | K55: >=750 = 10 Pkte.; >500 = 5 Pkte.; =500 = 0 Pkte.
A56: 2.3.3 | B56: Heftfinisher, 500 Blatt Ausgabe, 50 Blatt Heftkapazität | C56: A | D56: E | G56: =IF(E56="","",E56*F56) | H56: =IF(E56="","",100/$G$108*G56) | I56: bitte wählen
A57: 2.3.4 | B57: Heftfinisher, 1.000 Blatt Ausgabe, 50 Blatt Heftkapazität | C57: A | D57: E | G57: =IF(E57="","",E57*F57) | H57: =IF(E57="","",100/$G$108*G57) | I57: bitte wählen
A58: 2.3.5 | B58: Heftfinisher, >1.000 Blatt Ausgabe, >50 Blatt Heftkapazität | C58: A | D58: E | G58: =IF(E58="","",E58*F58) | H58: =IF(E58="","",100/$G$108*G58) | I58: bitte wählen
A59: 2.3.6 | B59: Broschürenfinisher für Endformat DIN A5 bis zu 60 Seiten Broschüre | C59: B | D59: E | E59: 3 | F59: 10 | G59: =IF(E59="","",E59*F59) -> 30 | H59: =IF(E59="","",100/$G$108*G59) -> 1.9354839 | I59: bitte wählen | J59: =IF(I59="ja",10,0) -> 0 | K59: Ja = 10 Pkte.; Nein = 0 Pkte.
A60: 2.3.7 | B60: Heftklammereinheit | C60: A | D60: E | G60: =IF(E60="","",E60*F60) | H60: =IF(E60="","",100/$G$108*G60) | I60: bitte wählen
A61: 2.3.8 | B61: Locheinheit, 2-fach | C61: A | D61: E | G61: =IF(E61="","",E61*F61) | H61: =IF(E61="","",100/#REF!*G61) | I61: bitte wählen
A62: 2.3.9 | B62: Locheinheit, 4-fach | C62: A | D62: E | G62: =IF(E62="","",E62*F62) | H62: =IF(E62="","",100/#REF!*G62) | I62: bitte wählen
A63: 3 | B63: Umwelt & Emissionen | H63: =H64+H68 -> 6.4516129
A64: 3.1 | B64: Erfüllung der Anforderungen des ENERGY STAR | H64: 0
A65: 3.1.1 | B65: Gerät erfüllt mindestens die aktuell gültigen Anforderungen des ENERGY STAR-Programms für Bürogeräte oder vergleichbar | C65: A | D65: E | G65: =IF(E65="","",E65*F65) | H65: =IF(E65="","",100/$G$108*G65) | I65: bitte wählen
A66: 3.1.2 | B66: Angabe des typischen Stromverbrauchs pro Woche (TEC) gem. ENERGY STAR (for Imaging Equipment Ver. 2.0 oder neuer) oder vergleichbar | C66: I | D66: E | G66: =IF(E66="","",E66*F66) | H66: =IF(E66="","",100/$G$108*G66) | I66: bitte wählen | K66: Wird bei der Ermittlung des Preises berücksichtigt (siehe Vertrag Punkt 5.5 Preisermittlung)
A67: 3.1.3 | B67: Der TEC-Wert bezieht sich auf welcher ENERGY STAR Version? | C67: I | D67: E | G67: =IF(E67="","",E67*F67) | H67: =IF(E67="","",100/$G$108*G67) | I67: bitte wählen | K67: Beantwortung zur Bewertung des TEC-Wertes in Punkt 3.1.2 notwendig
A68: 3.2 | B68: Umwelt | H68: =SUM(H69:H71) -> 6.4516129
A69: 3.2.1 | B69: Das Gerät kann Recyclingpapier verarbeiten (EN 12281:2002) | C69: A | D69: E | G69: =IF(E69="","",E69*F69) | H69: =IF(E69="","",100/$G$108*G69) | I69: bitte wählen
A70: 3.2.2 | B70: Erfüllung der aktuellen Anforderungen des Blauen Engels (RAL-UZ-219) oder vergleichbar | C70: A | D70: E | G70: =IF(E70="","",E70*F70) | H70: =IF(E70="","",100/$G$108*G70) | I70: bitte wählen | J70: =IF(I70="ja",300,0) -> 0
A71: 3.2.3 | B71: Das klammerlose Heften ist möglich | C71: B | D71: E | E71: 10 | F71: 10 | G71: =IF(E71="","",E71*F71) -> 100 | H71: =IF(E71="","",100/$G$108*G71) -> 6.4516129 | I71: bitte wählen | K71: Ja = 10 Pkte.; Nein = 0 Pkte.
A72: 4 | B72: Software | H72: =H73+H77 -> 12.903226
A73: 4.1 | B73: Externe Software | H73: =SUM(H74:H76) -> 6.4516129
A74: 4.1.1 | B74: Unterstützt werden aktuelle Versionen von Microsoft Windows (derzeit Windows 11) und aktuelle Versionen von Microsoft Windows Server (derzeit 2019, 2022, 2025), aktuelle Versionen von Apple Mac OS (derzeit 15-27), aktuelle Versionen gängiger Linux-Distributionen, vorrangig Debian und Ubuntu (derzeit Debian 13 und Ubuntu 24.04 LTS/26.04 LTS), sowie während der Laufzeit dieser Vereinbarung erscheinenden Folgeversionen der benannten Betriebssysteme | C74: A | D74: E | G74: =IF(E74="","",E74*F74) | H74: =IF(E74="","",100/$G$108*G74) | I74: bitte wählen
A75: 4.1.2 | B75: Der Status des Geräts ist über eine unentgeltlich zur Verfügung gestellte zentrale Management-Software überprüfbar. Funktionale Mindestanforderungen: Auslesen der gerätespezifischen Daten (Typ, Seriennummer, Konfiguration, Zubehör, Netzwerkparameter, Zähler- und Tonerstände) und Dateisicherung der Daten. Der Export als Excel/CSV-Datei muss möglich sein. | C75: A | D75: E | G75: =IF(E75="","",E75*F75) | H75: =IF(E75="","",100/$G$108*G75) | I75: bitte wählen
A76: 4.1.3 | B76: Das Gerät kann über eine zentrale Management-Software konfiguriert und administriert werden (gerätespezifische Daten, z. B. Pflege der lokalen Ansprechpartner, Konfiguration Ein- und Ausgabefächer, Netzwerkparameter, etc.). Die spezifischen Konfigurationseinstellungen eines Gerätes können gesichert und auf ein anderes Gerät übertragen werden. | C76: B | D76: E | E76: 10 | F76: 10 | G76: =IF(E76="","",E76*F76) -> 100 | H76: =IF(E76="","",100/$G$108*G76) -> 6.4516129 | I76: bitte wählen | J76: =IF(I76="ja",100,0) -> 0 | K76: Ja = 10 Pkte.; Nein = 0 Pkte.
A77: 4.2 | B77: Interne Software | H77: =SUM(H78:H79) -> 6.4516129
A78: 4.2.1 | B78: Das Gerät verfügt über ein zugriffsgeschütztes Webinterface, über das es konfiguriert und administriert werden kann. Der Zugriff auf die Weboberfläche erfolgt per https-Protokoll, Version TLS 1.2 in Kombination mit Perfect Forward Secrecy (PFS) oder die Version TLS 1.3 mit PFS. | C78: B | D78: E | E78: 10 | F78: 10 | G78: =IF(E78="","",E78*F78) -> 100 | H78: =IF(E78="","",100/$G$108*G78) -> 6.4516129 | I78: bitte wählen | J78: =IF(I78="ja",100,0) -> 0
A79: 4.2.2 | B79: Eine Connector-Lösung zur Anbindung des Systems an Papercut MF (für Abrechnung, Authentifizierung, Follow-Me-Printing) kann eingebunden werden. | C79: A | D79: E | G79: =IF(E79="","",E79*F79) | H79: =IF(E79="","",100/$G$108*G79) | I79: bitte wählen | J79: =IF(I79="ja",100,0) -> 0
A80: 5 | B80: Allgemeine Voraussetzungen Multifunktionsgeräte | H80: =H81+H102 -> 45.16129
A81: 5.1 | B81: Scannen | H81: =SUM(H82:H100) -> 45.16129
A82: 5.1.1 | B82: Gerät erstellt farbige Scans | C82: A | D82: E | H82: =IF(E83="","",100/$G$81*G83) | I82: bitte wählen
A83: 5.1.2 | B83: Vorlageneinzug von min. 50 Blatt à 80 g/m² | C83: A | D83: E | I83: bitte wählen
A84: 5.1.3 | B84: Vorlageneinzug von mehr als 50 Blatt à 80 g/m² (Angabe der maximalen Anzahl) | C84: B | D84: K | E84: 5 | F84: 10 | G84: =IF(E84="","",E84*F84) -> 50 | H84: =IF(E84="","",100/$G$108*G84) -> 3.2258065 | J84: =IF(I84>=100,50,IF(I84>=75,25,IF(I84>50,10,0))) -> 0 | K84: >=100 = 10 Pkte.; >=75 = 5 Pkte.; >50 = 2 Pkte.; 50 = 0 Pkte.
A85: 5.1.4 | B85: Auflösung des Scans in Farbe von min. 600 x 600 ppi | C85: A | D85: E | I85: bitte wählen
A86: 5.1.5 | B86: Angabe der max. möglichen optischen Auflösung | C86: B | D86: K | E86: 5 | F86: 10 | G86: =IF(E86="","",E86*F86) -> 50 | H86: =IF(E86="","",100/$G$108*G86) -> 3.2258065 | J86: =IF(I86>=1200,50,IF(I86>600,25,IF(I86=600,0,0))) -> 0 | K86: >= 1200 dpi = 10 Pkte.; >600 dpi = 5 Pkte.; 600 dpi = 0 Pkte.
A87: 5.1.6 | B87: Gerät verfügt über die Fähigkeit beidseitig bedruckte Seiten zu erfassen. | C87: A | D87: E | I87: bitte wählen
A88: 5.1.7 | B88: Gerät verfügt über 2 Sensorleisten, um beidseitig bedruckte Seiten in einem Durchgang zu erfassen. | C88: B | D88: E | E88: 5 | F88: 10 | G88: =IF(E88="","",E88*F88) -> 50 | H88: =IF(E88="","",100/$G$108*G88) -> 3.2258065 | I88: bitte wählen | J88: =IF(I88="ja",100,IF(I88="nein",0,0)) -> 0 | K88: Ja = 10 Pkte.; Nein = 0 Pkte.
A89: 5.1.8 | B89: Technologie der Flachbett-Scaneinheit: CIS oder CCD? | C89: B | D89: E | E89: 10 | F89: 10 | G89: =IF(E89="","",E89*F89) -> 100 | H89: =IF(E89="","",100/$G$108*G89) -> 6.4516129 | I89: bitte wählen | J89: =IF(I89="CCD",100,IF(I89="CIS",0,0)) -> 0 | K89: CCD = 10 Pkte.; CIS = 0 Pkte.
A90: 5.1.9 | B90: Wie viele Seiten/min kann das Gerät einseitig scannen? | C90: B | D90: K | E90: 5 | F90: 10 | G90: =IF(E90="","",E90*F90) -> 50 | H90: =IF(E90="","",100/$G$108*G90) -> 3.2258065 | J90: =IF(I90>=80,50,IF(I90>=70,40,IF(I90>=60,30,IF(I90>45,20,IF(I90=45,0,0))))) -> 0 | K90: >=80 S./min = 10 Pkte.; >=70 S./min = 8 Pkte.; >=60 S./min = 6 Pkte.; >45 S./min = 4 Pkte.; <=45 S./min = 0 Pkte.
A91: 5.1.10 | B91: Wie viele Seiten/min kann das Gerät beidseitig scannen? | C91: B | D91: K | E91: 5 | F91: 10 | G91: =IF(E91="","",E91*F91) -> 50 | H91: =IF(E91="","",100/$G$108*G91) -> 3.2258065 | J91: =IF(I91>=80,50,IF(I91>=70,40,IF(I91>=60,30,IF(I91>45,20,IF(I91=45,0,0))))) -> 0 | K91: >=80 S./min = 10 Pkte.; >=70 S./min = 8 Pkte.; >=60 S./min = 6 Pkte.; >45 S./min = 4 Pkte.; <=45 S./min = 0 Pkte.
A92: 5.1.11 | B92: Gerät verfügt über Funktion - Scan-to-Mail | C92: A | D92: E | G92: =IF(E92="","",E92*F92) | H92: =IF(E93="","",100/$G$81*G93) | I92: bitte wählen
A93: 5.1.12 | B93: Gerät verfügt über Funktion - Scan-to-Folder (SMB Ver. 3.0) | C93: A | D93: E | G93: =IF(E93="","",E93*F93) | H93: =IF(E94="","",100/$G$81*G94) | I93: bitte wählen
A94: 5.1.13 | B94: Gerät verfügt über Funktion - Scan-to-Application | C94: A | D94: E | G94: =IF(E94="","",E94*F94) | I94: bitte wählen
A95: 5.1.14 | B95: Gerät verfügt über Funktion - Scan-to-WEBDAV | C95: B | D95: E | E95: 5 | F95: 10 | G95: =IF(E95="","",E95*F95) -> 50 | H95: =IF(E95="","",100/$G$108*G95) -> 3.2258065 | I95: bitte wählen | J95: =IF(I95="ja",50,IF(I95="nein",0,0)) -> 0 | K95: Ja = 10 Pkte.; Nein = 0 Pkte.
A96: 5.1.15 | B96: Gerät erstellt Dateien in den Formaten: PDF, TIFF, JPG | C96: A | D96: E | G96: =IF(E96="","",E96*F96) | I96: bitte wählen
A97: 5.1.16 | B97: Gerät erstellt PDF-Dateien im Format PDF/A | C97: B | D97: E | E97: 10 | F97: 10 | G97: =IF(E97="","",E97*F97) -> 100 | H97: =IF(E97="","",100/$G$108*G97) -> 6.4516129 | I97: bitte wählen | J97: =IF(I97="ja",100,IF(I97="nein",0,0)) -> 0 | K97: Ja = 10 Pkte.; Nein = 0 Pkte.
A98: 5.1.17 | B98: Die Verwendung der JBIG2-Komprimierung bei der Dateierstellung ist ausgeschlossen. | C98: A | D98: E | G98: =IF(E98="","",E98*F98) | I98: bitte wählen
A99: 5.1.18 | B99: Gerät erstellt durchsuchbare PDF-Dateien (OCR-Erkennung) | C99: B | D99: E | E99: 10 | F99: 10 | G99: =IF(E99="","",E99*F99) -> 100 | H99: =IF(E99="","",100/$G$108*G99) -> 6.4516129 | I99: bitte wählen | J99: =IF(I99="ja",100,IF(I99="nein",0,0)) -> 0 | K99: Ja = 10 Pkte.; Nein = 0 Pkte.
A100: 5.1.19 | B100: Kann während des Scanvorgangs parallel ein Druckauftrag ausgegeben werden? | C100: B | D100: E | E100: 10 | F100: 10 | G100: =IF(E100="","",E100*F100) -> 100 | H100: =IF(E100="","",100/$G$108*G100) -> 6.4516129 | I100: bitte wählen | J100: =IF(I100="ja",150,IF(I100="nein",0,0)) -> 0 | K100: Ja = 10 Pkte.; Nein = 0 Pkte.
A101: 5.1.20 | B101: Die Vorgaben und Anforderungen der TR RESISCAN werden erfüllt | C101: A | D101: E | G101: =IF(E101="","",E101*F101) | I101: bitte wählen | J101: =IF(I101="ja",100,0) -> 0
A102: 5.2 | B102: Kopieren | H102: 0
...

Sheet Auswertung
A1: Auswertung
A3: Bewertungsgegenstand | B3: erreichte Punktzahl | C3: max. erreichtbare Punktzahl
A4: Generelle Fragen | B4: ='Generelle Fragen LK-unabhängig'!J11 -> 0 | C4: ='Generelle Fragen LK-unabhängig'!G11 -> 200
A5: =#REF! -> #REF! | B5: =#REF! -> #REF! | C5: =#REF! -> #REF!
A6: =#REF! -> #REF! | B6: =#REF! -> #REF! | C6: =#REF! -> #REF!
A7: =#REF! -> #REF! | B7: =#REF! -> #REF! | C7: =#REF! -> #REF!
A8: ='Leistungsklasse 1'!A2 -> Leistungsklasse 1 | B8: ='Leistungsklasse 1'!J96 -> 0 | C8: ='Leistungsklasse 1'!G96 -> 1720
A9: =#REF! -> #REF! | B9: =#REF! -> #REF! | C9: =#REF! -> #REF!
A10: ='Leistungsklasse 2'!A2 -> Leistungsklasse 2 | B10: ='Leistungsklasse 2'!J106 -> 0 | C10: ='Leistungsklasse 2'!G106 -> 1530
A11: =#REF! -> #REF! | B11: =#REF! -> #REF! | C11: =#REF! -> #REF!
A12: ='Leistungsklasse 3'!A2 -> Leistungsklasse 3 | B12: ='Leistungsklasse 3'!J108 -> 0 | C12: ='Leistungsklasse 3'!G108 -> 1550
A13: Leistungszahl LGesamt | B13: =SUM(B5:B12) -> #REF! | C13: =SUM(C5:C12) -> #REF!

Sheet Hilfsabellen
B2: Auswertung | D2: Auflösung | F2: Blattanzahl | H2: Speicherausbau | J2: Duplexgrammatur
B3: bitte wählen | D3: 600 dpi | F3: 50 Blatt | H3: 512 MB | J3: >= 160 g/m²
B4: ja | D4: > 600 dpi | F4: > 50 Blatt | H4: < 1.024 MB | J4: >= 120 g/m²
B5: nein | D5: >= 1.200 dpi | F5: >75 Blatt | H5: >= 1.024 MB | J5: < 100 g/m²
F6: >100 Blatt
B8: Dateiformat | D8: Druckvolumen
B9: bitte wählen | D9: Gerät ist ausgelegt für Druckvolumen von min. 2.500 Seiten/Monat
B10: PDF | D10: Gerät ist ausgelegt für Druckvolumen von min. 10.000 Seiten/Monat
B11: ZIP | D11: Gerät ist ausgelegt für Druckvolumen von min. 35.000 Seiten/Monat
B13: Scan-Technologie | D13: Druckgeschw. | J13: Kopiergeschw.
B14: bitte wählen | D14: Druckgeschwindigkeit von min. 20 Seiten/Minute s/w (DIN A4) | J14: Kopiergeschwindigkeit von min. 20 Seiten/Minute s/w (DIN A4)
B15: CCD | D15: Druckgeschwindigkeit von min. 40 Seiten/Minute s/w (DIN A4) | J15: Kopiergeschwindigkeit von min. 40 Seiten/Minute s/w (DIN A4)
B16: CIS
B21: TEC-Wert | D21: MFG | F21: Papierformate
B22: bitte wählen | D22: JA | F22: Zu verarbeitende Papierformate: DIN A4 und DIN A5
B23: 2.0 | D23: NEIN | F23: Zu verarbeitende Papierformate: DIN A3, DIN A4 und DIN A5
B24: 3.0
