Workbook
Name _Toc296687336: Einleitung!#REF!
Name _Toc296687337: Einleitung!$A$13
Name Dateiformat: '[1]Hilfsabellen'!$B$10:$B$11
Name Druckvolumen: '[1]Hilfsabellen'!$D$9:$D$11
Name Kopiergeschw.: '[1]Hilfsabellen'!$J$14:$J$19
Name MFG: '[1]Hilfsabellen'!$D$22:$D$23
Name Papierformate: '[1]Hilfsabellen'!$F$22:$F$23
Name _Hlk422207418: 'Leistungsklasse 1'!$A$7
Name Print_Titles: 'Leistungsklasse 1'!$5:$5
Name _Hlk422207418: 'Leistungsklasse 2'!$A$7
Name Print_Titles: 'Leistungsklasse 2'!$5:$5
Name _Hlk422207418: 'Leistungsklasse 3'!$A$7
Name Print_Titles: 'Leistungsklasse 3'!$5:$5
Name Auswertung: Hilfsabellen!$B$3:$B$4
Name Blattanzahl: Hilfsabellen!$F$3:$F$6
Name Dateiformat: Hilfsabellen!$B$9:$B$11
Name dpi: Hilfsabellen!$D$3:$D$5
Name Druckgeschw.: Hilfsabellen!$D$14:$D$19
Name Druckvolumen: Hilfsabellen!$D$9:$D$11
Name Duplexgrammatur: Hilfsabellen!$J$3:$J$5
Name Kopiergeschw.: Hilfsabellen!$J$14:$J$19
Name MFG: Hilfsabellen!$D$22:$D$23
Name Papierformate: Hilfsabellen!$F$22:$F$23
Name RAM: Hilfsabellen!$H$3:$H$5

Sheet Einleitung
A1: Bewertungsmatrix zur Ausschreibung der TU Clausthal über Drucker und Multifunktionsgeräte 2027
A3: Hinweise und Ausführungen zum Ausfüllen der Bewertungsmatrix Dieses Tabellenblatt dient lediglich der Dokumentation, hier erfolgt kein Eintrag.
A4: Wichtiger Hinweis! Beantworten Sie bitte die Fragen in allen nachfolgenden Tabellenblättern! Sollte ein Zellhintergrund nach der Beantwortung einer Frage rot hervorgehoben werden: Prüfen Sie, ob es sich um ein A-Kriterium (Spalte: Kriterienklassifizierung) handelt! Ein Beantworten der Fragen ist daher bspw. auch mit einer Rot/Grün-Sehschwäche möglich. Die Hervorhebung dient nur dem zusätzlichen Komfort. Beachten Sie bitte: Handelt es sich um ein Ausschlusskriterium, wird eine Nichterfüllung dieses Kriteriums zum Ausschluss des Gerätes und damit zum Ausschluss des gesamten Ausschreibungs-Angebotes führen.
A5: Die nachfolgenden Tabellenblätter enthalten standardisierte Tabellen. Je nach Geräteklasse (Drucker/Multifunktionsgerät) müssen unterschiedliche Kriterien erfüllt sowie Fragen beantwortet werden.
A6: Klassifizierung der Kriterien
A7: Kürzel | B7: Art und Bedeutung des Kriteriums
A8: A | B8: Ausschlusskriterium
B9: Ausschlusskriterien müssen mit einem „Ja“ ohne Einschränkungen beantwortet werden. Die Nichterfüllung einer als Ausschlusskriterium gekennzeichneten Anforderung führt zum Ausschluss des gesamten Angebotes (KO-Kriterium).
A10: B | B10: Bewertungskriterium Die mit einem „B“ gekennzeichneten Anforderungen stellen die innerhalb der Bewertungsskala mit Punkten zu bewertenden Kriterien dar und erhalten eine Gewichtung.
A11: I | B11: Informationskriterium Dieses Kriterium umfasst lediglich ergänzende Informationen, die dem Verständnis dienen und keinen Einfluss auf die Bewertung haben. Antworten auf I-Kriterien dürfen andere Antworten auf Bewertungskriterien oder Ausschlusskriterien nicht einschränken.
A12: Art der Beantwortung
A13: Die Vergabeunterlagen erfordern die Beantwortung von Fragenkatalogen. Für die Art der Beantwortung von Fragen werden nachfolgende Anforderungen im Hinblick auf die erwartete Ausführlichkeit der Beantwortung der Kriterien dargestellt.
A14: Kürzel | B14: Art und Bedeutung des Kriteriums
A15: D | B15: Detaillierte Antwort Die Ausführung der Antwort soll ausführlich und detailliert in einem der Fragestellung angemessenen Umfang erfolgen.
A16: K | B16: Kurze Antwort Die Ausführung der Antwort kann kurz und knapp erfolgen (ca. 1 bis 2 Sätze).
A17: E | B17: Entscheidungsantwort Die Antwort muss entweder „Ja“ oder „Nein“ lauten.
A19: Beispielabbildung eines Eingabebereichs: | D19: Für alle Felder gilt grundsätzlich: Bei der Eingabe von Werten werden nur Zahlen erwartet. Einheiten oder sonstige Ergänzungen, wie z.B. %-Zeichen, bitte nicht eingeben!
A20: Es folgt eine kurze Erläuterung zum Aufbau dieser Bewertungsmatrix, insbesondere der Spalten, die in den Tabellenblättern genutzt werden.
A22: Referenz | B22: Kriterium | C22: Kriterienklassifizierung | D22: Beantwortungsart
A23: Nummerierung zwecks Referenzierung | B23: Beschreibung des Bewertungs-Kriteriums | C23: siehe nachfolgende Erläuterungen
A24: Erläuterung zur Beantwortungstiefe
A25: Werden charakterisierende Zahlenwerte verwendet beziehen sich die Einheiten immer auf physikalische Größen (Auflösung 600ppi interpoliert ≠ 600ppi physikalische Auflösung),
A26: 1 GB(yte) = 1.024 MB(yte) = 1.048.576 kB(yte) = 1.073.741.824 B(yte)
A28: GP | B28: max. BP | C28: max. LP | D28: % Gesamt
A29: Gewichtungs-Punkte | B29: Bewertungs-Punkte | C29: maximale Anzahl der Leistungspunkte (LP = GP × BP) | D29: Prozentwert der Kriterienbewertung bezogen auf alle vergebenen Leistungspunkte
A30: Beantwortung durch den Bieter | C30: Unterkriterien der Vergabestelle
A31: Die Beantwortung erfolgt je nach der vorgesehenen Beantwortungsart durch Auswahl aus einem Dropdownfeld oder durch die Eingabe in dieses Feld | C31: In diesem Feld werden die maximal erreichbaren Bewertungspunkte aufgeschlüsselt. Beispiel: >= 1.024 MB = 10 Pkte.; < 1.024 MB = 5 Pkte.; 512 MB = 0 Pkte.
A33: Die Auswertung erfolgt nach der Angebotsöffnung anhand der erreichten Leistungspunkte.
A34: Leistungspunkte: Vergebene Bewertungspunkte multipliziert mit den Gewichtungspunkten.
A35: Bewertungspunkte: Spektrum: 0-10 Punkte; Die max. erreichbare Punktzahl für das Kriterium ist in der Spalte Unterkriterien der Vergabestelle festgelegt.
A36: Gewichtungspunkte: Spektrum 1-30. Sie spiegeln den Wert und die Bedeutung des jeweiligen B-Kriteriums wieder.
A52: Die Beanwortung der Fragen erfolgt in dieser Spalte.
A53: Die Kopfzeilen der Tabelle sind fixiert, so dass beim Durchscrollen der Fragen jederzeit die Überschriften zu sehen sind.
A54: Jedem Beantwortungsfeld ist ein Erläuterungshinweis zugewiesen. Der Hinweis wird angezeigt sobald das entsprechende Feld ausgewählt wird.

Sheet Generelle Fragen LK-unabhängig
A2: Fragen zu Software, die der allgemeinen Administration aller Geräte dienen
A4: Referenz | B4: Kriterium | C4: Kriterien-klassifi-zierung | D4: Beantwor-tungsart | E4: GP | F4: max. BP | G4: max. LP | H4: % Gesamt | I4: Beantwortung durch den Bieter | J4: AUSWERTUNG erreichte LP | K4: Unterkriterien der Vergabestelle
A5: S | B5: Software | H5: =H6 -> 100
A6: S.1 | B6: Externe Software | H6: =SUM(H7:H10) -> 100
A7: S.1.1 | B7: Bieten Sie kostenlose Software an, die aus abgefragten Gerätedaten folgende Informationen darstellt bzw. entsprechende Berichte erzeugen kann: - Hardware aus dem Rahmenvertrag, nach Gerätetyp - Je Gerät Auflistung der Optionen (Finisher, RAM, etc.) - Gerätenutzung für einen bestimmbaren Zeitraum - Anzahl der gedruckten Seiten nach Gerät, Geräteklasse - Fehlermeldungen nach Gerät und Monat. | C7: B | D7: E | E7: 10 | F7: 10 | G7: =IF(E7="","",E7*F7) -> 100 | H7: =IF(E7="","",100/$G$11*G7) -> 50 | I7: bitte wählen | J7: =IF(I7="ja",100,0) -> 0 | K7: Ja = 10 Pkte.; Nein = 0 Pkte.
A8: S.1.2 | B8: Benennen und Beschreiben Sie die Software der Referenz S.1.1 | C8: I | D8: D | G8: =IF(E8="","",E8*F8) | H8: =IF(E8="","",100/$G$98*G8) | I8: bitte wählen | K8: Die detaillierte Antwort im Vergabeportal zusätzlich zu den restlichen Unterlagen als Anlage beifügen. Bitte eindeutig referenzieren auf den Fragepunkt (hier S.1.2).
A9: S.1.3 | B9: Bieten Sie kostenlose Software zur Aufzeichnung und Auswertung von Betriebsunterbrechungen, Auslesen von Fehlerdateien sowie abrufbarer Fehlerhistorie an. | C9: B | D9: E | E9: 10 | F9: 10 | G9: =IF(E9="","",E9*F9) -> 100 | H9: =IF(E9="","",100/$G$11*G9) -> 50 | I9: bitte wählen | J9: =IF(I9="ja",100,0) -> 0 | K9: Ja = 10 Pkte.; Nein = 0 Pkte.
A10: S.1.4 | B10: Benennen und Beschreiben Sie die Software der Referenz S.1.3 | C10: I | D10: D | G10: =IF(E10="","",E10*F10) | H10: =IF(E10="","",100/$G$98*G10) | I10: bitte wählen | K10: Die detaillierte Antwort im Vergabeportal zusätzlich zu den restlichen Unterlagen als Anlage beifügen. Bitte eindeutig referenzieren auf den Fragepunkt (hier S.1.4).
B11: Summe der maximal erreichbaren Punkte | G11: =SUM(G7:G9) -> 200 | H11: =SUM(H7:H9) -> 100 | J11: =SUM(J7:J10) -> 0

Sheet Leistungsklasse 1
A2: Leistungsklasse 1
A3: DIN A4 Farb-Gerät min. 20 S./min
A5: Referenz | B5: Kriterium | C5: Kriterien-klassifi-zierung | D5: Beantwor-tungsart | E5: GP | F5: max. BP | G5: max. LP | H5: % Gesamt | I5: Beantwortung durch den Bieter | J5: AUSWERTUNG erreichte LP | K5: Unterkriterien der Vergabestelle
A6: 1 | B6: SYSTEM | H6: =H7+H18+H28+H25 -> 11.627907
A7: 1.1 | B7: Systemdaten | H7: =SUM(H8:H17) -> 7.5581395
A8: 1.1.1 | B8: Gerätebezeichnung und -typ | C8: I | D8: K | G8: =IF(E8="","",E8*F8) | H8: =IF(E8="","",100/$G$96*G8)
A9: 1.1.2 | B9: Abmessungen (Breite × Höhe × Tiefe) | C9: I | D9: K | G9: =IF(E9="","",E9*F9) | H9: =IF(E9="","",100/$G$96*G9)
A10: 1.1.3 | B10: Es handelt sich um ein Farbgerät | C10: A | D10: E | G10: =IF(E10="","",E10*F10) | H10: =IF(E10="","",100/$G$96*G10) | I10: bitte wählen
A11: 1.1.4 | B11: Gerät ist ausgelegt für Druckvolumen von min. 2.000 Seiten/Monat | C11: A | D11: E | G11: =IF(E11="","",E11*F11) | H11: =IF(E11="","",100/$G$96*G11) | I11: bitte wählen
A12: 1.1.5 | B12: Das Gerät verfügt über min. 512 MB RAM | C12: A | D12: E | G12: =IF(E12="","",E12*F12) | H12: =IF(E12="","",100/$G$96*G12) | I12: bitte wählen
A13: 1.1.6 | B13: Das Gerät verfügt über … MB RAM | C13: B | D13: K | E13: 5 | F13: 10 | G13: =IF(E13="","",E13*F13) -> 50 | H13: =IF(E13="","",100/$G$96*G13) -> 2.9069767 | J13: =IF(I13=512,0,IF(AND(I13<1024,I13>512),5*5,IF(I13>=1024,10*5,0))) -> 0 | K13: >= 1.024 MB = 10 Pkte.; < 1.024 MB = 5 Pkte.; 512 MB = 0 Pkte.
A14: 1.1.7 | B14: Das Gerät verfügt über ein internes Speichermedium | C14: B | D14: E | E14: 1 | F14: 10 | G14: =IF(E14="","",E14*F14) -> 10 | H14: =IF(E14="","",100/$G$96*G14) -> 0.58139535 | I14: bitte wählen | J14: =IF(I14="ja",10,0) -> 0 | K14: Ja = 10 Pkte.; Nein = 0 Pkte.
A15: 1.1.8 | B15: Das Gerät unterstützt SNMP V3 (Abfrage des Gerätestatus min. für folgende Parameter möglich: Tonerstatus, Papierstatus, anstehende Druckaufträge, alle Zählerstände). | C15: A | D15: E | G15: =IF(E15="","",E15*F15) | H15: =IF(E15="","",100/$G$96*G15) | I15: bitte wählen
A16: 1.1.9 | B16: Herstellerspezifische MIBs werden kostenfrei zur Verfügung gestellt. | C16: A | D16: E | G16: =IF(E16="","",E16*F16) | H16: =IF(E16="","",100/$G$96*G16) | I16: bitte wählen
A17: 1.1.10 | B17: Das Gerät kann RFID-Karten Mifare® DESFire sowie NFC (z.B. Smartphones) - bspw. über einen zusätzlich angeschlossenen Kartenleser - auslesen und zur Interaktion mit Papercut-MF genutzt werden. | C17: B | D17: E | E17: 7 | F17: 10 | G17: =IF(E17="","",E17*F17) -> 70 | H17: =IF(E17="","",100/$G$96*G17) -> 4.0697674 | I17: bitte wählen | J17: =IF(I17="ja",20,0) -> 0 | K17: Ja = 10 Pkte.; Nein = 0 Pkte.
A18: 1.2 | B18: Systemanschlüsse und –voraussetzungen | H18: =SUM(H19:H24) -> 3.4883721
A19: 1.2.1 | B19: Anschlusstechnik - min. 100BaseTX-Schnittstelle | C19: A | D19: E | G19: =IF(E19="","",E19*F19) | H19: =IF(E19="","",100/$G$96*G19) | I19: bitte wählen
A20: 1.2.2 | B20: Anschlusstechnik - 100/1000BaseTX-Schnittstelle | C20: B | D20: E | E20: 3 | F20: 10 | G20: =IF(E20="","",E20*F20) -> 30 | H20: =IF(E20="","",100/$G$96*G20) -> 1.744186 | I20: bitte wählen | J20: =IF(I20="ja",30,0) -> 0 | K20: Ja = 10 Pkte.; Nein = 0 Pkte.
A21: 1.2.3 | B21: Anschlusstechnik - USB 2-Schnittstelle | C21: A | D21: E | G21: =IF(E21="","",E21*F21) | H21: =IF(E21="","",100/$G$96*G21) | I21: bitte wählen
A22: 1.2.4 | B22: Anschlusstechnik - USB 3-Schnittstelle | C22: B | D22: E | E22: 3 | F22: 10 | G22: =IF(E22="","",E22*F22) -> 30 | H22: =IF(E22="","",100/$G$96*G22) -> 1.744186 | I22: bitte wählen | J22: =IF(I22="ja",30,0) -> 0 | K22: Ja = 10 Pkte.; Nein = 0 Pkte.
A23: 1.2.5 | B23: Das Gerät unterstützt 802.1x (Authentifizierung) | C23: A | D23: E | G23: =IF(E23="","",E23*F23) | H23: =IF(E23="","",100/$G$96*G23) | I23: bitte wählen
A24: 1.2.6 | B24: Das Gerät unterstützt IPsec | C24: A | D24: E | G24: =IF(E24="","",E24*F24) | H24: =IF(E24="","",100/$G$96*G24) | I24: bitte wählen
A25: 1.3 | B25: Normen | H25: 0
A26: 1.3.1 | B26: Gerät verfügt über gültige CE-Zertifizierung. Der Auftragnehmer hat auf Anfrage des Auftraggebers eine EU-Konformitätserklärung zur Verfügung zu stellen. Diese hat die Bestätigung über die Konformität des Produktes zu den anwendbaren Anforderungen und Schutzzielen der EU-Richtlinien zu beinhalten. | C26: A | D26: E | G26: =IF(E26="","",E26*F26) | H26: =IF(E26="","",100/$G$96*G26) | I26: bitte wählen
A27: 1.3.2 | B27: Die Anforderungen an die Aussendung elektrischer und magnetischer Felder müssen in Übereinstimmung mit der CE-Kennzeichnung erfüllt sein. (Störaussendung nach DIN EN 550022, Störfestigkeit nach DIN EN 55024) | C27: A | D27: E | G27: =IF(E27="","",E27*F27) | H27: =IF(E27="","",100/$G$96*G27) | I27: bitte wählen
A28: 1.4 | B28: Ergänzungen | H28: =SUM(H29:H29) -> 0.58139535
A29: 1.4.1 | B29: Unterschrank ist erhältlich | C29: B | D29: E | E29: 1 | F29: 10 | G29: =IF(E29="","",E29*F29) -> 10 | H29: =IF(E29="","",100/$G$96*G29) -> 0.58139535 | I29: bitte wählen | J29: =IF(I29="ja",10,0) -> 0 | K29: Ja = 10 Pkte.; Nein = 0 Pkte.
A30: 2 | B30: MEDIENVERARBEITUNG | H30: =H31+H41+H49 -> 30.232558
A31: 2.1 | B31: Drucken | H31: =SUM(H32:H40) -> 23.837209
A32: 2.1.1 | B32: Druckgeschwindigkeit von min. 20 Seiten/Minute Farbe (DIN A4) | C32: A | D32: E | G32: =IF(E32="","",E32*F32) | H32: =IF(E32="","",100/$G$96*G32) | I32: bitte wählen
A33: 2.1.2 | B33: Gerät unterstützt PCL 6 | C33: A | D33: E | G33: =IF(E33="","",E33*F33) | H33: =IF(E33="","",100/$G$96*G33) | I33: bitte wählen
A34: 2.1.3 | B34: Gerät unterstützt PS Level 3 | C34: A | D34: E | G34: =IF(E34="","",E34*F34) | H34: =IF(E34="","",100/$G$96*G34) | I34: bitte wählen
A35: 2.1.4 | B35: Bei Pos. 2.1.3 handelt es sich um ein lizensiertes Original PostScript-Modul | C35: B | D35: E | E35: 20 | F35: 10 | G35: =IF(E35="","",E35*F35) -> 200 | H35: =IF(E35="","",100/$G$96*G35) -> 11.627907 | I35: bitte wählen | J35: =IF(I35="ja",200,0) -> 0 | K35: Ja = 10 Pkte.; Nein = 0 Pkte.
A36: 2.1.5 | B36: Das Gerät unterstützt beidseitigen Druck (min. 80 g/m²) | C36: A | D36: E | G36: =IF(E36="","",E36*F36) | H36: =IF(E36="","",100/$G$96*G36) | I36: bitte wählen
A37: 2.1.6 | B37: Das Gerät unterstützt im beidseitigen Druck Grammaturen bis zu … g/m² | C37: B | D37: K | E37: 10 | F37: 10 | G37: =IF(E37="","",E37*F37) -> 100 | H37: =IF(E37="","",100/$G$96*G37) -> 5.8139535 | J37: =IF(I37>=160,100,IF(AND(I37<160,I37>=120),50,IF(AND(I37<120,I37>=100),20,0))) -> 0 | K37: >=160 g/m² = 10 Pkte.; >=120 g/m² = 5 Pkte.; >=100 g/m² = 2 Pkte.; <100 g/m² = 0 Pkte.
A38: 2.1.7 | B38: Die Druckgeschwindigkeit des Gerätes im beidseitigen Druck beträgt …% der nominellen Druckgeschwindigkeit | C38: B | D38: K | E38: 1 | F38: 10 | G38: =IF(E38="","",E38*F38) -> 10 | H38: =IF(E38="","",100/$G$96*G38) -> 0.58139535 | J38: =IF(I38=100,10,IF(I38>=60,5,0)) -> 0 | K38: 100% = 10 Pkte.; >=60% = 5 Pkte.; <60% = 0 Pkte.
A39: 2.1.8 | B39: Das Gerät verfügt über eine Funktion - "sicherer Druck" (Zertifizierung gemäß ISO/IEC 15408 EAL3) | C39: B | D39: E | E39: 10 | F39: 10 | G39: =IF(E39="","",E39*F39) -> 100 | H39: =IF(E39="","",100/$G$96*G39) -> 5.8139535 | I39: bitte wählen | J39: =IF(I39="ja",100,0) -> 0 | K39: Ja = 10 Pkte.; Nein = 0 Pkte.
A40: 2.1.9 | B40: Die Ausdrucke des Geräts sind dokumentenecht nach §29 der Dienstordnung für Notare (DONot) | C40: A | D40: E | G40: =IF(E40="","",E40*F40) | H40: =IF(E40="","",100/$G$96*G40) | I40: bitte wählen
A41: 2.2 | B41: Input Papierverarbeitung / -Management | H41: =SUM(H42:H48) -> 5.8139535
A42: 2.2.1 | B42: Das Gerät verfügt über mindestens zwei Papierkassetten, mit min. 200 Blatt à 80 g/m² Papier | C42: A | D42: E | G42: =IF(E42="","",E42*F42) | H42: =IF(E42="","",100/$G$96*G42) | I42: bitte wählen
...

Sheet Leistungsklasse 2
A2: Leistungsklasse 2
A3: DIN A3 Farb-Gerät min. 30 S./min
A5: Referenz | B5: Kriterium | C5: Kriterien-klassifi-zierung | D5: Beantwor-tungsart | E5: GP | F5: max. BP | G5: max. LP | H5: % Gesamt | I5: Beantwortung durch den Bieter | J5: AUSWERTUNG erreichte LP | K5: Unterkriterien der Vergabestelle
A6: 1 | B6: SYSTEM | H6: =H7+H19+H29+H26 -> 7.8431373
A7: 1.1 | B7: Systemdaten | H7: =SUM(H8:H18) -> 3.9215686
A8: 1.1.1 | B8: Gerätebezeichnung und -typ | C8: I | D8: K | G8: =IF(E8="","",E8*F8) | H8: =IF(E8="","",100/$G$106*G8)
A9: 1.1.2 | B9: Abmessungen (Breite × Höhe × Tiefe) | C9: I | D9: K | G9: =IF(E9="","",E9*F9) | H9: =IF(E9="","",100/$G$106*G9)
A10: 1.1.3 | B10: Es handelt sich um ein Farbgerät | C10: A | D10: E | G10: =IF(E10="","",E10*F10) | H10: =IF(E10="","",100/$G$106*G10) | I10: bitte wählen
A11: 1.1.4 | B11: Gerät ist ausgelegt für Druckvolumen von min. 10.000 Seiten/Monat | C11: A | D11: E | G11: =IF(E11="","",E11*F11) | H11: =IF(E11="","",100/$G$106*G11) | I11: bitte wählen
A12: 1.1.5 | B12: Das Gerät kann DIN A3-Formate verarbeiten | C12: A | D12: E | G12: =IF(E12="","",E12*F12) | H12: =IF(E12="","",100/$G$106*G12) | I12: bitte wählen
A13: 1.1.6 | B13: Das Gerät verfügt über min. 2048 MB RAM | C13: A | D13: E | G13: =IF(E13="","",E13*F13) | H13: =IF(E13="","",100/$G$106*G13) | I13: bitte wählen
A14: 1.1.7 | B14: Das Gerät verfügt über … MB RAM | C14: B | D14: K | E14: 5 | F14: 10 | G14: =IF(E14="","",E14*F14) -> 50 | H14: =IF(E14="","",100/$G$106*G14) -> 3.2679739 | J14: =IF(I14=512,0,IF(AND(I14<1024,I14>512),5*5,IF(I14>=1024,10*5,0))) -> 0 | K14: >= 4096 MB = 10 Pkte.; < 4096 MB = 5 Pkte.; 2048 MB = 0 Pkte.
A15: 1.1.8 | B15: Das Gerät verfügt über ein internes Speichermedium | C15: B | D15: E | E15: 1 | F15: 10 | G15: =IF(E15="","",E15*F15) -> 10 | H15: =IF(E15="","",100/$G$106*G15) -> 0.65359477 | I15: bitte wählen | J15: =IF(I15="ja",10,0) -> 0 | K15: Ja = 10 Pkte.; Nein = 0 Pkte.
A16: 1.1.9 | B16: Das Gerät unterstützt SNMP V3 (Abfrage des Gerätestatus min. für folgende Parameter möglich: Tonerstatus, Papierstatus, anstehende Druckaufträge, alle Zählerstände). | C16: A | D16: E | G16: =IF(E16="","",E16*F16) | H16: =IF(E16="","",100/$G$106*G16) | I16: bitte wählen
A17: 1.1.10 | B17: Herstellerspezifische MIBs werden kostenfrei zur Verfügung gestellt. | C17: A | D17: E | G17: =IF(E17="","",E17*F17) | H17: =IF(E17="","",100/$G$106*G17) | I17: bitte wählen
A18: 1.1.11 | B18: Das Gerät kann RFID-Karten Mifare® DESFire sowie NFC (z.B. Smartphones) - bspw. über einen zusätzlich angeschlossenen Kartenleser - auslesen und zur Interaktion mit Papercut-MF nutzen. | C18: A | D18: E | I18: bitte wählen | J18: =IF(I18="ja",20,0) -> 0
A19: 1.2 | B19: Systemanschlüsse und –voraussetzungen | H19: =SUM(H20:H25) -> 3.9215686
A20: 1.2.1 | B20: Anschlusstechnik - min. 100BaseTX-Schnittstelle | C20: A | D20: E | G20: =IF(E20="","",E20*F20) | H20: =IF(E20="","",100/$G$106*G20) | I20: bitte wählen
A21: 1.2.2 | B21: Anschlusstechnik - 100/1000BaseTX-Schnittstelle | C21: B | D21: E | E21: 3 | F21: 10 | G21: =IF(E21="","",E21*F21) -> 30 | H21: =IF(E21="","",100/$G$106*G21) -> 1.9607843 | I21: bitte wählen | J21: =IF(I21="ja",30,0) -> 0 | K21: Ja = 10 Pkte.; Nein = 0 Pkte.
A22: 1.2.3 | B22: Anschlusstechnik - USB 2-Schnittstelle | C22: A | D22: E | G22: =IF(E22="","",E22*F22) | H22: =IF(E22="","",100/$G$106*G22) | I22: bitte wählen
A23: 1.2.4 | B23: Anschlusstechnik - USB 3-Schnittstelle | C23: B | D23: E | E23: 3 | F23: 10 | G23: =IF(E23="","",E23*F23) -> 30 | H23: =IF(E23="","",100/$G$106*G23) -> 1.9607843 | I23: bitte wählen | J23: =IF(I23="ja",30,0) -> 0 | K23: Ja = 10 Pkte.; Nein = 0 Pkte.
A24: 1.2.5 | B24: Das Gerät unterstützt 802.1x (Authentifizierung) | C24: A | D24: E | G24: =IF(E24="","",E24*F24) | H24: =IF(E24="","",100/$G$106*G24) | I24: bitte wählen
A25: 1.2.6 | B25: Das Gerät unterstützt IPsec | C25: A | D25: E | G25: =IF(E25="","",E25*F25) | H25: =IF(E25="","",100/$G$106*G25) | I25: bitte wählen
A26: 1.3 | B26: Normen | H26: 0
A27: 1.3.1 | B27: Gerät verfügt über gültige CE-Zertifizierung. Der Auftragnehmer hat auf Anfrage des Auftraggebers eine EU-Konformitätserklärung zur Verfügung zu stellen. Diese hat die Bestätigung über die Konformität des Produktes zu den anwendbaren Anforderungen und Schutzzielen der EU-Richtlinien zu beinhalten. | C27: A | D27: E | G27: =IF(E27="","",E27*F27) | H27: =IF(E27="","",100/$G$106*G27) | I27: bitte wählen
A28: 1.3.2 | B28: Die Anforderungen an die Aussendung elektrischer und magnetischer Felder müssen in Übereinstimmung mit der CE-Kennzeichnung erfüllt sein. (Störaussendung nach DIN EN 550022, Störfestigkeit nach DIN EN 55024) | C28: A | D28: E | G28: =IF(E28="","",E28*F28) | H28: =IF(E28="","",100/$G$106*G28) | I28: bitte wählen
A29: 1.4 | B29: Ergänzungen / Zubehör | H29: =SUM(H30:H30) -> 0
A30: 1.4.1 | B30: Unterschrank mit Rollen ist erhältlich | C30: A | D30: E | G30: =IF(E30="","",E30*F30) | H30: =IF(E30="","",100/$G$106*G30) | I30: bitte wählen
A31: 2 | B31: MEDIENVERARBEITUNG | H31: =H32+H41+H51 -> 26.797386
A32: 2.1 | B32: Drucken | H32: =SUM(H33:H40) -> 20.261438
A33: 2.1.1 | B33: Druckgeschwindigkeit von min. 30 Seiten/Minute Farbe (DIN A4) | C33: A | D33: E | G33: =IF(E33="","",E33*F33) | H33: =IF(E33="","",100/$G$106*G33) | I33: bitte wählen
A34: 2.1.2 | B34: Gerät unterstützt PCL 6 | C34: A | D34: E | G34: =IF(E34="","",E34*F34) | H34: =IF(E34="","",100/$G$106*G34) | I34: bitte wählen
A35: 2.1.3 | B35: Gerät unterstützt PS Level 3 | C35: A | D35: E | G35: =IF(E35="","",E35*F35) | H35: =IF(E35="","",100/$G$106*G35) | I35: bitte wählen
A36: 2.1.4 | B36: Bei Pos. 2.1.3 handelt es sich um ein lizensiertes Original PostScript-Modul | C36: B | D36: E | E36: 20 | F36: 10 | G36: =IF(E36="","",E36*F36) -> 200 | H36: =IF(E36="","",100/$G$106*G36) -> 13.071895 | I36: bitte wählen | J36: =IF(I36="ja",200,0) -> 0 | K36: Ja = 10 Pkte.; Nein = 0 Pkte.
A37: 2.1.5 | B37: Das Gerät unterstützt beidseitigen Druck (min. 80 g/m²) | C37: A | D37: E | G37: =IF(E37="","",E37*F37) | H37: =IF(E37="","",100/$G$106*G37) | I37: bitte wählen
A38: 2.1.6 | B38: Das Gerät unterstützt im beidseitigen Druck Grammaturen bis zu … g/m² | C38: B | D38: K | E38: 10 | F38: 10 | G38: =IF(E38="","",E38*F38) -> 100 | H38: =IF(E38="","",100/$G$106*G38) -> 6.5359477 | J38: =IF(I38>=160,100,IF(I38>=120,50,IF(I38>=100,20,0))) -> 0 | K38: >=160 g/m² = 10 Pkte.; >=120 g/m² = 5 Pkte.; >=100 g/m² = 2 Pkte.; <100 g/m² = 0 Pkte.
A39: 2.1.7 | B39: Die Druckgeschwindigkeit des Gerätes im beidseitigen Druck beträgt …% der nominellen Druckgeschwindigkeit | C39: B | D39: E | E39: 1 | F39: 10 | G39: =IF(E39="","",E39*F39) -> 10 | H39: =IF(E39="","",100/$G$106*G39) -> 0.65359477 | J39: =IF(I39=100,10,IF(I39>=60,5,0)) -> 0 | K39: 100% = 10 Pkte.; >=60% = 5 Pkte.; <60% = 0 Pkte.
A40: 2.1.8 | B40: Die Ausdrucke des Geräts sind dokumentenecht nach §29 der Dienstordnung für Notare (DONot) | C40: A | D40: E | G40: =IF(E40="","",E40*F40) | H40: =IF(E40="","",100/$G$106*G40) | I40: bitte wählen
A41: 2.2 | B41: Input Papierverarbeitung / -Management | H41: =SUM(H42:H50) -> 3.9215686
A42: 2.2.1 | B42: Das Gerät verfügt über mindestens zwei Papierkassetten, mit min. 500 Blatt à 80 g/m² Papier | C42: A | D42: E | I42: bitte wählen
...

Sheet Leistungsklasse 3
A2: Leistungsklasse 3
A3: DIN A3 Farb-Gerät min. 45 S./min
A5: Referenz | B5: Kriterium | C5: Kriterien-klassifi-zierung | D5: Beantwor-tungsart | E5: GP | F5: max. BP | G5: max. LP | H5: % Gesamt | I5: Beantwortung durch den Bieter | J5: AUSWERTUNG erreichte LP | K5: Unterkriterien der Vergabestelle
A6: 1 | B6: SYSTEM | H6: =H7+H19+H29 -> 10.967742
A7: 1.1 | B7: Systemdaten | H7: =SUM(H8:H18) -> 3.8709677
A8: 1.1.1 | B8: Gerätebezeichnung und -typ | C8: I | D8: K | G8: =IF(E8="","",E8*F8) | H8: =IF(E8="","",100/$G$108*G8)
A9: 1.1.2 | B9: Abmessungen (Breite × Höhe × Tiefe) | C9: I | D9: K | G9: =IF(E9="","",E9*F9) | H9: =IF(E9="","",100/$G$108*G9)
A10: 1.1.3 | B10: Es handelt sich um ein Farbgerät | C10: A | D10: E | G10: =IF(E10="","",E10*F10) | H10: =IF(E10="","",100/$G$108*G10) | I10: bitte wählen
A11: 1.1.4 | B11: Gerät ist ausgelegt für Druckvolumen von min. 35.000 Seiten/Monat | C11: A | D11: E | G11: =IF(E11="","",E11*F11) | H11: =IF(E11="","",100/$G$108*G11) | I11: bitte wählen
A12: 1.1.5 | B12: Das Gerät kann DIN A3-Formate verarbeiten | C12: A | D12: E | G12: =IF(E12="","",E12*F12) | H12: =IF(E12="","",100/$G$108*G12) | I12: bitte wählen
A13: 1.1.6 | B13: Das Gerät verfügt über min. 2048 MB RAM | C13: A | D13: E | G13: =IF(E13="","",E13*F13) | H13: =IF(E13="","",100/$G$108*G13) | I13: bitte wählen
A14: 1.1.7 | B14: Das Gerät verfügt über … MB RAM | C14: B | D14: K | E14: 5 | F14: 10 | G14: =IF(E14="","",E14*F14) -> 50 | H14: =IF(E14="","",100/$G$108*G14) -> 3.2258065 | J14: =IF(I14=512,0,IF(AND(I14<1024,I14>512),5*5,IF(I14>=1024,10*5,0))) -> 0 | K14: >= 4096 MB = 10 Pkte.; < 4096 MB = 5 Pkte.; 2048 MB = 0 Pkte.
A15: 1.1.8 | B15: Das Gerät verfügt über ein internes Speichermedium | C15: B | D15: E | E15: 1 | F15: 10 | G15: =IF(E15="","",E15*F15) -> 10 | H15: =IF(E15="","",100/$G$108*G15) -> 0.64516129 | I15: bitte wählen | J15: =IF(I15="ja",10,0) -> 0 | K15: Ja = 10 Pkte.; Nein = 0 Pkte.
A16: 1.1.9 | B16: Das Gerät unterstützt SNMP V3 (Abfrage des Gerätestatus min. für folgende Parameter möglich: Tonerstatus, Papierstatus, anstehende Druckaufträge, alle Zählerstände). | C16: A | D16: E | G16: =IF(E16="","",E16*F16) | H16: =IF(E16="","",100/$G$108*G16) | I16: bitte wählen
A17: 1.1.10 | B17: Herstellerspezifische MIBs werden kostenfrei zur Verfügung gestellt. | C17: A | D17: E | G17: =IF(E17="","",E17*F17) | H17: =IF(E17="","",100/$G$108*G17) | I17: bitte wählen
A18: 1.1.11 | B18: Das Gerät kann RFID-Karten Mifare® DESFire sowie NFC (z.B. Smartphones) - bspw. über einen zusätzlich angeschlossenen Kartenleser - auslesen und zur Interaktion mit Papercut-MF nutzen. | C18: A | D18: E | G18: =IF(E18="","",E18*F18) | H18: =IF(E18="","",100/$G$108*G18) | I18: bitte wählen | J18: =IF(I18="ja",20,0) -> 0
A19: 1.2 | B19: Systemanschlüsse und –voraussetzungen | H19: =SUM(H20:H25) -> 3.8709677
A20: 1.2.1 | B20: Anschlusstechnik - min. 100BaseTX-Schnittstelle | C20: A | D20: E | G20: =IF(E20="","",E20*F20) | H20: =IF(E20="","",100/$G$108*G20) | I20: bitte wählen
A21: 1.2.2 | B21: Anschlusstechnik - 100/1000BaseTX-Schnittstelle | C21: B | D21: E | E21: 3 | F21: 10 | G21: =IF(E21="","",E21*F21) -> 30 | H21: =IF(E21="","",100/$G$108*G21) -> 1.9354839 | I21: bitte wählen | J21: =IF(I21="ja",30,0) -> 0 | K21: Ja = 10 Pkte.; Nein = 0 Pkte.
A22: 1.2.3 | B22: Anschlusstechnik - USB 2-Schnittstelle | C22: A | D22: E | G22: =IF(E22="","",E22*F22) | H22: =IF(E22="","",100/$G$108*G22) | I22: bitte wählen
A23: 1.2.4 | B23: Anschlusstechnik - USB 3-Schnittstelle | C23: B | D23: E | E23: 3 | F23: 10 | G23: =IF(E23="","",E23*F23) -> 30 | H23: =IF(E23="","",100/$G$108*G23) -> 1.9354839 | I23: bitte wählen | J23: =IF(I23="ja",30,0) -> 0 | K23: Ja = 10 Pkte.; Nein = 0 Pkte.
A24: 1.2.5 | B24: Das Gerät unterstützt 802.1x (Authentifizierung) | C24: A | D24: E | G24: =IF(E24="","",E24*F24) | H24: =IF(E24="","",100/$G$108*G24) | I24: bitte wählen
A25: 1.2.6 | B25: Das Gerät unterstützt IPsec | C25: A | D25: E | G25: =IF(E25="","",E25*F25) | H25: =IF(E25="","",100/$G$108*G25) | I25: bitte wählen
A26: 1.3 | B26: Normen | H26: 0
A27: 1.3.1 | B27: Gerät verfügt über gültige CE-Zertifizierung. Der Auftragnehmer hat auf Anfrage des Auftraggebers eine EU-Konformitätserklärung zur Verfügung zu stellen. Diese hat die Bestätigung über die Konformität des Produktes zu den anwendbaren Anforderungen und Schutzzielen der EU-Richtlinien zu beinhalten. | C27: A | D27: E | G27: =IF(E27="","",E27*F27) | H27: =IF(E27="","",100/$G$108*G27) | I27: bitte wählen
A28: 1.3.2 | B28: Die Anforderungen an die Aussendung elektrischer und magnetischer Felder müssen in Übereinstimmung mit der CE-Kennzeichnung erfüllt sein. (Störaussendung nach DIN EN 550022, Störfestigkeit nach DIN EN 55024) | C28: A | D28: E | G28: =IF(E28="","",E28*F28) | H28: =IF(E28="","",100/$G$108*G28) | I28: bitte wählen
A29: 1.4 | B29: Ergänzungen | H29: =SUM(H30:H31) -> 3.2258065
A30: 1.4.1 | B30: Unterschrank mit Rollen ist erhältlich | C30: A | D30: E | G30: =IF(E30="","",E30*F30) | H30: =IF(E30="","",100/$G$108*G30) | I30: bitte wählen
A31: 1.4.2 | B31: Eine Versatzablage ist integriert oder als Zubehörteil erhältlich | C31: B | D31: E | E31: 5 | F31: 10 | G31: =IF(E31="","",E31*F31) -> 50 | H31: =IF(E31="","",100/$G$108*G31) -> 3.2258065 | I31: bitte wählen | K31: Ja = 10 Pkte.; Nein = 0 Pkte.
A32: 2 | B32: MEDIENVERARBEITUNG | H32: =H33+H42+H53 -> 24.516129
A33: 2.1 | B33: Drucken | H33: =SUM(H34:H41) -> 20
A34: 2.1.1 | B34: Druckgeschwindigkeit von min. 45 Seiten/Minute Farbe (DIN A4) | C34: A | D34: E | G34: =IF(E34="","",E34*F34) | H34: =IF(E34="","",100/$G$108*G34) | I34: bitte wählen
A35: 2.1.2 | B35: Gerät unterstützt PCL 6 | C35: A | D35: E | G35: =IF(E35="","",E35*F35) | H35: =IF(E35="","",100/$G$108*G35) | I35: bitte wählen
A36: 2.1.3 | B36: Gerät unterstützt PS Level 3 | C36: A | D36: E | G36: =IF(E36="","",E36*F36) | H36: =IF(E36="","",100/$G$108*G36) | I36: bitte wählen
A37: 2.1.4 | B37: Bei Pos. 2.1.3 handelt es sich um ein lizensiertes Original PostScript-Modul | C37: B | D37: E | E37: 20 | F37: 10 | G37: =IF(E37="","",E37*F37) -> 200 | H37: =IF(E37="","",100/$G$108*G37) -> 12.903226 | I37: bitte wählen | J37: =IF(I37="ja",200,0) -> 0 | K37: Ja = 10 Pkte.; Nein = 0 Pkte.
A38: 2.1.5 | B38: Das Gerät unterstützt beidseitigen Druck (min. 80 g/m²) | C38: A | D38: E | G38: =IF(E38="","",E38*F38) | H38: =IF(E38="","",100/$G$108*G38) | I38: bitte wählen
A39: 2.1.6 | B39: Das Gerät unterstützt im beidseitigen Druck Grammaturen bis zu … g/m² | C39: B | D39: K | E39: 10 | F39: 10 | G39: =IF(E39="","",E39*F39) -> 100 | H39: =IF(E39="","",100/$G$108*G39) -> 6.4516129 | J39: =IF(I39>=160,100,IF(I39>=120,50,IF(I39>=100,20,0))) -> 0 | K39: >=160 g/m² = 10 Pkte.; >=120 g/m² = 5 Pkte.; >=100 g/m² = 2 Pkte.; <100 g/m² = 0 Pkte.
A40: 2.1.7 | B40: Die Druckgeschwindigkeit des Gerätes im beidseitigen Druck beträgt …% der nominellen Druckgeschwindigkeit | C40: B | D40: E | E40: 1 | F40: 10 | G40: =IF(E40="","",E40*F40) -> 10 | H40: =IF(E40="","",100/$G$108*G40) -> 0.64516129 | J40: =IF(I40=100,10,IF(I40>=60,5,0)) -> 0 | K40: 100% = 10 Pkte.; >=60% = 5 Pkte.; <60% = 0 Pkte.
A41: 2.1.8 | B41: Die Ausdrucke des Geräts sind dokumentenecht nach §29 der Dienstordnung für Notare (DONot) | C41: A | D41: E | G41: =IF(E41="","",E41*F41) | H41: =IF(E41="","",100/$G$108*G41) | I41: bitte wählen
A42: 2.2 | B42: Input Papierverarbeitung / -Management | H42: =SUM(H43:H52) -> 1.9354839
...

Sheet Auswertung
A1: Auswertung
A3: Bewertungsgegenstand | B3: erreichte Punktzahl | C3: max. erreichtbare Punktzahl
A4: Generelle Fragen | B4: ='Generelle Fragen LK-unabhängig'!J11 -> 0 | C4: ='Generelle Fragen LK-unabhängig'!G11 -> 200
A5: =#REF! -> #REF! | B5: =#REF! -> #REF! | C5: =#REF! -> #REF!
A6: =#REF! -> #REF! | B6: =#REF! -> #REF! | C6: =#REF! -> #REF!
A7: =#REF! -> #REF! | B7: =#REF! -> #REF! | C7: =#REF! -> #REF!
A8: ='Leistungsklasse 1'!A2 -> Leistungsklasse 1 | B8: ='Leistungsklasse 1'!J96 -> 0 | C8: ='Leistungsklasse 1'!G96 -> 1720
A9: =#REF! -> #REF! | B9: =#REF! -> #REF! | C9: =#REF! -> #REF!
A10: ='Leistungsklasse 2'!A2 -> Leistungsklasse 2 | B10: ='Leistungsklasse 2'!J106 -> 0 | C10: ='Leistungsklasse 2'!G106 -> 1530
A11: =#REF! -> #REF! | B11: =#REF! -> #REF! | C11: =#REF! -> #REF!
A12: ='Leistungsklasse 3'!A2 -> Leistungsklasse 3 | B12: ='Leistungsklasse 3'!J108 -> 0 | C12: ='Leistungsklasse 3'!G108 -> 1550
A13: Leistungszahl LGesamt | B13: =SUM(B5:B12) -> #REF! | C13: =SUM(C5:C12) -> #REF!

Sheet Hilfsabellen
B2: Auswertung | D2: Auflösung | F2: Blattanzahl | H2: Speicherausbau | J2: Duplexgrammatur
B3: bitte wählen | D3: 600 dpi | F3: 50 Blatt | H3: 512 MB | J3: >= 160 g/m²
B4: ja | D4: > 600 dpi | F4: > 50 Blatt | H4: < 1.024 MB | J4: >= 120 g/m²
B5: nein | D5: >= 1.200 dpi | F5: >75 Blatt | H5: >= 1.024 MB | J5: < 100 g/m²
F6: >100 Blatt
B8: Dateiformat | D8: Druckvolumen
B9: bitte wählen | D9: Gerät ist ausgelegt für Druckvolumen von min. 2.500 Seiten/Monat
B10: PDF | D10: Gerät ist ausgelegt für Druckvolumen von min. 10.000 Seiten/Monat
B11: ZIP | D11: Gerät ist ausgelegt für Druckvolumen von min. 35.000 Seiten/Monat
B13: Scan-Technologie | D13: Druckgeschw. | J13: Kopiergeschw.
B14: bitte wählen | D14: Druckgeschwindigkeit von min. 20 Seiten/Minute s/w (DIN A4) | J14: Kopiergeschwindigkeit von min. 20 Seiten/Minute s/w (DIN A4)
B15: CCD | D15: Druckgeschwindigkeit von min. 40 Seiten/Minute s/w (DIN A4) | J15: Kopiergeschwindigkeit von min. 40 Seiten/Minute s/w (DIN A4)
B16: CIS
B21: TEC-Wert | D21: MFG | F21: Papierformate
B22: bitte wählen | D22: JA | F22: Zu verarbeitende Papierformate: DIN A4 und DIN A5
B23: 2.0 | D23: NEIN | F23: Zu verarbeitende Papierformate: DIN A3, DIN A4 und DIN A5
B24: 3.0
