Workbook

Sheet Wertungsmatrix Bewegungsbad
A1: Wertungsmatrix Bewegungsbad
A5: Die Wertung der Angebote erfolgt nach Bestangebots-Quotienten-Methode: Der sich aus den Preisblättern ergebende jährliche Gesamtbruttopreis wird mit 70 % gewichtet. Die Qualität des Angebotes fließt mit 30 % in die Wertung ein. Dabei wird die sich aus der Bewertung der Leistungskriterien ergebende Punktzahl berücksichtigt. Der Angebotspreis wird relativ gewichtet in die Wertung einbezogen: Er wird in das Verhältnis zum niedrigsten Angebotspreis gesetzt. Ebenso wird das Angebot ins Verhältnis zu der Qualität der anderen Angebote durch Berücksichtigung der besten vorhandenen Leistungspunktzahl gesetzt. Es resultiert eine Wertungskennzahl. Das Angebot mit der höchsten Wertungskennzahl erhält den Zuschlag. Die Berechnung der Wertungskennzahl erfolgt wie folgt:
A12: Wertungszahl = 30 % ∗ ((Leistungspunktzahl des Angebots) / (beste vorhandene Leistungspunktzahl)) + 70 % ∗ ((niedrigster Angebotspreis) / (Preis des Angebots))
A17: ZUSCHLAGSKRITERIEN UND GEWICHTUNG
A18: Punkt | B18: Kriterium | C18: Definition / Bewertungsmaßstab | D18: Anteil Gesamtwertung | E18: Anteil innerhalb Leistung | F18: Max. Punkte | G18: Gewichtungspunkte | H18: Gesamtpunkte
A19: 1 | B19: Preis | C19: Jährlicher Gesamtbruttopreis gemäß Preisblättern | D19: 0.7
A20: 2 | B20: Leistung | C20: Qualität des Angebotes | D20: 0.3 | E20: 1 | H20: =SUM(H21:H22) -> 75
A21: 2.1 | B21: Bauzeit | C21: schnellere Fertigstellung als der festgesetzte Termin am 31.12.2028 | D21: =$D$20*E21 -> 0.21 | E21: =70% -> 0.7 | F21: 5 | G21: 10.5 | H21: =F21*G21 -> 52.5
A22: 2.2 | B22: Qualifikation der Bau- oder Projektleitung | C22: Berufserfahrung der Bau- oder Projektleitung in Jahren | D22: =$D$20*E22 -> 0.09 | E22: =1-E21 -> 0.3 | F22: 5 | G22: 4.5 | H22: =F22*G22 -> 22.5
A24: Kontrolle Gesamtgewichtung | D24: =D19+D20 -> 1
A25: Kontrolle der Anteile innerhalb der Leistung | E25: =SUM(E21:E22) -> 1

Sheet Bewertungsskala Zuschlagskrit.
A1: Bewertungsskala Zuschlagskriterien
A5: Die Wertung der Angebote erfolgt nach Bestangebots-Quotienten-Methode: Der sich aus den Preisblättern ergebende jährliche Gesamtbruttopreis wird mit 70 % gewichtet. Die Qualität des Angebotes fließt mit 30 % in die Wertung ein. Dabei wird die sich aus der Bewertung der Leistungskriterien ergebende Punktzahl berücksichtigt. Der Angebotspreis wird relativ gewichtet in die Wertung einbezogen: Er wird in das Verhältnis zum niedrigsten Angebotspreis gesetzt. Ebenso wird das Angebot ins Verhältnis zu der Qualität der anderen Angebote durch Berücksichtigung der besten vorhandenen Leistungspunktzahl gesetzt. Es resultiert eine Wertungskennzahl. Das Angebot mit der höchsten Wertungskennzahl erhält den Zuschlag. Die Berechnung der Wertungskennzahl erfolgt wie folgt:
A12: Wertungszahl = 30 % ∗ ((Leistungspunktzahl des Angebots) / (beste vorhandene Leistungspunktzahl)) + 70 % ∗ ((niedrigster Angebotspreis) / (Preis des Angebots))
A17: BEWERTUNGSSKALA DER ZUSCHLAGSKRITERIEN
A18: Punkt | B18: Kriterium | C18: Definition / Bewertungsmaßstab | D18: Bewertungsart | E18: Punktzahl | F18: Beschreibung der Bewertung | G18: Anteil innerhalb Leistung
A19: 1 | B19: Preis | C19: Jährlicher Gesamtbruttopreis gemäß Preisblättern | D19: Bestangebots-Quotient
A20: 2 | B20: Leistung | C20: Qualität des Angebotes aus den Kriterien 2.1 und 2.2 | D20: Gesamtbewertung | G20: 1
A21: 2.1 | B21: Bauzeit | C21: schnellere Fertigstellung als der festgesetzte Termin am 31.12.2028 | D21: Punktebewertung | G21: =70% -> 0.7
C22: bis zum festgesetzten termin am 31.12.2028 | E22: 0
C23: 1 Monat schneller | E23: 1
C24: 2 Monate schneller | E24: 2
C25: 3 Monate schneller | E25: 3
C26: 4 Monate schneller | E26: 4
C27: 5 Monate schneller | E27: 5
A28: 2.2 | B28: Qualifikation der Bau- oder Projektleitung | C28: Berufserfahrung der Bau- oder Projektleitung in Jahren | D28: Punktebewertung | G28: =1-G21 -> 0.3
C29: 0 bis 6 Jahre Berufserfahrung | E29: 0
C30: 6 bis 7 Jahre | E30: 1
C31: 7 bis 8 Jahre | E31: 2
C32: 8 bis 9 Jahre | E32: 3
C33: 9 bis 10 Jahre | E33: 4
C34: 10 Jahre oder mehr | E34: 5

Sheet Angebotswertung
A1: Angebotswertung
A4: Gelbe Felder ausfüllen: Angebot/Anbieter, jährlicher Gesamtbruttopreis, Punkte für Bauzeit und Qualifikation (jeweils 0–5) sowie die zugehörigen Angaben des Bieters. Die Freitextangaben werden nicht in die Berechnung einbezogen.
A5: Angebot / Anbieter | B5: Jährlicher Gesamtbruttopreis | C5: Preisbeitrag (70 %) | D5: Bauzeit (0–5) | E5: Angabe des Bieters zur Bauzeit | F5: Qualifikation Bau-/Projektleitung (0–5) | G5: Angabe des Bieters zur Qualifikation | H5: Leistungspunktzahl | I5: Leistungsbeitrag (30 %) | J5: Wertungszahl | K5: Rang
C6: =IF(OR(A6="",B6<=0),"",MIN($B$6:$B$15)/B6*'Wertungsmatrix Bewegungsbad'!$D$19) | H6: =IF(OR(D6="",F6=""),"",D6*'Wertungsmatrix Bewegungsbad'!$G$21+F6*'Wertungsmatrix Bewegungsbad'!$G$22) | I6: =IF(OR(H6="",MAX($H$6:$H$15)=0),"",H6/MAX($H$6:$H$15)*'Wertungsmatrix Bewegungsbad'!$D$20) | J6: =IF(OR(C6="",I6=""),"",C6+I6) | K6: =IF(J6="","",COUNTIF($J$6:$J$15,">"&J6)+COUNTIF($J$6:J6,J6))
C7: =IF(OR(A7="",B7<=0),"",MIN($B$6:$B$15)/B7*'Wertungsmatrix Bewegungsbad'!$D$19) | H7: =IF(OR(D7="",F7=""),"",D7*'Wertungsmatrix Bewegungsbad'!$G$21+F7*'Wertungsmatrix Bewegungsbad'!$G$22) | I7: =IF(OR(H7="",MAX($H$6:$H$15)=0),"",H7/MAX($H$6:$H$15)*'Wertungsmatrix Bewegungsbad'!$D$20) | J7: =IF(OR(C7="",I7=""),"",C7+I7) | K7: =IF(J7="","",COUNTIF($J$6:$J$15,">"&J7)+COUNTIF($J$6:J7,J7))
C8: =IF(OR(A8="",B8<=0),"",MIN($B$6:$B$15)/B8*'Wertungsmatrix Bewegungsbad'!$D$19) | H8: =IF(OR(D8="",F8=""),"",D8*'Wertungsmatrix Bewegungsbad'!$G$21+F8*'Wertungsmatrix Bewegungsbad'!$G$22) | I8: =IF(OR(H8="",MAX($H$6:$H$15)=0),"",H8/MAX($H$6:$H$15)*'Wertungsmatrix Bewegungsbad'!$D$20) | J8: =IF(OR(C8="",I8=""),"",C8+I8) | K8: =IF(J8="","",COUNTIF($J$6:$J$15,">"&J8)+COUNTIF($J$6:J8,J8))
C9: =IF(OR(A9="",B9<=0),"",MIN($B$6:$B$15)/B9*'Wertungsmatrix Bewegungsbad'!$D$19) | H9: =IF(OR(D9="",F9=""),"",D9*'Wertungsmatrix Bewegungsbad'!$G$21+F9*'Wertungsmatrix Bewegungsbad'!$G$22) | I9: =IF(OR(H9="",MAX($H$6:$H$15)=0),"",H9/MAX($H$6:$H$15)*'Wertungsmatrix Bewegungsbad'!$D$20) | J9: =IF(OR(C9="",I9=""),"",C9+I9) | K9: =IF(J9="","",COUNTIF($J$6:$J$15,">"&J9)+COUNTIF($J$6:J9,J9))
C10: =IF(OR(A10="",B10<=0),"",MIN($B$6:$B$15)/B10*'Wertungsmatrix Bewegungsbad'!$D$19) | H10: =IF(OR(D10="",F10=""),"",D10*'Wertungsmatrix Bewegungsbad'!$G$21+F10*'Wertungsmatrix Bewegungsbad'!$G$22) | I10: =IF(OR(H10="",MAX($H$6:$H$15)=0),"",H10/MAX($H$6:$H$15)*'Wertungsmatrix Bewegungsbad'!$D$20) | J10: =IF(OR(C10="",I10=""),"",C10+I10) | K10: =IF(J10="","",COUNTIF($J$6:$J$15,">"&J10)+COUNTIF($J$6:J10,J10))
C11: =IF(OR(A11="",B11<=0),"",MIN($B$6:$B$15)/B11*'Wertungsmatrix Bewegungsbad'!$D$19) | H11: =IF(OR(D11="",F11=""),"",D11*'Wertungsmatrix Bewegungsbad'!$G$21+F11*'Wertungsmatrix Bewegungsbad'!$G$22) | I11: =IF(OR(H11="",MAX($H$6:$H$15)=0),"",H11/MAX($H$6:$H$15)*'Wertungsmatrix Bewegungsbad'!$D$20) | J11: =IF(OR(C11="",I11=""),"",C11+I11) | K11: =IF(J11="","",COUNTIF($J$6:$J$15,">"&J11)+COUNTIF($J$6:J11,J11))
C12: =IF(OR(A12="",B12<=0),"",MIN($B$6:$B$15)/B12*'Wertungsmatrix Bewegungsbad'!$D$19) | H12: =IF(OR(D12="",F12=""),"",D12*'Wertungsmatrix Bewegungsbad'!$G$21+F12*'Wertungsmatrix Bewegungsbad'!$G$22) | I12: =IF(OR(H12="",MAX($H$6:$H$15)=0),"",H12/MAX($H$6:$H$15)*'Wertungsmatrix Bewegungsbad'!$D$20) | J12: =IF(OR(C12="",I12=""),"",C12+I12) | K12: =IF(J12="","",COUNTIF($J$6:$J$15,">"&J12)+COUNTIF($J$6:J12,J12))
C13: =IF(OR(A13="",B13<=0),"",MIN($B$6:$B$15)/B13*'Wertungsmatrix Bewegungsbad'!$D$19) | H13: =IF(OR(D13="",F13=""),"",D13*'Wertungsmatrix Bewegungsbad'!$G$21+F13*'Wertungsmatrix Bewegungsbad'!$G$22) | I13: =IF(OR(H13="",MAX($H$6:$H$15)=0),"",H13/MAX($H$6:$H$15)*'Wertungsmatrix Bewegungsbad'!$D$20) | J13: =IF(OR(C13="",I13=""),"",C13+I13) | K13: =IF(J13="","",COUNTIF($J$6:$J$15,">"&J13)+COUNTIF($J$6:J13,J13))
C14: =IF(OR(A14="",B14<=0),"",MIN($B$6:$B$15)/B14*'Wertungsmatrix Bewegungsbad'!$D$19) | H14: =IF(OR(D14="",F14=""),"",D14*'Wertungsmatrix Bewegungsbad'!$G$21+F14*'Wertungsmatrix Bewegungsbad'!$G$22) | I14: =IF(OR(H14="",MAX($H$6:$H$15)=0),"",H14/MAX($H$6:$H$15)*'Wertungsmatrix Bewegungsbad'!$D$20) | J14: =IF(OR(C14="",I14=""),"",C14+I14) | K14: =IF(J14="","",COUNTIF($J$6:$J$15,">"&J14)+COUNTIF($J$6:J14,J14))
C15: =IF(OR(A15="",B15<=0),"",MIN($B$6:$B$15)/B15*'Wertungsmatrix Bewegungsbad'!$D$19) | H15: =IF(OR(D15="",F15=""),"",D15*'Wertungsmatrix Bewegungsbad'!$G$21+F15*'Wertungsmatrix Bewegungsbad'!$G$22) | I15: =IF(OR(H15="",MAX($H$6:$H$15)=0),"",H15/MAX($H$6:$H$15)*'Wertungsmatrix Bewegungsbad'!$D$20) | J15: =IF(OR(C15="",I15=""),"",C15+I15) | K15: =IF(J15="","",COUNTIF($J$6:$J$15,">"&J15)+COUNTIF($J$6:J15,J15))
A17: Maximal erreichbare Wertungszahl | J17: ='Wertungsmatrix Bewegungsbad'!$D$19+'Wertungsmatrix Bewegungsbad'!$D$20 -> 1
A19: RANGLISTE DER ANGEBOTE
A20: Platz | B20: Angebot / Anbieter | C20: Preis brutto | D20: Leistungspunkte | E20: Wertungszahl
A21: 1 | B21: =IF(COUNTIF($K$6:$K$15,$A21)=0,"",INDEX($A$6:$A$15,MATCH($A21,$K$6:$K$15,0))) | C21: =IF(B21="","",INDEX($B$6:$B$15,MATCH($A21,$K$6:$K$15,0))) | D21: =IF(B21="","",INDEX($H$6:$H$15,MATCH($A21,$K$6:$K$15,0))) | E21: =IF(B21="","",INDEX($J$6:$J$15,MATCH($A21,$K$6:$K$15,0)))
A22: 2 | B22: =IF(COUNTIF($K$6:$K$15,$A22)=0,"",INDEX($A$6:$A$15,MATCH($A22,$K$6:$K$15,0))) | C22: =IF(B22="","",INDEX($B$6:$B$15,MATCH($A22,$K$6:$K$15,0))) | D22: =IF(B22="","",INDEX($H$6:$H$15,MATCH($A22,$K$6:$K$15,0))) | E22: =IF(B22="","",INDEX($J$6:$J$15,MATCH($A22,$K$6:$K$15,0)))
A23: 3 | B23: =IF(COUNTIF($K$6:$K$15,$A23)=0,"",INDEX($A$6:$A$15,MATCH($A23,$K$6:$K$15,0))) | C23: =IF(B23="","",INDEX($B$6:$B$15,MATCH($A23,$K$6:$K$15,0))) | D23: =IF(B23="","",INDEX($H$6:$H$15,MATCH($A23,$K$6:$K$15,0))) | E23: =IF(B23="","",INDEX($J$6:$J$15,MATCH($A23,$K$6:$K$15,0)))
A24: 4 | B24: =IF(COUNTIF($K$6:$K$15,$A24)=0,"",INDEX($A$6:$A$15,MATCH($A24,$K$6:$K$15,0))) | C24: =IF(B24="","",INDEX($B$6:$B$15,MATCH($A24,$K$6:$K$15,0))) | D24: =IF(B24="","",INDEX($H$6:$H$15,MATCH($A24,$K$6:$K$15,0))) | E24: =IF(B24="","",INDEX($J$6:$J$15,MATCH($A24,$K$6:$K$15,0)))
A25: 5 | B25: =IF(COUNTIF($K$6:$K$15,$A25)=0,"",INDEX($A$6:$A$15,MATCH($A25,$K$6:$K$15,0))) | C25: =IF(B25="","",INDEX($B$6:$B$15,MATCH($A25,$K$6:$K$15,0))) | D25: =IF(B25="","",INDEX($H$6:$H$15,MATCH($A25,$K$6:$K$15,0))) | E25: =IF(B25="","",INDEX($J$6:$J$15,MATCH($A25,$K$6:$K$15,0)))
A26: 6 | B26: =IF(COUNTIF($K$6:$K$15,$A26)=0,"",INDEX($A$6:$A$15,MATCH($A26,$K$6:$K$15,0))) | C26: =IF(B26="","",INDEX($B$6:$B$15,MATCH($A26,$K$6:$K$15,0))) | D26: =IF(B26="","",INDEX($H$6:$H$15,MATCH($A26,$K$6:$K$15,0))) | E26: =IF(B26="","",INDEX($J$6:$J$15,MATCH($A26,$K$6:$K$15,0)))
A27: 7 | B27: =IF(COUNTIF($K$6:$K$15,$A27)=0,"",INDEX($A$6:$A$15,MATCH($A27,$K$6:$K$15,0))) | C27: =IF(B27="","",INDEX($B$6:$B$15,MATCH($A27,$K$6:$K$15,0))) | D27: =IF(B27="","",INDEX($H$6:$H$15,MATCH($A27,$K$6:$K$15,0))) | E27: =IF(B27="","",INDEX($J$6:$J$15,MATCH($A27,$K$6:$K$15,0)))
A28: 8 | B28: =IF(COUNTIF($K$6:$K$15,$A28)=0,"",INDEX($A$6:$A$15,MATCH($A28,$K$6:$K$15,0))) | C28: =IF(B28="","",INDEX($B$6:$B$15,MATCH($A28,$K$6:$K$15,0))) | D28: =IF(B28="","",INDEX($H$6:$H$15,MATCH($A28,$K$6:$K$15,0))) | E28: =IF(B28="","",INDEX($J$6:$J$15,MATCH($A28,$K$6:$K$15,0)))
A29: 9 | B29: =IF(COUNTIF($K$6:$K$15,$A29)=0,"",INDEX($A$6:$A$15,MATCH($A29,$K$6:$K$15,0))) | C29: =IF(B29="","",INDEX($B$6:$B$15,MATCH($A29,$K$6:$K$15,0))) | D29: =IF(B29="","",INDEX($H$6:$H$15,MATCH($A29,$K$6:$K$15,0))) | E29: =IF(B29="","",INDEX($J$6:$J$15,MATCH($A29,$K$6:$K$15,0)))
A30: 10 | B30: =IF(COUNTIF($K$6:$K$15,$A30)=0,"",INDEX($A$6:$A$15,MATCH($A30,$K$6:$K$15,0))) | C30: =IF(B30="","",INDEX($B$6:$B$15,MATCH($A30,$K$6:$K$15,0))) | D30: =IF(B30="","",INDEX($H$6:$H$15,MATCH($A30,$K$6:$K$15,0))) | E30: =IF(B30="","",INDEX($J$6:$J$15,MATCH($A30,$K$6:$K$15,0)))
