Workbook

Sheet Wertungsübersicht
B1: AOK Hessen. Die Gesundheitskasse.
B3: Kfz- und Dienstreise-Kasko-Versicherungen (SAVE_210_2026)
B5: WERTUNGSMATRIX
B7: Zuschlagskriterien
B9: Die Wertung der Angebote erfolgt nach den Kriterien Preis und Qualität.
B10: =CONCATENATE("Die Wertung erfolgt in Punkten. Die maximal erreichbare Punktzahl (Pmax) beträgt ",H25," Punkte und setzt sich durch Addition der maximal für die Kriterien Preis (PmaxP) und Qualität (PmaxQ) erzielbaren Punkte zusammen. ","Die für ein Kriterium erreichbare Punktzahl ergibt sich durch Multiplikation der maximal erreichbaren Punktzahl (Pmax) mit dem Gewichtungsfaktor je Kriterium"," (Bsp.: ",H25," x ",D16," = ",H16,"). und ggf. dem Gewichtungsfaktor je Unterkriterium (Bsp.: ",H25," x ",D18," x ",G18," = ",H18,").") -> Die Wertung erfolgt in Punkten. Die maximal erreichbare Punktzahl (Pmax) beträgt 1000 Punkte und setzt sich durch Addition der maximal für die Kriterien Preis (PmaxP) und Qualität (PmaxQ) erzielbaren Punkte zusammen. Die für ein Kriterium erreichbare Punktzahl ergibt sich durch Multiplikation der maximal erreichbaren Punktzahl (Pmax) mit dem Gewichtungsfaktor je Kriterium (Bsp.: 1000 x 0,85 = 850). und ggf. dem Gewichtungsfaktor je Unterkriterium (Bsp.: 1000 x 0,15 x 1 = 150).
B11: Sofern zwei oder mehrere Angebote nach Beendigung der Wertung und Addition der für die Kriterien Preis und Qualität erzielbaren Punkte im Ergebnis die identische Punktzahl aufweisen, entscheidet ein Losverfahren darüber, welches Angebot den Zuschlag erhält.
B12: Es gilt die nachfolgende Wertungsmatrix/Gewichtung:
B14: # | C14: Kriterium | D14: Gewichtung | E14: # | F14: Unterkriterium | G14: Gewichtung | H14: Max. Punkte
D15: Faktor | G15: Faktor | H15: Punkte
B16: 1. | C16: Preis | D16: 0.85 | G16: 1 | H16: 850
B18: 2. | C18: Qualität | D18: 0.15 | G18: 1 | H18: 150
E19: 2.1 | F19: Vereinbarungen zur Erreichbarkeit
E20: 2.2 | F20: Änderung der Vertragsgrundlagen
E21: 2.3 | F21: Folgeschäden durch Tierbiss
E22: 2.4 | F22: Schäden durch Kollision (alle Fahrzeugarten)
E23: 2.5 | F23: Entsorgungskosten
C25: Summe | D25: =SUM(D16:D18) -> 1 | H25: =SUBTOTAL(9,H16:H24) -> 1000 | I25: =Pmax

Sheet Wertung "Preis"
B1: AOK Hessen. Die Gesundheitskasse.
B3: =Wertungsübersicht!B3 -> Kfz- und Dienstreise-Kasko-Versicherungen (SAVE_210_2026)
B5: 1. | C5: Wertung "Preis"
B7: Bei der preislichen Bewertung wird der abgegebene Gesamtpreis (=Summe der Wertungspreise ohne Umsatzsteuer) der Bieter (B.03_Preisblatt) prozentual zueinander ins Verhältnis gesetzt. Das Angebot mit dem niedrigsten Gesamtpreis (BestP) erhält die maximal für das Kriterium „Preis“ erreichbare Punktzahl (PmaxP). 0 Punkte erhält ein Angebot mit dem 1,5-fachen des niedrigsten Gesamtpreises. Alle Angebote darüber erhalten ebenfalls 0 Punkte.
B8: Zwischen dem niedrigsten und höchsten Gesamtpreis erfolgt die Punktermittlung durch lineare absteigende Verteilung der Punktwerte innerhalb des Korridors zwischen dem niedrigsten Gesamtpreis und dem 1,5-fachen des niedrigsten Gesamtpreises (lineare Interpolation). Die Punkteermittlung erfolgt auf zwei Nachkommastellen bei kaufmännischer Rundung.
B9: Wertungsformel: PmaxP + ((PmaxP / ((BestP * 1,5) – BestP)) x (BestP – AngP))
B10: ● | C10: PmaxP = maximal erreichbare Punktzahl
B11: ● | C11: BestP = Niedrigster Preis
B12: ● | C12: AngP = Angebotener Preis des jeweiligen Bieters
B14: =CONCATENATE("Beispielrechnung (PmaxP = ",Wertungsübersicht!H16,")") -> Beispielrechnung (PmaxP = 850)
B15: # | C15: Bieter | D15: Gesamtpreis | E15: Berechnung | F15: Erreichte Punkte
D16: EUR ohne USt. | F16: Punkte
B17: A | C17: Bieter A | D17: 50000 | E17: BestP = PmaxP = | F17: =Wertungsübersicht!$H$16+((Wertungsübersicht!$H$16/(('Wertung "Preis"'!$D$17*1.5)-'Wertung "Preis"'!$D$17))*('Wertung "Preis"'!$D$17-'Wertung "Preis"'!D17)) -> 850
B18: B | C18: Bieter B | D18: 55000 | E18: =85+((85/((50.000*1,5)-50.000))*(50.000-55.000)) | F18: =Wertungsübersicht!$H$16+((Wertungsübersicht!$H$16/(('Wertung "Preis"'!$D$17*1.5)-'Wertung "Preis"'!$D$17))*('Wertung "Preis"'!$D$17-'Wertung "Preis"'!D18)) -> 680
B19: C | C19: Bieter C | D19: 75000 | E19: =50.000 x 1,5 = 75.000 (Wertungsobergrenze erreicht) = | F19: =Wertungsübersicht!$H$16+((Wertungsübersicht!$H$16/(('Wertung "Preis"'!$D$17*1.5)-'Wertung "Preis"'!$D$17))*('Wertung "Preis"'!$D$17-'Wertung "Preis"'!D19)) -> 0

Sheet Wertung "Qualität"
B1: AOK Hessen. Die Gesundheitskasse.
B3: =Wertungsübersicht!B3 -> Kfz- und Dienstreise-Kasko-Versicherungen (SAVE_210_2026)
B5: 2. | C5: Wertung "Qualität"
B7: Im Rahmen der Qualität werden folgende Kriterien bewertet:
B9: # | C9: Kriterium | D9: PmaxQ | E9: # | F9: Unterkriterium | G9: Gewichtung | H9: Max. Punkte
D10: Punkte | G10: Faktor | H10: Punkte
B11: 2. | C11: Qualität | D11: =Wertungsübersicht!H18 -> 150 | E11: =Wertungsübersicht!E19 -> 2.1 | F11: =Wertungsübersicht!F19 -> Vereinbarungen zur Erreichbarkeit | G11: 0.4 | H11: =$D$11*G11 -> 60
E12: =Wertungsübersicht!E20 -> 2.2 | F12: =Wertungsübersicht!F20 -> Änderung der Vertragsgrundlagen | G12: 0.15 | H12: =D11*G12 -> 22.5
E13: =Wertungsübersicht!E21 -> 2.3 | F13: =Wertungsübersicht!F21 -> Folgeschäden durch Tierbiss | G13: 0.15 | H13: =D11*G13 -> 22.5
E14: =Wertungsübersicht!E22 -> 2.4 | F14: =Wertungsübersicht!F22 -> Schäden durch Kollision (alle Fahrzeugarten) | G14: 0.15 | H14: =D11*G14 -> 22.5
E15: =Wertungsübersicht!E23 -> 2.5 | F15: =Wertungsübersicht!F23 -> Entsorgungskosten | G15: 0.15 | H15: =D11*G15 -> 22.5
C17: Summe | D17: =SUM(D11:D16) -> 150 | G17: =SUM(G11:G16) -> 1 | H17: =SUBTOTAL(9,H11:H16) -> 150
B19: Für jedes Qualitätskriterium werden Unterkriterien gebildet und diese jeweils einer weiteren Gewichtung unterzogen. Die je Unterkriterium maximal erreichbaren Punkte ergeben sich durch Multiplikation der für das Wertungskriterium „Qualität“ maximal erreichbaren Punkte (PmaxQ) mit dem Gewichtungsfaktor des jeweiligen Unterkriteriums.
B20: =CONCATENATE("Beispielrechnung: ",D11," x ",G11," = ",H11) -> Beispielrechnung: 150 x 0,4 = 60
B21: Die Bewertung innerhalb der Unterkriterien erfolgt anhand von Wertungszahlen. Die vom Bieter je Unterkriterium erreichte Punktzahl ergibt sich nach Maßgabe folgender Formel:
B22: Wertungsformel: PmaxQ x Gewichtung Unterkriterium / max. Wertungszahl (1) x vom Bieter erreichte Wertungszahl
B24: 2.1 | C24: =F11 -> Vereinbarungen zur Erreichbarkeit
B26: Die Bewertung erfolgt nach Punkten
B28: Wertung | D28: Beschreibung | H28: Erreichte Punkte
B29: Zahl | H29: Punkte
B30: 0 | D30: Wird nicht angeboten | H30: =$H$11/4*B30 -> 0
B31: 1 | D31: Für dringende Rückfragen wird ein exklusiver telefonischer Kundensupport angeboten. Erreichbarkeit werktags zwischen 8 und 16 Uhr (Leistungsbeschreibung Seite 4). | H31: =H11 -> 60
B34: 2.2 | C34: =F12 -> Änderung der Vertragsgrundlagen
B36: Die Bewertung erfolgt nach Punkten
B38: Wertung | D38: Beschreibung | H38: Erreichte Punkte
B39: Zahl | H39: Punkte
B40: 0 | D40: Wird nicht angeboten | H40: =$H$11/4*B40 -> 0
B41: 1 | D41: Änderungen der Vertragsgrundlagen gemäß Teil II, Ziff. 3 der Leistungsbeschreibung (Anlage D.02) werden angeboten | H41: =$H$12/1*B41 -> 22.5
B43: 2.3 | C43: =F13 -> Folgeschäden durch Tierbiss
B45: Die Bewertung erfolgt nach Punkten
B47: Wertung | D47: Beschreibung | H47: Erreichte Punkte
B48: Zahl | H48: Punkte
B49: 0 | D49: Wird nicht angeboten | H49: =$H$11/4*B49 -> 0
B50: 1 | D50: Folgeschäden durch Tierbiss gemäß Teil III B, Ziff. 5.5 der Leistungsbeschreibung (Anlage D.02) werden angeboten | H50: =$H$12/1*B50 -> 22.5
B52: 2.4 | C52: =F14 -> Schäden durch Kollision (alle Fahrzeugarten)
B54: Die Bewertung erfolgt nach Punkten
B56: Wertung | D56: Beschreibung | H56: Erreichte Punkte
B57: Zahl | H57: Punkte
B58: 0 | D58: Wird nicht angeboten | H58: =$H$11/4*B58 -> 0
B59: 1 | D59: Schäden durch Kollision (alle Fahrzeugarten) gemäß Teil III B, Ziff. 5.6 der Leistungsbeschreibung (Anlage D.02) werden angeboten | H59: =$H$13/1*B59 -> 22.5
...
