Workbook

Sheet Wertungsübersicht
B1: AOK Hessen. Die Gesundheitskasse.
B3: Datenschutzkonforme Vernichtung von Papierunterlagen und Datenträgern (SAVE_86_2025)
B5: WERTUNGSMATRIX
B7: Zuschlagskriterien
B9: Die Wertung der Angebote erfolgt nach den Kriterien Preis und Qualität.
B10: =CONCATENATE("Die Wertung erfolgt in Punkten. Die maximal erreichbare Punktzahl (Pmax) beträgt ",H22," Punkte und setzt sich durch Addition der maximal für die Kriterien Preis (PmaxP) und Qualität (PmaxQ) erzielbaren Punkte zusammen. ","Die für ein Kriterium erreichbare Punktzahl ergibt sich durch Multiplikation der maximal erreichbaren Punktzahl (Pmax) mit dem Gewichtungsfaktor je Kriterium"," (Bsp.: ",H22," x ",D17," = ",H17,"). und ggf. dem Gewichtungsfaktor je Unterkriterium (Bsp.: ",H22," x ",D19," x ",G19," = ",H19,").") -> Die Wertung erfolgt in Punkten. Die maximal erreichbare Punktzahl (Pmax) beträgt 100 Punkte und setzt sich durch Addition der maximal für die Kriterien Preis (PmaxP) und Qualität (PmaxQ) erzielbaren Punkte zusammen. Die für ein Kriterium erreichbare Punktzahl ergibt sich durch Multiplikation der maximal erreichbaren Punktzahl (Pmax) mit dem Gewichtungsfaktor je Kriterium (Bsp.: 100 x 0,6 = 60). und ggf. dem Gewichtungsfaktor je Unterkriterium (Bsp.: 100 x 0,4 x 0,5 = 20).
B11: Sofern zwei oder mehrere Angebote nach Beendigung der Wertung und Addition der für die Kriterien Preis und Qualität erzielbaren Punkte im Ergebnis die identische Punktzahl aufweisen, entscheidet ein Losverfahren darüber, welches Angebot den Zuschlag erhält.
B12: Es gilt die nachfolgende Wertungsmatrix/Gewichtung:
B14: # | C14: Kriterium | D14: Gewichtung | E14: # | F14: Unterkriterium | G14: Gewichtung | H14: Max. Punkte
D15: Faktor | G15: Faktor | H15: Punkte
B16: LOS 1
B17: 1. | C17: Preis | D17: 0.6 | H17: =100*$D$17 -> 60
C18: Teilsumme | H18: =SUBTOTAL(9,H17) -> 60
B19: 2. | C19: Qualität | D19: 0.4 | E19: 2.1 | F19: Zertifizierung nach DIN EN ISO 14001:2015 | G19: ='LOS 1 - Qualität'!G11 -> 0.5 | H19: =100*$D$19*G19 -> 20
E20: 2.2 | F20: Umwelt- und Nachhaltigkeitskonzept | G20: ='LOS 1 - Qualität'!G12 -> 0.5 | H20: =100*$D$19*G20 -> 20
C21: Teilsumme | G21: =SUM(G19:G20) -> 1 | H21: =SUBTOTAL(9,H19:H20) -> 40
C22: Summe | D22: =SUM(D17:D20) -> 1 | H22: =SUBTOTAL(9,H17:H21) -> 100 | I22: =Pmax
B24: LOS 2
B25: 1. | C25: Preis | D25: 0.6 | H25: =100*$D$17 -> 60
C26: Teilsumme | H26: =SUBTOTAL(9,H25) -> 60
B27: 2. | C27: Qualität | D27: 0.4 | E27: 2.1 | F27: Zertifizierung nach DIN EN ISO 14001:2015 | G27: ='LOS 2 - Qualität'!G11 -> 0.5 | H27: =100*$D$19*G27 -> 20
E28: 2.2 | F28: Umwelt- und Nachhaltigkeitskonzept | G28: ='LOS 2 - Qualität'!G12 -> 0.5 | H28: =100*$D$19*G28 -> 20
C29: Teilsumme | G29: =SUM(G27:G28) -> 1 | H29: =SUBTOTAL(9,H27:H28) -> 40
C30: Summe | D30: =SUM(D25:D28) -> 1 | H30: =SUBTOTAL(9,H25:H29) -> 100 | I30: =Pmax

Sheet LOS 1 - Preis
B1: AOK Hessen. Die Gesundheitskasse.
B3: =Wertungsübersicht!B3 -> Datenschutzkonforme Vernichtung von Papierunterlagen und Datenträgern (SAVE_86_2025) | G3: LOS 1 Nord
B5: 1. | C5: Wertung "Preis"
B7: Bei der preislichen Bewertung wird der abgegebene Gesamtpreis (=Summe der Wertungspreise ohne Umsatzsteuer) der Bieter (B.03_Preisblatt) prozentual zueinander ins Verhältnis gesetzt. Das Angebot mit dem niedrigsten Gesamtpreis (BestP) erhält die maximal für das Kriterium „Preis“ erreichbare Punktzahl (PmaxP). 0 Punkte erhält ein Angebot mit dem 1,5-fachen des niedrigsten Gesamtpreises. Alle Angebote darüber erhalten ebenfalls 0 Punkte.
B8: Zwischen dem niedrigsten und höchsten Gesamtpreis erfolgt die Punktermittlung durch lineare absteigende Verteilung der Punktwerte innerhalb des Korridors zwischen dem niedrigsten Gesamtpreis und dem 1,5-fachen des niedrigsten Gesamtpreises (lineare Interpolation). Die Punkteermittlung erfolgt auf zwei Nachkommastellen bei kaufmännischer Rundung.
B9: Wertungsformel: PmaxP + ((PmaxP / ((BestP * 1,5) – BestP)) x (BestP – AngP))
B10: ● | C10: PmaxP = maximal erreichbare Punktzahl
B11: ● | C11: BestP = Niedrigster Gesamtpreis
B12: ● | C12: AngP = Angebotener Gesamtpreis des jeweiligen Bieters
B14: =CONCATENATE("Beispielrechnung (PmaxP = ",Wertungsübersicht!H17,")") -> Beispielrechnung (PmaxP = 60)
B15: # | C15: Bieter | D15: Gesamtpreis | E15: Berechnung | F15: Erreichte Punkte
D16: EUR ohne USt. | F16: Punkte
B17: A | C17: Bieter A | D17: 50000 | E17: BestP = PmaxP = | F17: =Wertungsübersicht!$H$17+((Wertungsübersicht!$H$17/(('LOS 1 - Preis'!$D$17*1.5)-'LOS 1 - Preis'!$D$17))*('LOS 1 - Preis'!$D$17-'LOS 1 - Preis'!D17)) -> 60
B18: B | C18: Bieter B | D18: 55000 | E18: =60+((60/((50.000*1,5)-50.000))*(50.000-55.000)) | F18: =Wertungsübersicht!$H$17+((Wertungsübersicht!$H$17/(('LOS 1 - Preis'!$D$17*1.5)-'LOS 1 - Preis'!$D$17))*('LOS 1 - Preis'!$D$17-'LOS 1 - Preis'!D18)) -> 48
B19: C | C19: Bieter C | D19: 75000 | E19: =50.000 x 1,5 = 75.000 (Wertungsobergrenze erreicht) = | F19: =Wertungsübersicht!$H$17+((Wertungsübersicht!$H$17/(('LOS 1 - Preis'!$D$17*1.5)-'LOS 1 - Preis'!$D$17))*('LOS 1 - Preis'!$D$17-'LOS 1 - Preis'!D19)) -> 0

Sheet LOS 1 - Qualität
B1: AOK Hessen. Die Gesundheitskasse.
B3: =Wertungsübersicht!B3 -> Datenschutzkonforme Vernichtung von Papierunterlagen und Datenträgern (SAVE_86_2025) | I3: LOS 1 Nord
B5: 2. | C5: Wertung "Qualität"
B7: Im Rahmen der Qualität werden folgende Kriterien bewertet:
B9: # | C9: Kriterium | D9: PmaxQ | E9: # | F9: Unterkriterium | G9: Gewichtung | H9: Max. Punkte
D10: Punkte | G10: Faktor | H10: Punkte
B11: 2. | C11: Qualität | D11: =Wertungsübersicht!H21 -> 40 | E11: 2.1 | F11: =Wertungsübersicht!F19 -> Zertifizierung nach DIN EN ISO 14001:2015 | G11: 0.5 | H11: =$D$11*G11 -> 20
E12: 2.2 | F12: =Wertungsübersicht!F20 -> Umwelt- und Nachhaltigkeitskonzept | G12: 0.5 | H12: =$D$11*G12 -> 20
C13: Summe | D13: =SUM(D11:D12) -> 40 | G13: =SUM(G11:G12) -> 1 | H13: =SUBTOTAL(9,H11:H12) -> 40
B15: Die Anzahl der Punkte kann sich auch durch einen Vergleich mit anderen Anbietenden ergeben. Für jedes Qualitätskriterium werden Unterkriterien gebildet und diese jeweils einer weiteren Gewichtung unterzogen. Die je Unterkriterium maximal erreichbaren Punkte ergeben sich durch Multiplikation der für das Wertungskriterium „Qualität“ maximal erreichbaren Punkte (PmaxQ) mit dem Gewichtungsfaktor des jeweiligen Unterkriteriums.
B16: =CONCATENATE("Beispielrechnung: ",D11," x ",G11," = ",H11) -> Beispielrechnung: 40 x 0,5 = 20
B17: Die Bewertung innerhalb der Unterkriterien erfolgt anhand von Wertungszahlen. Die vom Bieter je Unterkriterium erreichte Punktzahl ergibt sich nach Maßgabe folgender Formel:
B18: Wertungsformel: PmaxQ x Gewichtung Unterkriterium / max. Wertungszahl (1) x vom Bieter erreichte Wertungszahl
B21: 2.1 | C21: =F11 -> Zertifizierung nach DIN EN ISO 14001:2015
B23: Die Bewertung erfolgt nach Punkten
B25: Wertung | D25: Beschreibung | H25: Erreichte Punkte
B26: Zahl | H26: Punkte
B27: 0 | D27: wenn das beitetende Unternehmen nicht über das Umweltzertifikat DIN EN ISO 14001:2015 oder ein vergleichbares Zertifikat verfügt oder nicht den entsprechenden Nachweis über die Zertifizierung/vergleichbare Zertifierung mit dem Angebot eingreicht wurde | H27: =$H$11/1*B27 -> 0
B28: 1 | D28: wenn das beitetende Unternehmen über das Umweltzertifikat DIN EN ISO 14001:2015 oder vergleichbares Zertifikat verfügt | H28: =$H$11/1*B28 -> 20
B30: 2.2 | C30: =F12 -> Umwelt- und Nachhaltigkeitskonzept
B32: Die Bewertung erfolgt nach Punkten
B34: Wertung | D34: Beschreibung | H34: Erreichte Punkte
B35: Zahl | H35: Punkte
B36: 0 | D36: Es wird kein bzw. nur ein lückenhaftes Konzept oder keine zur Bewertung geeigneten Unterlagen eingereicht. | H36: =$H$12/3*B36 -> 0
B37: 1 | D37: Das eingereichte Konzept erfüllt eines der nachfolgend genannten Prüfkriterien: 1) Aus dem Konzept geht hervor, welche Maßnahmen zur Energieversorgung und Energieeffizienz (z. B. Eigenstrom durch Solaranlagen, Einsatz von Ökostrom, DIN EN ISO 50001) umgesetzt werden. 2) Aus dem Konzept geht hervor, welche Maßnahmen zur umweltfreundlichen Leistungserbringung (z. B. CO₂-arme Tourenplanung sowie Einsatz von Elektrofahrzeugen oder Fahrzeugen mit Biogasantrieb) umgesetzt werden. 3) Aus dem Konzept geht hervor, welche Maßnahmen zum Umweltmanagement und zur kontinuierlichen Verbesserung der Nachhaltigkeit (z. B. Zertifizierung als Entsorgungsfachbetrieb, jährlicher CO₂-Bericht mit Kennzahlen) umgesetzt werden. | H37: =$H$12/3*B37 -> 6.6666667
B38: 2 | D38: Das Konzept und die Unterlagen erfüllen zwei der unter 2.1, Zahl 1 genannten Kriterien. | H38: =$H$12/3*B38 -> 13.333333
B39: 3 | D39: Das Konzept und die Unterlagen erfüllen alle der unter 2.1, Zahl 1 genannten Kriterien. | H39: =$H$12/3*B39 -> 20

Sheet LOS 2 - Preis
B1: AOK Hessen. Die Gesundheitskasse.
B3: =Wertungsübersicht!B3 -> Datenschutzkonforme Vernichtung von Papierunterlagen und Datenträgern (SAVE_86_2025) | G3: LOS 2 Süd
B5: 1. | C5: Wertung "Preis"
B7: Bei der preislichen Bewertung wird der abgegebene Gesamtpreis (=Summe der Wertungspreise ohne Umsatzsteuer) der Bieter (B.03_Preisblatt) prozentual zueinander ins Verhältnis gesetzt. Das Angebot mit dem niedrigsten Gesamtpreis (BestP) erhält die maximal für das Kriterium „Preis“ erreichbare Punktzahl (PmaxP). 0 Punkte erhält ein Angebot mit dem 1,5-fachen des niedrigsten Gesamtpreises. Alle Angebote darüber erhalten ebenfalls 0 Punkte.
B8: Zwischen dem niedrigsten und höchsten Gesamtpreis erfolgt die Punktermittlung durch lineare absteigende Verteilung der Punktwerte innerhalb des Korridors zwischen dem niedrigsten Gesamtpreis und dem 1,5-fachen des niedrigsten Gesamtpreises (lineare Interpolation). Die Punkteermittlung erfolgt auf zwei Nachkommastellen bei kaufmännischer Rundung.
B9: Wertungsformel: PmaxP + ((PmaxP / ((BestP * 1,5) – BestP)) x (BestP – AngP))
B10: ● | C10: PmaxP = maximal erreichbare Punktzahl
B11: ● | C11: BestP = Niedrigster Gesamtpreis
B12: ● | C12: AngP = Angebotener Gesamtpreis des jeweiligen Bieters
B14: =CONCATENATE("Beispielrechnung (PmaxP = ",Wertungsübersicht!H17,")") -> Beispielrechnung (PmaxP = 60)
B15: # | C15: Bieter | D15: Gesamtpreis | E15: Berechnung | F15: Erreichte Punkte
D16: EUR ohne USt. | F16: Punkte
B17: A | C17: Bieter A | D17: 50000 | E17: BestP = PmaxP = | F17: =Wertungsübersicht!$H$17+((Wertungsübersicht!$H$17/(('LOS 2 - Preis'!$D$17*1.5)-'LOS 2 - Preis'!$D$17))*('LOS 2 - Preis'!$D$17-'LOS 2 - Preis'!D17)) -> 60
B18: B | C18: Bieter B | D18: 55000 | E18: =60+((60/((50.000*1,5)-50.000))*(50.000-55.000)) | F18: =Wertungsübersicht!$H$17+((Wertungsübersicht!$H$17/(('LOS 2 - Preis'!$D$17*1.5)-'LOS 2 - Preis'!$D$17))*('LOS 2 - Preis'!$D$17-'LOS 2 - Preis'!D18)) -> 48
B19: C | C19: Bieter C | D19: 75000 | E19: =50.000 x 1,5 = 75.000 (Wertungsobergrenze erreicht) = | F19: =Wertungsübersicht!$H$17+((Wertungsübersicht!$H$17/(('LOS 2 - Preis'!$D$17*1.5)-'LOS 2 - Preis'!$D$17))*('LOS 2 - Preis'!$D$17-'LOS 2 - Preis'!D19)) -> 0

Sheet LOS 2 - Qualität
B1: AOK Hessen. Die Gesundheitskasse.
B3: =Wertungsübersicht!B3 -> Datenschutzkonforme Vernichtung von Papierunterlagen und Datenträgern (SAVE_86_2025) | I3: LOS 2 Süd
B5: 2. | C5: Wertung "Qualität"
B7: Im Rahmen der Qualität werden folgende Kriterien bewertet:
B9: # | C9: Kriterium | D9: PmaxQ | E9: # | F9: Unterkriterium | G9: Gewichtung | H9: Max. Punkte
D10: Punkte | G10: Faktor | H10: Punkte
B11: 2. | C11: Qualität | D11: =Wertungsübersicht!H21 -> 40 | E11: 2.1 | F11: =Wertungsübersicht!F19 -> Zertifizierung nach DIN EN ISO 14001:2015 | G11: 0.5 | H11: =$D$11*G11 -> 20
E12: 2.2 | F12: =Wertungsübersicht!F20 -> Umwelt- und Nachhaltigkeitskonzept | G12: 0.5 | H12: =$D$11*G12 -> 20
C13: Summe | D13: =SUM(D11:D12) -> 40 | G13: =SUM(G11:G12) -> 1 | H13: =SUBTOTAL(9,H11:H12) -> 40
B15: Die Anzahl der Punkte kann sich auch durch einen Vergleich mit anderen Anbietenden ergeben. Für jedes Qualitätskriterium werden Unterkriterien gebildet und diese jeweils einer weiteren Gewichtung unterzogen. Die je Unterkriterium maximal erreichbaren Punkte ergeben sich durch Multiplikation der für das Wertungskriterium „Qualität“ maximal erreichbaren Punkte (PmaxQ) mit dem Gewichtungsfaktor des jeweiligen Unterkriteriums.
B16: =CONCATENATE("Beispielrechnung: ",D11," x ",G11," = ",H11) -> Beispielrechnung: 40 x 0,5 = 20
B17: Die Bewertung innerhalb der Unterkriterien erfolgt anhand von Wertungszahlen. Die vom Bieter je Unterkriterium erreichte Punktzahl ergibt sich nach Maßgabe folgender Formel:
B18: Wertungsformel: PmaxQ x Gewichtung Unterkriterium / max. Wertungszahl (1) x vom Bieter erreichte Wertungszahl
B21: 2.1 | C21: =F11 -> Zertifizierung nach DIN EN ISO 14001:2015
B23: Die Bewertung erfolgt nach Punkten
B25: Wertung | D25: Beschreibung | H25: Erreichte Punkte
B26: Zahl | H26: Punkte
B27: 0 | D27: wenn das beitetende Unternehmen nicht über das Umweltzertifikat DIN EN ISO 14001:2015 oder ein vergleichbares Zertifikat verfügt oder nicht den entsprechenden Nachweis über die Zertifizierung/vergleichbare Zertifierung mit dem Angebot eingreicht wurde | H27: =$H$11/1*B27 -> 0
B28: 1 | D28: wenn das beitetende Unternehmen über das Umweltzertifikat DIN EN ISO 14001:2015 oder vergleichbares Zertifikat verfügt | H28: =$H$11/1*B28 -> 20
B30: 2.2 | C30: =F12 -> Umwelt- und Nachhaltigkeitskonzept
B32: Die Bewertung erfolgt nach Punkten
B34: Wertung | D34: Beschreibung | H34: Erreichte Punkte
B35: Zahl | H35: Punkte
B36: 0 | D36: Es wird kein bzw. nur ein lückenhaftes Konzept oder keine zur Bewertung geeigneten Unterlagen eingereicht. | H36: =$H$12/3*B36 -> 0
B37: 1 | D37: Das eingereichte Konzept erfüllt eines der nachfolgend genannten Prüfkriterien: 1) Aus dem Konzept geht hervor, welche Maßnahmen zur Energieversorgung und Energieeffizienz (z. B. Eigenstrom durch Solaranlagen, Einsatz von Ökostrom, DIN EN ISO 50001) umgesetzt werden. 2) Aus dem Konzept geht hervor, welche Maßnahmen zur umweltfreundlichen Leistungserbringung (z. B. CO₂-arme Tourenplanung sowie Einsatz von Elektrofahrzeugen oder Fahrzeugen mit Biogasantrieb) umgesetzt werden. 3) Aus dem Konzept geht hervor, welche Maßnahmen zum Umweltmanagement und zur kontinuierlichen Verbesserung der Nachhaltigkeit (z. B. Zertifizierung als Entsorgungsfachbetrieb, jährlicher CO₂-Bericht mit Kennzahlen) umgesetzt werden. | H37: =$H$12/3*B37 -> 6.6666667
B38: 2 | D38: Das Konzept und die Unterlagen erfüllen zwei der unter 2.1, Zahl 1 genannten Kriterien. | H38: =$H$12/3*B38 -> 13.333333
B39: 3 | D39: Das Konzept und die Unterlagen erfüllen alle der unter 2.1, Zahl 1 genannten Kriterien. | H39: =$H$12/3*B39 -> 20
