Workbook

Sheet Gesamtübersicht
B3: Zusammenstellung Gewerk 1
B4: Schulserver SNV-Timago-Webportal | D4: Gesamtbetrag netto
B5: Laufzeit 5 Jahre
A7: Titel 1.1 | B7: RS Ohrdruf | D7: ='Schulen einzeln'!F16 -> 0
A8: Titel 1.2 | B8: RS Tambach-Dietharz | D8: ='Schulen einzeln'!F30 -> 0
A9: Titel 1.3 | B9: TGS Tonna | D9: ='Schulen einzeln'!F44 -> 0
A10: Titel 1.4 | B10: RS Wechmar | D10: ='Schulen einzeln'!F58 -> 0
A11: Titel 1.5 | B11: Gustav-Freytag-Gym. Gotha | D11: ='Schulen einzeln'!F74 -> 0
B13: Endsumme Gewerk 1 | D13: =SUM(D7:D11) -> 0
B15: Zusammenstellung Gewerk 2
B16: Service und Wartung | D16: Gesamtbetrag netto
A19: Titel 2.1 | B19: Wartungspaket SNV und Timago | D19: ='Schulen einzeln'!F88 -> 0
B21: Endsumme Gewerk 2 | D21: =D19 -> 0

Sheet Schulen einzeln
D1: GRÜN hinterlegte Felder ausfüllen!
A2: Bieter:
A3: Position | B3: Bezeichnung | C3: Einheitspreis pro Stück / pro Jahr in Euro netto | D3: Mengenangaben | F3: Gesamtbetrag netto
A4: 1 | B4: Schulserver SNV-Timago-Webportal Laufzeit 5 Jahre
A5: 1.1 | B5: RS Ohrdruf
A6: 1.1.10 | B6: Server | D6: 1 | E6: Stück | F6: =D6*C6 -> 0
A8: 1.1.20 | B8: Verlängerung Schulnetzpaket | D8: 5 | E8: Jahre | F8: =D8*C8 -> 0
B9: Softwarepflege
A10: 1.1.30 | B10: Softwarepflege Clientlizenzen | D10: 150 | E10: Stück | F10: =D10*C10 -> 0
B11: SNV-Timago (30 Clients für 5 Jahre)
A12: 1.1.40 | B12: Lizenz Webportal | D12: 5 | E12: Jahre | F12: =D12*C12 -> 0
A14: 1.1.50 | B14: Vernetzen und Einrichten | D14: 1 | E14: psch | F14: =D14*C14 -> 0
B16: Summe RS Ohrdruf | F16: =SUM(F6:F15) -> 0
A19: 1.2 | B19: RS Tambach-Dietharz
A20: 1.2.10 | B20: Server | D20: 1 | E20: Stück | F20: =D20*C20 -> 0
A22: 1.2.20 | B22: Verlängerung Schulnetzpaket | D22: 5 | E22: Jahre | F22: =D22*C22 -> 0
B23: Softwarepflege
A24: 1.2.30 | B24: Softwarepflege Clientlizenzen | D24: 150 | E24: Stück | F24: =D24*C24 -> 0
B25: SNV-Timago (30 Clients für 5 Jahre)
A26: 1.2.40 | B26: Lizenz Webportal | D26: 5 | E26: Jahre | F26: =D26*C26 -> 0
A28: 1.2.50 | B28: Vernetzen und Einrichten | D28: 1 | E28: psch | F28: =D28*C28 -> 0
B30: Summe RS Tambach-Dietharz | F30: =SUM(F20:F29) -> 0
A32: Position | B32: Bezeichnung | C32: Einheitspreis pro Stück / pro Jahr in Euro netto | D32: Mengenangaben | F32: Gesamtbetrag netto
A33: 1.3 | B33: TGS Tonna
A34: 1.3.10 | B34: Server | D34: 1 | E34: Stück | F34: =D34*C34 -> 0
A36: 1.3.20 | B36: Verlängerung Schulnetzpaket | D36: 5 | E36: Jahre | F36: =D36*C36 -> 0
B37: Softwarepflege
A38: 1.3.30 | B38: Softwarepflege Clientlizenzen | D38: 150 | E38: Stück | F38: =D38*C38 -> 0
B39: SNV-Timago (30 Clients für 5 Jahre)
A40: 1.3.40 | B40: Lizenz Webportal | D40: 5 | E40: Jahre | F40: =D40*C40 -> 0
A42: 1.3.50 | B42: Vernetzen und Einrichten | D42: 1 | E42: psch | F42: =D42*C42 -> 0
B44: Summe TGS Tonna | F44: =SUM(F34:F43) -> 0
A47: 1.4 | B47: RS Wechmar
A48: 1.4.10 | B48: Server | D48: 1 | E48: Stück | F48: =D48*C48 -> 0
A50: 1.4.20 | B50: Verlängerung Schulnetzpaket | D50: 5 | E50: Jahre | F50: =D50*C50 -> 0
B51: Softwarepflege
A52: 1.4.30 | B52: Softwarepflege Clientlizenzen | D52: 250 | E52: Stück | F52: =D52*C52 -> 0
B53: SNV-Timago (50 Clients für 5 Jahre)
A54: 1.4.40 | B54: Lizenz Webportal | D54: 5 | E54: Jahre | F54: =D54*C54 -> 0
A56: 1.4.50 | B56: Vernetzen und Einrichten | D56: 1 | E56: psch | F56: =D56*C56 -> 0
...
