Workbook

Sheet Anrechenbare Kosten
B3: Anrechenbare Kosten
B5: Basisdaten Projekt (gem. Flächen- und Volumenstudie Stand: 06.07.2026)
B7: Kürzel | C7: Fläche
B8: GF | C8: Grundstücksfläche | F8: 4846 | G8: m²
B9: GF (Geb) | C9: Grundfläche Gebäude (Neu + Bestand) | F9: 1917 | G9: m²
B10: AF | C10: Fläche für Außenanlage | F10: 2929 | G10: m²
B11: BGF | C11: Bruttogeschossfläche (Neu) | F11: 4600 | G11: m²
B13: Vorläufige Kosten (Kostenrahmen) nach Kostengruppen gem. DIN 276
G14: Neubau
B15: (% an KG 300 + 400) | C15: 1. Ebene | D15: 2. Ebene | G15: netto
B16: =G16/(G19+G22) -> 0.015817779 | C16: 100 | E16: Grundstück | G16: 500000
B17: =G17/(G19+G22) -> 0.026257513 | C17: 200 | E17: Herrichten und Erschließen | G17: 830000
E18: davon nicht öffentliche Erschließung (außerhalb des Grundstücks) | G18: =(250*265)+(150*160) -> 90250
B19: =G19/(G19+G22) -> 0.3796267 | C19: 300 | E19: Bauwerk - Baukonstruktion | G19: 12000000
E20: davon Kosten für Dachbegrünung | G20: 63750
E21: *Kosten für Reinraumausbau (Abhangdecken, Wände, Doppelboden, etc.) in KG 470 enthalten | K21: TGA-HKLS | M21: TGA-ELT | O21: Reinraum
B22: =G22/(G19+G22) -> 0.6203733 | C22: 400 | E22: Bauwerk - Technische Anlagen | G22: =SUM(G23:G31) -> 19610000 | K22: =SUM(K23:K31) -> 10278830 | L22: =K22/$G22 -> 0.52416267 | M22: =SUM(M23:M31) -> 2487440 | N22: =M22/$G22 -> 0.12684549 | O22: =SUM(O23:O31) -> 6843730 | P22: =O22/$G22 -> 0.34899184
D23: 410 | E23: Abwasser-, Wasser-, Gaslagen | G23: 770000 | K23: =563800-2200-M23 -> 561600 | L23: =K23/$G23 -> 0.72935065 | M23: 0 | N23: =M23/$G23 -> 0 | O23: =G23-K23-M23 -> 208400 | P23: =O23/$G23 -> 0.27064935
D24: 420 | E24: Wärmeversorgungsanlagen | G24: 1480000 | K24: =1098600-4600-M24 -> 1094000 | L24: =K24/$G24 -> 0.73918919 | M24: 0 | N24: =M24/$G24 -> 0 | O24: =G24-K24-M24 -> 386000 | P24: =O24/$G24 -> 0.26081081
D25: 430 | E25: Raumlufttechnische Anlagen | G25: 6200000 | K25: =4289000+13000-M25 -> 4302000 | L25: =K25/$G25 -> 0.69387097 | M25: 0 | N25: =M25/$G25 -> 0 | O25: =G25-K25-M25 -> 1898000 | P25: =O25/$G25 -> 0.30612903
D26: 440 | E26: Elektrische Anlagen | G26: 2400000 | K26: =1797700-6700-M26 -> 0 | L26: =K26/$G26 -> 0 | M26: 1791000 | N26: =M26/$G26 -> 0.74625 | O26: =G26-K26-M26 -> 609000 | P26: =O26/$G26 -> 0.25375
D27: 450 | E27: Kommunikationstechnische Anlagen | G27: 650000 | K27: =475300-3900-M27 -> 0 | L27: =K27/$G27 -> 0 | M27: 471400 | N27: =M27/$G27 -> 0.72523077 | O27: =G27-K27-M27 -> 178600 | P27: =O27/$G27 -> 0.27476923
D28: 460 | E28: Förderanlagen | G28: 200000 | K28: =176480-1440-M28 -> 0 | L28: =K28/$G28 -> 0 | M28: 175040 | N28: =M28/$G28 -> 0.8752 | O28: =G28-K28-M28 -> 24960 | P28: =O28/$G28 -> 0.1248
D29: 470 | E29: Nutzungsspez. / verfahrenstech. Anlagen | G29: 6750000 | K29: =3563750-27400-M29 -> 3536350 | L29: =K29/$G29 -> 0.5239037 | M29: 0 | N29: =M29/$G29 -> 0 | O29: =G29-K29-M29 -> 3213650 | P29: =O29/$G29 -> 0.4760963
D30: 480 | E30: Gebäude- und Anlagenautomation | G30: 950000 | K30: =691700-7500-M30 -> 684200 | L30: =K30/$G30 -> 0.72021053 | M30: 0 | N30: =M30/$G30 -> 0 | O30: =G30-K30-M30 -> 265800 | P30: =O30/$G30 -> 0.27978947
D31: 490 | E31: Sonst. Maßnahmen für techn. Anlagen | G31: 210000 | K31: =156460-5780-M31 -> 100680 | L31: =K31/$G31 -> 0.47942857 | M31: 50000 | N31: =M31/$G31 -> 0.23809524 | O31: =G31-K31-M31 -> 59320 | P31: =O31/$G31 -> 0.28247619
B32: =G32/(G19+G22) -> 0.016766846 | C32: 500 | E32: Außenanlagen und Freiflächen | G32: 530000
B33: =G33/(G19+G22) -> 0.16144261 | C33: 600 | E33: Ausstattung und Kunstwerke | G33: =(5650000-46799-500000) -> 5103201
B34: =G34/(G19+G22) -> 0.22050402 | C34: 700 | E34: Baunebenkosten | G34: 6970132 | I34: gem. Zuwendungsbescheid
C35: Summe | G35: =SUM(G16,G17,G19,G22,G32,G33,G34) -> 45543333
B38: vorläufig anrechenbare Kosten je Leistungsbild
C41: Tragwerksplanung | G41: =((G19-G20)*0.55)+0.1*G22 -> 8525937.5 | K41: Tragwerk: Gebäude (keine Brücke), also 55% der KG300 + 10% der TGA
C42: Bauphysik Wärmeschutz und Energiebilanzierung | G42: =(G19-G20)+IF(G22>(G19-G20)/4,(G19-G20)/4+(G22-(G19-G20)/4)*0.5,G22) -> 23233281 | K42: analog zu Objektplanung
C43: Bauphysik Bauakustik | G43: =G19-G20+G22 -> 31546250 | K43: KG300+ KG400 zu 100%
C44: Bauphysik Raumakustik | G44: =(G19-G20+G22)*(2.7*(370+280+210)/19000) -> 3855283.8 | K44: Anteil der Raumakustisch exemplarisch zu betrachtenden Räume (Büro/Veranstatlung) anGesamt BRI ca.14%

Sheet Zusammenfassung
B2: Preisblatt
B3: * blau hinterlegte Felder werden im Rahmen der Auswertung ausgefüllt
C4: Bieter
C5: Zusammenfassung
B7: H1 | C7: Leistungsbild | M7: Betrag €/netto
C8: 1 | E8: Tragwerksplanung gemäß HOAI Anlage 14 | M8: =Tragwerksplanung!M55 -> 0
C9: 2 | E9: Bauphysik gemäß HOAI Anlage 1 | M9: =Bauphysik!M83 -> 0
C10: Nettopreis der abgefragten Leistungsbilder inkl. besonderer/optionaler Leistungen sowie Zu-und Abschlägen | M10: =SUM(M8:M9) -> 0
B13: H2 | C13: Auftragswert entsprechend der gesondert abrufbaren Leistungsstufen
C14: A) | E14: für die erste Leistungsstufe | H14: (LPH 1 - LPH 2) | M14: =Tragwerksplanung!M52+Bauphysik!M79 -> 0
C15: B) | E15: für die zweite Leistungsstufe | H15: (LPH 3 - LPH 4) | M15: =Tragwerksplanung!M53+Bauphysik!M80 -> 0
C16: C) | E16: für die dritte Leistungsstufe | H16: (LPH 5 - LPH 7) | M16: =Tragwerksplanung!M54+Bauphysik!M81 -> 0
C17: D) | E17: für die vierte Leistungsstufe | H17: (LPH 8) | M17: =Bauphysik!M82 -> 0
C18: Nettopreis der abgefragten Leistungsbilder inkl. besonderer/optionaler Leistungen sowie Zu-und Abschlägen | M18: =SUM(M14:M17) -> 0
E20: Mwst. | L20: 0.19 | M20: =M18*L20 -> 0
B22: H3 | C22: Brutto-Angebotspreis (ohne fiktive Stundensätze und Bauzeitverlängerung) | M22: =M10+M20 -> 0
B24: H4 | C24: fiktive Stundensätze | M24: Betrag €/netto
C25: 1 | E25: Tragwerksplanung | M25: =Tragwerksplanung!M63 -> 0
C26: 2 | E26: Bauphysik | M26: =Bauphysik!M91 -> 0
C27: Nettopreis der fiktiven Stundensätze | M27: =SUM(M25:M26) -> 0
B30: H5 | C30: fiktive Bauzeitverlängerung 6 Monate (gem. Angebotsformular) netto | M30: 0
B32: H6 | C32: Gesamtsumme für die Wertung des Angebots (brutto) inkl. fiktive Stundensätze (netto) und Bauzeitverlängerung (netto) | M32: =M22+M27+M30 -> 0

Sheet Tragwerksplanung
B2: Preisblatt
B4: * grün hinterlegte Felder sind vom Bieter auszufüllen
C5: Bieter
C6: Leistungsbild | M6: Tragwerksplanung gem. HOAI 2021 § 52
C8: vorläufig anrechenbare Kosten: | M8: ='Anrechenbare Kosten'!G41 -> 8525937.5
C9: Mitzuverarbeitende Bausubtanz: | K9: 0 €/m² | M9: 0
C11: Grundhonorar (Honorarzone IV, Basissatz) | M11: 412431.11
B13: Pos. 1 | C13: LPH | E13: Titel | M13: Betrag €/netto
C14: 1 | E14: Grundlagenermittlung | H14: (Grundleistungen a-c) | K14: von | L14: 0.03 | M14: =M11*J14 -> 0
C15: 2 | E15: Vorplanung | H15: (Grundleistungen a-f) | K15: von | L15: 0.1 | M15: =M11*J15 -> 0
C16: 3 | E16: Entwurfsplanung | H16: (Grundleistungen a-i) | K16: von | L16: 0.15 | M16: =M11*J16 -> 0
C17: 4 | E17: Genehmigungsplanung | H17: (Grundleistungen a-f) | K17: von | L17: 0.3 | M17: =M11*J17 -> 0
C18: 5 | E18: Ausführungsplanung | H18: (Grundleistungen a-e) | K18: von | L18: 0.4 | M18: =M11*J18 -> 0
C19: 6 | E19: Vorbereitung der Vergabe | H19: (Grundleistungen a-c) | K19: von | L19: 0.02 | M19: =M11*J19 -> 0
M20: =SUM(M14:M19) -> 0
C22: Zu- und Abschläge auf die Grundleistungen | M22: Betrag €/netto
C23: Umbauzuschlag | H23: (in +/-%) | M23: =(I23*M20) -> 0
C24: Nebenkosten | H24: (in +/-%) | M24: =(I24*M20) -> 0
C25: Reise- und Fahrtkostenentschädigung | H25: (in +/-%) | M25: =(I25*M20) -> 0
C26: Zu- oder Abschlag auf das Grundhonorar | H26: (in +/-%) | M26: =(I26*M20) -> 0
C27: Zwischensumme Grundleistungen | M27: =SUM(M20,M23,M24,M25,M26) -> 0
B29: Pos. 2 | C29: LPH | D29: Nr. | E29: Besondere Leistungen: | H29: (siehe Beiblatt) | M29: Betrag €/netto
C30: 1 | D30: 1.1 | E30: Teilnehmen und Mitwirken beim Termin zur Abstimmung und Festlegung der (…) | L30: Psch
C32: 2 | D32: 2.1 | E32: Workshop: Teilnahme an einem durch den DGNB-Auditor/Nachhaltigkeitsexperten (…) | L32: Psch
C33: 2 | D33: 2.2 | E33: Beachten und Umsetzen der Anforderungen zur Nachhaltigkeit; Integration und (…) | L33: Psch
C34: 2 | D34: 2.3 | E34: Modellbasierte Planungsbesprechungen. Teilnahme an wöchentlichen (ca. 2 Std.) modellbasierten Planungsbesprechungen (…) | L34: Psch
C36: 3 | D36: 3.1 | E36: Teilnahme an Nachhaltigkeitsworkshop (online ca. 2 Std) zu Beginn der (…) | L36: Psch
C37: 3 | D37: 3.2 | E37: Beachten und Umsetzen der Anforderungen zur Nachhaltigkeit; Integration (…) | L37: Psch
C38: 3 | D38: 3.3 | E38: Modellbasierte Planungsbesprechungen: Organisation, Vorbereitung, Leitung (…) | L38: Psch
C39: 3 | D39: 3.4 | E39: Vorgezogene, prüfbare und für die Ausführung geeignete Berechnung der Gründung (…) | L39: Psch
C40: 3 | D40: 3.5 | E40: Nachweise der Erdbebensicherung | L40: Psch
C42: 4 | D42: 4.1 | E42: Nachweise zum konstruktiven Brandschutz, soweit erforderlich unter Berücksichtigung (…) | L42: Psch
C43: 4 | D43: 4.2 | E43: Statische Nachweise an nicht zum Tragwerk gehörende Konstruktionen (…) | L43: Psch
C45: 5 | D45: 5.1 | E45: Start-Termin Nachhaltigkeit: Teilnahme an einem durch den DGNB-Auditor (…) | L45: Psch
... C47: 5 | D47: 5.6 | E47: Modellbasierte Planungsbesprechungen: Organisation, Vorbereitung, Leitung (…) | L47: Psch
C48: Zwischensumme Besondere Leistungen | M48: =SUM(M30:M47) -> 0
C51: Auftragswert entsprechend der gesondert abrufbaren Leistungsstufen
C52: A) | E52: für die erste Leistungsstufe | H52: (LPH 1 - LPH 2) | M52: =SUM((M14+M15)*(I24+I25+I26+I23)+M14+M15+M30+M32+M33+M34) -> 0
C53: B) | E53: für die zweite Leistungsstufe | H53: (LPH 3 - LPH 4) | M53: =SUM((M16+M17)*(I24+I25+I26+I23)+M16+M17+M36+M37+M38+M39+M40+M42+M43) -> 0
C54: C) | E54: für die dritte Leistungsstufe | H54: (LPH 5 - LPH 7) | M54: =SUM((M18+M19)*(I24+I25+I26+I23)+M18+M19+M45+M46+M47) -> 0
...

Sheet Beiblatt-Tragwerkplanung 
B2: Leistungsbild Tragwerksplanung
B5: LPH 1 | C5: Grundlagenermittlung
B6: a | C6: Klären der Aufgabenstellung auf Grund der Vorgaben oder der Bedarfsplanung des Auftraggebers im Benehmen mit dem Objektplaner | D6: x
B7: b | C7: Zusammenstellen der die Aufgabe beeinflussenden Planungsabsichten | D7: x
B8: c | C8: Zusammenfassen, Erläutern und Dokumentieren der Ergebnisse | D8: x
C10: Besondere Leistungen
B11: 1.1 | C11: Teilnehmen und Mitwirken beim Termin zur Abstimmung und Festlegung der Schnittstellen und Übergabeformate für die modellbasierten Planungsbesprechungen mit den weiteren Planungsbeteiligten. Erstellen von Testaustauschdateien unter Berücksichtigung der vorgegeben Workflows und ggf. Leitfäden für den 3D-Prozess (z.B. Dateibenennung, Einfügepunkte, u.ä.m.) | D11: x
B13: LPH2 | C13: Vorplanung (Projekt- und Planungsvorbereitung)
B14: a | C14: Analysieren der Grundlagen | D14: x
B15: b | C15: Beraten in statisch-konstruktiver Hinsicht unter Berücksichtigung der Belange der Standsicherheit, der Gebrauchsfähigkeit und der Wirtschaftlichkeit | D15: x
B16: c | C16: Mitwirken bei dem Erarbeiten eines Planungskonzepts einschließlich Untersuchung der Lösungsmöglichkeiten des Tragwerks unter gleichen Objektbedingungen mit skizzenhafter Darstellung, Klärung und Angabe der für das Tragwerk wesentlichen konstruktiven Festlegungen für zum Beispiel Baustoffe, Bauarten und Herstellungsverfahren, Konstruktionsraster und Gründungsart | D16: x
B17: d | C17: Mitwirken bei Vorverhandlungen mit Behörden und anderen an der Planung fachlich Beteiligten über die Genehmigungsfähigkeit | D17: x
B18: e | C18: Mitwirken bei der Kostenschätzung und bei der Terminplanung | D18: x
B19: f | C19: Zusammenfassen, Erläutern und Dokumentieren der Ergebnisse | D19: x
C21: Besondere Leistungen
B22: 2.1 | C22: Workshop Teilnahme an einem durch den DGNB-Auditor/Nachhaltigkeitsexperten initiierten halbtägigen Workshop in Präsenz zu Beginn der Leistungsphase 2 nach HOAI zur Klärung und Abstimmung des Leistungsumfangs aller Planungs- und Projektbeteiligten zur Integration der Nachhaltigkeitskriterienin die Planung. | D22: x
B23: 2.2 | C23: Beachten und Umsetzen der Anforderungen zur Nachhaltigkeit; Integration und Berücksichtigung der Nachhaltigkeitsanforderungen in die Planung | D23: x
B24: 2.3 | C24: Modellbasierte Planungsbesprechungen Teilnahme an wöchentlichen (ca. 2 Std.) modellbasierten Planungsbesprechungen einschließlich Prüfung und Abgabe des kollisionsfreien Fachmodells sowie die Bearbeitung der erforderlichen Anpassungen. | D24: x
B26: LPH3 | C26: Entwurfsplanung (System- und Integrationsplanung)
B27: a | C27: Erarbeiten der Tragwerkslösung, unter Beachtung der durch die Objektplanung integrierten Fachplanungen, bis zum konstruktiven Entwurf mit zeichnerischer Darstellung | D27: x
B28: b | C28: Überschlägige statische Berechnung und Bemessung | D28: x
B29: c | C29: Grundlegende Festlegungen der konstruktiven Details und Hauptabmessungen des Tragwerks für zum Beispiel Gestaltung der tragenden Querschnitte, Aussparungen und Fugen; Ausbildung der Auflager- und Knotenpunkte sowie der Verbindungsmittel | D29: x
B30: d | C30: Überschlägiges Ermitteln der Betonstahlmengen im Stahlbetonbau, der Stahlmengen im Stahlbau und der Holzmengen im Ingenieurholzbau | D30: x
B31: e | C31: Mitwirken bei der Objektbeschreibung bzw. beim Erläuterungsbericht | D31: x
B32: f | C32: Mitwirken bei Verhandlungen mit Behörden und anderen an der Planung fachlich Beteiligten über die Genehmigungsfähigkeit | D32: x
B33: g | C33: Mitwirken bei der Kostenberechnung und bei der Terminplanung | D33: x
B34: h | C34: Mitwirken beim Vergleich der Kostenberechnung mit der Kostenschätzung | D34: x
B35: i | C35: Zusammenfassen, Erläutern und Dokumentieren der Ergebnisse | D35: x
C37: Besondere Leistungen
B38: 3.1 | C38: Teilnahme an Nachhaltigkeitsworkshop (online ca. 2 Std.) zu Beginn der Leistungsphase 3 nach HOAI zur Klärung und Abstimmung des Leistungsumfangs aller Planungs- und Projektbeteiligten zur Integration der Nachhaltigkeitskriterien in die Planung | D38: x
B39: 3.2 | C39: Beachten und Umsetzen der Anforderungen zur Nachhaltigkeit; Integration und Berücksichtigung der Nachhaltigkeitsanforderungen in die Planung | D39: x
B40: 3.3 | C40: Modellbasierte Planungsbesprechungen. Teilnahme an wöchentlichen (ca. 2Std.) modellbasierten Planungsbesprechungen einschließlich Prüfung und Abgabe des kollisionsfreien Fachmodells sowie die Bearbeitung der erforderlichen Anpassungen. | D40: x
B41: 3.4 | C41: Vorgezogene, prüfbare und für die Ausführung geeignete Berechnung der Gründung | D41: optional*
B42: 3.6 | C42: Nachweise der Erdbebensicherung | D42: x
B44: LPH4 | C44: Genehmigungsplanung
B45: a | C45: Aufstellen der prüffähigen statischen Berechnungen für das Tragwerk unter Berücksichtigung der vorgegebenen bauphysikalischen Anforderungen | D45: x
B46: b | C46: Bei Ingenieurbauwerken: Erfassen von normalen Bauzuständen | D46: x
B47: c | C47: Anfertigen der Positionspläne für das Tragwerk oder Eintragen der statischen Positionen, der Tragwerksabmessungen, der Verkehrslasten, der Art und Güte der Baustoffe und der Besonderheiten der Konstruktionen in die Entwurfszeichnungen des Objektplaners | D47: x
B48: d | C48: Zusammenstellen der Unterlagen der Tragwerksplanung zur Genehmigung | D48: x
B49: e | C49: Abstimmen mit Prüfämtern und Prüfingenieuren oder Eigenkontrolle | D49: x
...

Sheet Bauphysik
B2: Preisblatt
B4: * grün hinterlegte Felder sind vom Bieter auszufüllen
C5: Bieter
C6: Leistungsbild | M6: Bauphysik gem. HOAI 2021 Anlage 1, Ziffer 1.2
C8: vorläufig anrechenbare Kosten (Wärmeschutz/Energiebilanzierung): | M8: ='Anrechenbare Kosten'!G42 -> 23233281
C9: vorläufig anrechenbare Kosten (Bauakustik): | M9: ='Anrechenbare Kosten'!G43 -> 31546250
C10: vorläufig anrechenbare Kosten (Raumakustik): | M10: ='Anrechenbare Kosten'!G44 -> 3855283.8
C11: Mitzuverarbeitende Bausubtanz: | K11: 0 €/m² | M11: 0
C13: Grundhonorar Wärmeschutz und Energiebilanzierung (Honorarzone III, Basissatz) | M13: 33343.1
C14: Grundhonorar Bauakustik (Honorarzone II, Basissatz)* | M14: 48000
C15: Grundhonorar Raumakustik (Honorarzone II, Basissatz) | M15: 15274.45
B17: Pos. 1.1 | C17: LPH | E17: Titel | H17: Wärmeschutz/Energiebilanzierung | M17: Betrag €/netto
C18: 1 | E18: Grundlagenermittlung | H18: (Grundleistungen a-b) | K18: von | L18: 0.03 | M18: =M$13*J18 -> 0
C19: 2 | E19: Vorplanung | H19: (Grundleistungen a-f) | K19: von | L19: 0.2 | M19: =M13*J19 -> 0
C20: 3 | E20: Entwurfsplanung | H20: (Grundleistungen a-f) | K20: von | L20: 0.4 | M20: =M13*J20 -> 0
C21: 4 | E21: Genehmigungsplanung | H21: (Grundleistungen a-c) | K21: von | L21: 0.06 | M21: =M13*J21 -> 0
C22: 5 | E22: Ausführungsplanung | H22: (Grundleistungen a-b) | K22: von | L22: 0.27 | M22: =M13*J22 -> 0
C23: 6 | E23: Vorbereitung der Vergabe | H23: (Grundleistungen a) | K23: von | L23: 0.02 | M23: =M13*J23 -> 0
C24: 7 | E24: Mitwirkung bei der Vergabe | H24: (Grundleistungen a) | K24: von | L24: 0.02 | M24: =M13*J24 -> 0
M25: =SUM(M18:M24) -> 0
B27: Pos. 1.2 | C27: LPH | E27: Titel | H27: Bauakustik | M27: Betrag €/netto
C28: 1 | E28: Grundlagenermittlung | H28: (Grundleistungen a-b) | K28: von | L28: 0.03 | M28: =M$14*J28 -> 0
C29: 2 | E29: Vorplanung | H29: (Grundleistungen a-f) | K29: von | L29: 0.2 | M29: =M$14*J29 -> 0
C30: 3 | E30: Entwurfsplanung | H30: (Grundleistungen a-f) | K30: von | L30: 0.4 | M30: =M$14*J30 -> 0
C31: 4 | E31: Genehmigungsplanung | H31: (Grundleistungen a-c) | K31: von | L31: 0.06 | M31: =M$14*J31 -> 0
C32: 5 | E32: Ausführungsplanung | H32: (Grundleistungen a-b) | K32: von | L32: 0.27 | M32: =M$14*J32 -> 0
C33: 6 | E33: Vorbereitung der Vergabe | H33: (Grundleistungen a) | K33: von | L33: 0.02 | M33: =M$14*J33 -> 0
C34: 7 | E34: Mitwirkung bei der Vergabe | H34: (Grundleistungen a) | K34: von | L34: 0.02 | M34: =M$14*J34 -> 0
M35: =SUM(M28:M34) -> 0
B37: Pos. 1.3 | C37: LPH | E37: Titel | H37: Raumakustik | M37: Betrag €/netto
C38: 1 | E38: Grundlagenermittlung | H38: (Grundleistungen a-b) | K38: von | L38: 0.03 | M38: =M$15*J38 -> 0
C39: 2 | E39: Vorplanung | H39: (Grundleistungen a-f) | K39: von | L39: 0.2 | M39: =M$15*J39 -> 0
C40: 3 | E40: Entwurfsplanung | H40: (Grundleistungen a-f) | K40: von | L40: 0.4 | M40: =M$15*J40 -> 0
C41: 4 | E41: Genehmigungsplanung | H41: (Grundleistungen a-c) | K41: von | L41: 0.06 | M41: =M$15*J41 -> 0
C42: 5 | E42: Ausführungsplanung | H42: (Grundleistungen a-b) | K42: von | L42: 0.27 | M42: =M$15*J42 -> 0
C43: 6 | E43: Vorbereitung der Vergabe | H43: (Grundleistungen a) | K43: von | L43: 0.02 | M43: =M$15*J43 -> 0
C44: 7 | E44: Mitwirkung bei der Vergabe | H44: (Grundleistungen a) | K44: von | L44: 0.02 | M44: =M$15*J44 -> 0
M45: =SUM(M38:M44) -> 0
C47: Zu- und Abschläge auf die Grundleistungen | M47: Betrag €/netto
C48: Umbauzuschlag | H48: (in +/-%) | M48: =(I48*(M25+M35+M45)) -> 0
...

Sheet Beiblatt-Bauphysik
B2: Leistungsbild Bauphysik
B3: Das Leistungsbild bezieht sich auf alle Felder der Bauphysik (Wärmeschutz und Energiebilanzierung / Bauakustik / Raumakustik) wenn nicht anders beschrieben
B5: LPH 1 | C5: Grundlagenermittlung
B6: a | C6: Klären der Aufgabenstellung | D6: x
B7: b | C7: Festlegen der Grundlagen, Vorgaben und Ziele | D7: x
C9: Besondere Leistungen
B10: 1.1 | C10: Teilnehmen und Mitwirken beim Termin zur Abstimmung und Festlegung der Schnittstellen und Übergabeformate für die modellbasierten Planungsbesprechungen mit den weiteren Planungsbeteiligten, hinsichtlich späterer Nutzung der 3D-Modelle als Grundlage für die LCA und LCC. | D10: x
B12: LPH2 | C12: Mitwirkung bei der Vorplanung
B13: a | C13: Analyse der Grundlagen | D13: x
B14: b | C14: Klären der wesentlichen Zusammenhänge von Gebäuden und technischen Anlagen einschließlich Betrachtung von Alternativen | D14: x
B15: c | C15: Vordimensionieren der relevanten Bauteile des Gebäudes | D15: x
B16: d | C16: Mitwirken beim Abstimmen der fachspezifischen Planungskonzepte der Objektplanung und der Fachplanungen | D16: x
B17: e | C17: Erstellen eines Gesamtkonzeptes in Abstimmung mit der Objektplanung und den Fachplanungen | D17: x
B18: f | C18: Erstellen von Rechenmodellen, Auflisten der wesentlichen Kennwerte als Arbeitsgrundlage für Objektplanung und Fachplanungen | D18: x
C20: Besondere Leistungen
B21: 2.1 | C21: Workshop Teilnahme an einem durch den DGNB-Auditor/Nachhaltigkeitsexperten initiierten halbtägigen Workshop in Präsenz zu Beginn der Leistungsphase 2 nach HOAI zur Klärung und Abstimmung des Leistungsumfangs aller Planungs- und Projektbeteiligten zur Integration der Nachhaltigkeitskriterienin die Planung. | D21: x
B22: 2.2 | C22: Mitwirken beim Klären von Vorgaben zur Erreichung der Nachhaltigkeitsziele im Hinblick auf die DGNB-Zertifizierung und bei deren Umsetzung. | D22: x
B23: 2.3 | C23: Beachten und Umsetzen der Anforderungen zur Nachhaltigkeit; Integration und Berücksichtigung der Nachhaltigkeitsanforderungen in die Planung | D23: x
B24: 2.4 | C24: Erstellen einer vereinfachten Ökobilanzierung (LCA) während der Entwurfsphase als Zuarbeit für die DGNB-Zertifizierung (gegenüberstellung der Gebäudevarianten hinsichtlich ihrer potentiellen ökologischen Herstell- und relevanter Nutzungsauswikrungen) | D24: x
B25: 2.5 | C25: Erstellen einer vereinfachten Lebenszykluskostensystematik (LCC) während der Entwurfsphase - zumindest für die zu erwartenden Energiekosten - als Zuarbeit für die DGNB-Zertifizierung | D25: x
B27: LPH3 | C27: Mitwirken bei der Entwurfsplanung
B28: a | C28: Fortschreiben der Rechenmodelle und der wesentlichen Kennwerte für das Gebäude | D28: x
B29: b | C29: Mitwirken beim Fortschreiben der Planungskonzepte der Objektplanung und Fachplanung bis zum vollständigen Entwurf | D29: x
B30: c | C30: Bemessen der Bauteile des Gebäudes | D30: x
B31: d | C31: Überschlägiges Ermitteln der Betonstahlmengen im Stahlbetonbau, der Stahlmengen im Stahlbau und der Holzmengen im Ingenieurholzbau | D31: x
B32: e | C32: Erarbeiten von Übersichtsplänen und des Erläuterungsberichtes mit Vorgaben, Grundlagen und Auslegungsdaten | D32: x
B33: f | C33: Mitwirken bei Verhandlungen mit Behörden und anderen an der Planung fachlich Beteiligten über die Genehmigungsfähigkeit | D33: x
C35: Besondere Leistungen
B36: 3.1 | C36: Teilnahme an Nachhaltigkeitsworkshop (online ca. 2 Std.) zu Beginn der Leistungsphase 3 nach HOAI zur Klärung und Abstimmung des Leistungsumfangs aller Planungs- und Projektbeteiligten zur Integration der Nachhaltigkeitskriterien in die Planung | D36: x
B37: 3.2 | C37: Beachten und Umsetzen der Anforderungen zur Nachhaltigkeit; Integration und Berücksichtigung der Nachhaltigkeitsanforderungen in die Planung | D37: x
B38: 3.3 | C38: Simulationen zur Prognose des Verhaltens von Bauteilen, Räumen, Gebäuden und Freiräumen (ca. Umfang: besondere Berechnungen von fünf Wärmebrücken, Betrachtung von fünf kritischen Räumen hinsichltich des sommerlichen Wärmeschutzes, raumakustische Berechnung von fünf Räumen) | D38: x
B39: 3.4 | C39: Erstellen von bis zu drei Vorabberechnungen für DGNB-Zertifizierungskriterien in Abstimmung mit dem DGNB-Auditor | D39: x
B41: LPH4 | C41: Mitwirkung bei der Genehmigungsplanung
B42: a | C42: Mitwirken beim Aufstellen der Genehmigungsplanung und bei Vorgesprächen mit Behörden | D42: x
B43: b | C43: Aufstellen der förmlichen Nachweise | D43: x
B44: c | C44: Vervollständigen und Anpassen der Unterlagen | D44: x
C46: Besondere Leistungen
B48: LPH5 | C48: Mitwirkung bei der Ausführungsplanung
B49: a | C49: Durcharbeiten der Ergebnisse der Leistungsphasen 3 und 4 unter Beachtung der durch die Objektplanung integrierten Fachplanungen | D49: x
B50: b | C50: Mitwirken bei der Ausführungsplanung durch ergänzende Angaben für die Objektplanung und Fachplanungen | D50: x
...
