Workbook

Sheet Bieterangaben
B1: Bieterangaben (graue Felder)
B3: Gesamtpreis und Wartungskosten
C4: Bieter 1 | E4: Bieter 2
B5: Gesamtpreis Netto
B7: Wartung 1. Jahr netto
B8: brutto | C8: =C7*1.19 -> 0 | E8: =E7*1.19 -> 0
B10: Wartung 2. Jahr netto
B11: brutto | C11: =C10*1.19 -> 0 | E11: =E10*1.19 -> 0
B13: Wartung 3. Jahr netto
B14: brutto | C14: =C13*1.19 -> 0 | E14: =E13*1.19 -> 0
B16: Wartung 4. Jahr netto
B17: brutto | C17: =C16*1.19 -> 0 | E17: =E16*1.19 -> 0
B19: Gesamtpreis Netto ohne Wartung | C19: =C5-C7-C10-C13-C16 -> 0 | E19: =E5-E7-E10-E13-E16 -> 0
B20: Gesamtpreis Brutto ohne Wartung | C20: =C19*1.19 -> 0 | E20: =E19*1.19 -> 0
B22: Gesamtleistungsaufnahme der Verdichter
C23: Bieter 1 | G23: Bieter 2
B24: bei Norm-Volumenstrom [Nm³/h] | C24: Grundlast-verdichter [kW] | E24: Hauptlast-verdichter [kW] | G24: Grundlast-verdichter [kW] | I24: Hauptlast-verdichter [kW]
B25: 3000 | E25: 0 | I25: 0
B26: 3500 | E26: 0 | I26: 0
B27: 4000 | E27: 0 | I27: 0
B28: 4500 | E28: 0 | I28: 0
B29: 5000 | E29: 0 | I29: 0
B30: 5500 | E30: 0 | I30: 0
B31: 6000
B32: 6500
B33: 7000
B34: 7500 | C34: 0 | G34: 0
B35: 8000 | C35: 0 | G35: 0
B36: 8500 | C36: 0 | G36: 0
B37: 9000 | C37: 0 | G37: 0
B38: 9500 | C38: 0 | G38: 0
B39: 10000 | C39: 0 | G39: 0
B40: 10500 | C40: 0 | G40: 0
B41: 11000 | C41: 0 | G41: 0
B42: 11500 | C42: 0 | G42: 0
B43: 12000 | C43: 0 | G43: 0
B44: 12500 | C44: 0 | G44: 0
B46: Interpolationen Gesamtleistungsaufnahme
C47: Bieter 1 | G47: Bieter 2
B48: bei Norm-Volumenstrom [Nm³/h] | C48: Grundlast-verdichter [kW] | E48: Hauptlast-verdichter [kW] | G48: Grundlast-verdichter [kW] | I48: Hauptlast-verdichter [kW]
...

Sheet Luftmengenv. & Energieverbrauch
B1: Luftmengenverteilung und Energieverbrauch
B22: Kläranlage Hof Luftmengenverteilung | L22: =Wirtschaftlichkeit!B17 -> Bieter 1 | O22: =Wirtschaftlichkeit!J17 -> Bieter 2
B23: Klasse [Nm³/h] | C23: Relative häufigkeit [%] | D23: Summen-häufigkeit [%] | E23: Rechenwert Klasse [Nm³/h] | F23: Grundlast-verdichter | G23: Hauptlast-verdichter | H23: Interplations-wert Grundlast-verdichter [Nm³/h] | I23: Interplations-wert Hauptlast-verdichter [Nm³/h] | J23: Stunden | K23: Luftmenge [Nm³] | L23: Leistungs- aufnahme [kW] | M23: Spezifische System Energieaufnahme [Wh/Nm³] | N23: Verbrauch [kWh/]a | O23: Leistungs- aufnahme [kW] | P23: Spezifische System Energie-aufnahme [Wh/Nm³] | Q23: Verbrauch [kWh/]a
B24: 3000 | C24: 0 | D24: =C24 -> 0 | E24: =B24 -> 3000 | F24: 1 | G24: 0 | H24: =E24 -> 3000 | I24: 0 | J24: =C24/100*8760 -> 0 | K24: =J24*E24 -> 0 | L24: =$F24*INDEX(Bieterangaben!C$49:C$434,MATCH($H24,Bieterangaben!$B$49:$B$434,0))+$G24*INDEX(Bieterangaben!E$49:E$434,MATCH($I24,Bieterangaben!$B$49:$B$434,0)) -> 0 | M24: =L24*1000/$E24 -> 0 | N24: =L24*$J24 -> 0 | O24: =$F24*INDEX(Bieterangaben!G$49:G$434,MATCH($H24,Bieterangaben!$B$49:$B$434,0))+$G24*INDEX(Bieterangaben!I$49:I$434,MATCH($I24,Bieterangaben!$B$49:$B$434,0)) -> 0 | P24: =O24*1000/$E24 -> 0 | Q24: =O24*$J24 -> 0
B25: 3500 | C25: 0 | D25: =C25+D24 -> 0 | E25: =B25-250 -> 3250 | F25: 1 | G25: 0 | H25: =E25 -> 3250 | I25: 0 | J25: =C25/100*8760 -> 0 | K25: =J25*E25 -> 0 | L25: =$F25*INDEX(Bieterangaben!C$49:C$434,MATCH($H25,Bieterangaben!$B$49:$B$434,0))+$G25*INDEX(Bieterangaben!E$49:E$434,MATCH($I25,Bieterangaben!$B$49:$B$434,0)) -> 0 | M25: =L25*1000/$E25 -> 0 | N25: =L25*$J25 -> 0 | O25: =$F25*INDEX(Bieterangaben!G$49:G$434,MATCH($H25,Bieterangaben!$B$49:$B$434,0))+$G25*INDEX(Bieterangaben!I$49:I$434,MATCH($I25,Bieterangaben!$B$49:$B$434,0)) -> 0 | P25: =O25*1000/$E25 -> 0 | Q25: =O25*$J25 -> 0
B26: 4000 | C26: 0 | D26: =C26+D25 -> 0 | E26: =B26-250 -> 3750 | F26: 1 | G26: 0 | H26: =E26 -> 3750 | I26: 0 | J26: =C26/100*8760 -> 0 | K26: =J26*E26 -> 0 | L26: =$F26*INDEX(Bieterangaben!C$49:C$434,MATCH($H26,Bieterangaben!$B$49:$B$434,0))+$G26*INDEX(Bieterangaben!E$49:E$434,MATCH($I26,Bieterangaben!$B$49:$B$434,0)) -> 0 | M26: =L26*1000/$E26 -> 0 | N26: =L26*$J26 -> 0 | O26: =$F26*INDEX(Bieterangaben!G$49:G$434,MATCH($H26,Bieterangaben!$B$49:$B$434,0))+$G26*INDEX(Bieterangaben!I$49:I$434,MATCH($I26,Bieterangaben!$B$49:$B$434,0)) -> 0 | P26: =O26*1000/$E26 -> 0 | Q26: =O26*$J26 -> 0
B27: 4500 | C27: 0.026260504 | D27: =C27+D26 -> 0.026260504 | E27: =B27-250 -> 4250 | F27: 1 | G27: 0 | H27: =E27 -> 4250 | I27: 0 | J27: =C27/100*8760 -> 2.3004202 | K27: =J27*E27 -> 9776.7857 | L27: =$F27*INDEX(Bieterangaben!C$49:C$434,MATCH($H27,Bieterangaben!$B$49:$B$434,0))+$G27*INDEX(Bieterangaben!E$49:E$434,MATCH($I27,Bieterangaben!$B$49:$B$434,0)) -> 0 | M27: =L27*1000/$E27 -> 0 | N27: =L27*$J27 -> 0 | O27: =$F27*INDEX(Bieterangaben!G$49:G$434,MATCH($H27,Bieterangaben!$B$49:$B$434,0))+$G27*INDEX(Bieterangaben!I$49:I$434,MATCH($I27,Bieterangaben!$B$49:$B$434,0)) -> 0 | P27: =O27*1000/$E27 -> 0 | Q27: =O27*$J27 -> 0
B28: 5000 | C28: 0.24801587 | D28: =C28+D27 -> 0.27427638 | E28: =B28-250 -> 4750 | F28: 1 | G28: 0 | H28: =E28 -> 4750 | I28: 0 | J28: =C28/100*8760 -> 21.72619 | K28: =J28*E28 -> 103199.4 | L28: =$F28*INDEX(Bieterangaben!C$49:C$434,MATCH($H28,Bieterangaben!$B$49:$B$434,0))+$G28*INDEX(Bieterangaben!E$49:E$434,MATCH($I28,Bieterangaben!$B$49:$B$434,0)) -> 0 | M28: =L28*1000/$E28 -> 0 | N28: =L28*$J28 -> 0 | O28: =$F28*INDEX(Bieterangaben!G$49:G$434,MATCH($H28,Bieterangaben!$B$49:$B$434,0))+$G28*INDEX(Bieterangaben!I$49:I$434,MATCH($I28,Bieterangaben!$B$49:$B$434,0)) -> 0 | P28: =O28*1000/$E28 -> 0 | Q28: =O28*$J28 -> 0
B29: 5500 | C29: 3.3584267 | D29: =C29+D28 -> 3.6327031 | E29: =B29-250 -> 5250 | F29: 1 | G29: 0 | H29: =E29 -> 5250 | I29: 0 | J29: =C29/100*8760 -> 294.19818 | K29: =J29*E29 -> 1544540.4 | L29: =$F29*INDEX(Bieterangaben!C$49:C$434,MATCH($H29,Bieterangaben!$B$49:$B$434,0))+$G29*INDEX(Bieterangaben!E$49:E$434,MATCH($I29,Bieterangaben!$B$49:$B$434,0)) -> 0 | M29: =L29*1000/$E29 -> 0 | N29: =L29*$J29 -> 0 | O29: =$F29*INDEX(Bieterangaben!G$49:G$434,MATCH($H29,Bieterangaben!$B$49:$B$434,0))+$G29*INDEX(Bieterangaben!I$49:I$434,MATCH($I29,Bieterangaben!$B$49:$B$434,0)) -> 0 | P29: =O29*1000/$E29 -> 0 | Q29: =O29*$J29 -> 0
B30: 6000 | C30: 7.7614379 | D30: =C30+D29 -> 11.394141 | E30: =B30-250 -> 5750 | F30: 1 | G30: 0 | H30: =E30 -> 5750 | I30: 0 | J30: =C30/100*8760 -> 679.90196 | K30: =J30*E30 -> 3909436.3 | L30: =$F30*INDEX(Bieterangaben!C$49:C$434,MATCH($H30,Bieterangaben!$B$49:$B$434,0))+$G30*INDEX(Bieterangaben!E$49:E$434,MATCH($I30,Bieterangaben!$B$49:$B$434,0)) -> 0 | M30: =L30*1000/$E30 -> 0 | N30: =L30*$J30 -> 0 | O30: =$F30*INDEX(Bieterangaben!G$49:G$434,MATCH($H30,Bieterangaben!$B$49:$B$434,0))+$G30*INDEX(Bieterangaben!I$49:I$434,MATCH($I30,Bieterangaben!$B$49:$B$434,0)) -> 0 | P30: =O30*1000/$E30 -> 0 | Q30: =O30*$J30 -> 0
B31: 6500 | C31: 5.952381 | D31: =C31+D30 -> 17.346522 | E31: =B31-250 -> 6250 | F31: 1 | G31: 0 | H31: =E31 -> 6250 | I31: 0 | J31: =C31/100*8760 -> 521.42857 | K31: =J31*E31 -> 3258928.6 | L31: =$F31*INDEX(Bieterangaben!C$49:C$434,MATCH($H31,Bieterangaben!$B$49:$B$434,0))+$G31*INDEX(Bieterangaben!E$49:E$434,MATCH($I31,Bieterangaben!$B$49:$B$434,0)) -> 0 | M31: =L31*1000/$E31 -> 0 | N31: =L31*$J31 -> 0 | O31: =$F31*INDEX(Bieterangaben!G$49:G$434,MATCH($H31,Bieterangaben!$B$49:$B$434,0))+$G31*INDEX(Bieterangaben!I$49:I$434,MATCH($I31,Bieterangaben!$B$49:$B$434,0)) -> 0 | P31: =O31*1000/$E31 -> 0 | Q31: =O31*$J31 -> 0
B32: 7000 | C32: 4.8260971 | D32: =C32+D31 -> 22.172619 | E32: =B32-250 -> 6750 | F32: 0 | G32: 1 | H32: 0 | I32: =E32 -> 6750 | J32: =C32/100*8760 -> 422.76611 | K32: =J32*E32 -> 2853671.2 | L32: =$F32*INDEX(Bieterangaben!C$49:C$434,MATCH($H32,Bieterangaben!$B$49:$B$434,0))+$G32*INDEX(Bieterangaben!E$49:E$434,MATCH($I32,Bieterangaben!$B$49:$B$434,0)) -> 0 | M32: =L32*1000/$E32 -> 0 | N32: =L32*$J32 -> 0 | O32: =$F32*INDEX(Bieterangaben!G$49:G$434,MATCH($H32,Bieterangaben!$B$49:$B$434,0))+$G32*INDEX(Bieterangaben!I$49:I$434,MATCH($I32,Bieterangaben!$B$49:$B$434,0)) -> 0 | P32: =O32*1000/$E32 -> 0 | Q32: =O32*$J32 -> 0
B33: 7500 | C33: 5.214169 | D33: =C33+D32 -> 27.386788 | E33: =B33-250 -> 7250 | F33: 0 | G33: 1 | H33: 0 | I33: =E33 -> 7250 | J33: =C33/100*8760 -> 456.7612 | K33: =J33*E33 -> 3311518.7 | L33: =$F33*INDEX(Bieterangaben!C$49:C$434,MATCH($H33,Bieterangaben!$B$49:$B$434,0))+$G33*INDEX(Bieterangaben!E$49:E$434,MATCH($I33,Bieterangaben!$B$49:$B$434,0)) -> 0 | M33: =L33*1000/$E33 -> 0 | N33: =L33*$J33 -> 0 | O33: =$F33*INDEX(Bieterangaben!G$49:G$434,MATCH($H33,Bieterangaben!$B$49:$B$434,0))+$G33*INDEX(Bieterangaben!I$49:I$434,MATCH($I33,Bieterangaben!$B$49:$B$434,0)) -> 0 | P33: =O33*1000/$E33 -> 0 | Q33: =O33*$J33 -> 0
B34: 8000 | C34: 5.9552988 | D34: =C34+D33 -> 33.342087 | E34: =B34-250 -> 7750 | F34: 0 | G34: 1 | H34: 0 | I34: =E34 -> 7750 | J34: =C34/100*8760 -> 521.68417 | K34: =J34*E34 -> 4043052.3 | L34: =$F34*INDEX(Bieterangaben!C$49:C$434,MATCH($H34,Bieterangaben!$B$49:$B$434,0))+$G34*INDEX(Bieterangaben!E$49:E$434,MATCH($I34,Bieterangaben!$B$49:$B$434,0)) -> 0 | M34: =L34*1000/$E34 -> 0 | N34: =L34*$J34 -> 0 | O34: =$F34*INDEX(Bieterangaben!G$49:G$434,MATCH($H34,Bieterangaben!$B$49:$B$434,0))+$G34*INDEX(Bieterangaben!I$49:I$434,MATCH($I34,Bieterangaben!$B$49:$B$434,0)) -> 0 | P34: =O34*1000/$E34 -> 0 | Q34: =O34*$J34 -> 0
B35: 8500 | C35: 5.9086134 | D35: =C35+D34 -> 39.2507 | E35: =B35-250 -> 8250 | F35: 0 | G35: 1 | H35: 0 | I35: =E35 -> 8250 | J35: =C35/100*8760 -> 517.59454 | K35: =J35*E35 -> 4270154.9 | L35: =$F35*INDEX(Bieterangaben!C$49:C$434,MATCH($H35,Bieterangaben!$B$49:$B$434,0))+$G35*INDEX(Bieterangaben!E$49:E$434,MATCH($I35,Bieterangaben!$B$49:$B$434,0)) -> 0 | M35: =L35*1000/$E35 -> 0 | N35: =L35*$J35 -> 0 | O35: =$F35*INDEX(Bieterangaben!G$49:G$434,MATCH($H35,Bieterangaben!$B$49:$B$434,0))+$G35*INDEX(Bieterangaben!I$49:I$434,MATCH($I35,Bieterangaben!$B$49:$B$434,0)) -> 0 | P35: =O35*1000/$E35 -> 0 | Q35: =O35*$J35 -> 0
B36: 9000 | C36: 5.6547619 | D36: =C36+D35 -> 44.905462 | E36: =B36-250 -> 8750 | F36: 0 | G36: 1 | H36: 0 | I36: =E36 -> 8750 | J36: =C36/100*8760 -> 495.35714 | K36: =J36*E36 -> 4334375 | L36: =$F36*INDEX(Bieterangaben!C$49:C$434,MATCH($H36,Bieterangaben!$B$49:$B$434,0))+$G36*INDEX(Bieterangaben!E$49:E$434,MATCH($I36,Bieterangaben!$B$49:$B$434,0)) -> 0 | M36: =L36*1000/$E36 -> 0 | N36: =L36*$J36 -> 0 | O36: =$F36*INDEX(Bieterangaben!G$49:G$434,MATCH($H36,Bieterangaben!$B$49:$B$434,0))+$G36*INDEX(Bieterangaben!I$49:I$434,MATCH($I36,Bieterangaben!$B$49:$B$434,0)) -> 0 | P36: =O36*1000/$E36 -> 0 | Q36: =O36*$J36 -> 0
B37: 9500 | C37: 4.9603175 | D37: =C37+D36 -> 49.86578 | E37: =B37-250 -> 9250 | F37: 0 | G37: 1 | H37: 0 | I37: =E37 -> 9250 | J37: =C37/100*8760 -> 434.52381 | K37: =J37*E37 -> 4019345.2 | L37: =$F37*INDEX(Bieterangaben!C$49:C$434,MATCH($H37,Bieterangaben!$B$49:$B$434,0))+$G37*INDEX(Bieterangaben!E$49:E$434,MATCH($I37,Bieterangaben!$B$49:$B$434,0)) -> 0 | M37: =L37*1000/$E37 -> 0 | N37: =L37*$J37 -> 0 | O37: =$F37*INDEX(Bieterangaben!G$49:G$434,MATCH($H37,Bieterangaben!$B$49:$B$434,0))+$G37*INDEX(Bieterangaben!I$49:I$434,MATCH($I37,Bieterangaben!$B$49:$B$434,0)) -> 0 | P37: =O37*1000/$E37 -> 0 | Q37: =O37*$J37 -> 0
B38: 10000 | C38: 4.8581933 | D38: =C38+D37 -> 54.723973 | E38: =B38-250 -> 9750 | F38: 0 | G38: 1 | H38: 0 | I38: =E38 -> 9750 | J38: =C38/100*8760 -> 425.57773 | K38: =J38*E38 -> 4149382.9 | L38: =$F38*INDEX(Bieterangaben!C$49:C$434,MATCH($H38,Bieterangaben!$B$49:$B$434,0))+$G38*INDEX(Bieterangaben!E$49:E$434,MATCH($I38,Bieterangaben!$B$49:$B$434,0)) -> 0 | M38: =L38*1000/$E38 -> 0 | N38: =L38*$J38 -> 0 | O38: =$F38*INDEX(Bieterangaben!G$49:G$434,MATCH($H38,Bieterangaben!$B$49:$B$434,0))+$G38*INDEX(Bieterangaben!I$49:I$434,MATCH($I38,Bieterangaben!$B$49:$B$434,0)) -> 0 | P38: =O38*1000/$E38 -> 0 | Q38: =O38*$J38 -> 0
B39: 10500 | C39: 4.7152194 | D39: =C39+D38 -> 59.439192 | E39: =B39-250 -> 10250 | F39: 0 | G39: 1 | H39: 0 | I39: =E39 -> 10250 | J39: =C39/100*8760 -> 413.05322 | K39: =J39*E39 -> 4233795.5 | L39: =$F39*INDEX(Bieterangaben!C$49:C$434,MATCH($H39,Bieterangaben!$B$49:$B$434,0))+$G39*INDEX(Bieterangaben!E$49:E$434,MATCH($I39,Bieterangaben!$B$49:$B$434,0)) -> 0 | M39: =L39*1000/$E39 -> 0 | N39: =L39*$J39 -> 0 | O39: =$F39*INDEX(Bieterangaben!G$49:G$434,MATCH($H39,Bieterangaben!$B$49:$B$434,0))+$G39*INDEX(Bieterangaben!I$49:I$434,MATCH($I39,Bieterangaben!$B$49:$B$434,0)) -> 0 | P39: =O39*1000/$E39 -> 0 | Q39: =O39*$J39 -> 0
B40: 11000 | C40: 5.2929505 | D40: =C40+D39 -> 64.732143 | E40: =B40-250 -> 10750 | F40: 0 | G40: 1 | H40: 0 | I40: =E40 -> 10750 | J40: =C40/100*8760 -> 463.66246 | K40: =J40*E40 -> 4984371.5 | L40: =$F40*INDEX(Bieterangaben!C$49:C$434,MATCH($H40,Bieterangaben!$B$49:$B$434,0))+$G40*INDEX(Bieterangaben!E$49:E$434,MATCH($I40,Bieterangaben!$B$49:$B$434,0)) -> 0 | M40: =L40*1000/$E40 -> 0 | N40: =L40*$J40 -> 0 | O40: =$F40*INDEX(Bieterangaben!G$49:G$434,MATCH($H40,Bieterangaben!$B$49:$B$434,0))+$G40*INDEX(Bieterangaben!I$49:I$434,MATCH($I40,Bieterangaben!$B$49:$B$434,0)) -> 0 | P40: =O40*1000/$E40 -> 0 | Q40: =O40*$J40 -> 0
B41: 11500 | C41: 5.004085 | D41: =C41+D40 -> 69.736228 | E41: =B41-250 -> 11250 | F41: 0 | G41: 1 | H41: 0 | I41: =E41 -> 11250 | J41: =C41/100*8760 -> 438.35784 | K41: =J41*E41 -> 4931525.7 | L41: =$F41*INDEX(Bieterangaben!C$49:C$434,MATCH($H41,Bieterangaben!$B$49:$B$434,0))+$G41*INDEX(Bieterangaben!E$49:E$434,MATCH($I41,Bieterangaben!$B$49:$B$434,0)) -> 0 | M41: =L41*1000/$E41 -> 0 | N41: =L41*$J41 -> 0 | O41: =$F41*INDEX(Bieterangaben!G$49:G$434,MATCH($H41,Bieterangaben!$B$49:$B$434,0))+$G41*INDEX(Bieterangaben!I$49:I$434,MATCH($I41,Bieterangaben!$B$49:$B$434,0)) -> 0 | P41: =O41*1000/$E41 -> 0 | Q41: =O41*$J41 -> 0
B42: 12000 | C42: 4.4292717 | D42: =C42+D41 -> 74.1655 | E42: =B42-250 -> 11750 | F42: 0 | G42: 1 | H42: 0 | I42: =E42 -> 11750 | J42: =C42/100*8760 -> 388.0042 | K42: =J42*E42 -> 4559049.4 | L42: =$F42*INDEX(Bieterangaben!C$49:C$434,MATCH($H42,Bieterangaben!$B$49:$B$434,0))+$G42*INDEX(Bieterangaben!E$49:E$434,MATCH($I42,Bieterangaben!$B$49:$B$434,0)) -> 0 | M42: =L42*1000/$E42 -> 0 | N42: =L42*$J42 -> 0 | O42: =$F42*INDEX(Bieterangaben!G$49:G$434,MATCH($H42,Bieterangaben!$B$49:$B$434,0))+$G42*INDEX(Bieterangaben!I$49:I$434,MATCH($I42,Bieterangaben!$B$49:$B$434,0)) -> 0 | P42: =O42*1000/$E42 -> 0 | Q42: =O42*$J42 -> 0
B43: 12500 | C43: 3.968254 | D43: =C43+D42 -> 78.133754 | E43: =B43-250 -> 12250 | F43: 0 | G43: 1 | H43: 0 | I43: =E43/G43 -> 12250 | J43: =C43/100*8760 -> 347.61905 | K43: =J43*E43 -> 4258333.3 | L43: =$F43*INDEX(Bieterangaben!C$49:C$434,MATCH($H43,Bieterangaben!$B$49:$B$434,0))+$G43*INDEX(Bieterangaben!E$49:E$434,MATCH($I43,Bieterangaben!$B$49:$B$434,0)) -> 0 | M43: =L43*1000/$E43 -> 0 | N43: =L43*$J43 -> 0 | O43: =$F43*INDEX(Bieterangaben!G$49:G$434,MATCH($H43,Bieterangaben!$B$49:$B$434,0))+$G43*INDEX(Bieterangaben!I$49:I$434,MATCH($I43,Bieterangaben!$B$49:$B$434,0)) -> 0 | P43: =O43*1000/$E43 -> 0 | Q43: =O43*$J43 -> 0
B44: 13000 | C44: 3.30007 | D44: =C44+D43 -> 81.433824 | E44: =B44-250 -> 12750 | F44: 0 | G44: 2 | H44: 0 | I44: =E44/G44 -> 6375 | J44: =C44/100*8760 -> 289.08613 | K44: =J44*E44 -> 3685848.2 | L44: =$F44*INDEX(Bieterangaben!C$49:C$434,MATCH($H44,Bieterangaben!$B$49:$B$434,0))+$G44*INDEX(Bieterangaben!E$49:E$434,MATCH($I44,Bieterangaben!$B$49:$B$434,0)) -> 0 | M44: =L44*1000/$E44 -> 0 | N44: =L44*$J44 -> 0 | O44: =$F44*INDEX(Bieterangaben!G$49:G$434,MATCH($H44,Bieterangaben!$B$49:$B$434,0))+$G44*INDEX(Bieterangaben!I$49:I$434,MATCH($I44,Bieterangaben!$B$49:$B$434,0)) -> 0 | P44: =O44*1000/$E44 -> 0 | Q44: =O44*$J44 -> 0
B45: 13500 | C45: 2.7048319 | D45: =C45+D44 -> 84.138655 | E45: =B45-250 -> 13250 | F45: 0 | G45: 2 | H45: 0 | I45: =E45/G45 -> 6625 | J45: =C45/100*8760 -> 236.94328 | K45: =J45*E45 -> 3139498.4 | L45: =$F45*INDEX(Bieterangaben!C$49:C$434,MATCH($H45,Bieterangaben!$B$49:$B$434,0))+$G45*INDEX(Bieterangaben!E$49:E$434,MATCH($I45,Bieterangaben!$B$49:$B$434,0)) -> 0 | M45: =L45*1000/$E45 -> 0 | N45: =L45*$J45 -> 0 | O45: =$F45*INDEX(Bieterangaben!G$49:G$434,MATCH($H45,Bieterangaben!$B$49:$B$434,0))+$G45*INDEX(Bieterangaben!I$49:I$434,MATCH($I45,Bieterangaben!$B$49:$B$434,0)) -> 0 | P45: =O45*1000/$E45 -> 0 | Q45: =O45*$J45 -> 0
B46: 14000 | C46: 2.3138422 | D46: =C46+D45 -> 86.452498 | E46: =B46-250 -> 13750 | F46: 0 | G46: 2 | H46: 0 | I46: =E46/G46 -> 6875 | J46: =C46/100*8760 -> 202.69258 | K46: =J46*E46 -> 2787022.9 | L46: =$F46*INDEX(Bieterangaben!C$49:C$434,MATCH($H46,Bieterangaben!$B$49:$B$434,0))+$G46*INDEX(Bieterangaben!E$49:E$434,MATCH($I46,Bieterangaben!$B$49:$B$434,0)) -> 0 | M46: =L46*1000/$E46 -> 0 | N46: =L46*$J46 -> 0 | O46: =$F46*INDEX(Bieterangaben!G$49:G$434,MATCH($H46,Bieterangaben!$B$49:$B$434,0))+$G46*INDEX(Bieterangaben!I$49:I$434,MATCH($I46,Bieterangaben!$B$49:$B$434,0)) -> 0 | P46: =O46*1000/$E46 -> 0 | Q46: =O46*$J46 -> 0
B47: 14500 | C47: 1.8761671 | D47: =C47+D46 -> 88.328665 | E47: =B47-250 -> 14250 | F47: 0 | G47: 2 | H47: 0 | I47: =E47/G47 -> 7125 | J47: =C47/100*8760 -> 164.35224 | K47: =J47*E47 -> 2342019.4 | L47: =$F47*INDEX(Bieterangaben!C$49:C$434,MATCH($H47,Bieterangaben!$B$49:$B$434,0))+$G47*INDEX(Bieterangaben!E$49:E$434,MATCH($I47,Bieterangaben!$B$49:$B$434,0)) -> 0 | M47: =L47*1000/$E47 -> 0 | N47: =L47*$J47 -> 0 | O47: =$F47*INDEX(Bieterangaben!G$49:G$434,MATCH($H47,Bieterangaben!$B$49:$B$434,0))+$G47*INDEX(Bieterangaben!I$49:I$434,MATCH($I47,Bieterangaben!$B$49:$B$434,0)) -> 0 | P47: =O47*1000/$E47 -> 0 | Q47: =O47*$J47 -> 0
B48: 15000 | C48: 1.7098506 | D48: =C48+D47 -> 90.038515 | E48: =B48-250 -> 14750 | F48: 0 | G48: 2 | H48: 0 | I48: =E48/G48 -> 7375 | J48: =C48/100*8760 -> 149.78291 | K48: =J48*E48 -> 2209298 | L48: =$F48*INDEX(Bieterangaben!C$49:C$434,MATCH($H48,Bieterangaben!$B$49:$B$434,0))+$G48*INDEX(Bieterangaben!E$49:E$434,MATCH($I48,Bieterangaben!$B$49:$B$434,0)) -> 0 | M48: =L48*1000/$E48 -> 0 | N48: =L48*$J48 -> 0 | O48: =$F48*INDEX(Bieterangaben!G$49:G$434,MATCH($H48,Bieterangaben!$B$49:$B$434,0))+$G48*INDEX(Bieterangaben!I$49:I$434,MATCH($I48,Bieterangaben!$B$49:$B$434,0)) -> 0 | P48: =O48*1000/$E48 -> 0 | Q48: =O48*$J48 -> 0
B49: 15500 | C49: 1.3888889 | D49: =C49+D48 -> 91.427404 | E49: =B49-250 -> 15250 | F49: 0 | G49: 2 | H49: 0 | I49: =E49/G49 -> 7625 | J49: =C49/100*8760 -> 121.66667 | K49: =J49*E49 -> 1855416.7 | L49: =$F49*INDEX(Bieterangaben!C$49:C$434,MATCH($H49,Bieterangaben!$B$49:$B$434,0))+$G49*INDEX(Bieterangaben!E$49:E$434,MATCH($I49,Bieterangaben!$B$49:$B$434,0)) -> 0 | M49: =L49*1000/$E49 -> 0 | N49: =L49*$J49 -> 0 | O49: =$F49*INDEX(Bieterangaben!G$49:G$434,MATCH($H49,Bieterangaben!$B$49:$B$434,0))+$G49*INDEX(Bieterangaben!I$49:I$434,MATCH($I49,Bieterangaben!$B$49:$B$434,0)) -> 0 | P49: =O49*1000/$E49 -> 0 | Q49: =O49*$J49 -> 0
B50: 16000 | C50: 1.3480392 | D50: =C50+D49 -> 92.775444 | E50: =B50-250 -> 15750 | F50: 0 | G50: 2 | H50: 0 | I50: =E50/G50 -> 7875 | J50: =C50/100*8760 -> 118.08824 | K50: =J50*E50 -> 1859889.7 | L50: =$F50*INDEX(Bieterangaben!C$49:C$434,MATCH($H50,Bieterangaben!$B$49:$B$434,0))+$G50*INDEX(Bieterangaben!E$49:E$434,MATCH($I50,Bieterangaben!$B$49:$B$434,0)) -> 0 | M50: =L50*1000/$E50 -> 0 | N50: =L50*$J50 -> 0 | O50: =$F50*INDEX(Bieterangaben!G$49:G$434,MATCH($H50,Bieterangaben!$B$49:$B$434,0))+$G50*INDEX(Bieterangaben!I$49:I$434,MATCH($I50,Bieterangaben!$B$49:$B$434,0)) -> 0 | P50: =O50*1000/$E50 -> 0 | Q50: =O50*$J50 -> 0
B51: 16500 | C51: 1.2955182 | D51: =C51+D50 -> 94.070962 | E51: =B51-250 -> 16250 | F51: 0 | G51: 2 | H51: 0 | I51: =E51/G51 -> 8125 | J51: =C51/100*8760 -> 113.48739 | K51: =J51*E51 -> 1844170.2 | L51: =$F51*INDEX(Bieterangaben!C$49:C$434,MATCH($H51,Bieterangaben!$B$49:$B$434,0))+$G51*INDEX(Bieterangaben!E$49:E$434,MATCH($I51,Bieterangaben!$B$49:$B$434,0)) -> 0 | M51: =L51*1000/$E51 -> 0 | N51: =L51*$J51 -> 0 | O51: =$F51*INDEX(Bieterangaben!G$49:G$434,MATCH($H51,Bieterangaben!$B$49:$B$434,0))+$G51*INDEX(Bieterangaben!I$49:I$434,MATCH($I51,Bieterangaben!$B$49:$B$434,0)) -> 0 | P51: =O51*1000/$E51 -> 0 | Q51: =O51*$J51 -> 0
B52: 17000 | C52: 0.99206349 | D52: =C52+D51 -> 95.063025 | E52: =B52-250 -> 16750 | F52: 0 | G52: 2 | H52: 0 | I52: =E52/G52 -> 8375 | J52: =C52/100*8760 -> 86.904762 | K52: =J52*E52 -> 1455654.8 | L52: =$F52*INDEX(Bieterangaben!C$49:C$434,MATCH($H52,Bieterangaben!$B$49:$B$434,0))+$G52*INDEX(Bieterangaben!E$49:E$434,MATCH($I52,Bieterangaben!$B$49:$B$434,0)) -> 0 | M52: =L52*1000/$E52 -> 0 | N52: =L52*$J52 -> 0 | O52: =$F52*INDEX(Bieterangaben!G$49:G$434,MATCH($H52,Bieterangaben!$B$49:$B$434,0))+$G52*INDEX(Bieterangaben!I$49:I$434,MATCH($I52,Bieterangaben!$B$49:$B$434,0)) -> 0 | P52: =O52*1000/$E52 -> 0 | Q52: =O52*$J52 -> 0
B53: 17500 | C53: 0.84325397 | D53: =C53+D52 -> 95.906279 | E53: =B53-250 -> 17250 | F53: 0 | G53: 2 | H53: 0 | I53: =E53/G53 -> 8625 | J53: =C53/100*8760 -> 73.869048 | K53: =J53*E53 -> 1274241.1 | L53: =$F53*INDEX(Bieterangaben!C$49:C$434,MATCH($H53,Bieterangaben!$B$49:$B$434,0))+$G53*INDEX(Bieterangaben!E$49:E$434,MATCH($I53,Bieterangaben!$B$49:$B$434,0)) -> 0 | M53: =L53*1000/$E53 -> 0 | N53: =L53*$J53 -> 0 | O53: =$F53*INDEX(Bieterangaben!G$49:G$434,MATCH($H53,Bieterangaben!$B$49:$B$434,0))+$G53*INDEX(Bieterangaben!I$49:I$434,MATCH($I53,Bieterangaben!$B$49:$B$434,0)) -> 0 | P53: =O53*1000/$E53 -> 0 | Q53: =O53*$J53 -> 0
B54: 18000 | C54: 0.81699346 | D54: =C54+D53 -> 96.723273 | E54: =B54-250 -> 17750 | F54: 0 | G54: 2 | H54: 0 | I54: =E54/G54 -> 8875 | J54: =C54/100*8760 -> 71.568627 | K54: =J54*E54 -> 1270343.1 | L54: =$F54*INDEX(Bieterangaben!C$49:C$434,MATCH($H54,Bieterangaben!$B$49:$B$434,0))+$G54*INDEX(Bieterangaben!E$49:E$434,MATCH($I54,Bieterangaben!$B$49:$B$434,0)) -> 0 | M54: =L54*1000/$E54 -> 0 | N54: =L54*$J54 -> 0 | O54: =$F54*INDEX(Bieterangaben!G$49:G$434,MATCH($H54,Bieterangaben!$B$49:$B$434,0))+$G54*INDEX(Bieterangaben!I$49:I$434,MATCH($I54,Bieterangaben!$B$49:$B$434,0)) -> 0 | P54: =O54*1000/$E54 -> 0 | Q54: =O54*$J54 -> 0
... B68: 25000 | C68: 0.070028011 | D68: =C68+D67 -> 99.839519 | E68: =B68-250 -> 24750 | F68: 0 | G68: 2 | H68: 0 | I68: =E68/G68 -> 12375 | J68: =C68/100*8760 -> 6.1344538 | K68: =J68*E68 -> 151827.73 | L68: =$F68*INDEX(Bieterangaben!C$49:C$434,MATCH($H68,Bieterangaben!$B$49:$B$434,0))+$G68*INDEX(Bieterangaben!E$49:E$434,MATCH($I68,Bieterangaben!$B$49:$B$434,0)) -> 0 | M68: =L68*1000/$E68 -> 0 | N68: =L68*$J68 -> 0 | O68: =$F68*INDEX(Bieterangaben!G$49:G$434,MATCH($H68,Bieterangaben!$B$49:$B$434,0))+$G68*INDEX(Bieterangaben!I$49:I$434,MATCH($I68,Bieterangaben!$B$49:$B$434,0)) -> 0 | P68: =O68*1000/$E68 -> 0 | Q68: =O68*$J68 -> 0
B69: 25500 | C69: 0.040849673 | D69: =C69+D68 -> 99.880369 | E69: =B69-250 -> 25250 | F69: 1 | G69: 2 | H69: =H70-150 -> 5050 | I69: =(E69-H69)/2 -> 10100 | J69: =C69/100*8760 -> 3.5784314 | K69: =J69*E69 -> 90355.392 | L69: =$F69*INDEX(Bieterangaben!C$49:C$434,MATCH($H69,Bieterangaben!$B$49:$B$434,0))+$G69*INDEX(Bieterangaben!E$49:E$434,MATCH($I69,Bieterangaben!$B$49:$B$434,0)) -> 0 | M69: =L69*1000/$E69 -> 0 | N69: =L69*$J69 -> 0 | O69: =$F69*INDEX(Bieterangaben!G$49:G$434,MATCH($H69,Bieterangaben!$B$49:$B$434,0))+$G69*INDEX(Bieterangaben!I$49:I$434,MATCH($I69,Bieterangaben!$B$49:$B$434,0)) -> 0 | P69: =O69*1000/$E69 -> 0 | Q69: =O69*$J69 -> 0
B70: 26000 | C70: 0.064192344 | D70: =C70+D69 -> 99.944561 | E70: =B70-250 -> 25750 | F70: 1 | G70: 2 | H70: =H71-150 -> 5200 | I70: =(E70-H70)/2 -> 10275 | J70: =C70/100*8760 -> 5.6232493 | K70: =J70*E70 -> 144798.67 | L70: =$F70*INDEX(Bieterangaben!C$49:C$434,MATCH($H70,Bieterangaben!$B$49:$B$434,0))+$G70*INDEX(Bieterangaben!E$49:E$434,MATCH($I70,Bieterangaben!$B$49:$B$434,0)) -> 0 | M70: =L70*1000/$E70 -> 0 | N70: =L70*$J70 -> 0 | O70: =$F70*INDEX(Bieterangaben!G$49:G$434,MATCH($H70,Bieterangaben!$B$49:$B$434,0))+$G70*INDEX(Bieterangaben!I$49:I$434,MATCH($I70,Bieterangaben!$B$49:$B$434,0)) -> 0 | P70: =O70*1000/$E70 -> 0 | Q70: =O70*$J70 -> 0
B71: 26500 | C71: 0.029178338 | D71: =C71+D70 -> 99.973739 | E71: =B71-250 -> 26250 | F71: 1 | G71: 2 | H71: =H72-150 -> 5350 | I71: =(E71-H71)/2 -> 10450 | J71: =C71/100*8760 -> 2.5560224 | K71: =J71*E71 -> 67095.588 | L71: =$F71*INDEX(Bieterangaben!C$49:C$434,MATCH($H71,Bieterangaben!$B$49:$B$434,0))+$G71*INDEX(Bieterangaben!E$49:E$434,MATCH($I71,Bieterangaben!$B$49:$B$434,0)) -> 0 | M71: =L71*1000/$E71 -> 0 | N71: =L71*$J71 -> 0 | O71: =$F71*INDEX(Bieterangaben!G$49:G$434,MATCH($H71,Bieterangaben!$B$49:$B$434,0))+$G71*INDEX(Bieterangaben!I$49:I$434,MATCH($I71,Bieterangaben!$B$49:$B$434,0)) -> 0 | P71: =O71*1000/$E71 -> 0 | Q71: =O71*$J71 -> 0
B72: 27000 | C72: 0.014589169 | D72: =C72+D71 -> 99.988329 | E72: =B72-250 -> 26750 | F72: 1 | G72: 2 | H72: =H73-150 -> 5500 | I72: =(E72-H72)/2 -> 10625 | J72: =C72/100*8760 -> 1.2780112 | K72: =J72*E72 -> 34186.8 | L72: =$F72*INDEX(Bieterangaben!C$49:C$434,MATCH($H72,Bieterangaben!$B$49:$B$434,0))+$G72*INDEX(Bieterangaben!E$49:E$434,MATCH($I72,Bieterangaben!$B$49:$B$434,0)) -> 0 | M72: =L72*1000/$E72 -> 0 | N72: =L72*$J72 -> 0 | O72: =$F72*INDEX(Bieterangaben!G$49:G$434,MATCH($H72,Bieterangaben!$B$49:$B$434,0))+$G72*INDEX(Bieterangaben!I$49:I$434,MATCH($I72,Bieterangaben!$B$49:$B$434,0)) -> 0 | P72: =O72*1000/$E72 -> 0 | Q72: =O72*$J72 -> 0
B73: 27500 | C73: 0.0058356676 | D73: =C73+D72 -> 99.994164 | E73: =B73-250 -> 27250 | F73: 1 | G73: 2 | H73: =H74-150 -> 5650 | I73: =(E73-H73)/2 -> 10800 | J73: =C73/100*8760 -> 0.51120448 | K73: =J73*E73 -> 13930.322 | L73: =$F73*INDEX(Bieterangaben!C$49:C$434,MATCH($H73,Bieterangaben!$B$49:$B$434,0))+$G73*INDEX(Bieterangaben!E$49:E$434,MATCH($I73,Bieterangaben!$B$49:$B$434,0)) -> 0 | M73: =L73*1000/$E73 -> 0 | N73: =L73*$J73 -> 0 | O73: =$F73*INDEX(Bieterangaben!G$49:G$434,MATCH($H73,Bieterangaben!$B$49:$B$434,0))+$G73*INDEX(Bieterangaben!I$49:I$434,MATCH($I73,Bieterangaben!$B$49:$B$434,0)) -> 0 | P73: =O73*1000/$E73 -> 0 | Q73: =O73*$J73 -> 0
...

Sheet Wirtschaftlichkeit
B1: Wirtschaftlichkeit
D3: Betriebsstunden | E3: 8760 | F3: h/a | L3: Betriebsstunden | M3: =E3 -> 8760 | N3: h/a
D4: Zinssatz | E4: 3 | F4: % | L4: Zinssatz | M4: =E4 -> 3 | N4: %
D5: Abschreibung | E5: 12 | F5: a | L5: Abschreibung | M5: =E5 -> 12 | N5: a
D6: Stromkosten | E6: 0.25 | F6: €/kWh | L6: Stromkosten | M6: =E6 -> 0.25 | N6: €/kWh
D7: Preissteigerung Strom | E7: 3 | F7: % | L7: Preissteigerung Strom | M7: =E7 -> 3 | N7: %
D8: Preissteigerung Wartung ab 5. Jahr | E8: 3 | F8: % | L8: Preissteigerung Wartung | M8: =E8 -> 3 | N8: %
D10: Investition Bieter 1 | E10: =Bieterangaben!C19 -> 0 | F10: Netto ohne Wartung | L10: Investition Bieter 2 | M10: =Bieterangaben!E19 -> 0 | N10: Netto ohne Wartung
D11: Investition Bieter 1 | E11: =E10*1.19 -> 0 | F11: Brutto (19%) | L11: Investition Bieter 2 | M11: =M10*1.19 -> 0 | N11: Brutto (19%)
D12: Jahresstromverbrauch Bieter 1 | E12: ='Luftmengenv. & Energieverbrauch'!N83 * 1.05 -> 0 | F12: kWh/a | G12: incl. 5 % Toleranz | L12: Jahresstromverbrauch Bieter 2 | M12: ='Luftmengenv. & Energieverbrauch'!Q83*1.05 -> 0 | N12: kWh/a | O12: incl. 5 % Toleranz
D13: CO2-Emission Bieter 1 | E13: =E12*C36/1000 -> 0 | F13: t/a | L13: CO2-Emission Bieter 2 | M13: =M12*C36/1000 -> 0 | N13: t/a
D14: mittlere spezifische Leistungsaufnahme Bieter 1 | E14: ='Luftmengenv. & Energieverbrauch'!N84 -> 0 | F14: Wh/Nm³ | L14: mittlere spezifische Leistungsaufnahme Bieter 2 | M14: ='Luftmengenv. & Energieverbrauch'!Q84 -> 0 | N14: Wh/Nm³
D15: statische Amortisation ohne Förderung Bieter 1 | E15: =(E11+G35)/((3006490*('Luftmengenv. & Energieverbrauch'!K83/89748994)-E12)*E6) -> 0.13663445 | F15: a | L15: statische Amortisation ohne Förderung Bieter 2 | M15: =(M11+G35)/((3006490*('Luftmengenv. & Energieverbrauch'!K83/89748994)-M12)*M6) -> 0.13663445 | N15: a
B17: Bieter 1 | J17: Bieter 2
B18: Jahre | C18: Zinsbasis | D18: Zinsen | E18: Tilgung | F18: Strom | G18: Wartung | H18: Gesamtkosten | J18: Jahre | K18: Zinsbasis | L18: Zinsen | M18: Tilgung | N18: Strom | O18: Wartung | P18: Gesamtkosten
B19: 1 | C19: =E11 -> 0 | D19: =C19*$E$4/100 -> 0 | E19: =C$19/$E$5 -> 0 | F19: =($E$12*$E$6)*((1+($E$7/100))^B19) -> 0 | G19: =Bieterangaben!C8 -> 0 | H19: =SUM(D19:G19) -> 0 | J19: 1 | K19: =M11 -> 0 | L19: =K19*$M$4/100 -> 0 | M19: =K$19/$M$5 -> 0 | N19: =($M$12*$M$6)*((1+($M$7/100))^J19) -> 0 | O19: =Bieterangaben!E8 -> 0 | P19: =SUM(L19:O19) -> 0
B20: 2 | C20: =IF(C19<=1,0,C19-E19) -> 0 | D20: =C20*$E$4/100 -> 0 | E20: =C$19/$E$5 -> 0 | F20: =($E$12*$E$6)*((1+($E$7/100))^B20) -> 0 | G20: =Bieterangaben!C11 -> 0 | H20: =SUM(D20:G20) -> 0 | J20: 2 | K20: =IF(K19<=1,0,K19-M19) -> 0 | L20: =K20*$M$4/100 -> 0 | M20: =K$19/$M$5 -> 0 | N20: =($M$12*$M$6)*((1+($M$7/100))^J20) -> 0 | O20: =Bieterangaben!E11 -> 0 | P20: =SUM(L20:O20) -> 0
B21: 3 | C21: =IF(C20<=1,0,C20-E20) -> 0 | D21: =C21*$E$4/100 -> 0 | E21: =C$19/$E$5 -> 0 | F21: =($E$12*$E$6)*((1+($E$7/100))^B21) -> 0 | G21: =Bieterangaben!C14 -> 0 | H21: =SUM(D21:G21) -> 0 | J21: 3 | K21: =IF(K20<=1,0,K20-M20) -> 0 | L21: =K21*$M$4/100 -> 0 | M21: =K$19/$M$5 -> 0 | N21: =($M$12*$M$6)*((1+($M$7/100))^J21) -> 0 | O21: =Bieterangaben!E14 -> 0 | P21: =SUM(L21:O21) -> 0
B22: 4 | C22: =IF(C21<=1,0,C21-E21) -> 0 | D22: =C22*$E$4/100 -> 0 | E22: =C$19/$E$5 -> 0 | F22: =($E$12*$E$6)*((1+($E$7/100))^B22) -> 0 | G22: =Bieterangaben!C17 -> 0 | H22: =SUM(D22:G22) -> 0 | J22: 4 | K22: =IF(K21<=1,0,K21-M21) -> 0 | L22: =K22*$M$4/100 -> 0 | M22: =K$19/$M$5 -> 0 | N22: =($M$12*$M$6)*((1+($M$7/100))^J22) -> 0 | O22: =Bieterangaben!E17 -> 0 | P22: =SUM(L22:O22) -> 0
B23: 5 | C23: =IF(C22<=1,0,C22-E22) -> 0 | D23: =C23*$E$4/100 -> 0 | E23: =C$19/$E$5 -> 0 | F23: =($E$12*$E$6)*((1+($E$7/100))^B23) -> 0 | G23: =AVERAGE($G$19:$G$22)*(1+E$8/100)^B19 -> 0 | H23: =SUM(D23:G23) -> 0 | J23: 5 | K23: =IF(K22<=1,0,K22-M22) -> 0 | L23: =K23*$M$4/100 -> 0 | M23: =K$19/$M$5 -> 0 | N23: =($M$12*$M$6)*((1+($M$7/100))^J23) -> 0 | O23: =AVERAGE($O$19:$O$22)*(1+M$8/100)^J19 -> 0 | P23: =SUM(L23:O23) -> 0
B24: 6 | C24: =IF(C23<=1,0,C23-E23) -> 0 | D24: =C24*$E$4/100 -> 0 | E24: =C$19/$E$5 -> 0 | F24: =($E$12*$E$6)*((1+($E$7/100))^B24) -> 0 | G24: =AVERAGE($G$19:$G$22)*(1+E$8/100)^B20 -> 0 | H24: =SUM(D24:G24) -> 0 | J24: 6 | K24: =IF(K23<=1,0,K23-M23) -> 0 | L24: =K24*$M$4/100 -> 0 | M24: =K$19/$M$5 -> 0 | N24: =($M$12*$M$6)*((1+($M$7/100))^J24) -> 0 | O24: =AVERAGE($O$19:$O$22)*(1+M$8/100)^J20 -> 0 | P24: =SUM(L24:O24) -> 0
B25: 7 | C25: =IF(C24<=1,0,C24-E24) -> 0 | D25: =C25*$E$4/100 -> 0 | E25: =C$19/$E$5 -> 0 | F25: =($E$12*$E$6)*((1+($E$7/100))^B25) -> 0 | G25: =AVERAGE($G$19:$G$22)*(1+E$8/100)^B21 -> 0 | H25: =SUM(D25:G25) -> 0 | J25: 7 | K25: =IF(K24<=1,0,K24-M24) -> 0 | L25: =K25*$M$4/100 -> 0 | M25: =K$19/$M$5 -> 0 | N25: =($M$12*$M$6)*((1+($M$7/100))^J25) -> 0 | O25: =AVERAGE($O$19:$O$22)*(1+M$8/100)^J21 -> 0 | P25: =SUM(L25:O25) -> 0
B26: 8 | C26: =IF(C25<=1,0,C25-E25) -> 0 | D26: =C26*$E$4/100 -> 0 | E26: =C$19/$E$5 -> 0 | F26: =($E$12*$E$6)*((1+($E$7/100))^B26) -> 0 | G26: =AVERAGE($G$19:$G$22)*(1+E$8/100)^B22 -> 0 | H26: =SUM(D26:G26) -> 0 | J26: 8 | K26: =IF(K25<=1,0,K25-M25) -> 0 | L26: =K26*$M$4/100 -> 0 | M26: =K$19/$M$5 -> 0 | N26: =($M$12*$M$6)*((1+($M$7/100))^J26) -> 0 | O26: =AVERAGE($O$19:$O$22)*(1+M$8/100)^J22 -> 0 | P26: =SUM(L26:O26) -> 0
B27: 9 | C27: =IF(C26<=1,0,C26-E26) -> 0 | D27: =C27*$E$4/100 -> 0 | E27: =C$19/$E$5 -> 0 | F27: =($E$12*$E$6)*((1+($E$7/100))^B27) -> 0 | G27: =AVERAGE($G$19:$G$22)*(1+E$8/100)^B23 -> 0 | H27: =SUM(D27:G27) -> 0 | J27: 9 | K27: =IF(K26<=1,0,K26-M26) -> 0 | L27: =K27*$M$4/100 -> 0 | M27: =K$19/$M$5 -> 0 | N27: =($M$12*$M$6)*((1+($M$7/100))^J27) -> 0 | O27: =AVERAGE($O$19:$O$22)*(1+M$8/100)^J23 -> 0 | P27: =SUM(L27:O27) -> 0
B28: 10 | C28: =IF(C27<=1,0,C27-E27) -> 0 | D28: =C28*$E$4/100 -> 0 | E28: =C$19/$E$5 -> 0 | F28: =($E$12*$E$6)*((1+($E$7/100))^B28) -> 0 | G28: =AVERAGE($G$19:$G$22)*(1+E$8/100)^B24 -> 0 | H28: =SUM(D28:G28) -> 0 | J28: 10 | K28: =IF(K27<=1,0,K27-M27) -> 0 | L28: =K28*$M$4/100 -> 0 | M28: =K$19/$M$5 -> 0 | N28: =($M$12*$M$6)*((1+($M$7/100))^J28) -> 0 | O28: =AVERAGE($O$19:$O$22)*(1+M$8/100)^J24 -> 0 | P28: =SUM(L28:O28) -> 0
B29: 11 | C29: =IF(C28<=1,0,C28-E28) -> 0 | D29: =C29*$E$4/100 -> 0 | E29: =C$19/$E$5 -> 0 | F29: =($E$12*$E$6)*((1+($E$7/100))^B29) -> 0 | G29: =AVERAGE($G$19:$G$22)*(1+E$8/100)^B25 -> 0 | H29: =SUM(D29:G29) -> 0 | J29: 11 | K29: =IF(K28<=1,0,K28-M28) -> 0 | L29: =K29*$M$4/100 -> 0 | M29: =K$19/$M$5 -> 0 | N29: =($M$12*$M$6)*((1+($M$7/100))^J29) -> 0 | O29: =AVERAGE($O$19:$O$22)*(1+M$8/100)^J25 -> 0 | P29: =SUM(L29:O29) -> 0
B30: 12 | C30: =IF(C29<=1,0,C29-E29) -> 0 | D30: =C30*$E$4/100 -> 0 | E30: =C$19/$E$5 -> 0 | F30: =($E$12*$E$6)*((1+($E$7/100))^B30) -> 0 | G30: =AVERAGE($G$19:$G$22)*(1+E$8/100)^B26 -> 0 | H30: =SUM(D30:G30) -> 0 | J30: 12 | K30: =IF(K29<=1,0,K29-M29) -> 0 | L30: =K30*$M$4/100 -> 0 | M30: =K$19/$M$5 -> 0 | N30: =($M$12*$M$6)*((1+($M$7/100))^J30) -> 0 | O30: =AVERAGE($O$19:$O$22)*(1+M$8/100)^J26 -> 0 | P30: =SUM(L30:O30) -> 0
B31: Summe | D31: =SUM(D19:D30) -> 0 | E31: =SUM(E19:E30) -> 0 | F31: =SUM(F19:F30) -> 0 | G31: =SUM(G19:G30) -> 0 | H31: =SUM(H19:H30) -> 0 | J31: Summe | L31: =SUM(L19:L30) -> 0 | M31: =SUM(M19:M30) -> 0 | N31: =SUM(N19:N30) -> 0 | O31: =SUM(O19:O30) -> 0 | P31: =SUM(P19:P30) -> 0
B34: Wirtschaftliche Gesamtwertung:
B35: CO2 Einsparung | C35: 300 | D35: t/a, mindestens | F35: Sonstige Kosten | G35: =94625+3450+2970 -> 101045 | H35: (Andere förderfähige Kosten)
B36: CO2-Faktor | C36: 0.435 | D36: kg/kWh | F36: Fördersatz | G36: 35 | H36: %
B37: CO2 Bestand | C37: =1307.8*('Luftmengenv. & Energieverbrauch'!K83/89748994) -> 1286.7559 | D37: t/a | F37: Förderdeckel | G37: 290124.45
B39: ÜBERSICHT
B40: =CONCATENATE("erforderliche CO2-Einsparung zur Erreichung der Förderung: mindestens ",C35," t/a mit CO2-Faktor ",C36," kg/kWh") -> erforderliche CO2-Einsparung zur Erreichung der Förderung: mindestens 300 t/a mit CO2-Faktor 0,435 kg/kWh
C41: Angebot brutto plus Zinsen | D41: Stromkosten | E41: Wartungskosten | F41: CO2 Emission angebotene Verdichter [t/a] | G41: CO2 Einsparung ggü. Bestand [t/a] | H41: =CONCATENATE("Förderung ",G36," %, max. 290.124,45 €") -> Förderung 35 %, max. 290.124,45 € | I41: =CONCATENATE("Gesamtkosten nach ",E5," Jahren") -> Gesamtkosten nach 12 Jahren | J41: Differenz
B43: =B17 -> Bieter 1 | C43: =$E$11+D31 -> 0 | D43: =F31 -> 0 | E43: =$G$31 -> 0 | F43: =E13 -> 0 | G43: =$C$37-F43 -> 1286.7559 | H43: =MIN(IF(G43>$C$35,(E11+$G$35)*$G$36/100,0),$G$37) -> 35365.75 | I43: =SUM(C43:E43)-H43 -> -35365.75 | J43: =I43-(MIN(I$43:I$44)) -> 0
B44: =J17 -> Bieter 2 | C44: =$M$11+L31 -> 0 | D44: =N31 -> 0 | E44: =$O$31 -> 0 | F44: =M13 -> 0 | G44: =$C$37-F44 -> 1286.7559 | H44: =MIN(IF(G44>$C$35,(M11+$G$35)*$G$36/100,0),$G$37) -> 35365.75 | I44: =SUM(C44:E44)-H44 -> -35365.75 | J44: =I44-(MIN(I$43:I$44)) -> 0
