Workbook

Sheet Leistungsverzeichnis
E1: Druck | R1: Versand
A2: Lospaket | B2: Artikel | C2: Druckerzeugnis | D2: Max. Abrufmenge 4 Jahre (150% über vor. Jahresmenge) | E2: voraussichtliche jährliche Druckmenge in Stück | F2: Mindestdruckmenge je Druckabruf in Stück | G2: Umfang in Seiten (Innenteil) | H2: Umfang in Seiten (Umschlag) | I2: Format geschlossen in mm | J2: Format offen in mm | K2: Farbangaben (Innenteil) | L2: Farbangaben (Umschlag) | M2: Papier (Innenteil) | N2: Papiergrammatur in g/m² (Innenteil) | O2: Papier (Umschlag) | P2: Papiergrammatur in g/m² (Umschlag) | Q2: Verarbeitung | R2: Anzahl der Versendungen pro Jahr | S2: Max. Versandmenge in Stück | T2: Durchschnittliche Versandmenge in Stück
A3: 1 | B3: 1.1 | C3: Mammographie‐Screening. Eine Entscheidungshilfe. Programm zur Früherkennung von Brustkrebs für Frauen zwischen 50 und 75 Jahren | D3: =(E3*4)+(E3*150%) -> 41250000 | E3: 7500000 | F3: 500000 | G3: 20 | I3: 100 x 210 | J3: 200 x 210 | K3: 4-Farbdruck in CMYK | M3: ungestrichen, 100% recyceltes und zertifiziertes Papier (Blauer Engel), CIE-Weiße von 95, Circle Offset White oder gleichwertig | N3: 90 | Q3: falzen oder rotationsfalzen, 2‐fach Rückendrahtheftung, 3‐seitig beschneiden | R3: 125 | S3: 210000 | T3: 59777
B4: 1.2 | C4: Darmkrebs‐Früherkennung für Frauen ab 50 Jahren. Informationen zum Angebot der gesetzlichen Krankenversicherung | D4: =(E4*4)+(E4*150%) -> 16500000 | E4: 3000000 | F4: 200000 | G4: 24 | I4: 100 x 210 | J4: 200 x 210 | K4: 4-Farbdruck in CMYK | M4: ungestrichen, 100% recyceltes und zertifiziertes Papier (Blauer Engel), CIE-Weiße von 95, Circle Offset White oder gleichwertig | N4: 90 | Q4: falzen oder rotationsfalzen, 2‐fach Rückendrahtheftung, 3‐seitig beschneiden | R4: 155 | S4: 322000 | T4: 19283
B5: 1.3 | C5: Darmkrebs‐Früherkennung für Männer ab 50 Jahren. Informationen zum Angebot der gesetzlichen Krankenversicherung | D5: =(E5*4)+(E5*150%) -> 13750000 | E5: 2500000 | F5: 200000 | G5: 24 | I5: 100 x 210 | J5: 200 x 210 | K5: 4-Farbdruck in CMYK | M5: ungestrichen, 100% recyceltes und zertifiziertes Papier (Blauer Engel), CIE-Weiße von 95, Circle Offset White oder gleichwertig | N5: 90 | Q5: falzen oder rotationsfalzen, 2‐fach Rückendrahtheftung, 3‐seitig beschneiden | R5: 138 | S5: 322000 | T5: 18250
B6: 1.4 | C6: Gebärmutterhalskrebs‐Früherkennung für Frauen zwischen 20 und 34 Jahren. Informationen zum Angebot der gesetzlichen Krankenversicherung | D6: =(E6*4)+(E6*150%) -> 8250000 | E6: 1500000 | F6: 200000 | G6: 20 | I6: 100 x 210 | J6: 200 x 210 | K6: 4-Farbdruck in CMYK | M6: ungestrichen, 100% recyceltes und zertifiziertes Papier (Blauer Engel), CIE-Weiße von 95, Circle Offset White oder gleichwertig | N6: 90 | Q6: falzen oder rotationsfalzen, 2‐fach Rückendrahtheftung, 3‐seitig beschneiden | R6: 90 | S6: 215000 | T6: 16481
B7: 1.5 | C7: Gebärmutterhalskrebs‐Früherkennung für Frauen ab 35 Jahren. Informationen zum Angebot der gesetzlichen Krankenversicherung | D7: =(E7*4)+(E7*150%) -> 19250000 | E7: 3500000 | F7: 200000 | G7: 20 | I7: 100 x 210 | J7: 200 x 210 | K7: 4-Farbdruck in CMYK | M7: ungestrichen, 100% recyceltes und zertifiziertes Papier (Blauer Engel), CIE-Weiße von 95, Circle Offset White oder gleichwertig | N7: 90 | Q7: falzen oder rotationsfalzen, 2‐fach Rückendrahtheftung, 3‐seitig beschneiden | R7: 118 | S7: 296000 | T7: 30172
B8: 1.6 | C8: Lungenkrebs Früherkennung. Informationen zum Angebot der gesetzlichen Krankenversicherung | D8: =(E8*4)+(E8*150%) -> 5500000 | E8: 1000000 | F8: 200000 | G8: 20 | I8: 100 x 210 | J8: 200 x 210 | K8: 4-Farbdruck in CMYK | M8: ungestrichen, 100% recyceltes und zertifiziertes Papier (Blauer Engel), CIE-Weiße von 95, Circle Offset White oder gleichwertig | N8: 90 | Q8: falzen oder rotationsfalzen, 2‐fach Rückendrahtheftung, 3‐seitig beschneiden | R8: unbekannt | S8: unbekannt | T8: unbekannt
B9: 1.7 | C9: Bluttest auf Trisomien – Der nicht invasive Pränataltest (NIPT) auf Trisomie 13, 18 und 21. Eine Versicherteninformation | D9: =(E9*4)+(E9*150%) -> 1100000 | E9: 200000 | F9: 50000 | G9: 24 | I9: 100 x 210 | J9: 200 x 210 | K9: 4-Farbdruck in CMYK | M9: ungestrichen, 100% recyceltes und zertifiziertes Papier (Blauer Engel), CIE-Weiße von 95, Circle Offset White oder gleichwertig | N9: 90 | Q9: falzen oder rotationsfalzen, 2‐fach Rückendrahtheftung, 3‐seitig beschneiden | R9: 118 | S9: 19000 | T9: 1695
A10: 2 | B10: 2.1 | C10: Erweitertes Neugeborenen-Screening - Elterninformation zur Früherkennung von angeborenen Störungen des Stoffwechsels, des Hormon-, des Blut-, des Immunsystems und des neuromuskulären Systems bei Neugeborenen | D10: =(E10*4)+(E10*150%) -> 726000 | E10: 132000 | F10: 50000 | G10: 12 | I10: 100 x 210 | J10: 200 x 210 | K10: 4-Farbdruck in CMYK | M10: ungestrichen, 100% recyceltes und zertifiziertes Papier (Blauer Engel), CIE-Weiße von 95, Circle Offset White oder gleichwertig | N10: 90 | Q10: falzen oder rotationsfalzen, 2‐fach Rückendrahtheftung, 3‐seitig beschneiden | R10: 138 | S10: 30000 | T10: 950
B11: 2.2 | C11: Chlamydien-Test für Frauen bis 25 Jahre. Informationen zum Angebot der gesetzlichen Krankenversicherung | D11: =(E11*4)+(E11*150%) -> 385000 | E11: 70000 | F11: 20000 | G11: 8 | I11: 100 x 210 | J11: 391 x 210 | K11: 4-Farbdruck in CMYK | M11: ungestrichen, 100% recyceltes und zertifiziertes Papier (Blauer Engel), CIE-Weiße von 95, Circle Offset White oder gleichwertig | N11: 110 | Q11: falzen auf DIN lang, Wickelfalz, 3‐seitig beschneiden | R11: 63 | S11: 9000 | T11: 1111
B12: 2.3 | C12: HIV-Test für Frauen in der Schwangerschaft. Informationen zum Angebot der gesetzlichen Krankenversicherung | D12: =(E12*4)+(E12*150%) -> 385000 | E12: 70000 | F12: 20000 | G12: 8 | I12: 100 x 210 | J12: 391 x 210 | K12: 4-Farbdruck in CMYK | M12: ungestrichen, 100% recyceltes und zertifiziertes Papier (Blauer Engel), CIE-Weiße von 95, Circle Offset White oder gleichwertig | N12: 110 | Q12: falzen auf DIN lang, Wickelfalz, 3‐seitig beschneiden | R12: 59 | S12: 15000 | T12: 1145
B13: 2.4 | C13: Neugeborenen-Hörscreening. Informationen für Eltern zum Angebot der gesetzlichen Krankenversicherung | D13: =(E13*4)+(E13*150%) -> 825000 | E13: 150000 | F13: 35000 | G13: 6 | I13: 100 x 210 | J13: 297 x 210 | K13: 4-Farbdruck in CMYK | M13: ungestrichen, 100% recyceltes und zertifiziertes Papier (Blauer Engel), CIE-Weiße von 95, Circle Offset White oder gleichwertig | N13: 110 | Q13: falzen auf DIN lang, Wickelfalz, 3‐seitig beschneiden | R13: 186 | S13: 30000 | T13: 757
B14: 2.5 | C14: Untersuchung auf Schwangerschaftsdiabetes für Frauen in der Schwangerschaft. Informationen zum Angebot der gesetzlichen Krankenversicherung | D14: =(E14*4)+(E14*150%) -> 605000 | E14: 110000 | F14: 20000 | G14: 6 | I14: 100 x 210 | J14: 297 x 210 | K14: 4-Farbdruck in CMYK | M14: ungestrichen, 100% recyceltes und zertifiziertes Papier (Blauer Engel), CIE-Weiße von 95, Circle Offset White oder gleichwertig | N14: 110 | Q14: falzen auf DIN lang, Wickelfalz, 3‐seitig beschneiden | R14: 67 | S14: 12000 | T14: 1520
B15: 2.6 | C15: Basis-Ultraschalluntersuchungen für Frauen in der Schwangerschaft. Informationen zum Angebot der gesetzlichen Krankenversicherung | D15: =(E15*4)+(E15*150%) -> 990000 | E15: 180000 | F15: 50000 | G15: 12 | I15: 100 x 210 | J15: 200 x 210 | K15: 4-Farbdruck in CMYK | M15: ungestrichen, 100% recyceltes und zertifiziertes Papier (Blauer Engel), CIE-Weiße von 95, Circle Offset White oder gleichwertig | N15: 90 | Q15: Rückstichheftung (Klammerhaftung), falzen auf DIN lang, 3‐seitig beschneiden | R15: 109 | S15: 13000 | T15: 1585
B16: 2.7 | C16: Untersuchung auf Mukoviszidose bei Neugeborenen. Informationen zum Angebot der gesetzlichen Krankenversicherung | D16: =(E16*4)+(E16*150%) -> 247500 | E16: 45000 | F16: 10000 | G16: 8 | I16: 100 x 210 | J16: 391 x 210 | K16: 4-Farbdruck in CMYK | M16: ungestrichen, 100% recyceltes und zertifiziertes Papier (Blauer Engel), CIE-Weiße von 95, Circle Offset White oder gleichwertig | N16: 110 | Q16: falzen auf DIN lang, Wickelfalz, 3‐seitig beschneiden | R16: 95 | S16: 4000 | T16: 444
B17: 2.8 | C17: Untersuchung auf schwere Herzfehler bei Neugeborenen. Informationen für Eltern zum Angebot der gesetzlichen Krankenversicherung | D17: =(E17*4)+(E17*150%) -> 412500 | E17: 75000 | F17: 20000 | G17: 8 | I17: 100 x 210 | J17: 391 x 210 | K17: 4-Farbdruck in CMYK | M17: ungestrichen, 100% recyceltes und zertifiziertes Papier (Blauer Engel), CIE-Weiße von 95, Circle Offset White oder gleichwertig | N17: 110 | Q17: falzen auf DIN lang, Wickelfalz, 3‐seitig beschneiden | R17: 129 | S17: 5000 | T17: 560
B18: 2.9 | C18: Informationen zum Ultraschall-Screening auf Aneurysmen der Bauchaorta. Warum wird Männern eine Untersuchung der Bauchschlagader angeboten? | D18: =(E18*4)+(E18*150%) -> 495000 | E18: 90000 | F18: 20000 | G18: 12 | I18: 100 x 210 | J18: 200 x 210 | K18: 4-Farbdruck in CMYK | M18: ungestrichen, 100% recyceltes und zertifiziertes Papier (Blauer Engel), CIE-Weiße von 95, Circle Offset White oder gleichwertig | N18: 90 | Q18: Rückstichheftung (Klammerhaftung), falzen auf DIN lang, 3‐seitig beschneiden | R18: 69 | S18: 10000 | T18: 1256
B19: 2.10 | C19: Brachytherapie bei Niedrig-Risiko-Prostatakrebs. Informationen zum Angebot der gesetzlichen Krankenversicherung | D19: =(E19*4)+(E19*150%) -> 55000 | E19: 10000 | F19: 5000 | G19: 12 | I19: 100 x 210 | J19: 200 x 210 | K19: 4-Farbdruck in CMYK | M19: ungestrichen, 100% recyceltes und zertifiziertes Papier (Blauer Engel), CIE-Weiße von 95, Circle Offset White oder gleichwertig | N19: 90 | Q19: falzen oder rotationsfalzen, 2‐fach Rückendrahtheftung, 3‐seitig beschneiden | R19: 2 | S19: 200 | T19: 200
B20: 2.11 | C20: Bestimmung des Rhesusfaktors vor der Geburt für Frauen in der Schwangerschaft. Informationen zum Angebot der gesetzlichen Krankenversicherung | D20: =(E20*4)+(E20*150%) -> 357500 | E20: 65000 | F20: 15000 | G20: 6 | I20: 100 x 210 | J20: 297 x 210 | K20: 4-Farbdruck in CMYK | M20: ungestrichen, 100% recyceltes und zertifiziertes Papier (Blauer Engel), CIE-Weiße von 95, Circle Offset White oder gleichwertig | N20: 110 | Q20: falzen auf DIN lang, Wickelfalz, 3‐seitig beschneiden | R20: 49 | S20: 6000 | T20: 1290
A21: 3 | B21: 3.1 | C21: Kinderuntersuchungsheft (Gelbes Heft) | D21: =(E21*4)+(E21*150%) -> 4290000 | E21: 780000 | F21: 150000 | G21: 96 | H21: 8 | I21: 148 x 210 | K21: 4-Farbdruck in CMYK | L21: 4-Farbdruck in CMYK | M21: ungestrichen, 100% recyceltes und zertifiziertes Papier (Blauer Engel), CIE-Weiße von 135, Circle Offset Premium White oder gleichwertig | N21: 70 | O21: Pretex weiß, imprägniertes Spezialpapier (Alternativen sind nicht zugelassen) | P21: 200 | Q21: Inhalt und Umschlag auf 148 x 210 mm falzen, Umschlag mit aufklappbarer, perforierter Lasche vorn (132 mm) und geklebter Tasche hinten (132 mm) mit 2 Klammern durch den Rücken heften | R21: 968 | S21: 30000 | T21: 800
B22: 3.2 | C22: Einleger Z1 bis Z6 (auslaufendes Produkt) | D22: =(E22*4)+(E22*150%) -> 1100000 | E22: 200000 | F22: 20000 | G22: 24 | I22: 148 x 210 | K22: 4-Farbdruck in CMYK | M22: holzfrei weiß | N22: 80 | Q22: falzen, 2‐fach Rückendrahtheftung, 3‐seitig beschneiden | R22: unbekannt | S22: unbekannt | T22: unbekannt
B23: 3.3 | C23: Aufkleber ZÄ (auslaufendes Produkt) | D23: =(E23*4)+(E23*150%) -> 1100000 | E23: 200000 | F23: 20000 | G23: 1 | I23: 125 x 140 | J23: 125 x 140 | K23: 1-farbig schwarz | M23: holzfrei weiß matt gestrichen, beschreibbar, selbstklebend mit Haftstreifen über die komplette Fläche | N23: 80 | R23: unbekannt | S23: unbekannt | T23: unbekannt
B24: 3.4 | C24: Aufkleber NHS (auslaufendes Produkt) | D24: =(E24*4)+(E24*150%) -> 1100000 | E24: 200000 | F24: 20000 | G24: 1 | I24: 125 x 185 | K24: 1-farbig schwarz | M24: Adestor matt permanent split oder gleichwertig | N24: 80 | R24: unbekannt | S24: unbekannt | T24: unbekannt
A25: 4 | B25: 4.1 | C25: Mutterpass | D25: =(E25*4)+(E25*150%) -> 3217500 | E25: 585000 | F25: 150000 | G25: 32 | H25: 4 | I25: 125 x 176 | K25: 4-Farbdruck in CMYK | L25: 4-Farbdruck in CMYK | M25: ungestrichen, 100% recyceltes und zertifiziertes Papier (Blauer Engel), CIE-Weiße von 135, Circle Offset Premium White oder gleichwertig | N25: 80 | O25: Pretex weiß, imprägniertes Spezialpapier (Alternativen sind nicht zugelassen) | P25: 150 | Q25: falzen, Umschlag: 1-Bruch parallel, Bogen 1: Seite 1, 2 und 31, 32 => 1-Bruch parallel, Bogen 2: Seite 3-6 und 29, 30 => 2-Bruch Wickelfalz, Bogen 3: Seite 7 -10 und 27, 28 => 2-Bruch Leporellofalz, Bogen 4: Seite 11, 12 und 23-26 => 2-Bruch Wickelfalz, Bogen 5: Seite 13, 14 und 19-22 => 2-Bruch Wickelfalz, Bogen 6: Seite 15, 16 und 17, 18 => 1-Bruch Wickelfalz | R25: 171 | S25: 70000 | T25: 3420

Sheet Preisblatt
A1: Preisblatt Vergabe 01/2026 Rahmenvertrag über Druck- und Versandleistungen der Versicherteninformationen und Untersuchungshefte Preisblatt (Bitte in Bezug auf die angebotenen Lose vollständig ausfüllen!) Die nachstehenden Staffelpreise umfassen sämtliche Leistungen im Zusammenhang mit dem Druck des einzelnen Dokuments, der Lagerung bis zum Versand sowie der Abwicklung der Bestell- und Versandvorgänge (z.B. Entgegennahme der Bestellung, Vorbereitung des Versands, Verpackung, Übergabe an Versanddienst und die Dokumentation) sowie die Einrichtung und Pflege der Schnittstelle zwischen Warenwirtschaftsystem des AN und Webanwendung des AG, mit Ausnahme der Versandkosten (Kosten des Versanddienstes), welche auf Nachweis erstattet werden. Unter Abruf ist der Druckabruf des Gemeinsamen Bundesausschusses zu verstehen.
A2: =Leistungsverzeichnis!A2 -> Lospaket | B2: =Leistungsverzeichnis!B2 -> Artikel | C2: =Leistungsverzeichnis!C2 -> Druckerzeugnis | D2: =Leistungsverzeichnis!E2 -> voraussichtliche jährliche Druckmenge in Stück | E2: =Leistungsverzeichnis!F2 -> Mindestdruckmenge je Druckabruf in Stück | F2: Preis pro Stück bei Abruf <1 Mio. Stk. | G2: Gewichtung | H2: Preis pro Stück bei Abruf >=1 Mio Stk. | I2: Gewichtung | J2: Preis pro Stück bei Abruf >=3 Mio Stk. | K2: Gewichtung | L2: Preis pro Stück bei Abruf >=6 Mio Stk. | M2: Gewichtung | N2: Gewogener Durch- schnittspreis je Stück | O2: Wertungspreis
A3: =Leistungsverzeichnis!A3 -> 1 | B3: =Leistungsverzeichnis!B3 -> 1.1 | C3: =Leistungsverzeichnis!C3 -> Mammographie‐Screening. Eine Entscheidungshilfe. Programm zur Früherkennung von Brustkrebs für Frauen zwischen 50 und 75 Jahren | D3: =Leistungsverzeichnis!E3 -> 7500000 | E3: =Leistungsverzeichnis!F3 -> 500000 | G3: 0.1 | I3: 0.1 | K3: 0.1 | M3: 0.7 | N3: =(F3*G3)+(H3*I3)+(J3*K3)+(L3*M3) -> 0 | O3: =N3*D3 -> 0
B4: =Leistungsverzeichnis!B4 -> 1.2 | C4: =Leistungsverzeichnis!C4 -> Darmkrebs‐Früherkennung für Frauen ab 50 Jahren. Informationen zum Angebot der gesetzlichen Krankenversicherung | D4: =Leistungsverzeichnis!E4 -> 3000000 | E4: =Leistungsverzeichnis!F4 -> 200000 | G4: 0.4 | I4: 0.4 | K4: 0.2 | N4: =(F4*G4)+(H4*I4)+(J4*K4) -> 0 | O4: =N4*D4 -> 0
B5: =Leistungsverzeichnis!B5 -> 1.3 | C5: =Leistungsverzeichnis!C5 -> Darmkrebs‐Früherkennung für Männer ab 50 Jahren. Informationen zum Angebot der gesetzlichen Krankenversicherung | D5: =Leistungsverzeichnis!E5 -> 2500000 | E5: =Leistungsverzeichnis!F5 -> 200000 | G5: 0.4 | I5: 0.4 | K5: 0.2 | N5: =(F5*G5)+(H5*I5)+(J5*K5) -> 0 | O5: =N5*D5 -> 0
B6: =Leistungsverzeichnis!B6 -> 1.4 | C6: =Leistungsverzeichnis!C6 -> Gebärmutterhalskrebs‐Früherkennung für Frauen zwischen 20 und 34 Jahren. Informationen zum Angebot der gesetzlichen Krankenversicherung | D6: =Leistungsverzeichnis!E6 -> 1500000 | E6: =Leistungsverzeichnis!F6 -> 200000 | G6: 0.45 | I6: 0.45 | K6: 0.1 | N6: =(F6*G6)+(H6*I6)+(J6*K6) -> 0 | O6: =N6*D6 -> 0
B7: =Leistungsverzeichnis!B7 -> 1.5 | C7: =Leistungsverzeichnis!C7 -> Gebärmutterhalskrebs‐Früherkennung für Frauen ab 35 Jahren. Informationen zum Angebot der gesetzlichen Krankenversicherung | D7: =Leistungsverzeichnis!E7 -> 3500000 | E7: =Leistungsverzeichnis!F7 -> 200000 | G7: 0.25 | I7: 0.25 | K7: 0.5 | N7: =(F7*G7)+(H7*I7)+(J7*K7) -> 0 | O7: =N7*D7 -> 0
F8: Preis pro Stück bei Abruf < 250.000 Stk. | G8: Gewichtung | H8: Preis pro Stück bei Abruf >= 250.000 Stk. | I8: Gewichtung | J8: Preis pro Stück bei Abruf >= 500.000 Stk. | K8: Gewichtung | L8: Preis pro Stück bei Abruf >= 750.000 Stk. | M8: Gewichtung | N8: Gewogener Durch- schnittspreis je Stück | O8: Wertungspreis
B9: =Leistungsverzeichnis!B8 -> 1.6 | C9: =Leistungsverzeichnis!C8 -> Lungenkrebs Früherkennung. Informationen zum Angebot der gesetzlichen Krankenversicherung | D9: =Leistungsverzeichnis!E8 -> 1000000 | E9: =Leistungsverzeichnis!F8 -> 200000 | G9: 0.1 | I9: 0.2 | K9: 0.2 | M9: 0.5 | N9: =(F9*G9)+(H9*I9)+(J9*K9)+(L9*M9) -> 0 | O9: =N9*D9 -> 0
B10: =Leistungsverzeichnis!B9 -> 1.7 | C10: =Leistungsverzeichnis!C9 -> Bluttest auf Trisomien – Der nicht invasive Pränataltest (NIPT) auf Trisomie 13, 18 und 21. Eine Versicherteninformation | D10: =Leistungsverzeichnis!E9 -> 200000 | E10: =Leistungsverzeichnis!F9 -> 50000 | G10: 0.6 | I10: 0.2 | K10: 0.1 | M10: 0.1 | N10: =(F10*G10)+(H10*I10)+(J10*K10)+(L10*M10) -> 0 | O10: =N10*D10 -> 0
A11: Wertungspreis Los 1 | O11: =O3+O4+O5+O6+O7+O9+O10 -> 0
F12: Preis pro Stück bei Abruf <= 50.000 Stk. | G12: Gewichtung | H12: Preis pro Stück bei Abruf > 50.000 Stk. | I12: Gewichtung | J12: Preis pro Stück bei Abruf >= 100.000 Stk. | K12: Gewichtung | N12: Gewogener Durch- schnittspreis je Stück | O12: Wertungspreis
A13: 2 | B13: =Leistungsverzeichnis!B10 -> 2.1 | C13: =Leistungsverzeichnis!C10 -> Erweitertes Neugeborenen-Screening - Elterninformation zur Früherkennung von angeborenen Störungen des Stoffwechsels, des Hormon-, des Blut-, des Immunsystems und des neuromuskulären Systems bei Neugeborenen | D13: =Leistungsverzeichnis!E10 -> 132000 | E13: =Leistungsverzeichnis!F10 -> 50000 | G13: 0.2 | I13: 0.3 | K13: 0.5 | N13: =(F13*G13)+(H13*I13)+(J13*K13)+(L13*M13) -> 0 | O13: =N13*D13 -> 0
B14: =Leistungsverzeichnis!B11 -> 2.2 | C14: =Leistungsverzeichnis!C11 -> Chlamydien-Test für Frauen bis 25 Jahre. Informationen zum Angebot der gesetzlichen Krankenversicherung | D14: =Leistungsverzeichnis!E11 -> 70000 | E14: =Leistungsverzeichnis!F11 -> 20000 | G14: 0.7 | I14: 0.3 | K14: 0.2 | N14: =(F14*G14)+(H14*I14)+(J14*K14)+(L14*M14) -> 0 | O14: =N14*D14 -> 0
B15: =Leistungsverzeichnis!B12 -> 2.3 | C15: =Leistungsverzeichnis!C12 -> HIV-Test für Frauen in der Schwangerschaft. Informationen zum Angebot der gesetzlichen Krankenversicherung | D15: =Leistungsverzeichnis!E12 -> 70000 | E15: =Leistungsverzeichnis!F12 -> 20000 | G15: 0.7 | I15: 0.3 | K15: 0.2 | N15: =(F15*G15)+(H15*I15)+(J15*K15)+(L15*M15) -> 0 | O15: =N15*D15 -> 0
B16: =Leistungsverzeichnis!B13 -> 2.4 | C16: =Leistungsverzeichnis!C13 -> Neugeborenen-Hörscreening. Informationen für Eltern zum Angebot der gesetzlichen Krankenversicherung | D16: =Leistungsverzeichnis!E13 -> 150000 | E16: =Leistungsverzeichnis!F13 -> 35000 | G16: 0.2 | I16: 0.3 | K16: 0.5 | N16: =(F16*G16)+(H16*I16)+(J16*K16)+(L16*M16) -> 0 | O16: =N16*D16 -> 0
B17: =Leistungsverzeichnis!B14 -> 2.5 | C17: =Leistungsverzeichnis!C14 -> Untersuchung auf Schwangerschaftsdiabetes für Frauen in der Schwangerschaft. Informationen zum Angebot der gesetzlichen Krankenversicherung | D17: =Leistungsverzeichnis!E14 -> 110000 | E17: =Leistungsverzeichnis!F14 -> 20000 | G17: 0.2 | I17: 0.3 | K17: 0.5 | N17: =(F17*G17)+(H17*I17)+(J17*K17)+(L17*M17) -> 0 | O17: =N17*D17 -> 0
B18: =Leistungsverzeichnis!B15 -> 2.6 | C18: =Leistungsverzeichnis!C15 -> Basis-Ultraschalluntersuchungen für Frauen in der Schwangerschaft. Informationen zum Angebot der gesetzlichen Krankenversicherung | D18: =Leistungsverzeichnis!E15 -> 180000 | E18: =Leistungsverzeichnis!F15 -> 50000 | G18: 0.2 | I18: 0.3 | K18: 0.5 | N18: =(F18*G18)+(H18*I18)+(J18*K18)+(L18*M18) -> 0 | O18: =N18*D18 -> 0
B19: =Leistungsverzeichnis!B16 -> 2.7 | C19: =Leistungsverzeichnis!C16 -> Untersuchung auf Mukoviszidose bei Neugeborenen. Informationen zum Angebot der gesetzlichen Krankenversicherung | D19: =Leistungsverzeichnis!E16 -> 45000 | E19: =Leistungsverzeichnis!F16 -> 10000 | G19: 0.8 | I19: 0.15 | K19: 0.05 | N19: =(F19*G19)+(H19*I19)+(J19*K19)+(L19*M19) -> 0 | O19: =N19*D19 -> 0
B20: =Leistungsverzeichnis!B17 -> 2.8 | C20: =Leistungsverzeichnis!C17 -> Untersuchung auf schwere Herzfehler bei Neugeborenen. Informationen für Eltern zum Angebot der gesetzlichen Krankenversicherung | D20: =Leistungsverzeichnis!E17 -> 75000 | E20: =Leistungsverzeichnis!F17 -> 20000 | G20: 0.7 | I20: 0.3 | K20: 0.2 | N20: =(F20*G20)+(H20*I20)+(J20*K20)+(L20*M20) -> 0 | O20: =N20*D20 -> 0
B21: =Leistungsverzeichnis!B18 -> 2.9 | C21: =Leistungsverzeichnis!C18 -> Informationen zum Ultraschall-Screening auf Aneurysmen der Bauchaorta. Warum wird Männern eine Untersuchung der Bauchschlagader angeboten? | D21: =Leistungsverzeichnis!E18 -> 90000 | E21: =Leistungsverzeichnis!F18 -> 20000 | G21: 0.15 | I21: 0.7 | K21: 0.15 | N21: =(F21*G21)+(H21*I21)+(J21*K21)+(L21*M21) -> 0 | O21: =N21*D21 -> 0
B22: =Leistungsverzeichnis!B19 -> 2.10 | C22: =Leistungsverzeichnis!C19 -> Brachytherapie bei Niedrig-Risiko-Prostatakrebs. Informationen zum Angebot der gesetzlichen Krankenversicherung | D22: =Leistungsverzeichnis!E19 -> 10000 | E22: =Leistungsverzeichnis!F19 -> 5000 | G22: 1 | N22: =(F22*G22)+(H22*I22)+(J22*K22)+(L22*M22) -> 0 | O22: =N22*D22 -> 0
B23: =Leistungsverzeichnis!B20 -> 2.11 | C23: =Leistungsverzeichnis!C20 -> Bestimmung des Rhesusfaktors vor der Geburt für Frauen in der Schwangerschaft. Informationen zum Angebot der gesetzlichen Krankenversicherung | D23: =Leistungsverzeichnis!E20 -> 65000 | E23: =Leistungsverzeichnis!F20 -> 15000 | G23: 0.7 | I23: 0.3 | K23: 0.2 | N23: =(F23*G23)+(H23*I23)+(J23*K23)+(L23*M23) -> 0 | O23: =N23*D23 -> 0
A24: Wertungspreis Los 2 | O24: =SUM(O13:O23) -> 0
F25: Preis pro Stück bei Abruf < 250.000 Stk. | G25: Gewichtung | H25: Preis pro Stück bei Abruf >= 250.000 Stk. | I25: Gewichtung | J25: Preis pro Stück bei Abruf >= 500.000 Stk. | K25: Gewichtung | L25: Preis pro Stück bei Abruf >= 750.000 Stk. | M25: Gewichtung | N25: Gewogener Durch- schnittspreis je Stück | O25: Wertungspreis
A26: 3 | B26: =Leistungsverzeichnis!B21 -> 3.1 | C26: =Leistungsverzeichnis!C21 -> Kinderuntersuchungsheft (Gelbes Heft) | D26: =Leistungsverzeichnis!E21 -> 780000 | E26: =Leistungsverzeichnis!F21 -> 150000 | G26: 0.2 | I26: 0.2 | K26: 0.5 | M26: 0.1 | N26: =(F26*G26)+(H26*I26)+(J26*K26)+(L26*M26) -> 0 | O26: =N26*D26 -> 0
B27: =Leistungsverzeichnis!B22 -> 3.2 | C27: =Leistungsverzeichnis!C22 -> Einleger Z1 bis Z6 (auslaufendes Produkt) | D27: =Leistungsverzeichnis!E22 -> 200000 | E27: =Leistungsverzeichnis!F22 -> 20000 | G27: 0.7 | I27: 0.1 | K27: 0.1 | M27: 0.1 | N27: =(F27*G27)+(H27*I27)+(J27*K27)+(L27*M27) -> 0 | O27: =N27*D27 -> 0
B28: =Leistungsverzeichnis!B23 -> 3.3 | C28: =Leistungsverzeichnis!C23 -> Aufkleber ZÄ (auslaufendes Produkt) | D28: =Leistungsverzeichnis!E23 -> 200000 | E28: =Leistungsverzeichnis!F23 -> 20000 | G28: 0.7 | I28: 0.1 | K28: 0.1 | M28: 0.1 | N28: =(F28*G28)+(H28*I28)+(J28*K28)+(L28*M28) -> 0 | O28: =N28*D28 -> 0
B29: =Leistungsverzeichnis!B24 -> 3.4 | C29: =Leistungsverzeichnis!C24 -> Aufkleber NHS (auslaufendes Produkt) | D29: =Leistungsverzeichnis!E24 -> 200000 | E29: =Leistungsverzeichnis!F24 -> 20000 | G29: 0.7 | I29: 0.1 | K29: 0.1 | M29: 0.1 | N29: =(F29*G29)+(H29*I29)+(J29*K29)+(L29*M29) -> 0 | O29: =N29*D29 -> 0
A30: Wertungspreis Los 3 | O30: =SUM(O26:O29) -> 0
A31: 4 | B31: =Leistungsverzeichnis!B25 -> 4.1 | C31: =Leistungsverzeichnis!C25 -> Mutterpass | D31: =Leistungsverzeichnis!E25 -> 585000 | E31: =Leistungsverzeichnis!F25 -> 150000 | G31: 0.2 | I31: 0.2 | K31: 0.5 | M31: 0.1 | N31: =(F31*G31)+(H31*I31)+(J31*K31)+(L31*M31) -> 0 | O31: =N31*D31 -> 0
A32: Wertungspreis Los 4 | O32: =SUM(O31) -> 0
