Workbook

Sheet Blatt 1 Deckblatt_BeschArbeitsg
A1: Blatt 1
A2: Leistungsbeschreibung für Verkehrssicherung im Kommunalwald
A4: Vergabenummer (Verg.-Nr.): | D4: FB3-VKS-2026
A6: Auftraggeber: | D6: Große Kreisstadt Dippoldiswalde
D7: Markt2
D8: 01744 Dippoldiswalde
A11: Forstbetriebnummer (Forst-B.):
A13: Leistungszeitraum: | D13: 15.12.2026 bis 28.02.2027
A15: Maßnahme: | B15: VKS-Arbeiten im KoW Dippoldiswalde 2026/2027
A18: Ansprechpartner: | D18: Staatsbetrieb Sachsenforst
D19: Forstbezirk Bärenfels, Rev. 22 Spechtshausen
D20: Lukas Schubert (Revierleiter)
D21: Tel: 01755759015
A22: Inhalt:
A23: 1. Beschreibung des Arbeitsgebietes | F23: Blatt 1
A24: 2. Leistungsbeschreibung Qualitäsanforderungen | F24: Blatt 2
A25: 3. Allgemeine Hinweise/forderungen Leistungserbringung | F25: Blatt 3
A26: 4. Anforderungen an Bieter / Arbeitnehmer | F26: Blatt 4
A27: 5. Angebotsformular | D27: (von Anbieter auszufüllen) | F27: Blatt 5
A28: 6. Geräte- und Arbeitskräfteverzeichnis | D28: (von Anbieter auszufüllen) | F28: Blatt 6
A29: 7. Nachunternehmererklärung | D29: (von Anbieter auszufüllen) | F29: Blatt 7
A30: 8. Eigenerklärung Flächenbegang | D30: (von Anbieter auszufüllen) | F30: Blatt 8
A31: 9. Liste der Verkehrrsicherungsobjekte nach Begang i.d.K. (Name Komune) | F31: separat
A32: mit Lageplänen und nummerieten VKS-Objekte ("Liste VKS")
A34: 1. Beschreibung des Arbeitsgebietes
A35: Lage des Arbeitsortes, der Polterplätze, Rückegassen und Maschinenwege sind
A36: aus der Liste VKS den Lagekarten ersichtlich
A38: Geländemerkmale/ örtliche Verhältnisse:
A39: Blocküberlagerung | D39: Enge Wege
A40: Gräben | D40: Hängig
A41: Bachlauf
A42: ausgeprägte Strauchschicht
A45: mittlere Rückeentfernung:
A46: < 300 m
A48: Besonderh. Erschließung:
A49: z.T. recht schwierige/hängige Geöändepartieen, die die Beräumung schwierig gestalten. Hierzu Klug die Flächen abarbeiten.
A55: Vorliefern: | C55: Minimal | D55: Mittel | E55: Maximal
A56: Entfernung (m): | C56: 10 | D56: 20 | E56: 60
A58: Schutzstatus:
A59: FFH-Gebiet
A60: SPA-Gebiet

Sheet Blatt 2 QualitätsanfLeistun 
A1: Blatt 2 | B1: Verg._Nr: | C1: ='Blatt 1 Deckblatt_BeschArbeitsg'!D4 -> FB3-VKS-2026 | E1: Forst-B.: | F1: ='Blatt 1 Deckblatt_BeschArbeitsg'!D11 -> 0
A3: Leistungsbeschreibung für Verkehrrsicherungsarbeiten im Kommunalwald
A5: 2. Qualitätsanforderungen / technologische Hinweise
A7: 2.1 Verfahren und Verfahrensanforderungen:
A8: Position | B8: Verfahren | D8: BHD (cm) | E8: Hinweise/Bemerkungen Kostenkalk.
A9: A1.1 | B9: Fällung | D9: bis 20 cm | E9: Bitte aus Daten der Liste VKS und/oder Kenntnisse vor Ort kalkulieren. Bitte kalkulieren Sie die Beräumung (siehe 3.2.12) und die z.T. empfohlene Seilunterstützung mit ein. Fällungen sind grundsätzlich gemäß Vorgaben des SVLFG auszuführen!
A10: A1.2 | B10: Fällung | D10: 21 bis 30
A11: A1.3 | B11: Fällung | D11: 31 bis 50
A12: A1.4 | B12: Fällung | D12: ab 51
A13: A2 | B13: Hochstubben | D13: alle | E13: Bitte aus Daten der Liste VKS und/oder Kenntnisse vor Ort kalkulieren. Hinweise zur Nutzung von Hubsteiger und SKT in der Liste VKS vorhanden. Bitte mit berücksichtigen.
A14: A3 | B14: Abtragen | D14: alle
A15: A4 | B15: Trockenastung | D15: alle
A16: A5 | B16: Lichtraumprofil | D16: alle
A17: A6 | B17: Kroneneinkürzung | D17: alle
A18: B1 | B18: Unvorhergesehenes Maschine | D18: alle | E18: Stundenleistung
A19: B2 | B19: Unvorhergesehenes Personal | D19: alle | E19: Stundenleistung
A20: C1 | B20: Absperren von Wegen | D20: - | E20: Mit in die Gesamtleistung einkalkulieren, keine gesonderte abrechenbare Leistung. Insbesondere in Liste VKS unter Spalte "VAO - zw. Erforderlich" ist dies ein wichtiger Hinweis. Wenn Sie selbst erkennen, dass eine VAO an anderer Stelle benötigt wird, diese auch einholen und umsetzen.
A21: C2 | B21: Verkehrsrechliche Anordnung (VAO) | D21: -
A24: 2.2 Nähere Erläuterung zu Positionen:
A25: A1: | B25: Beinhaltet einfache Fällungen, Seilklettergestützte und Seilunterstützte Fällungen. Die richtige Verfahrensweise wird durch den Anbieter vor Ort entschieden. Diese orientiert sich daran, dass sich die Fällung aus arbeitschutztechnischer Sicht sicher und unter minimierung von Schäden des verbleibenden Bestandes orientiert. Dementsprechend ist mit einem fianziellen Puffer zu kalkulieren!
A28: A2/A6: | B28: Die Höhe/Art des Stubbens oder Prozent der Kronenanteils ist in der Liste VKS unter Spalte Bemerkung vermerkt.
A29: A3: | B29: Abtragen ist ein Verfahren zur schrittweisen Beseitigung eines Baumes unter absoluten Vermeidung von Schäden an umliegenden Bestand, Bauwerken, Infrastruktur u.ä. dies kann auch das Stückweise abtragen oder Abseilen von Ästen/Kronenteilen beinhalten.
A32: A4/A5 | B32: Bitte bei der Liste VKS auf Angabe "Hochentaster reicht aus" achten. In diesen Fällen ist keine Hebebühne oder Seilklettetechnik notwendig.

Sheet Blatt 3 QualitätsanfLeistungsb
A1: Blatt 3 | B1: Verg._Nr: | C1: ='Blatt 1 Deckblatt_BeschArbeitsg'!D4 -> FB3-VKS-2026 | E1: Forst-B.: | F1: ='Blatt 1 Deckblatt_BeschArbeitsg'!D11 -> 0
A3: Leistungsbeschreibung für Verkehrrsicherungsarbeiten im Kommunalwald
A5: 3.2 Allgemeine Hinweise/Forderungen zur Leistungserbringung:
A6: 3.2.1 die Arbeiten orientieren sich gemäß an der beigefügten Liste VKS und Lagekarten
A7: 3.2.2 Es handelt sich in Teilen um einfache motormanuelle Seilkletterunterstützte (SKT) Fällungen und Hochstubbenschnitte, Seilgestützte (Seilen) Fällungen und Trockenastungen. Die Leistungen können in Teilen mit einem Hubsteiger erledigt werden. Die geforderte Leistung wird in der Liste VKS genannt.
A8: 3.2.3 Die Durchmesser der zu behandelten Bäume betragen x bis x cm Brusthöhendurchmesser. Vorwiegend Grüne/lebende Bäume, z.T. stehendes Totholz.
A9: 3.2.4 Die Bäume sind i.d.R. am Stamm bzw. Stammfuß nummeriert und mit einem roten Punkt versehen und sind mit der Liste VKS kompatibel
A10: 3.2.5 Bäume sind je nach Möglichkeit Hangaufwärts (senkrecht) zu fällen. Quer zum Hang nur nach vorheriger Absprache.
A11: 3.2.6 Stämme unabhängig von Durchmesser und grobes Astmaterial bis 15 cm sind von den Flächen zu beräumen, wenn: * in der Liste VKS in Spalte „Beraeumung“ entweder „Rücken_Abfahren“ oder „Rücken_Brennholzpolter“ steht. * Desweiteren wenn diese sich an extremen Steilhängen, Hängen mit Schuttauflage, über Klippen, Felsvorsprüngen u.A. oberhalb von Verkehrssicherungspflichtigen Objekten befinden
A12: 3.2.7 im Rahmen der Maßnahme anfallende Stämme, Stammabschnitte und sämtliches Astmaterial sind aus Gewässern und Gräben zu entfernen sind.
A13: 3.2.8 Der verbleibende Schlagabraum ist so zu platzieren, dass keine Gefährdung des öffentlichen Verkehrsraums und/ oder Wanderwegen entstehen können.
A14: 3.2.9 Vom Arbeits-/Auftragnehmer verursachte Straßenverschmutzung sind selbständig zu beseitigen.
A15: 3.2.10 Schäden an Wegen, Straßen, Gebäuden und anderen Objekten sind zu vermeiden. Wenn Schäden verursacht wurden, sind diese auf Kosten des Arbeitnehmers abzuwickeln und zu beseitigen.
... A20: 3.2.15 Nicht ordnungsgemäß ausgeführte Arbeiten gemäß Vorgaben/Liste VKS, können zu Schadensersatzansprüchen durch den Auftraggeber führen.

Sheet Blatt 4 AnfBieterAuftragnehmer
A1: Blatt 4 | B1: Verg._Nr: | C1: ='Blatt 1 Deckblatt_BeschArbeitsg'!D4 -> FB3-VKS-2026 | E1: Forst-B.: | F1: ='Blatt 1 Deckblatt_BeschArbeitsg'!D11 -> 0
A2: Leistungsbeschreibung für Holzernte im Kommunalwald
A4: 4. Anforderungen an Bieter / Auftragnehmer
A7: Zertifizierung:
A8: -Zur Angebotsabgabe befugt sind RAL und/oder KUQS zertifizierte Unternehmen. Oder Unternehmen die ein vergleichbares und von PEFC anerkeanntes Zertifizikat besitzen. -Zertifizierung SKT-A und SKT-B zwingend erforderlich Gilt auch für Folge- oder Subunternehmer. Nachweis bitte beifügen.
A11: Arbeitsmittel Allgemein:
A12: -Arbeitsmittel und PSA müssen nach geltenden gesetzlichen Bestimmungen geprüft und zugelassen sein. Der Auftraggeber behält sich vor, entsprechende Nachweise anzufordern und Kontrollen durchzuführen. Bei allen Maschinen sind Bioöle und wo vorgeschrieben, Sonderkraftstoffe zu verwenden! -Wir setzen jährlich geprüfte, zugelassene und einwandfreie Technik: Motormanuell, Seilzug/-machschine, Kletterausrüstung, ggf. Hubsteiger voraus.
A15: Verkehrsrechtliche Anordnung
A16: Der Auftragnehmer muss, wenn notwendig, entsprechende Verkehrsrechtliche Anordnungen beantragen (45 Abs. 6 StVO) und hat das Genehmigunsrecht vollziehen. Die Verkerhsrechtliche Anorndung ist vor Beginn der Maßnahme vorzuweisen.
A21: Hiebsortbesichtigung:
A22: Die Teilnahme des Bieters an einer Hiebsortbesichtigung vor der Angebotsabgabe mit dem Revierleiter ist verpflichtend und nachzuweisen (siehe Blatt 8).
A24: Arbeitssicherheit:
A25: Der Auftragnehmer und seine eingesetzten Nachunternehmer verpflichtet sich die nach der SVLFG (Sozialversicherung für Landwirtschaft, Forsten und Garten) vorgebenen und aktuell geltenden Arbeitsweisen sowie Sicherheitsbestimmungen konsequent umzusetzen. Verstöße können zur Auftragsrücknahme/Vertragsauflösung führen.

Sheet Blatt 5 Angebotsblatt
A1: Blatt 5 | B1: Verg._Nr: | C1: ='Blatt 1 Deckblatt_BeschArbeitsg'!D4 -> FB3-VKS-2026 | E1: Forst-B.: | F1: ='Blatt 1 Deckblatt_BeschArbeitsg'!D11 -> 0
A2: 5. Angebotsblatt für Holzernte im Kommunalwald
A4: Forstbetrieb (Auftraggeber): | C4: ='Blatt 1 Deckblatt_BeschArbeitsg'!D6 -> Große Kreisstadt Dippoldiswalde
C5: ='Blatt 1 Deckblatt_BeschArbeitsg'!D7 -> Markt2
C6: ='Blatt 1 Deckblatt_BeschArbeitsg'!D8 -> 01744 Dippoldiswalde
C7: ='Blatt 1 Deckblatt_BeschArbeitsg'!D9 -> 0
A9: Fostbetriebsnummer: | C9: ='Blatt 1 Deckblatt_BeschArbeitsg'!D11 -> 0
A11: Vergabenummer: | C11: ='Blatt 1 Deckblatt_BeschArbeitsg'!D4 -> FB3-VKS-2026
A13: Leistungszeitraum: | C13: ='Blatt 1 Deckblatt_BeschArbeitsg'!D13 -> 15.12.2026 bis 28.02.2027
A15: Leistung gemäß Blätter 2 bis 4 des Leistungsverzeichnisses
A16: Position (Pos.Nr.) | B16: Kurz-beschreibung | C16: Stück* (Bäume) | D16: Preis €/Stk. | F16: Gesamt € (Stück*Preis)
A17: A1.1 | B17: Fällung < 20 | C17: 48
A18: A1.2 | B18: Fällung 21-30 | C18: 38
A19: A1.3 | B19: Fällung 31-50 | C19: 48
A20: A1.4 | B20: Fällung >50 | C20: 4
A21: A2 | B21: Hochstubben | C21: 1
A22: A3 | B22: Abtragen | C22: 0
A23: A4 | B23: Trockenastung | C23: 16
A24: A5 | B24: Lichtraum- profil | C24: 7
A25: A6 | B25: Kronen- einkürzung | C25: 2
A26: B1 | B26: Unvorh. Maschine | C26: -
A27: B2 | B27: Unvorh. Personal | C27: -
E28: SUMME:
A30: *Mehrmengen können nur nach vorheriger schriftlicher Abstimmung und Genehmigung abgerechnet werden!
A31: -Bitte Kalkulationsbedingungen gemäß Ausschreibungsunterlagen beachten-
D35: (Stempel)
B37: Ort, Datum, Unterschrift

Sheet Blatt 6 Geräte- und Arbkr. Verz
A1: Blatt 6 | B1: Verg._Nr: | C1: ='Blatt 1 Deckblatt_BeschArbeitsg'!D4 -> FB3-VKS-2026 | E1: Forst-B.: | F1: ='Blatt 1 Deckblatt_BeschArbeitsg'!D11 -> 0
A2: 6. Geräte- und Arbeitskräfteverzeichnis für VKS-Arbeiten im Kommunalwald
A4: Das Geräte- und Arbeitskräfteverzeichnis dient der Zusammenstellung der zum Einsatz kommenden Maschinen und Arbeitskräfte
A8: Maschinen | B8: Hersteller/Typ | E8: Baujahr
A9: Hub/Hebe-bühne
A10: Universal- traktor
A11: Raupe
A12: Rückefahr- zeug
A15: Zusätzliche Arbeitskräfte (ohne Maschinenführer)
A18: Qualifizierung | C18: Anzahl | D18: Übertragene Aufgabe(n) im Rahmen des Einsatzes (z.B. Zufällen)
A19: Forstwirte
A20: Arbeitskräfte ohne Forstwirtausbildung
A21: Forstwirt-Azubi
A23: Sonstiges:
D26: (Stempel)
B28: Ort, Datum, Unterschrift

Sheet Blatt 7 Nachunternehmer
A1: Blatt 7 | B1: Verg._Nr: | C1: ='Blatt 1 Deckblatt_BeschArbeitsg'!D4 -> FB3-VKS-2026 | E1: Forst-B.: | F1: ='Blatt 1 Deckblatt_BeschArbeitsg'!D11 -> 0
A3: 7. Verzeichnis der Nachunternehmerleistung Holzernte im Kommunalwald
A5: Zur Ausführung der im Angebot enthaltenen Leistungen benenne(n) ich/wir Art und Umfang der durch Nachunternehmer auszuführenden Teilleistungen.
B8: Die Namen der Nachunternehmer sind bereits bei Angebotsabgabe
B9: anzugeben.
B10: Folgende Leistungen, auf die mein/unser Betrieb nicht eingerichtett ist,
B11: werde ich an Nachunternehmer vergeben:
A13: Pos.-Nr. | B13: Beschreibung der Teilleistung | E13: Name des Unternehmers
B18: Folgende Leistungen, auf die mein/unser Betrieb eingerichtet ist, werde(n)
B19: ich/wir an Nachunternehmer Vergeben:
A21: Pos.-Nr. | B21: Beschreibung der Teilleistung | E21: Name des Unternehmers
A26: Mir/ Uns ist bekannt, dass nur Nachunternehmer zum Einsatz kommen dürfen, die ein von PEFC Deutschland anerkanntes Zertifikat besitzen. Auf Verlangen der Vergabestelle werde ich innerhalb der hierfür gesetzten Frist die vorgesehenen Nachunternehmer mit Namen, gesetzlichem Vertreter und Kontaktdaten benennen und einen Nachweis über deren Zertifizierung (gültige Zertifikatsurkunde in Kopie) und das Nichtvorliegen von Ausschlussgründen sowie eine Verpflichtungserklärung nachreichen.Unternehmen, bei denen Ausschlussgründe vorliegen, werde(n) ich/ wir innerhalb einer von der Vergabestelle gesetzten Frist ersetzen.
D28: (Stempel)
B30: ort, Datum, Unterschrift

Sheet Blatt 8 Eigenerkl Flächenb
A1: Blatt 8 | B1: Verg._Nr: | C1: ='Blatt 1 Deckblatt_BeschArbeitsg'!D4 -> FB3-VKS-2026 | E1: Forst-B.: | F1: ='Blatt 1 Deckblatt_BeschArbeitsg'!D11 -> 0
A3: 8. Eigenerklärung zur Flächenbesichtigung Holzernte im Kommunalwald
A4: Vergabenummer: | D4: ='Blatt 1 Deckblatt_BeschArbeitsg'!D4 -> FB3-VKS-2026
A6: Forstbetrieb (Auftraggeber): | D6: ='Blatt 1 Deckblatt_BeschArbeitsg'!D6 -> Große Kreisstadt Dippoldiswalde
D7: ='Blatt 1 Deckblatt_BeschArbeitsg'!D7 -> Markt2
D8: ='Blatt 1 Deckblatt_BeschArbeitsg'!D8 -> 01744 Dippoldiswalde
D9: ='Blatt 1 Deckblatt_BeschArbeitsg'!D9 -> 0
A11: Forstbetriebnummer: | D11: ='Blatt 1 Deckblatt_BeschArbeitsg'!D11:G11 -> 0
A13: Einsatzorte: | D13: Siehe Liste VKS und Lagekarte
A15: Maßnahme: | B15: ='Blatt 1 Deckblatt_BeschArbeitsg'!B15:G16 -> VKS-Arbeiten im KoW Dippoldiswalde 2026/2027
A20: Besichtigung Bestätigt
A22: Hiermit erkläre/n wir / ich, dass wir uns / ich im Zuge der Flächenbesichtigung mit dem zuständigen Revierleiter am o.g. Datum abgestimmt und mit den örtlichen Gegebenheiten vertraut gemacht haben.
A30: Ort, Datum, Unterschrift | E30: Ort, Datum, Unterschrift
A31: (Auftragnehmer/Bieter) | E31: (Revierleiter)

Sheet Arbeitsgeb_LV_HE
B1: Hangneigung | D1: Gelände | F1: Mittlere Rückeentfernung | H1: Flächenanteil | J1: Gelände
B3: 0 - 4 % | D3: Blocküberlagerung | F3: < 300 m | H3: < 5 % | J3: Blocküberlagerung
B4: 5 - 20 % | D4: Gräben | F4: 300 - 600 m | H4: 5 - 10 % | J4: Gräben
B5: 21 - 30 % | D5: Bachlauf | F5: 600 - 1.000 m | H5: 10 - 15% | J5: Bachlauf
B6: 31 - 40 % | D6: behindernde Steine | F6: > 1.000 m | H6: 15 - 20 % | J6: behindernde Steine
B7: 41 - 50 % | D7: ausgeprägte Strauchschicht | H7: 20 - 25 % | J7: ausgeprägte Strauchschicht
B8: > 50 % | H8: 25 - 30 % | J8: Enge Wege
H9: 30 - 35 % | J9: Hängig
A10: Bewuchs | D10: Gassenabstand | H10: 35 - 40 % | J10: z.T. Sichtbehinderung durch Verjüngung
A11: Art | B11: Höhe | H11: 40 - 45 % | J11: Nassstellen
B12: - | D12: 20 m | H12: 45 - 50 % | J12: z.T. Abschläge vorhanden
A13: Verjügung | B13: < 0,5m | D13: >30 - 40 m | H13: 50 - 55 % | J13: örtliche Straße
A14: sonst. Unterstand | B14: 0,5 - 2,5 m | D14: >40 - 60 m | H14: 55 - 60 % | J14: Maschinenwege z.t. zugewachsen
A15: Strauchschicht | B15: > 2,5m | D15: >60 - 100 m | H15: 60 - 65 % | J15: Wildzäune an Fläche
D16: > 100 m | H16: 65 - 70 %
H17: 70 - 75 %
D18: Befahrbarkeitsklassen | H18: 75 - 80 %
H19: 80 - 85 %
D20: befahrbar (B1) | H20: 85 - 90 %
D21: eingeschränkt befahrbar (B2) | H21: 90 - 95 %
D22: stark eingeschränkt befahrbar (B3) | H22: 95 - 100%
D23: kaum befahrbar (B4) | H23: 1
D24: nicht befahrbar (B5)
A25: Gesetzliche Schutzfunktionen
A26: Boden | F26: Vorlierferentfernung/Trassenlänge Seilkran | H26: Flächenanteil
A27: Bodenschutzwald
A28: Anlagenschutzwald | F28: 10 | H28: 0.05
A29: Straßenschutzwald | F29: 20 | H29: 0.1
A30: Wasser | F30: 30 | H30: 0.15
A31: Wasserschutzgebiet Zone I | F31: 40 | H31: 0.2
A32: Wasserschutzgebiet Zone II | F32: 50 | H32: 0.25
A33: Wasserschutzgebiet Zone II A | F33: 60 | H33: 0.3
A34: Wasserschutzgebiet Zone II B | F34: 80 | H34: 0.35
A35: Wasserschutzgebiet Zone III | F35: 100 | H35: 0.4
A36: Wasserschutzgebiet Zone III A | F36: 200 | H36: 0.45
A37: Wasserschutzgebiet Zone III B | F37: 300 | H37: 0.5
A38: Heilquellenschutzgebiet Zone I | F38: 400 | H38: 0.55
A39: Heilquellenschutzgebiet Zone II | F39: 500 | H39: 0.6
... A47: Lärmschutzwald | F47: 1300 | H47: 1
A48: Natur | F48: 1400
A49: Nationalpark - Kernzone/Naturzone A | F49: 1500
A50: Nationalpark - Kernzone/Naturzone B | F50: 1600
A51: Nationalpark - Kernzone/Pflegezone | F51: 1700
A52: Nationalpark - Naturzone A | F52: 1800
A53: Nationalpark - Naturzone B | F53: 1900
A54: Nationalpark - Pflegezone A | F54: 2000
A55: FFH-Gebiet
A56: SPA-Gebiet
A57: Naturschutzgebiet
A58: Naturdenkmal | F58: Maßnahmen
A59: Naturwaldzelle
A60: Geschütztes Biotop (flächig) | F60: Holzernte Komplett
A61: Geschütztes Biotop (linienförmig) | F61: Zaunabbau
A62: Geschütztes Biotop (punktuell) | F62: Zaunreapratur
A63: Landschaft | F63: Rücken
A64: Landschaftsschutzgebiet | F64: Fällung
A65: Kultur | F65: Rückegassen abziehen
A66: Biosphärenreservat | F66: Rückegassen Ausfahrten ausformen
A67: Denkmalschutzgebiet
A68: Grabungsschutzgebiet
A69: Kulturdenkmal
A70: Erholung
A71: Erholungswald
A72: Naturpark
A73: Besondere Schutzfunktionen
A74: Boden
A75: Wald mit besonderer Bodenschutzfunktion
A76: Wald mit besonderer Anlagenschutzfunktion
A77: Wasser
A78: Wald mit besonderer Wasserschutzfunktion
... A101: Wald mit besonderer Erholungsfunktion Stufe II
