Workbook
Name Anzuchtform: 'Nicht versenden_Vorlagen'!$I$3:$I$10
Name Baumarten: 'Nicht versenden_Vorlagen'!$K$3:$K$71
Name Begleitvegetation: 'Nicht versenden_Vorlagen'!$G$3:$G$10
Name Gassen: 'Nicht versenden_Vorlagen'!$D$3:$D$6
Name Gelände_Standort: 'Nicht versenden_Vorlagen'!$B$3:$B$19
Name Hangneigung: 'Nicht versenden_Vorlagen'!$A$3:$A$9
Name Markierungen: 'Nicht versenden_Vorlagen'!$F$3:$F$11
Name Pflanzverband: 'Nicht versenden_Vorlagen'!$J$3:$J$12
Name Schutzfunktion: 'Nicht versenden_Vorlagen'!$C$3:$C$80
Name Sortiment: 'Nicht versenden_Vorlagen'!$H$3:$H$9
Name Transportwege: 'Nicht versenden_Vorlagen'!$E$3:$E$8

Sheet Deckbl_Ort_LV_Pfl I_IX
A1: Vergabenummer: | C1: =D5 -> FB3-BPfl-2026/27 | E1: Forstbertrieb: | F1: =D12 -> 2072
A3: Leistungsbeschreibung Pflanzung - Leistungsort/Leistungszeitraum | F3: Blatt I/IX
A5: Vergabenummer: | D5: FB3-BPfl-2026/27
A7: Forstbetrieb: | D7: Große Kreisstadt Dippoldiswalde
D8: Markt 2
D9: 01744 Dippoldiswalde
A12: Forstbetrieb-Nr.: | D12: 2072
A14: Bezeichnung/Maßnahme: | D14: Pflanzung 2026 224_3 Ammelsdorf und 1229 Dippoldiswalde
A17: Leistungszeitraum (Pos 1,2,4,5,6) | D17: November 2026 bis ggf. Mrz 2027
A19: Leistungszeitraum (Pos 3) | D19: Mai 2027 bis September 2029
A21: Waldgebiet: | D21: 06I und 06K
A23: Flächenverzeichnis: | D23: -Lagekarte liegt bei-
A24: lfd.-Nr. | B24: Flurstück | C24: Gemarkung | E24: Waldort | G24: Pflanzfläche (ha)
A25: I | B25: 224_3 | C25: Ammelsdorf | E25: 06I 959a5 ; a4 | G25: 0.75
A26: II | B26: 1229 | C26: Dippoldiswalde | E26: 06K 436a8; 436a5; 437a1 | G26: 0.3
A27: III
A28: IV
F29: Summe: | G29: =SUM(G25:G28) -> 1.05
A31: Markierungen:
A32: -Pflanzflächen orientieren sich an Rückegassen (siehe Karte)
A33: -Lagekarte ist zwingend für Pflanzkoordinierung hinzuziehen
A34: -Pflanzflächen sind farblich gekennzeichnet
A36: Standörtliche Verhältnisse:
A37: -ohne Oberstand
A38: -flachgründige Böden
A39: -vergraste Fläche
A42: Hangneigung: | D42: 0 - 4 % | E42: 21 - 30 %
A44: Begleitvegetation:
A45: -Brombeere | E45: -Reitgras
A46: -Himbeere
A47: -Vorwüchse div. Laubbaumarten
A49: Gassen: | D49: aller >30 - 40 m
A51: Gesetzliche Schutzfunktion:
A52: -Wasserschutzgebiet Zone III
A53: -SPA-Gebiet

Sheet SchutzFlächenvorb_LV_Pfl II_IX 
A1: Vergabenummer: | C1: ='Deckbl_Ort_LV_Pfl I_IX'!D5 -> FB3-BPfl-2026/27 | E1: Forstbetrieb: | F1: ='Deckbl_Ort_LV_Pfl I_IX'!D12 -> 2072
A3: Leistungsbeschreibung Pflanzung - Zaunbau - Flächenvorbeitung | F3: Blatt II/IX
A5: Position 1 Einzelschutz:
A6: lfd.-Nr.: | B6: Flstk. | C6: Gemk. | D6: Waldort | E6: Stück
A7: I | B7: - | C7: - | D7: - | E7: -
A8: II | B8: 1229 | C8: Dippoldiswalde | D8: 06K | E8: 350
A9: III
A10: IV
D11: SUMME: | E11: =SUM(E7:E10) -> 350
A13: Anforderungen an Einzelschutz
A14: - Schutzhülle nach Typ "PlantaGard Baumschutz-Gitterhülle" Durchmesser passend zum Sortiment der Esskastanie wählen min 20 cm Durchmesser. Höhe des Einzelschutzes 1,20 m.
A15: - Geeignete Stäbe (Robinie o.ä.) zur Sicherung des Schutzes nutzen: Witterungsbeständig.
A16: - Nach der Pflanzung sind die Bäume mit diesem Einzelschutz zu versehen und stabi an dem Stab am Boden zu verankern.
A18: Position 2 Flächenvorbereitung
A19: lfd.-Nr.: | B19: Flstk. | C19: Gemk. | D19: Fläche (ha)
A20: I | B20: 224_3 | C20: Ammelsdorf | D20: 0.75
A21: II | B21: 1229 | C21: Dippoldiswalde | D21: 0.1
A22: III
A23: IV
C24: SUMME: | D24: =SUM(D20:D23) -> 0.85
A26: - Händisches Räumen von Restreisig/Schlagraum/Vorwuchs, kleinerem Geröll/Steinen von der Fläche, auf/an Rückgassen.
A27: - Rückschnitt von Himbeere und Brombeere auf der Fläche mittel Freischneider, es besteht die Möglichkeit 50 % der Fläche mit Raupe und Fräßanbaugerät (geringer Bodendruck pflicht!) zu Arbeiten.
A28: - Vorwuchsbeseitigung von aufgelaufener Naturverjüngung und Vorwüchsen, mittels Freischneider / kleiner Motorsäge.
A29: - Arbeitsqualität: Die Fläche soll möglichst so beräumt sein, dass die Pflanzung und anschließende Kulturpflege erleichtert wird.

Sheet KulturpflUnvorher_LV_Pfl III_IX
A1: Vergabenummer: | C1: ='Deckbl_Ort_LV_Pfl I_IX'!D5 -> FB3-BPfl-2026/27 | E1: Forstbetrieb: | F1: ='Deckbl_Ort_LV_Pfl I_IX'!D12 -> 2072
A3: Leistungsbeschreibung Pflanzung - Kulturpflege - Unvorhergesehenes | F3: Blatt III/IX
A5: Position 3 Kulturpflege
A6: lfd.-Nr.: | B6: Flstk. | C6: Gemk. | D6: Fläche (ha)
A7: I | B7: 224_3 | C7: Ammelsdorf | D7: 0.75
A9: - 2x Jährliche Pflege über 5 Jahre gemäß Leistungszeitraum, mittels Freischneider mit geeigneter Schneidevorrichtung. Ggf. mit (pfleglicher) maschieneller Pflege nach Rücksprache kombinierbar.
A10: - die Schnittzeitpunkte sind einzuhalten, jedoch kann nach Rücksprache mit dem Auftraggeber auch Abweichungen stattfinden, insbesondere bei unterschiedlichen Wachstumsdynamiken der Begleitvegetation über den Jahresverlauf aufgrund Witterungsereignissen.
A11: - komplett flächige Pflege (Flächenschnitt) der Kultur, ohne Beschädigung der gepflanzten Kultur.
A12: - Erhalt von Naturverjüngung, wenn diese die gepflanzte Kultur nicht beträngt (z.B. auf Ausfallflächen/-streifen)
A13: - aufkommendes Labkraut oder Brombeere die Pflanzen umschlungen haben, sind vor dem schnitt händisch zu befreien um Beschädigungen oder ein Herausziehen der Pflanzen zu vermeiden.
A14: - Zu pflegende Fläche entspricht der Pflanzfläche.
A16: Position 4 Unvorhergesehenes (optionale personelle Leistung)
A17: - Stundenleistung für unvorhergesehene personelle Arbeitsleistungen
A19: Position 5 Unvorhergesehenes (optionale maschinelle Leistung)
A20: - Stundenleistung für unvorhergesehenes maschienelle Arbeitsleistung (Raupe/Seilzug)

Sheet Pflanzung_LV_Pfl IV_IX
A1: Vergabenummer: | C1: ='Deckbl_Ort_LV_Pfl I_IX'!D5 -> FB3-BPfl-2026/27 | E1: Forstbetrieb: | F1: ='Deckbl_Ort_LV_Pfl I_IX'!D12 -> 2072
A3: Leistungsbeschreibung Pflanzung - Pflanzung | F3: Blatt IV/IX
A6: Position 6 Pflanzung
A8: allgemein:
A9: - die Pflanzen werden vom Unternehmer besorgt und bereitgestellt (siehe Liste Blatt V)
A10: - Die Pflanzen müssen ordnungsgemäß beschriftet sein. Erforderlich ist ein Wetterfestes Schild mit: Baumart, Herkunft, Menge. Eindeutige Zuordnung der Lieferpartien muss jederzeit möglich sein.
A11: - Es ist kein Einschlagsplatz vor Ort vorhanden. Entweder wird ein entsprechender Zwischeneinschlagsplatz durch den Auftragnehmer geschaffen oder die Pflanzen am Pflanztag mitgebracht. Die Pflanzen dürfen nicht austrocken! Die Wurzeln müssen im Einschlag komplett mit Erde bedeckt und feucht gehalten werden oder die Transportbehältnisse die feuchtigkeit halten. Überhitzung in Transportwagen vermeiden, Schatten wenn möglich nutzen!
A12: - Mitzubringen und zu nutzen sind Pflanztaschen, bzw. geeigente Transportbehältnisse.
A13: - Mitzubringen und zu nutzen sind Messgeräte zum Herstellen des vorgegeben Pflanzverbandes (u.A. Fluchtstangen, Maßband etc.)
A14: - Der Auftragnehmer führt täglich ein Arbeitstagebuch für die Pflanzungsarbeiten (Anlage zum Arbeitsauftrag), in dem die die gepflanzte Stückzahlen je nach Baumart pro Teilarbeitsfläche erfasst werden.
A15: - Der Auftragnehmer informiert den Auftraggeber bei: Differenzen bezüglich der geplanten Pflanzmenge auf der Arbeitsmenge gibt oder rechtzeitig wenn es Probleme bei der Pflanzung gibt.
A16: - Bei Zäunungen sind die Eingänge nach der Pflanzung zu schließen!
A18: Pflanzvorgang:
A19: - per Göttinger Fahrradlenker mit großem Wechselbatt (40cm Länge/13cm Breite), oder Holspatenpflanzung bei größeren Sortimenten. Bei widrigen Untergründen / Sortimensbedingter Wurzellänge sind alternative Pflanzmethoden mit verfahrensangepassten Werkzeugen nach Rücksprache möglich.
... A33: - Abfälle welches bei den Pflanzarbeiten entstanden sind, sind fachgerecht duch den Auftragnehmer zu entsorgen.

Sheet Pflanzgut_LV_Pfl V_IX
A1: Vergabenummer: | C1: ='Deckbl_Ort_LV_Pfl I_IX'!D5 -> FB3-BPfl-2026/27 | E1: Forstbetrieb: | F1: ='Deckbl_Ort_LV_Pfl I_IX'!D12 -> 2072
A3: Leistungsverzeichnis Pflanzung - Pflanzen/Pflanzgut | G3: Blatt V/IX (1/2)
A5: Position 7 Pflanzgut:
A6: lfd. -Nr. | B6: Baumart | C6: Sortiment/ Anzuchtform | E6: Herkunft- schlüssel | F6: benötigte Stückzahl (Stk.) | G6: Pflanz-verband (m) | H6: Pflanz- fläche (ha)
A7: 1 | B7: Europäische Lärche (Larix decidua) | C7: Wurzeln. | D7: 1/0 | E7: 83704 | F7: 1900 | G7: 2x2 | H7: 0.75
A8: 2 | B8: Esskastanie (Castanea sativa) | C8: Wurzeln. | D8: 1/2 | E8: 80802 | F8: 350 | G8: 3x3 | H8: 0.3
A9: 3
A10: 4
A11: 5
A12: 6
A13: 7
A14: 8
E15: SUMME: | F15: =SUM(F7:F14) -> 2250 | H15: =SUM(H7:H14) -> 1.05
A17: Allgemeine Anforderung:
A18: - Die Lieferung des verwendeten Pflanzenmaterials muss mit einem Lieferschein gemäß § 14 FoVG erfolgen. - Die Pflanzen müssen sortimentsangepasst fachgerecht gebündelt werden (in der Regel 25 Stück pro Bündel). - Alle Pflanzen im Bündel werden entsprechend den Qualitätsanforderungen sortiert. - Die Auslieferung von Containerpflanzen erfolgt in der Pflanzplatte bzw. im Topf, es sei denn der AG bestellt es anders. - Das Pflanzgut muss während des Transports vor Austrocknung ausreichend geschützt sein (Abdeckung mit wassergetränkten Filz, Jute, etc.)
A20: Ansprüche an Pflanzenqualität
A21: Die durch den Auftragsnehmer zu besorgenden und zu pflanzenden Bäume müssen mängelfrei sein. Frischekette bei Transport und Pflanzung zwingend einhalten! Als Mängel* gelten: - an und ausgetrocknete Pflanzen (Frischekette unterbrochen) - Pflanzen sind schon angetrieben (Ausnahme Douglasie) - Pflanzen mit frischen oder vernarbten Verletzungen - starke Schaftkrümmung - Spross mit mehreren Endtrieben bzw. ohne Terminalknospe - zu geringer Wurzelhalsdurchmesser im Verhältnis zur Sprosslänge - Unvollständig verholzter Spross und unvollständig verholzte Seitenzweige - Pflanzen mit Schäden, die durch Schadorganismen verursacht sind - Pflanzen mit erkennbaren Schäden, die durch unsachgemäße Lagerung in der Baumschule oder fehlerhaften Transport der Pflanzen hervorgerufen wurden - gebogene Hauptwurzel (Entenfuß/ Verschulknick) oder sonstige Wurzeldeformationen - Wurzelquerschnitt (Kappungsstelle nach dem Roden) größer als 4 mm - zu geringer Feinwurzelanteil - Bei Nadelbäumen: fehlende oder ungenügende Verzweigung ,starke, die Lebensfähigkeit beeinträchtigende Beschädigung der Nadeln Speziel bei Ballenware: -Wurzeldeformationen (gedrehte Wurzeln, fehlender Luftwurzelschnitt) -zu fester Ballen (Substratanteil zu gering) -Ballen zerbröselt beim Herausheben aus der Platte -Ballen ist ausgetrocknet
A24: Vergabenummer: | C24: ='Deckbl_Ort_LV_Pfl I_IX'!D27 -> 0 | E24: Forstbetrieb: | F24: ='Deckbl_Ort_LV_Pfl I_IX'!D35 -> 0
A26: Leistungsverzeichnis Pflanzung - Pflanzen/Pflanzgut | G26: Blatt V/IX (2/2)
A28: *Bei Mängelerkennung:
A29: Schwellenwerte Mängel | D29: Konsequenz
A30: mindestens 95% der gelieferten Pflanzen sind mängelfrei, Lieferschein vorhanden, Zertifizierte Pflanzen | D30: Pflanzen werden akzeptiert und können durch Aruftragnehmer gepflanzt werden
A31: Weniger als 95 % der gelieferten Pflanzen sind mängelfrei | D31: Pflanzen müssen durch Auftragnehmer zurückgenommen werden. Der Arbeitnehmer erhält die Möglichkeit einer kurzfristigen Ersatzbeschaffung von Pflanzgut für die Pflanzleistung.
A32: falsches Sortiment
A33: falsche Herkunft, Baumart
A34: fehlerhafte / fehlende Angaben im Lieferschein bzw. Lieferschein fehlt komplett
A35: Keine Lieferung von zertifizierten Pflanzen (wenn gefordert)
A36: Bei Bestellung von zertifizierten Pflanzen, Lieferung ohne Zertifikat oder fehlenden Angaben dazu im Lieferschein

Sheet Auftragnehmer_LV_Pfl VI_IX
A1: Vergabenummer | C1: ='Deckbl_Ort_LV_Pfl I_IX'!D5 -> FB3-BPfl-2026/27 | E1: Forst-B.: | F1: ='Deckbl_Ort_LV_Pfl I_IX'!D12 -> 2072
A3: Leistungsverzeichnis Pflanzung - | F3: Blatt VI/IX
A4: Anforderung an Auftragnehmer
A7: Zertifizierung:
A8: -Zur Angebotsabgabe befugt sind RAL und/oder KUQS zertifizierte Unternehmen. Oder Unternehmen die ein vergleichbares und von PEFC anerkeanntes Zertifizikat besitzen. Nachweis bitte beifügen.
A11: Arbeitsmittel Allgemein:
A12: -Arbeitsmittel und Persönliche Schutzausrüstung müssen nach geltenden gesetzlichen Bestimmungen geprüft und zugelassen sein. Der Auftraggeber behält sich vor, entsprechende Nachweise anzufordern und Kontrollen durchzuführen. Bei allen Maschinen sind Bioöle und wo vorgeschrieben, Sonderkraftstoffe zu verwenden!
A15: Verkehrsrechtliche Anordnung
A16: -Der Auftragnehmer muss, wenn notwendig, entsprechende Verkehrsrechtliche Anordnungen beantragen (45 Abs. 6 StVO) und hat das Genehmigunsrecht zu vollziehen. Die Verkerhsrechtliche Anorndung ist vor Beginn der Maßnahme vorzuweisen.
A21: Arbeitsortbesichtigung:
A22: -Die Teilnahme des Bieters an einer Einsatzortbesichtigung vor der Angebotsabgabe mit dem Revierleiter ist verpflichtend und nachzuweisen (siehe Blatt IX).
A24: Arbeitssicherheit:
A25: - Der Auftragnehmer und seine eingesetzten Nachunternehmer verpflichtet sich die nach der SVLFG (Sozialversicherung für Landwirtschaft, Forsten und Garten) vorgebenen und aktuell geltenden Arbeitsweisen sowie Sicherheitsbestimmungen konsequent umzusetzen.
A30: Kommunikation:
... A37: - Eine Abnahme ist vor Abrechnung der Leistung zwingend notwendig und muss durch einen Vor-Ort-Termin zwischen dem Auftragnehmer oder einem Vertreter und dem Revierleiter erfolgen. Bei den Kulturpflegen ist eine Vor-Ort-Abnahme nur bei Mängeln verpflichtent.

Sheet Angebotsblatt_Pfl_1_2_VII_IX
A1: Vergabenummer: | B1: ='Deckbl_Ort_LV_Pfl I_IX'!D5 -> FB3-BPfl-2026/27 | D1: Forstbetrieb: | E1: ='Deckbl_Ort_LV_Pfl I_IX'!D12 -> 2072
A2: Vom Auftragnehmer auszufüllen und zu unterschreiben (rote Felder)
A3: Angebotsblatt 1/2 - Zaunbau / Pflanzung | F3: Blatt VII/IX
A5: Hiermit bestätige ich folgendes Angebot zur Ausreibung:
A7: Vergabenummer: | D7: ='Deckbl_Ort_LV_Pfl I_IX'!D5 -> FB3-BPfl-2026/27
A9: Angebot Leistung gemäß Leistungsbeschreibung:
A10: Position | B10: Menge (M) | C10: Einheit (ME) | D10: Preis (€/ME)* | E10: Faktor | F10: Gesamt (€)* (M*(€/ME)*Faktor)
A11: 1 (Einzelschutz inkl. Anbringung) | B11: ='SchutzFlächenvorb_LV_Pfl II_IX '!E11 -> 350 | C11: Stk. | E11: 1
A12: 2 (Flächen-vorbereitung) | B12: =0.85 -> 0.85 | C12: ha | E12: 1
A13: 3 (Kulturpflege) | B13: =0.75 -> 0.75 | C13: ha | E13: 6**
A14: 4 (unvorherg. personell) | B14: 5 | C14: h | E14: 1
A15: 5 (unvorherg. maschinell) | B15: 5 | C15: h | E15: 1
A16: 6 (Pflanzung inkl. Tonkinstäbe) | B16: ='Pflanzgut_LV_Pfl V_IX'!F15 -> 2250 | C16: Stk. | E16: 1
A17: * Euro in Netto | D17: SUMME 1:
A18: ** 2 x im Jahr x 3 Jahre
C22: (Stempel)
B24: Ort, Datum, Unterschrift

Sheet Angebotsblatt_Pfl_2_2_VIII_IX
A1: Vergabenummer: | C1: ='Deckbl_Ort_LV_Pfl I_IX'!E5 -> 0 | E1: Forstbetrieb: | G1: ='Deckbl_Ort_LV_Pfl I_IX'!F12 -> 0
A2: Vom Auftragnehmer auszufüllen und zu unterschreiben (rote Felder)
A3: Angebotsblatt 2/2 - Pflanzen/Pflanzgut | F3: Blatt VIII/IX
A5: Hiermit bestätige ich folgendes Angebot zur Ausreibung:
A7: Vergabenummer: | C7: ='Deckbl_Ort_LV_Pfl I_IX'!D5 -> FB3-BPfl-2026/27
A9: Lfd. -Nr. | B9: Baumart | C9: Herkunfts- schlüssel HkG | D9: Rgnr.* notwendig | F9: falls notwendig: Registernummer | G9: Eintrag falls Zertifizierung vorh.:
A10: 1 | B10: ='Pflanzgut_LV_Pfl V_IX'!B7 -> Europäische Lärche (Larix decidua) | C10: ='Pflanzgut_LV_Pfl V_IX'!E7 -> 83704 | D10: nein
A11: 2 | B11: ='Pflanzgut_LV_Pfl V_IX'!B8 -> Esskastanie (Castanea sativa) | C11: ='Pflanzgut_LV_Pfl V_IX'!E8 -> 80802 | D11: nein
A12: 3 | B12: ='Pflanzgut_LV_Pfl V_IX'!B9 -> 0 | C12: ='Pflanzgut_LV_Pfl V_IX'!E9 -> 0 | D12: nein
A13: 4 | B13: ='Pflanzgut_LV_Pfl V_IX'!B10 -> 0 | C13: ='Pflanzgut_LV_Pfl V_IX'!E10 -> 0 | D13: nein
A14: 5 | B14: ='Pflanzgut_LV_Pfl V_IX'!B11 -> 0 | C14: ='Pflanzgut_LV_Pfl V_IX'!E11 -> 0 | D14: nein
A15: 6 | B15: ='Pflanzgut_LV_Pfl V_IX'!B12 -> 0 | C15: ='Pflanzgut_LV_Pfl V_IX'!E12 -> 0 | D15: nein
A16: 7 | B16: ='Pflanzgut_LV_Pfl V_IX'!B13 -> 0 | C16: ='Pflanzgut_LV_Pfl V_IX'!E13 -> 0 | D16: nein
A17: 8 | B17: ='Pflanzgut_LV_Pfl V_IX'!B14 -> 0 | C17: ='Pflanzgut_LV_Pfl V_IX'!E14 -> 0 | D17: nein
A19: Lfd.- Nr. | B19: Anwuchsform/Sortiment | D19: Stückzahl (Stk.) | F19: Preis/ Pflanze (€) (Netto) | G19: Gesamtpreis (Stk * €) (Netto)
A20: 1 | B20: ='Pflanzgut_LV_Pfl V_IX'!C7 -> Wurzeln. | C20: ='Pflanzgut_LV_Pfl V_IX'!D7 -> 1/0 | D20: ='Pflanzgut_LV_Pfl V_IX'!F7 -> 1900
A21: 2 | B21: ='Pflanzgut_LV_Pfl V_IX'!C8 -> Wurzeln. | C21: ='Pflanzgut_LV_Pfl V_IX'!D8 -> 1/2 | D21: ='Pflanzgut_LV_Pfl V_IX'!F8 -> 350
A22: 3 | B22: ='Pflanzgut_LV_Pfl V_IX'!D9 -> 0 | C22: ='Pflanzgut_LV_Pfl V_IX'!D9 -> 0 | D22: ='Pflanzgut_LV_Pfl V_IX'!F9 -> 0
A23: 4 | B23: ='Pflanzgut_LV_Pfl V_IX'!D10 -> 0 | C23: ='Pflanzgut_LV_Pfl V_IX'!D10 -> 0 | D23: ='Pflanzgut_LV_Pfl V_IX'!F10 -> 0
A24: 5 | B24: ='Pflanzgut_LV_Pfl V_IX'!D11 -> 0 | C24: ='Pflanzgut_LV_Pfl V_IX'!D11 -> 0 | D24: ='Pflanzgut_LV_Pfl V_IX'!F11 -> 0
A25: 6 | B25: ='Pflanzgut_LV_Pfl V_IX'!D12 -> 0 | C25: ='Pflanzgut_LV_Pfl V_IX'!D12 -> 0 | D25: ='Pflanzgut_LV_Pfl V_IX'!F12 -> 0
A26: 7 | B26: ='Pflanzgut_LV_Pfl V_IX'!D13 -> 0 | C26: ='Pflanzgut_LV_Pfl V_IX'!D13 -> 0 | D26: ='Pflanzgut_LV_Pfl V_IX'!F13 -> 0
A27: 8 | B27: ='Pflanzgut_LV_Pfl V_IX'!D14 -> 0 | C27: ='Pflanzgut_LV_Pfl V_IX'!D14 -> 0 | D27: ='Pflanzgut_LV_Pfl V_IX'!F14 -> 0
F28: SUMME 2:
A30: Übertrag € (Netto): | C30: SUMME 1 + SUMME 2 =
C34: (Stempel)
C36: Ort, Datum, Unterschrift

Sheet Flaechenbesichtigung IX_IX
A1: Vergabenummer: | C1: ='Deckbl_Ort_LV_Pfl I_IX'!D5 -> FB3-BPfl-2026/27 | E1: Forstbetrieb: | F1: ='Deckbl_Ort_LV_Pfl I_IX'!D12 -> 2072
A2: Bei Angebotsabgabe zwingend beifügen
A3: Eigenerklärung zur Flächenbesichtigung Pflanzung im Kommunalwald | F3: Blatt IX/IX
A4: Vergabenummer: | D4: ='Deckbl_Ort_LV_Pfl I_IX'!D5 -> FB3-BPfl-2026/27
A6: Forstbetrieb (Auftraggeber): | D6: ='Deckbl_Ort_LV_Pfl I_IX'!D7:G7 -> Große Kreisstadt Dippoldiswalde
D7: ='Deckbl_Ort_LV_Pfl I_IX'!D8:G8 -> Markt 2
D8: ='Deckbl_Ort_LV_Pfl I_IX'!D9:G9 -> 01744 Dippoldiswalde
D9: ='Deckbl_Ort_LV_Pfl I_IX'!D10:G10 -> 0
A11: Forstbetriebnummer: | D11: ='Deckbl_Ort_LV_Pfl I_IX'!D12:G12 -> 2072
A13: Waldgebiet (WT; Flstk, Gemk): | D13: ='Deckbl_Ort_LV_Pfl I_IX'!D21:G21 -> 06I und 06K
A15: Maßnahme: | B15: ='Deckbl_Ort_LV_Pfl I_IX'!D14 -> Pflanzung 2026 224_3 Ammelsdorf und 1229 Dippoldiswalde
B16: ='Deckbl_Ort_LV_Pfl I_IX'!D15 -> 0
A18: Besichtigung Bestätigt
A20: Hiermit erkläre/n wir / ich, dass wir uns / ich im Zuge der Flächenbesichtigung mit dem zuständigen Revierleiter am genannten Datum abgestimmt und mit den örtlichen Gegebenheiten vertraut gemacht haben.
A28: Ort, Datum, Unterschrift | E28: Ort, Datum, Unterschrift
A29: (Auftragnehmer/Bieter) | E29: (Revierleiter)

Sheet Nicht versenden_Vorlagen
A1: Hangneigung | B1: Gelände/Standort | C1: Gesetzliche Schutzfunktionen | D1: Gassenabstand | E1: Transportwege | F1: Markierungen | G1: Begleitvegetation | H1: Sortiment | I1: Anzuchtform | J1: Pflanzverband | K1: Baumarten
A3: 0 - 4 % | B3: -Blocküberlagerung | C3: -Boden | D3: aller >20 - 30 m | E3: - gut erreichbar mit Transporter/PKW | F3: -Zaunverlauf blau Markiert (An Bäumen, Stöcken, Pfähle u.A.) | G3: -Brombeere | H3: Wurzeln. | I3: 1/0 | J3: 1x0,5 | K3: Baumhasel (Corylus colurna)
A4: 5 - 20 % | B4: -Gräben vorhanden | C4: -Bodenschutzwald | D4: aller >30 - 40 m | E4: - kurze/mittlere Laufwege | F4: -Pflanzflächen orientieren sich an Rückegassen (siehe Karte) | G4: -Himbeere | H4: Contain. | I4: 1/1 | J4: 1x1 | K4: Berberitze (Berberis vulgaris)
A5: 21 - 30 % | B5: -Bachläufe vorhanden | C5: -Anlagenschutzwald | D5: aller >40 - 60 m | E5: - gut erreichbar mit geländegängigen Fahrzeugen | F5: -Lagekarte ist zwingend für Pflanzkoordinierung hinzuziehen | G5: -Vorwüchse div. Laubbaumarten | H5: Saat | I5: 2/0 | J5: 2x1 | K5: Bergahorn (Acer pseudoplatanus)
A6: 31 - 40 % | B6: -behindernde Steine/Geröll | C6: -Straßenschutzwald | D6: keine Gassen | E6: - lange Laufwege | F6: -Pflanzflächen sind farblich gekennzeichnet | G6: -Reitgras | H6: Topf | I6: 2/1 | J6: 2x1,5 | K6: Bergulme (Ulmus glabra)
A7: 41 - 50 % | B7: -ausgeprägte Strauchschicht | C7: -Wasser | E7: - mittlere Laufwege | F7: -Baumarten sind mit gel. Abkürzung an Bäume gekennzeichnet | G7: -Keine, offener Mineralboden/Humusschicht | H7: Wildling | I7: 2/2 | J7: 2x2 | K7: Douglasie (Pseudotsuga menziesii)
A8: > 50 % | B8: -Nassstellen | C8: -Wasserschutzgebiet Zone I | E8: - bedingt erreichbar mit geländegängigen Fahrzeugen | F8: -Planzreihen sind farblich markiert | I8: 2/3 | J8: 2x2,5 | K8: Eberesche (Sorbus aucuparia)
B9: -unebenes Gelände | C9: -Wasserschutzgebiet Zone II | E9: - nicht mit Fahrzeugen erreichbar | F9: -Vor Ort keine Markierung, Einweisung durch Revierleiter erforderlich | I9: 1/2 | J9: 2x3 | K9: Eibe (Taxus baccata)
B10: -Wildzäune an Fläche | C10: -Wasserschutzgebiet Zone II A | F10: - Pflanzpunkte für Heisterpflanzung sind farblich markiert | J10: 3x3 | K10: Eingriffeliger Weißdorn (Crataegus monogyna)
B11: -terestrische Standorte | C11: -Wasserschutzgebiet Zone II B | K11: Esche (Fraxinus excelsior)
B12: -nasse Standorte | C12: -Wasserschutzgebiet Zone III | K12: Esskastanie (Castanea sativa)
B13: -ohne Oberstand | C13: -Wasserschutzgebiet Zone III A | K13: Europäische Lärche (Larix decidua)
B14: -mit Oberstand | C14: -Wasserschutzgebiet Zone III B | K14: Faulbaum (Frangula alnus)
B15: -tiefer lockerer Boden | C15: -Heilquellenschutzgebiet Zone I | K15: Feldahorn (Acer campestre)
B16: -flachgründige Böden | C16: -Heilquellenschutzgebiet Zone II | K16: Feldulme (Ulmus minor)
B17: -vergraste Fläche | C17: -Heilquellenschutzgebiet Zone III | K17: Felsenbirne (Amelanchier ovalis)
B18: -offener Boden | C18: -Überschwemmungsgebiet | K18: Fichte (Picea abies)
C19: -Hochwasserentstehungsgebiet | K19: Flatterulme (Ulmus laevis)
C20: -Wasserschutzwald | K20: Flaumeiche (Quercus pubescens)
C21: -Luft | K21: Grauerle (Alnus incana)
C22: -Klimaschutzwald | K22: Grünerle (Alnus viridis)
C23: -Immissionsschutzwald | K23: Hainbuche (Carpinus betulus)
C24: -Lärmschutzwald | K24: Hasel (Corylus avellana)
C25: -Natur | K25: Holzapfel (Malus sylvestris)
C26: -Nationalpark - Kernzone/Naturzone A | K26: Holzbirne (Pyrus pyraster)
C27: -Nationalpark - Kernzone/Naturzone B | K27: Holzquitte (Pseudocydonia sinensis)
C28: -Nationalpark - Kernzone/Pflegezone | K28: Hybridlärche (Larix x marschlinsii)
C29: -Nationalpark - Naturzone A | K29: Japanische Lärche (Larix kaempferi)
C30: -Nationalpark - Naturzone B | K30: Kornelkirsche (Cornus mas)
... C49: -Naturpark | K49: Sandbirke (Betula pendula)
K50: Sanddorn (Hippophae rhamnoides)
C51: -Besondere Schutzfunktionen | K51: Schlehe (Prunus spinosa)
C52: -Boden | K52: Schneeball (Viburnum opulus)
C53: -Wald mit besonderer Bodenschutzfunktion | K53: Schneebeere (Symphoricarpos albus)
C54: -Wald mit besonderer Anlagenschutzfunktion | K54: Schwarzer Holunder (Sambucus nigra)
C55: -Wasser | K55: Schwarzerle (Alnus glutinosa)
C56: -Wald mit besonderer Wasserschutzfunktion | K56: Schwarznuss (Juglans nigra)
C57: -Wald mit besonderer Hochwasserschutzfunktion | K57: Schwarzpappel (Populus nigra)
C58: -Luft | K58: Sommerlinde (Tilia platyphyllos)
C59: -Wald mit besonderer lokaler Klimaschutzfunktion | K59: Spitzahorn (Acer platanoides)
...
