Workbook

Sheet Losübersicht
A1: Anlage zur Vergabe-Nr. 339 | E1: 46286
A2: Gesamtwert in Euro | B2: =SUMPRODUCT(B7:B13,$D$7:$D$13) -> 0 | C2: =SUMPRODUCT(C7:C13,$D$7:$D$13) -> 0
A4: Bieter
B6: Netto | C6: Brutto | D6: angeboten? | E6: # Versandadressen
A7: Teillos 1 - Bücher | B7: {=INDIRECT("'"&A7&"'!I2")} -> 56602.48 | C7: {=INDIRECT("'"&A7&"'!J2")} -> 60564.66 | D7: 0 | E7: 32
A8: Teillos 2 - Bücher | B8: {=INDIRECT("'"&A8&"'!I2")} -> 49749.74 | C8: {=INDIRECT("'"&A8&"'!J2")} -> 53232.22 | D8: 0 | E8: 186
A9: Teillos 3 - Bücher | B9: {=INDIRECT("'"&A9&"'!I2")} -> 47572.02 | C9: {=INDIRECT("'"&A9&"'!J2")} -> 50902.06 | D9: 0 | E9: 222
A10: Teillos 4 - Bücher | B10: {=INDIRECT("'"&A10&"'!I2")} -> 45090.24 | C10: {=INDIRECT("'"&A10&"'!J2")} -> 48246.55 | D10: 0 | E10: 153
A11: Teillos 5 - Bücher | B11: {=INDIRECT("'"&A11&"'!I2")} -> 43841.82 | C11: {=INDIRECT("'"&A11&"'!J2")} -> 46910.75 | D11: 0 | E11: 168
A12: Teillos 6 - Non-Books | B12: {=INDIRECT("'"&A12&"'!H2")} -> 0 | C12: {=INDIRECT("'"&A12&"'!I2")} -> 0 | D12: 0 | E12: 245
A13: Teillos 7 - MINT | B13: {=INDIRECT("'"&A13&"'!F2")} -> 0 | C13: {=INDIRECT("'"&A13&"'!G2")} -> 0 | D13: 0 | E13: 132
D14: ▲
D15: nur zu Ansichtszwecken; ausschlaggebend sind die Angaben im Angebotsschreiben

Sheet Teillos 1 - Bücher
A1: Anlage zur Vergabe-Nr. 339 - Teillos 2 | L1: =Losübersicht!$E$1 -> 46286
H2: Gesamtangebot in Euro | I2: =SUMIFS(I:I,$E:$E,"Gesamt") -> 56602.48 | J2: =SUMIFS(J:J,$E:$E,"Gesamt") -> 60564.66
A4: Grundbestand für neue Leseclubs | K4: Liefermenge | L4: 32
A5: # | B5: Titel | C5: Autor/in/nen | D5: Verlag | E5: ISBN-13 | F5: Ladenpreis in Euro (je Exemplar, brutto) | G5: MPN | H5: Mengenpreis in Euro (je Exemplar, brutto) | I5: Preis in Euro für Liefermenge (netto) | J5: Preis in Euro für Liefermenge (brutto) | K5: Status Verfügbarkeit | L5: Anmerkung
A6: 1 | B6: Die Schule der Wunderdinge - 1: Hokus Pokus Kerzenständer | C6: Kira Gembri, Marta Kissi | D6: arena | E6: 978-3401605746 | F6: 14 | G6: 0 | H6: =IFERROR(F6*(1-G6),F6) -> 14 | I6: =J6/1.07 -> 418.69159 | J6: =H6*$L$4 -> 448 | K6: reserviert
A7: 2 | B7: Gefahr in der Gepardenschlucht | C7: Dirk Reinhardt | D7: arena | E7: 978-3401722115 | F7: 10 | G7: 0 | H7: =IFERROR(F7*(1-G7),F7) -> 10 | I7: =J7/1.07 -> 299.06542 | J7: =H7*$L$4 -> 320 | K7: reserviert
A8: 3 | B8: Ich glaub, es glitzert! Jedes Chaos fängt mal klein an | C8: Emma Flint | D8: arena | E8: 978-3401605838 | F8: 15 | G8: 0 | H8: =IFERROR(F8*(1-G8),F8) -> 15 | I8: =J8/1.07 -> 448.59813 | J8: =H8*$L$4 -> 480 | K8: reserviert
A9: 4 | B9: Mein Lotta-Leben - 14: Da lachen ja die Hunde | C9: Alice Pantermüller | D9: arena | E9: 978-3401603339 | F9: 13 | G9: 0 | H9: =IFERROR(F9*(1-G9),F9) -> 13 | I9: =J9/1.07 -> 388.78505 | J9: =H9*$L$4 -> 416 | K9: reserviert
A10: 5 | B10: Mein Lotta-Leben - 15: Wer den Wal hat | C10: Alice Pantermüller | D10: arena | E10: 978-3401603346 | F10: 13 | G10: 0 | H10: =IFERROR(F10*(1-G10),F10) -> 13 | I10: =J10/1.07 -> 388.78505 | J10: =H10*$L$4 -> 416 | K10: reserviert
A11: 6 | B11: Wenn zwei sich streiten: Tiger und Löwe | C11: Britta Sabbag | D11: arsEdition | E11: 978-3845840499 | F11: 15 | G11: 0.1 | H11: =IFERROR(F11*(1-G11),F11) -> 13.5 | I11: =J11/1.07 -> 403.73832 | J11: =H11*$L$4 -> 432 | K11: reserviert
A12: 7 | B12: Herr Bert und Alfonso jagen einen Dieb | C12: Laura d'Arcangelo | D12: Atlantis Verlag | E12: 978-3715207933 | F12: 19 | G12: 0.1 | H12: =IFERROR(F12*(1-G12),F12) -> 17.1 | I12: =J12/1.07 -> 511.40187 | J12: =H12*$L$4 -> 547.2 | K12: angefragt
A13: 8 | B13: Pippilothek - Eine Bibliothek wirkt Wunder | C13: Lorenz Pauli, Kathrin Schärer | D13: Atlantis Verlag | E13: 978-3715206202 | F13: 20 | G13: 0.1 | H13: =IFERROR(F13*(1-G13),F13) -> 18 | I13: =J13/1.07 -> 538.31776 | J13: =H13*$L$4 -> 576 | K13: angefragt
A14: 9 | B14: Böse Jungs - 1 | C14: Aaron Blabey | D14: Baumhaus | E14: 978-3833904233 | F14: 12 | G14: 0.05 | H14: =IFERROR(F14*(1-G14),F14) -> 11.4 | I14: =J14/1.07 -> 340.93458 | J14: =H14*$L$4 -> 364.8 | K14: angefragt
A15: 10 | B15: Die geheime Drachenschule - 1 | C15: Emily Skye | D15: Baumhaus | E15: 978-3833905674 | F15: 14 | G15: 0.05 | H15: =IFERROR(F15*(1-G15),F15) -> 13.3 | I15: =J15/1.07 -> 397.75701 | J15: =H15*$L$4 -> 425.6 | K15: angefragt
A16: 11 | B16: Die geheime Drachenschule - 2: Der Drache mit den silbernen Hörnern | C16: Emily Skye | D16: Baumhaus | E16: 978-3833905810 | F16: 14 | G16: 0.05 | H16: =IFERROR(F16*(1-G16),F16) -> 13.3 | I16: =J16/1.07 -> 397.75701 | J16: =H16*$L$4 -> 425.6 | K16: angefragt
A17: 12 | B17: Die geheime Drachenschule - 3: Die Rückkehr des siebten Clans | C17: Emily Skye | D17: Baumhaus | E17: 978-3833905995 | F17: 14 | G17: 0.05 | H17: =IFERROR(F17*(1-G17),F17) -> 13.3 | I17: =J17/1.07 -> 397.75701 | J17: =H17*$L$4 -> 425.6 | K17: angefragt
... A20: 15 | B20: Ruperts Tagebuch - 1: Zu nett für diese Welt! | C20: Jeff Kinney | D20: Baumhaus | E20: 978-3833906015 | F20: 16 | G20: 0.05 | H20: =IFERROR(F20*(1-G20),F20) -> 15.2 | I20: =J20/1.07 -> 454.57944 | J20: =H20*$L$4 -> 486.4 | K20: angefragt
A21: 16 | B21: Das ist auch meine Welt - Wie können wir sie besser machen? | C21: Gerda Raidt | D21: Beltz & Gelberg | E21: 978-3407758576 | F21: 16.95 | G21: 0.1 | H21: =IFERROR(F21*(1-G21),F21) -> 15.255 | I21: =J21/1.07 -> 456.2243 | J21: =H21*$L$4 -> 488.16 | K21: verfügbar | L21: Reservierung lt. Verlag nicht erforderlich
A22: 17 | B22: Die Nacht in der Schule | C22: Anja Janotta | D22: Beltz & Gelberg | E22: 978-3407823878 | F22: 9.95 | G22: 0.1 | H22: =IFERROR(F22*(1-G22),F22) -> 8.955 | I22: =J22/1.07 -> 267.81308 | J22: =H22*$L$4 -> 286.56 | K22: verfügbar | L22: Reservierung lt. Verlag nicht erforderlich
A23: 18 | B23: Es flüstert und rauscht | C23: Josef Guggenmoos | D23: Beltz & Gelberg | E23: 978-3407756442 | F23: 16 | G23: 0.1 | H23: =IFERROR(F23*(1-G23),F23) -> 14.4 | I23: =J23/1.07 -> 430.65421 | J23: =H23*$L$4 -> 460.8 | K23: verfügbar | L23: Reservierung lt. Verlag nicht erforderlich
A24: 19 | B24: Henriette rockt die Halle - Schulhündin im Einsatz | C24: Britta Nonnat, Stefanie Jeschke | D24: Beltz & Gelberg | E24: 978-3407758187 | F24: 9.95 | G24: 0.1 | H24: =IFERROR(F24*(1-G24),F24) -> 8.955 | I24: =J24/1.07 -> 267.81308 | J24: =H24*$L$4 -> 286.56 | K24: verfügbar | L24: Reservierung lt. Verlag nicht erforderlich
A25: 20 | B25: Klassenfahrt außer Kontrolle (Super lesbar) | C25: Anja Janotta | D25: Beltz & Gelberg | E25: 978-3-407-82407-3 | F25: 10 | G25: 0.1 | H25: =IFERROR(F25*(1-G25),F25) -> 9 | I25: =J25/1.07 -> 269.15888 | J25: =H25*$L$4 -> 288 | K25: verfügbar | L25: Reservierung lt. Verlag nicht erforderlich
A26: 21 | B26: Noah Unendlich | C26: Guy Bass | D26: Beltz & Gelberg | E26: 978-3407749871 | F26: 9.95 | G26: 0.1 | H26: =IFERROR(F26*(1-G26),F26) -> 8.955 | I26: =J26/1.07 -> 267.81308 | J26: =H26*$L$4 -> 286.56 | K26: reserviert
A27: 22 | B27: Ohne Wasser geht nichts! | C27: Christina Steinlein | D27: Beltz & Gelberg | E27: 978-3407755650 | F27: 16.95 | G27: 0.1 | H27: =IFERROR(F27*(1-G27),F27) -> 15.255 | I27: =J27/1.07 -> 456.2243 | J27: =H27*$L$4 -> 488.16 | K27: verfügbar | L27: Reservierung lt. Verlag nicht erforderlich
A28: 23 | B28: Peace Maker - Was tust du, wenn nur Kämpfen einen Krieg verhindert? | C28: Malorie Blackman | D28: Beltz & Gelberg | E28: 978-3407749888 | F28: 9.95 | G28: 0.1 | H28: =IFERROR(F28*(1-G28),F28) -> 8.955 | I28: =J28/1.07 -> 267.81308 | J28: =H28*$L$4 -> 286.56 | K28: verfügbar | L28: Reservierung lt. Verlag nicht erforderlich
A29: 24 | B29: Sofabanditen oder die verrückte Befreiung der Hühner | C29: Judith Kleinschmidt | D29: Beltz & Gelberg | E29: 978-3407758477 | F29: 12.95 | G29: 0.1 | H29: =IFERROR(F29*(1-G29),F29) -> 11.655 | I29: =J29/1.07 -> 348.56075 | J29: =H29*$L$4 -> 372.96 | K29: verfügbar | L29: Reservierung lt. Verlag nicht erforderlich
A30: 25 | B30: Petronella Apfelmus - 1: Verhext und festgeklebt | C30: Sabine Städing | D30: Boje | E30: 978-3414823991 | F30: 15 | G30: 0.05 | H30: =IFERROR(F30*(1-G30),F30) -> 14.25 | I30: =J30/1.07 -> 426.16822 | J30: =H30*$L$4 -> 456 | K30: angefragt
A31: 26 | B31: Petronella Apfelmus - 2: Zauberschlaf und Knallfroschchaos | C31: Sabine Städing | D31: Boje | E31: 978-3414824158 | F31: 15 | G31: 0.05 | H31: =IFERROR(F31*(1-G31),F31) -> 14.25 | I31: =J31/1.07 -> 426.16822 | J31: =H31*$L$4 -> 456 | K31: angefragt
A32: 27 | B32: Petronella Apfelmus - 3: Schneeballschlacht und Wichtelstreiche | C32: Sabine Städing | D32: Boje | E32: 978-3414824271 | F32: 15 | G32: 0.05 | H32: =IFERROR(F32*(1-G32),F32) -> 14.25 | I32: =J32/1.07 -> 426.16822 | J32: =H32*$L$4 -> 456 | K32: angefragt
A33: 28 | B33: Bitte nicht öffnen - 1: Bissig! | C33: Charlotte Habersack | D33: Carlsen | E33: 978-3551652119 | F33: 13 | G33: 0.1 | H33: =IFERROR(F33*(1-G33),F33) -> 11.7 | I33: =J33/1.07 -> 349.90654 | J33: =H33*$L$4 -> 374.4 | K33: angefragt
A34: 29 | B34: Bitte nicht öffnen - 2: Schleimig! | C34: Charlotte Habersack | D34: Carlsen | E34: 978-3551652126 | F34: 13 | G34: 0.1 | H34: =IFERROR(F34*(1-G34),F34) -> 11.7 | I34: =J34/1.07 -> 349.90654 | J34: =H34*$L$4 -> 374.4 | K34: angefragt
A35: 30 | B35: Bitte nicht öffnen - 3: Durstig! | C35: Charlotte Habersack | D35: Carlsen | E35: 978-3551652133 | F35: 13 | G35: 0.1 | H35: =IFERROR(F35*(1-G35),F35) -> 11.7 | I35: =J35/1.07 -> 349.90654 | J35: =H35*$L$4 -> 374.4 | K35: angefragt
A36: 31 | B36: Bitte nicht öffnen - 4: Feurig! | C36: Charlotte Habersack | D36: Carlsen | E36: 978-3551652140 | F36: 13 | G36: 0.1 | H36: =IFERROR(F36*(1-G36),F36) -> 11.7 | I36: =J36/1.07 -> 349.90654 | J36: =H36*$L$4 -> 374.4 | K36: angefragt
A37: 32 | B37: Bitte nicht öffnen - 5: Magic! | C37: Charlotte Habersack | D37: Carlsen | E37: 978-3551652157 | F37: 13 | G37: 0.1 | H37: =IFERROR(F37*(1-G37),F37) -> 11.7 | I37: =J37/1.07 -> 349.90654 | J37: =H37*$L$4 -> 374.4 | K37: angefragt
A38: 33 | B38: Die Schule der Magischen Tiere - 01 | C38: Margit Auer | D38: Carlsen | E38: 978-3551652713 | F38: 14 | G38: 0.1 | H38: =IFERROR(F38*(1-G38),F38) -> 12.6 | I38: =J38/1.07 -> 376.82243 | J38: =H38*$L$4 -> 403.2 | K38: angefragt
A39: 34 | B39: Die Schule der Magischen Tiere - 02: Voller Löcher! | C39: Margit Auer | D39: Carlsen | E39: 978-3551652720 | F39: 14 | G39: 0.1 | H39: =IFERROR(F39*(1-G39),F39) -> 12.6 | I39: =J39/1.07 -> 376.82243 | J39: =H39*$L$4 -> 403.2 | K39: angefragt
A40: 35 | B40: Die Schule der Magischen Tiere - 03: Licht aus! | C40: Margit Auer | D40: Carlsen | E40: 978-3551652737 | F40: 14 | G40: 0.1 | H40: =IFERROR(F40*(1-G40),F40) -> 12.6 | I40: =J40/1.07 -> 376.82243 | J40: =H40*$L$4 -> 403.2 | K40: angefragt
A41: 36 | B41: Die Schule der magischen Tiere - 04: Abgefahren! | C41: Margit Auer | D41: Carlsen | E41: 978-3551652744 | F41: 14 | G41: 0.1 | H41: =IFERROR(F41*(1-G41),F41) -> 12.6 | I41: =J41/1.07 -> 376.82243 | J41: =H41*$L$4 -> 403.2 | K41: angefragt
... A85: 80 | B85: Little Wizards | C85: Antoine Bauza, Arnü West, Albertine Ralenti | D85: Green Gorilla | E85: 978-3949214042 | F85: 32.95 | G85: 0 | H85: =IFERROR(F85*(1-G85),F85) -> 32.95 | I85: =J85/1.07 -> 985.42056 | J85: =H85*$L$4 -> 1054.4 | K85: angefragt
A86: 81 | B86: Cheerleader | C86: Nina Basovic Brown | D86: Gulliver | E86: 978-3407813626 | F86: 12 | G86: 0.1 | H86: =IFERROR(F86*(1-G86),F86) -> 10.8 | I86: =J86/1.07 -> 322.99065 | J86: =H86*$L$4 -> 345.6 | K86: verfügbar | L86: Reservierung lt. Verlag nicht erforderlich
...

Sheet Teillos 2 - Bücher
A1: Anlage zur Vergabe-Nr. 339 - Teillos 2 | L1: =Losübersicht!$E$1 -> 46286
H2: Gesamtangebot in Euro | I2: =SUMIFS(I:I,$E:$E,"Gesamt") -> 49749.74 | J2: =SUMIFS(J:J,$E:$E,"Gesamt") -> 53232.22
A4: Paket "02: Lesestufe 2" | K4: Liefermenge | L4: 65
A5: # | B5: Titel | C5: Autor/in/nen | D5: Verlag | E5: ISBN-13 | F5: Ladenpreis in Euro (je Exemplar, brutto) | G5: MPN | H5: Mengenpreis in Euro (je Exemplar, brutto) | I5: Preis in Euro für Liefermenge (netto) | J5: Preis in Euro für Liefermenge (brutto) | K5: Status Verfügbarkeit | L5: Anmerkung
A6: 1 | B6: Rechnen nervt | C6: Jens Schumacher | D6: arsEdition | E6: 978-3845869049 | F6: 10 | G6: 0.125 | H6: =IFERROR(F6*(1-G6),F6) -> 8.75 | I6: =J6/1.07 -> 531.54206 | J6: =H6*$L$4 -> 568.75 | K6: reserviert
A7: 2 | B7: Die Schule der magischen Tiere ermittelt. Die Erdbeer-Spur | C7: Margit Auer | D7: Carlsen | E7: 978-3551657381 | F7: 10 | G7: 0.15 | H7: =IFERROR(F7*(1-G7),F7) -> 8.5 | I7: =J7/1.07 -> 516.35514 | J7: =H7*$L$4 -> 552.5 | K7: angefragt
A8: 3 | B8: Einfach Lesen lernen 2. Klasse: Bitte nicht öffnen, sonst … tierisch vampirisch | C8: Charlotte Habersack | D8: Carlsen | E8: 978-3551690968 | F8: 9 | G8: 0.15 | H8: =IFERROR(F8*(1-G8),F8) -> 7.65 | I8: =J8/1.07 -> 464.71963 | J8: =H8*$L$4 -> 497.25 | K8: angefragt
A9: 4 | B9: Grimm und Möhrchen machen das Seepferdchen | C9: Stephanie Schneider | D9: dtv | E9: 978-3423766197 | F9: 10 | G9: 0.1 | H9: =IFERROR(F9*(1-G9),F9) -> 9 | I9: =J9/1.07 -> 546.72897 | J9: =H9*$L$4 -> 585 | K9: verfügbar
A10: 5 | B10: Alle unter einem Dach | C10: Manfred Mai, Martin Lenz | D10: Fischer Sauerländer | E10: 978-3737375931 | F10: 9.5 | G10: 0.1 | H10: =IFERROR(F10*(1-G10),F10) -> 8.55 | I10: =J10/1.07 -> 519.39252 | J10: =H10*$L$4 -> 555.75 | K10: reserviert
A11: 6 | B11: Bücherhelden 2. Klasse. Roboter-Alarm | C11: Carola von Kessel / Michael Böhm | D11: Kosmos | E11: 978-3440181768 | F11: 10 | G11: 0.15 | H11: =IFERROR(F11*(1-G11),F11) -> 8.5 | I11: =J11/1.07 -> 516.35514 | J11: =H11*$L$4 -> 552.5 | K11: reserviert
A12: 7 | B12: Leselöwen 2. Klasse. Willkommen im Grusel-Hotel | C12: Sonja Kaiblinger / Alica Räth | D12: Loewe | E12: 978-3743218789 | F12: 9.95 | G12: 0.07 | H12: =IFERROR(F12*(1-G12),F12) -> 9.2535 | I12: =J12/1.07 -> 562.1285 | J12: =H12*$L$4 -> 601.4775 | K12: reserviert
A13: 8 | B13: Leselöwen 2. Klasse. Zwei Freunde und der Hüter des Waldes | C13: Marlene Jablonski / Max Meinzold | D13: Loewe | E13: 978-3743218987 | F13: 9.95 | G13: 0.07 | H13: =IFERROR(F13*(1-G13),F13) -> 9.2535 | I13: =J13/1.07 -> 562.1285 | J13: =H13*$L$4 -> 601.4775 | K13: reserviert
A14: 9 | B14: Leselöwen Comics (2. Klasse) Oh Schreck, die Mumie ist weg | C14: Heiko Wolz / Anna-Lena Kühler (Ill.) | D14: Loewe | E14: 978-3743218161 | F14: 9.95 | G14: 0.07 | H14: =IFERROR(F14*(1-G14),F14) -> 9.2535 | I14: =J14/1.07 -> 562.1285 | J14: =H14*$L$4 -> 601.4775 | K14: reserviert
A15: 10 | B15: Der Wald lebt. Gemeinsam gegen das Böse | C15: Barbara van dern Speulhof | D15: Loewe WOW | E15: 978-3743217942 | F15: 16 | G15: 0.07 | H15: =IFERROR(F15*(1-G15),F15) -> 14.88 | I15: =J15/1.07 -> 903.92523 | J15: =H15*$L$4 -> 967.2 | K15: reserviert
A16: 11 | B16: Flip der Einhornfisch. Vier Freunde sitzen in der Tinte | C16: Julia Boehme / Dominik Rupp | D16: Loewe WOW | E16: 978-3743217614 | F16: 15 | G16: 0.07 | H16: =IFERROR(F16*(1-G16),F16) -> 13.95 | I16: =J16/1.07 -> 847.42991 | J16: =H16*$L$4 -> 906.75 | K16: reserviert
A17: 12 | B17: Lesestarter 2. Lesestufe: Das Sams wünscht sich einen Drachen | C17: Paul Maar | D17: Oetinger | E17: 978-3751207744 | F17: 10 | G17: 0.05 | H17: =IFERROR(F17*(1-G17),F17) -> 9.5 | I17: =J17/1.07 -> 577.1028 | J17: =H17*$L$4 -> 617.5 | K17: verfügbar | L17: Reservierung in Klärung
A18: 13 | B18: Draculotta | C18: Danielle Chaperon / Baptiste Amsallem | D18: Oetinger Splash | E18: 978-3751207904 | F18: 12 | G18: 0.05 | H18: =IFERROR(F18*(1-G18),F18) -> 11.4 | I18: =J18/1.07 -> 692.52336 | J18: =H18*$L$4 -> 741 | K18: verfügbar | L18: Reservierung in Klärung
A19: 14 | B19: Auf heißer Spur. Die Detektive von Paris | C19: Barbara Laban / Marc-Alexander Schulze (Ill.) | D19: Ravensburger | E19: 978-3473463923 | F19: 8.99 | G19: 0.1 | H19: =IFERROR(F19*(1-G19),F19) -> 8.091 | I19: =J19/1.07 -> 491.50935 | J19: =H19*$L$4 -> 525.915 | K19: reserviert
A20: 15 | B20: Das Fundbüro der verlorenen Schätze | C20: Mascha Matysiak / Nikolai Renger (Ill.) | D20: Ravensburger | E20: 978-3473464289 | F20: 9.99 | G20: 0.1 | H20: =IFERROR(F20*(1-G20),F20) -> 8.991 | I20: =J20/1.07 -> 546.18224 | J20: =H20*$L$4 -> 584.415 | K20: reserviert
A21: 16 | B21: Leserabe 2. Lesestufe: Ein Fall für die Skater-Bande | C21: Christian Friedrich / Eike Marcus | D21: Ravensburger | E21: 978-3473464487 | F21: 8.99 | G21: 0.1 | H21: =IFERROR(F21*(1-G21),F21) -> 8.091 | I21: =J21/1.07 -> 491.50935 | J21: =H21*$L$4 -> 525.915 | K21: reserviert
A22: 17 | B22: Leserabe: Kia und der Manga-Drache | C22: Amelie Benn / Alexandra Langenbeck (Ill.) | D22: Ravensburger | E22: 978-3473464340 | F22: 8.99 | G22: 0.1 | H22: =IFERROR(F22*(1-G22),F22) -> 8.091 | I22: =J22/1.07 -> 491.50935 | J22: =H22*$L$4 -> 525.915 | K22: reserviert
A23: 18 | B23: Starke Heldinnen Erstleseabenteuer | C23: Annette Neubauer | D23: Ravensburger | E23: 978-3473498208 | F23: 12.99 | G23: 0.15 | H23: =IFERROR(F23*(1-G23),F23) -> 11.0415 | I23: =J23/1.07 -> 670.74533 | J23: =H23*$L$4 -> 717.6975 | K23: reserviert
A24: 19 | B24: Was ist was. Erstes Lesen. Planeten | C24: Christina Braun | D24: Tessloff | E24: 978-3788677435 | F24: 9.95 | G24: 0.15 | H24: =IFERROR(F24*(1-G24),F24) -> 8.4575 | I24: =J24/1.07 -> 513.77336 | J24: =H24*$L$4 -> 549.7375 | K24: reserviert
A25: 20 | B25: Was ist Was.Erstes Lesen Easy- Tiere im Meer | C25: Sonja Meierjürgen | D25: Tessloff | E25: 978-3788677480 | F25: 8.95 | G25: 0.15 | H25: =IFERROR(F25*(1-G25),F25) -> 7.6075 | I25: =J25/1.07 -> 462.13785 | J25: =H25*$L$4 -> 494.4875 | K25: reserviert | L25: Nachdruck ab Ende Oktober
E27: Gesamt | F27: =SUM(F6:F25) -> 210.2 | H27: =SUM(H6:H25) -> 188.811 | I27: =ROUND(SUM(I6:I25),2) -> 11469.83 | J27: =ROUND(SUM(J6:J25),2) -> 12272.72
A29: Paket "08: Verzaubern" | K29: Liefermenge | L29: 38
A30: # | B30: Titel | C30: Autor/in/nen | D30: Verlag | E30: ISBN-13 | F30: Ladenpreis in Euro (je Exemplar, brutto) | G30: MPN | H30: Mengenpreis in Euro (je Exemplar, brutto) | I30: Preis in Euro für Liefermenge (netto) | J30: Preis in Euro für Liefermenge (brutto) | K30: Status Verfügbarkeit | L30: Anmerkung
A31: 1 | B31: Die Flügelpferde von Sternhall | C31: Ina Brandt | D31: Arena | E31: 978-3401608020 | F31: 12 | G31: 0 | H31: =IFERROR(F31*(1-G31),F31) -> 12 | I31: =J31/1.07 -> 426.16822 | J31: =H31*$L$29 -> 456 | K31: reserviert
A32: 2 | B32: Windwalkers. Verborgene Flügel | C32: Katja Brandis | D32: Arena | E32: 978-3401607955 | F32: 16 | G32: 0 | H32: =IFERROR(F32*(1-G32),F32) -> 16 | I32: =J32/1.07 -> 568.2243 | J32: =H32*$L$29 -> 608 | K32: reserviert
A33: 3 | B33: Tilly Evermore und der Ruf der ewigen Steine | C33: Francesca Peluso | D33: Baumhaus | E33: 978-3833910975 | F33: 14 | G33: 0.05 | H33: =IFERROR(F33*(1-G33),F33) -> 13.3 | I33: =J33/1.07 -> 472.33645 | J33: =H33*$L$29 -> 505.4 | K33: angefragt
A34: 4 | B34: Potter Guides: Harry Potter | C34: Natalie Smillie (Ill.) | D34: Carlsen | E34: 978-3551559661 | F34: 12 | G34: 0.1 | H34: =IFERROR(F34*(1-G34),F34) -> 10.8 | I34: =J34/1.07 -> 383.5514 | J34: =H34*$L$29 -> 410.4 | K34: angefragt
A35: 5 | B35: Potter Guides: Hermine Granger | C35: Laura Proietti (Ill.) | D35: Carlsen | E35: 978-3551559678 | F35: 12 | G35: 0.1 | H35: =IFERROR(F35*(1-G35),F35) -> 10.8 | I35: =J35/1.07 -> 383.5514 | J35: =H35*$L$29 -> 410.4 | K35: angefragt
A36: 6 | B36: Potter Guides: Ron Weasley | C36: Olia Muza (Ill.) | D36: Carlsen | E36: 978-3551559685 | F36: 12 | G36: 0.1 | H36: =IFERROR(F36*(1-G36),F36) -> 10.8 | I36: =J36/1.07 -> 383.5514 | J36: =H36*$L$29 -> 410.4 | K36: angefragt
A37: 7 | B37: Maggie Blue: Das Portal zur Düsterwelt | C37: Anna Goodall | D37: Hanser | E37: 978-3446282568 | F37: 17 | G37: 0.075 | H37: =IFERROR(F37*(1-G37),F37) -> 15.725 | I37: =J37/1.07 -> 558.45794 | J37: =H37*$L$29 -> 597.55 | K37: verfügbar | L37: Reservierung lt. Verlag nicht erforderlich
A38: 8 | B38: Zauberstäbe und ihre Geheimnisse | C38: Stephan Köstler / Alessandra Fusi (Ill.) | D38: Loewe | E38: 978-3743222083 | F38: 22 | G38: 0.05 | H38: =IFERROR(F38*(1-G38),F38) -> 20.9 | I38: =J38/1.07 -> 742.24299 | J38: =H38*$L$29 -> 794.2 | K38: reserviert
A39: 9 | B39: Kuschelflosse. Abenteuer tief im Meer. Das geheimnisvolle Zauberriff | C39: Nina Müller | D39: Magellan | E39: 978-3734841828 | F39: 12 | G39: 0 | H39: =IFERROR(F39*(1-G39),F39) -> 12 | I39: =J39/1.07 -> 426.16822 | J39: =H39*$L$29 -> 456 | K39: reserviert
A40: 10 | B40: Animox - Die Stadt der Haie | C40: Aimèe Carter | D40: Oetinger | E40: 978-3751206501 | F40: 12 | G40: 0 | H40: =IFERROR(F40*(1-G40),F40) -> 12 | I40: =J40/1.07 -> 426.16822 | J40: =H40*$L$29 -> 456 | K40: verfügbar | L40: Reservierung in Klärung
A41: 11 | B41: Animox Origins. Der verlorene Schatz der Delfine | C41: Aimée Carter | D41: Oetinger | E41: 978-3751205672 | F41: 16 | G41: 0 | H41: =IFERROR(F41*(1-G41),F41) -> 16 | I41: =J41/1.07 -> 568.2243 | J41: =H41*$L$29 -> 608 | K41: verfügbar | L41: Reservierung in Klärung
A42: 12 | B42: Die Ampelchen. Aus den Ampeln, fertig, los! | C42: Anna Böhm | D42: Oetinger | E42: 978-3751204484 | F42: 13 | G42: 0 | H42: =IFERROR(F42*(1-G42),F42) -> 13 | I42: =J42/1.07 -> 461.68224 | J42: =H42*$L$29 -> 494 | K42: verfügbar | L42: Reservierung in Klärung
A43: 13 | B43: Muffin und Tört bei den Piraten | C43: Adam Stower | D43: Planet! | E43: 978-3522509671 | F43: 14 | G43: 0.05 | H43: =IFERROR(F43*(1-G43),F43) -> 13.3 | I43: =J43/1.07 -> 472.33645 | J43: =H43*$L$29 -> 505.4 | K43: angefragt
...

Sheet Teillos 3 - Bücher
A1: Anlage zur Vergabe-Nr. 339 - Teillos 5 | L1: =Losübersicht!$E$1 -> 46286
H2: Gesamtangebot in Euro | I2: =SUMIFS(I:I,$E:$E,"Gesamt") -> 47572.02 | J2: =SUMIFS(J:J,$E:$E,"Gesamt") -> 50902.06
A4: Paket "04: Atemholen" | K4: Liefermenge | L4: 115
A5: # | B5: Titel | C5: Autor/in/nen | D5: Verlag | E5: ISBN-13 | F5: Ladenpreis in Euro (je Exemplar, brutto) | G5: MPN | H5: Mengenpreis in Euro (je Exemplar, brutto) | I5: Preis in Euro für Liefermenge (netto) | J5: Preis in Euro für Liefermenge (brutto) | K5: Status Verfügbarkeit | L5: Anmerkung
A6: 1 | B6: Ein Ritter namens Rost - Vorlesegeschichten | C6: Jörg Hilbert / Felix Janosa | D6: Annette Betz | E6: 978-3219120974 | F6: 16 | G6: 0 | H6: =IFERROR(F6*(1-G6),F6) -> 16 | I6: =J6/1.07 -> 1719.6262 | J6: =H6*$L$4 -> 1840 | K6: reserviert
A7: 2 | B7: Oasen der Ruhe und des Glücks | D7: Arena | E7: 978-3401722672 | F7: 10 | G7: 0.15 | H7: =IFERROR(F7*(1-G7),F7) -> 8.5 | I7: =J7/1.07 -> 913.5514 | J7: =H7*$L$4 -> 977.5 | K7: reserviert
A8: 3 | B8: Mythen der Meere. Sagen und Legenden aus der Wasserwelt | C8: Corinna Keefe/ Khoa Le (Ill.) | D8: arsEdition | E8: 978-3845867595 | F8: 18 | G8: 0.15 | H8: =IFERROR(F8*(1-G8),F8) -> 15.3 | I8: =J8/1.07 -> 1644.3925 | J8: =H8*$L$4 -> 1759.5 | K8: reserviert
A9: 4 | B9: Von Glitzerzebras und singenden Eichhörnchen | C9: Melanie von Bismarck / Axel Scheffler | D9: Beltz | E9: 978-3407752895 | F9: 16 | G9: 0.175 | H9: =IFERROR(F9*(1-G9),F9) -> 13.2 | I9: =J9/1.07 -> 1418.6916 | J9: =H9*$L$4 -> 1518 | K9: reserviert
A10: 5 | B10: In Barbaras Rhabarberbar wird niemals der Rhabarber rar | C10: Bodo Wartke | D10: Carlsen | E10: 978-3551559623 | F10: 15 | G10: 0.2 | H10: =IFERROR(F10*(1-G10),F10) -> 12 | I10: =J10/1.07 -> 1289.7196 | J10: =H10*$L$4 -> 1380 | K10: angefragt
A11: 6 | B11: Klugscheisserchen und Vehlerteufelchen | C11: Marc-Uwe-Kling / Astrid Henn | D11: Carlsen | E11: 978-3551523174 | F11: 12 | G11: 0.2 | H11: =IFERROR(F11*(1-G11),F11) -> 9.6 | I11: =J11/1.07 -> 1031.7757 | J11: =H11*$L$4 -> 1104 | K11: angefragt
A12: 7 | B12: King Karnickel.Die Suche nach dem Druftenschaf | C12: Markus Orths / Sarah Garbers | D12: Loewe | E12: 978-3743224568 | F12: 15 | G12: 0.1 | H12: =IFERROR(F12*(1-G12),F12) -> 13.5 | I12: =J12/1.07 -> 1450.9346 | J12: =H12*$L$4 -> 1552.5 | K12: reserviert
A13: 8 | B13: Kunst? Kann ich! 20 Bastelideen - inspiriert durch große Kunstwerke | C13: Joséphine Seblon (inspiriert von Robert Sae-Heng) | D13: Midas | E13: 978-3038762713 | F13: 18 | G13: 0 | H13: =IFERROR(F13*(1-G13),F13) -> 18 | I13: =J13/1.07 -> 1934.5794 | J13: =H13*$L$4 -> 2070 | K13: reserviert
A14: 9 | B14: Fabelwesen | C14: Cornelia Funke / Ruby Warnecke (Ill.) | D14: Nord Süd | E14: 978-3314107313 | F14: 19 | G14: 0 | H14: =IFERROR(F14*(1-G14),F14) -> 19 | I14: =J14/1.07 -> 2042.0561 | J14: =H14*$L$4 -> 2185 | K14: angefragt
A15: 10 | B15: Ozean-Geschichten rund um die Welt | C15: Angela McAlister / sally Agar | D15: Ravensburger | E15: 978-3473464234 | F15: 18.99 | G15: 0.2 | H15: =IFERROR(F15*(1-G15),F15) -> 15.192 | I15: =J15/1.07 -> 1632.785 | J15: =H15*$L$4 -> 1747.08 | K15: reserviert
A16: 11 | B16: Mandalas zum Selberzeichnen und Ausmalen | C16: Abigail Wheatley / Dinara Mirtalipova | D16: Usborne | E16: 978-1035705436 | F16: 9.95 | G16: 0.12 | H16: =IFERROR(F16*(1-G16),F16) -> 8.756 | I16: =J16/1.07 -> 941.06542 | J16: =H16*$L$4 -> 1006.94 | K16: verfügbar
E18: Gesamt | F18: =SUM(F6:F16) -> 167.94 | H18: =SUM(H6:H16) -> 149.048 | I18: =ROUND(SUM(I6:I16),2) -> 16019.18 | J18: =ROUND(SUM(J6:J16),2) -> 17140.52
A20: Paket "05: Ermitteln" | K20: Liefermenge | L20: 42
A21: # | B21: Titel | C21: Autor/in/nen | D21: Verlag | E21: ISBN-13 | F21: Ladenpreis in Euro (je Exemplar, brutto) | G21: MPN | H21: Mengenpreis in Euro (je Exemplar, brutto) | I21: Preis in Euro für Liefermenge (netto) | J21: Preis in Euro für Liefermenge (brutto) | K21: Status Verfügbarkeit | L21: Anmerkung
A22: 1 | B22: Bücherbär. Detektivgeschichten zum Mitraten | C22: Anna Lott / Katja Rau | D22: Arena | E22: 978-3401717777 | F22: 10 | G22: 0 | H22: =IFERROR(F22*(1-G22),F22) -> 10 | I22: =J22/1.07 -> 392.52336 | J22: =H22*$L$20 -> 420 | K22: reserviert
A23: 2 | B23: Ein Fall für Kwiatkowski. Der große Schlangenzauber | C23: Jürgen Banscherus | D23: Arena | E23: 978-3401608358 | F23: 10 | G23: 0 | H23: =IFERROR(F23*(1-G23),F23) -> 10 | I23: =J23/1.07 -> 392.52336 | J23: =H23*$L$20 -> 420 | K23: reserviert
A24: 3 | B24: Die Schule der magischen Tiere ermittelt. Der Hausschuh-Dieb | C24: Margit Auer | D24: Carlsen | E24: 978-3551657329 | F24: 10 | G24: 0.1 | H24: =IFERROR(F24*(1-G24),F24) -> 9 | I24: =J24/1.07 -> 353.27103 | J24: =H24*$L$20 -> 378 | K24: angefragt
A25: 4 | B25: Reggie Rabbit und der große Karottenraub | C25: Swapna Reddy / Becka Mohr (Ill.) | D25: Insel | E25: 978-3458645139 | F25: 14 | G25: 0.1 | H25: =IFERROR(F25*(1-G25),F25) -> 12.6 | I25: =J25/1.07 -> 494.57944 | J25: =H25*$L$20 -> 529.2 | K25: reserviert
A26: 5 | B26: Meisterdetektiv Mausebart | C26: Charley Rabbit | D26: Karibu | E26: 978-3961294688 | F26: 16.99 | G26: 0 | H26: =IFERROR(F26*(1-G26),F26) -> 16.99 | I26: =J26/1.07 -> 666.8972 | J26: =H26*$L$20 -> 713.58 | K26: verfügbar | L26: Reservierung lt. Verlag nicht erforderlich
A27: 6 | B27: Die drei !!! Schmetterlinge in Gefahr | C27: Mira Sol | D27: Kosmos | E27: 978-3440179642 | F27: 12 | G27: 0.1 | H27: =IFERROR(F27*(1-G27),F27) -> 10.8 | I27: =J27/1.07 -> 423.92523 | J27: =H27*$L$20 -> 453.6 | K27: reserviert
A28: 7 | B28: Die drei !!! Sternschnuppennächte | C28: Jule Ambach | D28: Kosmos | E28: 978-3440179659 | F28: 12 | G28: 0.1 | H28: =IFERROR(F28*(1-G28),F28) -> 10.8 | I28: =J28/1.07 -> 423.92523 | J28: =H28*$L$20 -> 453.6 | K28: reserviert
A29: 8 | B29: Die drei ??? Kids. Geheimnis um Cubemax | C29: Calle Claus | D29: Kosmos | E29: 978-3440180945 | F29: 13 | G29: 0.1 | H29: =IFERROR(F29*(1-G29),F29) -> 11.7 | I29: =J29/1.07 -> 459.25234 | J29: =H29*$L$20 -> 491.4 | K29: reserviert
A30: 9 | B30: Die drei ??? Kids. Mission Piraten-Code | C30: Nina Schiefelbein | D30: Kosmos | E30: 978-3440182574 | F30: 15 | G30: 0.1 | H30: =IFERROR(F30*(1-G30),F30) -> 13.5 | I30: =J30/1.07 -> 529.90654 | J30: =H30*$L$20 -> 567 | K30: reserviert
A31: 10 | B31: Die drei ??? Kids. Teuflische Küche | C31: Ulf Blanck | D31: Kosmos | E31: 978-3440182543 | F31: 12 | G31: 0.1 | H31: =IFERROR(F31*(1-G31),F31) -> 10.8 | I31: =J31/1.07 -> 423.92523 | J31: =H31*$L$20 -> 453.6 | K31: reserviert
A32: 11 | B32: TKKG junior: Wildes Tierchaos | C32: Christine Haas | D32: Kosmos | E32: 978-3440180389 | F32: 12 | G32: 0.1 | H32: =IFERROR(F32*(1-G32),F32) -> 10.8 | I32: =J32/1.07 -> 423.92523 | J32: =H32*$L$20 -> 453.6 | K32: reserviert
A33: 12 | B33: Knallharte Tauben quaken sich um Kopf und Kragen | C33: Andrew McDonald / Ben Wood | D33: Leowe WOW | E33: 978-3743222205 | F33: 13 | G33: 0.05 | H33: =IFERROR(F33*(1-G33),F33) -> 12.35 | I33: =J33/1.07 -> 484.76636 | J33: =H33*$L$20 -> 518.7 | K33: reserviert
A34: 13 | B34: Agent Stitch. Mein Geschichten-Abenteuer. Du bist der Held | C34: Steve Behling | D34: Nelson | E34: 978-3845130798 | F34: 9.99 | G34: 0 | H34: =IFERROR(F34*(1-G34),F34) -> 9.99 | I34: =J34/1.07 -> 392.13084 | J34: =H34*$L$20 -> 419.58 | K34: angefragt
A35: 14 | B35: Internat undercover: Aus Versehen Agent | C35: Sven Gerhardt / Vera Schmidt | D35: Penguin Junior | E35: 978-3328304531 | F35: 14 | G35: 0.1 | H35: =IFERROR(F35*(1-G35),F35) -> 12.6 | I35: =J35/1.07 -> 494.57944 | J35: =H35*$L$20 -> 529.2 | K35: angefragt
A36: 15 | B36: Die Jagd nach dem magischen Detektivkoffer. Goldraub im Museum | C36: Cally Stronk / Patrick Fix (Ill.) | D36: Ravensburger | E36: 978-3473464760 | F36: 9.99 | G36: 0 | H36: =IFERROR(F36*(1-G36),F36) -> 9.99 | I36: =J36/1.07 -> 392.13084 | J36: =H36*$L$20 -> 419.58 | K36: reserviert
A37: 16 | B37: Leserabe. Detektivgeschichten zum Lesenlernen | C37: Anja Kiel / Katja reider / Rüdiger Bertram | D37: Ravensburger | E37: 978-3473464128 | F37: 8.99 | G37: 0 | H37: =IFERROR(F37*(1-G37),F37) -> 8.99 | I37: =J37/1.07 -> 352.8785 | J37: =H37*$L$20 -> 377.58 | K37: reserviert
A38: 17 | B38: Sherlock Holmes und Dr. Watson. Die Jagd nach dem Geisterzug | C38: Judith Weber / Christian und Fabian Jeremias | D38: Schneiderbuch | E38: 978-3505152283 | F38: 16 | G38: 0.15 | H38: =IFERROR(F38*(1-G38),F38) -> 13.6 | I38: =J38/1.07 -> 533.83178 | J38: =H38*$L$20 -> 571.2 | K38: verfügbar | L38: Reservierung lt. Verlag nicht erforderlich
A39: 18 | B39: Zipfelmaus und die Glitzerkatze | C39: Uwe Becker | D39: Südpol | E39: 978-3965943322 | F39: 14 | G39: 0.05 | H39: =IFERROR(F39*(1-G39),F39) -> 13.3 | I39: =J39/1.07 -> 522.05607 | J39: =H39*$L$20 -> 558.6 | K39: verfügbar | L39: Reservierung lt. Verlag nicht erforderlich
A40: 19 | B40: Einfach Sunny | C40: Maren Graf | D40: Thienemann | E40: 978-3522188630 | F40: 15 | G40: 0.05 | H40: =IFERROR(F40*(1-G40),F40) -> 14.25 | I40: =J40/1.07 -> 559.34579 | J40: =H40*$L$20 -> 598.5 | K40: reserviert
A41: 20 | B41: Lady Gwens geheimes Detektivbüro: Immer auf der Hut | C41: Brian Freschi / Elena Triolo | D41: Ueberreuter | E41: 978-3764153045 | F41: 14 | G41: 0 | H41: =IFERROR(F41*(1-G41),F41) -> 14 | I41: =J41/1.07 -> 549.53271 | J41: =H41*$L$20 -> 588 | K41: reserviert
E43: Gesamt | F43: =SUM(F22:F41) -> 251.96 | H43: =SUM(H22:H41) -> 236.06 | I43: =ROUND(SUM(I22:I41),2) -> 9265.91 | J43: =ROUND(SUM(J22:J41),2) -> 9914.52
A45: Paket "10: Feiern" | K45: Liefermenge | L45: 71
...

Sheet Teillos 4 - Bücher
A1: Anlage zur Vergabe-Nr. 339 - Teillos 4 | L1: =Losübersicht!$E$1 -> 46286
H2: Gesamtangebot in Euro | I2: =SUMIFS(I:I,$E:$E,"Gesamt") -> 45090.24 | J2: =SUMIFS(J:J,$E:$E,"Gesamt") -> 48246.55
A4: Paket "06: Torjubeln" | K4: Liefermenge | L4: 72
A5: # | B5: Titel | C5: Autor/in/nen | D5: Verlag | E5: ISBN-13 | F5: Ladenpreis in Euro (je Exemplar, brutto) | G5: MPN | H5: Mengenpreis in Euro (je Exemplar, brutto) | I5: Preis in Euro für Liefermenge (netto) | J5: Preis in Euro für Liefermenge (brutto) | K5: Status Verfügbarkeit | L5: Anmerkung
A6: 1 | B6: Einfach Lesen lernen Comic: Fußball Academy. Ein besonderes Training | C6: Irene Margil/ Jan Saße (Ill.) | D6: Carlsen | E6: 978-3551691309 | F6: 9 | G6: 0.15 | H6: =IFERROR(F6*(1-G6),F6) -> 7.65 | I6: =J6/1.07 -> 514.76636 | J6: =H6*$L$4 -> 550.8 | K6: angefragt
A7: 2 | B7: Sportstars erzählen: Mein Skateboard und ich | C7: Titus Dittmann | D7: Coppenrath | E7: 978-3649651123 | F7: 10 | G7: 0.1 | H7: =IFERROR(F7*(1-G7),F7) -> 9 | I7: =J7/1.07 -> 605.60748 | J7: =H7*$L$4 -> 648 | K7: reserviert
A8: 3 | B8: Sportstars erzählen: Mein Weg zur Fußball-Nationalspielerin | C8: Klara Bühl | D8: Coppenrath | E8: 978-3649651369 | F8: 10 | G8: 0.1 | H8: =IFERROR(F8*(1-G8),F8) -> 9 | I8: =J8/1.07 -> 605.60748 | J8: =H8*$L$4 -> 648 | K8: reserviert
A9: 4 | B9: Korbjäger | C9: Nina Basovic Brown | D9: Gulliver | E9: 978-3407814012 | F9: 7 | G9: 0.15 | H9: =IFERROR(F9*(1-G9),F9) -> 5.95 | I9: =J9/1.07 -> 400.37383 | J9: =H9*$L$4 -> 428.4 | K9: verfügbar | L9: Reservierung lt. Verlag nicht erforderlich
A10: 5 | B10: Teamplayer | C10: Nina Basovic Brown | D10: Gulliver | E10: 978-3407814043 | F10: 12 | G10: 0.15 | H10: =IFERROR(F10*(1-G10),F10) -> 10.2 | I10: =J10/1.07 -> 686.35514 | J10: =H10*$L$4 -> 734.4 | K10: verfügbar | L10: Reservierung lt. Verlag nicht erforderlich
A11: 6 | B11: Mein Fußballheld. Joschua Kimmich | C11: Florian Kinast/ Jon Davis (Ill.) | D11: Karibu | E11: 978-3961295494 | F11: 12.99 | G11: 0.1 | H11: =IFERROR(F11*(1-G11),F11) -> 11.691 | I11: =J11/1.07 -> 786.68411 | J11: =H11*$L$4 -> 841.752 | K11: verfügbar | L11: Reservierung lt. Verlag nicht erforderlich
A12: 7 | B12: Mein Fußball-Held: Jamal Musiala | C12: Florian Kinast/ Jon Davis (Ill.) | D12: Karibu | E12: 978-3961295371 | F12: 12.99 | G12: 0.1 | H12: =IFERROR(F12*(1-G12),F12) -> 11.691 | I12: =J12/1.07 -> 786.68411 | J12: =H12*$L$4 -> 841.752 | K12: verfügbar | L12: Reservierung lt. Verlag nicht erforderlich
A13: 8 | B13: KOSMOS Schlaufux: Fußball | C13: Birk Grübling | D13: KOSMOS | E13: 978-3440183496 | F13: 14 | G13: 0.15 | H13: =IFERROR(F13*(1-G13),F13) -> 11.9 | I13: =J13/1.07 -> 800.74766 | J13: =H13*$L$4 -> 856.8 | K13: reserviert
A14: 9 | B14: Leselöwen 1. Klasse: Fußball, Tore, große Träume | C14: Michael Petrowitz / Kim Schmidt | D14: Loewe | E14: 978-3743218932 | F14: 9.95 | G14: 0.07 | H14: =IFERROR(F14*(1-G14),F14) -> 9.2535 | I14: =J14/1.07 -> 622.66542 | J14: =H14*$L$4 -> 666.252 | K14: reserviert
A15: 10 | B15: Jamal Musiala. Mein Fußballabenteuer beginnt (Lesenlernen mit Fußballstars) | C15: Jamal Musiala/ Julien Wolff/ Berat Pakmeci | D15: Oetinger | E15: 978-3751208314 | F15: 12 | G15: 0.05 | H15: =IFERROR(F15*(1-G15),F15) -> 11.4 | I15: =J15/1.07 -> 767.1028 | J15: =H15*$L$4 -> 820.8 | K15: verfügbar | L15: Reservierung in Klärung
A16: 11 | B16: Jamal Musiala. Mein Start bei den Bayern (Lesenlernen mit Fußballstars) | C16: Jamal Musiala/ Julien Wolff/ Berat Pakmeci | D16: Oetinger | E16: 978-3751208321 | F16: 12 | G16: 0.05 | H16: =IFERROR(F16*(1-G16),F16) -> 11.4 | I16: =J16/1.07 -> 767.1028 | J16: =H16*$L$4 -> 820.8 | K16: verfügbar | L16: Reservierung in Klärung
A17: 12 | B17: Fußball-Stars. Alles über Fußball. Träume, Tore, Titel | C17: Simon Mugford / Dan Green | D17: Ravensburger | E17: 978-3473464616 | F17: 9.99 | G17: 0.1 | H17: =IFERROR(F17*(1-G17),F17) -> 8.991 | I17: =J17/1.07 -> 605.00187 | J17: =H17*$L$4 -> 647.352 | K17: reserviert
A18: 13 | B18: Fußball-Stars: Alles über Messi | C18: Simon Mugford/ Dan Green (Ill.) | D18: Ravensburger | E18: 978-3473464371 | F18: 9.99 | G18: 0.1 | H18: =IFERROR(F18*(1-G18),F18) -> 8.991 | I18: =J18/1.07 -> 605.00187 | J18: =H18*$L$4 -> 647.352 | K18: reserviert
A19: 14 | B19: Wir Kinder vom Bolzi | C19: Veronika Wiggert | D19: Thienemann | E19: 978-3522188821 | F19: 14 | G19: 0.1 | H19: =IFERROR(F19*(1-G19),F19) -> 12.6 | I19: =J19/1.07 -> 847.85047 | J19: =H19*$L$4 -> 907.2 | K19: reserviert
E21: Gesamt | F21: =SUM(F6:F19) -> 155.91 | H21: =SUM(H6:H19) -> 139.7175 | I21: =ROUND(SUM(I6:I19),2) -> 9401.55 | J21: =ROUND(SUM(J6:J19),2) -> 10059.66
A23: Paket "07: Hmpf! Zoom! Bang!" | K23: Liefermenge | L23: 102
A24: # | B24: Titel | C24: Autor/in/nen | D24: Verlag | E24: ISBN-13 | F24: Ladenpreis in Euro (je Exemplar, brutto) | G24: MPN | H24: Mengenpreis in Euro (je Exemplar, brutto) | I24: Preis in Euro für Liefermenge (netto) | J24: Preis in Euro für Liefermenge (brutto) | K24: Status Verfügbarkeit | L24: Anmerkung
A25: 1 | B25: Erben des Imperiums. Der Anfang | C25: Oskar Källner / Karl Johansson | D25: Atrium pics | E25: 978-3855352418 | F25: 12 | G25: 0 | H25: =IFERROR(F25*(1-G25),F25) -> 12 | I25: =J25/1.07 -> 1143.9252 | J25: =H25*$L$23 -> 1224 | K25: verfügbar | L25: Reservierung lt. Verlag nicht erforderlich
A26: 2 | B26: Action Dude | C26: Andy Riley | D26: Carlsen | E26: 978-3551559760 | F26: 12 | G26: 0.2 | H26: =IFERROR(F26*(1-G26),F26) -> 9.6 | I26: =J26/1.07 -> 915.14019 | J26: =H26*$L$23 -> 979.2 | K26: angefragt
A27: 3 | B27: Der König der Löwen. Die Filmgeschichte | C27: Constanze Steindamm | D27: Carlsen | E27: 978-3551281425 | F27: 13 | G27: 0.2 | H27: =IFERROR(F27*(1-G27),F27) -> 10.4 | I27: =J27/1.07 -> 991.40187 | J27: =H27*$L$23 -> 1060.8 | K27: angefragt
A28: 4 | B28: Kleine Katze Chi in Frankreich | C28: Konami Kanata/ Catherine Bouvier | D28: Carlsen | E28: 978-3551808905 | F28: 10 | G28: 0.2 | H28: =IFERROR(F28*(1-G28),F28) -> 8 | I28: =J28/1.07 -> 762.61682 | J28: =H28*$L$23 -> 816 | K28: angefragt
A29: 5 | B29: Agent Stitch. Völlig verkohlt | D29: Carlsen Comics | E29: 978-3551809117 | F29: 15 | G29: 0.2 | H29: =IFERROR(F29*(1-G29),F29) -> 12 | I29: =J29/1.07 -> 1143.9252 | J29: =H29*$L$23 -> 1224 | K29: angefragt
A30: 6 | B30: Piglins - bis die Lava zischt. Minecomic | C30: Heiko Wolz / André Sedlaczek | D30: Carlsen Comics | E30: 978-3551808066 | F30: 10 | G30: 0.2 | H30: =IFERROR(F30*(1-G30),F30) -> 8 | I30: =J30/1.07 -> 762.61682 | J30: =H30*$L$23 -> 816 | K30: angefragt
A31: 7 | B31: Zoomania 2 Besser Zoosammen | C31: Joe Caramagna | D31: Carlsen Comics | E31: 978-3551807472 | F31: 15 | G31: 0.2 | H31: =IFERROR(F31*(1-G31),F31) -> 12 | I31: =J31/1.07 -> 1143.9252 | J31: =H31*$L$23 -> 1224 | K31: angefragt
A32: 8 | B32: Die Reise des Mondbären | C32: Ho | D32: Carlsen Manga | E32: 978-3551807267 | F32: 14 | G32: 0.2 | H32: =IFERROR(F32*(1-G32),F32) -> 11.2 | I32: =J32/1.07 -> 1067.6636 | J32: =H32*$L$23 -> 1142.4 | K32: angefragt
A33: 9 | B33: Felis Geheimnis | C33: Inga Steinmetz | D33: Carlsen Manga | E33: 978-3551802163 | F33: 9 | G33: 0.2 | H33: =IFERROR(F33*(1-G33),F33) -> 7.2 | I33: =J33/1.07 -> 686.35514 | J33: =H33*$L$23 -> 734.4 | K33: angefragt
A34: 10 | B34: Pablo und Splash. Die Zeitreise-Pinguine. Ab in die Eiszeit | C34: Sheena Dempsey | D34: Coppenrath | E34: 978-3649650621 | F34: 14 | G34: 0.125 | H34: =IFERROR(F34*(1-G34),F34) -> 12.25 | I34: =J34/1.07 -> 1167.757 | J34: =H34*$L$23 -> 1249.5 | K34: reserviert
A35: 11 | B35: Stitch Head! Chaos in der Monsterwerkstatt | C35: Guy Bass / Pete Williamson | D35: dtv | E35: 978-3423765640 | F35: 16 | G35: 0.12 | H35: =IFERROR(F35*(1-G35),F35) -> 14.08 | I35: =J35/1.07 -> 1342.2056 | J35: =H35*$L$23 -> 1436.16 | K35: verfügbar
A36: 12 | B36: Die Fußballbande: Die doppelte Pokaljagd | C36: Aikaterini Maria Schlosser / Pau Gámez | D36: Egmont | E36: 978-3770412556 | F36: 15.99 | G36: 0 | H36: =IFERROR(F36*(1-G36),F36) -> 15.99 | I36: =J36/1.07 -> 1524.2804 | J36: =H36*$L$23 -> 1630.98 | K36: verfügbar | L36: Reservierung lt. Verlag nicht erforderlich
A37: 13 | B37: Einmal kurz nicht aufgepasst | C37: Regina Kehn | D37: Kibitz | E37: 978-3948690427 | F37: 20 | G37: 0.15 | H37: =IFERROR(F37*(1-G37),F37) -> 17 | I37: =J37/1.07 -> 1620.5607 | J37: =H37*$L$23 -> 1734 | K37: reserviert
A38: 14 | B38: Suri, die Monsterjägerin | C38: Jo Rioux | D38: Knesebeck | E38: 978-3989620018 | F38: 18 | G38: 0 | H38: =IFERROR(F38*(1-G38),F38) -> 18 | I38: =J38/1.07 -> 1715.8879 | J38: =H38*$L$23 -> 1836 | K38: verfügbar | L38: Reservierung lt. Verlag nicht erforderlich
A39: 15 | B39: Die Wächter des Verfluchten Goldes (Band 1) - Das Abenteuer beginnt | C39: Christian Friedrich / David Füleki | D39: Loewe Graphix | E39: 978-3743219113 | F39: 14 | G39: 0.1 | H39: =IFERROR(F39*(1-G39),F39) -> 12.6 | I39: =J39/1.07 -> 1201.1215 | J39: =H39*$L$23 -> 1285.2 | K39: reserviert
A40: 16 | B40: Jim stinkt's! | C40: Suzanne & Maz Lang | D40: Loewe Graphix | E40: 978-3743223981 | F40: 12 | G40: 0.1 | H40: =IFERROR(F40*(1-G40),F40) -> 10.8 | I40: =J40/1.07 -> 1029.5327 | J40: =H40*$L$23 -> 1101.6 | K40: reserviert
A41: 17 | B41: Team Spidey legt los | C41: Steve Behling | D41: Nelson | E41: 978-3845130910 | F41: 9.99 | G41: 0.2 | H41: =IFERROR(F41*(1-G41),F41) -> 7.992 | I41: =J41/1.07 -> 761.85421 | J41: =H41*$L$23 -> 815.184 | K41: angefragt
A42: 18 | B42: Smilla und die Superhirne | C42: Flavia Fox / Maleek | D42: Planet! | E42: 978-3522509527 | F42: 14 | G42: 0.15 | H42: =IFERROR(F42*(1-G42),F42) -> 11.9 | I42: =J42/1.07 -> 1134.3925 | J42: =H42*$L$23 -> 1213.8 | K42: angefragt
A43: 19 | B43: Stella. Superpower: Brüder verjagen | C43: Oda Valle | D43: Thienemann | E43: 978-3522188876 | F43: 17 | G43: 0.15 | H43: =IFERROR(F43*(1-G43),F43) -> 14.45 | I43: =J43/1.07 -> 1377.4766 | J43: =H43*$L$23 -> 1473.9 | K43: reserviert
...

Sheet Teillos 5 - Bücher
A1: Anlage zur Vergabe-Nr. 339 - Teillos 3 | L1: =Losübersicht!$E$1 -> 46286
H2: Gesamtangebot in Euro | I2: =SUMIFS(I:I,$E:$E,"Gesamt") -> 43841.82 | J2: =SUMIFS(J:J,$E:$E,"Gesamt") -> 46910.75
A4: Paket "01: Lesestufe 1" | K4: Liefermenge | L4: 69
A5: # | B5: Titel | C5: Autor/in/nen | D5: Verlag | E5: ISBN-13 | F5: Ladenpreis in Euro (je Exemplar, brutto) | G5: MPN | H5: Mengenpreis in Euro (je Exemplar, brutto) | I5: Preis in Euro für Liefermenge (netto) | J5: Preis in Euro für Liefermenge (brutto) | K5: Status Verfügbarkeit | L5: Anmerkung
A6: 1 | B6: Bücherbär. Katzenglück für Mia und Ben | C6: Julia Boehme / Katrin Meiller | D6: Arena | E6: 978-3401722047 | F6: 10 | G6: 0.1 | H6: =IFERROR(F6*(1-G6),F6) -> 9 | I6: =J6/1.07 -> 580.37383 | J6: =H6*$L$4 -> 621 | K6: reserviert
A7: 2 | B7: Bücherbär: Zusammen sind wir stark | C7: Frauke Nahrgang / Catharina Westphal | D7: Arena | E7: 978-3401722061 | F7: 10 | G7: 0.1 | H7: =IFERROR(F7*(1-G7),F7) -> 9 | I7: =J7/1.07 -> 580.37383 | J7: =H7*$L$4 -> 621 | K7: reserviert
A8: 3 | B8: Das kleine WIR feiert Geburtstag | C8: Daniela Kunkel / Steffi Korda (Ill.) | D8: Carlsen | E8: 978-3551691446 | F8: 9 | G8: 0.15 | H8: =IFERROR(F8*(1-G8),F8) -> 7.65 | I8: =J8/1.07 -> 493.31776 | J8: =H8*$L$4 -> 527.85 | K8: angefragt
A9: 4 | B9: Einfach Lesen lernen: Tilli und die Zahnfee. Wackelzahn und Glitzerkleber | C9: Lucy Astner / Alexandra Helm | D9: Carlsen | E9: 978-3551691460 | F9: 9 | G9: 0.15 | H9: =IFERROR(F9*(1-G9),F9) -> 7.65 | I9: =J9/1.07 -> 493.31776 | J9: =H9*$L$4 -> 527.85 | K9: angefragt
A10: 5 | B10: Pokémon. Das Geheimnis der sechs Helden | C10: Nora de Lon | D10: Carlsen | E10: 978-3551690678 | F10: 9 | G10: 0.15 | H10: =IFERROR(F10*(1-G10),F10) -> 7.65 | I10: =J10/1.07 -> 493.31776 | J10: =H10*$L$4 -> 527.85 | K10: angefragt
A11: 6 | B11: Schulhofwitze für die große Pause | C11: Annika Frank | D11: Carlsen | E11: 978-3551691330 | F11: 9 | G11: 0.15 | H11: =IFERROR(F11*(1-G11),F11) -> 7.65 | I11: =J11/1.07 -> 493.31776 | J11: =H11*$L$4 -> 527.85 | K11: angefragt
A12: 7 | B12: Erst ich ein Stück, dann du: Stinktier & Co - Weiter, schneller, stinkiger! | C12: Rüdiger Bertram | D12: cbj | E12: 978-3570181256 | F12: 10 | G12: 0.125 | H12: =IFERROR(F12*(1-G12),F12) -> 8.75 | I12: =J12/1.07 -> 564.25234 | J12: =H12*$L$4 -> 603.75 | K12: reserviert
A13: 8 | B13: DK Superleser: Star Wars, die Abenteuer der Jungen Jedi: Die Suche nach dem Aschehund | C13: Sebastian Twardokus | D13: Dorling Kindersley | E13: 978-3831052028 | F13: 8.95 | G13: 0.1 | H13: =IFERROR(F13*(1-G13),F13) -> 8.055 | I13: =J13/1.07 -> 519.43458 | J13: =H13*$L$4 -> 555.795 | K13: reserviert
A14: 9 | B14: Duden Dein Lesestart: Weißt du schon alles über Supertiere? | C14: Helen Seeberg | D14: Dudenverlag | E14: 978-3411733101 | F14: 10 | G14: 0.1 | H14: =IFERROR(F14*(1-G14),F14) -> 9 | I14: =J14/1.07 -> 580.37383 | J14: =H14*$L$4 -> 621 | K14: verfügbar | L14: Reservierung lt. Verlag nicht erforderlich
A15: 10 | B15: Leseprofis 1. Klasse: Die total verrückte Schrumpfmaschine | C15: Heike Wiechmann | D15: Fischer Sauerländer | E15: 978-3737375924 | F15: 9 | G15: 0.1 | H15: =IFERROR(F15*(1-G15),F15) -> 8.1 | I15: =J15/1.07 -> 522.33645 | J15: =H15*$L$4 -> 558.9 | K15: reserviert
A16: 11 | B16: Bildermaus. Gechichten vom kleinen Koala | C16: Christiane Wittenburg / Elke Broska | D16: Loewe | E16: 978-3743219069 | F16: 9.95 | G16: 0.07 | H16: =IFERROR(F16*(1-G16),F16) -> 9.2535 | I16: =J16/1.07 -> 596.72103 | J16: =H16*$L$4 -> 638.4915 | K16: reserviert
A17: 12 | B17: Leselöwen 1. Klasse: Drei Waschbären für alle Fälle | C17: Christian Tielmann/ Nadine Y. Resch | D17: Loewe | E17: 978-3743218994 | F17: 9.95 | G17: 0.07 | H17: =IFERROR(F17*(1-G17),F17) -> 9.2535 | I17: =J17/1.07 -> 596.72103 | J17: =H17*$L$4 -> 638.4915 | K17: reserviert
A18: 13 | B18: Leselöwen Comics 1. Klasse. Plötzlich Polizist | C18: Katja Reider / Josephine Wolff | D18: Loewe | E18: 978-3743221895 | F18: 9.95 | G18: 0.07 | H18: =IFERROR(F18*(1-G18),F18) -> 9.2535 | I18: =J18/1.07 -> 596.72103 | J18: =H18*$L$4 -> 638.4915 | K18: reserviert
A19: 14 | B19: Leselöwen Comics 1. Klasse: Drachen-Alarm auf der magischen Insel | C19: Barbara Rose / Cornelis Jettke | D19: Loewe | E19: 978-3743221116 | F19: 9.95 | G19: 0.07 | H19: =IFERROR(F19*(1-G19),F19) -> 9.2535 | I19: =J19/1.07 -> 596.72103 | J19: =H19*$L$4 -> 638.4915 | K19: reserviert
A20: 15 | B20: Mein supersüßes Haustier. Kiki zieht ein | C20: Hanna Tkachenko | D20: Oetinger | E20: 978-3751207751 | F20: 10 | G20: 0.05 | H20: =IFERROR(F20*(1-G20),F20) -> 9.5 | I20: =J20/1.07 -> 612.61682 | J20: =H20*$L$4 -> 655.5 | K20: verfügbar | L20: Reservierung in Klärung
A21: 16 | B21: Disney Magische Geschichten | D21: Ravensburger | E21: 978-3473498222 | F21: 8.99 | G21: 0.1 | H21: =IFERROR(F21*(1-G21),F21) -> 8.091 | I21: =J21/1.07 -> 521.75607 | J21: =H21*$L$4 -> 558.279 | K21: reserviert
A22: 17 | B22: Leserabe kurz + leicht: Schulgeschichten | C22: Julia Breitenöder | D22: Ravensburger | E22: 978-3473464203 | F22: 8.99 | G22: 0.1 | H22: =IFERROR(F22*(1-G22),F22) -> 8.091 | I22: =J22/1.07 -> 521.75607 | J22: =H22*$L$4 -> 558.279 | K22: reserviert
A23: 18 | B23: Lilo & Stitch. Auf die Plätze, fertig, Stitch! | D23: Ravensburger | E23: 978-3473498581 | F23: 5.99 | G23: 0.1 | H23: =IFERROR(F23*(1-G23),F23) -> 5.391 | I23: =J23/1.07 -> 347.64393 | J23: =H23*$L$4 -> 371.979 | K23: reserviert
A24: 19 | B24: Was ist was. Erstes Lesen Easy. Katzen - meine Lieblingstiere | C24: Sonja Meierjürgen | D24: Tessloff | E24: 978-3788681265 | F24: 8.95 | G24: 0.15 | H24: =IFERROR(F24*(1-G24),F24) -> 7.6075 | I24: =J24/1.07 -> 490.5771 | J24: =H24*$L$4 -> 524.9175 | K24: reserviert
E26: Gesamt | F26: =SUM(F6:F24) -> 176.67 | H26: =SUM(H6:H24) -> 158.1995 | I26: =ROUND(SUM(I6:I24),2) -> 10201.65 | J26: =ROUND(SUM(J6:J24),2) -> 10915.77
A28: Paket "03: Lesestufe 3" | K28: Liefermenge | L28: 34
A29: # | B29: Titel | C29: Autor/in/nen | D29: Verlag | E29: ISBN-13 | F29: Ladenpreis in Euro (je Exemplar, brutto) | G29: MPN | H29: Mengenpreis in Euro (je Exemplar, brutto) | I29: Preis in Euro für Liefermenge (netto) | J29: Preis in Euro für Liefermenge (brutto) | K29: Status Verfügbarkeit | L29: Anmerkung
A30: 1 | B30: Der Club der schrägen Prinzessinnen | C30: Nicole Röndings/ Marta Kissi | D30: Baumhaus | E30: 978-3833910548 | F30: 14 | G30: 0.05 | H30: =IFERROR(F30*(1-G30),F30) -> 13.3 | I30: =J30/1.07 -> 422.61682 | J30: =H30*$L$28 -> 452.2 | K30: angefragt
A31: 2 | B31: SuperBikes. Das Abenteuer beginnt | C31: Hanna Sörensen / Stefan Leuchtenberg | D31: Carlsen | E31: 978-3551271877 | F31: 14 | G31: 0.1 | H31: =IFERROR(F31*(1-G31),F31) -> 12.6 | I31: =J31/1.07 -> 400.37383 | J31: =H31*$L$28 -> 428.4 | K31: angefragt
A32: 3 | B32: Vier viertel und ein Haufen Chaos | C32: Constanze von Kitzing / Cally Stronk | D32: Carlsen | E32: 978-3551656681 | F32: 14 | G32: 0.1 | H32: =IFERROR(F32*(1-G32),F32) -> 12.6 | I32: =J32/1.07 -> 400.37383 | J32: =H32*$L$28 -> 428.4 | K32: angefragt
A33: 4 | B33: Einfach Lesen lernen 3. Klasse: Eiswanderer - bis die Zapfen schmelzen! | C33: Heiko Wolz / André Sedlaczek | D33: Carlsen | E33: 978-3551068705 | F33: 9 | G33: 0.1 | H33: =IFERROR(F33*(1-G33),F33) -> 8.1 | I33: =J33/1.07 -> 257.38318 | J33: =H33*$L$28 -> 275.4 | K33: angefragt
A34: 5 | B34: Monsterjäger. Level 1: Helden-Test | C34: Kieran Larwood / Joe Todd-Stanton | D34: cbj | E34: 978-3570183656 | F34: 12 | G34: 0.1 | H34: =IFERROR(F34*(1-G34),F34) -> 10.8 | I34: =J34/1.07 -> 343.17757 | J34: =H34*$L$28 -> 367.2 | K34: reserviert
A35: 6 | B35: Das Keksgeheimnis (super lesbar) | C35: Anna van Lanen | D35: Gulliver | E35: 978-3407824769 | F35: 10 | G35: 0.1 | H35: =IFERROR(F35*(1-G35),F35) -> 9 | I35: =J35/1.07 -> 285.98131 | J35: =H35*$L$28 -> 306 | K35: verfügbar | L35: Reservierung lt. Verlag nicht erforderlich
A36: 7 | B36: Sternenschweif. Die Suche nach dem Feuerdrachen | C36: Linda Chapman / Uli Leistenschneider / Anna-Lena Kühler | D36: Kosmos | E36: 978-3440181973 | F36: 12 | G36: 0.1 | H36: =IFERROR(F36*(1-G36),F36) -> 10.8 | I36: =J36/1.07 -> 343.17757 | J36: =H36*$L$28 -> 367.2 | K36: reserviert
A37: 8 | B37: Leselöwen 3. Klasse: Der große Wurf | C37: Irene Margil/ Thilo Krapp (Ill.) | D37: Loewe | E37: 978-3743220683 | F37: 9.95 | G37: 0.05 | H37: =IFERROR(F37*(1-G37),F37) -> 9.4525 | I37: =J37/1.07 -> 300.35981 | J37: =H37*$L$28 -> 321.385 | K37: reserviert
A38: 9 | B38: Leselöwen 3. Klasse: Freiheit für die Mustangs | C38: Sabine Giebken / Sarah-Lisa Helb | D38: Loewe | E38: 978-3743218949 | F38: 9.95 | G38: 0.05 | H38: =IFERROR(F38*(1-G38),F38) -> 9.4525 | I38: =J38/1.07 -> 300.35981 | J38: =H38*$L$28 -> 321.385 | K38: reserviert
A39: 10 | B39: Leselöwen 3. Klasse: Geheimagent auf gefährlicher Mission | C39: Michael Petrowitz / Jan Saße | D39: Loewe | E39: 978-3743218956 | F39: 9.95 | G39: 0.05 | H39: =IFERROR(F39*(1-G39),F39) -> 9.4525 | I39: =J39/1.07 -> 300.35981 | J39: =H39*$L$28 -> 321.385 | K39: reserviert
A40: 11 | B40: Tiger Warrior. Der Angriff des Drachenkönigs | C40: Maisi Chan | D40: Loewe | E40: 978-3743223530 | F40: 9.95 | G40: 0.05 | H40: =IFERROR(F40*(1-G40),F40) -> 9.4525 | I40: =J40/1.07 -> 300.35981 | J40: =H40*$L$28 -> 321.385 | K40: reserviert
A41: 12 | B41: Der Leuchtturmbär | C41: Mathilde Stein / Piet Gobler | D41: Moritz | E41: 978-3895654909 | F41: 13.95 | G41: 0.1 | H41: =IFERROR(F41*(1-G41),F41) -> 12.555 | I41: =J41/1.07 -> 398.94393 | J41: =H41*$L$28 -> 426.87 | K41: verfügbar | L41: Reservierung lt. Verlag nicht erforderlich
A42: 13 | B42: Die Olchis und das Sams. Due kaputte Waschmaschine | C42: Erhard Dietl / Paul Maar | D42: Oetinger | E42: 978-3751208437 | F42: 15 | G42: 0 | H42: =IFERROR(F42*(1-G42),F42) -> 15 | I42: =J42/1.07 -> 476.63551 | J42: =H42*$L$28 -> 510 | K42: verfügbar | L42: Reservierung in Klärung
A43: 14 | B43: Mein Seepferdchenhof. Wilde Flosse, großes Herz | C43: Kathrin Lena Orso / Leonie Engel | D43: Oetinger | E43: 978-3751207225 | F43: 12 | G43: 0 | H43: =IFERROR(F43*(1-G43),F43) -> 12 | I43: =J43/1.07 -> 381.30841 | J43: =H43*$L$28 -> 408 | K43: verfügbar | L43: Reservierung in Klärung
...

Sheet Teillos 6 - Non-Books
A1: Anlage zur Vergabe-Nr. 339 - Teillos 7 | K1: =Losübersicht!$E$1 -> 46286
G2: Gesamtangebot in Euro | H2: =SUMIFS(H:H,$E:$E,"Gesamt") -> 0 | I2: =SUMIFS(I:I,$E:$E,"Gesamt") -> 0
A4: Paket "Non-Books" | J4: Liefermenge | K4: 245
A5: # | B5: Titel | C5: Autor/in/nen | D5: Verlag | E5: ISBN-13 | F5: Angebotspreis in Euro (je Einzelstück, netto) | G5: Angebotspreis in Euro (je Einzelstück, brutto) | H5: Preis in Euro für Liefermenge (netto) | I5: Preis in Euro für Liefermenge (brutto) | J5: Status Verfügbarkeit | K5: Anmerkung
A6: 1 | B6: Mutmurmeln für den ersten Schultag (Kamishibai) | C6: Sarah Welk | D6: Don Boscio | E6: 426-0694923641 | H6: =F6*$K$4 -> 0 | I6: =G6*$K$4 -> 0 | J6: reserviert
A7: 2 | B7: Yoga-Spiele für Kinder | C7: Ulrike Knuth / Gabriele Pohl | D7: Don Bosco | E7: 426-0694924006 | H7: =F7*$K$4 -> 0 | I7: =G7*$K$4 -> 0 | J7: reserviert
A8: 3 | B8: Eddie und Ella. Bedürfnisse wahrnehmen, erkennen und benennen (Kamishibai) | C8: Antja Bohnstedt | D8: Don Bosco | E8: 426-0694923658 | H8: =F8*$K$4 -> 0 | I8: =G8*$K$4 -> 0 | J8: reserviert
A9: 4 | B9: Eine Welt. Ein Augenblick (Kamishibai) | C9: Ben Lerwill/ Alette Srtaathof | D9: Don Bosco | E9: 426-0694923535 | H9: =F9*$K$4 -> 0 | I9: =G9*$K$4 -> 0 | J9: reserviert
A10: 5 | B10: Frank und Bert (Kamishibai) | C10: Chris Naylor-Ballesteros | D10: Don Bosco | E10: 426-0694923597 | H10: =F10*$K$4 -> 0 | I10: =G10*$K$4 -> 0 | J10: reserviert
A11: 6 | B11: Herr Krake räumt das Meer auf (Kamishibai) | C11: Barbara Rose / Katharina Sieg | D11: Don Bosco | E11: 426-0694923894 | H11: =F11*$K$4 -> 0 | I11: =G11*$K$4 -> 0 | J11: reserviert
A12: 7 | B12: Checkerin Marina - Checkst du's? Das Spiel | C12: Kaddy Arendt | D12: EMF | E12: 426-0478343801 | H12: =F12*$K$4 -> 0 | I12: =G12*$K$4 -> 0 | J12: reserviert
A13: 8 | B13: Pantomime. Switch it up | D13: EMF | E13: 426-0478343948 | H13: =F13*$K$4 -> 0 | I13: =G13*$K$4 -> 0 | J13: reserviert
A14: 9 | B14: Besiege die Tiere | C14: Cécile Dormeau | D14: Laurence King | E14: 978-3962444815 | H14: =F14*$K$4 -> 0 | I14: =G14*$K$4 -> 0 | J14: reserviert
A15: 10 | B15: Black Stories Junior. Tierisch wild! | C15: Andrea Köhrsen | D15: moses | E15: 403-3477901170 | H15: =F15*$K$4 -> 0 | I15: =G15*$K$4 -> 0 | J15: verfügbar | K15: Reservierung lt. Verlag nicht erforderlich
A16: 11 | B16: Blitz Zebra Astronaut. Das Wortkettenspiel | D16: moses | E16: 403-3477909411 | H16: =F16*$K$4 -> 0 | I16: =G16*$K$4 -> 0 | J16: verfügbar | K16: Reservierung lt. Verlag nicht erforderlich
A17: 12 | B17: Schätz it Junior | C17: Ralf zur Linde | D17: moses | E17: 403-3477909480 | H17: =F17*$K$4 -> 0 | I17: =G17*$K$4 -> 0 | J17: verfügbar | K17: Reservierung lt. Verlag nicht erforderlich
A18: 13 | B18: Würfelspaß Fußball | D18: moses | E18: 403-3477909640 | H18: =F18*$K$4 -> 0 | I18: =G18*$K$4 -> 0 | J18: reserviert
A19: 14 | B19: Krakel Orakel | D19: Topp | E19: 400-7742185435 | H19: =F19*$K$4 -> 0 | I19: =G19*$K$4 -> 0 | J19: angefragt
E21: Gesamt | F21: =ROUND(SUM(F6:F19),2) -> 0 | G21: =ROUND(SUM(G6:G19),2) -> 0 | H21: =ROUND(SUM(H6:H19),2) -> 0 | I21: =ROUND(SUM(I6:I19),2) -> 0

Sheet Teillos 7 - MINT
A1: Anlage zur Vergabe-Nr. 339 - Teillos 8 | I1: =Losübersicht!$E$1 -> 46286
E2: Gesamtangebot in Euro | F2: =SUMIFS(F:F,$C:$C,"Gesamt") -> 0 | G2: =SUMIFS(G:G,$C:$C,"Gesamt") -> 0
A4: Experimentierkästen
A5: # | B5: Artikel | C5: Liefermenge | D5: Angebotspreis in Euro (je Einzelstück, netto) | E5: Angebotspreis in Euro (je Einzelstück, brutto) | F5: Preis in Euro für Liefermenge (netto) | G5: Preis in Euro für Liefermenge (brutto) | H5: Hersteller / Produktbezeichnung / Artikelnummer / Produktlink | I5: Anmerkung
A6: 1 | B6: Experimentierkasten "Erneuerbare Energie" | C6: 37 | F6: =D6*$C6 -> 0 | G6: =E6*$C6 -> 0
A7: 2 | B7: Experimentierkasten "Pflanzen" | C7: 40 | F7: =D7*$C7 -> 0 | G7: =E7*$C7 -> 0
A8: 3 | B8: Experimentierkasten "Mikroskop" | C8: 51 | F8: =D8*$C8 -> 0 | G8: =E8*$C8 -> 0
A9: 4 | B9: Planetarium | C9: 46 | F9: =D9*$C9 -> 0 | G9: =E9*$C9 -> 0
A10: 5 | B10: Globus | C10: 23 | F10: =D10*$C10 -> 0 | G10: =E10*$C10 -> 0
A11: 6 | B11: Roboter-Bausatz | C11: 28 | F11: =D11*$C11 -> 0 | G11: =E11*$C11 -> 0
C13: Gesamt | D13: =SUM(D6:D11) -> 0 | E13: =SUM(E6:E11) -> 0 | F13: =SUM(F6:F11) -> 0 | G13: =SUM(G6:G11) -> 0
