Workbook

Sheet Losübersicht
A1: Anlage zur Vergabe-Nr. 339 | E1: 46286
A2: Gesamtwert in Euro | B2: =SUMPRODUCT(B7:B13,$D$7:$D$13) -> 0 | C2: =SUMPRODUCT(C7:C13,$D$7:$D$13) -> 0
A4: Bieter
B6: Netto | C6: Brutto | D6: angeboten? | E6: # Versandadressen
A7: Teillos 1 - Bücher | B7: {=INDIRECT("'"&A7&"'!I2")} -> 56602.48 | C7: {=INDIRECT("'"&A7&"'!J2")} -> 60564.66 | D7: 0 | E7: 32
A8: Teillos 2 - Bücher | B8: {=INDIRECT("'"&A8&"'!I2")} -> 49749.74 | C8: {=INDIRECT("'"&A8&"'!J2")} -> 53232.22 | D8: 0 | E8: 186
A9: Teillos 3 - Bücher | B9: {=INDIRECT("'"&A9&"'!I2")} -> 47572.02 | C9: {=INDIRECT("'"&A9&"'!J2")} -> 50902.06 | D9: 0 | E9: 222
A10: Teillos 4 - Bücher | B10: {=INDIRECT("'"&A10&"'!I2")} -> 45090.24 | C10: {=INDIRECT("'"&A10&"'!J2")} -> 48246.55 | D10: 0 | E10: 153
A11: Teillos 5 - Bücher | B11: {=INDIRECT("'"&A11&"'!I2")} -> 43841.82 | C11: {=INDIRECT("'"&A11&"'!J2")} -> 46910.75 | D11: 0 | E11: 168
A12: Teillos 6 - Non-Books | B12: {=INDIRECT("'"&A12&"'!H2")} -> 0 | C12: {=INDIRECT("'"&A12&"'!I2")} -> 0 | D12: 0 | E12: 245
A13: Teillos 7 - MINT | B13: {=INDIRECT("'"&A13&"'!F2")} -> 0 | C13: {=INDIRECT("'"&A13&"'!G2")} -> 0 | D13: 0 | E13: 132
D14: ▲
D15: nur zu Ansichtszwecken; ausschlaggebend sind die Angaben im Angebotsschreiben

Sheet Teillos 1 - Bücher
A1: Anlage zur Vergabe-Nr. 339 - Teillos 2 | L1: =Losübersicht!$E$1 -> 46286
H2: Gesamtangebot in Euro | I2: =SUMIFS(I:I,$E:$E,"Gesamt") -> 56602.48 | J2: =SUMIFS(J:J,$E:$E,"Gesamt") -> 60564.66
A4: Grundbestand für neue Leseclubs | K4: Liefermenge | L4: 32
A5: # | B5: Titel | C5: Autor/in/nen | D5: Verlag | E5: ISBN-13 | F5: Ladenpreis in Euro (je Exemplar, brutto) | G5: MPN | H5: Mengenpreis in Euro (je Exemplar, brutto) | I5: Preis in Euro für Liefermenge (netto) | J5: Preis in Euro für Liefermenge (brutto) | K5: Status Verfügbarkeit | L5: Anmerkung
A6: 1 | B6: Die Schule der Wunderdinge - 1: Hokus Pokus Kerzenständer | C6: Kira Gembri, Marta Kissi | D6: arena | E6: 978-3401605746 | F6: 14 | G6: 0 | H6: =IFERROR(F6*(1-G6),F6) -> 14 | I6: =J6/1.07 -> 418.69159 | J6: =H6*$L$4 -> 448 | K6: reserviert
A7: 2 | B7: Gefahr in der Gepardenschlucht | C7: Dirk Reinhardt | D7: arena | E7: 978-3401722115 | F7: 10 | G7: 0 | H7: =IFERROR(F7*(1-G7),F7) -> 10 | I7: =J7/1.07 -> 299.06542 | J7: =H7*$L$4 -> 320 | K7: reserviert
A8: 3 | B8: Ich glaub, es glitzert! Jedes Chaos fängt mal klein an | C8: Emma Flint | D8: arena | E8: 978-3401605838 | F8: 15 | G8: 0 | H8: =IFERROR(F8*(1-G8),F8) -> 15 | I8: =J8/1.07 -> 448.59813 | J8: =H8*$L$4 -> 480 | K8: reserviert
A9: 4 | B9: Mein Lotta-Leben - 14: Da lachen ja die Hunde | C9: Alice Pantermüller | D9: arena | E9: 978-3401603339 | F9: 13 | G9: 0 | H9: =IFERROR(F9*(1-G9),F9) -> 13 | I9: =J9/1.07 -> 388.78505 | J9: =H9*$L$4 -> 416 | K9: reserviert
A10: 5 | B10: Mein Lotta-Leben - 15: Wer den Wal hat | C10: Alice Pantermüller | D10: arena | E10: 978-3401603346 | F10: 13 | G10: 0 | H10: =IFERROR(F10*(1-G10),F10) -> 13 | I10: =J10/1.07 -> 388.78505 | J10: =H10*$L$4 -> 416 | K10: reserviert
A11: 6 | B11: Wenn zwei sich streiten: Tiger und Löwe | C11: Britta Sabbag | D11: arsEdition | E11: 978-3845840499 | F11: 15 | G11: 0.1 | H11: =IFERROR(F11*(1-G11),F11) -> 13.5 | I11: =J11/1.07 -> 403.73832 | J11: =H11*$L$4 -> 432 | K11: reserviert
A12: 7 | B12: Herr Bert und Alfonso jagen einen Dieb | C12: Laura d'Arcangelo | D12: Atlantis Verlag | E12: 978-3715207933 | F12: 19 | G12: 0.1 | H12: =IFERROR(F12*(1-G12),F12) -> 17.1 | I12: =J12/1.07 -> 511.40187 | J12: =H12*$L$4 -> 547.2 | K12: angefragt
A13: 8 | B13: Pippilothek - Eine Bibliothek wirkt Wunder | C13: Lorenz Pauli, Kathrin Schärer | D13: Atlantis Verlag | E13: 978-3715206202 | F13: 20 | G13: 0.1 | H13: =IFERROR(F13*(1-G13),F13) -> 18 | I13: =J13/1.07 -> 538.31776 | J13: =H13*$L$4 -> 576 | K13: angefragt
A14: 9 | B14: Böse Jungs - 1 | C14: Aaron Blabey | D14: Baumhaus | E14: 978-3833904233 | F14: 12 | G14: 0.05 | H14: =IFERROR(F14*(1-G14),F14) -> 11.4 | I14: =J14/1.07 -> 340.93458 | J14: =H14*$L$4 -> 364.8 | K14: angefragt
A15: 10 | B15: Die geheime Drachenschule - 1 | C15: Emily Skye | D15: Baumhaus | E15: 978-3833905674 | F15: 14 | G15: 0.05 | H15: =IFERROR(F15*(1-G15),F15) -> 13.3 | I15: =J15/1.07 -> 397.75701 | J15: =H15*$L$4 -> 425.6 | K15: angefragt
A16: 11 | B16: Die geheime Drachenschule - 2: Der Drache mit den silbernen Hörnern | C16: Emily Skye | D16: Baumhaus | E16: 978-3833905810 | F16: 14 | G16: 0.05 | H16: =IFERROR(F16*(1-G16),F16) -> 13.3 | I16: =J16/1.07 -> 397.75701 | J16: =H16*$L$4 -> 425.6 | K16: angefragt
A17: 12 | B17: Die geheime Drachenschule - 3: Die Rückkehr des siebten Clans | C17: Emily Skye | D17: Baumhaus | E17: 978-3833905995 | F17: 14 | G17: 0.05 | H17: =IFERROR(F17*(1-G17),F17) -> 13.3 | I17: =J17/1.07 -> 397.75701 | J17: =H17*$L$4 -> 425.6 | K17: angefragt
... A20: 15 | B20: Ruperts Tagebuch - 1: Zu nett für diese Welt! | C20: Jeff Kinney | D20: Baumhaus | E20: 978-3833906015 | F20: 16 | G20: 0.05 | H20: =IFERROR(F20*(1-G20),F20) -> 15.2 | I20: =J20/1.07 -> 454.57944 | J20: =H20*$L$4 -> 486.4 | K20: angefragt
A21: 16 | B21: Das ist auch meine Welt - Wie können wir sie besser machen? | C21: Gerda Raidt | D21: Beltz & Gelberg | E21: 978-3407758576 | F21: 16.95 | G21: 0.1 | H21: =IFERROR(F21*(1-G21),F21) -> 15.255 | I21: =J21/1.07 -> 456.2243 | J21: =H21*$L$4 -> 488.16 | K21: verfügbar | L21: Reservierung lt. Verlag nicht erforderlich
A22: 17 | B22: Die Nacht in der Schule | C22: Anja Janotta | D22: Beltz & Gelberg | E22: 978-3407823878 | F22: 9.95 | G22: 0.1 | H22: =IFERROR(F22*(1-G22),F22) -> 8.955 | I22: =J22/1.07 -> 267.81308 | J22: =H22*$L$4 -> 286.56 | K22: verfügbar | L22: Reservierung lt. Verlag nicht erforderlich
A23: 18 | B23: Es flüstert und rauscht | C23: Josef Guggenmoos | D23: Beltz & Gelberg | E23: 978-3407756442 | F23: 16 | G23: 0.1 | H23: =IFERROR(F23*(1-G23),F23) -> 14.4 | I23: =J23/1.07 -> 430.65421 | J23: =H23*$L$4 -> 460.8 | K23: verfügbar | L23: Reservierung lt. Verlag nicht erforderlich
A24: 19 | B24: Henriette rockt die Halle - Schulhündin im Einsatz | C24: Britta Nonnat, Stefanie Jeschke | D24: Beltz & Gelberg | E24: 978-3407758187 | F24: 9.95 | G24: 0.1 | H24: =IFERROR(F24*(1-G24),F24) -> 8.955 | I24: =J24/1.07 -> 267.81308 | J24: =H24*$L$4 -> 286.56 | K24: verfügbar | L24: Reservierung lt. Verlag nicht erforderlich
A25: 20 | B25: Klassenfahrt außer Kontrolle (Super lesbar) | C25: Anja Janotta | D25: Beltz & Gelberg | E25: 978-3-407-82407-3 | F25: 10 | G25: 0.1 | H25: =IFERROR(F25*(1-G25),F25) -> 9 | I25: =J25/1.07 -> 269.15888 | J25: =H25*$L$4 -> 288 | K25: verfügbar | L25: Reservierung lt. Verlag nicht erforderlich
A26: 21 | B26: Noah Unendlich | C26: Guy Bass | D26: Beltz & Gelberg | E26: 978-3407749871 | F26: 9.95 | G26: 0.1 | H26: =IFERROR(F26*(1-G26),F26) -> 8.955 | I26: =J26/1.07 -> 267.81308 | J26: =H26*$L$4 -> 286.56 | K26: reserviert
A27: 22 | B27: Ohne Wasser geht nichts! | C27: Christina Steinlein | D27: Beltz & Gelberg | E27: 978-3407755650 | F27: 16.95 | G27: 0.1 | H27: =IFERROR(F27*(1-G27),F27) -> 15.255 | I27: =J27/1.07 -> 456.2243 | J27: =H27*$L$4 -> 488.16 | K27: verfügbar | L27: Reservierung lt. Verlag nicht erforderlich
A28: 23 | B28: Peace Maker - Was tust du, wenn nur Kämpfen einen Krieg verhindert? | C28: Malorie Blackman | D28: Beltz & Gelberg | E28: 978-3407749888 | F28: 9.95 | G28: 0.1 | H28: =IFERROR(F28*(1-G28),F28) -> 8.955 | I28: =J28/1.07 -> 267.81308 | J28: =H28*$L$4 -> 286.56 | K28: verfügbar | L28: Reservierung lt. Verlag nicht erforderlich
A29: 24 | B29: Sofabanditen oder die verrückte Befreiung der Hühner | C29: Judith Kleinschmidt | D29: Beltz & Gelberg | E29: 978-3407758477 | F29: 12.95 | G29: 0.1 | H29: =IFERROR(F29*(1-G29),F29) -> 11.655 | I29: =J29/1.07 -> 348.56075 | J29: =H29*$L$4 -> 372.96 | K29: verfügbar | L29: Reservierung lt. Verlag nicht erforderlich
A30: 25 | B30: Petronella Apfelmus - 1: Verhext und festgeklebt | C30: Sabine Städing | D30: Boje | E30: 978-3414823991 | F30: 15 | G30: 0.05 | H30: =IFERROR(F30*(1-G30),F30) -> 14.25 | I30: =J30/1.07 -> 426.16822 | J30: =H30*$L$4 -> 456 | K30: angefragt
A31: 26 | B31: Petronella Apfelmus - 2: Zauberschlaf und Knallfroschchaos | C31: Sabine Städing | D31: Boje | E31: 978-3414824158 | F31: 15 | G31: 0.05 | H31: =IFERROR(F31*(1-G31),F31) -> 14.25 | I31: =J31/1.07 -> 426.16822 | J31: =H31*$L$4 -> 456 | K31: angefragt
A32: 27 | B32: Petronella Apfelmus - 3: Schneeballschlacht und Wichtelstreiche | C32: Sabine Städing | D32: Boje | E32: 978-3414824271 | F32: 15 | G32: 0.05 | H32: =IFERROR(F32*(1-G32),F32) -> 14.25 | I32: =J32/1.07 -> 426.16822 | J32: =H32*$L$4 -> 456 | K32: angefragt
A33: 28 | B33: Bitte nicht öffnen - 1: Bissig! | C33: Charlotte Habersack | D33: Carlsen | E33: 978-3551652119 | F33: 13 | G33: 0.1 | H33: =IFERROR(F33*(1-G33),F33) -> 11.7 | I33: =J33/1.07 -> 349.90654 | J33: =H33*$L$4 -> 374.4 | K33: angefragt
A34: 29 | B34: Bitte nicht öffnen - 2: Schleimig! | C34: Charlotte Habersack | D34: Carlsen | E34: 978-3551652126 | F34: 13 | G34: 0.1 | H34: =IFERROR(F34*(1-G34),F34) -> 11.7 | I34: =J34/1.07 -> 349.90654 | J34: =H34*$L$4 -> 374.4 | K34: angefragt
A35: 30 | B35: Bitte nicht öffnen - 3: Durstig! | C35: Charlotte Habersack | D35: Carlsen | E35: 978-3551652133 | F35: 13 | G35: 0.1 | H35: =IFERROR(F35*(1-G35),F35) -> 11.7 | I35: =J35/1.07 -> 349.90654 | J35: =H35*$L$4 -> 374.4 | K35: angefragt
A36: 31 | B36: Bitte nicht öffnen - 4: Feurig! | C36: Charlotte Habersack | D36: Carlsen | E36: 978-3551652140 | F36: 13 | G36: 0.1 | H36: =IFERROR(F36*(1-G36),F36) -> 11.7 | I36: =J36/1.07 -> 349.90654 | J36: =H36*$L$4 -> 374.4 | K36: angefragt
A37: 32 | B37: Bitte nicht öffnen - 5: Magic! | C37: Charlotte Habersack | D37: Carlsen | E37: 978-3551652157 | F37: 13 | G37: 0.1 | H37: =IFERROR(F37*(1-G37),F37) -> 11.7 | I37: =J37/1.07 -> 349.90654 | J37: =H37*$L$4 -> 374.4 | K37: angefragt
A38: 33 | B38: Die Schule der Magischen Tiere - 01 | C38: Margit Auer | D38: Carlsen | E38: 978-3551652713 | F38: 14 | G38: 0.1 | H38: =IFERROR(F38*(1-G38),F38) -> 12.6 | I38: =J38/1.07 -> 376.82243 | J38: =H38*$L$4 -> 403.2 | K38: angefragt
A39: 34 | B39: Die Schule der Magischen Tiere - 02: Voller Löcher! | C39: Margit Auer | D39: Carlsen | E39: 978-3551652720 | F39: 14 | G39: 0.1 | H39: =IFERROR(F39*(1-G39),F39) -> 12.6 | I39: =J39/1.07 -> 376.82243 | J39: =H39*$L$4 -> 403.2 | K39: angefragt
A40: 35 | B40: Die Schule der Magischen Tiere - 03: Licht aus! | C40: Margit Auer | D40: Carlsen | E40: 978-3551652737 | F40: 14 | G40: 0.1 | H40: =IFERROR(F40*(1-G40),F40) -> 12.6 | I40: =J40/1.07 -> 376.82243 | J40: =H40*$L$4 -> 403.2 | K40: angefragt
A41: 36 | B41: Die Schule der magischen Tiere - 04: Abgefahren! | C41: Margit Auer | D41: Carlsen | E41: 978-3551652744 | F41: 14 | G41: 0.1 | H41: =IFERROR(F41*(1-G41),F41) -> 12.6 | I41: =J41/1.07 -> 376.82243 | J41: =H41*$L$4 -> 403.2 | K41: angefragt
... A85: 80 | B85: Little Wizards | C85: Antoine Bauza, Arnü West, Albertine Ralenti | D85: Green Gorilla | E85: 978-3949214042 | F85: 32.95 | G85: 0 | H85: =IFERROR(F85*(1-G85),F85) -> 32.95 | I85: =J85/1.07 -> 985.42056 | J85: =H85*$L$4 -> 1054.4 | K85: angefragt
A86: 81 | B86: Cheerleader | C86: Nina Basovic Brown | D86: Gulliver | E86: 978-3407813626 | F86: 12 | G86: 0.1 | H86: =IFERROR(F86*(1-G86),F86) -> 10.8 | I86: =J86/1.07 -> 322.99065 | J86: =H86*$L$4 -> 345.6 | K86: verfügbar | L86: Reservierung lt. Verlag nicht erforderlich
A87: 82 | B87: Das große Buch vom Essen | C87: Ola Woldańska-Płocińska | D87: Hanser | E87: 978-3446276734 | F87: 20 | G87: 0.1 | H87: =IFERROR(F87*(1-G87),F87) -> 18 | I87: =J87/1.07 -> 538.31776 | J87: =H87*$L$4 -> 576 | K87: verfügbar | L87: Reservierung lt. Verlag nicht erforderlich
A88: 83 | B88: Akademie Fortuna - 1: Wenn Wahrsagen so einfach wäre | C88: Sarah M. Kempen | D88: Harper Collins | E88: 978-3505144035 | F88: 12 | G88: 0.15 | H88: =IFERROR(F88*(1-G88),F88) -> 10.2 | I88: =J88/1.07 -> 305.04673 | J88: =H88*$L$4 -> 326.4 | K88: verfügbar | L88: Reservierung lt. Verlag nicht erforderlich
A89: 84 | B89: Mirella Manusch - 1: Hilfe, mein Kater kann sprechen! | C89: Anne Barns, Christin-Marie Below | D89: Harper Collins | E89: 978-3505143960 | F89: 14 | G89: 0.15 | H89: =IFERROR(F89*(1-G89),F89) -> 11.9 | I89: =J89/1.07 -> 355.88785 | J89: =H89*$L$4 -> 380.8 | K89: verfügbar | L89: Reservierung lt. Verlag nicht erforderlich
A90: 85 | B90: Rette die Welt mit deiner Idee | C90: Rebecca Hui | D90: Insel | E90: 978-3458179900 | F90: 16.95 | G90: 0.1 | H90: =IFERROR(F90*(1-G90),F90) -> 15.255 | I90: =J90/1.07 -> 456.2243 | J90: =H90*$L$4 -> 488.16 | K90: reserviert
A91: 86 | B91: Vom Feld auf den Teller. Nachhaltige Landwirtschaft rund um die Welt | C91: Nancy Castaldo, Ginnie Hsu | D91: Knesebeck | E91: 978-3957288028 | F91: 20 | G91: 0.1 | H91: =IFERROR(F91*(1-G91),F91) -> 18 | I91: =J91/1.07 -> 538.31776 | J91: =H91*$L$4 -> 576 | K91: verfügbar | L91: Reservierung lt. Verlag nicht erforderlich
A92: 87 | B92: Was ist ein Fluss? | C92: Monika Vaicenavičienė | D92: Knesebeck | E92: 978-3957286130 | F92: 16 | G92: 0.1 | H92: =IFERROR(F92*(1-G92),F92) -> 14.4 | I92: =J92/1.07 -> 430.65421 | J92: =H92*$L$4 -> 460.8 | K92: verfügbar | L92: Reservierung lt. Verlag nicht erforderlich
A93: 88 | B93: Die drei ??? Kids - Drachen-Alarm | C93: Ulf Blanck, Boris Pfeiffer | D93: Kosmos | E93: 978-3440170311 | F93: 10 | G93: 0.1 | H93: =IFERROR(F93*(1-G93),F93) -> 9 | I93: =J93/1.07 -> 269.15888 | J93: =H93*$L$4 -> 288 | K93: reserviert
A94: 89 | B94: Die drei ??? Kids - Tatort Skater-Park | C94: Ulf Blanck | D94: Kosmos | E94: 978-3440176368 | F94: 12 | G94: 0.1 | H94: =IFERROR(F94*(1-G94),F94) -> 10.8 | I94: =J94/1.07 -> 322.99065 | J94: =H94*$L$4 -> 345.6 | K94: reserviert
A95: 90 | B95: Die drei ??? Kids - Team Bundesliga | C95: Boris Pfeiffer | D95: Kosmos | E95: 978-3440182635 | F95: 13 | G95: 0.1 | H95: =IFERROR(F95*(1-G95),F95) -> 11.7 | I95: =J95/1.07 -> 349.90654 | J95: =H95*$L$4 -> 374.4 | K95: reserviert
A96: 91 | B96: Mein Kosmos-Buch Natur | C96: Bärbel Oftring | D96: Kosmos | E96: 978-3440174685 | F96: 24 | G96: 0.1 | H96: =IFERROR(F96*(1-G96),F96) -> 21.6 | I96: =J96/1.07 -> 645.98131 | J96: =H96*$L$4 -> 691.2 | K96: reserviert
A97: 92 | B97: Sieben kleine Erfindungen, die die Welt verändert haben | C97: Roma Agrawal / Jisu Choi | D97: Laurence King | E97: 978-3962444211 | F97: 20 | G97: 0 | H97: =IFERROR(F97*(1-G97),F97) -> 20 | I97: =J97/1.07 -> 598.13084 | J97: =H97*$L$4 -> 640 | K97: reserviert
A98: 93 | B98: Beast Quest - 61: Elko, Tentakel des Untergangs | C98: Adam Blade | D98: Loewe | E98: 978-3743208896 | F98: 8.9 | G98: 0.05 | H98: =IFERROR(F98*(1-G98),F98) -> 8.455 | I98: =J98/1.07 -> 252.85981 | J98: =H98*$L$4 -> 270.56 | K98: reserviert
A99: 94 | B99: Beast Quest - 62: Tarrok, Sandsturm der Verwüstung | C99: Adam Blade | D99: Loewe | E99: 978-3743208902 | F99: 8.9 | G99: 0.05 | H99: =IFERROR(F99*(1-G99),F99) -> 8.455 | I99: =J99/1.07 -> 252.85981 | J99: =H99*$L$4 -> 270.56 | K99: reserviert
A100: 95 | B100: Das magische Baumhaus junior - 22: Flucht vor dem Erdbeben | C100: Mary Pope Osborne | D100: Loewe | E100: 978-3743206281 | F100: 7.95 | G100: 0.05 | H100: =IFERROR(F100*(1-G100),F100) -> 7.5525 | I100: =J100/1.07 -> 225.86916 | J100: =H100*$L$4 -> 241.68 | K100: reserviert
A101: 96 | B101: Der Bücherfresser (Bilderbuch) | C101: Cornelia Funke | D101: Loewe | E101: 978-3743202177 | F101: 12.95 | G101: 0.05 | H101: =IFERROR(F101*(1-G101),F101) -> 12.3025 | I101: =J101/1.07 -> 367.92523 | J101: =H101*$L$4 -> 393.68 | K101: reserviert
A102: 97 | B102: Die Amazonas-Detektive - 1: Verschwörung im Dschungel | C102: Antonia Michaelis | D102: Loewe | E102: 978-3743208544 | F102: 13.95 | G102: 0.05 | H102: =IFERROR(F102*(1-G102),F102) -> 13.2525 | I102: =J102/1.07 -> 396.33645 | J102: =H102*$L$4 -> 424.08 | K102: reserviert
A103: 98 | B103: Hier hat jeder einen Platz! Gemeinsam gegen Rassismus | C103: Alexandra Ndolo | D103: Loewe | E103: 978-3743213456 | F103: 14.95 | G103: 0.05 | H103: =IFERROR(F103*(1-G103),F103) -> 14.2025 | I103: =J103/1.07 -> 424.74766 | J103: =H103*$L$4 -> 454.48 | K103: reserviert
A104: 99 | B104: Jim hat keinen Bock | C104: Suzanne & Max Lang | D104: Loewe | E104: 978-3743209435 | F104: 13 | G104: 0.05 | H104: =IFERROR(F104*(1-G104),F104) -> 12.35 | I104: =J104/1.07 -> 369.34579 | J104: =H104*$L$4 -> 395.2 | K104: reserviert
... A119: 114 | B119: Mission Hollercamp - 4: Die verschwundene Schlange | C119: Lena Hach | D119: mixtvision | E119: 978-3958541931 | F119: 14 | G119: 0.1 | H119: =IFERROR(F119*(1-G119),F119) -> 12.6 | I119: =J119/1.07 -> 376.82243 | J119: =H119*$L$4 -> 403.2 | K119: reserviert
A120: 115 | B120: Die Erben der Animox - 1: Die Beute des Fuchses | C120: Aimee Carter | D120: Oetinger | E120: 978-3789121036 | F120: 16 | G120: 0 | H120: =IFERROR(F120*(1-G120),F120) -> 16 | I120: =J120/1.07 -> 478.50467 | J120: =H120*$L$4 -> 512 | K120: verfügbar | L120: Reservierung in Klärung
A121: 116 | B121: Die Olchis - Oh wie schön ist Schmuddelfing! | C121: Erhard Dietl | D121: Oetinger | E121: 978-3789114632 | F121: 14 | G121: 0 | H121: =IFERROR(F121*(1-G121),F121) -> 14 | I121: =J121/1.07 -> 418.69159 | J121: =H121*$L$4 -> 448 | K121: verfügbar | L121: Reservierung in Klärung
A122: 117 | B122: Die Olchis - Willkommen in Schmuddelfing (zum Film) | C122: Erhard Dietl | D122: Oetinger | E122: 978-3789114618 | F122: 14 | G122: 0 | H122: =IFERROR(F122*(1-G122),F122) -> 14 | I122: =J122/1.07 -> 418.69159 | J122: =H122*$L$4 -> 448 | K122: verfügbar | L122: Reservierung in Klärung
A123: 118 | B123: Die Olchis feiern Weihnachten (Lesestarter) | C123: Erhard Dietl | D123: Oetinger | E123: 978-3789113994 | F123: 10 | G123: 0 | H123: =IFERROR(F123*(1-G123),F123) -> 10 | I123: =J123/1.07 -> 299.06542 | J123: =H123*$L$4 -> 320 | K123: verfügbar | L123: Reservierung in Klärung
A124: 119 | B124: Die Olchis finden einen Schatz und andere krötige Abenteuer | C124: Erhard Dietl | D124: Oetinger | E124: 978-3751203555 | F124: 14 | G124: 0 | H124: =IFERROR(F124*(1-G124),F124) -> 14 | I124: =J124/1.07 -> 418.69159 | J124: =H124*$L$4 -> 448 | K124: verfügbar | L124: Reservierung in Klärung
A125: 120 | B125: Die Olchis retten das Dino-Baby | C125: Erhard Dietl | D125: Oetinger | E125: 978-3751200417 | F125: 10 | G125: 0 | H125: =IFERROR(F125*(1-G125),F125) -> 10 | I125: =J125/1.07 -> 299.06542 | J125: =H125*$L$4 -> 320 | K125: verfügbar | L125: Reservierung in Klärung
A126: 121 | B126: Die Olchis und die Gully-Detektive von Loch Ness | C126: Erhard Dietl | D126: Oetinger | E126: 978-3789113390 | F126: 14 | G126: 0 | H126: =IFERROR(F126*(1-G126),F126) -> 14 | I126: =J126/1.07 -> 418.69159 | J126: =H126*$L$4 -> 448 | K126: verfügbar | L126: Reservierung in Klärung
A127: 122 | B127: Die Superpfoten: Ein Hund mit Pups-Power | C127: Mark Tatulli | D127: Oetinger | E127: 978-3751205306 | F127: 15 | G127: 0 | H127: =IFERROR(F127*(1-G127),F127) -> 15 | I127: =J127/1.07 -> 448.59813 | J127: =H127*$L$4 -> 480 | K127: verfügbar | L127: Reservierung in Klärung
A128: 123 | B128: Kurt, Einhorn wider Willen - 1: Wer möchte schon ein Einhorn sein? | C128: Chantal Schreiber | D128: Oetinger | E128: 978-3751206815 | F128: 15 | G128: 0 | H128: =IFERROR(F128*(1-G128),F128) -> 15 | I128: =J128/1.07 -> 448.59813 | J128: =H128*$L$4 -> 480 | K128: verfügbar | L128: Reservierung in Klärung
A129: 124 | B129: Kurt, Einhorn wider Willen - 2: EinHorn kommt selten allein | C129: Chantal Schreiber | D129: Oetinger | E129: 978-3751206839 | F129: 15 | G129: 0 | H129: =IFERROR(F129*(1-G129),F129) -> 15 | I129: =J129/1.07 -> 448.59813 | J129: =H129*$L$4 -> 480 | K129: verfügbar | L129: Reservierung in Klärung
A130: 125 | B130: Thabo und Emma - Einbrecher in Lion-Lodge | C130: Kirsten Boie | D130: Oetinger | E130: 978-3789110696 | F130: 10 | G130: 0 | H130: =IFERROR(F130*(1-G130),F130) -> 10 | I130: =J130/1.07 -> 299.06542 | J130: =H130*$L$4 -> 320 | K130: verfügbar | L130: Reservierung in Klärung
A131: 126 | B131: Unterm Bett liegt ein Skelett | C131: Arne Rautenberg | D131: Peter Hammer Verlag | E131: 978-3779505518 | F131: 14 | G131: 0.1 | H131: =IFERROR(F131*(1-G131),F131) -> 12.6 | I131: =J131/1.07 -> 376.82243 | J131: =H131*$L$4 -> 403.2 | K131: reserviert
A132: 127 | B132: Das Fußballspiel der 1000 Gefahren | C132: Fabian Lenk | D132: Ravensburger | E132: 978-3473523610 | F132: 5.99 | G132: 0 | H132: =IFERROR(F132*(1-G132),F132) -> 5.99 | I132: =J132/1.07 -> 179.14019 | J132: =H132*$L$4 -> 191.68 | K132: reserviert
A133: 128 | B133: Leserabe: Lustige Tiergeschichten zum Lesenlernen | C133: Manfred Mai / Frauke Nahrgang | D133: Ravensburger | E133: 978-3473463589 | F133: 8.99 | G133: 0 | H133: =IFERROR(F133*(1-G133),F133) -> 8.99 | I133: =J133/1.07 -> 268.85981 | J133: =H133*$L$4 -> 287.68 | K133: reserviert
A134: 129 | B134: Was ist was. Schleim. Eklig? Nein, genial! | C134: Manfred Baur | D134: Tessloff | E134: 978-3788681906 | F134: 14.95 | G134: 0.05 | H134: =IFERROR(F134*(1-G134),F134) -> 14.2025 | I134: =J134/1.07 -> 424.74766 | J134: =H134*$L$4 -> 454.48 | K134: reserviert
A135: 130 | B135: Elmar | C135: David McKee | D135: Thienemann | E135: 978-3522432023 | F135: 14 | G135: 0.05 | H135: =IFERROR(F135*(1-G135),F135) -> 13.3 | I135: =J135/1.07 -> 397.75701 | J135: =H135*$L$4 -> 425.6 | K135: reserviert
A136: 131 | B136: Das kleine böse Buch - 1 | C136: Magnus Myst | D136: Ueberreuter | E136: 978-3764151249 | F136: 14 | G136: 0 | H136: =IFERROR(F136*(1-G136),F136) -> 14 | I136: =J136/1.07 -> 418.69159 | J136: =H136*$L$4 -> 448 | K136: reserviert
A137: 132 | B137: Das kleine Böse Buch - 2: Jetzt noch gefährlicher! | C137: Magnus Myst | D137: Ueberreuter | E137: 978-3764151461 | F137: 14 | G137: 0 | H137: =IFERROR(F137*(1-G137),F137) -> 14 | I137: =J137/1.07 -> 418.69159 | J137: =H137*$L$4 -> 448 | K137: reserviert
A138: 133 | B138: Das kleine Böse Buch - 3: Deine Zeit ist gekommen! | C138: Magnus Myst | D138: Ueberreuter | E138: 978-3764151720 | F138: 15 | G138: 0 | H138: =IFERROR(F138*(1-G138),F138) -> 15 | I138: =J138/1.07 -> 448.59813 | J138: =H138*$L$4 -> 480 | K138: reserviert
A139: 134 | B139: Das kleine Böse Buch - 4: Teuflisch gut! | C139: Magnus Myst | D139: Ueberreuter | E139: 978-3764152031 | F139: 15 | G139: 0 | H139: =IFERROR(F139*(1-G139),F139) -> 15 | I139: =J139/1.07 -> 448.59813 | J139: =H139*$L$4 -> 480 | K139: reserviert
A140: 135 | B140: Detektivbüro LasseMaja - 30: Das Filmgeheimnis | C140: Martin Widmark | D140: Ueberreuter | E140: 978-3764152000 | F140: 8.95 | G140: 0 | H140: =IFERROR(F140*(1-G140),F140) -> 8.95 | I140: =J140/1.07 -> 267.66355 | J140: =H140*$L$4 -> 286.4 | K140: reserviert
A141: 136 | B141: Detektivbüro LasseMaja - 31: Weihnachten in Valleby | C141: Martin Widmark | D141: Ueberreuter | E141: 978-3764151997 | F141: 10 | G141: 0 | H141: =IFERROR(F141*(1-G141),F141) -> 10 | I141: =J141/1.07 -> 299.06542 | J141: =H141*$L$4 -> 320 | K141: reserviert
A142: 137 | B142: Detektivbüro LasseMaja - 32: Das Sportlergeheimnis | C142: Martin Widmark | D142: Ueberreuter | E142: 978-3764152062 | F142: 8.95 | G142: 0 | H142: =IFERROR(F142*(1-G142),F142) -> 8.95 | I142: =J142/1.07 -> 267.66355 | J142: =H142*$L$4 -> 286.4 | K142: reserviert
... A152: 147 | B152: Welt der Extreme: Die Tiefsee | C152: Laura Cowan | D152: Usborne | E152: 978-1035700684 | F152: 14 | G152: 0 | H152: =IFERROR(F152*(1-G152),F152) -> 14 | I152: =J152/1.07 -> 418.69159 | J152: =H152*$L$4 -> 448 | K152: verfügbar
E154: Gesamt | F154: =SUM(F6:F152) -> 2002.67 | H154: =SUM(H6:H152) -> 1892.6455 | I154: =ROUND(SUM(I6:I152),2) -> 56602.48 | J154: =ROUND(SUM(J6:J152),2) -> 60564.66

Sheet Teillos 2 - Bücher
A1: Anlage zur Vergabe-Nr. 339 - Teillos 2 | L1: =Losübersicht!$E$1 -> 46286
H2: Gesamtangebot in Euro | I2: =SUMIFS(I:I,$E:$E,"Gesamt") -> 49749.74 | J2: =SUMIFS(J:J,$E:$E,"Gesamt") -> 53232.22
A4: Paket "02: Lesestufe 2" | K4: Liefermenge | L4: 65
A5: # | B5: Titel | C5: Autor/in/nen | D5: Verlag | E5: ISBN-13 | F5: Ladenpreis in Euro (je Exemplar, brutto) | G5: MPN | H5: Mengenpreis in Euro (je Exemplar, brutto) | I5: Preis in Euro für Liefermenge (netto) | J5: Preis in Euro für Liefermenge (brutto) | K5: Status Verfügbarkeit | L5: Anmerkung
A6: 1 | B6: Rechnen nervt | C6: Jens Schumacher | D6: arsEdition | E6: 978-3845869049 | F6: 10 | G6: 0.125 | H6: =IFERROR(F6*(1-G6),F6) -> 8.75 | I6: =J6/1.07 -> 531.54206 | J6: =H6*$L$4 -> 568.75 | K6: reserviert
A7: 2 | B7: Die Schule der magischen Tiere ermittelt. Die Erdbeer-Spur | C7: Margit Auer | D7: Carlsen | E7: 978-3551657381 | F7: 10 | G7: 0.15 | H7: =IFERROR(F7*(1-G7),F7) -> 8.5 | I7: =J7/1.07 -> 516.35514 | J7: =H7*$L$4 -> 552.5 | K7: angefragt
A8: 3 | B8: Einfach Lesen lernen 2. Klasse: Bitte nicht öffnen, sonst … tierisch vampirisch | C8: Charlotte Habersack | D8: Carlsen | E8: 978-3551690968 | F8: 9 | G8: 0.15 | H8: =IFERROR(F8*(1-G8),F8) -> 7.65 | I8: =J8/1.07 -> 464.71963 | J8: =H8*$L$4 -> 497.25 | K8: angefragt
A9: 4 | B9: Grimm und Möhrchen machen das Seepferdchen | C9: Stephanie Schneider | D9: dtv | E9: 978-3423766197 | F9: 10 | G9: 0.1 | H9: =IFERROR(F9*(1-G9),F9) -> 9 | I9: =J9/1.07 -> 546.72897 | J9: =H9*$L$4 -> 585 | K9: verfügbar
A10: 5 | B10: Alle unter einem Dach | C10: Manfred Mai, Martin Lenz | D10: Fischer Sauerländer | E10: 978-3737375931 | F10: 9.5 | G10: 0.1 | H10: =IFERROR(F10*(1-G10),F10) -> 8.55 | I10: =J10/1.07 -> 519.39252 | J10: =H10*$L$4 -> 555.75 | K10: reserviert
A11: 6 | B11: Bücherhelden 2. Klasse. Roboter-Alarm | C11: Carola von Kessel / Michael Böhm | D11: Kosmos | E11: 978-3440181768 | F11: 10 | G11: 0.15 | H11: =IFERROR(F11*(1-G11),F11) -> 8.5 | I11: =J11/1.07 -> 516.35514 | J11: =H11*$L$4 -> 552.5 | K11: reserviert
A12: 7 | B12: Leselöwen 2. Klasse. Willkommen im Grusel-Hotel | C12: Sonja Kaiblinger / Alica Räth | D12: Loewe | E12: 978-3743218789 | F12: 9.95 | G12: 0.07 | H12: =IFERROR(F12*(1-G12),F12) -> 9.2535 | I12: =J12/1.07 -> 562.1285 | J12: =H12*$L$4 -> 601.4775 | K12: reserviert
A13: 8 | B13: Leselöwen 2. Klasse. Zwei Freunde und der Hüter des Waldes | C13: Marlene Jablonski / Max Meinzold | D13: Loewe | E13: 978-3743218987 | F13: 9.95 | G13: 0.07 | H13: =IFERROR(F13*(1-G13),F13) -> 9.2535 | I13: =J13/1.07 -> 562.1285 | J13: =H13*$L$4 -> 601.4775 | K13: reserviert
A14: 9 | B14: Leselöwen Comics (2. Klasse) Oh Schreck, die Mumie ist weg | C14: Heiko Wolz / Anna-Lena Kühler (Ill.) | D14: Loewe | E14: 978-3743218161 | F14: 9.95 | G14: 0.07 | H14: =IFERROR(F14*(1-G14),F14) -> 9.2535 | I14: =J14/1.07 -> 562.1285 | J14: =H14*$L$4 -> 601.4775 | K14: reserviert
A15: 10 | B15: Der Wald lebt. Gemeinsam gegen das Böse | C15: Barbara van dern Speulhof | D15: Loewe WOW | E15: 978-3743217942 | F15: 16 | G15: 0.07 | H15: =IFERROR(F15*(1-G15),F15) -> 14.88 | I15: =J15/1.07 -> 903.92523 | J15: =H15*$L$4 -> 967.2 | K15: reserviert
A16: 11 | B16: Flip der Einhornfisch. Vier Freunde sitzen in der Tinte | C16: Julia Boehme / Dominik Rupp | D16: Loewe WOW | E16: 978-3743217614 | F16: 15 | G16: 0.07 | H16: =IFERROR(F16*(1-G16),F16) -> 13.95 | I16: =J16/1.07 -> 847.42991 | J16: =H16*$L$4 -> 906.75 | K16: reserviert
A17: 12 | B17: Lesestarter 2. Lesestufe: Das Sams wünscht sich einen Drachen | C17: Paul Maar | D17: Oetinger | E17: 978-3751207744 | F17: 10 | G17: 0.05 | H17: =IFERROR(F17*(1-G17),F17) -> 9.5 | I17: =J17/1.07 -> 577.1028 | J17: =H17*$L$4 -> 617.5 | K17: verfügbar | L17: Reservierung in Klärung
A18: 13 | B18: Draculotta | C18: Danielle Chaperon / Baptiste Amsallem | D18: Oetinger Splash | E18: 978-3751207904 | F18: 12 | G18: 0.05 | H18: =IFERROR(F18*(1-G18),F18) -> 11.4 | I18: =J18/1.07 -> 692.52336 | J18: =H18*$L$4 -> 741 | K18: verfügbar | L18: Reservierung in Klärung
A19: 14 | B19: Auf heißer Spur. Die Detektive von Paris | C19: Barbara Laban / Marc-Alexander Schulze (Ill.) | D19: Ravensburger | E19: 978-3473463923 | F19: 8.99 | G19: 0.1 | H19: =IFERROR(F19*(1-G19),F19) -> 8.091 | I19: =J19/1.07 -> 491.50935 | J19: =H19*$L$4 -> 525.915 | K19: reserviert
A20: 15 | B20: Das Fundbüro der verlorenen Schätze | C20: Mascha Matysiak / Nikolai Renger (Ill.) | D20: Ravensburger | E20: 978-3473464289 | F20: 9.99 | G20: 0.1 | H20: =IFERROR(F20*(1-G20),F20) -> 8.991 | I20: =J20/1.07 -> 546.18224 | J20: =H20*$L$4 -> 584.415 | K20: reserviert
A21: 16 | B21: Leserabe 2. Lesestufe: Ein Fall für die Skater-Bande | C21: Christian Friedrich / Eike Marcus | D21: Ravensburger | E21: 978-3473464487 | F21: 8.99 | G21: 0.1 | H21: =IFERROR(F21*(1-G21),F21) -> 8.091 | I21: =J21/1.07 -> 491.50935 | J21: =H21*$L$4 -> 525.915 | K21: reserviert
A22: 17 | B22: Leserabe: Kia und der Manga-Drache | C22: Amelie Benn / Alexandra Langenbeck (Ill.) | D22: Ravensburger | E22: 978-3473464340 | F22: 8.99 | G22: 0.1 | H22: =IFERROR(F22*(1-G22),F22) -> 8.091 | I22: =J22/1.07 -> 491.50935 | J22: =H22*$L$4 -> 525.915 | K22: reserviert
A23: 18 | B23: Starke Heldinnen Erstleseabenteuer | C23: Annette Neubauer | D23: Ravensburger | E23: 978-3473498208 | F23: 12.99 | G23: 0.15 | H23: =IFERROR(F23*(1-G23),F23) -> 11.0415 | I23: =J23/1.07 -> 670.74533 | J23: =H23*$L$4 -> 717.6975 | K23: reserviert
A24: 19 | B24: Was ist was. Erstes Lesen. Planeten | C24: Christina Braun | D24: Tessloff | E24: 978-3788677435 | F24: 9.95 | G24: 0.15 | H24: =IFERROR(F24*(1-G24),F24) -> 8.4575 | I24: =J24/1.07 -> 513.77336 | J24: =H24*$L$4 -> 549.7375 | K24: reserviert
A25: 20 | B25: Was ist Was.Erstes Lesen Easy- Tiere im Meer | C25: Sonja Meierjürgen | D25: Tessloff | E25: 978-3788677480 | F25: 8.95 | G25: 0.15 | H25: =IFERROR(F25*(1-G25),F25) -> 7.6075 | I25: =J25/1.07 -> 462.13785 | J25: =H25*$L$4 -> 494.4875 | K25: reserviert | L25: Nachdruck ab Ende Oktober
E27: Gesamt | F27: =SUM(F6:F25) -> 210.2 | H27: =SUM(H6:H25) -> 188.811 | I27: =ROUND(SUM(I6:I25),2) -> 11469.83 | J27: =ROUND(SUM(J6:J25),2) -> 12272.72
A29: Paket "08: Verzaubern" | K29: Liefermenge | L29: 38
A30: # | B30: Titel | C30: Autor/in/nen | D30: Verlag | E30: ISBN-13 | F30: Ladenpreis in Euro (je Exemplar, brutto) | G30: MPN | H30: Mengenpreis in Euro (je Exemplar, brutto) | I30: Preis in Euro für Liefermenge (netto) | J30: Preis in Euro für Liefermenge (brutto) | K30: Status Verfügbarkeit | L30: Anmerkung
A31: 1 | B31: Die Flügelpferde von Sternhall | C31: Ina Brandt | D31: Arena | E31: 978-3401608020 | F31: 12 | G31: 0 | H31: =IFERROR(F31*(1-G31),F31) -> 12 | I31: =J31/1.07 -> 426.16822 | J31: =H31*$L$29 -> 456 | K31: reserviert
A32: 2 | B32: Windwalkers. Verborgene Flügel | C32: Katja Brandis | D32: Arena | E32: 978-3401607955 | F32: 16 | G32: 0 | H32: =IFERROR(F32*(1-G32),F32) -> 16 | I32: =J32/1.07 -> 568.2243 | J32: =H32*$L$29 -> 608 | K32: reserviert
A33: 3 | B33: Tilly Evermore und der Ruf der ewigen Steine | C33: Francesca Peluso | D33: Baumhaus | E33: 978-3833910975 | F33: 14 | G33: 0.05 | H33: =IFERROR(F33*(1-G33),F33) -> 13.3 | I33: =J33/1.07 -> 472.33645 | J33: =H33*$L$29 -> 505.4 | K33: angefragt
A34: 4 | B34: Potter Guides: Harry Potter | C34: Natalie Smillie (Ill.) | D34: Carlsen | E34: 978-3551559661 | F34: 12 | G34: 0.1 | H34: =IFERROR(F34*(1-G34),F34) -> 10.8 | I34: =J34/1.07 -> 383.5514 | J34: =H34*$L$29 -> 410.4 | K34: angefragt
A35: 5 | B35: Potter Guides: Hermine Granger | C35: Laura Proietti (Ill.) | D35: Carlsen | E35: 978-3551559678 | F35: 12 | G35: 0.1 | H35: =IFERROR(F35*(1-G35),F35) -> 10.8 | I35: =J35/1.07 -> 383.5514 | J35: =H35*$L$29 -> 410.4 | K35: angefragt
A36: 6 | B36: Potter Guides: Ron Weasley | C36: Olia Muza (Ill.) | D36: Carlsen | E36: 978-3551559685 | F36: 12 | G36: 0.1 | H36: =IFERROR(F36*(1-G36),F36) -> 10.8 | I36: =J36/1.07 -> 383.5514 | J36: =H36*$L$29 -> 410.4 | K36: angefragt
A37: 7 | B37: Maggie Blue: Das Portal zur Düsterwelt | C37: Anna Goodall | D37: Hanser | E37: 978-3446282568 | F37: 17 | G37: 0.075 | H37: =IFERROR(F37*(1-G37),F37) -> 15.725 | I37: =J37/1.07 -> 558.45794 | J37: =H37*$L$29 -> 597.55 | K37: verfügbar | L37: Reservierung lt. Verlag nicht erforderlich
A38: 8 | B38: Zauberstäbe und ihre Geheimnisse | C38: Stephan Köstler / Alessandra Fusi (Ill.) | D38: Loewe | E38: 978-3743222083 | F38: 22 | G38: 0.05 | H38: =IFERROR(F38*(1-G38),F38) -> 20.9 | I38: =J38/1.07 -> 742.24299 | J38: =H38*$L$29 -> 794.2 | K38: reserviert
A39: 9 | B39: Kuschelflosse. Abenteuer tief im Meer. Das geheimnisvolle Zauberriff | C39: Nina Müller | D39: Magellan | E39: 978-3734841828 | F39: 12 | G39: 0 | H39: =IFERROR(F39*(1-G39),F39) -> 12 | I39: =J39/1.07 -> 426.16822 | J39: =H39*$L$29 -> 456 | K39: reserviert
A40: 10 | B40: Animox - Die Stadt der Haie | C40: Aimèe Carter | D40: Oetinger | E40: 978-3751206501 | F40: 12 | G40: 0 | H40: =IFERROR(F40*(1-G40),F40) -> 12 | I40: =J40/1.07 -> 426.16822 | J40: =H40*$L$29 -> 456 | K40: verfügbar | L40: Reservierung in Klärung
A41: 11 | B41: Animox Origins. Der verlorene Schatz der Delfine | C41: Aimée Carter | D41: Oetinger | E41: 978-3751205672 | F41: 16 | G41: 0 | H41: =IFERROR(F41*(1-G41),F41) -> 16 | I41: =J41/1.07 -> 568.2243 | J41: =H41*$L$29 -> 608 | K41: verfügbar | L41: Reservierung in Klärung
A42: 12 | B42: Die Ampelchen. Aus den Ampeln, fertig, los! | C42: Anna Böhm | D42: Oetinger | E42: 978-3751204484 | F42: 13 | G42: 0 | H42: =IFERROR(F42*(1-G42),F42) -> 13 | I42: =J42/1.07 -> 461.68224 | J42: =H42*$L$29 -> 494 | K42: verfügbar | L42: Reservierung in Klärung
A43: 13 | B43: Muffin und Tört bei den Piraten | C43: Adam Stower | D43: Planet! | E43: 978-3522509671 | F43: 14 | G43: 0.05 | H43: =IFERROR(F43*(1-G43),F43) -> 13.3 | I43: =J43/1.07 -> 472.33645 | J43: =H43*$L$29 -> 505.4 | K43: angefragt
A44: 14 | B44: Muffin und Tört bei den Rittern | C44: Adam Stower | D44: Planet! | E44: 978-3522509589 | F44: 14 | G44: 0.05 | H44: =IFERROR(F44*(1-G44),F44) -> 13.3 | I44: =J44/1.07 -> 472.33645 | J44: =H44*$L$29 -> 505.4 | K44: angefragt
A45: 15 | B45: Dein magisches Buch: Öffne das geheime Siegel | C45: Nica Stevens | D45: Ueberreuter | E45: 978-3764152840 | F45: 15 | G45: 0 | H45: =IFERROR(F45*(1-G45),F45) -> 15 | I45: =J45/1.07 -> 532.71028 | J45: =H45*$L$29 -> 570 | K45: reserviert
E47: Gesamt | F47: =SUM(F31:F45) -> 213 | H47: =SUM(H31:H45) -> 204.925 | I47: =ROUND(SUM(I31:I45),2) -> 7277.71 | J47: =ROUND(SUM(J31:J45),2) -> 7787.15
A49: Paket "12: Begegnen" | K49: Liefermenge | L49: 129
A50: # | B50: Titel | C50: Autor/in/nen | D50: Verlag | E50: ISBN-13 | F50: Ladenpreis in Euro (je Exemplar, brutto) | G50: MPN | H50: Mengenpreis in Euro (je Exemplar, brutto) | I50: Preis in Euro für Liefermenge (netto) | J50: Preis in Euro für Liefermenge (brutto) | K50: Status Verfügbarkeit | L50: Anmerkung
A51: 1 | B51: Die Duftapotheke (Einfache Sprache) | C51: Anna Ruhe | D51: Arena | E51: 978-3401512716 | F51: 11 | G51: 0.15 | H51: =IFERROR(F51*(1-G51),F51) -> 9.35 | I51: =J51/1.07 -> 1127.243 | J51: =H51*$L$49 -> 1206.15 | K51: reserviert
A52: 2 | B52: Woodwalkers. Carags Verwandlung (Einfache Sprache) | C52: Katja Brandis | D52: Arena | E52: 978-3401512747 | F52: 11 | G52: 0.15 | H52: =IFERROR(F52*(1-G52),F52) -> 9.35 | I52: =J52/1.07 -> 1127.243 | J52: =H52*$L$49 -> 1206.15 | K52: reserviert
A53: 3 | B53: Woodwalkers. Gefährliche Freundschaft (Einfache Sprache) | C53: Katja Brandis | D53: Arena | E53: 978-3401512754 | F53: 11 | G53: 0.15 | H53: =IFERROR(F53*(1-G53),F53) -> 9.35 | I53: =J53/1.07 -> 1127.243 | J53: =H53*$L$49 -> 1206.15 | K53: reserviert
A54: 4 | B54: Woodwalkers. Hollys Geheimnis (Einfache Sprache) | C54: Katja Brandis | D54: Arena | E54: 978-3401513034 | F54: 11 | G54: 0.15 | H54: =IFERROR(F54*(1-G54),F54) -> 9.35 | I54: =J54/1.07 -> 1127.243 | J54: =H54*$L$49 -> 1206.15 | K54: reserviert
A55: 5 | B55: Woodwalkers. Fremde Wildnis (Einfache Sprache) | C55: Katja Brandis | D55: Arena | E55: 978-3401513065 | F55: 11 | G55: 0.15 | H55: =IFERROR(F55*(1-G55),F55) -> 9.35 | I55: =J55/1.07 -> 1127.243 | J55: =H55*$L$49 -> 1206.15 | K55: reserviert
A56: 6 | B56: Das kleine WIR (dt.-arab.) | C56: Daniela Kunkel | D56: bi:libri | E56: 978-3695005406 | F56: 21.9 | G56: 0 | H56: =IFERROR(F56*(1-G56),F56) -> 21.9 | I56: =J56/1.07 -> 2640.2804 | J56: =H56*$L$49 -> 2825.1 | K56: reserviert
A57: 7 | B57: Das kleine WIR (dt.-pers..) | C57: Daniela Kunkel | D57: bi:libri | E57: 978-3695005444* | F57: 21.9 | G57: 0 | H57: =IFERROR(F57*(1-G57),F57) -> 21.9 | I57: =J57/1.07 -> 2640.2804 | J57: =H57*$L$49 -> 2825.1 | K57: reserviert | L57: Mischung von Auflagen (tw. andere ISBN)
A58: 8 | B58: Das kleine WIR (dt.-span.) | C58: Daniela Kunkel | D58: bi:libri | E58: 978-3695005451* | F58: 21.9 | G58: 0 | H58: =IFERROR(F58*(1-G58),F58) -> 21.9 | I58: =J58/1.07 -> 2640.2804 | J58: =H58*$L$49 -> 2825.1 | K58: reserviert | L58: Mischung von Auflagen (tw. andere ISBN)
A59: 9 | B59: Das kleine WIR (dt.-türkisch.) | C59: Daniela Kunkel | D59: bi:libri | E59: 978-3695005468 | F59: 21.9 | G59: 0 | H59: =IFERROR(F59*(1-G59),F59) -> 21.9 | I59: =J59/1.07 -> 2640.2804 | J59: =H59*$L$49 -> 2825.1 | K59: in Nachdruck | L59: erwartet Januar 2027
A60: 10 | B60: Der Wortschatz (dt-engl.) | C60: Rebecca Gugger | D60: bi:libri | E60: 978-3695005802 | F60: 21.9 | G60: 0 | H60: =IFERROR(F60*(1-G60),F60) -> 21.9 | I60: =J60/1.07 -> 2640.2804 | J60: =H60*$L$49 -> 2825.1 | K60: reserviert
A61: 11 | B61: Der Wortschatz (dt-kurd.) | C61: Rebecca Gugger | D61: bi:libri | E61: 978-3695005833 | F61: 21.9 | G61: 0 | H61: =IFERROR(F61*(1-G61),F61) -> 21.9 | I61: =J61/1.07 -> 2640.2804 | J61: =H61*$L$49 -> 2825.1 | K61: in Nachdruck | L61: erwartet Januar 2027
A62: 12 | B62: Der Wortschatz (dt-türk.) | C62: Rebecca Gugger | D62: bi:libri | E62: 978-3695005864 | F62: 21.9 | G62: 0 | H62: =IFERROR(F62*(1-G62),F62) -> 21.9 | I62: =J62/1.07 -> 2640.2804 | J62: =H62*$L$49 -> 2825.1 | K62: reserviert
A63: 13 | B63: Der Wortschatz (dt-ukr.) | C63: Rebecca Gugger | D63: bi:libri | E63: 978-3695005871 | F63: 21.9 | G63: 0 | H63: =IFERROR(F63*(1-G63),F63) -> 21.9 | I63: =J63/1.07 -> 2640.2804 | J63: =H63*$L$49 -> 2825.1 | K63: reserviert
A64: 14 | B64: A wie Biene. Ein ABC mit tierisch guten Übersetzungen | C64: Ellen Heck | D64: Carlsen | E64: 978-3551522641 | F64: 15 | G64: 0.2 | H64: =IFERROR(F64*(1-G64),F64) -> 12 | I64: =J64/1.07 -> 1446.729 | J64: =H64*$L$49 -> 1548 | K64: angefragt
A65: 15 | B65: Bunt ist die Welt: Eine Reise durch 194 Länder | C65: Jenny Boidol | D65: Carlsen | E65: 978-3551584458 | F65: 29 | G65: 0.2 | H65: =IFERROR(F65*(1-G65),F65) -> 23.2 | I65: =J65/1.07 -> 2797.0093 | J65: =H65*$L$49 -> 2992.8 | K65: angefragt
E67: Gesamt | F67: =SUM(F51:F65) -> 274.2 | H67: =SUM(H51:H65) -> 257.15 | I67: =ROUND(SUM(I51:I65),2) -> 31002.2 | J67: =ROUND(SUM(J51:J65),2) -> 33172.35

Sheet Teillos 3 - Bücher
A1: Anlage zur Vergabe-Nr. 339 - Teillos 5 | L1: =Losübersicht!$E$1 -> 46286
H2: Gesamtangebot in Euro | I2: =SUMIFS(I:I,$E:$E,"Gesamt") -> 47572.02 | J2: =SUMIFS(J:J,$E:$E,"Gesamt") -> 50902.06
A4: Paket "04: Atemholen" | K4: Liefermenge | L4: 115
A5: # | B5: Titel | C5: Autor/in/nen | D5: Verlag | E5: ISBN-13 | F5: Ladenpreis in Euro (je Exemplar, brutto) | G5: MPN | H5: Mengenpreis in Euro (je Exemplar, brutto) | I5: Preis in Euro für Liefermenge (netto) | J5: Preis in Euro für Liefermenge (brutto) | K5: Status Verfügbarkeit | L5: Anmerkung
A6: 1 | B6: Ein Ritter namens Rost - Vorlesegeschichten | C6: Jörg Hilbert / Felix Janosa | D6: Annette Betz | E6: 978-3219120974 | F6: 16 | G6: 0 | H6: =IFERROR(F6*(1-G6),F6) -> 16 | I6: =J6/1.07 -> 1719.6262 | J6: =H6*$L$4 -> 1840 | K6: reserviert
A7: 2 | B7: Oasen der Ruhe und des Glücks | D7: Arena | E7: 978-3401722672 | F7: 10 | G7: 0.15 | H7: =IFERROR(F7*(1-G7),F7) -> 8.5 | I7: =J7/1.07 -> 913.5514 | J7: =H7*$L$4 -> 977.5 | K7: reserviert
A8: 3 | B8: Mythen der Meere. Sagen und Legenden aus der Wasserwelt | C8: Corinna Keefe/ Khoa Le (Ill.) | D8: arsEdition | E8: 978-3845867595 | F8: 18 | G8: 0.15 | H8: =IFERROR(F8*(1-G8),F8) -> 15.3 | I8: =J8/1.07 -> 1644.3925 | J8: =H8*$L$4 -> 1759.5 | K8: reserviert
A9: 4 | B9: Von Glitzerzebras und singenden Eichhörnchen | C9: Melanie von Bismarck / Axel Scheffler | D9: Beltz | E9: 978-3407752895 | F9: 16 | G9: 0.175 | H9: =IFERROR(F9*(1-G9),F9) -> 13.2 | I9: =J9/1.07 -> 1418.6916 | J9: =H9*$L$4 -> 1518 | K9: reserviert
A10: 5 | B10: In Barbaras Rhabarberbar wird niemals der Rhabarber rar | C10: Bodo Wartke | D10: Carlsen | E10: 978-3551559623 | F10: 15 | G10: 0.2 | H10: =IFERROR(F10*(1-G10),F10) -> 12 | I10: =J10/1.07 -> 1289.7196 | J10: =H10*$L$4 -> 1380 | K10: angefragt
A11: 6 | B11: Klugscheisserchen und Vehlerteufelchen | C11: Marc-Uwe-Kling / Astrid Henn | D11: Carlsen | E11: 978-3551523174 | F11: 12 | G11: 0.2 | H11: =IFERROR(F11*(1-G11),F11) -> 9.6 | I11: =J11/1.07 -> 1031.7757 | J11: =H11*$L$4 -> 1104 | K11: angefragt
A12: 7 | B12: King Karnickel.Die Suche nach dem Druftenschaf | C12: Markus Orths / Sarah Garbers | D12: Loewe | E12: 978-3743224568 | F12: 15 | G12: 0.1 | H12: =IFERROR(F12*(1-G12),F12) -> 13.5 | I12: =J12/1.07 -> 1450.9346 | J12: =H12*$L$4 -> 1552.5 | K12: reserviert
A13: 8 | B13: Kunst? Kann ich! 20 Bastelideen - inspiriert durch große Kunstwerke | C13: Joséphine Seblon (inspiriert von Robert Sae-Heng) | D13: Midas | E13: 978-3038762713 | F13: 18 | G13: 0 | H13: =IFERROR(F13*(1-G13),F13) -> 18 | I13: =J13/1.07 -> 1934.5794 | J13: =H13*$L$4 -> 2070 | K13: reserviert
A14: 9 | B14: Fabelwesen | C14: Cornelia Funke / Ruby Warnecke (Ill.) | D14: Nord Süd | E14: 978-3314107313 | F14: 19 | G14: 0 | H14: =IFERROR(F14*(1-G14),F14) -> 19 | I14: =J14/1.07 -> 2042.0561 | J14: =H14*$L$4 -> 2185 | K14: angefragt
A15: 10 | B15: Ozean-Geschichten rund um die Welt | C15: Angela McAlister / sally Agar | D15: Ravensburger | E15: 978-3473464234 | F15: 18.99 | G15: 0.2 | H15: =IFERROR(F15*(1-G15),F15) -> 15.192 | I15: =J15/1.07 -> 1632.785 | J15: =H15*$L$4 -> 1747.08 | K15: reserviert
A16: 11 | B16: Mandalas zum Selberzeichnen und Ausmalen | C16: Abigail Wheatley / Dinara Mirtalipova | D16: Usborne | E16: 978-1035705436 | F16: 9.95 | G16: 0.12 | H16: =IFERROR(F16*(1-G16),F16) -> 8.756 | I16: =J16/1.07 -> 941.06542 | J16: =H16*$L$4 -> 1006.94 | K16: verfügbar
E18: Gesamt | F18: =SUM(F6:F16) -> 167.94 | H18: =SUM(H6:H16) -> 149.048 | I18: =ROUND(SUM(I6:I16),2) -> 16019.18 | J18: =ROUND(SUM(J6:J16),2) -> 17140.52
A20: Paket "05: Ermitteln" | K20: Liefermenge | L20: 42
A21: # | B21: Titel | C21: Autor/in/nen | D21: Verlag | E21: ISBN-13 | F21: Ladenpreis in Euro (je Exemplar, brutto) | G21: MPN | H21: Mengenpreis in Euro (je Exemplar, brutto) | I21: Preis in Euro für Liefermenge (netto) | J21: Preis in Euro für Liefermenge (brutto) | K21: Status Verfügbarkeit | L21: Anmerkung
A22: 1 | B22: Bücherbär. Detektivgeschichten zum Mitraten | C22: Anna Lott / Katja Rau | D22: Arena | E22: 978-3401717777 | F22: 10 | G22: 0 | H22: =IFERROR(F22*(1-G22),F22) -> 10 | I22: =J22/1.07 -> 392.52336 | J22: =H22*$L$20 -> 420 | K22: reserviert
A23: 2 | B23: Ein Fall für Kwiatkowski. Der große Schlangenzauber | C23: Jürgen Banscherus | D23: Arena | E23: 978-3401608358 | F23: 10 | G23: 0 | H23: =IFERROR(F23*(1-G23),F23) -> 10 | I23: =J23/1.07 -> 392.52336 | J23: =H23*$L$20 -> 420 | K23: reserviert
A24: 3 | B24: Die Schule der magischen Tiere ermittelt. Der Hausschuh-Dieb | C24: Margit Auer | D24: Carlsen | E24: 978-3551657329 | F24: 10 | G24: 0.1 | H24: =IFERROR(F24*(1-G24),F24) -> 9 | I24: =J24/1.07 -> 353.27103 | J24: =H24*$L$20 -> 378 | K24: angefragt
A25: 4 | B25: Reggie Rabbit und der große Karottenraub | C25: Swapna Reddy / Becka Mohr (Ill.) | D25: Insel | E25: 978-3458645139 | F25: 14 | G25: 0.1 | H25: =IFERROR(F25*(1-G25),F25) -> 12.6 | I25: =J25/1.07 -> 494.57944 | J25: =H25*$L$20 -> 529.2 | K25: reserviert
A26: 5 | B26: Meisterdetektiv Mausebart | C26: Charley Rabbit | D26: Karibu | E26: 978-3961294688 | F26: 16.99 | G26: 0 | H26: =IFERROR(F26*(1-G26),F26) -> 16.99 | I26: =J26/1.07 -> 666.8972 | J26: =H26*$L$20 -> 713.58 | K26: verfügbar | L26: Reservierung lt. Verlag nicht erforderlich
A27: 6 | B27: Die drei !!! Schmetterlinge in Gefahr | C27: Mira Sol | D27: Kosmos | E27: 978-3440179642 | F27: 12 | G27: 0.1 | H27: =IFERROR(F27*(1-G27),F27) -> 10.8 | I27: =J27/1.07 -> 423.92523 | J27: =H27*$L$20 -> 453.6 | K27: reserviert
A28: 7 | B28: Die drei !!! Sternschnuppennächte | C28: Jule Ambach | D28: Kosmos | E28: 978-3440179659 | F28: 12 | G28: 0.1 | H28: =IFERROR(F28*(1-G28),F28) -> 10.8 | I28: =J28/1.07 -> 423.92523 | J28: =H28*$L$20 -> 453.6 | K28: reserviert
A29: 8 | B29: Die drei ??? Kids. Geheimnis um Cubemax | C29: Calle Claus | D29: Kosmos | E29: 978-3440180945 | F29: 13 | G29: 0.1 | H29: =IFERROR(F29*(1-G29),F29) -> 11.7 | I29: =J29/1.07 -> 459.25234 | J29: =H29*$L$20 -> 491.4 | K29: reserviert
A30: 9 | B30: Die drei ??? Kids. Mission Piraten-Code | C30: Nina Schiefelbein | D30: Kosmos | E30: 978-3440182574 | F30: 15 | G30: 0.1 | H30: =IFERROR(F30*(1-G30),F30) -> 13.5 | I30: =J30/1.07 -> 529.90654 | J30: =H30*$L$20 -> 567 | K30: reserviert
A31: 10 | B31: Die drei ??? Kids. Teuflische Küche | C31: Ulf Blanck | D31: Kosmos | E31: 978-3440182543 | F31: 12 | G31: 0.1 | H31: =IFERROR(F31*(1-G31),F31) -> 10.8 | I31: =J31/1.07 -> 423.92523 | J31: =H31*$L$20 -> 453.6 | K31: reserviert
A32: 11 | B32: TKKG junior: Wildes Tierchaos | C32: Christine Haas | D32: Kosmos | E32: 978-3440180389 | F32: 12 | G32: 0.1 | H32: =IFERROR(F32*(1-G32),F32) -> 10.8 | I32: =J32/1.07 -> 423.92523 | J32: =H32*$L$20 -> 453.6 | K32: reserviert
A33: 12 | B33: Knallharte Tauben quaken sich um Kopf und Kragen | C33: Andrew McDonald / Ben Wood | D33: Leowe WOW | E33: 978-3743222205 | F33: 13 | G33: 0.05 | H33: =IFERROR(F33*(1-G33),F33) -> 12.35 | I33: =J33/1.07 -> 484.76636 | J33: =H33*$L$20 -> 518.7 | K33: reserviert
A34: 13 | B34: Agent Stitch. Mein Geschichten-Abenteuer. Du bist der Held | C34: Steve Behling | D34: Nelson | E34: 978-3845130798 | F34: 9.99 | G34: 0 | H34: =IFERROR(F34*(1-G34),F34) -> 9.99 | I34: =J34/1.07 -> 392.13084 | J34: =H34*$L$20 -> 419.58 | K34: angefragt
A35: 14 | B35: Internat undercover: Aus Versehen Agent | C35: Sven Gerhardt / Vera Schmidt | D35: Penguin Junior | E35: 978-3328304531 | F35: 14 | G35: 0.1 | H35: =IFERROR(F35*(1-G35),F35) -> 12.6 | I35: =J35/1.07 -> 494.57944 | J35: =H35*$L$20 -> 529.2 | K35: angefragt
A36: 15 | B36: Die Jagd nach dem magischen Detektivkoffer. Goldraub im Museum | C36: Cally Stronk / Patrick Fix (Ill.) | D36: Ravensburger | E36: 978-3473464760 | F36: 9.99 | G36: 0 | H36: =IFERROR(F36*(1-G36),F36) -> 9.99 | I36: =J36/1.07 -> 392.13084 | J36: =H36*$L$20 -> 419.58 | K36: reserviert
A37: 16 | B37: Leserabe. Detektivgeschichten zum Lesenlernen | C37: Anja Kiel / Katja reider / Rüdiger Bertram | D37: Ravensburger | E37: 978-3473464128 | F37: 8.99 | G37: 0 | H37: =IFERROR(F37*(1-G37),F37) -> 8.99 | I37: =J37/1.07 -> 352.8785 | J37: =H37*$L$20 -> 377.58 | K37: reserviert
A38: 17 | B38: Sherlock Holmes und Dr. Watson. Die Jagd nach dem Geisterzug | C38: Judith Weber / Christian und Fabian Jeremias | D38: Schneiderbuch | E38: 978-3505152283 | F38: 16 | G38: 0.15 | H38: =IFERROR(F38*(1-G38),F38) -> 13.6 | I38: =J38/1.07 -> 533.83178 | J38: =H38*$L$20 -> 571.2 | K38: verfügbar | L38: Reservierung lt. Verlag nicht erforderlich
A39: 18 | B39: Zipfelmaus und die Glitzerkatze | C39: Uwe Becker | D39: Südpol | E39: 978-3965943322 | F39: 14 | G39: 0.05 | H39: =IFERROR(F39*(1-G39),F39) -> 13.3 | I39: =J39/1.07 -> 522.05607 | J39: =H39*$L$20 -> 558.6 | K39: verfügbar | L39: Reservierung lt. Verlag nicht erforderlich
A40: 19 | B40: Einfach Sunny | C40: Maren Graf | D40: Thienemann | E40: 978-3522188630 | F40: 15 | G40: 0.05 | H40: =IFERROR(F40*(1-G40),F40) -> 14.25 | I40: =J40/1.07 -> 559.34579 | J40: =H40*$L$20 -> 598.5 | K40: reserviert
A41: 20 | B41: Lady Gwens geheimes Detektivbüro: Immer auf der Hut | C41: Brian Freschi / Elena Triolo | D41: Ueberreuter | E41: 978-3764153045 | F41: 14 | G41: 0 | H41: =IFERROR(F41*(1-G41),F41) -> 14 | I41: =J41/1.07 -> 549.53271 | J41: =H41*$L$20 -> 588 | K41: reserviert
E43: Gesamt | F43: =SUM(F22:F41) -> 251.96 | H43: =SUM(H22:H41) -> 236.06 | I43: =ROUND(SUM(I22:I41),2) -> 9265.91 | J43: =ROUND(SUM(J22:J41),2) -> 9914.52
A45: Paket "10: Feiern" | K45: Liefermenge | L45: 71
A46: # | B46: Titel | C46: Autor/in/nen | D46: Verlag | E46: ISBN-13 | F46: Ladenpreis in Euro (je Exemplar, brutto) | G46: MPN | H46: Mengenpreis in Euro (je Exemplar, brutto) | I46: Preis in Euro für Liefermenge (netto) | J46: Preis in Euro für Liefermenge (brutto) | K46: Status Verfügbarkeit | L46: Anmerkung
A47: 1 | B47: Der Schokilaus und das Geheimnis der Weihnachtsschokolade | C47: Lissa Lehmenkühler | D47: Arena | E47: 978-3401607504 | F47: 14 | G47: 0.1 | H47: =IFERROR(F47*(1-G47),F47) -> 12.6 | I47: =J47/1.07 -> 836.07477 | J47: =H47*$L$45 -> 894.6 | K47: reserviert
A48: 2 | B48: Das Haus ohne Lichter | C48: Reem Faruqi und Nadia Alam | D48: arsEdition | E48: 978-3845865782 | F48: 16 | G48: 0.125 | H48: =IFERROR(F48*(1-G48),F48) -> 14 | I48: =J48/1.07 -> 928.97196 | J48: =H48*$L$45 -> 994 | K48: reserviert
A49: 3 | B49: Das gereimte Jahr | C49: James Krüss | D49: BaumHaus | E49: 978-3833910647 | F49: 20 | G49: 0.1 | H49: =IFERROR(F49*(1-G49),F49) -> 18 | I49: =J49/1.07 -> 1194.3925 | J49: =H49*$L$45 -> 1278 | K49: angefragt
A50: 4 | B50: Einfach Lesen lernen: Weihnachten im Winterschlaf | C50: Katalina Brause / Angela Gstalter | D50: Carlsen | E50: 978-3551691323 | F50: 9 | G50: 0.15 | H50: =IFERROR(F50*(1-G50),F50) -> 7.65 | I50: =J50/1.07 -> 507.61682 | J50: =H50*$L$45 -> 543.15 | K50: angefragt
A51: 5 | B51: 9 Lügen, 7 tolle Sachen und 1 allerbester Sommer | C51: Marthe Holien Bø | D51: Fischer Sauerländer | E51: 978-3757102364 | F51: 13.9 | G51: 0.1 | H51: =IFERROR(F51*(1-G51),F51) -> 12.51 | I51: =J51/1.07 -> 830.1028 | J51: =H51*$L$45 -> 888.21 | K51: reserviert
A52: 6 | B52: Augen auf, der Frühling kommt! | C52: Doro Ahlemeyer | D52: Fischer Sauerländer | E52: 978-3737374217 | F52: 14 | G52: 0.1 | H52: =IFERROR(F52*(1-G52),F52) -> 12.6 | I52: =J52/1.07 -> 836.07477 | J52: =H52*$L$45 -> 894.6 | K52: reserviert
A53: 7 | B53: Es niest ein Rentier vor der Tür | C53: Smilla Blau | D53: Fischer Sauerländer | E53: 978-3737372541 | F53: 14 | G53: 0.1 | H53: =IFERROR(F53*(1-G53),F53) -> 12.6 | I53: =J53/1.07 -> 836.07477 | J53: =H53*$L$45 -> 894.6 | K53: reserviert
A54: 8 | B54: Schwimmbad | C54: Eilika Mühlenberg | D54: Gerstenberg | E54: 978-3836962735 | F54: 22 | G54: 0.125 | H54: =IFERROR(F54*(1-G54),F54) -> 19.25 | I54: =J54/1.07 -> 1277.3364 | J54: =H54*$L$45 -> 1366.75 | K54: reserviert
A55: 9 | B55: Henne Ahoi! Mein Sommer am See | C55: Karen Christine Angermayer / Verena Körting | D55: Karibu | E55: 978-3961294251 | F55: 14.99 | G55: 0.1 | H55: =IFERROR(F55*(1-G55),F55) -> 13.491 | I55: =J55/1.07 -> 895.1972 | J55: =H55*$L$45 -> 957.861 | K55: verfügbar | L55: Reservierung lt. Verlag nicht erforderlich
A56: 10 | B56: Schrecklich geheime Geisterbahngeheimnisse | C56: Sandra Bayer | D56: Klett Kinderbuch | E56: 978-3954703036 | F56: 16 | G56: 0.1 | H56: =IFERROR(F56*(1-G56),F56) -> 14.4 | I56: =J56/1.07 -> 955.51402 | J56: =H56*$L$45 -> 1022.4 | K56: verfügbar
A57: 11 | B57: Katastrophabelhafte Sommerferien | C57: Katja Alves / Mila Marquis (Ill.) | D57: Magellan | E57: 978-3734841767 | F57: 16 | G57: 0 | H57: =IFERROR(F57*(1-G57),F57) -> 16 | I57: =J57/1.07 -> 1061.6822 | J57: =H57*$L$45 -> 1136 | K57: reserviert
A58: 12 | B58: Die Weihnachts-Superhelden | C58: Lena Hach | D58: mixtvision | E58: 978-3958542211 | F58: 20 | G58: 0.15 | H58: =IFERROR(F58*(1-G58),F58) -> 17 | I58: =J58/1.07 -> 1128.0374 | J58: =H58*$L$45 -> 1207 | K58: reserviert
A59: 13 | B59: Zicke Zacke Igelkacke | C59: Kristina Andres | D59: Moritz | E59: 978-3895654596 | F59: 12 | G59: 0.15 | H59: =IFERROR(F59*(1-G59),F59) -> 10.2 | I59: =J59/1.07 -> 676.82243 | J59: =H59*$L$45 -> 724.2 | K59: reserviert
A60: 14 | B60: Tante Polly. Ehrlich geflunkert | C60: Paul Maar | D60: Oetinger | E60: 978-3751202978 | F60: 15 | G60: 0.05 | H60: =IFERROR(F60*(1-G60),F60) -> 14.25 | I60: =J60/1.07 -> 945.56075 | J60: =H60*$L$45 -> 1011.75 | K60: verfügbar | L60: Reservierung in Klärung
A61: 15 | B61: Mein Immer-wieder-Stickerbuch: Das Zuckerfest: Wir feiern das Ende des Ramadan | C61: Debby Rahmalia | D61: Usborne | E61: 978-1035701339 | F61: 6.95 | G61: 0.1 | H61: =IFERROR(F61*(1-G61),F61) -> 6.255 | I61: =J61/1.07 -> 415.0514 | J61: =H61*$L$45 -> 444.105 | K61: verfügbar
E63: Gesamt | F63: =SUM(F47:F61) -> 223.84 | H63: =SUM(H47:H61) -> 200.806 | I63: =ROUND(SUM(I47:I61),2) -> 13324.51 | J63: =ROUND(SUM(J47:J61),2) -> 14257.23
A65: Paket "11: Mitmachen" | K65: Liefermenge | L65: 137
A66: # | B66: Titel | C66: Autor/in/nen | D66: Verlag | E66: ISBN-13 | F66: Ladenpreis in Euro (je Exemplar, brutto) | G66: MPN | H66: Mengenpreis in Euro (je Exemplar, brutto) | I66: Preis in Euro für Liefermenge (netto) | J66: Preis in Euro für Liefermenge (brutto) | K66: Status Verfügbarkeit | L66: Anmerkung
A67: 1 | B67: Licht ins Dunkel | C67: Steffen Gumpert | D67: Carlsen | E67: 978-3551802095 | F67: 18 | G67: 0.2 | H67: =IFERROR(F67*(1-G67),F67) -> 14.4 | I67: =J67/1.07 -> 1843.7383 | J67: =H67*$L$65 -> 1972.8 | K67: angefragt
A68: 2 | B68: Wetten, diese Rätsel knackst du nicht? Jagd auf die Weisheitskristalle | C68: Frank Dassfelder | D68: EMF | E68: 978-3745931839 | F68: 9.99 | G68: 0.15 | H68: =IFERROR(F68*(1-G68),F68) -> 8.4915 | I68: =J68/1.07 -> 1087.2294 | J68: =H68*$L$65 -> 1163.3355 | K68: reserviert
A69: 3 | B69: Ich finde was … Im Märchenwald | C69: Walter Wick | D69: Kosmos | E69: 978-3440183557 | F69: 16 | G69: 0.2 | H69: =IFERROR(F69*(1-G69),F69) -> 12.8 | I69: =J69/1.07 -> 1638.8785 | J69: =H69*$L$65 -> 1753.6 | K69: reserviert
A70: 4 | B70: Minecraft Brain Games. Über 50 Rätsel und Denkspiele | D70: Schneiderbuch | E70: 978-3505153440 | F70: 10 | G70: 0.2 | H70: =IFERROR(F70*(1-G70),F70) -> 8 | I70: =J70/1.07 -> 1024.2991 | J70: =H70*$L$65 -> 1096 | K70: verfügbar | L70: Reservierung lt. Verlag nicht erforderlich
A71: 5 | B71: Minecraft. Finde den Creeper | C71: Stephanie Milton / Thomas McBrien | D71: Schneiderbuch | E71: 978-3505153778 | F71: 14 | G71: 0.2 | H71: =IFERROR(F71*(1-G71),F71) -> 11.2 | I71: =J71/1.07 -> 1434.0187 | J71: =H71*$L$65 -> 1534.4 | K71: verfügbar | L71: Reservierung lt. Verlag nicht erforderlich
A72: 6 | B72: Superhirni in kniffliger Mission. Kopfnüsse im Kamp gegen das Böse | C72: Norbert Pautner | D72: Topp | E72: 978-3735892898 | F72: 9.99 | G72: 0.1 | H72: =IFERROR(F72*(1-G72),F72) -> 8.991 | I72: =J72/1.07 -> 1151.1841 | J72: =H72*$L$65 -> 1231.767 | K72: angefragt
A73: 7 | B73: Ferienrätsel to go | C73: Alex Frith, Sam Lake | D73: Usborne | E73: 978-1035703760 | F73: 6.95 | G73: 0.12 | H73: =IFERROR(F73*(1-G73),F73) -> 6.116 | I73: =J73/1.07 -> 783.07664 | J73: =H73*$L$65 -> 837.892 | K73: verfügbar
E75: Gesamt | F75: =SUM(F67:F73) -> 84.93 | H75: =SUM(H67:H73) -> 69.9985 | I75: =ROUND(SUM(I67:I73),2) -> 8962.42 | J75: =ROUND(SUM(J67:J73),2) -> 9589.79

Sheet Teillos 4 - Bücher
A1: Anlage zur Vergabe-Nr. 339 - Teillos 4 | L1: =Losübersicht!$E$1 -> 46286
H2: Gesamtangebot in Euro | I2: =SUMIFS(I:I,$E:$E,"Gesamt") -> 45090.24 | J2: =SUMIFS(J:J,$E:$E,"Gesamt") -> 48246.55
A4: Paket "06: Torjubeln" | K4: Liefermenge | L4: 72
A5: # | B5: Titel | C5: Autor/in/nen | D5: Verlag | E5: ISBN-13 | F5: Ladenpreis in Euro (je Exemplar, brutto) | G5: MPN | H5: Mengenpreis in Euro (je Exemplar, brutto) | I5: Preis in Euro für Liefermenge (netto) | J5: Preis in Euro für Liefermenge (brutto) | K5: Status Verfügbarkeit | L5: Anmerkung
A6: 1 | B6: Einfach Lesen lernen Comic: Fußball Academy. Ein besonderes Training | C6: Irene Margil/ Jan Saße (Ill.) | D6: Carlsen | E6: 978-3551691309 | F6: 9 | G6: 0.15 | H6: =IFERROR(F6*(1-G6),F6) -> 7.65 | I6: =J6/1.07 -> 514.76636 | J6: =H6*$L$4 -> 550.8 | K6: angefragt
A7: 2 | B7: Sportstars erzählen: Mein Skateboard und ich | C7: Titus Dittmann | D7: Coppenrath | E7: 978-3649651123 | F7: 10 | G7: 0.1 | H7: =IFERROR(F7*(1-G7),F7) -> 9 | I7: =J7/1.07 -> 605.60748 | J7: =H7*$L$4 -> 648 | K7: reserviert
A8: 3 | B8: Sportstars erzählen: Mein Weg zur Fußball-Nationalspielerin | C8: Klara Bühl | D8: Coppenrath | E8: 978-3649651369 | F8: 10 | G8: 0.1 | H8: =IFERROR(F8*(1-G8),F8) -> 9 | I8: =J8/1.07 -> 605.60748 | J8: =H8*$L$4 -> 648 | K8: reserviert
A9: 4 | B9: Korbjäger | C9: Nina Basovic Brown | D9: Gulliver | E9: 978-3407814012 | F9: 7 | G9: 0.15 | H9: =IFERROR(F9*(1-G9),F9) -> 5.95 | I9: =J9/1.07 -> 400.37383 | J9: =H9*$L$4 -> 428.4 | K9: verfügbar | L9: Reservierung lt. Verlag nicht erforderlich
A10: 5 | B10: Teamplayer | C10: Nina Basovic Brown | D10: Gulliver | E10: 978-3407814043 | F10: 12 | G10: 0.15 | H10: =IFERROR(F10*(1-G10),F10) -> 10.2 | I10: =J10/1.07 -> 686.35514 | J10: =H10*$L$4 -> 734.4 | K10: verfügbar | L10: Reservierung lt. Verlag nicht erforderlich
A11: 6 | B11: Mein Fußballheld. Joschua Kimmich | C11: Florian Kinast/ Jon Davis (Ill.) | D11: Karibu | E11: 978-3961295494 | F11: 12.99 | G11: 0.1 | H11: =IFERROR(F11*(1-G11),F11) -> 11.691 | I11: =J11/1.07 -> 786.68411 | J11: =H11*$L$4 -> 841.752 | K11: verfügbar | L11: Reservierung lt. Verlag nicht erforderlich
A12: 7 | B12: Mein Fußball-Held: Jamal Musiala | C12: Florian Kinast/ Jon Davis (Ill.) | D12: Karibu | E12: 978-3961295371 | F12: 12.99 | G12: 0.1 | H12: =IFERROR(F12*(1-G12),F12) -> 11.691 | I12: =J12/1.07 -> 786.68411 | J12: =H12*$L$4 -> 841.752 | K12: verfügbar | L12: Reservierung lt. Verlag nicht erforderlich
A13: 8 | B13: KOSMOS Schlaufux: Fußball | C13: Birk Grübling | D13: KOSMOS | E13: 978-3440183496 | F13: 14 | G13: 0.15 | H13: =IFERROR(F13*(1-G13),F13) -> 11.9 | I13: =J13/1.07 -> 800.74766 | J13: =H13*$L$4 -> 856.8 | K13: reserviert
A14: 9 | B14: Leselöwen 1. Klasse: Fußball, Tore, große Träume | C14: Michael Petrowitz / Kim Schmidt | D14: Loewe | E14: 978-3743218932 | F14: 9.95 | G14: 0.07 | H14: =IFERROR(F14*(1-G14),F14) -> 9.2535 | I14: =J14/1.07 -> 622.66542 | J14: =H14*$L$4 -> 666.252 | K14: reserviert
A15: 10 | B15: Jamal Musiala. Mein Fußballabenteuer beginnt (Lesenlernen mit Fußballstars) | C15: Jamal Musiala/ Julien Wolff/ Berat Pakmeci | D15: Oetinger | E15: 978-3751208314 | F15: 12 | G15: 0.05 | H15: =IFERROR(F15*(1-G15),F15) -> 11.4 | I15: =J15/1.07 -> 767.1028 | J15: =H15*$L$4 -> 820.8 | K15: verfügbar | L15: Reservierung in Klärung
A16: 11 | B16: Jamal Musiala. Mein Start bei den Bayern (Lesenlernen mit Fußballstars) | C16: Jamal Musiala/ Julien Wolff/ Berat Pakmeci | D16: Oetinger | E16: 978-3751208321 | F16: 12 | G16: 0.05 | H16: =IFERROR(F16*(1-G16),F16) -> 11.4 | I16: =J16/1.07 -> 767.1028 | J16: =H16*$L$4 -> 820.8 | K16: verfügbar | L16: Reservierung in Klärung
A17: 12 | B17: Fußball-Stars. Alles über Fußball. Träume, Tore, Titel | C17: Simon Mugford / Dan Green | D17: Ravensburger | E17: 978-3473464616 | F17: 9.99 | G17: 0.1 | H17: =IFERROR(F17*(1-G17),F17) -> 8.991 | I17: =J17/1.07 -> 605.00187 | J17: =H17*$L$4 -> 647.352 | K17: reserviert
A18: 13 | B18: Fußball-Stars: Alles über Messi | C18: Simon Mugford/ Dan Green (Ill.) | D18: Ravensburger | E18: 978-3473464371 | F18: 9.99 | G18: 0.1 | H18: =IFERROR(F18*(1-G18),F18) -> 8.991 | I18: =J18/1.07 -> 605.00187 | J18: =H18*$L$4 -> 647.352 | K18: reserviert
A19: 14 | B19: Wir Kinder vom Bolzi | C19: Veronika Wiggert | D19: Thienemann | E19: 978-3522188821 | F19: 14 | G19: 0.1 | H19: =IFERROR(F19*(1-G19),F19) -> 12.6 | I19: =J19/1.07 -> 847.85047 | J19: =H19*$L$4 -> 907.2 | K19: reserviert
E21: Gesamt | F21: =SUM(F6:F19) -> 155.91 | H21: =SUM(H6:H19) -> 139.7175 | I21: =ROUND(SUM(I6:I19),2) -> 9401.55 | J21: =ROUND(SUM(J6:J19),2) -> 10059.66
A23: Paket "07: Hmpf! Zoom! Bang!" | K23: Liefermenge | L23: 102
A24: # | B24: Titel | C24: Autor/in/nen | D24: Verlag | E24: ISBN-13 | F24: Ladenpreis in Euro (je Exemplar, brutto) | G24: MPN | H24: Mengenpreis in Euro (je Exemplar, brutto) | I24: Preis in Euro für Liefermenge (netto) | J24: Preis in Euro für Liefermenge (brutto) | K24: Status Verfügbarkeit | L24: Anmerkung
A25: 1 | B25: Erben des Imperiums. Der Anfang | C25: Oskar Källner / Karl Johansson | D25: Atrium pics | E25: 978-3855352418 | F25: 12 | G25: 0 | H25: =IFERROR(F25*(1-G25),F25) -> 12 | I25: =J25/1.07 -> 1143.9252 | J25: =H25*$L$23 -> 1224 | K25: verfügbar | L25: Reservierung lt. Verlag nicht erforderlich
A26: 2 | B26: Action Dude | C26: Andy Riley | D26: Carlsen | E26: 978-3551559760 | F26: 12 | G26: 0.2 | H26: =IFERROR(F26*(1-G26),F26) -> 9.6 | I26: =J26/1.07 -> 915.14019 | J26: =H26*$L$23 -> 979.2 | K26: angefragt
A27: 3 | B27: Der König der Löwen. Die Filmgeschichte | C27: Constanze Steindamm | D27: Carlsen | E27: 978-3551281425 | F27: 13 | G27: 0.2 | H27: =IFERROR(F27*(1-G27),F27) -> 10.4 | I27: =J27/1.07 -> 991.40187 | J27: =H27*$L$23 -> 1060.8 | K27: angefragt
A28: 4 | B28: Kleine Katze Chi in Frankreich | C28: Konami Kanata/ Catherine Bouvier | D28: Carlsen | E28: 978-3551808905 | F28: 10 | G28: 0.2 | H28: =IFERROR(F28*(1-G28),F28) -> 8 | I28: =J28/1.07 -> 762.61682 | J28: =H28*$L$23 -> 816 | K28: angefragt
A29: 5 | B29: Agent Stitch. Völlig verkohlt | D29: Carlsen Comics | E29: 978-3551809117 | F29: 15 | G29: 0.2 | H29: =IFERROR(F29*(1-G29),F29) -> 12 | I29: =J29/1.07 -> 1143.9252 | J29: =H29*$L$23 -> 1224 | K29: angefragt
A30: 6 | B30: Piglins - bis die Lava zischt. Minecomic | C30: Heiko Wolz / André Sedlaczek | D30: Carlsen Comics | E30: 978-3551808066 | F30: 10 | G30: 0.2 | H30: =IFERROR(F30*(1-G30),F30) -> 8 | I30: =J30/1.07 -> 762.61682 | J30: =H30*$L$23 -> 816 | K30: angefragt
A31: 7 | B31: Zoomania 2 Besser Zoosammen | C31: Joe Caramagna | D31: Carlsen Comics | E31: 978-3551807472 | F31: 15 | G31: 0.2 | H31: =IFERROR(F31*(1-G31),F31) -> 12 | I31: =J31/1.07 -> 1143.9252 | J31: =H31*$L$23 -> 1224 | K31: angefragt
A32: 8 | B32: Die Reise des Mondbären | C32: Ho | D32: Carlsen Manga | E32: 978-3551807267 | F32: 14 | G32: 0.2 | H32: =IFERROR(F32*(1-G32),F32) -> 11.2 | I32: =J32/1.07 -> 1067.6636 | J32: =H32*$L$23 -> 1142.4 | K32: angefragt
A33: 9 | B33: Felis Geheimnis | C33: Inga Steinmetz | D33: Carlsen Manga | E33: 978-3551802163 | F33: 9 | G33: 0.2 | H33: =IFERROR(F33*(1-G33),F33) -> 7.2 | I33: =J33/1.07 -> 686.35514 | J33: =H33*$L$23 -> 734.4 | K33: angefragt
A34: 10 | B34: Pablo und Splash. Die Zeitreise-Pinguine. Ab in die Eiszeit | C34: Sheena Dempsey | D34: Coppenrath | E34: 978-3649650621 | F34: 14 | G34: 0.125 | H34: =IFERROR(F34*(1-G34),F34) -> 12.25 | I34: =J34/1.07 -> 1167.757 | J34: =H34*$L$23 -> 1249.5 | K34: reserviert
A35: 11 | B35: Stitch Head! Chaos in der Monsterwerkstatt | C35: Guy Bass / Pete Williamson | D35: dtv | E35: 978-3423765640 | F35: 16 | G35: 0.12 | H35: =IFERROR(F35*(1-G35),F35) -> 14.08 | I35: =J35/1.07 -> 1342.2056 | J35: =H35*$L$23 -> 1436.16 | K35: verfügbar
A36: 12 | B36: Die Fußballbande: Die doppelte Pokaljagd | C36: Aikaterini Maria Schlosser / Pau Gámez | D36: Egmont | E36: 978-3770412556 | F36: 15.99 | G36: 0 | H36: =IFERROR(F36*(1-G36),F36) -> 15.99 | I36: =J36/1.07 -> 1524.2804 | J36: =H36*$L$23 -> 1630.98 | K36: verfügbar | L36: Reservierung lt. Verlag nicht erforderlich
A37: 13 | B37: Einmal kurz nicht aufgepasst | C37: Regina Kehn | D37: Kibitz | E37: 978-3948690427 | F37: 20 | G37: 0.15 | H37: =IFERROR(F37*(1-G37),F37) -> 17 | I37: =J37/1.07 -> 1620.5607 | J37: =H37*$L$23 -> 1734 | K37: reserviert
A38: 14 | B38: Suri, die Monsterjägerin | C38: Jo Rioux | D38: Knesebeck | E38: 978-3989620018 | F38: 18 | G38: 0 | H38: =IFERROR(F38*(1-G38),F38) -> 18 | I38: =J38/1.07 -> 1715.8879 | J38: =H38*$L$23 -> 1836 | K38: verfügbar | L38: Reservierung lt. Verlag nicht erforderlich
A39: 15 | B39: Die Wächter des Verfluchten Goldes (Band 1) - Das Abenteuer beginnt | C39: Christian Friedrich / David Füleki | D39: Loewe Graphix | E39: 978-3743219113 | F39: 14 | G39: 0.1 | H39: =IFERROR(F39*(1-G39),F39) -> 12.6 | I39: =J39/1.07 -> 1201.1215 | J39: =H39*$L$23 -> 1285.2 | K39: reserviert
A40: 16 | B40: Jim stinkt's! | C40: Suzanne & Maz Lang | D40: Loewe Graphix | E40: 978-3743223981 | F40: 12 | G40: 0.1 | H40: =IFERROR(F40*(1-G40),F40) -> 10.8 | I40: =J40/1.07 -> 1029.5327 | J40: =H40*$L$23 -> 1101.6 | K40: reserviert
A41: 17 | B41: Team Spidey legt los | C41: Steve Behling | D41: Nelson | E41: 978-3845130910 | F41: 9.99 | G41: 0.2 | H41: =IFERROR(F41*(1-G41),F41) -> 7.992 | I41: =J41/1.07 -> 761.85421 | J41: =H41*$L$23 -> 815.184 | K41: angefragt
A42: 18 | B42: Smilla und die Superhirne | C42: Flavia Fox / Maleek | D42: Planet! | E42: 978-3522509527 | F42: 14 | G42: 0.15 | H42: =IFERROR(F42*(1-G42),F42) -> 11.9 | I42: =J42/1.07 -> 1134.3925 | J42: =H42*$L$23 -> 1213.8 | K42: angefragt
A43: 19 | B43: Stella. Superpower: Brüder verjagen | C43: Oda Valle | D43: Thienemann | E43: 978-3522188876 | F43: 17 | G43: 0.15 | H43: =IFERROR(F43*(1-G43),F43) -> 14.45 | I43: =J43/1.07 -> 1377.4766 | J43: =H43*$L$23 -> 1473.9 | K43: reserviert
A44: 20 | B44: Lily Halbmond. Zauberhaft vereint | C44: Xavier Bonet | D44: Ueberreuter | E44: 978-3764153298 | F44: 15 | G44: 0.15 | H44: =IFERROR(F44*(1-G44),F44) -> 12.75 | I44: =J44/1.07 -> 1215.4206 | J44: =H44*$L$23 -> 1300.5 | K44: reserviert
E46: Gesamt | F46: =SUM(F25:F44) -> 275.98 | H46: =SUM(H25:H44) -> 238.212 | I46: =ROUND(SUM(I25:I44),2) -> 22708.06 | J46: =ROUND(SUM(J25:J44),2) -> 24297.62
A48: media.lab-Paket | K48: Liefermenge | L48: 13
A49: # | B49: Titel | C49: Autor/in/nen | D49: Verlag | E49: ISBN-13 | F49: Ladenpreis in Euro (je Exemplar, brutto) | G49: MPN | H49: Mengenpreis in Euro (je Exemplar, brutto) | I49: Preis in Euro für Liefermenge (netto) | J49: Preis in Euro für Liefermenge (brutto) | K49: Status Verfügbarkeit | L49: Anmerkung
A50: 1 | B50: Khyona 1: Im Bann des Silberfalken | C50: Katja Brandis | D50: Arena | E50: 978-3-401-60842-6 | F50: 22 | G50: 0 | H50: =IFERROR(F50*(1-G50),F50) -> 22 | I50: =J50/1.07 -> 267.28972 | J50: =H50*$L$48 -> 286 | K50: reserviert
A51: 2 | B51: Khyona 2: Die Macht des Eisdrachen | C51: Katja Brandis | D51: Arena | E51: 978-3-401-60844-0 | F51: 22 | G51: 0 | H51: =IFERROR(F51*(1-G51),F51) -> 22 | I51: =J51/1.07 -> 267.28972 | J51: =H51*$L$48 -> 286 | K51: reserviert
A52: 3 | B52: Khyona 3: Gefährten von Feuer und Eis | C52: Katja Brandis | D52: Arena | E52: 978-3-401-60845-7 | F52: 22 | G52: 0 | H52: =IFERROR(F52*(1-G52),F52) -> 22 | I52: =J52/1.07 -> 267.28972 | J52: =H52*$L$48 -> 286 | K52: reserviert
A53: 4 | B53: Keeper of the Lost Cities – Die Graphic Novel – Teil 1 | C53: Shannon Messenger | D53: arsEdition | E53: 978-3-8458-4502-9 | F53: 20 | G53: 0 | H53: =IFERROR(F53*(1-G53),F53) -> 20 | I53: =J53/1.07 -> 242.99065 | J53: =H53*$L$48 -> 260 | K53: reserviert
A54: 5 | B54: Keeper of the Lost Cities – Die Graphic Novel – Teil 2 | C54: Shannon Messenger | D54: arsEdition | E54: 978-3-8458-5760-2 | F54: 20 | G54: 0 | H54: =IFERROR(F54*(1-G54),F54) -> 20 | I54: =J54/1.07 -> 242.99065 | J54: =H54*$L$48 -> 260 | K54: reserviert
A55: 6 | B55: Warrior Cats. Die Prophezeiungen beginnen 1 | C55: Erin Hunter | D55: Beltz & Gelberg | E55: 978-3-407-75276-5 | F55: 24 | G55: 0 | H55: =IFERROR(F55*(1-G55),F55) -> 24 | I55: =J55/1.07 -> 291.58879 | J55: =H55*$L$48 -> 312 | K55: verfügbar | L55: Reservierung lt. Verlag nicht erforderlich
A56: 7 | B56: Warrior Cats. Die Prophezeiungen beginnen 2 | C56: Erin Hunter | D56: Beltz & Gelberg | E56: 978-3-407-79038-5 | F56: 24 | G56: 0 | H56: =IFERROR(F56*(1-G56),F56) -> 24 | I56: =J56/1.07 -> 291.58879 | J56: =H56*$L$48 -> 312 | K56: reserviert
A57: 8 | B57: Disney Villains - Dark Ascension 1: Dirty Minds | C57: Robin Benway | D57: Carlsen | E57: 978-3-551-28104-3 | F57: 14 | G57: 0.05 | H57: =IFERROR(F57*(1-G57),F57) -> 13.3 | I57: =J57/1.07 -> 161.58879 | J57: =H57*$L$48 -> 172.9 | K57: angefragt
A58: 9 | B58: Disney Villains – Dark Ascension 2: Lost Ones | C58: Lauren de Stefano | D58: Carlsen | E58: 978-3-551-28105-0 | F58: 14 | G58: 0.05 | H58: =IFERROR(F58*(1-G58),F58) -> 13.3 | I58: =J58/1.07 -> 161.58879 | J58: =H58*$L$48 -> 172.9 | K58: angefragt
A59: 10 | B59: Wind in meinem Kopftuch | C59: Roya Soraya | D59: Carlsen Comics | E59: 978-3-551-01590-7 | F59: 25 | G59: 0.05 | H59: =IFERROR(F59*(1-G59),F59) -> 23.75 | I59: =J59/1.07 -> 288.5514 | J59: =H59*$L$48 -> 308.75 | K59: angefragt
A60: 11 | B60: Nausicaä aus dem Tal der Winde 1 | C60: Hayao Miyazaki | D60: Carlsen Manga! | E60: 978-3-551-80505-8 | F60: 20 | G60: 0.05 | H60: =IFERROR(F60*(1-G60),F60) -> 19 | I60: =J60/1.07 -> 230.84112 | J60: =H60*$L$48 -> 247 | K60: angefragt
A61: 12 | B61: Nausicaä aus dem Tal der Winde 2 | C61: Hayao Miyazaki | D61: Carlsen Manga! | E61: 978-3-551-80506-5 | F61: 22 | G61: 0.05 | H61: =IFERROR(F61*(1-G61),F61) -> 20.9 | I61: =J61/1.07 -> 253.92523 | J61: =H61*$L$48 -> 271.7 | K61: angefragt
A62: 13 | B62: Nausicaä aus dem Tal der Winde 3 | C62: Hayao Miyazaki | D62: Carlsen Manga! | E62: 978-3-551-80507-2 | F62: 26 | G62: 0.05 | H62: =IFERROR(F62*(1-G62),F62) -> 24.7 | I62: =J62/1.07 -> 300.09346 | J62: =H62*$L$48 -> 321.1 | K62: angefragt
A63: 14 | B63: Nausicaä aus dem Tal der Winde 4 | C63: Hayao Miyazaki | D63: Carlsen Manga! | E63: 978-3-551-80508-9 | F63: 20 | G63: 0.05 | H63: =IFERROR(F63*(1-G63),F63) -> 19 | I63: =J63/1.07 -> 230.84112 | J63: =H63*$L$48 -> 247 | K63: angefragt
A64: 15 | B64: Once Upon a Dream. Der Manga | C64: Ivana Murianni | D64: Carlsen Manga! | E64: 978-3-551-80931-5 | F64: 15 | G64: 0.05 | H64: =IFERROR(F64*(1-G64),F64) -> 14.25 | I64: =J64/1.07 -> 173.13084 | J64: =H64*$L$48 -> 185.25 | K64: angefragt
A65: 16 | B65: Fukuneko 1 | C65: Mari Matsuzawa | D65: Carlsen Manga! | E65: 978-3-551-80734-2 | F65: 7.5 | G65: 0.05 | H65: =IFERROR(F65*(1-G65),F65) -> 7.125 | I65: =J65/1.07 -> 86.565421 | J65: =H65*$L$48 -> 92.625 | K65: angefragt
A66: 17 | B66: Fukuneko 2 | C66: Mari Matsuzawa | D66: Carlsen Manga! | E66: 978-3-551-80735-9 | F66: 7.5 | G66: 0.05 | H66: =IFERROR(F66*(1-G66),F66) -> 7.125 | I66: =J66/1.07 -> 86.565421 | J66: =H66*$L$48 -> 92.625 | K66: angefragt
A67: 18 | B67: My Hero Academia 1 | C67: Kohei Horikoshi | D67: Carlsen Manga! | E67: 978-3-551-79462-8 | F67: 6.99 | G67: 0.05 | H67: =IFERROR(F67*(1-G67),F67) -> 6.6405 | I67: =J67/1.07 -> 80.678972 | J67: =H67*$L$48 -> 86.3265 | K67: angefragt
... A90: 41 | B90: Grün & gold - Liebe in allen Farben 4 | C90: Lisa Brenner | D90: dtv | E90: 978-3-423-76599-2 | F90: 18 | G90: 0 | H90: =IFERROR(F90*(1-G90),F90) -> 18 | I90: =J90/1.07 -> 218.69159 | J90: =H90*$L$48 -> 234 | K90: verfügbar
A91: 42 | B91: Atelier of Witch Hat 13 | C91: Kamome Shirahama | D91: Egmont Manga | E91: 978-3-7555-0590-7 | F91: 8 | G91: 0 | H91: =IFERROR(F91*(1-G91),F91) -> 8 | I91: =J91/1.07 -> 97.196262 | J91: =H91*$L$48 -> 104 | K91: verfügbar | L91: Reservierung lt. Verlag nicht erforderlich
A92: 43 | B92: All better now | C92: Neal Shusterman | D92: Fischer Sauerländer | E92: 978-3-7373-7453-8 | F92: 21.9 | G92: 0 | H92: =IFERROR(F92*(1-G92),F92) -> 21.9 | I92: =J92/1.07 -> 266.07477 | J92: =H92*$L$48 -> 284.7 | K92: reserviert
A93: 44 | B93: Love me tomorrow | C93: Emiko Jean | D93: Fischer Sauerländer | E93: 978-3-7373-7587-0 | F93: 17.9 | G93: 0 | H93: =IFERROR(F93*(1-G93),F93) -> 17.9 | I93: =J93/1.07 -> 217.47664 | J93: =H93*$L$48 -> 232.7 | K93: reserviert
A94: 45 | B94: Wie Treibholz auf Asphalt – Junge Menschen erzählen von ihrem Leben auf der Straße | C94: Kobai Halstenberg | D94: Fischer Sauerländer | E94: 978-3-7335-0930-9 | F94: 13.9 | G94: 0.08 | H94: =IFERROR(F94*(1-G94),F94) -> 12.788 | I94: =J94/1.07 -> 155.36822 | J94: =H94*$L$48 -> 166.244 | K94: reserviert
A95: 46 | B95: Erebos | C95: Ursula Poznanski | D95: Loewe | E95: 978-3-7432-0531-4 | F95: 19.95 | G95: 0 | H95: =IFERROR(F95*(1-G95),F95) -> 19.95 | I95: =J95/1.07 -> 242.38318 | J95: =H95*$L$48 -> 259.35 | K95: reserviert
A96: 47 | B96: Erebos 2 | C96: Ursula Poznanski | D96: Loewe | E96: 978-3-7432-0049-4 | F96: 19.95 | G96: 0 | H96: =IFERROR(F96*(1-G96),F96) -> 19.95 | I96: =J96/1.07 -> 242.38318 | J96: =H96*$L$48 -> 259.35 | K96: reserviert
A97: 48 | B97: Erebos 3 | C97: Ursula Poznanski | D97: Loewe | E97: 978-3-7432-1660-0 | F97: 22 | G97: 0 | H97: =IFERROR(F97*(1-G97),F97) -> 22 | I97: =J97/1.07 -> 267.28972 | J97: =H97*$L$48 -> 286 | K97: reserviert
A98: 49 | B98: Romeo und Julia | C98: Steve Barlow | D98: Loewe Graphix | E98: 978-3-7432-1963-2 | F98: 15 | G98: 0 | H98: =IFERROR(F98*(1-G98),F98) -> 15 | I98: =J98/1.07 -> 182.24299 | J98: =H98*$L$48 -> 195 | K98: reserviert
A99: 50 | B99: Cryptos. Die Graphic Novel | C99: Ursula Poznanski / Christopher Tauber | D99: Loewe Graphix | E99: 978-3-7432-2127-7 | F99: 24 | G99: 0 | H99: =IFERROR(F99*(1-G99),F99) -> 24 | I99: =J99/1.07 -> 291.58879 | J99: =H99*$L$48 -> 312 | K99: reserviert
A100: 51 | B100: Don't kiss the Dragon 1 | C100: Irono | D100: Loewe Manga | E100: 978-3-7432-1997-7 | F100: 8.5 | G100: 0 | H100: =IFERROR(F100*(1-G100),F100) -> 8.5 | I100: =J100/1.07 -> 103.27103 | J100: =H100*$L$48 -> 110.5 | K100: reserviert
A101: 52 | B101: Don't kiss the Dragon 2 | C101: Irono | D101: Loewe Manga | E101: 978-3-7432-2016-4 | F101: 8.5 | G101: 0 | H101: =IFERROR(F101*(1-G101),F101) -> 8.5 | I101: =J101/1.07 -> 103.27103 | J101: =H101*$L$48 -> 110.5 | K101: reserviert
A102: 53 | B102: Don't kiss the Dragon 3 | C102: Irono | D102: Loewe Manga | E102: 978-3-7432-2017-1 | F102: 8.5 | G102: 0 | H102: =IFERROR(F102*(1-G102),F102) -> 8.5 | I102: =J102/1.07 -> 103.27103 | J102: =H102*$L$48 -> 110.5 | K102: reserviert
A103: 54 | B103: Don't kiss the Dragon 4 | C103: Irono | D103: Loewe Manga | E103: 978-3-7432-2249-6 | F103: 8.5 | G103: 0 | H103: =IFERROR(F103*(1-G103),F103) -> 8.5 | I103: =J103/1.07 -> 103.27103 | J103: =H103*$L$48 -> 110.5 | K103: reserviert
... A112: 63 | B112: London Hearts 2: Two Steps Away | C112: Lorena Schäfer | D112: one | E112: 978-3-8466-0279-9 | F112: 16 | G112: 0 | H112: =IFERROR(F112*(1-G112),F112) -> 16 | I112: =J112/1.07 -> 194.39252 | J112: =H112*$L$48 -> 208 | K112: angefragt
A113: 64 | B113: Guinness World Records Gamers Edition | D113: Ravensburger | E113: 978-3-4734-8079-5 | F113: 17.99 | G113: 0 | H113: =IFERROR(F113*(1-G113),F113) -> 17.99 | I113: =J113/1.07 -> 218.57009 | J113: =H113*$L$48 -> 233.87 | K113: reserviert
A114: 65 | B114: Ascendance of a Bookworm 1 | C114: Miya Kazuki / Suzuka | D114: Splitter Manga | E114: 978-3-68950-393-2 | F114: 10.5 | G114: 0 | H114: =IFERROR(F114*(1-G114),F114) -> 10.5 | I114: =J114/1.07 -> 127.57009 | J114: =H114*$L$48 -> 136.5 | K114: verfügbar | L114: Reservierung lt. Verlag nicht erforderlich
A115: 66 | B115: Ascendance of a Bookworm 2 | C115: Miya Kazuki / Suzuka | D115: Splitter Manga | E115: 978-3-68950-394-9 | F115: 10.5 | G115: 0 | H115: =IFERROR(F115*(1-G115),F115) -> 10.5 | I115: =J115/1.07 -> 127.57009 | J115: =H115*$L$48 -> 136.5 | K115: verfügbar | L115: Reservierung lt. Verlag nicht erforderlich
A116: 67 | B116: Ascendance of a Bookworm 3 | C116: Miya Kazuki / Suzuka | D116: Splitter Manga | E116: 978-3-68950-395-6 | F116: 10.5 | G116: 0 | H116: =IFERROR(F116*(1-G116),F116) -> 10.5 | I116: =J116/1.07 -> 127.57009 | J116: =H116*$L$48 -> 136.5 | K116: verfügbar | L116: Reservierung lt. Verlag nicht erforderlich
A117: 68 | B117: Die Legende des Hakutaku | C117: Alba Cardona | D117: Splitter Manga | E117: 978-3-68950-342-0 | F117: 12 | G117: 0 | H117: =IFERROR(F117*(1-G117),F117) -> 12 | I117: =J117/1.07 -> 145.79439 | J117: =H117*$L$48 -> 156 | K117: verfügbar | L117: Reservierung lt. Verlag nicht erforderlich
A118: 69 | B118: Lumine 1 | C118: Emma Krogell | D118: Splitter Manga | E118: 978-3-68950-306-2 | F118: 18 | G118: 0 | H118: =IFERROR(F118*(1-G118),F118) -> 18 | I118: =J118/1.07 -> 218.69159 | J118: =H118*$L$48 -> 234 | K118: verfügbar | L118: Reservierung lt. Verlag nicht erforderlich
A119: 70 | B119: Lumine 2 | C119: Emma Krogell | D119: Splitter Manga | E119: 978-3-68950-307-9 | F119: 18 | G119: 0 | H119: =IFERROR(F119*(1-G119),F119) -> 18 | I119: =J119/1.07 -> 218.69159 | J119: =H119*$L$48 -> 234 | K119: verfügbar | L119: Reservierung lt. Verlag nicht erforderlich
A120: 71 | B120: A Tale of the Secret Saint 1 | C120: Mahito Aobe | D120: Tokyopop | E120: 978-3-7593-1550-2 | F120: 7.5 | G120: 0 | H120: =IFERROR(F120*(1-G120),F120) -> 7.5 | I120: =J120/1.07 -> 91.121495 | J120: =H120*$L$48 -> 97.5 | K120: angefragt
A121: 72 | B121: A Tale of the Secret Saint 2 | C121: Mahito Aobe | D121: Tokyopop | E121: 978-3-7593-1551-9 | F121: 7.5 | G121: 0 | H121: =IFERROR(F121*(1-G121),F121) -> 7.5 | I121: =J121/1.07 -> 91.121495 | J121: =H121*$L$48 -> 97.5 | K121: angefragt
A122: 73 | B122: A Tale of the Secret Saint 3 | C122: Mahito Aobe | D122: Tokyopop | E122: 978-3-7593-1552-6 | F122: 7.5 | G122: 0 | H122: =IFERROR(F122*(1-G122),F122) -> 7.5 | I122: =J122/1.07 -> 91.121495 | J122: =H122*$L$48 -> 97.5 | K122: angefragt
A123: 74 | B123: Anne mit den roten Haaren 1 | C123: Lucy Maude Montgomery, Yumiko Igarashi | D123: Tokyopop | E123: 978-3-7593-0276-2 | F123: 8 | G123: 0 | H123: =IFERROR(F123*(1-G123),F123) -> 8 | I123: =J123/1.07 -> 97.196262 | J123: =H123*$L$48 -> 104 | K123: angefragt
A124: 75 | B124: Anne mit den roten Haaren 2 | C124: Lucy Maude Montgomery, Yumiko Igarashi | D124: Tokyopop | E124: 978-3-7593-0277-9 | F124: 8 | G124: 0 | H124: =IFERROR(F124*(1-G124),F124) -> 8 | I124: =J124/1.07 -> 97.196262 | J124: =H124*$L$48 -> 104 | K124: angefragt
A125: 76 | B125: Anne mit den roten Haaren 3 | C125: Lucy Maude Montgomery, Yumiko Igarashi | D125: Tokyopop | E125: 978-3-7593-0278-6 | F125: 8 | G125: 0 | H125: =IFERROR(F125*(1-G125),F125) -> 8 | I125: =J125/1.07 -> 97.196262 | J125: =H125*$L$48 -> 104 | K125: angefragt
A126: 77 | B126: Anne mit den roten Haaren 4 | C126: Lucy Maude Montgomery, Yumiko Igarashi | D126: Tokyopop | E126: 978-3-7593-0279-3 | F126: 8 | G126: 0 | H126: =IFERROR(F126*(1-G126),F126) -> 8 | I126: =J126/1.07 -> 97.196262 | J126: =H126*$L$48 -> 104 | K126: angefragt
A127: 78 | B127: Anne mit den roten Haaren 5 | C127: Lucy Maude Montgomery, Yumiko Igarashi | D127: Tokyopop | E127: 978-3-7593-0280-9 | F127: 8 | G127: 0 | H127: =IFERROR(F127*(1-G127),F127) -> 8 | I127: =J127/1.07 -> 97.196262 | J127: =H127*$L$48 -> 104 | K127: angefragt
A128: 79 | B128: Super Mario - Seine lustigsten Abenteuer | C128: Yukio Sawada | D128: Tokyopop | E128: 978-3-7593-1474-1 | F128: 10 | G128: 0 | H128: =IFERROR(F128*(1-G128),F128) -> 10 | I128: =J128/1.07 -> 121.49533 | J128: =H128*$L$48 -> 130 | K128: angefragt
A129: 80 | B129: Aylin 01: Das Geheimnis der Elfen | C129: Ricardo Serrazina / Madle | D129: toonfish | E129: 978-3-98721-746-3 | F129: 17.95 | G129: 0 | H129: =IFERROR(F129*(1-G129),F129) -> 17.95 | I129: =J129/1.07 -> 218.08411 | J129: =H129*$L$48 -> 233.35 | K129: angefragt
E131: Gesamt | F131: =SUM(F50:F129) -> 1088.49 | H131: =SUM(H50:H129) -> 1068.4055 | I131: =ROUND(SUM(I50:I129),2) -> 12980.63 | J131: =ROUND(SUM(J50:J129),2) -> 13889.27

Sheet Teillos 5 - Bücher
A1: Anlage zur Vergabe-Nr. 339 - Teillos 3 | L1: =Losübersicht!$E$1 -> 46286
H2: Gesamtangebot in Euro | I2: =SUMIFS(I:I,$E:$E,"Gesamt") -> 43841.82 | J2: =SUMIFS(J:J,$E:$E,"Gesamt") -> 46910.75
A4: Paket "01: Lesestufe 1" | K4: Liefermenge | L4: 69
A5: # | B5: Titel | C5: Autor/in/nen | D5: Verlag | E5: ISBN-13 | F5: Ladenpreis in Euro (je Exemplar, brutto) | G5: MPN | H5: Mengenpreis in Euro (je Exemplar, brutto) | I5: Preis in Euro für Liefermenge (netto) | J5: Preis in Euro für Liefermenge (brutto) | K5: Status Verfügbarkeit | L5: Anmerkung
A6: 1 | B6: Bücherbär. Katzenglück für Mia und Ben | C6: Julia Boehme / Katrin Meiller | D6: Arena | E6: 978-3401722047 | F6: 10 | G6: 0.1 | H6: =IFERROR(F6*(1-G6),F6) -> 9 | I6: =J6/1.07 -> 580.37383 | J6: =H6*$L$4 -> 621 | K6: reserviert
A7: 2 | B7: Bücherbär: Zusammen sind wir stark | C7: Frauke Nahrgang / Catharina Westphal | D7: Arena | E7: 978-3401722061 | F7: 10 | G7: 0.1 | H7: =IFERROR(F7*(1-G7),F7) -> 9 | I7: =J7/1.07 -> 580.37383 | J7: =H7*$L$4 -> 621 | K7: reserviert
A8: 3 | B8: Das kleine WIR feiert Geburtstag | C8: Daniela Kunkel / Steffi Korda (Ill.) | D8: Carlsen | E8: 978-3551691446 | F8: 9 | G8: 0.15 | H8: =IFERROR(F8*(1-G8),F8) -> 7.65 | I8: =J8/1.07 -> 493.31776 | J8: =H8*$L$4 -> 527.85 | K8: angefragt
A9: 4 | B9: Einfach Lesen lernen: Tilli und die Zahnfee. Wackelzahn und Glitzerkleber | C9: Lucy Astner / Alexandra Helm | D9: Carlsen | E9: 978-3551691460 | F9: 9 | G9: 0.15 | H9: =IFERROR(F9*(1-G9),F9) -> 7.65 | I9: =J9/1.07 -> 493.31776 | J9: =H9*$L$4 -> 527.85 | K9: angefragt
A10: 5 | B10: Pokémon. Das Geheimnis der sechs Helden | C10: Nora de Lon | D10: Carlsen | E10: 978-3551690678 | F10: 9 | G10: 0.15 | H10: =IFERROR(F10*(1-G10),F10) -> 7.65 | I10: =J10/1.07 -> 493.31776 | J10: =H10*$L$4 -> 527.85 | K10: angefragt
A11: 6 | B11: Schulhofwitze für die große Pause | C11: Annika Frank | D11: Carlsen | E11: 978-3551691330 | F11: 9 | G11: 0.15 | H11: =IFERROR(F11*(1-G11),F11) -> 7.65 | I11: =J11/1.07 -> 493.31776 | J11: =H11*$L$4 -> 527.85 | K11: angefragt
A12: 7 | B12: Erst ich ein Stück, dann du: Stinktier & Co - Weiter, schneller, stinkiger! | C12: Rüdiger Bertram | D12: cbj | E12: 978-3570181256 | F12: 10 | G12: 0.125 | H12: =IFERROR(F12*(1-G12),F12) -> 8.75 | I12: =J12/1.07 -> 564.25234 | J12: =H12*$L$4 -> 603.75 | K12: reserviert
A13: 8 | B13: DK Superleser: Star Wars, die Abenteuer der Jungen Jedi: Die Suche nach dem Aschehund | C13: Sebastian Twardokus | D13: Dorling Kindersley | E13: 978-3831052028 | F13: 8.95 | G13: 0.1 | H13: =IFERROR(F13*(1-G13),F13) -> 8.055 | I13: =J13/1.07 -> 519.43458 | J13: =H13*$L$4 -> 555.795 | K13: reserviert
A14: 9 | B14: Duden Dein Lesestart: Weißt du schon alles über Supertiere? | C14: Helen Seeberg | D14: Dudenverlag | E14: 978-3411733101 | F14: 10 | G14: 0.1 | H14: =IFERROR(F14*(1-G14),F14) -> 9 | I14: =J14/1.07 -> 580.37383 | J14: =H14*$L$4 -> 621 | K14: verfügbar | L14: Reservierung lt. Verlag nicht erforderlich
A15: 10 | B15: Leseprofis 1. Klasse: Die total verrückte Schrumpfmaschine | C15: Heike Wiechmann | D15: Fischer Sauerländer | E15: 978-3737375924 | F15: 9 | G15: 0.1 | H15: =IFERROR(F15*(1-G15),F15) -> 8.1 | I15: =J15/1.07 -> 522.33645 | J15: =H15*$L$4 -> 558.9 | K15: reserviert
A16: 11 | B16: Bildermaus. Gechichten vom kleinen Koala | C16: Christiane Wittenburg / Elke Broska | D16: Loewe | E16: 978-3743219069 | F16: 9.95 | G16: 0.07 | H16: =IFERROR(F16*(1-G16),F16) -> 9.2535 | I16: =J16/1.07 -> 596.72103 | J16: =H16*$L$4 -> 638.4915 | K16: reserviert
A17: 12 | B17: Leselöwen 1. Klasse: Drei Waschbären für alle Fälle | C17: Christian Tielmann/ Nadine Y. Resch | D17: Loewe | E17: 978-3743218994 | F17: 9.95 | G17: 0.07 | H17: =IFERROR(F17*(1-G17),F17) -> 9.2535 | I17: =J17/1.07 -> 596.72103 | J17: =H17*$L$4 -> 638.4915 | K17: reserviert
A18: 13 | B18: Leselöwen Comics 1. Klasse. Plötzlich Polizist | C18: Katja Reider / Josephine Wolff | D18: Loewe | E18: 978-3743221895 | F18: 9.95 | G18: 0.07 | H18: =IFERROR(F18*(1-G18),F18) -> 9.2535 | I18: =J18/1.07 -> 596.72103 | J18: =H18*$L$4 -> 638.4915 | K18: reserviert
A19: 14 | B19: Leselöwen Comics 1. Klasse: Drachen-Alarm auf der magischen Insel | C19: Barbara Rose / Cornelis Jettke | D19: Loewe | E19: 978-3743221116 | F19: 9.95 | G19: 0.07 | H19: =IFERROR(F19*(1-G19),F19) -> 9.2535 | I19: =J19/1.07 -> 596.72103 | J19: =H19*$L$4 -> 638.4915 | K19: reserviert
A20: 15 | B20: Mein supersüßes Haustier. Kiki zieht ein | C20: Hanna Tkachenko | D20: Oetinger | E20: 978-3751207751 | F20: 10 | G20: 0.05 | H20: =IFERROR(F20*(1-G20),F20) -> 9.5 | I20: =J20/1.07 -> 612.61682 | J20: =H20*$L$4 -> 655.5 | K20: verfügbar | L20: Reservierung in Klärung
A21: 16 | B21: Disney Magische Geschichten | D21: Ravensburger | E21: 978-3473498222 | F21: 8.99 | G21: 0.1 | H21: =IFERROR(F21*(1-G21),F21) -> 8.091 | I21: =J21/1.07 -> 521.75607 | J21: =H21*$L$4 -> 558.279 | K21: reserviert
A22: 17 | B22: Leserabe kurz + leicht: Schulgeschichten | C22: Julia Breitenöder | D22: Ravensburger | E22: 978-3473464203 | F22: 8.99 | G22: 0.1 | H22: =IFERROR(F22*(1-G22),F22) -> 8.091 | I22: =J22/1.07 -> 521.75607 | J22: =H22*$L$4 -> 558.279 | K22: reserviert
A23: 18 | B23: Lilo & Stitch. Auf die Plätze, fertig, Stitch! | D23: Ravensburger | E23: 978-3473498581 | F23: 5.99 | G23: 0.1 | H23: =IFERROR(F23*(1-G23),F23) -> 5.391 | I23: =J23/1.07 -> 347.64393 | J23: =H23*$L$4 -> 371.979 | K23: reserviert
A24: 19 | B24: Was ist was. Erstes Lesen Easy. Katzen - meine Lieblingstiere | C24: Sonja Meierjürgen | D24: Tessloff | E24: 978-3788681265 | F24: 8.95 | G24: 0.15 | H24: =IFERROR(F24*(1-G24),F24) -> 7.6075 | I24: =J24/1.07 -> 490.5771 | J24: =H24*$L$4 -> 524.9175 | K24: reserviert
E26: Gesamt | F26: =SUM(F6:F24) -> 176.67 | H26: =SUM(H6:H24) -> 158.1995 | I26: =ROUND(SUM(I6:I24),2) -> 10201.65 | J26: =ROUND(SUM(J6:J24),2) -> 10915.77
A28: Paket "03: Lesestufe 3" | K28: Liefermenge | L28: 34
A29: # | B29: Titel | C29: Autor/in/nen | D29: Verlag | E29: ISBN-13 | F29: Ladenpreis in Euro (je Exemplar, brutto) | G29: MPN | H29: Mengenpreis in Euro (je Exemplar, brutto) | I29: Preis in Euro für Liefermenge (netto) | J29: Preis in Euro für Liefermenge (brutto) | K29: Status Verfügbarkeit | L29: Anmerkung
A30: 1 | B30: Der Club der schrägen Prinzessinnen | C30: Nicole Röndings/ Marta Kissi | D30: Baumhaus | E30: 978-3833910548 | F30: 14 | G30: 0.05 | H30: =IFERROR(F30*(1-G30),F30) -> 13.3 | I30: =J30/1.07 -> 422.61682 | J30: =H30*$L$28 -> 452.2 | K30: angefragt
A31: 2 | B31: SuperBikes. Das Abenteuer beginnt | C31: Hanna Sörensen / Stefan Leuchtenberg | D31: Carlsen | E31: 978-3551271877 | F31: 14 | G31: 0.1 | H31: =IFERROR(F31*(1-G31),F31) -> 12.6 | I31: =J31/1.07 -> 400.37383 | J31: =H31*$L$28 -> 428.4 | K31: angefragt
A32: 3 | B32: Vier viertel und ein Haufen Chaos | C32: Constanze von Kitzing / Cally Stronk | D32: Carlsen | E32: 978-3551656681 | F32: 14 | G32: 0.1 | H32: =IFERROR(F32*(1-G32),F32) -> 12.6 | I32: =J32/1.07 -> 400.37383 | J32: =H32*$L$28 -> 428.4 | K32: angefragt
A33: 4 | B33: Einfach Lesen lernen 3. Klasse: Eiswanderer - bis die Zapfen schmelzen! | C33: Heiko Wolz / André Sedlaczek | D33: Carlsen | E33: 978-3551068705 | F33: 9 | G33: 0.1 | H33: =IFERROR(F33*(1-G33),F33) -> 8.1 | I33: =J33/1.07 -> 257.38318 | J33: =H33*$L$28 -> 275.4 | K33: angefragt
A34: 5 | B34: Monsterjäger. Level 1: Helden-Test | C34: Kieran Larwood / Joe Todd-Stanton | D34: cbj | E34: 978-3570183656 | F34: 12 | G34: 0.1 | H34: =IFERROR(F34*(1-G34),F34) -> 10.8 | I34: =J34/1.07 -> 343.17757 | J34: =H34*$L$28 -> 367.2 | K34: reserviert
A35: 6 | B35: Das Keksgeheimnis (super lesbar) | C35: Anna van Lanen | D35: Gulliver | E35: 978-3407824769 | F35: 10 | G35: 0.1 | H35: =IFERROR(F35*(1-G35),F35) -> 9 | I35: =J35/1.07 -> 285.98131 | J35: =H35*$L$28 -> 306 | K35: verfügbar | L35: Reservierung lt. Verlag nicht erforderlich
A36: 7 | B36: Sternenschweif. Die Suche nach dem Feuerdrachen | C36: Linda Chapman / Uli Leistenschneider / Anna-Lena Kühler | D36: Kosmos | E36: 978-3440181973 | F36: 12 | G36: 0.1 | H36: =IFERROR(F36*(1-G36),F36) -> 10.8 | I36: =J36/1.07 -> 343.17757 | J36: =H36*$L$28 -> 367.2 | K36: reserviert
A37: 8 | B37: Leselöwen 3. Klasse: Der große Wurf | C37: Irene Margil/ Thilo Krapp (Ill.) | D37: Loewe | E37: 978-3743220683 | F37: 9.95 | G37: 0.05 | H37: =IFERROR(F37*(1-G37),F37) -> 9.4525 | I37: =J37/1.07 -> 300.35981 | J37: =H37*$L$28 -> 321.385 | K37: reserviert
A38: 9 | B38: Leselöwen 3. Klasse: Freiheit für die Mustangs | C38: Sabine Giebken / Sarah-Lisa Helb | D38: Loewe | E38: 978-3743218949 | F38: 9.95 | G38: 0.05 | H38: =IFERROR(F38*(1-G38),F38) -> 9.4525 | I38: =J38/1.07 -> 300.35981 | J38: =H38*$L$28 -> 321.385 | K38: reserviert
A39: 10 | B39: Leselöwen 3. Klasse: Geheimagent auf gefährlicher Mission | C39: Michael Petrowitz / Jan Saße | D39: Loewe | E39: 978-3743218956 | F39: 9.95 | G39: 0.05 | H39: =IFERROR(F39*(1-G39),F39) -> 9.4525 | I39: =J39/1.07 -> 300.35981 | J39: =H39*$L$28 -> 321.385 | K39: reserviert
A40: 11 | B40: Tiger Warrior. Der Angriff des Drachenkönigs | C40: Maisi Chan | D40: Loewe | E40: 978-3743223530 | F40: 9.95 | G40: 0.05 | H40: =IFERROR(F40*(1-G40),F40) -> 9.4525 | I40: =J40/1.07 -> 300.35981 | J40: =H40*$L$28 -> 321.385 | K40: reserviert
A41: 12 | B41: Der Leuchtturmbär | C41: Mathilde Stein / Piet Gobler | D41: Moritz | E41: 978-3895654909 | F41: 13.95 | G41: 0.1 | H41: =IFERROR(F41*(1-G41),F41) -> 12.555 | I41: =J41/1.07 -> 398.94393 | J41: =H41*$L$28 -> 426.87 | K41: verfügbar | L41: Reservierung lt. Verlag nicht erforderlich
A42: 13 | B42: Die Olchis und das Sams. Due kaputte Waschmaschine | C42: Erhard Dietl / Paul Maar | D42: Oetinger | E42: 978-3751208437 | F42: 15 | G42: 0 | H42: =IFERROR(F42*(1-G42),F42) -> 15 | I42: =J42/1.07 -> 476.63551 | J42: =H42*$L$28 -> 510 | K42: verfügbar | L42: Reservierung in Klärung
A43: 14 | B43: Mein Seepferdchenhof. Wilde Flosse, großes Herz | C43: Kathrin Lena Orso / Leonie Engel | D43: Oetinger | E43: 978-3751207225 | F43: 12 | G43: 0 | H43: =IFERROR(F43*(1-G43),F43) -> 12 | I43: =J43/1.07 -> 381.30841 | J43: =H43*$L$28 -> 408 | K43: verfügbar | L43: Reservierung in Klärung
A44: 15 | B44: Pippi geht einkaufen | C44: Astrid Lindgren | D44: Oetinger | E44: 978-3751208475 | F44: 10 | G44: 0 | H44: =IFERROR(F44*(1-G44),F44) -> 10 | I44: =J44/1.07 -> 317.75701 | J44: =H44*$L$28 -> 340 | K44: verfügbar | L44: Reservierung in Klärung
A45: 16 | B45: Die unendliche Klassenfahrt. Der Schatz auf der Dreizack-Insel | C45: Michael Petrowitz / Stefanie Klaßen | D45: Ravensburger | E45: 978-3473463992 | F45: 11.99 | G45: 0.1 | H45: =IFERROR(F45*(1-G45),F45) -> 10.791 | I45: =J45/1.07 -> 342.89159 | J45: =H45*$L$28 -> 366.894 | K45: reserviert
A46: 17 | B46: Pop-Stars. Alles über Taylor Swift. Vom Gesangstalent zum Megastar | C46: Anja Kiel/ Timo Grubing | D46: Ravensburger | E46: 978-3473464685 | F46: 9.99 | G46: 0 | H46: =IFERROR(F46*(1-G46),F46) -> 9.99 | I46: =J46/1.07 -> 317.43925 | J46: =H46*$L$28 -> 339.66 | K46: reserviert
A47: 18 | B47: Minecraft erste Leseabenteuer. Angriff im Nether | C47: Caleb Zane Huett | D47: Schneiderbuch | E47: 978-3505153167 | F47: 12 | G47: 0.15 | H47: =IFERROR(F47*(1-G47),F47) -> 10.2 | I47: =J47/1.07 -> 324.11215 | J47: =H47*$L$28 -> 346.8 | K47: verfügbar | L47: Reservierung lt. Verlag nicht erforderlich
A48: 19 | B48: Minecraft erste Leseabenteuer. Zwischen Lava und Eis | C48: Caleb Zane Huett / Alan Batson / Chris Hill | D48: Schneiderbuch | E48: 978-3505153327 | F48: 12 | G48: 0.15 | H48: =IFERROR(F48*(1-G48),F48) -> 10.2 | I48: =J48/1.07 -> 324.11215 | J48: =H48*$L$28 -> 346.8 | K48: verfügbar | L48: Reservierung lt. Verlag nicht erforderlich
A49: 20 | B49: Wonder und ich | C49: Britta Sabbag | D49: Schneiderbuch | E49: 978-3505152443 | F49: 13 | G49: 0.15 | H49: =IFERROR(F49*(1-G49),F49) -> 11.05 | I49: =J49/1.07 -> 351.1215 | J49: =H49*$L$28 -> 375.7 | K49: verfügbar | L49: Reservierung lt. Verlag nicht erforderlich
E51: Gesamt | F51: =SUM(F30:F49) -> 234.73 | H51: =SUM(H30:H49) -> 216.796 | I51: =ROUND(SUM(I30:I49),2) -> 6888.84 | J51: =ROUND(SUM(J30:J49),2) -> 7371.06
A53: Paket "09: Staunen" | K53: Liefermenge | L53: 97
A54: # | B54: Titel | C54: Autor/in/nen | D54: Verlag | E54: ISBN-13 | F54: Ladenpreis in Euro (je Exemplar, brutto) | G54: MPN | H54: Mengenpreis in Euro (je Exemplar, brutto) | I54: Preis in Euro für Liefermenge (netto) | J54: Preis in Euro für Liefermenge (brutto) | K54: Status Verfügbarkeit | L54: Anmerkung
A55: 1 | B55: Mitten durch. Eine spannende Reise zum Mittelpunkt der Erde | C55: Annett Stütze / Jana Walczyk (Ill.) | D55: arsEdition | E55: 978-3845862187 | F55: 18 | G55: 0.125 | H55: =IFERROR(F55*(1-G55),F55) -> 15.75 | I55: =J55/1.07 -> 1427.8037 | J55: =H55*$L$53 -> 1527.75 | K55: reserviert
A56: 2 | B56: Gute Frage! Sind Bienen kleine Superhelden? | C56: Eliza Jeffery / Lays Bittencoutz | D56: Carlsen | E56: 978-3551256034 | F56: 12 | G56: 0.2 | H56: =IFERROR(F56*(1-G56),F56) -> 9.6 | I56: =J56/1.07 -> 870.28037 | J56: =H56*$L$53 -> 931.2 | K56: angefragt
A57: 3 | B57: Gute Frage! Sind Wale klüger als Menschen? | C57: Eliza Jeffery / Lays Bittencoutz | D57: Carlsen | E57: 978-3551256027 | F57: 12 | G57: 0.2 | H57: =IFERROR(F57*(1-G57),F57) -> 9.6 | I57: =J57/1.07 -> 870.28037 | J57: =H57*$L$53 -> 931.2 | K57: angefragt
A58: 4 | B58: Die größten Entdeckungen der Menschheit | C58: Robert Winston | D58: Dorling Kindersley | E58: 978-3831052264 | F58: 20 | G58: 0.1 | H58: =IFERROR(F58*(1-G58),F58) -> 18 | I58: =J58/1.07 -> 1631.7757 | J58: =H58*$L$53 -> 1746 | K58: reserviert
A59: 5 | B59: Handbuch der magischen Experimente | C59: A.J. Wood und Jo Rioux | D59: Dorling Kindersley | E59: 978-3831051939 | F59: 19.95 | G59: 0.1 | H59: =IFERROR(F59*(1-G59),F59) -> 17.955 | I59: =J59/1.07 -> 1627.6963 | J59: =H59*$L$53 -> 1741.635 | K59: reserviert
A60: 6 | B60: Wilden Tieren auf der Spur | C60: Lizzie Daly / Chiara Fedele | D60: Dorling Kindersley | E60: 978-3831051090 | F60: 14.95 | G60: 0.1 | H60: =IFERROR(F60*(1-G60),F60) -> 13.455 | I60: =J60/1.07 -> 1219.7523 | J60: =H60*$L$53 -> 1305.135 | K60: reserviert
A61: 7 | B61: Regenwurm und Anaconda. Was Tiere über sich erzählen | C61: Annemarie van Haeringen / Bibi Dumon Tak | D61: Gerstenberg | E61: 978-3836962919 | F61: 22 | G61: 0.15 | H61: =IFERROR(F61*(1-G61),F61) -> 18.7 | I61: =J61/1.07 -> 1695.2336 | J61: =H61*$L$53 -> 1813.9 | K61: reserviert
A62: 8 | B62: Steine! Ganz schön genial | C62: Stepha Quitterer/ Lia Seybold | D62: Gerstenberg | E62: 978-3836963169 | F62: 24 | G62: 0.15 | H62: =IFERROR(F62*(1-G62),F62) -> 20.4 | I62: =J62/1.07 -> 1849.3458 | J62: =H62*$L$53 -> 1978.8 | K62: reserviert
A63: 9 | B63: Wie macht man das ? | C63: Pieter Gaudesaboos / Bart Rossel | D63: Gerstenberg | E63: 978-3836963688 | F63: 28 | G63: 0.15 | H63: =IFERROR(F63*(1-G63),F63) -> 23.8 | I63: =J63/1.07 -> 2157.5701 | J63: =H63*$L$53 -> 2308.6 | K63: reserviert
A64: 10 | B64: Ausflug in die Antarktis. Der Eiskontinent, der vor Leben sprüht | C64: Guillaume de Rémacle / Adrienne Barman | D64: Helvetiq | E64: 978-3039641284 | F64: 19.9 | G64: 0 | H64: =IFERROR(F64*(1-G64),F64) -> 19.9 | I64: =J64/1.07 -> 1804.0187 | J64: =H64*$L$53 -> 1930.3 | K64: angefragt
A65: 11 | B65: Wie wohnt man auf dem Mond? | C65: Joalda Morancy / Aaron Cushley (Ill.) | D65: Karibu | E65: 978-3961295159 | F65: 16.99 | G65: 0.15 | H65: =IFERROR(F65*(1-G65),F65) -> 14.4415 | I65: =J65/1.07 -> 1309.1827 | J65: =H65*$L$53 -> 1400.8255 | K65: verfügbar | L65: Reservierung lt. Verlag nicht erforderlich
A66: 12 | B66: Schlafen. Vom Träumen, Schnarchen und Schlafwandeln | C66: Wendy Bjazevich / Juliana eigner (Ill.) | D66: Knesebeck | E66: 978-3957289209 | F66: 18 | G66: 0.15 | H66: =IFERROR(F66*(1-G66),F66) -> 15.3 | I66: =J66/1.07 -> 1387.0093 | J66: =H66*$L$53 -> 1484.1 | K66: verfügbar | L66: Reservierung lt. Verlag nicht erforderlich
A67: 13 | B67: Schlaufux: Roboter und KI | C67: Beate Jost / Thorsten Leimbach | D67: Kosmos | E67: 978-3440182437 | F67: 14 | G67: 0.15 | H67: =IFERROR(F67*(1-G67),F67) -> 11.9 | I67: =J67/1.07 -> 1078.785 | J67: =H67*$L$53 -> 1154.3 | K67: reserviert
A68: 14 | B68: Was geschieht im Dunkeln? Entdecke die Geheimnisse der Nacht | C68: Helena Harastova / Jiri Franta | D68: Loewe | E68: 978-3743220935 | F68: 15 | G68: 0.07 | H68: =IFERROR(F68*(1-G68),F68) -> 13.95 | I68: =J68/1.07 -> 1264.6262 | J68: =H68*$L$53 -> 1353.15 | K68: reserviert
A69: 15 | B69: Bones. Knochen und Skelette in der Tierwelt | C69: Jules Howard / Chervelle Fryer | D69: Magellan | E69: 978-3734860850 | F69: 24 | G69: 0 | H69: =IFERROR(F69*(1-G69),F69) -> 24 | I69: =J69/1.07 -> 2175.7009 | J69: =H69*$L$53 -> 2328 | K69: reserviert
A70: 16 | B70: Die 100 schönsten Tiere der Welt | C70: Bärbel Oftring | D70: moses | E70: 978-3964553829 | F70: 16.95 | G70: 0.06 | H70: =IFERROR(F70*(1-G70),F70) -> 15.933 | I70: =J70/1.07 -> 1444.3935 | J70: =H70*$L$53 -> 1545.501 | K70: verfügbar | L70: Reservierung lt. Verlag nicht erforderlich
A71: 17 | B71: Das große Buch der Kinderfragen | C71: Petra Maria Schmitt / Christian Dreller | D71: Oetinger | E71: 978-3751208222 | F71: 20 | G71: 0.1 | H71: =IFERROR(F71*(1-G71),F71) -> 18 | I71: =J71/1.07 -> 1631.7757 | J71: =H71*$L$53 -> 1746 | K71: verfügbar | L71: Reservierung in Klärung
A72: 18 | B72: Was ist was. Training für den Mond | C72: Matthias Maurer | D72: Tessloff | E72: 978-3788686567 | F72: 16.95 | G72: 0.15 | H72: =IFERROR(F72*(1-G72),F72) -> 14.4075 | I72: =J72/1.07 -> 1306.1005 | J72: =H72*$L$53 -> 1397.5275 | K72: reserviert
E74: Gesamt | F74: =SUM(F55:F72) -> 332.69 | H74: =SUM(H55:H72) -> 295.092 | I74: =ROUND(SUM(I55:I72),2) -> 26751.33 | J74: =ROUND(SUM(J55:J72),2) -> 28623.92

Sheet Teillos 6 - Non-Books
A1: Anlage zur Vergabe-Nr. 339 - Teillos 7 | K1: =Losübersicht!$E$1 -> 46286
G2: Gesamtangebot in Euro | H2: =SUMIFS(H:H,$E:$E,"Gesamt") -> 0 | I2: =SUMIFS(I:I,$E:$E,"Gesamt") -> 0
A4: Paket "Non-Books" | J4: Liefermenge | K4: 245
A5: # | B5: Titel | C5: Autor/in/nen | D5: Verlag | E5: ISBN-13 | F5: Angebotspreis in Euro (je Einzelstück, netto) | G5: Angebotspreis in Euro (je Einzelstück, brutto) | H5: Preis in Euro für Liefermenge (netto) | I5: Preis in Euro für Liefermenge (brutto) | J5: Status Verfügbarkeit | K5: Anmerkung
A6: 1 | B6: Mutmurmeln für den ersten Schultag (Kamishibai) | C6: Sarah Welk | D6: Don Boscio | E6: 426-0694923641 | H6: =F6*$K$4 -> 0 | I6: =G6*$K$4 -> 0 | J6: reserviert
A7: 2 | B7: Yoga-Spiele für Kinder | C7: Ulrike Knuth / Gabriele Pohl | D7: Don Bosco | E7: 426-0694924006 | H7: =F7*$K$4 -> 0 | I7: =G7*$K$4 -> 0 | J7: reserviert
A8: 3 | B8: Eddie und Ella. Bedürfnisse wahrnehmen, erkennen und benennen (Kamishibai) | C8: Antja Bohnstedt | D8: Don Bosco | E8: 426-0694923658 | H8: =F8*$K$4 -> 0 | I8: =G8*$K$4 -> 0 | J8: reserviert
A9: 4 | B9: Eine Welt. Ein Augenblick (Kamishibai) | C9: Ben Lerwill/ Alette Srtaathof | D9: Don Bosco | E9: 426-0694923535 | H9: =F9*$K$4 -> 0 | I9: =G9*$K$4 -> 0 | J9: reserviert
A10: 5 | B10: Frank und Bert (Kamishibai) | C10: Chris Naylor-Ballesteros | D10: Don Bosco | E10: 426-0694923597 | H10: =F10*$K$4 -> 0 | I10: =G10*$K$4 -> 0 | J10: reserviert
A11: 6 | B11: Herr Krake räumt das Meer auf (Kamishibai) | C11: Barbara Rose / Katharina Sieg | D11: Don Bosco | E11: 426-0694923894 | H11: =F11*$K$4 -> 0 | I11: =G11*$K$4 -> 0 | J11: reserviert
A12: 7 | B12: Checkerin Marina - Checkst du's? Das Spiel | C12: Kaddy Arendt | D12: EMF | E12: 426-0478343801 | H12: =F12*$K$4 -> 0 | I12: =G12*$K$4 -> 0 | J12: reserviert
A13: 8 | B13: Pantomime. Switch it up | D13: EMF | E13: 426-0478343948 | H13: =F13*$K$4 -> 0 | I13: =G13*$K$4 -> 0 | J13: reserviert
A14: 9 | B14: Besiege die Tiere | C14: Cécile Dormeau | D14: Laurence King | E14: 978-3962444815 | H14: =F14*$K$4 -> 0 | I14: =G14*$K$4 -> 0 | J14: reserviert
A15: 10 | B15: Black Stories Junior. Tierisch wild! | C15: Andrea Köhrsen | D15: moses | E15: 403-3477901170 | H15: =F15*$K$4 -> 0 | I15: =G15*$K$4 -> 0 | J15: verfügbar | K15: Reservierung lt. Verlag nicht erforderlich
A16: 11 | B16: Blitz Zebra Astronaut. Das Wortkettenspiel | D16: moses | E16: 403-3477909411 | H16: =F16*$K$4 -> 0 | I16: =G16*$K$4 -> 0 | J16: verfügbar | K16: Reservierung lt. Verlag nicht erforderlich
A17: 12 | B17: Schätz it Junior | C17: Ralf zur Linde | D17: moses | E17: 403-3477909480 | H17: =F17*$K$4 -> 0 | I17: =G17*$K$4 -> 0 | J17: verfügbar | K17: Reservierung lt. Verlag nicht erforderlich
A18: 13 | B18: Würfelspaß Fußball | D18: moses | E18: 403-3477909640 | H18: =F18*$K$4 -> 0 | I18: =G18*$K$4 -> 0 | J18: reserviert
A19: 14 | B19: Krakel Orakel | D19: Topp | E19: 400-7742185435 | H19: =F19*$K$4 -> 0 | I19: =G19*$K$4 -> 0 | J19: angefragt
E21: Gesamt | F21: =ROUND(SUM(F6:F19),2) -> 0 | G21: =ROUND(SUM(G6:G19),2) -> 0 | H21: =ROUND(SUM(H6:H19),2) -> 0 | I21: =ROUND(SUM(I6:I19),2) -> 0

Sheet Teillos 7 - MINT
A1: Anlage zur Vergabe-Nr. 339 - Teillos 8 | I1: =Losübersicht!$E$1 -> 46286
E2: Gesamtangebot in Euro | F2: =SUMIFS(F:F,$C:$C,"Gesamt") -> 0 | G2: =SUMIFS(G:G,$C:$C,"Gesamt") -> 0
A4: Experimentierkästen
A5: # | B5: Artikel | C5: Liefermenge | D5: Angebotspreis in Euro (je Einzelstück, netto) | E5: Angebotspreis in Euro (je Einzelstück, brutto) | F5: Preis in Euro für Liefermenge (netto) | G5: Preis in Euro für Liefermenge (brutto) | H5: Hersteller / Produktbezeichnung / Artikelnummer / Produktlink | I5: Anmerkung
A6: 1 | B6: Experimentierkasten "Erneuerbare Energie" | C6: 37 | F6: =D6*$C6 -> 0 | G6: =E6*$C6 -> 0
A7: 2 | B7: Experimentierkasten "Pflanzen" | C7: 40 | F7: =D7*$C7 -> 0 | G7: =E7*$C7 -> 0
A8: 3 | B8: Experimentierkasten "Mikroskop" | C8: 51 | F8: =D8*$C8 -> 0 | G8: =E8*$C8 -> 0
A9: 4 | B9: Planetarium | C9: 46 | F9: =D9*$C9 -> 0 | G9: =E9*$C9 -> 0
A10: 5 | B10: Globus | C10: 23 | F10: =D10*$C10 -> 0 | G10: =E10*$C10 -> 0
A11: 6 | B11: Roboter-Bausatz | C11: 28 | F11: =D11*$C11 -> 0 | G11: =E11*$C11 -> 0
C13: Gesamt | D13: =SUM(D6:D11) -> 0 | E13: =SUM(E6:E11) -> 0 | F13: =SUM(F6:F11) -> 0 | G13: =SUM(G6:G11) -> 0
