Workbook
Name _msg1: [1]intern!$C$57
Name _msg2: [1]intern!$C$58
Name _msg3: [1]intern!$C$59
Name _msg4: [1]intern!$C$60
Name _msg5: [1]intern!$C$61
Name _msg6: [1]intern!$C$62
Name Eigenmittel: [1]Eigenmittel!$K$12
Name Einnahmen_Betreibermodell: [1]intern!$C$25
Name ERR_PRO: [1]Projektgebiet!$E$251
Name Excel_BuiltIn__FilterDatabase: AGS!#REF!
Name Festzustellende_Fördersumme: [1]intern!$C$48
Name Fördermodell: [1]intern!$C$8
Name Fördersätze: [1]intern!$C$68:$C$70
Name Fördersumme: [1]intern!$C$36
Name Hinweise: [1]intern!$C$56
Name Kofinanzierung: [1]Kofinanzierung!$K$14
Name Name_Fördermodell: [1]intern!$C$9
Name Zuwendungsfähige_Ausgaben: [1]intern!$C$28

Sheet intern
B1: Wert wird von Überblick BM/WL abgerufen | C1: BM | F1: WL
B2: Wert wird aus Tabelle abgerufen
B4: Version | E4: 211.1
B5: NUR INTERN (dieses Blatt erscheint nicht)
B7: Bezeichnung des Fördermodells | C7: Betreibermodell | F7: Wirtschaftlichkeitslücke
B8: Fördersatz automatisch ermittelt | C8: =Projektgebiet!I252/100 -> 0 | F8: =Projektgebiet!I252/100 -> 0
B9: Höchstfördersatz angewendet (nominal) | C9: =C8 -> 0 | F9: =F8 -> 0
B10: nachrichtl.: Vorhaben-Bagatellgrenze | C10: =IF(C9=0,0,INT(100000/C9)) -> 0 | F10: =IF(F9=0,0,INT(100000/F9)) -> 0
B12: Umlagefähige Gesamtinvestition | C12: =BM!C36 -> 0 | F12: =WL!C27 -> 0
B13: - Eigeninvestition | C13: =BM!C36-BM!D40 -> 0 | F13: =WL!C27-WL!E47 -> 0
B14: = umgelegte/Beantragte Investition | C14: =C12-C13 -> 0 | F14: =F12-F13 -> 0
A16: 3.1 | B16: Barwert aller Kosten des Netzaufbaus und -betriebs für einen Zeitraum von 7 Jahren | F16: =WL!C52 -> 0
B17: Barwert aller Einnahmen | F17: =WL!C39 -> 0
B18: Wirtschaftlichkeitslücke | F18: =F16-F17 -> 0
A20: 3.2 | B20: Kosten (Betreibermodell) | C20: =BM!C46 -> 0
A21: 6.2,2 | B21: Barwert Pachterlöse | C21: =BM!C54 -> 0
A22: 6.2,2 | B22: "anteilig bezogen auf Fördersumme Bund" | C22: =C21 -> 0
A23: 3.2/6.2 | B23: Zuwendungsfähige Ausgaben (Betreibermodell) | C23: =C20-C22 -> 0
A25: 6.2 | B25: Zuwendungsfähige Ausgaben (o.Beratung) | C25: =C23 -> 0 | F25: =F18 -> 0
A27: 6.4 | B27: Berechnung der Fördersumme | D27: Fördersumme | G27: Fördersumme
B28: zuwendungsfähige Ausgaben (aus) | C28: =C25 -> 0 | F28: =F25 -> 0
B29: Höchstfördersatz (nominal) | C29: =C9 -> 0 | F29: =F9 -> 0
B30: max. förderfähig Stufe 1 (a1 / f1) | C30: =IF(C29=0,0,MIN(C28,10000000/C29)) -> 0 | D30: =ROUND(+C30*C29,2) -> 0 | F30: =IF(F29=0,0,MIN(F28,10000000/F29)) -> 0 | G30: =ROUND(+F30*F29,2) -> 0
B31: verbleibt förderfähig (a2) | C31: =MAX(0,+C28-C30) -> 0 | F31: =MAX(0,+F28-F30) -> 0
B32: max. förderfähig Stufe 2 (a2) | C32: =MIN(10000000,C31) -> 0 | D32: =ROUND(+C32*0.5,2) -> 0 | F32: =MIN(10000000,F31) -> 0 | G32: =ROUND(+F32*0.5,2) -> 0
B33: Fördersumme I + II (f3) | C33: =D33 -> 0 | D33: =SUM(D28:D32) -> 0 | F33: =G33 -> 0 | G33: =SUM(G28:G32) -> 0
A35: 6.5 | B35: Eigenmittel | C35: =Eigenmittel!C12 -> 0 | F35: =Eigenmittel!C12 -> 0
B36: Mindesteigenmittel | C36: =ROUND(C25*0.1,2) -> 0 | F36: =ROUND(F25*0.1,2) -> 0
B37: Kofinanzierung | C37: =Kofinanzierung!C14 -> 0 | F37: =Kofinanzierung!C14 -> 0
B38: vorl.Gesamtfinanzierung | C38: =C33+C35+C37 -> 0 | F38: =F33+F35+F37 -> 0
B39: umgelegte Investitionskosten / WL | C39: =C14 -> 0 | F39: =F18 -> 0
A40: 6.6 | B40: Überfinanzierung I | C40: =IF(C38>C39,C38-C39,0) -> 0 | F40: =IF(F38>F39,F38-F39,0) -> 0
B41: Eigenmittel berichtigen um max. | C41: =IF(C40<=0,0,MIN(C40,C35)) -> 0 | F41: =IF(F40<=0,0,MIN(F40,F35)) -> 0
A42: 6.6 | B42: Eigenmittel II | C42: =IF(C40<=0,C35,MAX(C36,C35-C41)) -> 0 | F42: =IF(F40<=0,F35,MAX(F36,F35-F41)) -> 0
B43: Verhältnis Eigenmittel/zuwendungsfähige Ausg. | C43: =ROUND(IF(C25=0,1,C42/C25),7) -> 1 | D43: =IF(C43<0.1,"Mind. 10%!","") | F43: =ROUND(IF(F25=0,1,F42/F25),7) -> 1 | G43: =IF(F43<0.1,"Mind. 10%!","")
B44: vorl.Gesamtfinanzierung II | C44: =C33+C37+C42 -> 0 | F44: =F33+F37+F42 -> 0
B45: umgelegte Investitionskosten / WL | C45: =C14 -> 0 | F45: =F18 -> 0
A46: 6.6 | B46: Überfinanzierung II | C46: =IF(C44>C45,C44-C45,0) -> 0 | F46: =IF(F44>F45,F44-F45,0) -> 0
A48: 6.6 | B48: Überförderungsbetrag | C48: =IF(OR(C33<=0,C46<=0),0,MIN(C33,C46)) -> 0 | F48: =IF(OR(F33<=0,F46<=0),0,MIN(F33,F46)) -> 0
A49: 6.2,3 | B49: Unentgeltliche Leistungen Dritter | C49: =Kofinanzierung!C16 -> 0 | F49: =Kofinanzierung!C16 -> 0
...

Sheet Betreibermodell
A1: Anlage zum Antrag auf Förderung nach der Richtlinie "Förderung zur Unterstützung des Breitbandausbaus in der Bundesrepublik Deutschland"
A3: Zusammenfassung
B5: Beantragte Fördermittel
B7: Förderung von Infrastrukturprojekten | C7: =intern!C60 -> 0
B9: Beurteilungsgrundlagen
B11: Vorsteuerabzugsberechtigung | C11: =IF(Eigenerklärung!C7="","Bitte Eigenerklärung ausfüllen",Eigenerklärung!C7) -> Bitte Eigenerklärung ausfüllen
B12: Fördermodell | C12: Betreibermodell
B13: Investition
B14: Gesamtinvestition | C14: =intern!C12 -> 0
B15: davon Eigeninvestition | C15: =intern!C13 -> 0
B16: Beantragtes Investitionsvolumen | C16: =C14-C15 -> 0
B18: Fördersatz (nominal) | C18: =intern!C9 -> 0
B20: Förderung
B21: Ausgaben | C21: =intern!C14 -> 0
B22: anteiliger Barwert der Pachterlöse | C22: =intern!C22 -> 0
B23: Zuwendungsfähige Ausgaben | C23: =C21-C22 -> 0
B24: Bundesförderung / (effektiver Fördersatz) | C24: =intern!C50 -> 0 | D24: =" ( "&TEXT(intern!C51*100,"#0,00;-#0,00;0")&" %)" -> ( 0 %)
B26: Finanzierung
B27: Eigenmittelbeitrag / (Quote) | C27: =intern!C42 -> 0 | D27: =" ( "&TEXT(intern!C43*100,"#0,0000;-#00000;0")&" %)" -> ( 100,0000 %)
B28: Bundesförderung | C28: =C24 -> 0
B29: Ko-Finanzierung | C29: =intern!C37+intern!C49 -> 0
B30: verbleibender Finanzierungsbedarf | C30: =intern!C58 -> 0
B31: Summe Finanzierung | C31: =SUM(C27:C30) -> 0
B33: Hinweise
A34: ="BFP."&intern!E4 -> BFP.211.1 | B34: =intern!C98 -> Die Berechnung ist unverbindlich; maßgeblich ist der Zuwendungsbescheid.

Sheet BM
A1: Anlage zum Antrag auf Förderung nach der Richtlinie "Förderung zur Unterstützung des Breitbandausbaus in der Bundesrepublik Deutschland"
A3: Betreibermodell
A5: Bei Berechtigung zum Vorsteuerabzug nach § 15 UStG sind nur Nettobeträge ohne Umsatzsteuer anzusetzen (alle Beträge in Euro)
A7: Zeile
A8: 1 | B8: Ausgaben i.S.v. 3.2 der Richtlinie | C8: vor Verpachtung | D8: Einheiten (Meter/ Anzahl)
A9: =1+A8 -> 2 | B9: Ausstattung von Leerrohren mit unbeschaltetem Glasfaserkabel
A10: =1+A9 -> 3 | B10: Glasfaserkabel und Ausstattungsmaterial
A11: =1+A10 -> 4 | B11: Kosten der Installation
A12: =1+A11 -> 5
A13: =1+A12 -> 6 | B13: Ausführung von Tiefbauleistungen
A14: =1+A13 -> 7 | B14: Unversiegelt
A15: =1+A14 -> 8 | B15: Versiegelt
A16: =1+A15 -> 9 | B16: Sonstige Tiefbaukosten
A17: =1+A16 -> 10
A18: =1+A17 -> 11 | B18: Verlegung von Leerrohren, Bereitstellung von Schächten, Verzweigern und Abschlusseinrichtungen
A19: =1+A18 -> 12 | B19: Leerrohre und Verlegematerial
A20: =1+A19 -> 13 | B20: Kosten der Verlegung
A21: =1+A20 -> 14 | B21: Schächte und Verzweiger
A22: =1+A21 -> 15 | B22: Hausanschlüsse, Splitter, andere Abschlusseinrichtungen
A23: =1+A22 -> 16 | B23: Kosten der Bereitstellung (z.B. Baunebenkosten)
A24: =1+A23 -> 17
A25: =1+A24 -> 18 | B25: ="Maßnahmen, durch die möglichst innerhalb eines Jahres, spätestens bis zur Verfügbarkeit geeigneter Frequenzen ein leistungsfähiges Netz entsteht, sofern dies durch einen Geschäftsplan "&"objektiv nachvollzogen und in ein NGA-Gesamtprojekt eingebunden werden kann" -> Maßnahmen, durch die möglichst innerhalb eines Jahres, spätestens bis zur Verfügbarkeit geeigneter Frequenzen ein leistungsfähiges Netz entsteht, sofern dies durch einen Geschäftsplan objektiv nachvollzogen und in ein NGA-Gesamtprojekt eingebunden werden kann
A26: =1+A25 -> 19 | B26: Glasfaseranbindung eines Mobilfunksendemastes
A27: =1+A26 -> 20 | B27: andere derartige Maßnahmen
A28: =1+A27 -> 21
A29: =1+A28 -> 22 | B29: Mitverlegung von Leerrohren bei anderweitig geplanten Erdarbeiten (mit/ohne Kabel)
A30: =1+A29 -> 23 | B30: Leerrohre und Verlegematerial
A31: =1+A30 -> 24 | B31: Glasfaserkabel und Ausstattungsmaterial
A32: =1+A31 -> 25 | B32: Kosten der Mitverlegung
A33: =1+A32 -> 26
A34: =1+A33 -> 27 | B34: Summe Investitionsausgaben | C34: =SUM(C9:C33) -> 0
A35: =1+A34 -> 28 | B35: ="darin enthaltene Investitionskosten für die Errichtung der Infrastruktur durch einen Dritten mit anschließender entgeltlicher Nutzungsüberlassung an den Netzbetreiber, "&"soweit die Kosten der Nutzungsüberlassung als Ausgaben des Zuwendungsempfängers berücksichtigt werden" -> darin enthaltene Investitionskosten für die Errichtung der Infrastruktur durch einen Dritten mit anschließender entgeltlicher Nutzungsüberlassung an den Netzbetreiber, soweit die Kosten der Nutzungsüberlassung als Ausgaben des Zuwendungsempfängers berücksichtigt werden
A36: =1+A35 -> 29 | B36: verbleiben maximal umlegungsfähig | C36: =+C34-C35 -> 0
A37: =1+A36 -> 30 | B37: davon in das Betreibermodell umgelegt | C37: =C36 -> 0
A38: =1+A37 -> 31
A39: =1+A38 -> 32 | B39: Ausgaben des Zuwendungsempfängers (3.2) | C39: Summe | D39: vor Verpachtung | E39: Jahr 1 | F39: Jahr 2 | G39: Jahr 3 | H39: Jahr 4 | I39: Jahr 5 | J39: Jahr 6 | K39: Jahr 7 | L39: Jahr 8 | M39: Jahr 9 | N39: Jahr 10 | O39: Jahr 11 | P39: Jahr 12 | Q39: Jahr 13 | R39: Jahr 14 | S39: Jahr 15 | T39: Jahr 16 | U39: Jahr 17 | V39: Jahr 18 | W39: Jahr 19 | X39: Jahr 20 | Y39: Jahr 21 | Z39: Jahr 22 | AA39: Jahr 23 | AB39: Jahr 24 | AC39: Jahr 25 | AD39: Jahr 26 | AE39: Jahr 27 | AF39: Jahr 28 | AG39: Jahr 29 | AH39: Jahr 30 | AI39: Jahr 31 | AJ39: Jahr 32 | AK39: Jahr 33 | AL39: Jahr 34 | AM39: Jahr 35 | AN39: Jahr 36 | AO39: Jahr 37 | AP39: Jahr 38 | AQ39: Jahr 39 | AR39: Jahr 40 | AS39: Jahr 41 | AT39: Jahr 42 | AU39: Jahr 43 | AV39: Jahr 44 | AW39: Jahr 45 | AX39: Jahr 46 | AY39: Jahr 47 | AZ39: Jahr 48 | BA39: Jahr 49 | BB39: Jahr 50 | BC39: Summe
A40: =1+A39 -> 33 | B40: Übertrag: in das Betreibermodell umgelegte Ausgaben | C40: =BC40 -> 0 | D40: =MIN(C36,C37) -> 0 | BC40: =SUM(D40:BB40) -> 0
A41: =1+A40 -> 34 | B41: Ausstattung von Leerrohren mit unbeschaltetem Glasfaserkabel | C41: =BC41 -> 0 | BC41: =SUM(D41:BB41) -> 0
A42: =1+A41 -> 35 | B42: ="Ausführung von Tiefbauleistungen mit oder ohne Verlegung von Leerrohren sowie die Bereitstellung von Schächten, Verzweigern und Abschlusseinrichtungen einschließlich Maßnahmen, "&"durch die möglichst innerhalb eines Jahres, spätestens jedoch bis zur Verfügbarkeit geeigneter Frequenzen ein leistungsfähiges Netz entsteht "&"(etwa bei Glasfaseranbindung eines Mobilfunksendemastes), sofern dies durch einen Geschäftsplan objektiv nachvollzogen und in ein NGA-Gesamtprojekt eingebunden werden kann" -> Ausführung von Tiefbauleistungen mit oder ohne Verlegung von Leerrohren sowie die Bereitstellung von Schächten, Verzweigern und Abschlusseinrichtungen einschließlich Maßnahmen, durch die möglichst innerhalb eines Jahres, spätestens jedoch bis zur Verfügbarkeit geeigneter Frequenzen ein leistungsfähiges Netz entsteht (etwa bei Glasfaseranbindung eines Mobilfunksendemastes), sofern dies durch einen Geschäftsplan objektiv nachvollzogen und in ein NGA-Gesamtprojekt eingebunden werden kann | C42: =BC42 -> 0 | BC42: =SUM(D42:BB42) -> 0
A43: =1+A42 -> 36 | B43: Mitverlegung von Leerrohren bei anderweitig geplanten Erdarbeiten (mit/ohne Kabel) | C43: =BC43 -> 0 | BC43: =SUM(D43:BB43) -> 0
...

Sheet Wirtschaftlichkeitslücke
A1: Anlage zum Antrag auf Förderung nach der Richtlinie "Förderung zur Unterstützung des Breitbandausbaus in der Bundesrepublik Deutschland"
A3: Zusammenfassung
B5: Beantragte Fördermittel
B7: Förderung von Infrastrukturprojekten | C7: =intern!F60 -> 0
B9: Beurteilungsgrundlagen
B11: Vorsteuerabzugsberechtigung | C11: =IF(Eigenerklärung!C7="","Bitte Eigenerklärung ausfüllen",Eigenerklärung!C7) -> Bitte Eigenerklärung ausfüllen
B12: Fördermodell | C12: Wirtschaftlichkeitslücke
B13: Investition
B14: Gesamtinvestition | C14: =intern!F12 -> 0
B15: davon Eigeninvestition | C15: =intern!F13 -> 0
B16: Investitionsvolumen | C16: =C14-C15 -> 0
B18: Fördersatz (nominal) | C18: =intern!F9 -> 0
B20: Förderung
B21: Barwert der Kosten | C21: =intern!F16 -> 0
B22: Barwert der Einnahmen | C22: =intern!F17 -> 0
B23: Wirtschaftlichkeitslücke (Zuwendungsfähige Ausg.) | C23: =C21-C22 -> 0
B24: Bundesförderung / (effektiver Fördersatz) | C24: =intern!F50 -> 0 | D24: =IF(C23=0,""," ( "&TEXT(intern!F51*100,"#0,00;-#0,00;0")&" %)")
B26: Finanzierung
B27: Eigenmittelbeitrag / (Quote) | C27: =intern!F35 -> 0 | D27: =" ( "&TEXT(intern!F43*100,"#0,0000;-#0,0000;")&" %)" -> ( 100,0000 %)
B28: Bundesförderung | C28: =C24 -> 0
B29: Ko-Finanzierung | C29: =intern!F37+intern!F49 -> 0
B30: verbleibender Finanzierungsbedarf | C30: =intern!F58 -> 0
B31: Summe Finanzierung Wirtschaftlichkeitslücke | C31: =SUM(C27:C30) -> 0
B33: Hinweise
A34: ="BFP."&intern!E4 -> BFP.211.1 | B34: =intern!F98 -> Die Berechnung ist unverbindlich; maßgeblich ist der Zuwendungsbescheid.

Sheet WL
A1: Anlage zum Antrag auf Förderung nach der Richtlinie "Förderung zur Unterstützung des Breitbandausbaus in der Bundesrepublik Deutschland"
A3: Wirtschaftlichkeitslücke
A5: Bei Berechtigung zum Vorsteuerabzug nach § 15 UStG sind nur Nettobeträge ohne Umsatzsteuer anzusetzen (alle Beträge in Euro)
A7: Zeile
A8: 1 | B8: Netzaufbau | C8: vor Inbetrieb- nahme | E8: Einheiten (Meter/ Anzahl)
A9: =1+A8 -> 2 | B9: Tiefbauarbeiten
A10: =1+A9 -> 3 | B10: Unversiegelt
A11: =1+A10 -> 4 | B11: Versiegelt
A12: =1+A11 -> 5 | B12: Sonstige Tiefbaukosten
A13: =1+A12 -> 6 | B13: Passive Infrastruktur
A14: =1+A13 -> 7 | B14: Oberirdische Leitungsverläufe
A15: =1+A14 -> 8 | B15: Leerrohr
A16: =1+A15 -> 9 | B16: Masten
A17: =1+A16 -> 10 | B17: Glasfaser
A18: =1+A17 -> 11 | B18: Kosten Hausanschlüsse/ Schächte/ Verzweiger/ Splitter/ sonst. Abschlusseinrichtungen
A19: =1+A18 -> 12 | B19: Sonstige Kosten für passive Infrastruktur
A20: =1+A19 -> 13 | B20: Aktive Infrastruktur
... A24: =1+A23 -> 17 | B24: Sonstige Kosten für aktive Infrastruktur
A25: =1+A24 -> 18 | B25: Summe Investitionskosten | C25: =SUM(C9:C24) -> 0
A26: =1+A25 -> 19 | B26: darin enthaltene Investitionskosten für die Errichtung der Infrastruktur durch einen Dritten mit anschließender entgeltlicher Nutzungsüberlassung an den Netzbetreiber
A27: =1+A26 -> 20 | B27: verbleiben maximal umlegungsfähig | C27: =+C25-C26 -> 0
A28: =1+A27 -> 21 | B28: davon in die Wirtschaftlichkeitslücke umgelegt | C28: =+C27 -> 0
A29: =1+A28 -> 22
A30: =1+A29 -> 23 | B30: Netzbetrieb: Alle Einnahmen im Rahmen der vorbezeichneten Nutzungsverhältnisse: | C30: Summe | E30: Jahr 1 | F30: Jahr 2 | G30: Jahr 3 | H30: Jahr 4 | I30: Jahr 5 | J30: Jahr 6 | K30: Jahr 7 | L30: Jahr 8 | M30: Jahr 9 | N30: Jahr 10 | O30: Jahr 11 | P30: Jahr 12 | Q30: Jahr 13 | R30: Jahr 14 | S30: Jahr 15 | T30: Jahr 16 | U30: Jahr 17 | V30: Jahr 18 | W30: Jahr 19 | X30: Jahr 20 | Y30: Jahr 21 | Z30: Jahr 22 | AA30: Jahr 23 | AB30: Jahr 24 | AC30: Jahr 25 | AD30: Jahr 26 | AE30: Jahr 27 | AF30: Jahr 28 | AG30: Jahr 29 | AH30: Jahr 30 | AI30: Jahr 31 | AJ30: Jahr 32 | AK30: Jahr 33 | AL30: Jahr 34 | AM30: Jahr 35 | AN30: Jahr 36 | AO30: Jahr 37 | AP30: Jahr 38 | AQ30: Jahr 39 | AR30: Jahr 40 | AS30: Jahr 41 | AT30: Jahr 42 | AU30: Jahr 43 | AV30: Jahr 44 | AW30: Jahr 45 | AX30: Jahr 46 | AY30: Jahr 47 | AZ30: Jahr 48 | BA30: Jahr 49 | BB30: Jahr 50 | BC30: Summe
A31: =1+A30 -> 24 | B31: Beiträge durch vorhandene Kunden | C31: =BC31 -> 0 | BC31: =SUM(E31:BB31) -> 0
A32: =1+A31 -> 25 | B32: Beiträge durch neue Nutzer) | C32: =BC32 -> 0 | BC32: =SUM(E32:BB32) -> 0
A33: =1+A32 -> 26 | B33: Einnahmen aus der Nutzungsüberlassung an Dritte | C33: =BC33 -> 0 | BC33: =SUM(E33:BB33) -> 0
A34: =1+A33 -> 27 | B34: Erwartete Einnahmen aus Vermarktung von Vorleistungsprodukten | C34: =BC34 -> 0 | BC34: =SUM(E34:BB34) -> 0
A35: =1+A34 -> 28 | B35: Sonstige erwartete Einnahmen im Rahmen des Vorhabens, z.B. Erlöse aus Verkauf im Bereich der errichteten Infrastruktur | C35: =BC35 -> 0 | BC35: =SUM(E35:BB35) -> 0
A36: =1+A35 -> 29 | B36: Summe der Einnahmen | C36: =BC36 -> 0 | E36: =SUM(E31:E35) -> 0 | F36: =SUM(F31:F35) -> 0 | G36: =SUM(G31:G35) -> 0 | H36: =SUM(H31:H35) -> 0 | I36: =SUM(I31:I35) -> 0 | J36: =SUM(J31:J35) -> 0 | K36: =SUM(K31:K35) -> 0 | L36: =SUM(L31:L35) -> 0 | ... BB36: =SUM(BB31:BB35) -> 0 | BC36: =SUM(E36:BB36) -> 0
A37: =1+A36 -> 30 | B37: Abzinsungssatz | E37: 0.0121 | F37: =+E37 -> 0.0121 | G37: =+F37 -> 0.0121 | H37: =+G37 -> 0.0121 | I37: =+H37 -> 0.0121 | J37: =+I37 -> 0.0121 | K37: =+J37 -> 0.0121 | L37: =+K37 -> 0.0121 | M37: =+L37 -> 0.0121 | ... BB37: =+BA37 -> 0.0121
A38: =1+A37 -> 31 | B38: Barwertfaktor | E38: =1/(1+E37) -> 0.98804466 | F38: =E38/(1+F37) -> 0.97623225 | G38: =F38/(1+G37) -> 0.96456106 | H38: =G38/(1+H37) -> 0.9530294 | I38: =H38/(1+I37) -> 0.94163561 | J38: =I38/(1+J37) -> 0.93037804 | K38: =J38/(1+K37) -> 0.91925505 | L38: =K38/(1+L37) -> 0.90826505 | M38: =L38/(1+M37) -> 0.89740643 | ... BB38: =BA38/(1+BB37) -> 0.54806082
A39: =1+A38 -> 32 | B39: Barwert (Einnahmen) | C39: =ROUND(SUM(E39:BB39),2) -> 0 | E39: =ROUND(E36*E38,2) -> 0 | F39: =ROUND(F36*F38,2) -> 0 | G39: =ROUND(G36*G38,2) -> 0 | H39: =ROUND(H36*H38,2) -> 0 | I39: =ROUND(I36*I38,2) -> 0 | J39: =ROUND(J36*J38,2) -> 0 | K39: =ROUND(K36*K38,2) -> 0 | L39: =ROUND(L36*L38,2) -> 0 | ... BB39: =ROUND(BB36*BB38,2) -> 0 | BC39: =SUM(E39:BB39) -> 0
A40: =1+A39 -> 33
A41: =1+A40 -> 34 | B41: Netzbetrieb: Kosten | E41: Jahr 1 | F41: Jahr 2 | G41: Jahr 3 | H41: Jahr 4 | I41: Jahr 5 | J41: Jahr 6 | K41: Jahr 7 | L41: Jahr 8 | M41: Jahr 9 | N41: Jahr 10 | O41: Jahr 11 | P41: Jahr 12 | Q41: Jahr 13 | R41: Jahr 14 | S41: Jahr 15 | T41: Jahr 16 | U41: Jahr 17 | V41: Jahr 18 | W41: Jahr 19 | X41: Jahr 20 | Y41: Jahr 21 | Z41: Jahr 22 | AA41: Jahr 23 | AB41: Jahr 24 | AC41: Jahr 25 | AD41: Jahr 26 | AE41: Jahr 27 | AF41: Jahr 28 | AG41: Jahr 29 | AH41: Jahr 30 | AI41: Jahr 31 | AJ41: Jahr 32 | AK41: Jahr 33 | AL41: Jahr 34 | AM41: Jahr 35 | AN41: Jahr 36 | AO41: Jahr 37 | AP41: Jahr 38 | AQ41: Jahr 39 | AR41: Jahr 40 | AS41: Jahr 41 | AT41: Jahr 42 | AU41: Jahr 43 | AV41: Jahr 44 | AW41: Jahr 45 | AX41: Jahr 46 | AY41: Jahr 47 | AZ41: Jahr 48 | BA41: Jahr 49 | BB41: Jahr 50 | BC41: Summe
A42: =1+A41 -> 35 | B42: Kosten für Vorleistungsprodukte | C42: =BC42 -> 0 | BC42: =SUM(E42:BB42) -> 0
A43: =1+A42 -> 36 | B43: Unmittelbare Betriebskosten der errichteten Infrastruktur | C43: =BC43 -> 0 | BC43: =SUM(E43:BB43) -> 0
A44: =1+A43 -> 37 | B44: Sonstige operative Betriebskosten | C44: =BC44 -> 0 | BC44: =SUM(E44:BB44) -> 0
A45: =1+A44 -> 38 | B45: Netzausbau/-betrieb: Finanzierungskosten | E45: Jahr 1 | F45: Jahr 2 | G45: Jahr 3 | H45: Jahr 4 | I45: Jahr 5 | J45: Jahr 6 | K45: Jahr 7 | L45: Jahr 8 | M45: Jahr 9 | N45: Jahr 10 | O45: Jahr 11 | P45: Jahr 12 | Q45: Jahr 13 | R45: Jahr 14 | S45: Jahr 15 | T45: Jahr 16 | U45: Jahr 17 | V45: Jahr 18 | W45: Jahr 19 | X45: Jahr 20 | Y45: Jahr 21 | Z45: Jahr 22 | AA45: Jahr 23 | AB45: Jahr 24 | AC45: Jahr 25 | AD45: Jahr 26 | AE45: Jahr 27 | AF45: Jahr 28 | AG45: Jahr 29 | AH45: Jahr 30 | AI45: Jahr 31 | AJ45: Jahr 32 | AK45: Jahr 33 | AL45: Jahr 34 | AM45: Jahr 35 | AN45: Jahr 36 | AO45: Jahr 37 | AP45: Jahr 38 | AQ45: Jahr 39 | AR45: Jahr 40 | AS45: Jahr 41 | AT45: Jahr 42 | AU45: Jahr 43 | AV45: Jahr 44 | AW45: Jahr 45 | AX45: Jahr 46 | AY45: Jahr 47 | AZ45: Jahr 48 | BA45: Jahr 49 | BB45: Jahr 50 | BC45: Summe
A46: =1+A45 -> 39 | B46: Finanzierungskosten (ohne Tilgung) | C46: =BC46 -> 0 | BC46: =SUM(E46:BB46) -> 0
...

Sheet Projektgebiet
A1: Anlage zum Antrag auf Förderung nach der Richtlinie "Förderung zur Unterstützung des Breitbandausbaus in der Bundesrepublik Deutschland"
A3: Projektgebiet
A5: Das Projektgebiet umfasst die folgenden Gemeinden (auf der Basis kommunaler Verwaltungsgrenzen): | H5: Fördersatz: | I5: =I252 &" %" -> 0 %
A7: Zl.\Sp. | B7: 1 | C7: =1+B7 -> 2 | D7: =1+C7 -> 3 | E7: =1+D7 -> 4 | G7: =1+E7 -> 5 | H7: =1+G7 -> 6 | I7: =1+H7 -> 7 | J7: =1+I7 -> 8 | K7: =1+J7 -> 9 | L7: =1+K7 -> 10
A8: 1 | B8: Lfd. Nr. | C8: Gemeinde- Schlüssel (AGS) | D8: Anzahl der Haushalte | E8: Gemeinde | F8: Anzahl der Haushalte (geschätzt) | G8: Punktzahl | H8: Abweichung | I8: Fördersatz in % | M8: Punktzahl
A9: =1+A8 -> 2 | B9: 1 | E9: =IF(C9="","",VLOOKUP(C9+0,Steuerkraft!A:B,2,FALSE)) | F9: =IF(C9="","",VLOOKUP(C9+0,Steuerkraft!A:F,6,FALSE)) | G9: =IF(C9="","",D9*H9) | H9: =IF(C9="","",VLOOKUP(C9+0,Steuerkraft!A:M,13,FALSE)) | I9: =IF(C9="","",VLOOKUP(C9+0,Steuerkraft!A:M,5,FALSE)) | J9: =IF(OR(C9="",L9>0),0,IF(D9+0=0,1,0)) -> 0 | K9: =IF(L9>0,0,IF(H9=0,1,0)) -> 0 | L9: =IF(ISERROR(E9),1,0) -> 0 | M9: =IF(D9="","",D9*I9)
A10: =1+A9 -> 3 | B10: =1+B9 -> 2 | E10: =IF(C10="","",VLOOKUP(C10+0,Steuerkraft!A:B,2,FALSE)) | F10: =IF(C10="","",VLOOKUP(C10+0,Steuerkraft!A:F,6,FALSE)) | G10: =IF(C10="","",D10*H10) | H10: =IF(C10="","",VLOOKUP(C10+0,Steuerkraft!A:M,13,FALSE)) | I10: =IF(C10="","",VLOOKUP(C10+0,Steuerkraft!A:M,5,FALSE)) | J10: =IF(OR(C10="",L10>0),0,IF(D10+0=0,1,0)) -> 0 | K10: =IF(L10>0,0,IF(H10=0,1,0)) -> 0 | L10: =IF(ISERROR(E10),1,0) -> 0 | M10: =IF(D10="","",D10*I10)
A11: =1+A10 -> 4 | B11: =1+B10 -> 3 | E11: =IF(C11="","",VLOOKUP(C11+0,Steuerkraft!A:B,2,FALSE)) | F11: =IF(C11="","",VLOOKUP(C11+0,Steuerkraft!A:F,6,FALSE)) | G11: =IF(C11="","",D11*H11) | H11: =IF(C11="","",VLOOKUP(C11+0,Steuerkraft!A:M,13,FALSE)) | I11: =IF(C11="","",VLOOKUP(C11+0,Steuerkraft!A:M,5,FALSE)) | J11: =IF(OR(C11="",L11>0),0,IF(D11+0=0,1,0)) -> 0 | K11: =IF(L11>0,0,IF(H11=0,1,0)) -> 0 | L11: =IF(ISERROR(E11),1,0) -> 0 | M11: =IF(D11="","",D11*I11)
A12: =1+A11 -> 5 | B12: =1+B11 -> 4 | E12: =IF(C12="","",VLOOKUP(C12+0,Steuerkraft!A:B,2,FALSE)) | F12: =IF(C12="","",VLOOKUP(C12+0,Steuerkraft!A:F,6,FALSE)) | G12: =IF(C12="","",D12*H12) | H12: =IF(C12="","",VLOOKUP(C12+0,Steuerkraft!A:M,13,FALSE)) | I12: =IF(C12="","",VLOOKUP(C12+0,Steuerkraft!A:M,5,FALSE)) | J12: =IF(OR(C12="",L12>0),0,IF(D12+0=0,1,0)) -> 0 | K12: =IF(L12>0,0,IF(H12=0,1,0)) -> 0 | L12: =IF(ISERROR(E12),1,0) -> 0 | M12: =IF(D12="","",D12*I12)
A13: =1+A12 -> 6 | B13: =1+B12 -> 5 | E13: =IF(C13="","",VLOOKUP(C13+0,Steuerkraft!A:B,2,FALSE)) | F13: =IF(C13="","",VLOOKUP(C13+0,Steuerkraft!A:F,6,FALSE)) | G13: =IF(C13="","",D13*H13) | H13: =IF(C13="","",VLOOKUP(C13+0,Steuerkraft!A:M,13,FALSE)) | I13: =IF(C13="","",VLOOKUP(C13+0,Steuerkraft!A:M,5,FALSE)) | J13: =IF(OR(C13="",L13>0),0,IF(D13+0=0,1,0)) -> 0 | K13: =IF(L13>0,0,IF(H13=0,1,0)) -> 0 | L13: =IF(ISERROR(E13),1,0) -> 0 | M13: =IF(D13="","",D13*I13)
A14: =1+A13 -> 7 | B14: =1+B13 -> 6 | E14: =IF(C14="","",VLOOKUP(C14+0,Steuerkraft!A:B,2,FALSE)) | F14: =IF(C14="","",VLOOKUP(C14+0,Steuerkraft!A:F,6,FALSE)) | G14: =IF(C14="","",D14*H14) | H14: =IF(C14="","",VLOOKUP(C14+0,Steuerkraft!A:M,13,FALSE)) | I14: =IF(C14="","",VLOOKUP(C14+0,Steuerkraft!A:M,5,FALSE)) | J14: =IF(OR(C14="",L14>0),0,IF(D14+0=0,1,0)) -> 0 | K14: =IF(L14>0,0,IF(H14=0,1,0)) -> 0 | L14: =IF(ISERROR(E14),1,0) -> 0 | M14: =IF(D14="","",D14*I14)
A15: =1+A14 -> 8 | B15: =1+B14 -> 7 | E15: =IF(C15="","",VLOOKUP(C15+0,Steuerkraft!A:B,2,FALSE)) | F15: =IF(C15="","",VLOOKUP(C15+0,Steuerkraft!A:F,6,FALSE)) | G15: =IF(C15="","",D15*H15) | H15: =IF(C15="","",VLOOKUP(C15+0,Steuerkraft!A:M,13,FALSE)) | I15: =IF(C15="","",VLOOKUP(C15+0,Steuerkraft!A:M,5,FALSE)) | J15: =IF(OR(C15="",L15>0),0,IF(D15+0=0,1,0)) -> 0 | K15: =IF(L15>0,0,IF(H15=0,1,0)) -> 0 | L15: =IF(ISERROR(E15),1,0) -> 0 | M15: =IF(D15="","",D15*I15)
A16: =1+A15 -> 9 | B16: =1+B15 -> 8 | E16: =IF(C16="","",VLOOKUP(C16+0,Steuerkraft!A:B,2,FALSE)) | F16: =IF(C16="","",VLOOKUP(C16+0,Steuerkraft!A:F,6,FALSE)) | G16: =IF(C16="","",D16*H16) | H16: =IF(C16="","",VLOOKUP(C16+0,Steuerkraft!A:M,13,FALSE)) | I16: =IF(C16="","",VLOOKUP(C16+0,Steuerkraft!A:M,5,FALSE)) | J16: =IF(OR(C16="",L16>0),0,IF(D16+0=0,1,0)) -> 0 | K16: =IF(L16>0,0,IF(H16=0,1,0)) -> 0 | L16: =IF(ISERROR(E16),1,0) -> 0 | M16: =IF(D16="","",D16*I16)
A17: =1+A16 -> 10 | B17: =1+B16 -> 9 | E17: =IF(C17="","",VLOOKUP(C17+0,Steuerkraft!A:B,2,FALSE)) | F17: =IF(C17="","",VLOOKUP(C17+0,Steuerkraft!A:F,6,FALSE)) | G17: =IF(C17="","",D17*H17) | H17: =IF(C17="","",VLOOKUP(C17+0,Steuerkraft!A:M,13,FALSE)) | I17: =IF(C17="","",VLOOKUP(C17+0,Steuerkraft!A:M,5,FALSE)) | J17: =IF(OR(C17="",L17>0),0,IF(D17+0=0,1,0)) -> 0 | K17: =IF(L17>0,0,IF(H17=0,1,0)) -> 0 | L17: =IF(ISERROR(E17),1,0) -> 0 | M17: =IF(D17="","",D17*I17)
A18: =1+A17 -> 11 | B18: =1+B17 -> 10 | E18: =IF(C18="","",VLOOKUP(C18+0,Steuerkraft!A:B,2,FALSE)) | F18: =IF(C18="","",VLOOKUP(C18+0,Steuerkraft!A:F,6,FALSE)) | G18: =IF(C18="","",D18*H18) | H18: =IF(C18="","",VLOOKUP(C18+0,Steuerkraft!A:M,13,FALSE)) | I18: =IF(C18="","",VLOOKUP(C18+0,Steuerkraft!A:M,5,FALSE)) | J18: =IF(OR(C18="",L18>0),0,IF(D18+0=0,1,0)) -> 0 | K18: =IF(L18>0,0,IF(H18=0,1,0)) -> 0 | L18: =IF(ISERROR(E18),1,0) -> 0 | M18: =IF(D18="","",D18*I18)
A19: =1+A18 -> 12 | B19: =1+B18 -> 11 | E19: =IF(C19="","",VLOOKUP(C19+0,Steuerkraft!A:B,2,FALSE)) | F19: =IF(C19="","",VLOOKUP(C19+0,Steuerkraft!A:F,6,FALSE)) | G19: =IF(C19="","",D19*H19) | H19: =IF(C19="","",VLOOKUP(C19+0,Steuerkraft!A:M,13,FALSE)) | I19: =IF(C19="","",VLOOKUP(C19+0,Steuerkraft!A:M,5,FALSE)) | J19: =IF(OR(C19="",L19>0),0,IF(D19+0=0,1,0)) -> 0 | K19: =IF(L19>0,0,IF(H19=0,1,0)) -> 0 | L19: =IF(ISERROR(E19),1,0) -> 0 | M19: =IF(D19="","",D19*I19)
A20: =1+A19 -> 13 | B20: =1+B19 -> 12 | E20: =IF(C20="","",VLOOKUP(C20+0,Steuerkraft!A:B,2,FALSE)) | F20: =IF(C20="","",VLOOKUP(C20+0,Steuerkraft!A:F,6,FALSE)) | G20: =IF(C20="","",D20*H20) | H20: =IF(C20="","",VLOOKUP(C20+0,Steuerkraft!A:M,13,FALSE)) | I20: =IF(C20="","",VLOOKUP(C20+0,Steuerkraft!A:M,5,FALSE)) | J20: =IF(OR(C20="",L20>0),0,IF(D20+0=0,1,0)) -> 0 | K20: =IF(L20>0,0,IF(H20=0,1,0)) -> 0 | L20: =IF(ISERROR(E20),1,0) -> 0 | M20: =IF(D20="","",D20*I20)
A21: =1+A20 -> 14 | B21: =1+B20 -> 13 | E21: =IF(C21="","",VLOOKUP(C21+0,Steuerkraft!A:B,2,FALSE)) | F21: =IF(C21="","",VLOOKUP(C21+0,Steuerkraft!A:F,6,FALSE)) | G21: =IF(C21="","",D21*H21) | H21: =IF(C21="","",VLOOKUP(C21+0,Steuerkraft!A:M,13,FALSE)) | I21: =IF(C21="","",VLOOKUP(C21+0,Steuerkraft!A:M,5,FALSE)) | J21: =IF(OR(C21="",L21>0),0,IF(D21+0=0,1,0)) -> 0 | K21: =IF(L21>0,0,IF(H21=0,1,0)) -> 0 | L21: =IF(ISERROR(E21),1,0) -> 0 | M21: =IF(D21="","",D21*I21)
... A250: =1+A249 -> 243 | B250: =1+B249 -> 242 | E250: =IF(C250="","",VLOOKUP(C250+0,Steuerkraft!A:B,2,FALSE)) | F250: =IF(C250="","",VLOOKUP(C250+0,Steuerkraft!A:F,6,FALSE)) | G250: =IF(C250="","",D250*H250) | H250: =IF(C250="","",VLOOKUP(C250+0,Steuerkraft!A:M,13,FALSE)) | I250: =IF(C250="","",VLOOKUP(C250+0,Steuerkraft!A:M,5,FALSE)) | J250: =IF(OR(C250="",L250>0),0,IF(D250+0=0,1,0)) -> 0 | K250: =IF(L250>0,0,IF(H250=0,1,0)) -> 0 | L250: =IF(ISERROR(E250),1,0) -> 0 | M250: =IF(D250="","",D250*I250)
A251: =1+A250 -> 244 | B251: Anzahl | C251: =COUNTA(C9:C250) -> 0 | D251: =SUM(D9:D250) -> 0 | E251: Punktzahl | G251: =IF(ISERROR(SUM(G9:G250)),0,IF(SUM(J9:J250)>0,0,SUM(G9:G250))) -> 0 | H251: =SUM(L9:L250)+SUM(J9:J250) -> 0 | M251: =IF(ISERROR(SUM(M9:M250)),0,IF(SUM(P9:P250)>0,0,SUM(M9:M250))) -> 0
A252: =1+A251 -> 245 | E252: gewichteter Mittelwert der Abweichung/Fördersatz | H252: =IF(D251=0,0,ROUND(G251/D251,10)) -> 0 | I252: =IF(C251=0,0,IF(H252<-85,70,IF(H252<-79,60,50))) -> 0 | M252: =IF(OR(D251=0,C251=0),0,ROUND(M251/D251,0)) -> 0
A253: =1+A252 -> 246 | B253: =IF(SUM(L9:L250)>0,"*) Es ist ein Fehler aufgetreten (AGS ggf. nicht vorhanden). Bitte überprüfen Sie Ihre Angaben.","")
A254: =1+A251 -> 245 | B254: =IF(SUM(J9:J250)>0,"*) Bitte tragen Sie die Anzahl der Haushalte für jede Gemeinde separat ein.","")
A255: =1+A253 -> 247 | B255: =IF(ISERROR(SUM(K9:K250)),"",IF(SUM(K9:K250)=0,"","*) Hinweis: Für einzelne Kommunen liegen möglicherweise keine vollständigen statistischen Daten vor."&" Dies kann unter Umständen die Höhe des Fördersatzes ungünstig beeinflussen."&" Bitte wenden Sie sich erforderlichenfalls an das Bundesministerium für Verkehr und digitale Infrastruktur, um ggf. entsprechende Unterlagen nachzureichen."))

Sheet AGS
A2: Folgende Amtliche Gemeindeschlüssel können im Blatt "Projektgebiet" verwendet werden:
A4: Amtlicher Gemeinde- Schlüssel (AGS) | B4: Gemeinde | C4: Verwaltungseinheit
A5: 01001000 | B5: Flensburg | C5: Stadt
A6: 01002000 | B6: Kiel | C6: Stadt
A7: 01003000 | B7: Lübeck | C7: Stadt
A8: 01004000 | B8: Neumünster | C8: Stadt
A9: 01051001 | B9: Albersdorf | C9: Gemeinde
A10: 01051002 | B10: Arkebek | C10: Gemeinde
A11: 01051003 | B11: Averlak | C11: Gemeinde
A12: 01051004 | B12: Bargenstedt | C12: Gemeinde
A13: 01051005 | B13: Barkenholm | C13: Gemeinde
A14: 01051006 | B14: Barlt | C14: Gemeinde
A15: 01051008 | B15: Bergewöhrden | C15: Gemeinde
... A11309: 16077055 | B11309: Ziegelheim | C11309: Gemeinde

Sheet Eigenmittel
A1: Anlage zum Antrag auf Förderung nach der Richtlinie "Förderung zur Unterstützung des Breitbandausbaus in der Bundesrepublik Deutschland"
A3: Eigenmittel
A5: Für das Projekt stehen folgende Eigenmittelbeiträge zur Verfügung (Angaben in Euro):
A7: Zeile
A8: 1 | C8: Summe | D8: vor Jahr 1 | E8: Jahr 1 | F8: Jahr 2 | G8: Jahr 3 | H8: Jahr 4 | I8: Jahr 5 | J8: Jahr 6 | K8: weitere Jahre
A9: =1+A8 -> 2 | B9: Eigenmittelbeitrag des Zuwendungsempfängers | C9: =SUM(D9:K9) -> 0
A10: =1+A9 -> 3 | B10: Eigenmittelbeitrag des Landes, wenn die Gebietskörperschaft im Projektgebiet Anordnungen im Rahmen eines Haushaltssicherungsverfahrens unterliegt | C10: =SUM(D10:K10) -> 0
A11: =1+A10 -> 4 | B11: Eigenmittelbeitrag des Landes, wenn der Zuwendungsempfänger Stadtstaat ist und keine den Kommunen vergleichbare Verwaltungs- und Planungsstrukturen mit eigener finanzieller Verantwortung aufweist. | C11: =SUM(D11:K11) -> 0
A12: =1+A11 -> 5 | B12: Summe der Eigenmittel | C12: =SUM(C9:C11) -> 0 | E12: =SUM(E9:E11) -> 0 | F12: =SUM(F9:F11) -> 0 | G12: =SUM(G9:G11) -> 0 | H12: =SUM(H9:H11) -> 0 | I12: =SUM(I9:I11) -> 0 | J12: =SUM(J9:J11) -> 0 | K12: =SUM(K9:K11) -> 0

Sheet Kofinanzierung
A1: Anlage zum Antrag auf Förderung nach der Richtlinie "Förderung zur Unterstützung des Breitbandausbaus in der Bundesrepublik Deutschland"
A3: Ko-Finanzierung
A5: Für das Projekt stehen folgende Ko-Finanzierungsbeiträge zur Verfügung (Angaben in Euro):
A7: Zeile
A8: 1 | B8: Fördermaßnahme: | C8: Summe | D8: vor Jahr 1 | E8: Jahr 1 | F8: Jahr 2 | G8: Jahr 3 | H8: Jahr 4 | I8: Jahr 5 | J8: Jahr 6 | K8: weitere Jahre
A9: =1+A8 -> 2 | B9: Fördermittel aus Länderprogramm | C9: =SUM(D9:K9) -> 0
A10: =1+A9 -> 3 | B10: Fördermittel aus EU-Programm | C10: =SUM(D10:K10) -> 0
A11: =1+A10 -> 4 | B11: Fördermittel aus anderem Programm | C11: =SUM(D11:K11) -> 0
A12: =1+A11 -> 5 | B12: Fördermittel aus anderem Programm | C12: =SUM(D12:K12) -> 0
A13: =1+A12 -> 6 | B13: Fördermittel aus anderem Programm | C13: =SUM(D13:K13) -> 0
A14: =1+A13 -> 7 | B14: Summe der Ko-Finanzierung | C14: =SUM(D14:K14) -> 0 | D14: =SUM(D9:D13) -> 0 | E14: =SUM(E9:E13) -> 0 | F14: =SUM(F9:F13) -> 0 | G14: =SUM(G9:G13) -> 0 | H14: =SUM(H9:H13) -> 0 | I14: =SUM(I9:I13) -> 0 | J14: =SUM(J9:J13) -> 0 | K14: =SUM(K9:K13) -> 0
A15: =1+A14 -> 8
A16: =1+A15 -> 9 | B16: Unentgeltliche Leistungen Dritter, soweit sie den Förderbedarf verringern (6.2 Satz 3 der Richtlinie) | C16: =SUM(D16:K16) -> 0

Sheet Haushalte
A1: Anlage zum Antrag auf Förderung nach der Richtlinie "Förderung zur Unterstützung des Breitbandausbaus in der Bundesrepublik Deutschland"
A3: Haushalte
B5: Anzahl der im Projektgebiet befindlichen Haushalte (Haushalte je Gebietskörperschaft innerhalb der weißen NGA-Flecken)
A8: 1 | D8: vor Jahr 1 | E8: Jahr 1 | F8: Jahr 2 | G8: Jahr 3 | H8: Jahr 4 | I8: Jahr 5 | J8: Jahr 6 | K8: Jahr 7 | L8: Jahr 8 | M8: Jahr 9 | N8: Jahr 10 | O8: Jahr 11 | P8: Jahr 12 | Q8: Jahr 13 | R8: Jahr 14 | S8: Jahr 15 | T8: Jahr 16 | U8: Jahr 17 | V8: Jahr 18 | W8: Jahr 19 | X8: Jahr 20 | Y8: Jahr 21 | Z8: Jahr 22 | AA8: Jahr 23 | AB8: Jahr 24 | AC8: Jahr 25 | AD8: Jahr 26 | AE8: Jahr 27 | AF8: Jahr 28 | AG8: Jahr 29 | AH8: Jahr 30 | AI8: Jahr 31 | AJ8: Jahr 32 | AK8: Jahr 33 | AL8: Jahr 34 | AM8: Jahr 35 | AN8: Jahr 36 | AO8: Jahr 37 | AP8: Jahr 38 | AQ8: Jahr 39 | AR8: Jahr 40 | AS8: Jahr 41 | AT8: Jahr 42 | AU8: Jahr 43 | AV8: Jahr 44 | AW8: Jahr 45 | AX8: Jahr 46 | AY8: Jahr 47 | AZ8: Jahr 48 | BA8: Jahr 49 | BB8: Jahr 50
A9: =1+A8 -> 2 | B9: Anzahl der Haushalte | L9: =+K9 -> 0 | M9: =+L9 -> 0 | N9: =+M9 -> 0 | O9: =+N9 -> 0 | P9: =+O9 -> 0 | Q9: =+P9 -> 0 | R9: =+Q9 -> 0 | S9: =+R9 -> 0 | ... BB9: =+BA9 -> 0
A10: =1+A9 -> 3 | B10: Anteil von nicht mit mind. 50 Mbit/s versorgten Haushalten | L10: =+K10 -> 0 | M10: =+L10 -> 0 | N10: =+M10 -> 0 | O10: =+N10 -> 0 | P10: =+O10 -> 0 | Q10: =+P10 -> 0 | R10: =+Q10 -> 0 | S10: =+R10 -> 0 | ... BB10: =+BA10 -> 0
A11: =1+A10 -> 4 | B11: Anteil in % | D11: =IF(D9=0,0,D10/D9) -> 0 | E11: =IF(E9=0,0,E10/E9) -> 0 | F11: =IF(F9=0,0,F10/F9) -> 0 | G11: =IF(G9=0,0,G10/G9) -> 0 | H11: =IF(H9=0,0,H10/H9) -> 0 | I11: =IF(I9=0,0,I10/I9) -> 0 | J11: =IF(J9=0,0,J10/J9) -> 0 | K11: =IF(K9=0,0,K10/K9) -> 0 | ... BB11: =IF(BB9=0,0,BB10/BB9) -> 0
A12: =1+A11 -> 5
A13: =1+A12 -> 6 | B13: Anzahl Dritter, denen die errichtete Infrastruktur ganz oder teilweise entgeltlich überlassen wird

Sheet Kundenpotenzial
A1: Anlage zum Antrag auf Förderung nach der Richtlinie "Förderung zur Unterstützung des Breitbandausbaus in der Bundesrepublik Deutschland"
A3: Kundenpotenzial
A8: 1 | B8: Art und Anzahl der Nutzungsverhältnisse (Endkunden) im Bereich der errichteten Infrastruktur in und außerhalb des Ausbaugebiets in Bezug auf die gesamte zu errichtende Infrastruktur (Beträge am Ende des jeweiligen Jahres bzw. bei Inbetriebnahme) | D8: vor Jahr 1 | E8: Jahr 1 | F8: Jahr 2 | G8: Jahr 3 | H8: Jahr 4 | I8: Jahr 5 | J8: Jahr 6 | K8: Jahr 7 | L8: Jahr 8 | M8: Jahr 9 | N8: Jahr 10 | O8: Jahr 11 | P8: Jahr 12 | Q8: Jahr 13 | R8: Jahr 14 | S8: Jahr 15 | T8: Jahr 16 | U8: Jahr 17 | V8: Jahr 18 | W8: Jahr 19 | X8: Jahr 20 | Y8: Jahr 21 | Z8: Jahr 22 | AA8: Jahr 23 | AB8: Jahr 24 | AC8: Jahr 25 | AD8: Jahr 26 | AE8: Jahr 27 | AF8: Jahr 28 | AG8: Jahr 29 | AH8: Jahr 30 | AI8: Jahr 31 | AJ8: Jahr 32 | AK8: Jahr 33 | AL8: Jahr 34 | AM8: Jahr 35 | AN8: Jahr 36 | AO8: Jahr 37 | AP8: Jahr 38 | AQ8: Jahr 39 | AR8: Jahr 40 | AS8: Jahr 41 | AT8: Jahr 42 | AU8: Jahr 43 | AV8: Jahr 44 | AW8: Jahr 45 | AX8: Jahr 46 | AY8: Jahr 47 | AZ8: Jahr 48 | BA8: Jahr 49 | BB8: Jahr 50
A9: =1+A8 -> 2 | B9: Anzahl der Bestandskunden zum Jahresbeginn | E9: =D11 -> 0 | F9: =E11 -> 0 | G9: =F11 -> 0 | H9: =G11 -> 0 | I9: =H11 -> 0 | J9: =I11 -> 0 | K9: =J11 -> 0 | L9: =K11 -> 0 | ... BB9: =BA11 -> 0
A10: =1+A9 -> 3 | B10: Neukunden/Änderung der Anzahl der Bestandskunden im jeweiligen Jahr
A11: =1+A10 -> 4 | B11: Anzahl der Bestandskunden zum Jahresende | D11: =D9+D10 -> 0 | E11: =+E9+E10 -> 0 | F11: =+F9+F10 -> 0 | G11: =+G9+G10 -> 0 | H11: =+H9+H10 -> 0 | I11: =+I9+I10 -> 0 | J11: =+J9+J10 -> 0 | K11: =+K9+K10 -> 0 | L11: =+L9+L10 -> 0 | ... BB11: =+BB9+BB10 -> 0
A12: =1+A11 -> 5 | B12: erwartete Jahreseinnahmen pro Endkunde in Euro

Sheet Eigenerklärung
A1: Anlage zum Antrag auf Förderung nach der Richtlinie "Förderung zur Unterstützung des Breitbandausbaus in der Bundesrepublik Deutschland"
A3: Eigenerklärung zum Finanzierungsplan
B6: Eigenerklärung zum Vorsteuerabzug (6.2) | C6: ja=1, nein=0
B7: Bezogen auf das Vorhaben kann der Zuwendungsempfänger Vorsteuerabzug nach § 15 UStG geltend machen.
C9: 1 | D9: = ja
C10: 0 | D10: = nein

Sheet Steuerkraft
A1: AGSn | B1: Gem | C1: Verw. | E1: Fs-Tmp | F1: HH | G1: Ew. | M1: Abw-Tmp
A2: 1001000 | B2: Flensburg | C2: Stadt | E2: 50 | F2: 42537 | G2: 85499 | M2: -75.828511
A3: 1002000 | B3: Kiel | C3: Stadt | E3: 50 | F3: 119092 | G3: 239374.6 | M3: -75.109217
A4: 1003000 | B4: Lübeck | C4: Stadt | E4: 50 | F4: 105015 | G4: 211080 | M4: -78.206391
A5: 1004000 | B5: Neumünster | C5: Stadt | E5: 50 | F5: 38302 | G5: 76987.4 | M5: -77.027779
A6: 1051001 | B6: Albersdorf | C6: Gemeinde | E6: 60 | F6: 1728 | G6: 3473 | M6: -81.02273
A7: 1051002 | B7: Arkebek | C7: Gemeinde | E7: 60 | F7: 112 | G7: 224.8 | M7: -82.801355
A8: 1051003 | B8: Averlak | C8: Gemeinde | E8: 60 | F8: 301 | G8: 605.4 | M8: -83.174488
A9: 1051004 | B9: Bargenstedt | C9: Gemeinde | E9: 60 | F9: 455 | G9: 915.2 | M9: -79.172509
A10: 1051005 | B10: Barkenholm | C10: Gemeinde | E10: 60 | F10: 88 | G10: 176.4 | M10: -82.756293
A11: 1051006 | B11: Barlt | C11: Gemeinde | E11: 70 | F11: 398 | G11: 800.4 | M11: -85.301773
A12: 1051008 | B12: Bergewöhrden | C12: Gemeinde | E12: 60 | F12: 18 | G12: 35.8 | M12: -80.357145
A13: 1051010 | B13: Brickeln | C13: Gemeinde | E13: 70 | F13: 107 | G13: 215.4 | M13: -88.736829
... A11306: 16077055 | B11306: Ziegelheim | C11306: Gemeinde | E11306: 70 | F11306: 432 | G11306: 867.6 | M11306: -91.199584
