Workbook

Sheet Auswertung
A1: =+Vorlage!A1 -> Anwenderbewertung - OP-Tische
A2: =+Vorlage!A2 -> EU-AUS-028/2026
A4: Wertungsmatrix | C4: Gerätebezeichnung:
C5: Hersteller:
A6: Für die Bewertung in der gewünschten Note ein "x" eintragen! | D6: sehr gut | I6: gut | N6: ungenügend | S6: Durchschnittsnote | U6: Punkte
A7: Bezeichnung | E7: 1 | G7: 2 | J7: 3 | L7: 4 | O7: 5 | Q7: 6
A8: =+Vorlage!A8 -> Gesamt-System | T8: Punkte | U8: 3
B9: =IF(Vorlage!B9<>"",Vorlage!B9,"") -> Optische Verarbeitung der Oberflächen | E9: =IF(COUNTIF('1'!E9,"x")+COUNTIF('2'!E9,"x")+COUNTIF('3'!E9,"x")+COUNTIF('4'!E9,"x")+COUNTIF('5'!E9,"x")+COUNTIF('6'!E9,"x")+COUNTIF('7'!E9,"x")+COUNTIF('8'!E9,"x")+COUNTIF('9'!E9,"x")+COUNTIF('10'!E9,"x")+COUNTIF('11'!E9,"x")+COUNTIF('12'!E9,"x")+COUNTIF('13'!E9,"x")+COUNTIF('14'!E9,"x")+COUNTIF('15'!E9,"x")<>0,COUNTIF('1'!E9,"x")+COUNTIF('2'!E9,"x")+COUNTIF('3'!E9,"x")+COUNTIF('4'!E9,"x")+COUNTIF('5'!E9,"x")+COUNTIF('6'!E9,"x")+COUNTIF('7'!E9,"x")+COUNTIF('8'!E9,"x")+COUNTIF('9'!E9,"x")+COUNTIF('10'!E9,"x")+COUNTIF('11'!E9,"x")+COUNTIF('12'!E9,"x")+COUNTIF('13'!E9,"x")+COUNTIF('14'!E9,"x")+COUNTIF('15'!E9,"x"),"0") -> 0 | G9: =IF(COUNTIF('1'!G9,"x")+COUNTIF('2'!G9,"x")+COUNTIF('3'!G9,"x")+COUNTIF('4'!G9,"x")+COUNTIF('5'!G9,"x")+COUNTIF('6'!G9,"x")+COUNTIF('7'!G9,"x")+COUNTIF('8'!G9,"x")+COUNTIF('9'!G9,"x")+COUNTIF('10'!G9,"x")+COUNTIF('11'!G9,"x")+COUNTIF('12'!G9,"x")+COUNTIF('13'!G9,"x")+COUNTIF('14'!G9,"x")+COUNTIF('15'!G9,"x")<>0,COUNTIF('1'!G9,"x")+COUNTIF('2'!G9,"x")+COUNTIF('3'!G9,"x")+COUNTIF('4'!G9,"x")+COUNTIF('5'!G9,"x")+COUNTIF('6'!G9,"x")+COUNTIF('7'!G9,"x")+COUNTIF('8'!G9,"x")+COUNTIF('9'!G9,"x")+COUNTIF('10'!G9,"x")+COUNTIF('11'!G9,"x")+COUNTIF('12'!G9,"x")+COUNTIF('13'!G9,"x")+COUNTIF('14'!G9,"x")+COUNTIF('15'!G9,"x"),"0") -> 0 | J9: =IF(COUNTIF('1'!J9,"x")+COUNTIF('2'!J9,"x")+COUNTIF('3'!J9,"x")+COUNTIF('4'!J9,"x")+COUNTIF('5'!J9,"x")+COUNTIF('6'!J9,"x")+COUNTIF('7'!J9,"x")+COUNTIF('8'!J9,"x")+COUNTIF('9'!J9,"x")+COUNTIF('10'!J9,"x")+COUNTIF('11'!J9,"x")+COUNTIF('12'!J9,"x")+COUNTIF('13'!J9,"x")+COUNTIF('14'!J9,"x")+COUNTIF('15'!J9,"x")<>0,COUNTIF('1'!J9,"x")+COUNTIF('2'!J9,"x")+COUNTIF('3'!J9,"x")+COUNTIF('4'!J9,"x")+COUNTIF('5'!J9,"x")+COUNTIF('6'!J9,"x")+COUNTIF('7'!J9,"x")+COUNTIF('8'!J9,"x")+COUNTIF('9'!J9,"x")+COUNTIF('10'!J9,"x")+COUNTIF('11'!J9,"x")+COUNTIF('12'!J9,"x")+COUNTIF('13'!J9,"x")+COUNTIF('14'!J9,"x")+COUNTIF('15'!J9,"x"),"0") -> 0 | L9: =IF(COUNTIF('1'!L9,"x")+COUNTIF('2'!L9,"x")+COUNTIF('3'!L9,"x")+COUNTIF('4'!L9,"x")+COUNTIF('5'!L9,"x")+COUNTIF('6'!L9,"x")+COUNTIF('7'!L9,"x")+COUNTIF('8'!L9,"x")+COUNTIF('9'!L9,"x")+COUNTIF('10'!L9,"x")+COUNTIF('11'!L9,"x")+COUNTIF('12'!L9,"x")+COUNTIF('13'!L9,"x")+COUNTIF('14'!L9,"x")+COUNTIF('15'!L9,"x")<>0,COUNTIF('1'!L9,"x")+COUNTIF('2'!L9,"x")+COUNTIF('3'!L9,"x")+COUNTIF('4'!L9,"x")+COUNTIF('5'!L9,"x")+COUNTIF('6'!L9,"x")+COUNTIF('7'!L9,"x")+COUNTIF('8'!L9,"x")+COUNTIF('9'!L9,"x")+COUNTIF('10'!L9,"x")+COUNTIF('11'!L9,"x")+COUNTIF('12'!L9,"x")+COUNTIF('13'!L9,"x")+COUNTIF('14'!L9,"x")+COUNTIF('15'!L9,"x"),"0") -> 0 | O9: =IF(COUNTIF('1'!O9,"x")+COUNTIF('2'!O9,"x")+COUNTIF('3'!O9,"x")+COUNTIF('4'!O9,"x")+COUNTIF('5'!O9,"x")+COUNTIF('6'!O9,"x")+COUNTIF('7'!O9,"x")+COUNTIF('8'!O9,"x")+COUNTIF('9'!O9,"x")+COUNTIF('10'!O9,"x")+COUNTIF('11'!O9,"x")+COUNTIF('12'!O9,"x")+COUNTIF('13'!O9,"x")+COUNTIF('14'!O9,"x")+COUNTIF('15'!O9,"x")<>0,COUNTIF('1'!O9,"x")+COUNTIF('2'!O9,"x")+COUNTIF('3'!O9,"x")+COUNTIF('4'!O9,"x")+COUNTIF('5'!O9,"x")+COUNTIF('6'!O9,"x")+COUNTIF('7'!O9,"x")+COUNTIF('8'!O9,"x")+COUNTIF('9'!O9,"x")+COUNTIF('10'!O9,"x")+COUNTIF('11'!O9,"x")+COUNTIF('12'!O9,"x")+COUNTIF('13'!O9,"x")+COUNTIF('14'!O9,"x")+COUNTIF('15'!O9,"x"),"0") -> 0 | Q9: =IF(COUNTIF('1'!Q9,"x")+COUNTIF('2'!Q9,"x")+COUNTIF('3'!Q9,"x")+COUNTIF('4'!Q9,"x")+COUNTIF('5'!Q9,"x")+COUNTIF('6'!Q9,"x")+COUNTIF('7'!Q9,"x")+COUNTIF('8'!Q9,"x")+COUNTIF('9'!Q9,"x")+COUNTIF('10'!Q9,"x")+COUNTIF('11'!Q9,"x")+COUNTIF('12'!Q9,"x")+COUNTIF('13'!Q9,"x")+COUNTIF('14'!Q9,"x")+COUNTIF('15'!Q9,"x")<>0,COUNTIF('1'!Q9,"x")+COUNTIF('2'!Q9,"x")+COUNTIF('3'!Q9,"x")+COUNTIF('4'!Q9,"x")+COUNTIF('5'!Q9,"x")+COUNTIF('6'!Q9,"x")+COUNTIF('7'!Q9,"x")+COUNTIF('8'!Q9,"x")+COUNTIF('9'!Q9,"x")+COUNTIF('10'!Q9,"x")+COUNTIF('11'!Q9,"x")+COUNTIF('12'!Q9,"x")+COUNTIF('13'!Q9,"x")+COUNTIF('14'!Q9,"x")+COUNTIF('15'!Q9,"x"),"0") -> 0 | S9: =IF(SUM(E9:Q9)<>0,SUM(E9*1,G9*2,J9*3,L9*4,O9*5,Q9*6)/SUM(E9:Q9),"") | V9: =IF(COUNTIF((E9:Q9),"x")>1,"Bitte nur ein Kreuz setzen!","")
B10: =IF(Vorlage!B10<>"",Vorlage!B10,"") -> Anzahl der möglichen Positionierungen des Patienten | E10: =IF(COUNTIF('1'!E10,"x")+COUNTIF('2'!E10,"x")+COUNTIF('3'!E10,"x")+COUNTIF('4'!E10,"x")+COUNTIF('5'!E10,"x")+COUNTIF('6'!E10,"x")+COUNTIF('7'!E10,"x")+COUNTIF('8'!E10,"x")+COUNTIF('9'!E10,"x")+COUNTIF('10'!E10,"x")+COUNTIF('11'!E10,"x")+COUNTIF('12'!E10,"x")+COUNTIF('13'!E10,"x")+COUNTIF('14'!E10,"x")+COUNTIF('15'!E10,"x")<>0,COUNTIF('1'!E10,"x")+COUNTIF('2'!E10,"x")+COUNTIF('3'!E10,"x")+COUNTIF('4'!E10,"x")+COUNTIF('5'!E10,"x")+COUNTIF('6'!E10,"x")+COUNTIF('7'!E10,"x")+COUNTIF('8'!E10,"x")+COUNTIF('9'!E10,"x")+COUNTIF('10'!E10,"x")+COUNTIF('11'!E10,"x")+COUNTIF('12'!E10,"x")+COUNTIF('13'!E10,"x")+COUNTIF('14'!E10,"x")+COUNTIF('15'!E10,"x"),"0") -> 0 | G10: =IF(COUNTIF('1'!G10,"x")+COUNTIF('2'!G10,"x")+COUNTIF('3'!G10,"x")+COUNTIF('4'!G10,"x")+COUNTIF('5'!G10,"x")+COUNTIF('6'!G10,"x")+COUNTIF('7'!G10,"x")+COUNTIF('8'!G10,"x")+COUNTIF('9'!G10,"x")+COUNTIF('10'!G10,"x")+COUNTIF('11'!G10,"x")+COUNTIF('12'!G10,"x")+COUNTIF('13'!G10,"x")+COUNTIF('14'!G10,"x")+COUNTIF('15'!G10,"x")<>0,COUNTIF('1'!G10,"x")+COUNTIF('2'!G10,"x")+COUNTIF('3'!G10,"x")+COUNTIF('4'!G10,"x")+COUNTIF('5'!G10,"x")+COUNTIF('6'!G10,"x")+COUNTIF('7'!G10,"x")+COUNTIF('8'!G10,"x")+COUNTIF('9'!G10,"x")+COUNTIF('10'!G10,"x")+COUNTIF('11'!G10,"x")+COUNTIF('12'!G10,"x")+COUNTIF('13'!G10,"x")+COUNTIF('14'!G10,"x")+COUNTIF('15'!G10,"x"),"0") -> 0 | J10: =IF(COUNTIF('1'!J10,"x")+COUNTIF('2'!J10,"x")+COUNTIF('3'!J10,"x")+COUNTIF('4'!J10,"x")+COUNTIF('5'!J10,"x")+COUNTIF('6'!J10,"x")+COUNTIF('7'!J10,"x")+COUNTIF('8'!J10,"x")+COUNTIF('9'!J10,"x")+COUNTIF('10'!J10,"x")+COUNTIF('11'!J10,"x")+COUNTIF('12'!J10,"x")+COUNTIF('13'!J10,"x")+COUNTIF('14'!J10,"x")+COUNTIF('15'!J10,"x")<>0,COUNTIF('1'!J10,"x")+COUNTIF('2'!J10,"x")+COUNTIF('3'!J10,"x")+COUNTIF('4'!J10,"x")+COUNTIF('5'!J10,"x")+COUNTIF('6'!J10,"x")+COUNTIF('7'!J10,"x")+COUNTIF('8'!J10,"x")+COUNTIF('9'!J10,"x")+COUNTIF('10'!J10,"x")+COUNTIF('11'!J10,"x")+COUNTIF('12'!J10,"x")+COUNTIF('13'!J10,"x")+COUNTIF('14'!J10,"x")+COUNTIF('15'!J10,"x"),"0") -> 0 | L10: =IF(COUNTIF('1'!L10,"x")+COUNTIF('2'!L10,"x")+COUNTIF('3'!L10,"x")+COUNTIF('4'!L10,"x")+COUNTIF('5'!L10,"x")+COUNTIF('6'!L10,"x")+COUNTIF('7'!L10,"x")+COUNTIF('8'!L10,"x")+COUNTIF('9'!L10,"x")+COUNTIF('10'!L10,"x")+COUNTIF('11'!L10,"x")+COUNTIF('12'!L10,"x")+COUNTIF('13'!L10,"x")+COUNTIF('14'!L10,"x")+COUNTIF('15'!L10,"x")<>0,COUNTIF('1'!L10,"x")+COUNTIF('2'!L10,"x")+COUNTIF('3'!L10,"x")+COUNTIF('4'!L10,"x")+COUNTIF('5'!L10,"x")+COUNTIF('6'!L10,"x")+COUNTIF('7'!L10,"x")+COUNTIF('8'!L10,"x")+COUNTIF('9'!L10,"x")+COUNTIF('10'!L10,"x")+COUNTIF('11'!L10,"x")+COUNTIF('12'!L10,"x")+COUNTIF('13'!L10,"x")+COUNTIF('14'!L10,"x")+COUNTIF('15'!L10,"x"),"0") -> 0 | O10: =IF(COUNTIF('1'!O10,"x")+COUNTIF('2'!O10,"x")+COUNTIF('3'!O10,"x")+COUNTIF('4'!O10,"x")+COUNTIF('5'!O10,"x")+COUNTIF('6'!O10,"x")+COUNTIF('7'!O10,"x")+COUNTIF('8'!O10,"x")+COUNTIF('9'!O10,"x")+COUNTIF('10'!O10,"x")+COUNTIF('11'!O10,"x")+COUNTIF('12'!O10,"x")+COUNTIF('13'!O10,"x")+COUNTIF('14'!O10,"x")+COUNTIF('15'!O10,"x")<>0,COUNTIF('1'!O10,"x")+COUNTIF('2'!O10,"x")+COUNTIF('3'!O10,"x")+COUNTIF('4'!O10,"x")+COUNTIF('5'!O10,"x")+COUNTIF('6'!O10,"x")+COUNTIF('7'!O10,"x")+COUNTIF('8'!O10,"x")+COUNTIF('9'!O10,"x")+COUNTIF('10'!O10,"x")+COUNTIF('11'!O10,"x")+COUNTIF('12'!O10,"x")+COUNTIF('13'!O10,"x")+COUNTIF('14'!O10,"x")+COUNTIF('15'!O10,"x"),"0") -> 0 | Q10: =IF(COUNTIF('1'!Q10,"x")+COUNTIF('2'!Q10,"x")+COUNTIF('3'!Q10,"x")+COUNTIF('4'!Q10,"x")+COUNTIF('5'!Q10,"x")+COUNTIF('6'!Q10,"x")+COUNTIF('7'!Q10,"x")+COUNTIF('8'!Q10,"x")+COUNTIF('9'!Q10,"x")+COUNTIF('10'!Q10,"x")+COUNTIF('11'!Q10,"x")+COUNTIF('12'!Q10,"x")+COUNTIF('13'!Q10,"x")+COUNTIF('14'!Q10,"x")+COUNTIF('15'!Q10,"x")<>0,COUNTIF('1'!Q10,"x")+COUNTIF('2'!Q10,"x")+COUNTIF('3'!Q10,"x")+COUNTIF('4'!Q10,"x")+COUNTIF('5'!Q10,"x")+COUNTIF('6'!Q10,"x")+COUNTIF('7'!Q10,"x")+COUNTIF('8'!Q10,"x")+COUNTIF('9'!Q10,"x")+COUNTIF('10'!Q10,"x")+COUNTIF('11'!Q10,"x")+COUNTIF('12'!Q10,"x")+COUNTIF('13'!Q10,"x")+COUNTIF('14'!Q10,"x")+COUNTIF('15'!Q10,"x"),"0") -> 0 | S10: =IF(SUM(E10:Q10)<>0,SUM(E10*1,G10*2,J10*3,L10*4,O10*5,Q10*6)/SUM(E10:Q10),"") | V10: =IF(COUNTIF((E10:Q10),"x")>1,"Bitte nur ein Kreuz setzen!","")
B11: =IF(Vorlage!B11<>"",Vorlage!B11,"") -> Eindruck des Bedienkonzeptes (intraoperativ) | E11: =IF(COUNTIF('1'!E11,"x")+COUNTIF('2'!E11,"x")+COUNTIF('3'!E11,"x")+COUNTIF('4'!E11,"x")+COUNTIF('5'!E11,"x")+COUNTIF('6'!E11,"x")+COUNTIF('7'!E11,"x")+COUNTIF('8'!E11,"x")+COUNTIF('9'!E11,"x")+COUNTIF('10'!E11,"x")+COUNTIF('11'!E11,"x")+COUNTIF('12'!E11,"x")+COUNTIF('13'!E11,"x")+COUNTIF('14'!E11,"x")+COUNTIF('15'!E11,"x")<>0,COUNTIF('1'!E11,"x")+COUNTIF('2'!E11,"x")+COUNTIF('3'!E11,"x")+COUNTIF('4'!E11,"x")+COUNTIF('5'!E11,"x")+COUNTIF('6'!E11,"x")+COUNTIF('7'!E11,"x")+COUNTIF('8'!E11,"x")+COUNTIF('9'!E11,"x")+COUNTIF('10'!E11,"x")+COUNTIF('11'!E11,"x")+COUNTIF('12'!E11,"x")+COUNTIF('13'!E11,"x")+COUNTIF('14'!E11,"x")+COUNTIF('15'!E11,"x"),"0") -> 0 | G11: =IF(COUNTIF('1'!G11,"x")+COUNTIF('2'!G11,"x")+COUNTIF('3'!G11,"x")+COUNTIF('4'!G11,"x")+COUNTIF('5'!G11,"x")+COUNTIF('6'!G11,"x")+COUNTIF('7'!G11,"x")+COUNTIF('8'!G11,"x")+COUNTIF('9'!G11,"x")+COUNTIF('10'!G11,"x")+COUNTIF('11'!G11,"x")+COUNTIF('12'!G11,"x")+COUNTIF('13'!G11,"x")+COUNTIF('14'!G11,"x")+COUNTIF('15'!G11,"x")<>0,COUNTIF('1'!G11,"x")+COUNTIF('2'!G11,"x")+COUNTIF('3'!G11,"x")+COUNTIF('4'!G11,"x")+COUNTIF('5'!G11,"x")+COUNTIF('6'!G11,"x")+COUNTIF('7'!G11,"x")+COUNTIF('8'!G11,"x")+COUNTIF('9'!G11,"x")+COUNTIF('10'!G11,"x")+COUNTIF('11'!G11,"x")+COUNTIF('12'!G11,"x")+COUNTIF('13'!G11,"x")+COUNTIF('14'!G11,"x")+COUNTIF('15'!G11,"x"),"0") -> 0 | J11: =IF(COUNTIF('1'!J11,"x")+COUNTIF('2'!J11,"x")+COUNTIF('3'!J11,"x")+COUNTIF('4'!J11,"x")+COUNTIF('5'!J11,"x")+COUNTIF('6'!J11,"x")+COUNTIF('7'!J11,"x")+COUNTIF('8'!J11,"x")+COUNTIF('9'!J11,"x")+COUNTIF('10'!J11,"x")+COUNTIF('11'!J11,"x")+COUNTIF('12'!J11,"x")+COUNTIF('13'!J11,"x")+COUNTIF('14'!J11,"x")+COUNTIF('15'!J11,"x")<>0,COUNTIF('1'!J11,"x")+COUNTIF('2'!J11,"x")+COUNTIF('3'!J11,"x")+COUNTIF('4'!J11,"x")+COUNTIF('5'!J11,"x")+COUNTIF('6'!J11,"x")+COUNTIF('7'!J11,"x")+COUNTIF('8'!J11,"x")+COUNTIF('9'!J11,"x")+COUNTIF('10'!J11,"x")+COUNTIF('11'!J11,"x")+COUNTIF('12'!J11,"x")+COUNTIF('13'!J11,"x")+COUNTIF('14'!J11,"x")+COUNTIF('15'!J11,"x"),"0") -> 0 | L11: =IF(COUNTIF('1'!L11,"x")+COUNTIF('2'!L11,"x")+COUNTIF('3'!L11,"x")+COUNTIF('4'!L11,"x")+COUNTIF('5'!L11,"x")+COUNTIF('6'!L11,"x")+COUNTIF('7'!L11,"x")+COUNTIF('8'!L11,"x")+COUNTIF('9'!L11,"x")+COUNTIF('10'!L11,"x")+COUNTIF('11'!L11,"x")+COUNTIF('12'!L11,"x")+COUNTIF('13'!L11,"x")+COUNTIF('14'!L11,"x")+COUNTIF('15'!L11,"x")<>0,COUNTIF('1'!L11,"x")+COUNTIF('2'!L11,"x")+COUNTIF('3'!L11,"x")+COUNTIF('4'!L11,"x")+COUNTIF('5'!L11,"x")+COUNTIF('6'!L11,"x")+COUNTIF('7'!L11,"x")+COUNTIF('8'!L11,"x")+COUNTIF('9'!L11,"x")+COUNTIF('10'!L11,"x")+COUNTIF('11'!L11,"x")+COUNTIF('12'!L11,"x")+COUNTIF('13'!L11,"x")+COUNTIF('14'!L11,"x")+COUNTIF('15'!L11,"x"),"0") -> 0 | O11: =IF(COUNTIF('1'!O11,"x")+COUNTIF('2'!O11,"x")+COUNTIF('3'!O11,"x")+COUNTIF('4'!O11,"x")+COUNTIF('5'!O11,"x")+COUNTIF('6'!O11,"x")+COUNTIF('7'!O11,"x")+COUNTIF('8'!O11,"x")+COUNTIF('9'!O11,"x")+COUNTIF('10'!O11,"x")+COUNTIF('11'!O11,"x")+COUNTIF('12'!O11,"x")+COUNTIF('13'!O11,"x")+COUNTIF('14'!O11,"x")+COUNTIF('15'!O11,"x")<>0,COUNTIF('1'!O11,"x")+COUNTIF('2'!O11,"x")+COUNTIF('3'!O11,"x")+COUNTIF('4'!O11,"x")+COUNTIF('5'!O11,"x")+COUNTIF('6'!O11,"x")+COUNTIF('7'!O11,"x")+COUNTIF('8'!O11,"x")+COUNTIF('9'!O11,"x")+COUNTIF('10'!O11,"x")+COUNTIF('11'!O11,"x")+COUNTIF('12'!O11,"x")+COUNTIF('13'!O11,"x")+COUNTIF('14'!O11,"x")+COUNTIF('15'!O11,"x"),"0") -> 0 | Q11: =IF(COUNTIF('1'!Q11,"x")+COUNTIF('2'!Q11,"x")+COUNTIF('3'!Q11,"x")+COUNTIF('4'!Q11,"x")+COUNTIF('5'!Q11,"x")+COUNTIF('6'!Q11,"x")+COUNTIF('7'!Q11,"x")+COUNTIF('8'!Q11,"x")+COUNTIF('9'!Q11,"x")+COUNTIF('10'!Q11,"x")+COUNTIF('11'!Q11,"x")+COUNTIF('12'!Q11,"x")+COUNTIF('13'!Q11,"x")+COUNTIF('14'!Q11,"x")+COUNTIF('15'!Q11,"x")<>0,COUNTIF('1'!Q11,"x")+COUNTIF('2'!Q11,"x")+COUNTIF('3'!Q11,"x")+COUNTIF('4'!Q11,"x")+COUNTIF('5'!Q11,"x")+COUNTIF('6'!Q11,"x")+COUNTIF('7'!Q11,"x")+COUNTIF('8'!Q11,"x")+COUNTIF('9'!Q11,"x")+COUNTIF('10'!Q11,"x")+COUNTIF('11'!Q11,"x")+COUNTIF('12'!Q11,"x")+COUNTIF('13'!Q11,"x")+COUNTIF('14'!Q11,"x")+COUNTIF('15'!Q11,"x"),"0") -> 0 | S11: =IF(SUM(E11:Q11)<>0,SUM(E11*1,G11*2,J11*3,L11*4,O11*5,Q11*6)/SUM(E11:Q11),"") | V11: =IF(COUNTIF((E11:Q11),"x")>1,"Bitte nur ein Kreuz setzen!","")
B12: =IF(Vorlage!B12<>"",Vorlage!B12,"") | E12: =IF(COUNTIF('1'!E12,"x")+COUNTIF('2'!E12,"x")+COUNTIF('3'!E12,"x")+COUNTIF('4'!E12,"x")+COUNTIF('5'!E12,"x")+COUNTIF('6'!E12,"x")+COUNTIF('7'!E12,"x")+COUNTIF('8'!E12,"x")+COUNTIF('9'!E12,"x")+COUNTIF('10'!E12,"x")+COUNTIF('11'!E12,"x")+COUNTIF('12'!E12,"x")+COUNTIF('13'!E12,"x")+COUNTIF('14'!E12,"x")+COUNTIF('15'!E12,"x")<>0,COUNTIF('1'!E12,"x")+COUNTIF('2'!E12,"x")+COUNTIF('3'!E12,"x")+COUNTIF('4'!E12,"x")+COUNTIF('5'!E12,"x")+COUNTIF('6'!E12,"x")+COUNTIF('7'!E12,"x")+COUNTIF('8'!E12,"x")+COUNTIF('9'!E12,"x")+COUNTIF('10'!E12,"x")+COUNTIF('11'!E12,"x")+COUNTIF('12'!E12,"x")+COUNTIF('13'!E12,"x")+COUNTIF('14'!E12,"x")+COUNTIF('15'!E12,"x"),"0") -> 0 | G12: =IF(COUNTIF('1'!G12,"x")+COUNTIF('2'!G12,"x")+COUNTIF('3'!G12,"x")+COUNTIF('4'!G12,"x")+COUNTIF('5'!G12,"x")+COUNTIF('6'!G12,"x")+COUNTIF('7'!G12,"x")+COUNTIF('8'!G12,"x")+COUNTIF('9'!G12,"x")+COUNTIF('10'!G12,"x")+COUNTIF('11'!G12,"x")+COUNTIF('12'!G12,"x")+COUNTIF('13'!G12,"x")+COUNTIF('14'!G12,"x")+COUNTIF('15'!G12,"x")<>0,COUNTIF('1'!G12,"x")+COUNTIF('2'!G12,"x")+COUNTIF('3'!G12,"x")+COUNTIF('4'!G12,"x")+COUNTIF('5'!G12,"x")+COUNTIF('6'!G12,"x")+COUNTIF('7'!G12,"x")+COUNTIF('8'!G12,"x")+COUNTIF('9'!G12,"x")+COUNTIF('10'!G12,"x")+COUNTIF('11'!G12,"x")+COUNTIF('12'!G12,"x")+COUNTIF('13'!G12,"x")+COUNTIF('14'!G12,"x")+COUNTIF('15'!G12,"x"),"0") -> 0 | J12: =IF(COUNTIF('1'!J12,"x")+COUNTIF('2'!J12,"x")+COUNTIF('3'!J12,"x")+COUNTIF('4'!J12,"x")+COUNTIF('5'!J12,"x")+COUNTIF('6'!J12,"x")+COUNTIF('7'!J12,"x")+COUNTIF('8'!J12,"x")+COUNTIF('9'!J12,"x")+COUNTIF('10'!J12,"x")+COUNTIF('11'!J12,"x")+COUNTIF('12'!J12,"x")+COUNTIF('13'!J12,"x")+COUNTIF('14'!J12,"x")+COUNTIF('15'!J12,"x")<>0,COUNTIF('1'!J12,"x")+COUNTIF('2'!J12,"x")+COUNTIF('3'!J12,"x")+COUNTIF('4'!J12,"x")+COUNTIF('5'!J12,"x")+COUNTIF('6'!J12,"x")+COUNTIF('7'!J12,"x")+COUNTIF('8'!J12,"x")+COUNTIF('9'!J12,"x")+COUNTIF('10'!J12,"x")+COUNTIF('11'!J12,"x")+COUNTIF('12'!J12,"x")+COUNTIF('13'!J12,"x")+COUNTIF('14'!J12,"x")+COUNTIF('15'!J12,"x"),"0") -> 0 | L12: =IF(COUNTIF('1'!L12,"x")+COUNTIF('2'!L12,"x")+COUNTIF('3'!L12,"x")+COUNTIF('4'!L12,"x")+COUNTIF('5'!L12,"x")+COUNTIF('6'!L12,"x")+COUNTIF('7'!L12,"x")+COUNTIF('8'!L12,"x")+COUNTIF('9'!L12,"x")+COUNTIF('10'!L12,"x")+COUNTIF('11'!L12,"x")+COUNTIF('12'!L12,"x")+COUNTIF('13'!L12,"x")+COUNTIF('14'!L12,"x")+COUNTIF('15'!L12,"x")<>0,COUNTIF('1'!L12,"x")+COUNTIF('2'!L12,"x")+COUNTIF('3'!L12,"x")+COUNTIF('4'!L12,"x")+COUNTIF('5'!L12,"x")+COUNTIF('6'!L12,"x")+COUNTIF('7'!L12,"x")+COUNTIF('8'!L12,"x")+COUNTIF('9'!L12,"x")+COUNTIF('10'!L12,"x")+COUNTIF('11'!L12,"x")+COUNTIF('12'!L12,"x")+COUNTIF('13'!L12,"x")+COUNTIF('14'!L12,"x")+COUNTIF('15'!L12,"x"),"0") -> 0 | O12: =IF(COUNTIF('1'!O12,"x")+COUNTIF('2'!O12,"x")+COUNTIF('3'!O12,"x")+COUNTIF('4'!O12,"x")+COUNTIF('5'!O12,"x")+COUNTIF('6'!O12,"x")+COUNTIF('7'!O12,"x")+COUNTIF('8'!O12,"x")+COUNTIF('9'!O12,"x")+COUNTIF('10'!O12,"x")+COUNTIF('11'!O12,"x")+COUNTIF('12'!O12,"x")+COUNTIF('13'!O12,"x")+COUNTIF('14'!O12,"x")+COUNTIF('15'!O12,"x")<>0,COUNTIF('1'!O12,"x")+COUNTIF('2'!O12,"x")+COUNTIF('3'!O12,"x")+COUNTIF('4'!O12,"x")+COUNTIF('5'!O12,"x")+COUNTIF('6'!O12,"x")+COUNTIF('7'!O12,"x")+COUNTIF('8'!O12,"x")+COUNTIF('9'!O12,"x")+COUNTIF('10'!O12,"x")+COUNTIF('11'!O12,"x")+COUNTIF('12'!O12,"x")+COUNTIF('13'!O12,"x")+COUNTIF('14'!O12,"x")+COUNTIF('15'!O12,"x"),"0") -> 0 | Q12: =IF(COUNTIF('1'!Q12,"x")+COUNTIF('2'!Q12,"x")+COUNTIF('3'!Q12,"x")+COUNTIF('4'!Q12,"x")+COUNTIF('5'!Q12,"x")+COUNTIF('6'!Q12,"x")+COUNTIF('7'!Q12,"x")+COUNTIF('8'!Q12,"x")+COUNTIF('9'!Q12,"x")+COUNTIF('10'!Q12,"x")+COUNTIF('11'!Q12,"x")+COUNTIF('12'!Q12,"x")+COUNTIF('13'!Q12,"x")+COUNTIF('14'!Q12,"x")+COUNTIF('15'!Q12,"x")<>0,COUNTIF('1'!Q12,"x")+COUNTIF('2'!Q12,"x")+COUNTIF('3'!Q12,"x")+COUNTIF('4'!Q12,"x")+COUNTIF('5'!Q12,"x")+COUNTIF('6'!Q12,"x")+COUNTIF('7'!Q12,"x")+COUNTIF('8'!Q12,"x")+COUNTIF('9'!Q12,"x")+COUNTIF('10'!Q12,"x")+COUNTIF('11'!Q12,"x")+COUNTIF('12'!Q12,"x")+COUNTIF('13'!Q12,"x")+COUNTIF('14'!Q12,"x")+COUNTIF('15'!Q12,"x"),"0") -> 0 | S12: =IF(SUM(E12:Q12)<>0,SUM(E12*1,G12*2,J12*3,L12*4,O12*5,Q12*6)/SUM(E12:Q12),"") | V12: =IF(COUNTIF((E12:Q12),"x")>1,"Bitte nur ein Kreuz setzen!","")
B13: =IF(Vorlage!B13<>"",Vorlage!B13,"") | E13: =IF(COUNTIF('1'!E13,"x")+COUNTIF('2'!E13,"x")+COUNTIF('3'!E13,"x")+COUNTIF('4'!E13,"x")+COUNTIF('5'!E13,"x")+COUNTIF('6'!E13,"x")+COUNTIF('7'!E13,"x")+COUNTIF('8'!E13,"x")+COUNTIF('9'!E13,"x")+COUNTIF('10'!E13,"x")+COUNTIF('11'!E13,"x")+COUNTIF('12'!E13,"x")+COUNTIF('13'!E13,"x")+COUNTIF('14'!E13,"x")+COUNTIF('15'!E13,"x")<>0,COUNTIF('1'!E13,"x")+COUNTIF('2'!E13,"x")+COUNTIF('3'!E13,"x")+COUNTIF('4'!E13,"x")+COUNTIF('5'!E13,"x")+COUNTIF('6'!E13,"x")+COUNTIF('7'!E13,"x")+COUNTIF('8'!E13,"x")+COUNTIF('9'!E13,"x")+COUNTIF('10'!E13,"x")+COUNTIF('11'!E13,"x")+COUNTIF('12'!E13,"x")+COUNTIF('13'!E13,"x")+COUNTIF('14'!E13,"x")+COUNTIF('15'!E13,"x"),"0") -> 0 | G13: =IF(COUNTIF('1'!G13,"x")+COUNTIF('2'!G13,"x")+COUNTIF('3'!G13,"x")+COUNTIF('4'!G13,"x")+COUNTIF('5'!G13,"x")+COUNTIF('6'!G13,"x")+COUNTIF('7'!G13,"x")+COUNTIF('8'!G13,"x")+COUNTIF('9'!G13,"x")+COUNTIF('10'!G13,"x")+COUNTIF('11'!G13,"x")+COUNTIF('12'!G13,"x")+COUNTIF('13'!G13,"x")+COUNTIF('14'!G13,"x")+COUNTIF('15'!G13,"x")<>0,COUNTIF('1'!G13,"x")+COUNTIF('2'!G13,"x")+COUNTIF('3'!G13,"x")+COUNTIF('4'!G13,"x")+COUNTIF('5'!G13,"x")+COUNTIF('6'!G13,"x")+COUNTIF('7'!G13,"x")+COUNTIF('8'!G13,"x")+COUNTIF('9'!G13,"x")+COUNTIF('10'!G13,"x")+COUNTIF('11'!G13,"x")+COUNTIF('12'!G13,"x")+COUNTIF('13'!G13,"x")+COUNTIF('14'!G13,"x")+COUNTIF('15'!G13,"x"),"0") -> 0 | J13: =IF(COUNTIF('1'!J13,"x")+COUNTIF('2'!J13,"x")+COUNTIF('3'!J13,"x")+COUNTIF('4'!J13,"x")+COUNTIF('5'!J13,"x")+COUNTIF('6'!J13,"x")+COUNTIF('7'!J13,"x")+COUNTIF('8'!J13,"x")+COUNTIF('9'!J13,"x")+COUNTIF('10'!J13,"x")+COUNTIF('11'!J13,"x")+COUNTIF('12'!J13,"x")+COUNTIF('13'!J13,"x")+COUNTIF('14'!J13,"x")+COUNTIF('15'!J13,"x")<>0,COUNTIF('1'!J13,"x")+COUNTIF('2'!J13,"x")+COUNTIF('3'!J13,"x")+COUNTIF('4'!J13,"x")+COUNTIF('5'!J13,"x")+COUNTIF('6'!J13,"x")+COUNTIF('7'!J13,"x")+COUNTIF('8'!J13,"x")+COUNTIF('9'!J13,"x")+COUNTIF('10'!J13,"x")+COUNTIF('11'!J13,"x")+COUNTIF('12'!J13,"x")+COUNTIF('13'!J13,"x")+COUNTIF('14'!J13,"x")+COUNTIF('15'!J13,"x"),"0") -> 0 | L13: =IF(COUNTIF('1'!L13,"x")+COUNTIF('2'!L13,"x")+COUNTIF('3'!L13,"x")+COUNTIF('4'!L13,"x")+COUNTIF('5'!L13,"x")+COUNTIF('6'!L13,"x")+COUNTIF('7'!L13,"x")+COUNTIF('8'!L13,"x")+COUNTIF('9'!L13,"x")+COUNTIF('10'!L13,"x")+COUNTIF('11'!L13,"x")+COUNTIF('12'!L13,"x")+COUNTIF('13'!L13,"x")+COUNTIF('14'!L13,"x")+COUNTIF('15'!L13,"x")<>0,COUNTIF('1'!L13,"x")+COUNTIF('2'!L13,"x")+COUNTIF('3'!L13,"x")+COUNTIF('4'!L13,"x")+COUNTIF('5'!L13,"x")+COUNTIF('6'!L13,"x")+COUNTIF('7'!L13,"x")+COUNTIF('8'!L13,"x")+COUNTIF('9'!L13,"x")+COUNTIF('10'!L13,"x")+COUNTIF('11'!L13,"x")+COUNTIF('12'!L13,"x")+COUNTIF('13'!L13,"x")+COUNTIF('14'!L13,"x")+COUNTIF('15'!L13,"x"),"0") -> 0 | O13: =IF(COUNTIF('1'!O13,"x")+COUNTIF('2'!O13,"x")+COUNTIF('3'!O13,"x")+COUNTIF('4'!O13,"x")+COUNTIF('5'!O13,"x")+COUNTIF('6'!O13,"x")+COUNTIF('7'!O13,"x")+COUNTIF('8'!O13,"x")+COUNTIF('9'!O13,"x")+COUNTIF('10'!O13,"x")+COUNTIF('11'!O13,"x")+COUNTIF('12'!O13,"x")+COUNTIF('13'!O13,"x")+COUNTIF('14'!O13,"x")+COUNTIF('15'!O13,"x")<>0,COUNTIF('1'!O13,"x")+COUNTIF('2'!O13,"x")+COUNTIF('3'!O13,"x")+COUNTIF('4'!O13,"x")+COUNTIF('5'!O13,"x")+COUNTIF('6'!O13,"x")+COUNTIF('7'!O13,"x")+COUNTIF('8'!O13,"x")+COUNTIF('9'!O13,"x")+COUNTIF('10'!O13,"x")+COUNTIF('11'!O13,"x")+COUNTIF('12'!O13,"x")+COUNTIF('13'!O13,"x")+COUNTIF('14'!O13,"x")+COUNTIF('15'!O13,"x"),"0") -> 0 | Q13: =IF(COUNTIF('1'!Q13,"x")+COUNTIF('2'!Q13,"x")+COUNTIF('3'!Q13,"x")+COUNTIF('4'!Q13,"x")+COUNTIF('5'!Q13,"x")+COUNTIF('6'!Q13,"x")+COUNTIF('7'!Q13,"x")+COUNTIF('8'!Q13,"x")+COUNTIF('9'!Q13,"x")+COUNTIF('10'!Q13,"x")+COUNTIF('11'!Q13,"x")+COUNTIF('12'!Q13,"x")+COUNTIF('13'!Q13,"x")+COUNTIF('14'!Q13,"x")+COUNTIF('15'!Q13,"x")<>0,COUNTIF('1'!Q13,"x")+COUNTIF('2'!Q13,"x")+COUNTIF('3'!Q13,"x")+COUNTIF('4'!Q13,"x")+COUNTIF('5'!Q13,"x")+COUNTIF('6'!Q13,"x")+COUNTIF('7'!Q13,"x")+COUNTIF('8'!Q13,"x")+COUNTIF('9'!Q13,"x")+COUNTIF('10'!Q13,"x")+COUNTIF('11'!Q13,"x")+COUNTIF('12'!Q13,"x")+COUNTIF('13'!Q13,"x")+COUNTIF('14'!Q13,"x")+COUNTIF('15'!Q13,"x"),"0") -> 0 | S13: =IF(SUM(E13:Q13)<>0,SUM(E13*1,G13*2,J13*3,L13*4,O13*5,Q13*6)/SUM(E13:Q13),"") | V13: =IF(COUNTIF((E13:Q13),"x")>1,"Bitte nur ein Kreuz setzen!","")
B14: =IF(Vorlage!B14<>"",Vorlage!B14,"") | E14: =IF(COUNTIF('1'!E14,"x")+COUNTIF('2'!E14,"x")+COUNTIF('3'!E14,"x")+COUNTIF('4'!E14,"x")+COUNTIF('5'!E14,"x")+COUNTIF('6'!E14,"x")+COUNTIF('7'!E14,"x")+COUNTIF('8'!E14,"x")+COUNTIF('9'!E14,"x")+COUNTIF('10'!E14,"x")+COUNTIF('11'!E14,"x")+COUNTIF('12'!E14,"x")+COUNTIF('13'!E14,"x")+COUNTIF('14'!E14,"x")+COUNTIF('15'!E14,"x")<>0,COUNTIF('1'!E14,"x")+COUNTIF('2'!E14,"x")+COUNTIF('3'!E14,"x")+COUNTIF('4'!E14,"x")+COUNTIF('5'!E14,"x")+COUNTIF('6'!E14,"x")+COUNTIF('7'!E14,"x")+COUNTIF('8'!E14,"x")+COUNTIF('9'!E14,"x")+COUNTIF('10'!E14,"x")+COUNTIF('11'!E14,"x")+COUNTIF('12'!E14,"x")+COUNTIF('13'!E14,"x")+COUNTIF('14'!E14,"x")+COUNTIF('15'!E14,"x"),"0") -> 0 | G14: =IF(COUNTIF('1'!G14,"x")+COUNTIF('2'!G14,"x")+COUNTIF('3'!G14,"x")+COUNTIF('4'!G14,"x")+COUNTIF('5'!G14,"x")+COUNTIF('6'!G14,"x")+COUNTIF('7'!G14,"x")+COUNTIF('8'!G14,"x")+COUNTIF('9'!G14,"x")+COUNTIF('10'!G14,"x")+COUNTIF('11'!G14,"x")+COUNTIF('12'!G14,"x")+COUNTIF('13'!G14,"x")+COUNTIF('14'!G14,"x")+COUNTIF('15'!G14,"x")<>0,COUNTIF('1'!G14,"x")+COUNTIF('2'!G14,"x")+COUNTIF('3'!G14,"x")+COUNTIF('4'!G14,"x")+COUNTIF('5'!G14,"x")+COUNTIF('6'!G14,"x")+COUNTIF('7'!G14,"x")+COUNTIF('8'!G14,"x")+COUNTIF('9'!G14,"x")+COUNTIF('10'!G14,"x")+COUNTIF('11'!G14,"x")+COUNTIF('12'!G14,"x")+COUNTIF('13'!G14,"x")+COUNTIF('14'!G14,"x")+COUNTIF('15'!G14,"x"),"0") -> 0 | J14: =IF(COUNTIF('1'!J14,"x")+COUNTIF('2'!J14,"x")+COUNTIF('3'!J14,"x")+COUNTIF('4'!J14,"x")+COUNTIF('5'!J14,"x")+COUNTIF('6'!J14,"x")+COUNTIF('7'!J14,"x")+COUNTIF('8'!J14,"x")+COUNTIF('9'!J14,"x")+COUNTIF('10'!J14,"x")+COUNTIF('11'!J14,"x")+COUNTIF('12'!J14,"x")+COUNTIF('13'!J14,"x")+COUNTIF('14'!J14,"x")+COUNTIF('15'!J14,"x")<>0,COUNTIF('1'!J14,"x")+COUNTIF('2'!J14,"x")+COUNTIF('3'!J14,"x")+COUNTIF('4'!J14,"x")+COUNTIF('5'!J14,"x")+COUNTIF('6'!J14,"x")+COUNTIF('7'!J14,"x")+COUNTIF('8'!J14,"x")+COUNTIF('9'!J14,"x")+COUNTIF('10'!J14,"x")+COUNTIF('11'!J14,"x")+COUNTIF('12'!J14,"x")+COUNTIF('13'!J14,"x")+COUNTIF('14'!J14,"x")+COUNTIF('15'!J14,"x"),"0") -> 0 | L14: =IF(COUNTIF('1'!L14,"x")+COUNTIF('2'!L14,"x")+COUNTIF('3'!L14,"x")+COUNTIF('4'!L14,"x")+COUNTIF('5'!L14,"x")+COUNTIF('6'!L14,"x")+COUNTIF('7'!L14,"x")+COUNTIF('8'!L14,"x")+COUNTIF('9'!L14,"x")+COUNTIF('10'!L14,"x")+COUNTIF('11'!L14,"x")+COUNTIF('12'!L14,"x")+COUNTIF('13'!L14,"x")+COUNTIF('14'!L14,"x")+COUNTIF('15'!L14,"x")<>0,COUNTIF('1'!L14,"x")+COUNTIF('2'!L14,"x")+COUNTIF('3'!L14,"x")+COUNTIF('4'!L14,"x")+COUNTIF('5'!L14,"x")+COUNTIF('6'!L14,"x")+COUNTIF('7'!L14,"x")+COUNTIF('8'!L14,"x")+COUNTIF('9'!L14,"x")+COUNTIF('10'!L14,"x")+COUNTIF('11'!L14,"x")+COUNTIF('12'!L14,"x")+COUNTIF('13'!L14,"x")+COUNTIF('14'!L14,"x")+COUNTIF('15'!L14,"x"),"0") -> 0 | O14: =IF(COUNTIF('1'!O14,"x")+COUNTIF('2'!O14,"x")+COUNTIF('3'!O14,"x")+COUNTIF('4'!O14,"x")+COUNTIF('5'!O14,"x")+COUNTIF('6'!O14,"x")+COUNTIF('7'!O14,"x")+COUNTIF('8'!O14,"x")+COUNTIF('9'!O14,"x")+COUNTIF('10'!O14,"x")+COUNTIF('11'!O14,"x")+COUNTIF('12'!O14,"x")+COUNTIF('13'!O14,"x")+COUNTIF('14'!O14,"x")+COUNTIF('15'!O14,"x")<>0,COUNTIF('1'!O14,"x")+COUNTIF('2'!O14,"x")+COUNTIF('3'!O14,"x")+COUNTIF('4'!O14,"x")+COUNTIF('5'!O14,"x")+COUNTIF('6'!O14,"x")+COUNTIF('7'!O14,"x")+COUNTIF('8'!O14,"x")+COUNTIF('9'!O14,"x")+COUNTIF('10'!O14,"x")+COUNTIF('11'!O14,"x")+COUNTIF('12'!O14,"x")+COUNTIF('13'!O14,"x")+COUNTIF('14'!O14,"x")+COUNTIF('15'!O14,"x"),"0") -> 0 | Q14: =IF(COUNTIF('1'!Q14,"x")+COUNTIF('2'!Q14,"x")+COUNTIF('3'!Q14,"x")+COUNTIF('4'!Q14,"x")+COUNTIF('5'!Q14,"x")+COUNTIF('6'!Q14,"x")+COUNTIF('7'!Q14,"x")+COUNTIF('8'!Q14,"x")+COUNTIF('9'!Q14,"x")+COUNTIF('10'!Q14,"x")+COUNTIF('11'!Q14,"x")+COUNTIF('12'!Q14,"x")+COUNTIF('13'!Q14,"x")+COUNTIF('14'!Q14,"x")+COUNTIF('15'!Q14,"x")<>0,COUNTIF('1'!Q14,"x")+COUNTIF('2'!Q14,"x")+COUNTIF('3'!Q14,"x")+COUNTIF('4'!Q14,"x")+COUNTIF('5'!Q14,"x")+COUNTIF('6'!Q14,"x")+COUNTIF('7'!Q14,"x")+COUNTIF('8'!Q14,"x")+COUNTIF('9'!Q14,"x")+COUNTIF('10'!Q14,"x")+COUNTIF('11'!Q14,"x")+COUNTIF('12'!Q14,"x")+COUNTIF('13'!Q14,"x")+COUNTIF('14'!Q14,"x")+COUNTIF('15'!Q14,"x"),"0") -> 0 | S14: =IF(SUM(E14:Q14)<>0,SUM(E14*1,G14*2,J14*3,L14*4,O14*5,Q14*6)/SUM(E14:Q14),"") | V14: =IF(COUNTIF((E14:Q14),"x")>1,"Bitte nur ein Kreuz setzen!","")
B15: =IF(Vorlage!B15<>"",Vorlage!B15,"") | E15: =IF(COUNTIF('1'!E15,"x")+COUNTIF('2'!E15,"x")+COUNTIF('3'!E15,"x")+COUNTIF('4'!E15,"x")+COUNTIF('5'!E15,"x")+COUNTIF('6'!E15,"x")+COUNTIF('7'!E15,"x")+COUNTIF('8'!E15,"x")+COUNTIF('9'!E15,"x")+COUNTIF('10'!E15,"x")+COUNTIF('11'!E15,"x")+COUNTIF('12'!E15,"x")+COUNTIF('13'!E15,"x")+COUNTIF('14'!E15,"x")+COUNTIF('15'!E15,"x")<>0,COUNTIF('1'!E15,"x")+COUNTIF('2'!E15,"x")+COUNTIF('3'!E15,"x")+COUNTIF('4'!E15,"x")+COUNTIF('5'!E15,"x")+COUNTIF('6'!E15,"x")+COUNTIF('7'!E15,"x")+COUNTIF('8'!E15,"x")+COUNTIF('9'!E15,"x")+COUNTIF('10'!E15,"x")+COUNTIF('11'!E15,"x")+COUNTIF('12'!E15,"x")+COUNTIF('13'!E15,"x")+COUNTIF('14'!E15,"x")+COUNTIF('15'!E15,"x"),"0") -> 0 | G15: =IF(COUNTIF('1'!G15,"x")+COUNTIF('2'!G15,"x")+COUNTIF('3'!G15,"x")+COUNTIF('4'!G15,"x")+COUNTIF('5'!G15,"x")+COUNTIF('6'!G15,"x")+COUNTIF('7'!G15,"x")+COUNTIF('8'!G15,"x")+COUNTIF('9'!G15,"x")+COUNTIF('10'!G15,"x")+COUNTIF('11'!G15,"x")+COUNTIF('12'!G15,"x")+COUNTIF('13'!G15,"x")+COUNTIF('14'!G15,"x")+COUNTIF('15'!G15,"x")<>0,COUNTIF('1'!G15,"x")+COUNTIF('2'!G15,"x")+COUNTIF('3'!G15,"x")+COUNTIF('4'!G15,"x")+COUNTIF('5'!G15,"x")+COUNTIF('6'!G15,"x")+COUNTIF('7'!G15,"x")+COUNTIF('8'!G15,"x")+COUNTIF('9'!G15,"x")+COUNTIF('10'!G15,"x")+COUNTIF('11'!G15,"x")+COUNTIF('12'!G15,"x")+COUNTIF('13'!G15,"x")+COUNTIF('14'!G15,"x")+COUNTIF('15'!G15,"x"),"0") -> 0 | J15: =IF(COUNTIF('1'!J15,"x")+COUNTIF('2'!J15,"x")+COUNTIF('3'!J15,"x")+COUNTIF('4'!J15,"x")+COUNTIF('5'!J15,"x")+COUNTIF('6'!J15,"x")+COUNTIF('7'!J15,"x")+COUNTIF('8'!J15,"x")+COUNTIF('9'!J15,"x")+COUNTIF('10'!J15,"x")+COUNTIF('11'!J15,"x")+COUNTIF('12'!J15,"x")+COUNTIF('13'!J15,"x")+COUNTIF('14'!J15,"x")+COUNTIF('15'!J15,"x")<>0,COUNTIF('1'!J15,"x")+COUNTIF('2'!J15,"x")+COUNTIF('3'!J15,"x")+COUNTIF('4'!J15,"x")+COUNTIF('5'!J15,"x")+COUNTIF('6'!J15,"x")+COUNTIF('7'!J15,"x")+COUNTIF('8'!J15,"x")+COUNTIF('9'!J15,"x")+COUNTIF('10'!J15,"x")+COUNTIF('11'!J15,"x")+COUNTIF('12'!J15,"x")+COUNTIF('13'!J15,"x")+COUNTIF('14'!J15,"x")+COUNTIF('15'!J15,"x"),"0") -> 0 | L15: =IF(COUNTIF('1'!L15,"x")+COUNTIF('2'!L15,"x")+COUNTIF('3'!L15,"x")+COUNTIF('4'!L15,"x")+COUNTIF('5'!L15,"x")+COUNTIF('6'!L15,"x")+COUNTIF('7'!L15,"x")+COUNTIF('8'!L15,"x")+COUNTIF('9'!L15,"x")+COUNTIF('10'!L15,"x")+COUNTIF('11'!L15,"x")+COUNTIF('12'!L15,"x")+COUNTIF('13'!L15,"x")+COUNTIF('14'!L15,"x")+COUNTIF('15'!L15,"x")<>0,COUNTIF('1'!L15,"x")+COUNTIF('2'!L15,"x")+COUNTIF('3'!L15,"x")+COUNTIF('4'!L15,"x")+COUNTIF('5'!L15,"x")+COUNTIF('6'!L15,"x")+COUNTIF('7'!L15,"x")+COUNTIF('8'!L15,"x")+COUNTIF('9'!L15,"x")+COUNTIF('10'!L15,"x")+COUNTIF('11'!L15,"x")+COUNTIF('12'!L15,"x")+COUNTIF('13'!L15,"x")+COUNTIF('14'!L15,"x")+COUNTIF('15'!L15,"x"),"0") -> 0 | O15: =IF(COUNTIF('1'!O15,"x")+COUNTIF('2'!O15,"x")+COUNTIF('3'!O15,"x")+COUNTIF('4'!O15,"x")+COUNTIF('5'!O15,"x")+COUNTIF('6'!O15,"x")+COUNTIF('7'!O15,"x")+COUNTIF('8'!O15,"x")+COUNTIF('9'!O15,"x")+COUNTIF('10'!O15,"x")+COUNTIF('11'!O15,"x")+COUNTIF('12'!O15,"x")+COUNTIF('13'!O15,"x")+COUNTIF('14'!O15,"x")+COUNTIF('15'!O15,"x")<>0,COUNTIF('1'!O15,"x")+COUNTIF('2'!O15,"x")+COUNTIF('3'!O15,"x")+COUNTIF('4'!O15,"x")+COUNTIF('5'!O15,"x")+COUNTIF('6'!O15,"x")+COUNTIF('7'!O15,"x")+COUNTIF('8'!O15,"x")+COUNTIF('9'!O15,"x")+COUNTIF('10'!O15,"x")+COUNTIF('11'!O15,"x")+COUNTIF('12'!O15,"x")+COUNTIF('13'!O15,"x")+COUNTIF('14'!O15,"x")+COUNTIF('15'!O15,"x"),"0") -> 0 | Q15: =IF(COUNTIF('1'!Q15,"x")+COUNTIF('2'!Q15,"x")+COUNTIF('3'!Q15,"x")+COUNTIF('4'!Q15,"x")+COUNTIF('5'!Q15,"x")+COUNTIF('6'!Q15,"x")+COUNTIF('7'!Q15,"x")+COUNTIF('8'!Q15,"x")+COUNTIF('9'!Q15,"x")+COUNTIF('10'!Q15,"x")+COUNTIF('11'!Q15,"x")+COUNTIF('12'!Q15,"x")+COUNTIF('13'!Q15,"x")+COUNTIF('14'!Q15,"x")+COUNTIF('15'!Q15,"x")<>0,COUNTIF('1'!Q15,"x")+COUNTIF('2'!Q15,"x")+COUNTIF('3'!Q15,"x")+COUNTIF('4'!Q15,"x")+COUNTIF('5'!Q15,"x")+COUNTIF('6'!Q15,"x")+COUNTIF('7'!Q15,"x")+COUNTIF('8'!Q15,"x")+COUNTIF('9'!Q15,"x")+COUNTIF('10'!Q15,"x")+COUNTIF('11'!Q15,"x")+COUNTIF('12'!Q15,"x")+COUNTIF('13'!Q15,"x")+COUNTIF('14'!Q15,"x")+COUNTIF('15'!Q15,"x"),"0") -> 0 | S15: =IF(SUM(E15:Q15)<>0,SUM(E15*1,G15*2,J15*3,L15*4,O15*5,Q15*6)/SUM(E15:Q15),"") | V15: =IF(COUNTIF((E15:Q15),"x")>1,"Bitte nur ein Kreuz setzen!","")
B16: =IF(Vorlage!B16<>"",Vorlage!B16,"") | E16: =IF(COUNTIF('1'!E16,"x")+COUNTIF('2'!E16,"x")+COUNTIF('3'!E16,"x")+COUNTIF('4'!E16,"x")+COUNTIF('5'!E16,"x")+COUNTIF('6'!E16,"x")+COUNTIF('7'!E16,"x")+COUNTIF('8'!E16,"x")+COUNTIF('9'!E16,"x")+COUNTIF('10'!E16,"x")+COUNTIF('11'!E16,"x")+COUNTIF('12'!E16,"x")+COUNTIF('13'!E16,"x")+COUNTIF('14'!E16,"x")+COUNTIF('15'!E16,"x")<>0,COUNTIF('1'!E16,"x")+COUNTIF('2'!E16,"x")+COUNTIF('3'!E16,"x")+COUNTIF('4'!E16,"x")+COUNTIF('5'!E16,"x")+COUNTIF('6'!E16,"x")+COUNTIF('7'!E16,"x")+COUNTIF('8'!E16,"x")+COUNTIF('9'!E16,"x")+COUNTIF('10'!E16,"x")+COUNTIF('11'!E16,"x")+COUNTIF('12'!E16,"x")+COUNTIF('13'!E16,"x")+COUNTIF('14'!E16,"x")+COUNTIF('15'!E16,"x"),"0") -> 0 | G16: =IF(COUNTIF('1'!G16,"x")+COUNTIF('2'!G16,"x")+COUNTIF('3'!G16,"x")+COUNTIF('4'!G16,"x")+COUNTIF('5'!G16,"x")+COUNTIF('6'!G16,"x")+COUNTIF('7'!G16,"x")+COUNTIF('8'!G16,"x")+COUNTIF('9'!G16,"x")+COUNTIF('10'!G16,"x")+COUNTIF('11'!G16,"x")+COUNTIF('12'!G16,"x")+COUNTIF('13'!G16,"x")+COUNTIF('14'!G16,"x")+COUNTIF('15'!G16,"x")<>0,COUNTIF('1'!G16,"x")+COUNTIF('2'!G16,"x")+COUNTIF('3'!G16,"x")+COUNTIF('4'!G16,"x")+COUNTIF('5'!G16,"x")+COUNTIF('6'!G16,"x")+COUNTIF('7'!G16,"x")+COUNTIF('8'!G16,"x")+COUNTIF('9'!G16,"x")+COUNTIF('10'!G16,"x")+COUNTIF('11'!G16,"x")+COUNTIF('12'!G16,"x")+COUNTIF('13'!G16,"x")+COUNTIF('14'!G16,"x")+COUNTIF('15'!G16,"x"),"0") -> 0 | J16: =IF(COUNTIF('1'!J16,"x")+COUNTIF('2'!J16,"x")+COUNTIF('3'!J16,"x")+COUNTIF('4'!J16,"x")+COUNTIF('5'!J16,"x")+COUNTIF('6'!J16,"x")+COUNTIF('7'!J16,"x")+COUNTIF('8'!J16,"x")+COUNTIF('9'!J16,"x")+COUNTIF('10'!J16,"x")+COUNTIF('11'!J16,"x")+COUNTIF('12'!J16,"x")+COUNTIF('13'!J16,"x")+COUNTIF('14'!J16,"x")+COUNTIF('15'!J16,"x")<>0,COUNTIF('1'!J16,"x")+COUNTIF('2'!J16,"x")+COUNTIF('3'!J16,"x")+COUNTIF('4'!J16,"x")+COUNTIF('5'!J16,"x")+COUNTIF('6'!J16,"x")+COUNTIF('7'!J16,"x")+COUNTIF('8'!J16,"x")+COUNTIF('9'!J16,"x")+COUNTIF('10'!J16,"x")+COUNTIF('11'!J16,"x")+COUNTIF('12'!J16,"x")+COUNTIF('13'!J16,"x")+COUNTIF('14'!J16,"x")+COUNTIF('15'!J16,"x"),"0") -> 0 | L16: =IF(COUNTIF('1'!L16,"x")+COUNTIF('2'!L16,"x")+COUNTIF('3'!L16,"x")+COUNTIF('4'!L16,"x")+COUNTIF('5'!L16,"x")+COUNTIF('6'!L16,"x")+COUNTIF('7'!L16,"x")+COUNTIF('8'!L16,"x")+COUNTIF('9'!L16,"x")+COUNTIF('10'!L16,"x")+COUNTIF('11'!L16,"x")+COUNTIF('12'!L16,"x")+COUNTIF('13'!L16,"x")+COUNTIF('14'!L16,"x")+COUNTIF('15'!L16,"x")<>0,COUNTIF('1'!L16,"x")+COUNTIF('2'!L16,"x")+COUNTIF('3'!L16,"x")+COUNTIF('4'!L16,"x")+COUNTIF('5'!L16,"x")+COUNTIF('6'!L16,"x")+COUNTIF('7'!L16,"x")+COUNTIF('8'!L16,"x")+COUNTIF('9'!L16,"x")+COUNTIF('10'!L16,"x")+COUNTIF('11'!L16,"x")+COUNTIF('12'!L16,"x")+COUNTIF('13'!L16,"x")+COUNTIF('14'!L16,"x")+COUNTIF('15'!L16,"x"),"0") -> 0 | O16: =IF(COUNTIF('1'!O16,"x")+COUNTIF('2'!O16,"x")+COUNTIF('3'!O16,"x")+COUNTIF('4'!O16,"x")+COUNTIF('5'!O16,"x")+COUNTIF('6'!O16,"x")+COUNTIF('7'!O16,"x")+COUNTIF('8'!O16,"x")+COUNTIF('9'!O16,"x")+COUNTIF('10'!O16,"x")+COUNTIF('11'!O16,"x")+COUNTIF('12'!O16,"x")+COUNTIF('13'!O16,"x")+COUNTIF('14'!O16,"x")+COUNTIF('15'!O16,"x")<>0,COUNTIF('1'!O16,"x")+COUNTIF('2'!O16,"x")+COUNTIF('3'!O16,"x")+COUNTIF('4'!O16,"x")+COUNTIF('5'!O16,"x")+COUNTIF('6'!O16,"x")+COUNTIF('7'!O16,"x")+COUNTIF('8'!O16,"x")+COUNTIF('9'!O16,"x")+COUNTIF('10'!O16,"x")+COUNTIF('11'!O16,"x")+COUNTIF('12'!O16,"x")+COUNTIF('13'!O16,"x")+COUNTIF('14'!O16,"x")+COUNTIF('15'!O16,"x"),"0") -> 0 | Q16: =IF(COUNTIF('1'!Q16,"x")+COUNTIF('2'!Q16,"x")+COUNTIF('3'!Q16,"x")+COUNTIF('4'!Q16,"x")+COUNTIF('5'!Q16,"x")+COUNTIF('6'!Q16,"x")+COUNTIF('7'!Q16,"x")+COUNTIF('8'!Q16,"x")+COUNTIF('9'!Q16,"x")+COUNTIF('10'!Q16,"x")+COUNTIF('11'!Q16,"x")+COUNTIF('12'!Q16,"x")+COUNTIF('13'!Q16,"x")+COUNTIF('14'!Q16,"x")+COUNTIF('15'!Q16,"x")<>0,COUNTIF('1'!Q16,"x")+COUNTIF('2'!Q16,"x")+COUNTIF('3'!Q16,"x")+COUNTIF('4'!Q16,"x")+COUNTIF('5'!Q16,"x")+COUNTIF('6'!Q16,"x")+COUNTIF('7'!Q16,"x")+COUNTIF('8'!Q16,"x")+COUNTIF('9'!Q16,"x")+COUNTIF('10'!Q16,"x")+COUNTIF('11'!Q16,"x")+COUNTIF('12'!Q16,"x")+COUNTIF('13'!Q16,"x")+COUNTIF('14'!Q16,"x")+COUNTIF('15'!Q16,"x"),"0") -> 0 | S16: =IF(SUM(E16:Q16)<>0,SUM(E16*1,G16*2,J16*3,L16*4,O16*5,Q16*6)/SUM(E16:Q16),"") | V16: =IF(COUNTIF((E16:Q16),"x")>1,"Bitte nur ein Kreuz setzen!","")
B17: =IF(Vorlage!B17<>"",Vorlage!B17,"") | E17: =IF(COUNTIF('1'!E17,"x")+COUNTIF('2'!E17,"x")+COUNTIF('3'!E17,"x")+COUNTIF('4'!E17,"x")+COUNTIF('5'!E17,"x")+COUNTIF('6'!E17,"x")+COUNTIF('7'!E17,"x")+COUNTIF('8'!E17,"x")+COUNTIF('9'!E17,"x")+COUNTIF('10'!E17,"x")+COUNTIF('11'!E17,"x")+COUNTIF('12'!E17,"x")+COUNTIF('13'!E17,"x")+COUNTIF('14'!E17,"x")+COUNTIF('15'!E17,"x")<>0,COUNTIF('1'!E17,"x")+COUNTIF('2'!E17,"x")+COUNTIF('3'!E17,"x")+COUNTIF('4'!E17,"x")+COUNTIF('5'!E17,"x")+COUNTIF('6'!E17,"x")+COUNTIF('7'!E17,"x")+COUNTIF('8'!E17,"x")+COUNTIF('9'!E17,"x")+COUNTIF('10'!E17,"x")+COUNTIF('11'!E17,"x")+COUNTIF('12'!E17,"x")+COUNTIF('13'!E17,"x")+COUNTIF('14'!E17,"x")+COUNTIF('15'!E17,"x"),"0") -> 0 | G17: =IF(COUNTIF('1'!G17,"x")+COUNTIF('2'!G17,"x")+COUNTIF('3'!G17,"x")+COUNTIF('4'!G17,"x")+COUNTIF('5'!G17,"x")+COUNTIF('6'!G17,"x")+COUNTIF('7'!G17,"x")+COUNTIF('8'!G17,"x")+COUNTIF('9'!G17,"x")+COUNTIF('10'!G17,"x")+COUNTIF('11'!G17,"x")+COUNTIF('12'!G17,"x")+COUNTIF('13'!G17,"x")+COUNTIF('14'!G17,"x")+COUNTIF('15'!G17,"x")<>0,COUNTIF('1'!G17,"x")+COUNTIF('2'!G17,"x")+COUNTIF('3'!G17,"x")+COUNTIF('4'!G17,"x")+COUNTIF('5'!G17,"x")+COUNTIF('6'!G17,"x")+COUNTIF('7'!G17,"x")+COUNTIF('8'!G17,"x")+COUNTIF('9'!G17,"x")+COUNTIF('10'!G17,"x")+COUNTIF('11'!G17,"x")+COUNTIF('12'!G17,"x")+COUNTIF('13'!G17,"x")+COUNTIF('14'!G17,"x")+COUNTIF('15'!G17,"x"),"0") -> 0 | J17: =IF(COUNTIF('1'!J17,"x")+COUNTIF('2'!J17,"x")+COUNTIF('3'!J17,"x")+COUNTIF('4'!J17,"x")+COUNTIF('5'!J17,"x")+COUNTIF('6'!J17,"x")+COUNTIF('7'!J17,"x")+COUNTIF('8'!J17,"x")+COUNTIF('9'!J17,"x")+COUNTIF('10'!J17,"x")+COUNTIF('11'!J17,"x")+COUNTIF('12'!J17,"x")+COUNTIF('13'!J17,"x")+COUNTIF('14'!J17,"x")+COUNTIF('15'!J17,"x")<>0,COUNTIF('1'!J17,"x")+COUNTIF('2'!J17,"x")+COUNTIF('3'!J17,"x")+COUNTIF('4'!J17,"x")+COUNTIF('5'!J17,"x")+COUNTIF('6'!J17,"x")+COUNTIF('7'!J17,"x")+COUNTIF('8'!J17,"x")+COUNTIF('9'!J17,"x")+COUNTIF('10'!J17,"x")+COUNTIF('11'!J17,"x")+COUNTIF('12'!J17,"x")+COUNTIF('13'!J17,"x")+COUNTIF('14'!J17,"x")+COUNTIF('15'!J17,"x"),"0") -> 0 | L17: =IF(COUNTIF('1'!L17,"x")+COUNTIF('2'!L17,"x")+COUNTIF('3'!L17,"x")+COUNTIF('4'!L17,"x")+COUNTIF('5'!L17,"x")+COUNTIF('6'!L17,"x")+COUNTIF('7'!L17,"x")+COUNTIF('8'!L17,"x")+COUNTIF('9'!L17,"x")+COUNTIF('10'!L17,"x")+COUNTIF('11'!L17,"x")+COUNTIF('12'!L17,"x")+COUNTIF('13'!L17,"x")+COUNTIF('14'!L17,"x")+COUNTIF('15'!L17,"x")<>0,COUNTIF('1'!L17,"x")+COUNTIF('2'!L17,"x")+COUNTIF('3'!L17,"x")+COUNTIF('4'!L17,"x")+COUNTIF('5'!L17,"x")+COUNTIF('6'!L17,"x")+COUNTIF('7'!L17,"x")+COUNTIF('8'!L17,"x")+COUNTIF('9'!L17,"x")+COUNTIF('10'!L17,"x")+COUNTIF('11'!L17,"x")+COUNTIF('12'!L17,"x")+COUNTIF('13'!L17,"x")+COUNTIF('14'!L17,"x")+COUNTIF('15'!L17,"x"),"0") -> 0 | O17: =IF(COUNTIF('1'!O17,"x")+COUNTIF('2'!O17,"x")+COUNTIF('3'!O17,"x")+COUNTIF('4'!O17,"x")+COUNTIF('5'!O17,"x")+COUNTIF('6'!O17,"x")+COUNTIF('7'!O17,"x")+COUNTIF('8'!O17,"x")+COUNTIF('9'!O17,"x")+COUNTIF('10'!O17,"x")+COUNTIF('11'!O17,"x")+COUNTIF('12'!O17,"x")+COUNTIF('13'!O17,"x")+COUNTIF('14'!O17,"x")+COUNTIF('15'!O17,"x")<>0,COUNTIF('1'!O17,"x")+COUNTIF('2'!O17,"x")+COUNTIF('3'!O17,"x")+COUNTIF('4'!O17,"x")+COUNTIF('5'!O17,"x")+COUNTIF('6'!O17,"x")+COUNTIF('7'!O17,"x")+COUNTIF('8'!O17,"x")+COUNTIF('9'!O17,"x")+COUNTIF('10'!O17,"x")+COUNTIF('11'!O17,"x")+COUNTIF('12'!O17,"x")+COUNTIF('13'!O17,"x")+COUNTIF('14'!O17,"x")+COUNTIF('15'!O17,"x"),"0") -> 0 | Q17: =IF(COUNTIF('1'!Q17,"x")+COUNTIF('2'!Q17,"x")+COUNTIF('3'!Q17,"x")+COUNTIF('4'!Q17,"x")+COUNTIF('5'!Q17,"x")+COUNTIF('6'!Q17,"x")+COUNTIF('7'!Q17,"x")+COUNTIF('8'!Q17,"x")+COUNTIF('9'!Q17,"x")+COUNTIF('10'!Q17,"x")+COUNTIF('11'!Q17,"x")+COUNTIF('12'!Q17,"x")+COUNTIF('13'!Q17,"x")+COUNTIF('14'!Q17,"x")+COUNTIF('15'!Q17,"x")<>0,COUNTIF('1'!Q17,"x")+COUNTIF('2'!Q17,"x")+COUNTIF('3'!Q17,"x")+COUNTIF('4'!Q17,"x")+COUNTIF('5'!Q17,"x")+COUNTIF('6'!Q17,"x")+COUNTIF('7'!Q17,"x")+COUNTIF('8'!Q17,"x")+COUNTIF('9'!Q17,"x")+COUNTIF('10'!Q17,"x")+COUNTIF('11'!Q17,"x")+COUNTIF('12'!Q17,"x")+COUNTIF('13'!Q17,"x")+COUNTIF('14'!Q17,"x")+COUNTIF('15'!Q17,"x"),"0") -> 0 | S17: =IF(SUM(E17:Q17)<>0,SUM(E17*1,G17*2,J17*3,L17*4,O17*5,Q17*6)/SUM(E17:Q17),"") | V17: =IF(COUNTIF((E17:Q17),"x")>1,"Bitte nur ein Kreuz setzen!","")
B18: =IF(Vorlage!B18<>"",Vorlage!B18,"") | E18: =IF(COUNTIF('1'!E18,"x")+COUNTIF('2'!E18,"x")+COUNTIF('3'!E18,"x")+COUNTIF('4'!E18,"x")+COUNTIF('5'!E18,"x")+COUNTIF('6'!E18,"x")+COUNTIF('7'!E18,"x")+COUNTIF('8'!E18,"x")+COUNTIF('9'!E18,"x")+COUNTIF('10'!E18,"x")+COUNTIF('11'!E18,"x")+COUNTIF('12'!E18,"x")+COUNTIF('13'!E18,"x")+COUNTIF('14'!E18,"x")+COUNTIF('15'!E18,"x")<>0,COUNTIF('1'!E18,"x")+COUNTIF('2'!E18,"x")+COUNTIF('3'!E18,"x")+COUNTIF('4'!E18,"x")+COUNTIF('5'!E18,"x")+COUNTIF('6'!E18,"x")+COUNTIF('7'!E18,"x")+COUNTIF('8'!E18,"x")+COUNTIF('9'!E18,"x")+COUNTIF('10'!E18,"x")+COUNTIF('11'!E18,"x")+COUNTIF('12'!E18,"x")+COUNTIF('13'!E18,"x")+COUNTIF('14'!E18,"x")+COUNTIF('15'!E18,"x"),"0") -> 0 | G18: =IF(COUNTIF('1'!G18,"x")+COUNTIF('2'!G18,"x")+COUNTIF('3'!G18,"x")+COUNTIF('4'!G18,"x")+COUNTIF('5'!G18,"x")+COUNTIF('6'!G18,"x")+COUNTIF('7'!G18,"x")+COUNTIF('8'!G18,"x")+COUNTIF('9'!G18,"x")+COUNTIF('10'!G18,"x")+COUNTIF('11'!G18,"x")+COUNTIF('12'!G18,"x")+COUNTIF('13'!G18,"x")+COUNTIF('14'!G18,"x")+COUNTIF('15'!G18,"x")<>0,COUNTIF('1'!G18,"x")+COUNTIF('2'!G18,"x")+COUNTIF('3'!G18,"x")+COUNTIF('4'!G18,"x")+COUNTIF('5'!G18,"x")+COUNTIF('6'!G18,"x")+COUNTIF('7'!G18,"x")+COUNTIF('8'!G18,"x")+COUNTIF('9'!G18,"x")+COUNTIF('10'!G18,"x")+COUNTIF('11'!G18,"x")+COUNTIF('12'!G18,"x")+COUNTIF('13'!G18,"x")+COUNTIF('14'!G18,"x")+COUNTIF('15'!G18,"x"),"0") -> 0 | J18: =IF(COUNTIF('1'!J18,"x")+COUNTIF('2'!J18,"x")+COUNTIF('3'!J18,"x")+COUNTIF('4'!J18,"x")+COUNTIF('5'!J18,"x")+COUNTIF('6'!J18,"x")+COUNTIF('7'!J18,"x")+COUNTIF('8'!J18,"x")+COUNTIF('9'!J18,"x")+COUNTIF('10'!J18,"x")+COUNTIF('11'!J18,"x")+COUNTIF('12'!J18,"x")+COUNTIF('13'!J18,"x")+COUNTIF('14'!J18,"x")+COUNTIF('15'!J18,"x")<>0,COUNTIF('1'!J18,"x")+COUNTIF('2'!J18,"x")+COUNTIF('3'!J18,"x")+COUNTIF('4'!J18,"x")+COUNTIF('5'!J18,"x")+COUNTIF('6'!J18,"x")+COUNTIF('7'!J18,"x")+COUNTIF('8'!J18,"x")+COUNTIF('9'!J18,"x")+COUNTIF('10'!J18,"x")+COUNTIF('11'!J18,"x")+COUNTIF('12'!J18,"x")+COUNTIF('13'!J18,"x")+COUNTIF('14'!J18,"x")+COUNTIF('15'!J18,"x"),"0") -> 0 | L18: =IF(COUNTIF('1'!L18,"x")+COUNTIF('2'!L18,"x")+COUNTIF('3'!L18,"x")+COUNTIF('4'!L18,"x")+COUNTIF('5'!L18,"x")+COUNTIF('6'!L18,"x")+COUNTIF('7'!L18,"x")+COUNTIF('8'!L18,"x")+COUNTIF('9'!L18,"x")+COUNTIF('10'!L18,"x")+COUNTIF('11'!L18,"x")+COUNTIF('12'!L18,"x")+COUNTIF('13'!L18,"x")+COUNTIF('14'!L18,"x")+COUNTIF('15'!L18,"x")<>0,COUNTIF('1'!L18,"x")+COUNTIF('2'!L18,"x")+COUNTIF('3'!L18,"x")+COUNTIF('4'!L18,"x")+COUNTIF('5'!L18,"x")+COUNTIF('6'!L18,"x")+COUNTIF('7'!L18,"x")+COUNTIF('8'!L18,"x")+COUNTIF('9'!L18,"x")+COUNTIF('10'!L18,"x")+COUNTIF('11'!L18,"x")+COUNTIF('12'!L18,"x")+COUNTIF('13'!L18,"x")+COUNTIF('14'!L18,"x")+COUNTIF('15'!L18,"x"),"0") -> 0 | O18: =IF(COUNTIF('1'!O18,"x")+COUNTIF('2'!O18,"x")+COUNTIF('3'!O18,"x")+COUNTIF('4'!O18,"x")+COUNTIF('5'!O18,"x")+COUNTIF('6'!O18,"x")+COUNTIF('7'!O18,"x")+COUNTIF('8'!O18,"x")+COUNTIF('9'!O18,"x")+COUNTIF('10'!O18,"x")+COUNTIF('11'!O18,"x")+COUNTIF('12'!O18,"x")+COUNTIF('13'!O18,"x")+COUNTIF('14'!O18,"x")+COUNTIF('15'!O18,"x")<>0,COUNTIF('1'!O18,"x")+COUNTIF('2'!O18,"x")+COUNTIF('3'!O18,"x")+COUNTIF('4'!O18,"x")+COUNTIF('5'!O18,"x")+COUNTIF('6'!O18,"x")+COUNTIF('7'!O18,"x")+COUNTIF('8'!O18,"x")+COUNTIF('9'!O18,"x")+COUNTIF('10'!O18,"x")+COUNTIF('11'!O18,"x")+COUNTIF('12'!O18,"x")+COUNTIF('13'!O18,"x")+COUNTIF('14'!O18,"x")+COUNTIF('15'!O18,"x"),"0") -> 0 | Q18: =IF(COUNTIF('1'!Q18,"x")+COUNTIF('2'!Q18,"x")+COUNTIF('3'!Q18,"x")+COUNTIF('4'!Q18,"x")+COUNTIF('5'!Q18,"x")+COUNTIF('6'!Q18,"x")+COUNTIF('7'!Q18,"x")+COUNTIF('8'!Q18,"x")+COUNTIF('9'!Q18,"x")+COUNTIF('10'!Q18,"x")+COUNTIF('11'!Q18,"x")+COUNTIF('12'!Q18,"x")+COUNTIF('13'!Q18,"x")+COUNTIF('14'!Q18,"x")+COUNTIF('15'!Q18,"x")<>0,COUNTIF('1'!Q18,"x")+COUNTIF('2'!Q18,"x")+COUNTIF('3'!Q18,"x")+COUNTIF('4'!Q18,"x")+COUNTIF('5'!Q18,"x")+COUNTIF('6'!Q18,"x")+COUNTIF('7'!Q18,"x")+COUNTIF('8'!Q18,"x")+COUNTIF('9'!Q18,"x")+COUNTIF('10'!Q18,"x")+COUNTIF('11'!Q18,"x")+COUNTIF('12'!Q18,"x")+COUNTIF('13'!Q18,"x")+COUNTIF('14'!Q18,"x")+COUNTIF('15'!Q18,"x"),"0") -> 0 | S18: =IF(SUM(E18:Q18)<>0,SUM(E18*1,G18*2,J18*3,L18*4,O18*5,Q18*6)/SUM(E18:Q18),"") | V18: =IF(COUNTIF((E18:Q18),"x")>1,"Bitte nur ein Kreuz setzen!","")
S19: =IF(SUM(S9:S18)<>0,SUM(S9:S18)/COUNT(S9:S18),"") | T19: erreichte Punkte | U19: =IF(S19<>"",-((U8/5)*S19)+(U8+(U8/5)),"0") -> 0
A20: =+Vorlage!A20 -> OP- Tisch Säule | T20: Punkte | U20: 8
B21: =IF(Vorlage!B21<>"",Vorlage!B21,"") -> Drehbereich, Bedienkonzept für die Drehung | E21: =IF(COUNTIF('1'!E21,"x")+COUNTIF('2'!E21,"x")+COUNTIF('3'!E21,"x")+COUNTIF('4'!E21,"x")+COUNTIF('5'!E21,"x")+COUNTIF('6'!E21,"x")+COUNTIF('7'!E21,"x")+COUNTIF('8'!E21,"x")+COUNTIF('9'!E21,"x")+COUNTIF('10'!E21,"x")+COUNTIF('11'!E21,"x")+COUNTIF('12'!E21,"x")+COUNTIF('13'!E21,"x")+COUNTIF('14'!E21,"x")+COUNTIF('15'!E21,"x")<>0,COUNTIF('1'!E21,"x")+COUNTIF('2'!E21,"x")+COUNTIF('3'!E21,"x")+COUNTIF('4'!E21,"x")+COUNTIF('5'!E21,"x")+COUNTIF('6'!E21,"x")+COUNTIF('7'!E21,"x")+COUNTIF('8'!E21,"x")+COUNTIF('9'!E21,"x")+COUNTIF('10'!E21,"x")+COUNTIF('11'!E21,"x")+COUNTIF('12'!E21,"x")+COUNTIF('13'!E21,"x")+COUNTIF('14'!E21,"x")+COUNTIF('15'!E21,"x"),"0") -> 0 | G21: =IF(COUNTIF('1'!G21,"x")+COUNTIF('2'!G21,"x")+COUNTIF('3'!G21,"x")+COUNTIF('4'!G21,"x")+COUNTIF('5'!G21,"x")+COUNTIF('6'!G21,"x")+COUNTIF('7'!G21,"x")+COUNTIF('8'!G21,"x")+COUNTIF('9'!G21,"x")+COUNTIF('10'!G21,"x")+COUNTIF('11'!G21,"x")+COUNTIF('12'!G21,"x")+COUNTIF('13'!G21,"x")+COUNTIF('14'!G21,"x")+COUNTIF('15'!G21,"x")<>0,COUNTIF('1'!G21,"x")+COUNTIF('2'!G21,"x")+COUNTIF('3'!G21,"x")+COUNTIF('4'!G21,"x")+COUNTIF('5'!G21,"x")+COUNTIF('6'!G21,"x")+COUNTIF('7'!G21,"x")+COUNTIF('8'!G21,"x")+COUNTIF('9'!G21,"x")+COUNTIF('10'!G21,"x")+COUNTIF('11'!G21,"x")+COUNTIF('12'!G21,"x")+COUNTIF('13'!G21,"x")+COUNTIF('14'!G21,"x")+COUNTIF('15'!G21,"x"),"0") -> 0 | J21: =IF(COUNTIF('1'!J21,"x")+COUNTIF('2'!J21,"x")+COUNTIF('3'!J21,"x")+COUNTIF('4'!J21,"x")+COUNTIF('5'!J21,"x")+COUNTIF('6'!J21,"x")+COUNTIF('7'!J21,"x")+COUNTIF('8'!J21,"x")+COUNTIF('9'!J21,"x")+COUNTIF('10'!J21,"x")+COUNTIF('11'!J21,"x")+COUNTIF('12'!J21,"x")+COUNTIF('13'!J21,"x")+COUNTIF('14'!J21,"x")+COUNTIF('15'!J21,"x")<>0,COUNTIF('1'!J21,"x")+COUNTIF('2'!J21,"x")+COUNTIF('3'!J21,"x")+COUNTIF('4'!J21,"x")+COUNTIF('5'!J21,"x")+COUNTIF('6'!J21,"x")+COUNTIF('7'!J21,"x")+COUNTIF('8'!J21,"x")+COUNTIF('9'!J21,"x")+COUNTIF('10'!J21,"x")+COUNTIF('11'!J21,"x")+COUNTIF('12'!J21,"x")+COUNTIF('13'!J21,"x")+COUNTIF('14'!J21,"x")+COUNTIF('15'!J21,"x"),"0") -> 0 | L21: =IF(COUNTIF('1'!L21,"x")+COUNTIF('2'!L21,"x")+COUNTIF('3'!L21,"x")+COUNTIF('4'!L21,"x")+COUNTIF('5'!L21,"x")+COUNTIF('6'!L21,"x")+COUNTIF('7'!L21,"x")+COUNTIF('8'!L21,"x")+COUNTIF('9'!L21,"x")+COUNTIF('10'!L21,"x")+COUNTIF('11'!L21,"x")+COUNTIF('12'!L21,"x")+COUNTIF('13'!L21,"x")+COUNTIF('14'!L21,"x")+COUNTIF('15'!L21,"x")<>0,COUNTIF('1'!L21,"x")+COUNTIF('2'!L21,"x")+COUNTIF('3'!L21,"x")+COUNTIF('4'!L21,"x")+COUNTIF('5'!L21,"x")+COUNTIF('6'!L21,"x")+COUNTIF('7'!L21,"x")+COUNTIF('8'!L21,"x")+COUNTIF('9'!L21,"x")+COUNTIF('10'!L21,"x")+COUNTIF('11'!L21,"x")+COUNTIF('12'!L21,"x")+COUNTIF('13'!L21,"x")+COUNTIF('14'!L21,"x")+COUNTIF('15'!L21,"x"),"0") -> 0 | O21: =IF(COUNTIF('1'!O21,"x")+COUNTIF('2'!O21,"x")+COUNTIF('3'!O21,"x")+COUNTIF('4'!O21,"x")+COUNTIF('5'!O21,"x")+COUNTIF('6'!O21,"x")+COUNTIF('7'!O21,"x")+COUNTIF('8'!O21,"x")+COUNTIF('9'!O21,"x")+COUNTIF('10'!O21,"x")+COUNTIF('11'!O21,"x")+COUNTIF('12'!O21,"x")+COUNTIF('13'!O21,"x")+COUNTIF('14'!O21,"x")+COUNTIF('15'!O21,"x")<>0,COUNTIF('1'!O21,"x")+COUNTIF('2'!O21,"x")+COUNTIF('3'!O21,"x")+COUNTIF('4'!O21,"x")+COUNTIF('5'!O21,"x")+COUNTIF('6'!O21,"x")+COUNTIF('7'!O21,"x")+COUNTIF('8'!O21,"x")+COUNTIF('9'!O21,"x")+COUNTIF('10'!O21,"x")+COUNTIF('11'!O21,"x")+COUNTIF('12'!O21,"x")+COUNTIF('13'!O21,"x")+COUNTIF('14'!O21,"x")+COUNTIF('15'!O21,"x"),"0") -> 0 | Q21: =IF(COUNTIF('1'!Q21,"x")+COUNTIF('2'!Q21,"x")+COUNTIF('3'!Q21,"x")+COUNTIF('4'!Q21,"x")+COUNTIF('5'!Q21,"x")+COUNTIF('6'!Q21,"x")+COUNTIF('7'!Q21,"x")+COUNTIF('8'!Q21,"x")+COUNTIF('9'!Q21,"x")+COUNTIF('10'!Q21,"x")+COUNTIF('11'!Q21,"x")+COUNTIF('12'!Q21,"x")+COUNTIF('13'!Q21,"x")+COUNTIF('14'!Q21,"x")+COUNTIF('15'!Q21,"x")<>0,COUNTIF('1'!Q21,"x")+COUNTIF('2'!Q21,"x")+COUNTIF('3'!Q21,"x")+COUNTIF('4'!Q21,"x")+COUNTIF('5'!Q21,"x")+COUNTIF('6'!Q21,"x")+COUNTIF('7'!Q21,"x")+COUNTIF('8'!Q21,"x")+COUNTIF('9'!Q21,"x")+COUNTIF('10'!Q21,"x")+COUNTIF('11'!Q21,"x")+COUNTIF('12'!Q21,"x")+COUNTIF('13'!Q21,"x")+COUNTIF('14'!Q21,"x")+COUNTIF('15'!Q21,"x"),"0") -> 0 | S21: =IF(SUM(E21:Q21)<>0,SUM(E21*1,G21*2,J21*3,L21*4,O21*5,Q21*6)/SUM(E21:Q21),"") | V21: =IF(COUNTIF((E21:Q21),"x")>1,"Bitte nur ein Kreuz setzen!","")
B22: =IF(Vorlage!B22<>"",Vorlage!B22,"") -> Gesamteindruck zur motorischen Verstellung | E22: =IF(COUNTIF('1'!E22,"x")+COUNTIF('2'!E22,"x")+COUNTIF('3'!E22,"x")+COUNTIF('4'!E22,"x")+COUNTIF('5'!E22,"x")+COUNTIF('6'!E22,"x")+COUNTIF('7'!E22,"x")+COUNTIF('8'!E22,"x")+COUNTIF('9'!E22,"x")+COUNTIF('10'!E22,"x")+COUNTIF('11'!E22,"x")+COUNTIF('12'!E22,"x")+COUNTIF('13'!E22,"x")+COUNTIF('14'!E22,"x")+COUNTIF('15'!E22,"x")<>0,COUNTIF('1'!E22,"x")+COUNTIF('2'!E22,"x")+COUNTIF('3'!E22,"x")+COUNTIF('4'!E22,"x")+COUNTIF('5'!E22,"x")+COUNTIF('6'!E22,"x")+COUNTIF('7'!E22,"x")+COUNTIF('8'!E22,"x")+COUNTIF('9'!E22,"x")+COUNTIF('10'!E22,"x")+COUNTIF('11'!E22,"x")+COUNTIF('12'!E22,"x")+COUNTIF('13'!E22,"x")+COUNTIF('14'!E22,"x")+COUNTIF('15'!E22,"x"),"0") -> 0 | G22: =IF(COUNTIF('1'!G22,"x")+COUNTIF('2'!G22,"x")+COUNTIF('3'!G22,"x")+COUNTIF('4'!G22,"x")+COUNTIF('5'!G22,"x")+COUNTIF('6'!G22,"x")+COUNTIF('7'!G22,"x")+COUNTIF('8'!G22,"x")+COUNTIF('9'!G22,"x")+COUNTIF('10'!G22,"x")+COUNTIF('11'!G22,"x")+COUNTIF('12'!G22,"x")+COUNTIF('13'!G22,"x")+COUNTIF('14'!G22,"x")+COUNTIF('15'!G22,"x")<>0,COUNTIF('1'!G22,"x")+COUNTIF('2'!G22,"x")+COUNTIF('3'!G22,"x")+COUNTIF('4'!G22,"x")+COUNTIF('5'!G22,"x")+COUNTIF('6'!G22,"x")+COUNTIF('7'!G22,"x")+COUNTIF('8'!G22,"x")+COUNTIF('9'!G22,"x")+COUNTIF('10'!G22,"x")+COUNTIF('11'!G22,"x")+COUNTIF('12'!G22,"x")+COUNTIF('13'!G22,"x")+COUNTIF('14'!G22,"x")+COUNTIF('15'!G22,"x"),"0") -> 0 | J22: =IF(COUNTIF('1'!J22,"x")+COUNTIF('2'!J22,"x")+COUNTIF('3'!J22,"x")+COUNTIF('4'!J22,"x")+COUNTIF('5'!J22,"x")+COUNTIF('6'!J22,"x")+COUNTIF('7'!J22,"x")+COUNTIF('8'!J22,"x")+COUNTIF('9'!J22,"x")+COUNTIF('10'!J22,"x")+COUNTIF('11'!J22,"x")+COUNTIF('12'!J22,"x")+COUNTIF('13'!J22,"x")+COUNTIF('14'!J22,"x")+COUNTIF('15'!J22,"x")<>0,COUNTIF('1'!J22,"x")+COUNTIF('2'!J22,"x")+COUNTIF('3'!J22,"x")+COUNTIF('4'!J22,"x")+COUNTIF('5'!J22,"x")+COUNTIF('6'!J22,"x")+COUNTIF('7'!J22,"x")+COUNTIF('8'!J22,"x")+COUNTIF('9'!J22,"x")+COUNTIF('10'!J22,"x")+COUNTIF('11'!J22,"x")+COUNTIF('12'!J22,"x")+COUNTIF('13'!J22,"x")+COUNTIF('14'!J22,"x")+COUNTIF('15'!J22,"x"),"0") -> 0 | L22: =IF(COUNTIF('1'!L22,"x")+COUNTIF('2'!L22,"x")+COUNTIF('3'!L22,"x")+COUNTIF('4'!L22,"x")+COUNTIF('5'!L22,"x")+COUNTIF('6'!L22,"x")+COUNTIF('7'!L22,"x")+COUNTIF('8'!L22,"x")+COUNTIF('9'!L22,"x")+COUNTIF('10'!L22,"x")+COUNTIF('11'!L22,"x")+COUNTIF('12'!L22,"x")+COUNTIF('13'!L22,"x")+COUNTIF('14'!L22,"x")+COUNTIF('15'!L22,"x")<>0,COUNTIF('1'!L22,"x")+COUNTIF('2'!L22,"x")+COUNTIF('3'!L22,"x")+COUNTIF('4'!L22,"x")+COUNTIF('5'!L22,"x")+COUNTIF('6'!L22,"x")+COUNTIF('7'!L22,"x")+COUNTIF('8'!L22,"x")+COUNTIF('9'!L22,"x")+COUNTIF('10'!L22,"x")+COUNTIF('11'!L22,"x")+COUNTIF('12'!L22,"x")+COUNTIF('13'!L22,"x")+COUNTIF('14'!L22,"x")+COUNTIF('15'!L22,"x"),"0") -> 0 | O22: =IF(COUNTIF('1'!O22,"x")+COUNTIF('2'!O22,"x")+COUNTIF('3'!O22,"x")+COUNTIF('4'!O22,"x")+COUNTIF('5'!O22,"x")+COUNTIF('6'!O22,"x")+COUNTIF('7'!O22,"x")+COUNTIF('8'!O22,"x")+COUNTIF('9'!O22,"x")+COUNTIF('10'!O22,"x")+COUNTIF('11'!O22,"x")+COUNTIF('12'!O22,"x")+COUNTIF('13'!O22,"x")+COUNTIF('14'!O22,"x")+COUNTIF('15'!O22,"x")<>0,COUNTIF('1'!O22,"x")+COUNTIF('2'!O22,"x")+COUNTIF('3'!O22,"x")+COUNTIF('4'!O22,"x")+COUNTIF('5'!O22,"x")+COUNTIF('6'!O22,"x")+COUNTIF('7'!O22,"x")+COUNTIF('8'!O22,"x")+COUNTIF('9'!O22,"x")+COUNTIF('10'!O22,"x")+COUNTIF('11'!O22,"x")+COUNTIF('12'!O22,"x")+COUNTIF('13'!O22,"x")+COUNTIF('14'!O22,"x")+COUNTIF('15'!O22,"x"),"0") -> 0 | Q22: =IF(COUNTIF('1'!Q22,"x")+COUNTIF('2'!Q22,"x")+COUNTIF('3'!Q22,"x")+COUNTIF('4'!Q22,"x")+COUNTIF('5'!Q22,"x")+COUNTIF('6'!Q22,"x")+COUNTIF('7'!Q22,"x")+COUNTIF('8'!Q22,"x")+COUNTIF('9'!Q22,"x")+COUNTIF('10'!Q22,"x")+COUNTIF('11'!Q22,"x")+COUNTIF('12'!Q22,"x")+COUNTIF('13'!Q22,"x")+COUNTIF('14'!Q22,"x")+COUNTIF('15'!Q22,"x")<>0,COUNTIF('1'!Q22,"x")+COUNTIF('2'!Q22,"x")+COUNTIF('3'!Q22,"x")+COUNTIF('4'!Q22,"x")+COUNTIF('5'!Q22,"x")+COUNTIF('6'!Q22,"x")+COUNTIF('7'!Q22,"x")+COUNTIF('8'!Q22,"x")+COUNTIF('9'!Q22,"x")+COUNTIF('10'!Q22,"x")+COUNTIF('11'!Q22,"x")+COUNTIF('12'!Q22,"x")+COUNTIF('13'!Q22,"x")+COUNTIF('14'!Q22,"x")+COUNTIF('15'!Q22,"x"),"0") -> 0 | S22: =IF(SUM(E22:Q22)<>0,SUM(E22*1,G22*2,J22*3,L22*4,O22*5,Q22*6)/SUM(E22:Q22),"") | V22: =IF(COUNTIF((E22:Q22),"x")>1,"Bitte nur ein Kreuz setzen!","")
B23: =IF(Vorlage!B23<>"",Vorlage!B23,"") -> Anlaufverhalten | E23: =IF(COUNTIF('1'!E23,"x")+COUNTIF('2'!E23,"x")+COUNTIF('3'!E23,"x")+COUNTIF('4'!E23,"x")+COUNTIF('5'!E23,"x")+COUNTIF('6'!E23,"x")+COUNTIF('7'!E23,"x")+COUNTIF('8'!E23,"x")+COUNTIF('9'!E23,"x")+COUNTIF('10'!E23,"x")+COUNTIF('11'!E23,"x")+COUNTIF('12'!E23,"x")+COUNTIF('13'!E23,"x")+COUNTIF('14'!E23,"x")+COUNTIF('15'!E23,"x")<>0,COUNTIF('1'!E23,"x")+COUNTIF('2'!E23,"x")+COUNTIF('3'!E23,"x")+COUNTIF('4'!E23,"x")+COUNTIF('5'!E23,"x")+COUNTIF('6'!E23,"x")+COUNTIF('7'!E23,"x")+COUNTIF('8'!E23,"x")+COUNTIF('9'!E23,"x")+COUNTIF('10'!E23,"x")+COUNTIF('11'!E23,"x")+COUNTIF('12'!E23,"x")+COUNTIF('13'!E23,"x")+COUNTIF('14'!E23,"x")+COUNTIF('15'!E23,"x"),"0") -> 0 | G23: =IF(COUNTIF('1'!G23,"x")+COUNTIF('2'!G23,"x")+COUNTIF('3'!G23,"x")+COUNTIF('4'!G23,"x")+COUNTIF('5'!G23,"x")+COUNTIF('6'!G23,"x")+COUNTIF('7'!G23,"x")+COUNTIF('8'!G23,"x")+COUNTIF('9'!G23,"x")+COUNTIF('10'!G23,"x")+COUNTIF('11'!G23,"x")+COUNTIF('12'!G23,"x")+COUNTIF('13'!G23,"x")+COUNTIF('14'!G23,"x")+COUNTIF('15'!G23,"x")<>0,COUNTIF('1'!G23,"x")+COUNTIF('2'!G23,"x")+COUNTIF('3'!G23,"x")+COUNTIF('4'!G23,"x")+COUNTIF('5'!G23,"x")+COUNTIF('6'!G23,"x")+COUNTIF('7'!G23,"x")+COUNTIF('8'!G23,"x")+COUNTIF('9'!G23,"x")+COUNTIF('10'!G23,"x")+COUNTIF('11'!G23,"x")+COUNTIF('12'!G23,"x")+COUNTIF('13'!G23,"x")+COUNTIF('14'!G23,"x")+COUNTIF('15'!G23,"x"),"0") -> 0 | J23: =IF(COUNTIF('1'!J23,"x")+COUNTIF('2'!J23,"x")+COUNTIF('3'!J23,"x")+COUNTIF('4'!J23,"x")+COUNTIF('5'!J23,"x")+COUNTIF('6'!J23,"x")+COUNTIF('7'!J23,"x")+COUNTIF('8'!J23,"x")+COUNTIF('9'!J23,"x")+COUNTIF('10'!J23,"x")+COUNTIF('11'!J23,"x")+COUNTIF('12'!J23,"x")+COUNTIF('13'!J23,"x")+COUNTIF('14'!J23,"x")+COUNTIF('15'!J23,"x")<>0,COUNTIF('1'!J23,"x")+COUNTIF('2'!J23,"x")+COUNTIF('3'!J23,"x")+COUNTIF('4'!J23,"x")+COUNTIF('5'!J23,"x")+COUNTIF('6'!J23,"x")+COUNTIF('7'!J23,"x")+COUNTIF('8'!J23,"x")+COUNTIF('9'!J23,"x")+COUNTIF('10'!J23,"x")+COUNTIF('11'!J23,"x")+COUNTIF('12'!J23,"x")+COUNTIF('13'!J23,"x")+COUNTIF('14'!J23,"x")+COUNTIF('15'!J23,"x"),"0") -> 0 | L23: =IF(COUNTIF('1'!L23,"x")+COUNTIF('2'!L23,"x")+COUNTIF('3'!L23,"x")+COUNTIF('4'!L23,"x")+COUNTIF('5'!L23,"x")+COUNTIF('6'!L23,"x")+COUNTIF('7'!L23,"x")+COUNTIF('8'!L23,"x")+COUNTIF('9'!L23,"x")+COUNTIF('10'!L23,"x")+COUNTIF('11'!L23,"x")+COUNTIF('12'!L23,"x")+COUNTIF('13'!L23,"x")+COUNTIF('14'!L23,"x")+COUNTIF('15'!L23,"x")<>0,COUNTIF('1'!L23,"x")+COUNTIF('2'!L23,"x")+COUNTIF('3'!L23,"x")+COUNTIF('4'!L23,"x")+COUNTIF('5'!L23,"x")+COUNTIF('6'!L23,"x")+COUNTIF('7'!L23,"x")+COUNTIF('8'!L23,"x")+COUNTIF('9'!L23,"x")+COUNTIF('10'!L23,"x")+COUNTIF('11'!L23,"x")+COUNTIF('12'!L23,"x")+COUNTIF('13'!L23,"x")+COUNTIF('14'!L23,"x")+COUNTIF('15'!L23,"x"),"0") -> 0 | O23: =IF(COUNTIF('1'!O23,"x")+COUNTIF('2'!O23,"x")+COUNTIF('3'!O23,"x")+COUNTIF('4'!O23,"x")+COUNTIF('5'!O23,"x")+COUNTIF('6'!O23,"x")+COUNTIF('7'!O23,"x")+COUNTIF('8'!O23,"x")+COUNTIF('9'!O23,"x")+COUNTIF('10'!O23,"x")+COUNTIF('11'!O23,"x")+COUNTIF('12'!O23,"x")+COUNTIF('13'!O23,"x")+COUNTIF('14'!O23,"x")+COUNTIF('15'!O23,"x")<>0,COUNTIF('1'!O23,"x")+COUNTIF('2'!O23,"x")+COUNTIF('3'!O23,"x")+COUNTIF('4'!O23,"x")+COUNTIF('5'!O23,"x")+COUNTIF('6'!O23,"x")+COUNTIF('7'!O23,"x")+COUNTIF('8'!O23,"x")+COUNTIF('9'!O23,"x")+COUNTIF('10'!O23,"x")+COUNTIF('11'!O23,"x")+COUNTIF('12'!O23,"x")+COUNTIF('13'!O23,"x")+COUNTIF('14'!O23,"x")+COUNTIF('15'!O23,"x"),"0") -> 0 | Q23: =IF(COUNTIF('1'!Q23,"x")+COUNTIF('2'!Q23,"x")+COUNTIF('3'!Q23,"x")+COUNTIF('4'!Q23,"x")+COUNTIF('5'!Q23,"x")+COUNTIF('6'!Q23,"x")+COUNTIF('7'!Q23,"x")+COUNTIF('8'!Q23,"x")+COUNTIF('9'!Q23,"x")+COUNTIF('10'!Q23,"x")+COUNTIF('11'!Q23,"x")+COUNTIF('12'!Q23,"x")+COUNTIF('13'!Q23,"x")+COUNTIF('14'!Q23,"x")+COUNTIF('15'!Q23,"x")<>0,COUNTIF('1'!Q23,"x")+COUNTIF('2'!Q23,"x")+COUNTIF('3'!Q23,"x")+COUNTIF('4'!Q23,"x")+COUNTIF('5'!Q23,"x")+COUNTIF('6'!Q23,"x")+COUNTIF('7'!Q23,"x")+COUNTIF('8'!Q23,"x")+COUNTIF('9'!Q23,"x")+COUNTIF('10'!Q23,"x")+COUNTIF('11'!Q23,"x")+COUNTIF('12'!Q23,"x")+COUNTIF('13'!Q23,"x")+COUNTIF('14'!Q23,"x")+COUNTIF('15'!Q23,"x"),"0") -> 0 | S23: =IF(SUM(E23:Q23)<>0,SUM(E23*1,G23*2,J23*3,L23*4,O23*5,Q23*6)/SUM(E23:Q23),"") | V23: =IF(COUNTIF((E23:Q23),"x")>1,"Bitte nur ein Kreuz setzen!","")
B24: =IF(Vorlage!B24<>"",Vorlage!B24,"") -> Verstellmöglichkeiten, Präzision | E24: =IF(COUNTIF('1'!E24,"x")+COUNTIF('2'!E24,"x")+COUNTIF('3'!E24,"x")+COUNTIF('4'!E24,"x")+COUNTIF('5'!E24,"x")+COUNTIF('6'!E24,"x")+COUNTIF('7'!E24,"x")+COUNTIF('8'!E24,"x")+COUNTIF('9'!E24,"x")+COUNTIF('10'!E24,"x")+COUNTIF('11'!E24,"x")+COUNTIF('12'!E24,"x")+COUNTIF('13'!E24,"x")+COUNTIF('14'!E24,"x")+COUNTIF('15'!E24,"x")<>0,COUNTIF('1'!E24,"x")+COUNTIF('2'!E24,"x")+COUNTIF('3'!E24,"x")+COUNTIF('4'!E24,"x")+COUNTIF('5'!E24,"x")+COUNTIF('6'!E24,"x")+COUNTIF('7'!E24,"x")+COUNTIF('8'!E24,"x")+COUNTIF('9'!E24,"x")+COUNTIF('10'!E24,"x")+COUNTIF('11'!E24,"x")+COUNTIF('12'!E24,"x")+COUNTIF('13'!E24,"x")+COUNTIF('14'!E24,"x")+COUNTIF('15'!E24,"x"),"0") -> 0 | G24: =IF(COUNTIF('1'!G24,"x")+COUNTIF('2'!G24,"x")+COUNTIF('3'!G24,"x")+COUNTIF('4'!G24,"x")+COUNTIF('5'!G24,"x")+COUNTIF('6'!G24,"x")+COUNTIF('7'!G24,"x")+COUNTIF('8'!G24,"x")+COUNTIF('9'!G24,"x")+COUNTIF('10'!G24,"x")+COUNTIF('11'!G24,"x")+COUNTIF('12'!G24,"x")+COUNTIF('13'!G24,"x")+COUNTIF('14'!G24,"x")+COUNTIF('15'!G24,"x")<>0,COUNTIF('1'!G24,"x")+COUNTIF('2'!G24,"x")+COUNTIF('3'!G24,"x")+COUNTIF('4'!G24,"x")+COUNTIF('5'!G24,"x")+COUNTIF('6'!G24,"x")+COUNTIF('7'!G24,"x")+COUNTIF('8'!G24,"x")+COUNTIF('9'!G24,"x")+COUNTIF('10'!G24,"x")+COUNTIF('11'!G24,"x")+COUNTIF('12'!G24,"x")+COUNTIF('13'!G24,"x")+COUNTIF('14'!G24,"x")+COUNTIF('15'!G24,"x"),"0") -> 0 | J24: =IF(COUNTIF('1'!J24,"x")+COUNTIF('2'!J24,"x")+COUNTIF('3'!J24,"x")+COUNTIF('4'!J24,"x")+COUNTIF('5'!J24,"x")+COUNTIF('6'!J24,"x")+COUNTIF('7'!J24,"x")+COUNTIF('8'!J24,"x")+COUNTIF('9'!J24,"x")+COUNTIF('10'!J24,"x")+COUNTIF('11'!J24,"x")+COUNTIF('12'!J24,"x")+COUNTIF('13'!J24,"x")+COUNTIF('14'!J24,"x")+COUNTIF('15'!J24,"x")<>0,COUNTIF('1'!J24,"x")+COUNTIF('2'!J24,"x")+COUNTIF('3'!J24,"x")+COUNTIF('4'!J24,"x")+COUNTIF('5'!J24,"x")+COUNTIF('6'!J24,"x")+COUNTIF('7'!J24,"x")+COUNTIF('8'!J24,"x")+COUNTIF('9'!J24,"x")+COUNTIF('10'!J24,"x")+COUNTIF('11'!J24,"x")+COUNTIF('12'!J24,"x")+COUNTIF('13'!J24,"x")+COUNTIF('14'!J24,"x")+COUNTIF('15'!J24,"x"),"0") -> 0 | L24: =IF(COUNTIF('1'!L24,"x")+COUNTIF('2'!L24,"x")+COUNTIF('3'!L24,"x")+COUNTIF('4'!L24,"x")+COUNTIF('5'!L24,"x")+COUNTIF('6'!L24,"x")+COUNTIF('7'!L24,"x")+COUNTIF('8'!L24,"x")+COUNTIF('9'!L24,"x")+COUNTIF('10'!L24,"x")+COUNTIF('11'!L24,"x")+COUNTIF('12'!L24,"x")+COUNTIF('13'!L24,"x")+COUNTIF('14'!L24,"x")+COUNTIF('15'!L24,"x")<>0,COUNTIF('1'!L24,"x")+COUNTIF('2'!L24,"x")+COUNTIF('3'!L24,"x")+COUNTIF('4'!L24,"x")+COUNTIF('5'!L24,"x")+COUNTIF('6'!L24,"x")+COUNTIF('7'!L24,"x")+COUNTIF('8'!L24,"x")+COUNTIF('9'!L24,"x")+COUNTIF('10'!L24,"x")+COUNTIF('11'!L24,"x")+COUNTIF('12'!L24,"x")+COUNTIF('13'!L24,"x")+COUNTIF('14'!L24,"x")+COUNTIF('15'!L24,"x"),"0") -> 0 | O24: =IF(COUNTIF('1'!O24,"x")+COUNTIF('2'!O24,"x")+COUNTIF('3'!O24,"x")+COUNTIF('4'!O24,"x")+COUNTIF('5'!O24,"x")+COUNTIF('6'!O24,"x")+COUNTIF('7'!O24,"x")+COUNTIF('8'!O24,"x")+COUNTIF('9'!O24,"x")+COUNTIF('10'!O24,"x")+COUNTIF('11'!O24,"x")+COUNTIF('12'!O24,"x")+COUNTIF('13'!O24,"x")+COUNTIF('14'!O24,"x")+COUNTIF('15'!O24,"x")<>0,COUNTIF('1'!O24,"x")+COUNTIF('2'!O24,"x")+COUNTIF('3'!O24,"x")+COUNTIF('4'!O24,"x")+COUNTIF('5'!O24,"x")+COUNTIF('6'!O24,"x")+COUNTIF('7'!O24,"x")+COUNTIF('8'!O24,"x")+COUNTIF('9'!O24,"x")+COUNTIF('10'!O24,"x")+COUNTIF('11'!O24,"x")+COUNTIF('12'!O24,"x")+COUNTIF('13'!O24,"x")+COUNTIF('14'!O24,"x")+COUNTIF('15'!O24,"x"),"0") -> 0 | Q24: =IF(COUNTIF('1'!Q24,"x")+COUNTIF('2'!Q24,"x")+COUNTIF('3'!Q24,"x")+COUNTIF('4'!Q24,"x")+COUNTIF('5'!Q24,"x")+COUNTIF('6'!Q24,"x")+COUNTIF('7'!Q24,"x")+COUNTIF('8'!Q24,"x")+COUNTIF('9'!Q24,"x")+COUNTIF('10'!Q24,"x")+COUNTIF('11'!Q24,"x")+COUNTIF('12'!Q24,"x")+COUNTIF('13'!Q24,"x")+COUNTIF('14'!Q24,"x")+COUNTIF('15'!Q24,"x")<>0,COUNTIF('1'!Q24,"x")+COUNTIF('2'!Q24,"x")+COUNTIF('3'!Q24,"x")+COUNTIF('4'!Q24,"x")+COUNTIF('5'!Q24,"x")+COUNTIF('6'!Q24,"x")+COUNTIF('7'!Q24,"x")+COUNTIF('8'!Q24,"x")+COUNTIF('9'!Q24,"x")+COUNTIF('10'!Q24,"x")+COUNTIF('11'!Q24,"x")+COUNTIF('12'!Q24,"x")+COUNTIF('13'!Q24,"x")+COUNTIF('14'!Q24,"x")+COUNTIF('15'!Q24,"x"),"0") -> 0 | S24: =IF(SUM(E24:Q24)<>0,SUM(E24*1,G24*2,J24*3,L24*4,O24*5,Q24*6)/SUM(E24:Q24),"") | V24: =IF(COUNTIF((E24:Q24),"x")>1,"Bitte nur ein Kreuz setzen!","")
B25: =IF(Vorlage!B25<>"",Vorlage!B25,"") -> Kollisionsschutz | E25: =IF(COUNTIF('1'!E25,"x")+COUNTIF('2'!E25,"x")+COUNTIF('3'!E25,"x")+COUNTIF('4'!E25,"x")+COUNTIF('5'!E25,"x")+COUNTIF('6'!E25,"x")+COUNTIF('7'!E25,"x")+COUNTIF('8'!E25,"x")+COUNTIF('9'!E25,"x")+COUNTIF('10'!E25,"x")+COUNTIF('11'!E25,"x")+COUNTIF('12'!E25,"x")+COUNTIF('13'!E25,"x")+COUNTIF('14'!E25,"x")+COUNTIF('15'!E25,"x")<>0,COUNTIF('1'!E25,"x")+COUNTIF('2'!E25,"x")+COUNTIF('3'!E25,"x")+COUNTIF('4'!E25,"x")+COUNTIF('5'!E25,"x")+COUNTIF('6'!E25,"x")+COUNTIF('7'!E25,"x")+COUNTIF('8'!E25,"x")+COUNTIF('9'!E25,"x")+COUNTIF('10'!E25,"x")+COUNTIF('11'!E25,"x")+COUNTIF('12'!E25,"x")+COUNTIF('13'!E25,"x")+COUNTIF('14'!E25,"x")+COUNTIF('15'!E25,"x"),"0") -> 0 | G25: =IF(COUNTIF('1'!G25,"x")+COUNTIF('2'!G25,"x")+COUNTIF('3'!G25,"x")+COUNTIF('4'!G25,"x")+COUNTIF('5'!G25,"x")+COUNTIF('6'!G25,"x")+COUNTIF('7'!G25,"x")+COUNTIF('8'!G25,"x")+COUNTIF('9'!G25,"x")+COUNTIF('10'!G25,"x")+COUNTIF('11'!G25,"x")+COUNTIF('12'!G25,"x")+COUNTIF('13'!G25,"x")+COUNTIF('14'!G25,"x")+COUNTIF('15'!G25,"x")<>0,COUNTIF('1'!G25,"x")+COUNTIF('2'!G25,"x")+COUNTIF('3'!G25,"x")+COUNTIF('4'!G25,"x")+COUNTIF('5'!G25,"x")+COUNTIF('6'!G25,"x")+COUNTIF('7'!G25,"x")+COUNTIF('8'!G25,"x")+COUNTIF('9'!G25,"x")+COUNTIF('10'!G25,"x")+COUNTIF('11'!G25,"x")+COUNTIF('12'!G25,"x")+COUNTIF('13'!G25,"x")+COUNTIF('14'!G25,"x")+COUNTIF('15'!G25,"x"),"0") -> 0 | J25: =IF(COUNTIF('1'!J25,"x")+COUNTIF('2'!J25,"x")+COUNTIF('3'!J25,"x")+COUNTIF('4'!J25,"x")+COUNTIF('5'!J25,"x")+COUNTIF('6'!J25,"x")+COUNTIF('7'!J25,"x")+COUNTIF('8'!J25,"x")+COUNTIF('9'!J25,"x")+COUNTIF('10'!J25,"x")+COUNTIF('11'!J25,"x")+COUNTIF('12'!J25,"x")+COUNTIF('13'!J25,"x")+COUNTIF('14'!J25,"x")+COUNTIF('15'!J25,"x")<>0,COUNTIF('1'!J25,"x")+COUNTIF('2'!J25,"x")+COUNTIF('3'!J25,"x")+COUNTIF('4'!J25,"x")+COUNTIF('5'!J25,"x")+COUNTIF('6'!J25,"x")+COUNTIF('7'!J25,"x")+COUNTIF('8'!J25,"x")+COUNTIF('9'!J25,"x")+COUNTIF('10'!J25,"x")+COUNTIF('11'!J25,"x")+COUNTIF('12'!J25,"x")+COUNTIF('13'!J25,"x")+COUNTIF('14'!J25,"x")+COUNTIF('15'!J25,"x"),"0") -> 0 | L25: =IF(COUNTIF('1'!L25,"x")+COUNTIF('2'!L25,"x")+COUNTIF('3'!L25,"x")+COUNTIF('4'!L25,"x")+COUNTIF('5'!L25,"x")+COUNTIF('6'!L25,"x")+COUNTIF('7'!L25,"x")+COUNTIF('8'!L25,"x")+COUNTIF('9'!L25,"x")+COUNTIF('10'!L25,"x")+COUNTIF('11'!L25,"x")+COUNTIF('12'!L25,"x")+COUNTIF('13'!L25,"x")+COUNTIF('14'!L25,"x")+COUNTIF('15'!L25,"x")<>0,COUNTIF('1'!L25,"x")+COUNTIF('2'!L25,"x")+COUNTIF('3'!L25,"x")+COUNTIF('4'!L25,"x")+COUNTIF('5'!L25,"x")+COUNTIF('6'!L25,"x")+COUNTIF('7'!L25,"x")+COUNTIF('8'!L25,"x")+COUNTIF('9'!L25,"x")+COUNTIF('10'!L25,"x")+COUNTIF('11'!L25,"x")+COUNTIF('12'!L25,"x")+COUNTIF('13'!L25,"x")+COUNTIF('14'!L25,"x")+COUNTIF('15'!L25,"x"),"0") -> 0 | O25: =IF(COUNTIF('1'!O25,"x")+COUNTIF('2'!O25,"x")+COUNTIF('3'!O25,"x")+COUNTIF('4'!O25,"x")+COUNTIF('5'!O25,"x")+COUNTIF('6'!O25,"x")+COUNTIF('7'!O25,"x")+COUNTIF('8'!O25,"x")+COUNTIF('9'!O25,"x")+COUNTIF('10'!O25,"x")+COUNTIF('11'!O25,"x")+COUNTIF('12'!O25,"x")+COUNTIF('13'!O25,"x")+COUNTIF('14'!O25,"x")+COUNTIF('15'!O25,"x")<>0,COUNTIF('1'!O25,"x")+COUNTIF('2'!O25,"x")+COUNTIF('3'!O25,"x")+COUNTIF('4'!O25,"x")+COUNTIF('5'!O25,"x")+COUNTIF('6'!O25,"x")+COUNTIF('7'!O25,"x")+COUNTIF('8'!O25,"x")+COUNTIF('9'!O25,"x")+COUNTIF('10'!O25,"x")+COUNTIF('11'!O25,"x")+COUNTIF('12'!O25,"x")+COUNTIF('13'!O25,"x")+COUNTIF('14'!O25,"x")+COUNTIF('15'!O25,"x"),"0") -> 0 | Q25: =IF(COUNTIF('1'!Q25,"x")+COUNTIF('2'!Q25,"x")+COUNTIF('3'!Q25,"x")+COUNTIF('4'!Q25,"x")+COUNTIF('5'!Q25,"x")+COUNTIF('6'!Q25,"x")+COUNTIF('7'!Q25,"x")+COUNTIF('8'!Q25,"x")+COUNTIF('9'!Q25,"x")+COUNTIF('10'!Q25,"x")+COUNTIF('11'!Q25,"x")+COUNTIF('12'!Q25,"x")+COUNTIF('13'!Q25,"x")+COUNTIF('14'!Q25,"x")+COUNTIF('15'!Q25,"x")<>0,COUNTIF('1'!Q25,"x")+COUNTIF('2'!Q25,"x")+COUNTIF('3'!Q25,"x")+COUNTIF('4'!Q25,"x")+COUNTIF('5'!Q25,"x")+COUNTIF('6'!Q25,"x")+COUNTIF('7'!Q25,"x")+COUNTIF('8'!Q25,"x")+COUNTIF('9'!Q25,"x")+COUNTIF('10'!Q25,"x")+COUNTIF('11'!Q25,"x")+COUNTIF('12'!Q25,"x")+COUNTIF('13'!Q25,"x")+COUNTIF('14'!Q25,"x")+COUNTIF('15'!Q25,"x"),"0") -> 0 | S25: =IF(SUM(E25:Q25)<>0,SUM(E25*1,G25*2,J25*3,L25*4,O25*5,Q25*6)/SUM(E25:Q25),"") | V25: =IF(COUNTIF((E25:Q25),"x")>1,"Bitte nur ein Kreuz setzen!","")
B26: =IF(Vorlage!B26<>"",Vorlage!B26,"") -> Automatische 0-Stellung | E26: =IF(COUNTIF('1'!E26,"x")+COUNTIF('2'!E26,"x")+COUNTIF('3'!E26,"x")+COUNTIF('4'!E26,"x")+COUNTIF('5'!E26,"x")+COUNTIF('6'!E26,"x")+COUNTIF('7'!E26,"x")+COUNTIF('8'!E26,"x")+COUNTIF('9'!E26,"x")+COUNTIF('10'!E26,"x")+COUNTIF('11'!E26,"x")+COUNTIF('12'!E26,"x")+COUNTIF('13'!E26,"x")+COUNTIF('14'!E26,"x")+COUNTIF('15'!E26,"x")<>0,COUNTIF('1'!E26,"x")+COUNTIF('2'!E26,"x")+COUNTIF('3'!E26,"x")+COUNTIF('4'!E26,"x")+COUNTIF('5'!E26,"x")+COUNTIF('6'!E26,"x")+COUNTIF('7'!E26,"x")+COUNTIF('8'!E26,"x")+COUNTIF('9'!E26,"x")+COUNTIF('10'!E26,"x")+COUNTIF('11'!E26,"x")+COUNTIF('12'!E26,"x")+COUNTIF('13'!E26,"x")+COUNTIF('14'!E26,"x")+COUNTIF('15'!E26,"x"),"0") -> 0 | G26: =IF(COUNTIF('1'!G26,"x")+COUNTIF('2'!G26,"x")+COUNTIF('3'!G26,"x")+COUNTIF('4'!G26,"x")+COUNTIF('5'!G26,"x")+COUNTIF('6'!G26,"x")+COUNTIF('7'!G26,"x")+COUNTIF('8'!G26,"x")+COUNTIF('9'!G26,"x")+COUNTIF('10'!G26,"x")+COUNTIF('11'!G26,"x")+COUNTIF('12'!G26,"x")+COUNTIF('13'!G26,"x")+COUNTIF('14'!G26,"x")+COUNTIF('15'!G26,"x")<>0,COUNTIF('1'!G26,"x")+COUNTIF('2'!G26,"x")+COUNTIF('3'!G26,"x")+COUNTIF('4'!G26,"x")+COUNTIF('5'!G26,"x")+COUNTIF('6'!G26,"x")+COUNTIF('7'!G26,"x")+COUNTIF('8'!G26,"x")+COUNTIF('9'!G26,"x")+COUNTIF('10'!G26,"x")+COUNTIF('11'!G26,"x")+COUNTIF('12'!G26,"x")+COUNTIF('13'!G26,"x")+COUNTIF('14'!G26,"x")+COUNTIF('15'!G26,"x"),"0") -> 0 | J26: =IF(COUNTIF('1'!J26,"x")+COUNTIF('2'!J26,"x")+COUNTIF('3'!J26,"x")+COUNTIF('4'!J26,"x")+COUNTIF('5'!J26,"x")+COUNTIF('6'!J26,"x")+COUNTIF('7'!J26,"x")+COUNTIF('8'!J26,"x")+COUNTIF('9'!J26,"x")+COUNTIF('10'!J26,"x")+COUNTIF('11'!J26,"x")+COUNTIF('12'!J26,"x")+COUNTIF('13'!J26,"x")+COUNTIF('14'!J26,"x")+COUNTIF('15'!J26,"x")<>0,COUNTIF('1'!J26,"x")+COUNTIF('2'!J26,"x")+COUNTIF('3'!J26,"x")+COUNTIF('4'!J26,"x")+COUNTIF('5'!J26,"x")+COUNTIF('6'!J26,"x")+COUNTIF('7'!J26,"x")+COUNTIF('8'!J26,"x")+COUNTIF('9'!J26,"x")+COUNTIF('10'!J26,"x")+COUNTIF('11'!J26,"x")+COUNTIF('12'!J26,"x")+COUNTIF('13'!J26,"x")+COUNTIF('14'!J26,"x")+COUNTIF('15'!J26,"x"),"0") -> 0 | L26: =IF(COUNTIF('1'!L26,"x")+COUNTIF('2'!L26,"x")+COUNTIF('3'!L26,"x")+COUNTIF('4'!L26,"x")+COUNTIF('5'!L26,"x")+COUNTIF('6'!L26,"x")+COUNTIF('7'!L26,"x")+COUNTIF('8'!L26,"x")+COUNTIF('9'!L26,"x")+COUNTIF('10'!L26,"x")+COUNTIF('11'!L26,"x")+COUNTIF('12'!L26,"x")+COUNTIF('13'!L26,"x")+COUNTIF('14'!L26,"x")+COUNTIF('15'!L26,"x")<>0,COUNTIF('1'!L26,"x")+COUNTIF('2'!L26,"x")+COUNTIF('3'!L26,"x")+COUNTIF('4'!L26,"x")+COUNTIF('5'!L26,"x")+COUNTIF('6'!L26,"x")+COUNTIF('7'!L26,"x")+COUNTIF('8'!L26,"x")+COUNTIF('9'!L26,"x")+COUNTIF('10'!L26,"x")+COUNTIF('11'!L26,"x")+COUNTIF('12'!L26,"x")+COUNTIF('13'!L26,"x")+COUNTIF('14'!L26,"x")+COUNTIF('15'!L26,"x"),"0") -> 0 | O26: =IF(COUNTIF('1'!O26,"x")+COUNTIF('2'!O26,"x")+COUNTIF('3'!O26,"x")+COUNTIF('4'!O26,"x")+COUNTIF('5'!O26,"x")+COUNTIF('6'!O26,"x")+COUNTIF('7'!O26,"x")+COUNTIF('8'!O26,"x")+COUNTIF('9'!O26,"x")+COUNTIF('10'!O26,"x")+COUNTIF('11'!O26,"x")+COUNTIF('12'!O26,"x")+COUNTIF('13'!O26,"x")+COUNTIF('14'!O26,"x")+COUNTIF('15'!O26,"x")<>0,COUNTIF('1'!O26,"x")+COUNTIF('2'!O26,"x")+COUNTIF('3'!O26,"x")+COUNTIF('4'!O26,"x")+COUNTIF('5'!O26,"x")+COUNTIF('6'!O26,"x")+COUNTIF('7'!O26,"x")+COUNTIF('8'!O26,"x")+COUNTIF('9'!O26,"x")+COUNTIF('10'!O26,"x")+COUNTIF('11'!O26,"x")+COUNTIF('12'!O26,"x")+COUNTIF('13'!O26,"x")+COUNTIF('14'!O26,"x")+COUNTIF('15'!O26,"x"),"0") -> 0 | Q26: =IF(COUNTIF('1'!Q26,"x")+COUNTIF('2'!Q26,"x")+COUNTIF('3'!Q26,"x")+COUNTIF('4'!Q26,"x")+COUNTIF('5'!Q26,"x")+COUNTIF('6'!Q26,"x")+COUNTIF('7'!Q26,"x")+COUNTIF('8'!Q26,"x")+COUNTIF('9'!Q26,"x")+COUNTIF('10'!Q26,"x")+COUNTIF('11'!Q26,"x")+COUNTIF('12'!Q26,"x")+COUNTIF('13'!Q26,"x")+COUNTIF('14'!Q26,"x")+COUNTIF('15'!Q26,"x")<>0,COUNTIF('1'!Q26,"x")+COUNTIF('2'!Q26,"x")+COUNTIF('3'!Q26,"x")+COUNTIF('4'!Q26,"x")+COUNTIF('5'!Q26,"x")+COUNTIF('6'!Q26,"x")+COUNTIF('7'!Q26,"x")+COUNTIF('8'!Q26,"x")+COUNTIF('9'!Q26,"x")+COUNTIF('10'!Q26,"x")+COUNTIF('11'!Q26,"x")+COUNTIF('12'!Q26,"x")+COUNTIF('13'!Q26,"x")+COUNTIF('14'!Q26,"x")+COUNTIF('15'!Q26,"x"),"0") -> 0 | S26: =IF(SUM(E26:Q26)<>0,SUM(E26*1,G26*2,J26*3,L26*4,O26*5,Q26*6)/SUM(E26:Q26),"") | V26: =IF(COUNTIF((E26:Q26),"x")>1,"Bitte nur ein Kreuz setzen!","")
B27: =IF(Vorlage!B27<>"",Vorlage!B27,"") -> Sicherheitskonzept für unbeabsichtigte Verstellung | E27: =IF(COUNTIF('1'!E27,"x")+COUNTIF('2'!E27,"x")+COUNTIF('3'!E27,"x")+COUNTIF('4'!E27,"x")+COUNTIF('5'!E27,"x")+COUNTIF('6'!E27,"x")+COUNTIF('7'!E27,"x")+COUNTIF('8'!E27,"x")+COUNTIF('9'!E27,"x")+COUNTIF('10'!E27,"x")+COUNTIF('11'!E27,"x")+COUNTIF('12'!E27,"x")+COUNTIF('13'!E27,"x")+COUNTIF('14'!E27,"x")+COUNTIF('15'!E27,"x")<>0,COUNTIF('1'!E27,"x")+COUNTIF('2'!E27,"x")+COUNTIF('3'!E27,"x")+COUNTIF('4'!E27,"x")+COUNTIF('5'!E27,"x")+COUNTIF('6'!E27,"x")+COUNTIF('7'!E27,"x")+COUNTIF('8'!E27,"x")+COUNTIF('9'!E27,"x")+COUNTIF('10'!E27,"x")+COUNTIF('11'!E27,"x")+COUNTIF('12'!E27,"x")+COUNTIF('13'!E27,"x")+COUNTIF('14'!E27,"x")+COUNTIF('15'!E27,"x"),"0") -> 0 | G27: =IF(COUNTIF('1'!G27,"x")+COUNTIF('2'!G27,"x")+COUNTIF('3'!G27,"x")+COUNTIF('4'!G27,"x")+COUNTIF('5'!G27,"x")+COUNTIF('6'!G27,"x")+COUNTIF('7'!G27,"x")+COUNTIF('8'!G27,"x")+COUNTIF('9'!G27,"x")+COUNTIF('10'!G27,"x")+COUNTIF('11'!G27,"x")+COUNTIF('12'!G27,"x")+COUNTIF('13'!G27,"x")+COUNTIF('14'!G27,"x")+COUNTIF('15'!G27,"x")<>0,COUNTIF('1'!G27,"x")+COUNTIF('2'!G27,"x")+COUNTIF('3'!G27,"x")+COUNTIF('4'!G27,"x")+COUNTIF('5'!G27,"x")+COUNTIF('6'!G27,"x")+COUNTIF('7'!G27,"x")+COUNTIF('8'!G27,"x")+COUNTIF('9'!G27,"x")+COUNTIF('10'!G27,"x")+COUNTIF('11'!G27,"x")+COUNTIF('12'!G27,"x")+COUNTIF('13'!G27,"x")+COUNTIF('14'!G27,"x")+COUNTIF('15'!G27,"x"),"0") -> 0 | J27: =IF(COUNTIF('1'!J27,"x")+COUNTIF('2'!J27,"x")+COUNTIF('3'!J27,"x")+COUNTIF('4'!J27,"x")+COUNTIF('5'!J27,"x")+COUNTIF('6'!J27,"x")+COUNTIF('7'!J27,"x")+COUNTIF('8'!J27,"x")+COUNTIF('9'!J27,"x")+COUNTIF('10'!J27,"x")+COUNTIF('11'!J27,"x")+COUNTIF('12'!J27,"x")+COUNTIF('13'!J27,"x")+COUNTIF('14'!J27,"x")+COUNTIF('15'!J27,"x")<>0,COUNTIF('1'!J27,"x")+COUNTIF('2'!J27,"x")+COUNTIF('3'!J27,"x")+COUNTIF('4'!J27,"x")+COUNTIF('5'!J27,"x")+COUNTIF('6'!J27,"x")+COUNTIF('7'!J27,"x")+COUNTIF('8'!J27,"x")+COUNTIF('9'!J27,"x")+COUNTIF('10'!J27,"x")+COUNTIF('11'!J27,"x")+COUNTIF('12'!J27,"x")+COUNTIF('13'!J27,"x")+COUNTIF('14'!J27,"x")+COUNTIF('15'!J27,"x"),"0") -> 0 | L27: =IF(COUNTIF('1'!L27,"x")+COUNTIF('2'!L27,"x")+COUNTIF('3'!L27,"x")+COUNTIF('4'!L27,"x")+COUNTIF('5'!L27,"x")+COUNTIF('6'!L27,"x")+COUNTIF('7'!L27,"x")+COUNTIF('8'!L27,"x")+COUNTIF('9'!L27,"x")+COUNTIF('10'!L27,"x")+COUNTIF('11'!L27,"x")+COUNTIF('12'!L27,"x")+COUNTIF('13'!L27,"x")+COUNTIF('14'!L27,"x")+COUNTIF('15'!L27,"x")<>0,COUNTIF('1'!L27,"x")+COUNTIF('2'!L27,"x")+COUNTIF('3'!L27,"x")+COUNTIF('4'!L27,"x")+COUNTIF('5'!L27,"x")+COUNTIF('6'!L27,"x")+COUNTIF('7'!L27,"x")+COUNTIF('8'!L27,"x")+COUNTIF('9'!L27,"x")+COUNTIF('10'!L27,"x")+COUNTIF('11'!L27,"x")+COUNTIF('12'!L27,"x")+COUNTIF('13'!L27,"x")+COUNTIF('14'!L27,"x")+COUNTIF('15'!L27,"x"),"0") -> 0 | O27: =IF(COUNTIF('1'!O27,"x")+COUNTIF('2'!O27,"x")+COUNTIF('3'!O27,"x")+COUNTIF('4'!O27,"x")+COUNTIF('5'!O27,"x")+COUNTIF('6'!O27,"x")+COUNTIF('7'!O27,"x")+COUNTIF('8'!O27,"x")+COUNTIF('9'!O27,"x")+COUNTIF('10'!O27,"x")+COUNTIF('11'!O27,"x")+COUNTIF('12'!O27,"x")+COUNTIF('13'!O27,"x")+COUNTIF('14'!O27,"x")+COUNTIF('15'!O27,"x")<>0,COUNTIF('1'!O27,"x")+COUNTIF('2'!O27,"x")+COUNTIF('3'!O27,"x")+COUNTIF('4'!O27,"x")+COUNTIF('5'!O27,"x")+COUNTIF('6'!O27,"x")+COUNTIF('7'!O27,"x")+COUNTIF('8'!O27,"x")+COUNTIF('9'!O27,"x")+COUNTIF('10'!O27,"x")+COUNTIF('11'!O27,"x")+COUNTIF('12'!O27,"x")+COUNTIF('13'!O27,"x")+COUNTIF('14'!O27,"x")+COUNTIF('15'!O27,"x"),"0") -> 0 | Q27: =IF(COUNTIF('1'!Q27,"x")+COUNTIF('2'!Q27,"x")+COUNTIF('3'!Q27,"x")+COUNTIF('4'!Q27,"x")+COUNTIF('5'!Q27,"x")+COUNTIF('6'!Q27,"x")+COUNTIF('7'!Q27,"x")+COUNTIF('8'!Q27,"x")+COUNTIF('9'!Q27,"x")+COUNTIF('10'!Q27,"x")+COUNTIF('11'!Q27,"x")+COUNTIF('12'!Q27,"x")+COUNTIF('13'!Q27,"x")+COUNTIF('14'!Q27,"x")+COUNTIF('15'!Q27,"x")<>0,COUNTIF('1'!Q27,"x")+COUNTIF('2'!Q27,"x")+COUNTIF('3'!Q27,"x")+COUNTIF('4'!Q27,"x")+COUNTIF('5'!Q27,"x")+COUNTIF('6'!Q27,"x")+COUNTIF('7'!Q27,"x")+COUNTIF('8'!Q27,"x")+COUNTIF('9'!Q27,"x")+COUNTIF('10'!Q27,"x")+COUNTIF('11'!Q27,"x")+COUNTIF('12'!Q27,"x")+COUNTIF('13'!Q27,"x")+COUNTIF('14'!Q27,"x")+COUNTIF('15'!Q27,"x"),"0") -> 0 | S27: =IF(SUM(E27:Q27)<>0,SUM(E27*1,G27*2,J27*3,L27*4,O27*5,Q27*6)/SUM(E27:Q27),"") | V27: =IF(COUNTIF((E27:Q27),"x")>1,"Bitte nur ein Kreuz setzen!","")
B28: =IF(Vorlage!B28<>"",Vorlage!B28,"") -> Kombinierte Neigungs- und Kantungsfunktion | E28: =IF(COUNTIF('1'!E28,"x")+COUNTIF('2'!E28,"x")+COUNTIF('3'!E28,"x")+COUNTIF('4'!E28,"x")+COUNTIF('5'!E28,"x")+COUNTIF('6'!E28,"x")+COUNTIF('7'!E28,"x")+COUNTIF('8'!E28,"x")+COUNTIF('9'!E28,"x")+COUNTIF('10'!E28,"x")+COUNTIF('11'!E28,"x")+COUNTIF('12'!E28,"x")+COUNTIF('13'!E28,"x")+COUNTIF('14'!E28,"x")+COUNTIF('15'!E28,"x")<>0,COUNTIF('1'!E28,"x")+COUNTIF('2'!E28,"x")+COUNTIF('3'!E28,"x")+COUNTIF('4'!E28,"x")+COUNTIF('5'!E28,"x")+COUNTIF('6'!E28,"x")+COUNTIF('7'!E28,"x")+COUNTIF('8'!E28,"x")+COUNTIF('9'!E28,"x")+COUNTIF('10'!E28,"x")+COUNTIF('11'!E28,"x")+COUNTIF('12'!E28,"x")+COUNTIF('13'!E28,"x")+COUNTIF('14'!E28,"x")+COUNTIF('15'!E28,"x"),"0") -> 0 | G28: =IF(COUNTIF('1'!G28,"x")+COUNTIF('2'!G28,"x")+COUNTIF('3'!G28,"x")+COUNTIF('4'!G28,"x")+COUNTIF('5'!G28,"x")+COUNTIF('6'!G28,"x")+COUNTIF('7'!G28,"x")+COUNTIF('8'!G28,"x")+COUNTIF('9'!G28,"x")+COUNTIF('10'!G28,"x")+COUNTIF('11'!G28,"x")+COUNTIF('12'!G28,"x")+COUNTIF('13'!G28,"x")+COUNTIF('14'!G28,"x")+COUNTIF('15'!G28,"x")<>0,COUNTIF('1'!G28,"x")+COUNTIF('2'!G28,"x")+COUNTIF('3'!G28,"x")+COUNTIF('4'!G28,"x")+COUNTIF('5'!G28,"x")+COUNTIF('6'!G28,"x")+COUNTIF('7'!G28,"x")+COUNTIF('8'!G28,"x")+COUNTIF('9'!G28,"x")+COUNTIF('10'!G28,"x")+COUNTIF('11'!G28,"x")+COUNTIF('12'!G28,"x")+COUNTIF('13'!G28,"x")+COUNTIF('14'!G28,"x")+COUNTIF('15'!G28,"x"),"0") -> 0 | J28: =IF(COUNTIF('1'!J28,"x")+COUNTIF('2'!J28,"x")+COUNTIF('3'!J28,"x")+COUNTIF('4'!J28,"x")+COUNTIF('5'!J28,"x")+COUNTIF('6'!J28,"x")+COUNTIF('7'!J28,"x")+COUNTIF('8'!J28,"x")+COUNTIF('9'!J28,"x")+COUNTIF('10'!J28,"x")+COUNTIF('11'!J28,"x")+COUNTIF('12'!J28,"x")+COUNTIF('13'!J28,"x")+COUNTIF('14'!J28,"x")+COUNTIF('15'!J28,"x")<>0,COUNTIF('1'!J28,"x")+COUNTIF('2'!J28,"x")+COUNTIF('3'!J28,"x")+COUNTIF('4'!J28,"x")+COUNTIF('5'!J28,"x")+COUNTIF('6'!J28,"x")+COUNTIF('7'!J28,"x")+COUNTIF('8'!J28,"x")+COUNTIF('9'!J28,"x")+COUNTIF('10'!J28,"x")+COUNTIF('11'!J28,"x")+COUNTIF('12'!J28,"x")+COUNTIF('13'!J28,"x")+COUNTIF('14'!J28,"x")+COUNTIF('15'!J28,"x"),"0") -> 0 | L28: =IF(COUNTIF('1'!L28,"x")+COUNTIF('2'!L28,"x")+COUNTIF('3'!L28,"x")+COUNTIF('4'!L28,"x")+COUNTIF('5'!L28,"x")+COUNTIF('6'!L28,"x")+COUNTIF('7'!L28,"x")+COUNTIF('8'!L28,"x")+COUNTIF('9'!L28,"x")+COUNTIF('10'!L28,"x")+COUNTIF('11'!L28,"x")+COUNTIF('12'!L28,"x")+COUNTIF('13'!L28,"x")+COUNTIF('14'!L28,"x")+COUNTIF('15'!L28,"x")<>0,COUNTIF('1'!L28,"x")+COUNTIF('2'!L28,"x")+COUNTIF('3'!L28,"x")+COUNTIF('4'!L28,"x")+COUNTIF('5'!L28,"x")+COUNTIF('6'!L28,"x")+COUNTIF('7'!L28,"x")+COUNTIF('8'!L28,"x")+COUNTIF('9'!L28,"x")+COUNTIF('10'!L28,"x")+COUNTIF('11'!L28,"x")+COUNTIF('12'!L28,"x")+COUNTIF('13'!L28,"x")+COUNTIF('14'!L28,"x")+COUNTIF('15'!L28,"x"),"0") -> 0 | O28: =IF(COUNTIF('1'!O28,"x")+COUNTIF('2'!O28,"x")+COUNTIF('3'!O28,"x")+COUNTIF('4'!O28,"x")+COUNTIF('5'!O28,"x")+COUNTIF('6'!O28,"x")+COUNTIF('7'!O28,"x")+COUNTIF('8'!O28,"x")+COUNTIF('9'!O28,"x")+COUNTIF('10'!O28,"x")+COUNTIF('11'!O28,"x")+COUNTIF('12'!O28,"x")+COUNTIF('13'!O28,"x")+COUNTIF('14'!O28,"x")+COUNTIF('15'!O28,"x")<>0,COUNTIF('1'!O28,"x")+COUNTIF('2'!O28,"x")+COUNTIF('3'!O28,"x")+COUNTIF('4'!O28,"x")+COUNTIF('5'!O28,"x")+COUNTIF('6'!O28,"x")+COUNTIF('7'!O28,"x")+COUNTIF('8'!O28,"x")+COUNTIF('9'!O28,"x")+COUNTIF('10'!O28,"x")+COUNTIF('11'!O28,"x")+COUNTIF('12'!O28,"x")+COUNTIF('13'!O28,"x")+COUNTIF('14'!O28,"x")+COUNTIF('15'!O28,"x"),"0") -> 0 | Q28: =IF(COUNTIF('1'!Q28,"x")+COUNTIF('2'!Q28,"x")+COUNTIF('3'!Q28,"x")+COUNTIF('4'!Q28,"x")+COUNTIF('5'!Q28,"x")+COUNTIF('6'!Q28,"x")+COUNTIF('7'!Q28,"x")+COUNTIF('8'!Q28,"x")+COUNTIF('9'!Q28,"x")+COUNTIF('10'!Q28,"x")+COUNTIF('11'!Q28,"x")+COUNTIF('12'!Q28,"x")+COUNTIF('13'!Q28,"x")+COUNTIF('14'!Q28,"x")+COUNTIF('15'!Q28,"x")<>0,COUNTIF('1'!Q28,"x")+COUNTIF('2'!Q28,"x")+COUNTIF('3'!Q28,"x")+COUNTIF('4'!Q28,"x")+COUNTIF('5'!Q28,"x")+COUNTIF('6'!Q28,"x")+COUNTIF('7'!Q28,"x")+COUNTIF('8'!Q28,"x")+COUNTIF('9'!Q28,"x")+COUNTIF('10'!Q28,"x")+COUNTIF('11'!Q28,"x")+COUNTIF('12'!Q28,"x")+COUNTIF('13'!Q28,"x")+COUNTIF('14'!Q28,"x")+COUNTIF('15'!Q28,"x"),"0") -> 0 | S28: =IF(SUM(E28:Q28)<>0,SUM(E28*1,G28*2,J28*3,L28*4,O28*5,Q28*6)/SUM(E28:Q28),"") | V28: =IF(COUNTIF((E28:Q28),"x")>1,"Bitte nur ein Kreuz setzen!","")
B29: =IF(Vorlage!B29<>"",Vorlage!B29,"") -> Akkukapazität (nur bei mobile Säulen) | E29: =IF(COUNTIF('1'!E29,"x")+COUNTIF('2'!E29,"x")+COUNTIF('3'!E29,"x")+COUNTIF('4'!E29,"x")+COUNTIF('5'!E29,"x")+COUNTIF('6'!E29,"x")+COUNTIF('7'!E29,"x")+COUNTIF('8'!E29,"x")+COUNTIF('9'!E29,"x")+COUNTIF('10'!E29,"x")+COUNTIF('11'!E29,"x")+COUNTIF('12'!E29,"x")+COUNTIF('13'!E29,"x")+COUNTIF('14'!E29,"x")+COUNTIF('15'!E29,"x")<>0,COUNTIF('1'!E29,"x")+COUNTIF('2'!E29,"x")+COUNTIF('3'!E29,"x")+COUNTIF('4'!E29,"x")+COUNTIF('5'!E29,"x")+COUNTIF('6'!E29,"x")+COUNTIF('7'!E29,"x")+COUNTIF('8'!E29,"x")+COUNTIF('9'!E29,"x")+COUNTIF('10'!E29,"x")+COUNTIF('11'!E29,"x")+COUNTIF('12'!E29,"x")+COUNTIF('13'!E29,"x")+COUNTIF('14'!E29,"x")+COUNTIF('15'!E29,"x"),"0") -> 0 | G29: =IF(COUNTIF('1'!G29,"x")+COUNTIF('2'!G29,"x")+COUNTIF('3'!G29,"x")+COUNTIF('4'!G29,"x")+COUNTIF('5'!G29,"x")+COUNTIF('6'!G29,"x")+COUNTIF('7'!G29,"x")+COUNTIF('8'!G29,"x")+COUNTIF('9'!G29,"x")+COUNTIF('10'!G29,"x")+COUNTIF('11'!G29,"x")+COUNTIF('12'!G29,"x")+COUNTIF('13'!G29,"x")+COUNTIF('14'!G29,"x")+COUNTIF('15'!G29,"x")<>0,COUNTIF('1'!G29,"x")+COUNTIF('2'!G29,"x")+COUNTIF('3'!G29,"x")+COUNTIF('4'!G29,"x")+COUNTIF('5'!G29,"x")+COUNTIF('6'!G29,"x")+COUNTIF('7'!G29,"x")+COUNTIF('8'!G29,"x")+COUNTIF('9'!G29,"x")+COUNTIF('10'!G29,"x")+COUNTIF('11'!G29,"x")+COUNTIF('12'!G29,"x")+COUNTIF('13'!G29,"x")+COUNTIF('14'!G29,"x")+COUNTIF('15'!G29,"x"),"0") -> 0 | J29: =IF(COUNTIF('1'!J29,"x")+COUNTIF('2'!J29,"x")+COUNTIF('3'!J29,"x")+COUNTIF('4'!J29,"x")+COUNTIF('5'!J29,"x")+COUNTIF('6'!J29,"x")+COUNTIF('7'!J29,"x")+COUNTIF('8'!J29,"x")+COUNTIF('9'!J29,"x")+COUNTIF('10'!J29,"x")+COUNTIF('11'!J29,"x")+COUNTIF('12'!J29,"x")+COUNTIF('13'!J29,"x")+COUNTIF('14'!J29,"x")+COUNTIF('15'!J29,"x")<>0,COUNTIF('1'!J29,"x")+COUNTIF('2'!J29,"x")+COUNTIF('3'!J29,"x")+COUNTIF('4'!J29,"x")+COUNTIF('5'!J29,"x")+COUNTIF('6'!J29,"x")+COUNTIF('7'!J29,"x")+COUNTIF('8'!J29,"x")+COUNTIF('9'!J29,"x")+COUNTIF('10'!J29,"x")+COUNTIF('11'!J29,"x")+COUNTIF('12'!J29,"x")+COUNTIF('13'!J29,"x")+COUNTIF('14'!J29,"x")+COUNTIF('15'!J29,"x"),"0") -> 0 | L29: =IF(COUNTIF('1'!L29,"x")+COUNTIF('2'!L29,"x")+COUNTIF('3'!L29,"x")+COUNTIF('4'!L29,"x")+COUNTIF('5'!L29,"x")+COUNTIF('6'!L29,"x")+COUNTIF('7'!L29,"x")+COUNTIF('8'!L29,"x")+COUNTIF('9'!L29,"x")+COUNTIF('10'!L29,"x")+COUNTIF('11'!L29,"x")+COUNTIF('12'!L29,"x")+COUNTIF('13'!L29,"x")+COUNTIF('14'!L29,"x")+COUNTIF('15'!L29,"x")<>0,COUNTIF('1'!L29,"x")+COUNTIF('2'!L29,"x")+COUNTIF('3'!L29,"x")+COUNTIF('4'!L29,"x")+COUNTIF('5'!L29,"x")+COUNTIF('6'!L29,"x")+COUNTIF('7'!L29,"x")+COUNTIF('8'!L29,"x")+COUNTIF('9'!L29,"x")+COUNTIF('10'!L29,"x")+COUNTIF('11'!L29,"x")+COUNTIF('12'!L29,"x")+COUNTIF('13'!L29,"x")+COUNTIF('14'!L29,"x")+COUNTIF('15'!L29,"x"),"0") -> 0 | O29: =IF(COUNTIF('1'!O29,"x")+COUNTIF('2'!O29,"x")+COUNTIF('3'!O29,"x")+COUNTIF('4'!O29,"x")+COUNTIF('5'!O29,"x")+COUNTIF('6'!O29,"x")+COUNTIF('7'!O29,"x")+COUNTIF('8'!O29,"x")+COUNTIF('9'!O29,"x")+COUNTIF('10'!O29,"x")+COUNTIF('11'!O29,"x")+COUNTIF('12'!O29,"x")+COUNTIF('13'!O29,"x")+COUNTIF('14'!O29,"x")+COUNTIF('15'!O29,"x")<>0,COUNTIF('1'!O29,"x")+COUNTIF('2'!O29,"x")+COUNTIF('3'!O29,"x")+COUNTIF('4'!O29,"x")+COUNTIF('5'!O29,"x")+COUNTIF('6'!O29,"x")+COUNTIF('7'!O29,"x")+COUNTIF('8'!O29,"x")+COUNTIF('9'!O29,"x")+COUNTIF('10'!O29,"x")+COUNTIF('11'!O29,"x")+COUNTIF('12'!O29,"x")+COUNTIF('13'!O29,"x")+COUNTIF('14'!O29,"x")+COUNTIF('15'!O29,"x"),"0") -> 0 | Q29: =IF(COUNTIF('1'!Q29,"x")+COUNTIF('2'!Q29,"x")+COUNTIF('3'!Q29,"x")+COUNTIF('4'!Q29,"x")+COUNTIF('5'!Q29,"x")+COUNTIF('6'!Q29,"x")+COUNTIF('7'!Q29,"x")+COUNTIF('8'!Q29,"x")+COUNTIF('9'!Q29,"x")+COUNTIF('10'!Q29,"x")+COUNTIF('11'!Q29,"x")+COUNTIF('12'!Q29,"x")+COUNTIF('13'!Q29,"x")+COUNTIF('14'!Q29,"x")+COUNTIF('15'!Q29,"x")<>0,COUNTIF('1'!Q29,"x")+COUNTIF('2'!Q29,"x")+COUNTIF('3'!Q29,"x")+COUNTIF('4'!Q29,"x")+COUNTIF('5'!Q29,"x")+COUNTIF('6'!Q29,"x")+COUNTIF('7'!Q29,"x")+COUNTIF('8'!Q29,"x")+COUNTIF('9'!Q29,"x")+COUNTIF('10'!Q29,"x")+COUNTIF('11'!Q29,"x")+COUNTIF('12'!Q29,"x")+COUNTIF('13'!Q29,"x")+COUNTIF('14'!Q29,"x")+COUNTIF('15'!Q29,"x"),"0") -> 0 | S29: =IF(SUM(E29:Q29)<>0,SUM(E29*1,G29*2,J29*3,L29*4,O29*5,Q29*6)/SUM(E29:Q29),"") | V29: =IF(COUNTIF((E29:Q29),"x")>1,"Bitte nur ein Kreuz setzen!","")
B30: =IF(Vorlage!B30<>"",Vorlage!B30,"") -> Standfestigkeit (nur bei mobile Säulen) | E30: =IF(COUNTIF('1'!E30,"x")+COUNTIF('2'!E30,"x")+COUNTIF('3'!E30,"x")+COUNTIF('4'!E30,"x")+COUNTIF('5'!E30,"x")+COUNTIF('6'!E30,"x")+COUNTIF('7'!E30,"x")+COUNTIF('8'!E30,"x")+COUNTIF('9'!E30,"x")+COUNTIF('10'!E30,"x")+COUNTIF('11'!E30,"x")+COUNTIF('12'!E30,"x")+COUNTIF('13'!E30,"x")+COUNTIF('14'!E30,"x")+COUNTIF('15'!E30,"x")<>0,COUNTIF('1'!E30,"x")+COUNTIF('2'!E30,"x")+COUNTIF('3'!E30,"x")+COUNTIF('4'!E30,"x")+COUNTIF('5'!E30,"x")+COUNTIF('6'!E30,"x")+COUNTIF('7'!E30,"x")+COUNTIF('8'!E30,"x")+COUNTIF('9'!E30,"x")+COUNTIF('10'!E30,"x")+COUNTIF('11'!E30,"x")+COUNTIF('12'!E30,"x")+COUNTIF('13'!E30,"x")+COUNTIF('14'!E30,"x")+COUNTIF('15'!E30,"x"),"0") -> 0 | G30: =IF(COUNTIF('1'!G30,"x")+COUNTIF('2'!G30,"x")+COUNTIF('3'!G30,"x")+COUNTIF('4'!G30,"x")+COUNTIF('5'!G30,"x")+COUNTIF('6'!G30,"x")+COUNTIF('7'!G30,"x")+COUNTIF('8'!G30,"x")+COUNTIF('9'!G30,"x")+COUNTIF('10'!G30,"x")+COUNTIF('11'!G30,"x")+COUNTIF('12'!G30,"x")+COUNTIF('13'!G30,"x")+COUNTIF('14'!G30,"x")+COUNTIF('15'!G30,"x")<>0,COUNTIF('1'!G30,"x")+COUNTIF('2'!G30,"x")+COUNTIF('3'!G30,"x")+COUNTIF('4'!G30,"x")+COUNTIF('5'!G30,"x")+COUNTIF('6'!G30,"x")+COUNTIF('7'!G30,"x")+COUNTIF('8'!G30,"x")+COUNTIF('9'!G30,"x")+COUNTIF('10'!G30,"x")+COUNTIF('11'!G30,"x")+COUNTIF('12'!G30,"x")+COUNTIF('13'!G30,"x")+COUNTIF('14'!G30,"x")+COUNTIF('15'!G30,"x"),"0") -> 0 | J30: =IF(COUNTIF('1'!J30,"x")+COUNTIF('2'!J30,"x")+COUNTIF('3'!J30,"x")+COUNTIF('4'!J30,"x")+COUNTIF('5'!J30,"x")+COUNTIF('6'!J30,"x")+COUNTIF('7'!J30,"x")+COUNTIF('8'!J30,"x")+COUNTIF('9'!J30,"x")+COUNTIF('10'!J30,"x")+COUNTIF('11'!J30,"x")+COUNTIF('12'!J30,"x")+COUNTIF('13'!J30,"x")+COUNTIF('14'!J30,"x")+COUNTIF('15'!J30,"x")<>0,COUNTIF('1'!J30,"x")+COUNTIF('2'!J30,"x")+COUNTIF('3'!J30,"x")+COUNTIF('4'!J30,"x")+COUNTIF('5'!J30,"x")+COUNTIF('6'!J30,"x")+COUNTIF('7'!J30,"x")+COUNTIF('8'!J30,"x")+COUNTIF('9'!J30,"x")+COUNTIF('10'!J30,"x")+COUNTIF('11'!J30,"x")+COUNTIF('12'!J30,"x")+COUNTIF('13'!J30,"x")+COUNTIF('14'!J30,"x")+COUNTIF('15'!J30,"x"),"0") -> 0 | L30: =IF(COUNTIF('1'!L30,"x")+COUNTIF('2'!L30,"x")+COUNTIF('3'!L30,"x")+COUNTIF('4'!L30,"x")+COUNTIF('5'!L30,"x")+COUNTIF('6'!L30,"x")+COUNTIF('7'!L30,"x")+COUNTIF('8'!L30,"x")+COUNTIF('9'!L30,"x")+COUNTIF('10'!L30,"x")+COUNTIF('11'!L30,"x")+COUNTIF('12'!L30,"x")+COUNTIF('13'!L30,"x")+COUNTIF('14'!L30,"x")+COUNTIF('15'!L30,"x")<>0,COUNTIF('1'!L30,"x")+COUNTIF('2'!L30,"x")+COUNTIF('3'!L30,"x")+COUNTIF('4'!L30,"x")+COUNTIF('5'!L30,"x")+COUNTIF('6'!L30,"x")+COUNTIF('7'!L30,"x")+COUNTIF('8'!L30,"x")+COUNTIF('9'!L30,"x")+COUNTIF('10'!L30,"x")+COUNTIF('11'!L30,"x")+COUNTIF('12'!L30,"x")+COUNTIF('13'!L30,"x")+COUNTIF('14'!L30,"x")+COUNTIF('15'!L30,"x"),"0") -> 0 | O30: =IF(COUNTIF('1'!O30,"x")+COUNTIF('2'!O30,"x")+COUNTIF('3'!O30,"x")+COUNTIF('4'!O30,"x")+COUNTIF('5'!O30,"x")+COUNTIF('6'!O30,"x")+COUNTIF('7'!O30,"x")+COUNTIF('8'!O30,"x")+COUNTIF('9'!O30,"x")+COUNTIF('10'!O30,"x")+COUNTIF('11'!O30,"x")+COUNTIF('12'!O30,"x")+COUNTIF('13'!O30,"x")+COUNTIF('14'!O30,"x")+COUNTIF('15'!O30,"x")<>0,COUNTIF('1'!O30,"x")+COUNTIF('2'!O30,"x")+COUNTIF('3'!O30,"x")+COUNTIF('4'!O30,"x")+COUNTIF('5'!O30,"x")+COUNTIF('6'!O30,"x")+COUNTIF('7'!O30,"x")+COUNTIF('8'!O30,"x")+COUNTIF('9'!O30,"x")+COUNTIF('10'!O30,"x")+COUNTIF('11'!O30,"x")+COUNTIF('12'!O30,"x")+COUNTIF('13'!O30,"x")+COUNTIF('14'!O30,"x")+COUNTIF('15'!O30,"x"),"0") -> 0 | Q30: =IF(COUNTIF('1'!Q30,"x")+COUNTIF('2'!Q30,"x")+COUNTIF('3'!Q30,"x")+COUNTIF('4'!Q30,"x")+COUNTIF('5'!Q30,"x")+COUNTIF('6'!Q30,"x")+COUNTIF('7'!Q30,"x")+COUNTIF('8'!Q30,"x")+COUNTIF('9'!Q30,"x")+COUNTIF('10'!Q30,"x")+COUNTIF('11'!Q30,"x")+COUNTIF('12'!Q30,"x")+COUNTIF('13'!Q30,"x")+COUNTIF('14'!Q30,"x")+COUNTIF('15'!Q30,"x")<>0,COUNTIF('1'!Q30,"x")+COUNTIF('2'!Q30,"x")+COUNTIF('3'!Q30,"x")+COUNTIF('4'!Q30,"x")+COUNTIF('5'!Q30,"x")+COUNTIF('6'!Q30,"x")+COUNTIF('7'!Q30,"x")+COUNTIF('8'!Q30,"x")+COUNTIF('9'!Q30,"x")+COUNTIF('10'!Q30,"x")+COUNTIF('11'!Q30,"x")+COUNTIF('12'!Q30,"x")+COUNTIF('13'!Q30,"x")+COUNTIF('14'!Q30,"x")+COUNTIF('15'!Q30,"x"),"0") -> 0 | S30: =IF(SUM(E30:Q30)<>0,SUM(E30*1,G30*2,J30*3,L30*4,O30*5,Q30*6)/SUM(E30:Q30),"") | V30: =IF(COUNTIF((E30:Q30),"x")>1,"Bitte nur ein Kreuz setzen!","")
S31: =IF(SUM(S21:S30)<>0,SUM(S21:S30)/COUNT(S21:S30),"") | T31: erreichte Punkte | U31: =IF(S31<>"",-((U20/5)*S31)+(U20+(U20/5)),"0") -> 0
A32: =+Vorlage!A32 -> OP-Tischplatten | T32: Punkte | U32: 8
B33: =IF(Vorlage!B33<>"",Vorlage!B33,"") -> Gesamteindruck (Konzept / Funktionalität) | E33: =IF(COUNTIF('1'!E33,"x")+COUNTIF('2'!E33,"x")+COUNTIF('3'!E33,"x")+COUNTIF('4'!E33,"x")+COUNTIF('5'!E33,"x")+COUNTIF('6'!E33,"x")+COUNTIF('7'!E33,"x")+COUNTIF('8'!E33,"x")+COUNTIF('9'!E33,"x")+COUNTIF('10'!E33,"x")+COUNTIF('11'!E33,"x")+COUNTIF('12'!E33,"x")+COUNTIF('13'!E33,"x")+COUNTIF('14'!E33,"x")+COUNTIF('15'!E33,"x")<>0,COUNTIF('1'!E33,"x")+COUNTIF('2'!E33,"x")+COUNTIF('3'!E33,"x")+COUNTIF('4'!E33,"x")+COUNTIF('5'!E33,"x")+COUNTIF('6'!E33,"x")+COUNTIF('7'!E33,"x")+COUNTIF('8'!E33,"x")+COUNTIF('9'!E33,"x")+COUNTIF('10'!E33,"x")+COUNTIF('11'!E33,"x")+COUNTIF('12'!E33,"x")+COUNTIF('13'!E33,"x")+COUNTIF('14'!E33,"x")+COUNTIF('15'!E33,"x"),"0") -> 0 | G33: =IF(COUNTIF('1'!G33,"x")+COUNTIF('2'!G33,"x")+COUNTIF('3'!G33,"x")+COUNTIF('4'!G33,"x")+COUNTIF('5'!G33,"x")+COUNTIF('6'!G33,"x")+COUNTIF('7'!G33,"x")+COUNTIF('8'!G33,"x")+COUNTIF('9'!G33,"x")+COUNTIF('10'!G33,"x")+COUNTIF('11'!G33,"x")+COUNTIF('12'!G33,"x")+COUNTIF('13'!G33,"x")+COUNTIF('14'!G33,"x")+COUNTIF('15'!G33,"x")<>0,COUNTIF('1'!G33,"x")+COUNTIF('2'!G33,"x")+COUNTIF('3'!G33,"x")+COUNTIF('4'!G33,"x")+COUNTIF('5'!G33,"x")+COUNTIF('6'!G33,"x")+COUNTIF('7'!G33,"x")+COUNTIF('8'!G33,"x")+COUNTIF('9'!G33,"x")+COUNTIF('10'!G33,"x")+COUNTIF('11'!G33,"x")+COUNTIF('12'!G33,"x")+COUNTIF('13'!G33,"x")+COUNTIF('14'!G33,"x")+COUNTIF('15'!G33,"x"),"0") -> 0 | J33: =IF(COUNTIF('1'!J33,"x")+COUNTIF('2'!J33,"x")+COUNTIF('3'!J33,"x")+COUNTIF('4'!J33,"x")+COUNTIF('5'!J33,"x")+COUNTIF('6'!J33,"x")+COUNTIF('7'!J33,"x")+COUNTIF('8'!J33,"x")+COUNTIF('9'!J33,"x")+COUNTIF('10'!J33,"x")+COUNTIF('11'!J33,"x")+COUNTIF('12'!J33,"x")+COUNTIF('13'!J33,"x")+COUNTIF('14'!J33,"x")+COUNTIF('15'!J33,"x")<>0,COUNTIF('1'!J33,"x")+COUNTIF('2'!J33,"x")+COUNTIF('3'!J33,"x")+COUNTIF('4'!J33,"x")+COUNTIF('5'!J33,"x")+COUNTIF('6'!J33,"x")+COUNTIF('7'!J33,"x")+COUNTIF('8'!J33,"x")+COUNTIF('9'!J33,"x")+COUNTIF('10'!J33,"x")+COUNTIF('11'!J33,"x")+COUNTIF('12'!J33,"x")+COUNTIF('13'!J33,"x")+COUNTIF('14'!J33,"x")+COUNTIF('15'!J33,"x"),"0") -> 0 | L33: =IF(COUNTIF('1'!L33,"x")+COUNTIF('2'!L33,"x")+COUNTIF('3'!L33,"x")+COUNTIF('4'!L33,"x")+COUNTIF('5'!L33,"x")+COUNTIF('6'!L33,"x")+COUNTIF('7'!L33,"x")+COUNTIF('8'!L33,"x")+COUNTIF('9'!L33,"x")+COUNTIF('10'!L33,"x")+COUNTIF('11'!L33,"x")+COUNTIF('12'!L33,"x")+COUNTIF('13'!L33,"x")+COUNTIF('14'!L33,"x")+COUNTIF('15'!L33,"x")<>0,COUNTIF('1'!L33,"x")+COUNTIF('2'!L33,"x")+COUNTIF('3'!L33,"x")+COUNTIF('4'!L33,"x")+COUNTIF('5'!L33,"x")+COUNTIF('6'!L33,"x")+COUNTIF('7'!L33,"x")+COUNTIF('8'!L33,"x")+COUNTIF('9'!L33,"x")+COUNTIF('10'!L33,"x")+COUNTIF('11'!L33,"x")+COUNTIF('12'!L33,"x")+COUNTIF('13'!L33,"x")+COUNTIF('14'!L33,"x")+COUNTIF('15'!L33,"x"),"0") -> 0 | O33: =IF(COUNTIF('1'!O33,"x")+COUNTIF('2'!O33,"x")+COUNTIF('3'!O33,"x")+COUNTIF('4'!O33,"x")+COUNTIF('5'!O33,"x")+COUNTIF('6'!O33,"x")+COUNTIF('7'!O33,"x")+COUNTIF('8'!O33,"x")+COUNTIF('9'!O33,"x")+COUNTIF('10'!O33,"x")+COUNTIF('11'!O33,"x")+COUNTIF('12'!O33,"x")+COUNTIF('13'!O33,"x")+COUNTIF('14'!O33,"x")+COUNTIF('15'!O33,"x")<>0,COUNTIF('1'!O33,"x")+COUNTIF('2'!O33,"x")+COUNTIF('3'!O33,"x")+COUNTIF('4'!O33,"x")+COUNTIF('5'!O33,"x")+COUNTIF('6'!O33,"x")+COUNTIF('7'!O33,"x")+COUNTIF('8'!O33,"x")+COUNTIF('9'!O33,"x")+COUNTIF('10'!O33,"x")+COUNTIF('11'!O33,"x")+COUNTIF('12'!O33,"x")+COUNTIF('13'!O33,"x")+COUNTIF('14'!O33,"x")+COUNTIF('15'!O33,"x"),"0") -> 0 | Q33: =IF(COUNTIF('1'!Q33,"x")+COUNTIF('2'!Q33,"x")+COUNTIF('3'!Q33,"x")+COUNTIF('4'!Q33,"x")+COUNTIF('5'!Q33,"x")+COUNTIF('6'!Q33,"x")+COUNTIF('7'!Q33,"x")+COUNTIF('8'!Q33,"x")+COUNTIF('9'!Q33,"x")+COUNTIF('10'!Q33,"x")+COUNTIF('11'!Q33,"x")+COUNTIF('12'!Q33,"x")+COUNTIF('13'!Q33,"x")+COUNTIF('14'!Q33,"x")+COUNTIF('15'!Q33,"x")<>0,COUNTIF('1'!Q33,"x")+COUNTIF('2'!Q33,"x")+COUNTIF('3'!Q33,"x")+COUNTIF('4'!Q33,"x")+COUNTIF('5'!Q33,"x")+COUNTIF('6'!Q33,"x")+COUNTIF('7'!Q33,"x")+COUNTIF('8'!Q33,"x")+COUNTIF('9'!Q33,"x")+COUNTIF('10'!Q33,"x")+COUNTIF('11'!Q33,"x")+COUNTIF('12'!Q33,"x")+COUNTIF('13'!Q33,"x")+COUNTIF('14'!Q33,"x")+COUNTIF('15'!Q33,"x"),"0") -> 0 | S33: =IF(SUM(E33:Q33)<>0,SUM(E33*1,G33*2,J33*3,L33*4,O33*5,Q33*6)/SUM(E33:Q33),"") | V33: =IF(COUNTIF((E33:Q33),"x")>1,"Bitte nur ein Kreuz setzen!","")
B34: =IF(Vorlage!B34<>"",Vorlage!B34,"") -> Gesamteindruck zur motorischen Verstellung | E34: =IF(COUNTIF('1'!E34,"x")+COUNTIF('2'!E34,"x")+COUNTIF('3'!E34,"x")+COUNTIF('4'!E34,"x")+COUNTIF('5'!E34,"x")+COUNTIF('6'!E34,"x")+COUNTIF('7'!E34,"x")+COUNTIF('8'!E34,"x")+COUNTIF('9'!E34,"x")+COUNTIF('10'!E34,"x")+COUNTIF('11'!E34,"x")+COUNTIF('12'!E34,"x")+COUNTIF('13'!E34,"x")+COUNTIF('14'!E34,"x")+COUNTIF('15'!E34,"x")<>0,COUNTIF('1'!E34,"x")+COUNTIF('2'!E34,"x")+COUNTIF('3'!E34,"x")+COUNTIF('4'!E34,"x")+COUNTIF('5'!E34,"x")+COUNTIF('6'!E34,"x")+COUNTIF('7'!E34,"x")+COUNTIF('8'!E34,"x")+COUNTIF('9'!E34,"x")+COUNTIF('10'!E34,"x")+COUNTIF('11'!E34,"x")+COUNTIF('12'!E34,"x")+COUNTIF('13'!E34,"x")+COUNTIF('14'!E34,"x")+COUNTIF('15'!E34,"x"),"0") -> 0 | G34: =IF(COUNTIF('1'!G34,"x")+COUNTIF('2'!G34,"x")+COUNTIF('3'!G34,"x")+COUNTIF('4'!G34,"x")+COUNTIF('5'!G34,"x")+COUNTIF('6'!G34,"x")+COUNTIF('7'!G34,"x")+COUNTIF('8'!G34,"x")+COUNTIF('9'!G34,"x")+COUNTIF('10'!G34,"x")+COUNTIF('11'!G34,"x")+COUNTIF('12'!G34,"x")+COUNTIF('13'!G34,"x")+COUNTIF('14'!G34,"x")+COUNTIF('15'!G34,"x")<>0,COUNTIF('1'!G34,"x")+COUNTIF('2'!G34,"x")+COUNTIF('3'!G34,"x")+COUNTIF('4'!G34,"x")+COUNTIF('5'!G34,"x")+COUNTIF('6'!G34,"x")+COUNTIF('7'!G34,"x")+COUNTIF('8'!G34,"x")+COUNTIF('9'!G34,"x")+COUNTIF('10'!G34,"x")+COUNTIF('11'!G34,"x")+COUNTIF('12'!G34,"x")+COUNTIF('13'!G34,"x")+COUNTIF('14'!G34,"x")+COUNTIF('15'!G34,"x"),"0") -> 0 | J34: =IF(COUNTIF('1'!J34,"x")+COUNTIF('2'!J34,"x")+COUNTIF('3'!J34,"x")+COUNTIF('4'!J34,"x")+COUNTIF('5'!J34,"x")+COUNTIF('6'!J34,"x")+COUNTIF('7'!J34,"x")+COUNTIF('8'!J34,"x")+COUNTIF('9'!J34,"x")+COUNTIF('10'!J34,"x")+COUNTIF('11'!J34,"x")+COUNTIF('12'!J34,"x")+COUNTIF('13'!J34,"x")+COUNTIF('14'!J34,"x")+COUNTIF('15'!J34,"x")<>0,COUNTIF('1'!J34,"x")+COUNTIF('2'!J34,"x")+COUNTIF('3'!J34,"x")+COUNTIF('4'!J34,"x")+COUNTIF('5'!J34,"x")+COUNTIF('6'!J34,"x")+COUNTIF('7'!J34,"x")+COUNTIF('8'!J34,"x")+COUNTIF('9'!J34,"x")+COUNTIF('10'!J34,"x")+COUNTIF('11'!J34,"x")+COUNTIF('12'!J34,"x")+COUNTIF('13'!J34,"x")+COUNTIF('14'!J34,"x")+COUNTIF('15'!J34,"x"),"0") -> 0 | L34: =IF(COUNTIF('1'!L34,"x")+COUNTIF('2'!L34,"x")+COUNTIF('3'!L34,"x")+COUNTIF('4'!L34,"x")+COUNTIF('5'!L34,"x")+COUNTIF('6'!L34,"x")+COUNTIF('7'!L34,"x")+COUNTIF('8'!L34,"x")+COUNTIF('9'!L34,"x")+COUNTIF('10'!L34,"x")+COUNTIF('11'!L34,"x")+COUNTIF('12'!L34,"x")+COUNTIF('13'!L34,"x")+COUNTIF('14'!L34,"x")+COUNTIF('15'!L34,"x")<>0,COUNTIF('1'!L34,"x")+COUNTIF('2'!L34,"x")+COUNTIF('3'!L34,"x")+COUNTIF('4'!L34,"x")+COUNTIF('5'!L34,"x")+COUNTIF('6'!L34,"x")+COUNTIF('7'!L34,"x")+COUNTIF('8'!L34,"x")+COUNTIF('9'!L34,"x")+COUNTIF('10'!L34,"x")+COUNTIF('11'!L34,"x")+COUNTIF('12'!L34,"x")+COUNTIF('13'!L34,"x")+COUNTIF('14'!L34,"x")+COUNTIF('15'!L34,"x"),"0") -> 0 | O34: =IF(COUNTIF('1'!O34,"x")+COUNTIF('2'!O34,"x")+COUNTIF('3'!O34,"x")+COUNTIF('4'!O34,"x")+COUNTIF('5'!O34,"x")+COUNTIF('6'!O34,"x")+COUNTIF('7'!O34,"x")+COUNTIF('8'!O34,"x")+COUNTIF('9'!O34,"x")+COUNTIF('10'!O34,"x")+COUNTIF('11'!O34,"x")+COUNTIF('12'!O34,"x")+COUNTIF('13'!O34,"x")+COUNTIF('14'!O34,"x")+COUNTIF('15'!O34,"x")<>0,COUNTIF('1'!O34,"x")+COUNTIF('2'!O34,"x")+COUNTIF('3'!O34,"x")+COUNTIF('4'!O34,"x")+COUNTIF('5'!O34,"x")+COUNTIF('6'!O34,"x")+COUNTIF('7'!O34,"x")+COUNTIF('8'!O34,"x")+COUNTIF('9'!O34,"x")+COUNTIF('10'!O34,"x")+COUNTIF('11'!O34,"x")+COUNTIF('12'!O34,"x")+COUNTIF('13'!O34,"x")+COUNTIF('14'!O34,"x")+COUNTIF('15'!O34,"x"),"0") -> 0 | Q34: =IF(COUNTIF('1'!Q34,"x")+COUNTIF('2'!Q34,"x")+COUNTIF('3'!Q34,"x")+COUNTIF('4'!Q34,"x")+COUNTIF('5'!Q34,"x")+COUNTIF('6'!Q34,"x")+COUNTIF('7'!Q34,"x")+COUNTIF('8'!Q34,"x")+COUNTIF('9'!Q34,"x")+COUNTIF('10'!Q34,"x")+COUNTIF('11'!Q34,"x")+COUNTIF('12'!Q34,"x")+COUNTIF('13'!Q34,"x")+COUNTIF('14'!Q34,"x")+COUNTIF('15'!Q34,"x")<>0,COUNTIF('1'!Q34,"x")+COUNTIF('2'!Q34,"x")+COUNTIF('3'!Q34,"x")+COUNTIF('4'!Q34,"x")+COUNTIF('5'!Q34,"x")+COUNTIF('6'!Q34,"x")+COUNTIF('7'!Q34,"x")+COUNTIF('8'!Q34,"x")+COUNTIF('9'!Q34,"x")+COUNTIF('10'!Q34,"x")+COUNTIF('11'!Q34,"x")+COUNTIF('12'!Q34,"x")+COUNTIF('13'!Q34,"x")+COUNTIF('14'!Q34,"x")+COUNTIF('15'!Q34,"x"),"0") -> 0 | S34: =IF(SUM(E34:Q34)<>0,SUM(E34*1,G34*2,J34*3,L34*4,O34*5,Q34*6)/SUM(E34:Q34),"") | V34: =IF(COUNTIF((E34:Q34),"x")>1,"Bitte nur ein Kreuz setzen!","")
B35: =IF(Vorlage!B35<>"",Vorlage!B35,"") -> Anlaufverhalten | E35: =IF(COUNTIF('1'!E35,"x")+COUNTIF('2'!E35,"x")+COUNTIF('3'!E35,"x")+COUNTIF('4'!E35,"x")+COUNTIF('5'!E35,"x")+COUNTIF('6'!E35,"x")+COUNTIF('7'!E35,"x")+COUNTIF('8'!E35,"x")+COUNTIF('9'!E35,"x")+COUNTIF('10'!E35,"x")+COUNTIF('11'!E35,"x")+COUNTIF('12'!E35,"x")+COUNTIF('13'!E35,"x")+COUNTIF('14'!E35,"x")+COUNTIF('15'!E35,"x")<>0,COUNTIF('1'!E35,"x")+COUNTIF('2'!E35,"x")+COUNTIF('3'!E35,"x")+COUNTIF('4'!E35,"x")+COUNTIF('5'!E35,"x")+COUNTIF('6'!E35,"x")+COUNTIF('7'!E35,"x")+COUNTIF('8'!E35,"x")+COUNTIF('9'!E35,"x")+COUNTIF('10'!E35,"x")+COUNTIF('11'!E35,"x")+COUNTIF('12'!E35,"x")+COUNTIF('13'!E35,"x")+COUNTIF('14'!E35,"x")+COUNTIF('15'!E35,"x"),"0") -> 0 | G35: =IF(COUNTIF('1'!G35,"x")+COUNTIF('2'!G35,"x")+COUNTIF('3'!G35,"x")+COUNTIF('4'!G35,"x")+COUNTIF('5'!G35,"x")+COUNTIF('6'!G35,"x")+COUNTIF('7'!G35,"x")+COUNTIF('8'!G35,"x")+COUNTIF('9'!G35,"x")+COUNTIF('10'!G35,"x")+COUNTIF('11'!G35,"x")+COUNTIF('12'!G35,"x")+COUNTIF('13'!G35,"x")+COUNTIF('14'!G35,"x")+COUNTIF('15'!G35,"x")<>0,COUNTIF('1'!G35,"x")+COUNTIF('2'!G35,"x")+COUNTIF('3'!G35,"x")+COUNTIF('4'!G35,"x")+COUNTIF('5'!G35,"x")+COUNTIF('6'!G35,"x")+COUNTIF('7'!G35,"x")+COUNTIF('8'!G35,"x")+COUNTIF('9'!G35,"x")+COUNTIF('10'!G35,"x")+COUNTIF('11'!G35,"x")+COUNTIF('12'!G35,"x")+COUNTIF('13'!G35,"x")+COUNTIF('14'!G35,"x")+COUNTIF('15'!G35,"x"),"0") -> 0 | J35: =IF(COUNTIF('1'!J35,"x")+COUNTIF('2'!J35,"x")+COUNTIF('3'!J35,"x")+COUNTIF('4'!J35,"x")+COUNTIF('5'!J35,"x")+COUNTIF('6'!J35,"x")+COUNTIF('7'!J35,"x")+COUNTIF('8'!J35,"x")+COUNTIF('9'!J35,"x")+COUNTIF('10'!J35,"x")+COUNTIF('11'!J35,"x")+COUNTIF('12'!J35,"x")+COUNTIF('13'!J35,"x")+COUNTIF('14'!J35,"x")+COUNTIF('15'!J35,"x")<>0,COUNTIF('1'!J35,"x")+COUNTIF('2'!J35,"x")+COUNTIF('3'!J35,"x")+COUNTIF('4'!J35,"x")+COUNTIF('5'!J35,"x")+COUNTIF('6'!J35,"x")+COUNTIF('7'!J35,"x")+COUNTIF('8'!J35,"x")+COUNTIF('9'!J35,"x")+COUNTIF('10'!J35,"x")+COUNTIF('11'!J35,"x")+COUNTIF('12'!J35,"x")+COUNTIF('13'!J35,"x")+COUNTIF('14'!J35,"x")+COUNTIF('15'!J35,"x"),"0") -> 0 | L35: =IF(COUNTIF('1'!L35,"x")+COUNTIF('2'!L35,"x")+COUNTIF('3'!L35,"x")+COUNTIF('4'!L35,"x")+COUNTIF('5'!L35,"x")+COUNTIF('6'!L35,"x")+COUNTIF('7'!L35,"x")+COUNTIF('8'!L35,"x")+COUNTIF('9'!L35,"x")+COUNTIF('10'!L35,"x")+COUNTIF('11'!L35,"x")+COUNTIF('12'!L35,"x")+COUNTIF('13'!L35,"x")+COUNTIF('14'!L35,"x")+COUNTIF('15'!L35,"x")<>0,COUNTIF('1'!L35,"x")+COUNTIF('2'!L35,"x")+COUNTIF('3'!L35,"x")+COUNTIF('4'!L35,"x")+COUNTIF('5'!L35,"x")+COUNTIF('6'!L35,"x")+COUNTIF('7'!L35,"x")+COUNTIF('8'!L35,"x")+COUNTIF('9'!L35,"x")+COUNTIF('10'!L35,"x")+COUNTIF('11'!L35,"x")+COUNTIF('12'!L35,"x")+COUNTIF('13'!L35,"x")+COUNTIF('14'!L35,"x")+COUNTIF('15'!L35,"x"),"0") -> 0 | O35: =IF(COUNTIF('1'!O35,"x")+COUNTIF('2'!O35,"x")+COUNTIF('3'!O35,"x")+COUNTIF('4'!O35,"x")+COUNTIF('5'!O35,"x")+COUNTIF('6'!O35,"x")+COUNTIF('7'!O35,"x")+COUNTIF('8'!O35,"x")+COUNTIF('9'!O35,"x")+COUNTIF('10'!O35,"x")+COUNTIF('11'!O35,"x")+COUNTIF('12'!O35,"x")+COUNTIF('13'!O35,"x")+COUNTIF('14'!O35,"x")+COUNTIF('15'!O35,"x")<>0,COUNTIF('1'!O35,"x")+COUNTIF('2'!O35,"x")+COUNTIF('3'!O35,"x")+COUNTIF('4'!O35,"x")+COUNTIF('5'!O35,"x")+COUNTIF('6'!O35,"x")+COUNTIF('7'!O35,"x")+COUNTIF('8'!O35,"x")+COUNTIF('9'!O35,"x")+COUNTIF('10'!O35,"x")+COUNTIF('11'!O35,"x")+COUNTIF('12'!O35,"x")+COUNTIF('13'!O35,"x")+COUNTIF('14'!O35,"x")+COUNTIF('15'!O35,"x"),"0") -> 0 | Q35: =IF(COUNTIF('1'!Q35,"x")+COUNTIF('2'!Q35,"x")+COUNTIF('3'!Q35,"x")+COUNTIF('4'!Q35,"x")+COUNTIF('5'!Q35,"x")+COUNTIF('6'!Q35,"x")+COUNTIF('7'!Q35,"x")+COUNTIF('8'!Q35,"x")+COUNTIF('9'!Q35,"x")+COUNTIF('10'!Q35,"x")+COUNTIF('11'!Q35,"x")+COUNTIF('12'!Q35,"x")+COUNTIF('13'!Q35,"x")+COUNTIF('14'!Q35,"x")+COUNTIF('15'!Q35,"x")<>0,COUNTIF('1'!Q35,"x")+COUNTIF('2'!Q35,"x")+COUNTIF('3'!Q35,"x")+COUNTIF('4'!Q35,"x")+COUNTIF('5'!Q35,"x")+COUNTIF('6'!Q35,"x")+COUNTIF('7'!Q35,"x")+COUNTIF('8'!Q35,"x")+COUNTIF('9'!Q35,"x")+COUNTIF('10'!Q35,"x")+COUNTIF('11'!Q35,"x")+COUNTIF('12'!Q35,"x")+COUNTIF('13'!Q35,"x")+COUNTIF('14'!Q35,"x")+COUNTIF('15'!Q35,"x"),"0") -> 0 | S35: =IF(SUM(E35:Q35)<>0,SUM(E35*1,G35*2,J35*3,L35*4,O35*5,Q35*6)/SUM(E35:Q35),"") | V35: =IF(COUNTIF((E35:Q35),"x")>1,"Bitte nur ein Kreuz setzen!","")
B36: =IF(Vorlage!B36<>"",Vorlage!B36,"") -> Verstellmöglichkeiten, Präzision | E36: =IF(COUNTIF('1'!E36,"x")+COUNTIF('2'!E36,"x")+COUNTIF('3'!E36,"x")+COUNTIF('4'!E36,"x")+COUNTIF('5'!E36,"x")+COUNTIF('6'!E36,"x")+COUNTIF('7'!E36,"x")+COUNTIF('8'!E36,"x")+COUNTIF('9'!E36,"x")+COUNTIF('10'!E36,"x")+COUNTIF('11'!E36,"x")+COUNTIF('12'!E36,"x")+COUNTIF('13'!E36,"x")+COUNTIF('14'!E36,"x")+COUNTIF('15'!E36,"x")<>0,COUNTIF('1'!E36,"x")+COUNTIF('2'!E36,"x")+COUNTIF('3'!E36,"x")+COUNTIF('4'!E36,"x")+COUNTIF('5'!E36,"x")+COUNTIF('6'!E36,"x")+COUNTIF('7'!E36,"x")+COUNTIF('8'!E36,"x")+COUNTIF('9'!E36,"x")+COUNTIF('10'!E36,"x")+COUNTIF('11'!E36,"x")+COUNTIF('12'!E36,"x")+COUNTIF('13'!E36,"x")+COUNTIF('14'!E36,"x")+COUNTIF('15'!E36,"x"),"0") -> 0 | G36: =IF(COUNTIF('1'!G36,"x")+COUNTIF('2'!G36,"x")+COUNTIF('3'!G36,"x")+COUNTIF('4'!G36,"x")+COUNTIF('5'!G36,"x")+COUNTIF('6'!G36,"x")+COUNTIF('7'!G36,"x")+COUNTIF('8'!G36,"x")+COUNTIF('9'!G36,"x")+COUNTIF('10'!G36,"x")+COUNTIF('11'!G36,"x")+COUNTIF('12'!G36,"x")+COUNTIF('13'!G36,"x")+COUNTIF('14'!G36,"x")+COUNTIF('15'!G36,"x")<>0,COUNTIF('1'!G36,"x")+COUNTIF('2'!G36,"x")+COUNTIF('3'!G36,"x")+COUNTIF('4'!G36,"x")+COUNTIF('5'!G36,"x")+COUNTIF('6'!G36,"x")+COUNTIF('7'!G36,"x")+COUNTIF('8'!G36,"x")+COUNTIF('9'!G36,"x")+COUNTIF('10'!G36,"x")+COUNTIF('11'!G36,"x")+COUNTIF('12'!G36,"x")+COUNTIF('13'!G36,"x")+COUNTIF('14'!G36,"x")+COUNTIF('15'!G36,"x"),"0") -> 0 | J36: =IF(COUNTIF('1'!J36,"x")+COUNTIF('2'!J36,"x")+COUNTIF('3'!J36,"x")+COUNTIF('4'!J36,"x")+COUNTIF('5'!J36,"x")+COUNTIF('6'!J36,"x")+COUNTIF('7'!J36,"x")+COUNTIF('8'!J36,"x")+COUNTIF('9'!J36,"x")+COUNTIF('10'!J36,"x")+COUNTIF('11'!J36,"x")+COUNTIF('12'!J36,"x")+COUNTIF('13'!J36,"x")+COUNTIF('14'!J36,"x")+COUNTIF('15'!J36,"x")<>0,COUNTIF('1'!J36,"x")+COUNTIF('2'!J36,"x")+COUNTIF('3'!J36,"x")+COUNTIF('4'!J36,"x")+COUNTIF('5'!J36,"x")+COUNTIF('6'!J36,"x")+COUNTIF('7'!J36,"x")+COUNTIF('8'!J36,"x")+COUNTIF('9'!J36,"x")+COUNTIF('10'!J36,"x")+COUNTIF('11'!J36,"x")+COUNTIF('12'!J36,"x")+COUNTIF('13'!J36,"x")+COUNTIF('14'!J36,"x")+COUNTIF('15'!J36,"x"),"0") -> 0 | L36: =IF(COUNTIF('1'!L36,"x")+COUNTIF('2'!L36,"x")+COUNTIF('3'!L36,"x")+COUNTIF('4'!L36,"x")+COUNTIF('5'!L36,"x")+COUNTIF('6'!L36,"x")+COUNTIF('7'!L36,"x")+COUNTIF('8'!L36,"x")+COUNTIF('9'!L36,"x")+COUNTIF('10'!L36,"x")+COUNTIF('11'!L36,"x")+COUNTIF('12'!L36,"x")+COUNTIF('13'!L36,"x")+COUNTIF('14'!L36,"x")+COUNTIF('15'!L36,"x")<>0,COUNTIF('1'!L36,"x")+COUNTIF('2'!L36,"x")+COUNTIF('3'!L36,"x")+COUNTIF('4'!L36,"x")+COUNTIF('5'!L36,"x")+COUNTIF('6'!L36,"x")+COUNTIF('7'!L36,"x")+COUNTIF('8'!L36,"x")+COUNTIF('9'!L36,"x")+COUNTIF('10'!L36,"x")+COUNTIF('11'!L36,"x")+COUNTIF('12'!L36,"x")+COUNTIF('13'!L36,"x")+COUNTIF('14'!L36,"x")+COUNTIF('15'!L36,"x"),"0") -> 0 | O36: =IF(COUNTIF('1'!O36,"x")+COUNTIF('2'!O36,"x")+COUNTIF('3'!O36,"x")+COUNTIF('4'!O36,"x")+COUNTIF('5'!O36,"x")+COUNTIF('6'!O36,"x")+COUNTIF('7'!O36,"x")+COUNTIF('8'!O36,"x")+COUNTIF('9'!O36,"x")+COUNTIF('10'!O36,"x")+COUNTIF('11'!O36,"x")+COUNTIF('12'!O36,"x")+COUNTIF('13'!O36,"x")+COUNTIF('14'!O36,"x")+COUNTIF('15'!O36,"x")<>0,COUNTIF('1'!O36,"x")+COUNTIF('2'!O36,"x")+COUNTIF('3'!O36,"x")+COUNTIF('4'!O36,"x")+COUNTIF('5'!O36,"x")+COUNTIF('6'!O36,"x")+COUNTIF('7'!O36,"x")+COUNTIF('8'!O36,"x")+COUNTIF('9'!O36,"x")+COUNTIF('10'!O36,"x")+COUNTIF('11'!O36,"x")+COUNTIF('12'!O36,"x")+COUNTIF('13'!O36,"x")+COUNTIF('14'!O36,"x")+COUNTIF('15'!O36,"x"),"0") -> 0 | Q36: =IF(COUNTIF('1'!Q36,"x")+COUNTIF('2'!Q36,"x")+COUNTIF('3'!Q36,"x")+COUNTIF('4'!Q36,"x")+COUNTIF('5'!Q36,"x")+COUNTIF('6'!Q36,"x")+COUNTIF('7'!Q36,"x")+COUNTIF('8'!Q36,"x")+COUNTIF('9'!Q36,"x")+COUNTIF('10'!Q36,"x")+COUNTIF('11'!Q36,"x")+COUNTIF('12'!Q36,"x")+COUNTIF('13'!Q36,"x")+COUNTIF('14'!Q36,"x")+COUNTIF('15'!Q36,"x")<>0,COUNTIF('1'!Q36,"x")+COUNTIF('2'!Q36,"x")+COUNTIF('3'!Q36,"x")+COUNTIF('4'!Q36,"x")+COUNTIF('5'!Q36,"x")+COUNTIF('6'!Q36,"x")+COUNTIF('7'!Q36,"x")+COUNTIF('8'!Q36,"x")+COUNTIF('9'!Q36,"x")+COUNTIF('10'!Q36,"x")+COUNTIF('11'!Q36,"x")+COUNTIF('12'!Q36,"x")+COUNTIF('13'!Q36,"x")+COUNTIF('14'!Q36,"x")+COUNTIF('15'!Q36,"x"),"0") -> 0 | S36: =IF(SUM(E36:Q36)<>0,SUM(E36*1,G36*2,J36*3,L36*4,O36*5,Q36*6)/SUM(E36:Q36),"") | V36: =IF(COUNTIF((E36:Q36),"x")>1,"Bitte nur ein Kreuz setzen!","")
B37: =IF(Vorlage!B37<>"",Vorlage!B37,"") -> Kollisionsschutz | E37: =IF(COUNTIF('1'!E37,"x")+COUNTIF('2'!E37,"x")+COUNTIF('3'!E37,"x")+COUNTIF('4'!E37,"x")+COUNTIF('5'!E37,"x")+COUNTIF('6'!E37,"x")+COUNTIF('7'!E37,"x")+COUNTIF('8'!E37,"x")+COUNTIF('9'!E37,"x")+COUNTIF('10'!E37,"x")+COUNTIF('11'!E37,"x")+COUNTIF('12'!E37,"x")+COUNTIF('13'!E37,"x")+COUNTIF('14'!E37,"x")+COUNTIF('15'!E37,"x")<>0,COUNTIF('1'!E37,"x")+COUNTIF('2'!E37,"x")+COUNTIF('3'!E37,"x")+COUNTIF('4'!E37,"x")+COUNTIF('5'!E37,"x")+COUNTIF('6'!E37,"x")+COUNTIF('7'!E37,"x")+COUNTIF('8'!E37,"x")+COUNTIF('9'!E37,"x")+COUNTIF('10'!E37,"x")+COUNTIF('11'!E37,"x")+COUNTIF('12'!E37,"x")+COUNTIF('13'!E37,"x")+COUNTIF('14'!E37,"x")+COUNTIF('15'!E37,"x"),"0") -> 0 | G37: =IF(COUNTIF('1'!G37,"x")+COUNTIF('2'!G37,"x")+COUNTIF('3'!G37,"x")+COUNTIF('4'!G37,"x")+COUNTIF('5'!G37,"x")+COUNTIF('6'!G37,"x")+COUNTIF('7'!G37,"x")+COUNTIF('8'!G37,"x")+COUNTIF('9'!G37,"x")+COUNTIF('10'!G37,"x")+COUNTIF('11'!G37,"x")+COUNTIF('12'!G37,"x")+COUNTIF('13'!G37,"x")+COUNTIF('14'!G37,"x")+COUNTIF('15'!G37,"x")<>0,COUNTIF('1'!G37,"x")+COUNTIF('2'!G37,"x")+COUNTIF('3'!G37,"x")+COUNTIF('4'!G37,"x")+COUNTIF('5'!G37,"x")+COUNTIF('6'!G37,"x")+COUNTIF('7'!G37,"x")+COUNTIF('8'!G37,"x")+COUNTIF('9'!G37,"x")+COUNTIF('10'!G37,"x")+COUNTIF('11'!G37,"x")+COUNTIF('12'!G37,"x")+COUNTIF('13'!G37,"x")+COUNTIF('14'!G37,"x")+COUNTIF('15'!G37,"x"),"0") -> 0 | J37: =IF(COUNTIF('1'!J37,"x")+COUNTIF('2'!J37,"x")+COUNTIF('3'!J37,"x")+COUNTIF('4'!J37,"x")+COUNTIF('5'!J37,"x")+COUNTIF('6'!J37,"x")+COUNTIF('7'!J37,"x")+COUNTIF('8'!J37,"x")+COUNTIF('9'!J37,"x")+COUNTIF('10'!J37,"x")+COUNTIF('11'!J37,"x")+COUNTIF('12'!J37,"x")+COUNTIF('13'!J37,"x")+COUNTIF('14'!J37,"x")+COUNTIF('15'!J37,"x")<>0,COUNTIF('1'!J37,"x")+COUNTIF('2'!J37,"x")+COUNTIF('3'!J37,"x")+COUNTIF('4'!J37,"x")+COUNTIF('5'!J37,"x")+COUNTIF('6'!J37,"x")+COUNTIF('7'!J37,"x")+COUNTIF('8'!J37,"x")+COUNTIF('9'!J37,"x")+COUNTIF('10'!J37,"x")+COUNTIF('11'!J37,"x")+COUNTIF('12'!J37,"x")+COUNTIF('13'!J37,"x")+COUNTIF('14'!J37,"x")+COUNTIF('15'!J37,"x"),"0") -> 0 | L37: =IF(COUNTIF('1'!L37,"x")+COUNTIF('2'!L37,"x")+COUNTIF('3'!L37,"x")+COUNTIF('4'!L37,"x")+COUNTIF('5'!L37,"x")+COUNTIF('6'!L37,"x")+COUNTIF('7'!L37,"x")+COUNTIF('8'!L37,"x")+COUNTIF('9'!L37,"x")+COUNTIF('10'!L37,"x")+COUNTIF('11'!L37,"x")+COUNTIF('12'!L37,"x")+COUNTIF('13'!L37,"x")+COUNTIF('14'!L37,"x")+COUNTIF('15'!L37,"x")<>0,COUNTIF('1'!L37,"x")+COUNTIF('2'!L37,"x")+COUNTIF('3'!L37,"x")+COUNTIF('4'!L37,"x")+COUNTIF('5'!L37,"x")+COUNTIF('6'!L37,"x")+COUNTIF('7'!L37,"x")+COUNTIF('8'!L37,"x")+COUNTIF('9'!L37,"x")+COUNTIF('10'!L37,"x")+COUNTIF('11'!L37,"x")+COUNTIF('12'!L37,"x")+COUNTIF('13'!L37,"x")+COUNTIF('14'!L37,"x")+COUNTIF('15'!L37,"x"),"0") -> 0 | O37: =IF(COUNTIF('1'!O37,"x")+COUNTIF('2'!O37,"x")+COUNTIF('3'!O37,"x")+COUNTIF('4'!O37,"x")+COUNTIF('5'!O37,"x")+COUNTIF('6'!O37,"x")+COUNTIF('7'!O37,"x")+COUNTIF('8'!O37,"x")+COUNTIF('9'!O37,"x")+COUNTIF('10'!O37,"x")+COUNTIF('11'!O37,"x")+COUNTIF('12'!O37,"x")+COUNTIF('13'!O37,"x")+COUNTIF('14'!O37,"x")+COUNTIF('15'!O37,"x")<>0,COUNTIF('1'!O37,"x")+COUNTIF('2'!O37,"x")+COUNTIF('3'!O37,"x")+COUNTIF('4'!O37,"x")+COUNTIF('5'!O37,"x")+COUNTIF('6'!O37,"x")+COUNTIF('7'!O37,"x")+COUNTIF('8'!O37,"x")+COUNTIF('9'!O37,"x")+COUNTIF('10'!O37,"x")+COUNTIF('11'!O37,"x")+COUNTIF('12'!O37,"x")+COUNTIF('13'!O37,"x")+COUNTIF('14'!O37,"x")+COUNTIF('15'!O37,"x"),"0") -> 0 | Q37: =IF(COUNTIF('1'!Q37,"x")+COUNTIF('2'!Q37,"x")+COUNTIF('3'!Q37,"x")+COUNTIF('4'!Q37,"x")+COUNTIF('5'!Q37,"x")+COUNTIF('6'!Q37,"x")+COUNTIF('7'!Q37,"x")+COUNTIF('8'!Q37,"x")+COUNTIF('9'!Q37,"x")+COUNTIF('10'!Q37,"x")+COUNTIF('11'!Q37,"x")+COUNTIF('12'!Q37,"x")+COUNTIF('13'!Q37,"x")+COUNTIF('14'!Q37,"x")+COUNTIF('15'!Q37,"x")<>0,COUNTIF('1'!Q37,"x")+COUNTIF('2'!Q37,"x")+COUNTIF('3'!Q37,"x")+COUNTIF('4'!Q37,"x")+COUNTIF('5'!Q37,"x")+COUNTIF('6'!Q37,"x")+COUNTIF('7'!Q37,"x")+COUNTIF('8'!Q37,"x")+COUNTIF('9'!Q37,"x")+COUNTIF('10'!Q37,"x")+COUNTIF('11'!Q37,"x")+COUNTIF('12'!Q37,"x")+COUNTIF('13'!Q37,"x")+COUNTIF('14'!Q37,"x")+COUNTIF('15'!Q37,"x"),"0") -> 0 | S37: =IF(SUM(E37:Q37)<>0,SUM(E37*1,G37*2,J37*3,L37*4,O37*5,Q37*6)/SUM(E37:Q37),"") | V37: =IF(COUNTIF((E37:Q37),"x")>1,"Bitte nur ein Kreuz setzen!","")
B38: =IF(Vorlage!B38<>"",Vorlage!B38,"") -> Automatische 0-Stellung | E38: =IF(COUNTIF('1'!E38,"x")+COUNTIF('2'!E38,"x")+COUNTIF('3'!E38,"x")+COUNTIF('4'!E38,"x")+COUNTIF('5'!E38,"x")+COUNTIF('6'!E38,"x")+COUNTIF('7'!E38,"x")+COUNTIF('8'!E38,"x")+COUNTIF('9'!E38,"x")+COUNTIF('10'!E38,"x")+COUNTIF('11'!E38,"x")+COUNTIF('12'!E38,"x")+COUNTIF('13'!E38,"x")+COUNTIF('14'!E38,"x")+COUNTIF('15'!E38,"x")<>0,COUNTIF('1'!E38,"x")+COUNTIF('2'!E38,"x")+COUNTIF('3'!E38,"x")+COUNTIF('4'!E38,"x")+COUNTIF('5'!E38,"x")+COUNTIF('6'!E38,"x")+COUNTIF('7'!E38,"x")+COUNTIF('8'!E38,"x")+COUNTIF('9'!E38,"x")+COUNTIF('10'!E38,"x")+COUNTIF('11'!E38,"x")+COUNTIF('12'!E38,"x")+COUNTIF('13'!E38,"x")+COUNTIF('14'!E38,"x")+COUNTIF('15'!E38,"x"),"0") -> 0 | G38: =IF(COUNTIF('1'!G38,"x")+COUNTIF('2'!G38,"x")+COUNTIF('3'!G38,"x")+COUNTIF('4'!G38,"x")+COUNTIF('5'!G38,"x")+COUNTIF('6'!G38,"x")+COUNTIF('7'!G38,"x")+COUNTIF('8'!G38,"x")+COUNTIF('9'!G38,"x")+COUNTIF('10'!G38,"x")+COUNTIF('11'!G38,"x")+COUNTIF('12'!G38,"x")+COUNTIF('13'!G38,"x")+COUNTIF('14'!G38,"x")+COUNTIF('15'!G38,"x")<>0,COUNTIF('1'!G38,"x")+COUNTIF('2'!G38,"x")+COUNTIF('3'!G38,"x")+COUNTIF('4'!G38,"x")+COUNTIF('5'!G38,"x")+COUNTIF('6'!G38,"x")+COUNTIF('7'!G38,"x")+COUNTIF('8'!G38,"x")+COUNTIF('9'!G38,"x")+COUNTIF('10'!G38,"x")+COUNTIF('11'!G38,"x")+COUNTIF('12'!G38,"x")+COUNTIF('13'!G38,"x")+COUNTIF('14'!G38,"x")+COUNTIF('15'!G38,"x"),"0") -> 0 | J38: =IF(COUNTIF('1'!J38,"x")+COUNTIF('2'!J38,"x")+COUNTIF('3'!J38,"x")+COUNTIF('4'!J38,"x")+COUNTIF('5'!J38,"x")+COUNTIF('6'!J38,"x")+COUNTIF('7'!J38,"x")+COUNTIF('8'!J38,"x")+COUNTIF('9'!J38,"x")+COUNTIF('10'!J38,"x")+COUNTIF('11'!J38,"x")+COUNTIF('12'!J38,"x")+COUNTIF('13'!J38,"x")+COUNTIF('14'!J38,"x")+COUNTIF('15'!J38,"x")<>0,COUNTIF('1'!J38,"x")+COUNTIF('2'!J38,"x")+COUNTIF('3'!J38,"x")+COUNTIF('4'!J38,"x")+COUNTIF('5'!J38,"x")+COUNTIF('6'!J38,"x")+COUNTIF('7'!J38,"x")+COUNTIF('8'!J38,"x")+COUNTIF('9'!J38,"x")+COUNTIF('10'!J38,"x")+COUNTIF('11'!J38,"x")+COUNTIF('12'!J38,"x")+COUNTIF('13'!J38,"x")+COUNTIF('14'!J38,"x")+COUNTIF('15'!J38,"x"),"0") -> 0 | L38: =IF(COUNTIF('1'!L38,"x")+COUNTIF('2'!L38,"x")+COUNTIF('3'!L38,"x")+COUNTIF('4'!L38,"x")+COUNTIF('5'!L38,"x")+COUNTIF('6'!L38,"x")+COUNTIF('7'!L38,"x")+COUNTIF('8'!L38,"x")+COUNTIF('9'!L38,"x")+COUNTIF('10'!L38,"x")+COUNTIF('11'!L38,"x")+COUNTIF('12'!L38,"x")+COUNTIF('13'!L38,"x")+COUNTIF('14'!L38,"x")+COUNTIF('15'!L38,"x")<>0,COUNTIF('1'!L38,"x")+COUNTIF('2'!L38,"x")+COUNTIF('3'!L38,"x")+COUNTIF('4'!L38,"x")+COUNTIF('5'!L38,"x")+COUNTIF('6'!L38,"x")+COUNTIF('7'!L38,"x")+COUNTIF('8'!L38,"x")+COUNTIF('9'!L38,"x")+COUNTIF('10'!L38,"x")+COUNTIF('11'!L38,"x")+COUNTIF('12'!L38,"x")+COUNTIF('13'!L38,"x")+COUNTIF('14'!L38,"x")+COUNTIF('15'!L38,"x"),"0") -> 0 | O38: =IF(COUNTIF('1'!O38,"x")+COUNTIF('2'!O38,"x")+COUNTIF('3'!O38,"x")+COUNTIF('4'!O38,"x")+COUNTIF('5'!O38,"x")+COUNTIF('6'!O38,"x")+COUNTIF('7'!O38,"x")+COUNTIF('8'!O38,"x")+COUNTIF('9'!O38,"x")+COUNTIF('10'!O38,"x")+COUNTIF('11'!O38,"x")+COUNTIF('12'!O38,"x")+COUNTIF('13'!O38,"x")+COUNTIF('14'!O38,"x")+COUNTIF('15'!O38,"x")<>0,COUNTIF('1'!O38,"x")+COUNTIF('2'!O38,"x")+COUNTIF('3'!O38,"x")+COUNTIF('4'!O38,"x")+COUNTIF('5'!O38,"x")+COUNTIF('6'!O38,"x")+COUNTIF('7'!O38,"x")+COUNTIF('8'!O38,"x")+COUNTIF('9'!O38,"x")+COUNTIF('10'!O38,"x")+COUNTIF('11'!O38,"x")+COUNTIF('12'!O38,"x")+COUNTIF('13'!O38,"x")+COUNTIF('14'!O38,"x")+COUNTIF('15'!O38,"x"),"0") -> 0 | Q38: =IF(COUNTIF('1'!Q38,"x")+COUNTIF('2'!Q38,"x")+COUNTIF('3'!Q38,"x")+COUNTIF('4'!Q38,"x")+COUNTIF('5'!Q38,"x")+COUNTIF('6'!Q38,"x")+COUNTIF('7'!Q38,"x")+COUNTIF('8'!Q38,"x")+COUNTIF('9'!Q38,"x")+COUNTIF('10'!Q38,"x")+COUNTIF('11'!Q38,"x")+COUNTIF('12'!Q38,"x")+COUNTIF('13'!Q38,"x")+COUNTIF('14'!Q38,"x")+COUNTIF('15'!Q38,"x")<>0,COUNTIF('1'!Q38,"x")+COUNTIF('2'!Q38,"x")+COUNTIF('3'!Q38,"x")+COUNTIF('4'!Q38,"x")+COUNTIF('5'!Q38,"x")+COUNTIF('6'!Q38,"x")+COUNTIF('7'!Q38,"x")+COUNTIF('8'!Q38,"x")+COUNTIF('9'!Q38,"x")+COUNTIF('10'!Q38,"x")+COUNTIF('11'!Q38,"x")+COUNTIF('12'!Q38,"x")+COUNTIF('13'!Q38,"x")+COUNTIF('14'!Q38,"x")+COUNTIF('15'!Q38,"x"),"0") -> 0 | S38: =IF(SUM(E38:Q38)<>0,SUM(E38*1,G38*2,J38*3,L38*4,O38*5,Q38*6)/SUM(E38:Q38),"") | V38: =IF(COUNTIF((E38:Q38),"x")>1,"Bitte nur ein Kreuz setzen!","")
B39: =IF(Vorlage!B39<>"",Vorlage!B39,"") -> Sicherheitskonzept für unbeabsichtigte Verstellung | E39: =IF(COUNTIF('1'!E39,"x")+COUNTIF('2'!E39,"x")+COUNTIF('3'!E39,"x")+COUNTIF('4'!E39,"x")+COUNTIF('5'!E39,"x")+COUNTIF('6'!E39,"x")+COUNTIF('7'!E39,"x")+COUNTIF('8'!E39,"x")+COUNTIF('9'!E39,"x")+COUNTIF('10'!E39,"x")+COUNTIF('11'!E39,"x")+COUNTIF('12'!E39,"x")+COUNTIF('13'!E39,"x")+COUNTIF('14'!E39,"x")+COUNTIF('15'!E39,"x")<>0,COUNTIF('1'!E39,"x")+COUNTIF('2'!E39,"x")+COUNTIF('3'!E39,"x")+COUNTIF('4'!E39,"x")+COUNTIF('5'!E39,"x")+COUNTIF('6'!E39,"x")+COUNTIF('7'!E39,"x")+COUNTIF('8'!E39,"x")+COUNTIF('9'!E39,"x")+COUNTIF('10'!E39,"x")+COUNTIF('11'!E39,"x")+COUNTIF('12'!E39,"x")+COUNTIF('13'!E39,"x")+COUNTIF('14'!E39,"x")+COUNTIF('15'!E39,"x"),"0") -> 0 | G39: =IF(COUNTIF('1'!G39,"x")+COUNTIF('2'!G39,"x")+COUNTIF('3'!G39,"x")+COUNTIF('4'!G39,"x")+COUNTIF('5'!G39,"x")+COUNTIF('6'!G39,"x")+COUNTIF('7'!G39,"x")+COUNTIF('8'!G39,"x")+COUNTIF('9'!G39,"x")+COUNTIF('10'!G39,"x")+COUNTIF('11'!G39,"x")+COUNTIF('12'!G39,"x")+COUNTIF('13'!G39,"x")+COUNTIF('14'!G39,"x")+COUNTIF('15'!G39,"x")<>0,COUNTIF('1'!G39,"x")+COUNTIF('2'!G39,"x")+COUNTIF('3'!G39,"x")+COUNTIF('4'!G39,"x")+COUNTIF('5'!G39,"x")+COUNTIF('6'!G39,"x")+COUNTIF('7'!G39,"x")+COUNTIF('8'!G39,"x")+COUNTIF('9'!G39,"x")+COUNTIF('10'!G39,"x")+COUNTIF('11'!G39,"x")+COUNTIF('12'!G39,"x")+COUNTIF('13'!G39,"x")+COUNTIF('14'!G39,"x")+COUNTIF('15'!G39,"x"),"0") -> 0 | J39: =IF(COUNTIF('1'!J39,"x")+COUNTIF('2'!J39,"x")+COUNTIF('3'!J39,"x")+COUNTIF('4'!J39,"x")+COUNTIF('5'!J39,"x")+COUNTIF('6'!J39,"x")+COUNTIF('7'!J39,"x")+COUNTIF('8'!J39,"x")+COUNTIF('9'!J39,"x")+COUNTIF('10'!J39,"x")+COUNTIF('11'!J39,"x")+COUNTIF('12'!J39,"x")+COUNTIF('13'!J39,"x")+COUNTIF('14'!J39,"x")+COUNTIF('15'!J39,"x")<>0,COUNTIF('1'!J39,"x")+COUNTIF('2'!J39,"x")+COUNTIF('3'!J39,"x")+COUNTIF('4'!J39,"x")+COUNTIF('5'!J39,"x")+COUNTIF('6'!J39,"x")+COUNTIF('7'!J39,"x")+COUNTIF('8'!J39,"x")+COUNTIF('9'!J39,"x")+COUNTIF('10'!J39,"x")+COUNTIF('11'!J39,"x")+COUNTIF('12'!J39,"x")+COUNTIF('13'!J39,"x")+COUNTIF('14'!J39,"x")+COUNTIF('15'!J39,"x"),"0") -> 0 | L39: =IF(COUNTIF('1'!L39,"x")+COUNTIF('2'!L39,"x")+COUNTIF('3'!L39,"x")+COUNTIF('4'!L39,"x")+COUNTIF('5'!L39,"x")+COUNTIF('6'!L39,"x")+COUNTIF('7'!L39,"x")+COUNTIF('8'!L39,"x")+COUNTIF('9'!L39,"x")+COUNTIF('10'!L39,"x")+COUNTIF('11'!L39,"x")+COUNTIF('12'!L39,"x")+COUNTIF('13'!L39,"x")+COUNTIF('14'!L39,"x")+COUNTIF('15'!L39,"x")<>0,COUNTIF('1'!L39,"x")+COUNTIF('2'!L39,"x")+COUNTIF('3'!L39,"x")+COUNTIF('4'!L39,"x")+COUNTIF('5'!L39,"x")+COUNTIF('6'!L39,"x")+COUNTIF('7'!L39,"x")+COUNTIF('8'!L39,"x")+COUNTIF('9'!L39,"x")+COUNTIF('10'!L39,"x")+COUNTIF('11'!L39,"x")+COUNTIF('12'!L39,"x")+COUNTIF('13'!L39,"x")+COUNTIF('14'!L39,"x")+COUNTIF('15'!L39,"x"),"0") -> 0 | O39: =IF(COUNTIF('1'!O39,"x")+COUNTIF('2'!O39,"x")+COUNTIF('3'!O39,"x")+COUNTIF('4'!O39,"x")+COUNTIF('5'!O39,"x")+COUNTIF('6'!O39,"x")+COUNTIF('7'!O39,"x")+COUNTIF('8'!O39,"x")+COUNTIF('9'!O39,"x")+COUNTIF('10'!O39,"x")+COUNTIF('11'!O39,"x")+COUNTIF('12'!O39,"x")+COUNTIF('13'!O39,"x")+COUNTIF('14'!O39,"x")+COUNTIF('15'!O39,"x")<>0,COUNTIF('1'!O39,"x")+COUNTIF('2'!O39,"x")+COUNTIF('3'!O39,"x")+COUNTIF('4'!O39,"x")+COUNTIF('5'!O39,"x")+COUNTIF('6'!O39,"x")+COUNTIF('7'!O39,"x")+COUNTIF('8'!O39,"x")+COUNTIF('9'!O39,"x")+COUNTIF('10'!O39,"x")+COUNTIF('11'!O39,"x")+COUNTIF('12'!O39,"x")+COUNTIF('13'!O39,"x")+COUNTIF('14'!O39,"x")+COUNTIF('15'!O39,"x"),"0") -> 0 | Q39: =IF(COUNTIF('1'!Q39,"x")+COUNTIF('2'!Q39,"x")+COUNTIF('3'!Q39,"x")+COUNTIF('4'!Q39,"x")+COUNTIF('5'!Q39,"x")+COUNTIF('6'!Q39,"x")+COUNTIF('7'!Q39,"x")+COUNTIF('8'!Q39,"x")+COUNTIF('9'!Q39,"x")+COUNTIF('10'!Q39,"x")+COUNTIF('11'!Q39,"x")+COUNTIF('12'!Q39,"x")+COUNTIF('13'!Q39,"x")+COUNTIF('14'!Q39,"x")+COUNTIF('15'!Q39,"x")<>0,COUNTIF('1'!Q39,"x")+COUNTIF('2'!Q39,"x")+COUNTIF('3'!Q39,"x")+COUNTIF('4'!Q39,"x")+COUNTIF('5'!Q39,"x")+COUNTIF('6'!Q39,"x")+COUNTIF('7'!Q39,"x")+COUNTIF('8'!Q39,"x")+COUNTIF('9'!Q39,"x")+COUNTIF('10'!Q39,"x")+COUNTIF('11'!Q39,"x")+COUNTIF('12'!Q39,"x")+COUNTIF('13'!Q39,"x")+COUNTIF('14'!Q39,"x")+COUNTIF('15'!Q39,"x"),"0") -> 0 | S39: =IF(SUM(E39:Q39)<>0,SUM(E39*1,G39*2,J39*3,L39*4,O39*5,Q39*6)/SUM(E39:Q39),"") | V39: =IF(COUNTIF((E39:Q39),"x")>1,"Bitte nur ein Kreuz setzen!","")
B40: =IF(Vorlage!B40<>"",Vorlage!B40,"") -> Verstellgeschwindigkeit | E40: =IF(COUNTIF('1'!E40,"x")+COUNTIF('2'!E40,"x")+COUNTIF('3'!E40,"x")+COUNTIF('4'!E40,"x")+COUNTIF('5'!E40,"x")+COUNTIF('6'!E40,"x")+COUNTIF('7'!E40,"x")+COUNTIF('8'!E40,"x")+COUNTIF('9'!E40,"x")+COUNTIF('10'!E40,"x")+COUNTIF('11'!E40,"x")+COUNTIF('12'!E40,"x")+COUNTIF('13'!E40,"x")+COUNTIF('14'!E40,"x")+COUNTIF('15'!E40,"x")<>0,COUNTIF('1'!E40,"x")+COUNTIF('2'!E40,"x")+COUNTIF('3'!E40,"x")+COUNTIF('4'!E40,"x")+COUNTIF('5'!E40,"x")+COUNTIF('6'!E40,"x")+COUNTIF('7'!E40,"x")+COUNTIF('8'!E40,"x")+COUNTIF('9'!E40,"x")+COUNTIF('10'!E40,"x")+COUNTIF('11'!E40,"x")+COUNTIF('12'!E40,"x")+COUNTIF('13'!E40,"x")+COUNTIF('14'!E40,"x")+COUNTIF('15'!E40,"x"),"0") -> 0 | G40: =IF(COUNTIF('1'!G40,"x")+COUNTIF('2'!G40,"x")+COUNTIF('3'!G40,"x")+COUNTIF('4'!G40,"x")+COUNTIF('5'!G40,"x")+COUNTIF('6'!G40,"x")+COUNTIF('7'!G40,"x")+COUNTIF('8'!G40,"x")+COUNTIF('9'!G40,"x")+COUNTIF('10'!G40,"x")+COUNTIF('11'!G40,"x")+COUNTIF('12'!G40,"x")+COUNTIF('13'!G40,"x")+COUNTIF('14'!G40,"x")+COUNTIF('15'!G40,"x")<>0,COUNTIF('1'!G40,"x")+COUNTIF('2'!G40,"x")+COUNTIF('3'!G40,"x")+COUNTIF('4'!G40,"x")+COUNTIF('5'!G40,"x")+COUNTIF('6'!G40,"x")+COUNTIF('7'!G40,"x")+COUNTIF('8'!G40,"x")+COUNTIF('9'!G40,"x")+COUNTIF('10'!G40,"x")+COUNTIF('11'!G40,"x")+COUNTIF('12'!G40,"x")+COUNTIF('13'!G40,"x")+COUNTIF('14'!G40,"x")+COUNTIF('15'!G40,"x"),"0") -> 0 | J40: =IF(COUNTIF('1'!J40,"x")+COUNTIF('2'!J40,"x")+COUNTIF('3'!J40,"x")+COUNTIF('4'!J40,"x")+COUNTIF('5'!J40,"x")+COUNTIF('6'!J40,"x")+COUNTIF('7'!J40,"x")+COUNTIF('8'!J40,"x")+COUNTIF('9'!J40,"x")+COUNTIF('10'!J40,"x")+COUNTIF('11'!J40,"x")+COUNTIF('12'!J40,"x")+COUNTIF('13'!J40,"x")+COUNTIF('14'!J40,"x")+COUNTIF('15'!J40,"x")<>0,COUNTIF('1'!J40,"x")+COUNTIF('2'!J40,"x")+COUNTIF('3'!J40,"x")+COUNTIF('4'!J40,"x")+COUNTIF('5'!J40,"x")+COUNTIF('6'!J40,"x")+COUNTIF('7'!J40,"x")+COUNTIF('8'!J40,"x")+COUNTIF('9'!J40,"x")+COUNTIF('10'!J40,"x")+COUNTIF('11'!J40,"x")+COUNTIF('12'!J40,"x")+COUNTIF('13'!J40,"x")+COUNTIF('14'!J40,"x")+COUNTIF('15'!J40,"x"),"0") -> 0 | L40: =IF(COUNTIF('1'!L40,"x")+COUNTIF('2'!L40,"x")+COUNTIF('3'!L40,"x")+COUNTIF('4'!L40,"x")+COUNTIF('5'!L40,"x")+COUNTIF('6'!L40,"x")+COUNTIF('7'!L40,"x")+COUNTIF('8'!L40,"x")+COUNTIF('9'!L40,"x")+COUNTIF('10'!L40,"x")+COUNTIF('11'!L40,"x")+COUNTIF('12'!L40,"x")+COUNTIF('13'!L40,"x")+COUNTIF('14'!L40,"x")+COUNTIF('15'!L40,"x")<>0,COUNTIF('1'!L40,"x")+COUNTIF('2'!L40,"x")+COUNTIF('3'!L40,"x")+COUNTIF('4'!L40,"x")+COUNTIF('5'!L40,"x")+COUNTIF('6'!L40,"x")+COUNTIF('7'!L40,"x")+COUNTIF('8'!L40,"x")+COUNTIF('9'!L40,"x")+COUNTIF('10'!L40,"x")+COUNTIF('11'!L40,"x")+COUNTIF('12'!L40,"x")+COUNTIF('13'!L40,"x")+COUNTIF('14'!L40,"x")+COUNTIF('15'!L40,"x"),"0") -> 0 | O40: =IF(COUNTIF('1'!O40,"x")+COUNTIF('2'!O40,"x")+COUNTIF('3'!O40,"x")+COUNTIF('4'!O40,"x")+COUNTIF('5'!O40,"x")+COUNTIF('6'!O40,"x")+COUNTIF('7'!O40,"x")+COUNTIF('8'!O40,"x")+COUNTIF('9'!O40,"x")+COUNTIF('10'!O40,"x")+COUNTIF('11'!O40,"x")+COUNTIF('12'!O40,"x")+COUNTIF('13'!O40,"x")+COUNTIF('14'!O40,"x")+COUNTIF('15'!O40,"x")<>0,COUNTIF('1'!O40,"x")+COUNTIF('2'!O40,"x")+COUNTIF('3'!O40,"x")+COUNTIF('4'!O40,"x")+COUNTIF('5'!O40,"x")+COUNTIF('6'!O40,"x")+COUNTIF('7'!O40,"x")+COUNTIF('8'!O40,"x")+COUNTIF('9'!O40,"x")+COUNTIF('10'!O40,"x")+COUNTIF('11'!O40,"x")+COUNTIF('12'!O40,"x")+COUNTIF('13'!O40,"x")+COUNTIF('14'!O40,"x")+COUNTIF('15'!O40,"x"),"0") -> 0 | Q40: =IF(COUNTIF('1'!Q40,"x")+COUNTIF('2'!Q40,"x")+COUNTIF('3'!Q40,"x")+COUNTIF('4'!Q40,"x")+COUNTIF('5'!Q40,"x")+COUNTIF('6'!Q40,"x")+COUNTIF('7'!Q40,"x")+COUNTIF('8'!Q40,"x")+COUNTIF('9'!Q40,"x")+COUNTIF('10'!Q40,"x")+COUNTIF('11'!Q40,"x")+COUNTIF('12'!Q40,"x")+COUNTIF('13'!Q40,"x")+COUNTIF('14'!Q40,"x")+COUNTIF('15'!Q40,"x")<>0,COUNTIF('1'!Q40,"x")+COUNTIF('2'!Q40,"x")+COUNTIF('3'!Q40,"x")+COUNTIF('4'!Q40,"x")+COUNTIF('5'!Q40,"x")+COUNTIF('6'!Q40,"x")+COUNTIF('7'!Q40,"x")+COUNTIF('8'!Q40,"x")+COUNTIF('9'!Q40,"x")+COUNTIF('10'!Q40,"x")+COUNTIF('11'!Q40,"x")+COUNTIF('12'!Q40,"x")+COUNTIF('13'!Q40,"x")+COUNTIF('14'!Q40,"x")+COUNTIF('15'!Q40,"x"),"0") -> 0 | S40: =IF(SUM(E40:Q40)<>0,SUM(E40*1,G40*2,J40*3,L40*4,O40*5,Q40*6)/SUM(E40:Q40),"") | V40: =IF(COUNTIF((E40:Q40),"x")>1,"Bitte nur ein Kreuz setzen!","")
B41: =IF(Vorlage!B41<>"",Vorlage!B41,"") -> Sicherheitskonzept für unmögliche Teilkombinationen | E41: =IF(COUNTIF('1'!E41,"x")+COUNTIF('2'!E41,"x")+COUNTIF('3'!E41,"x")+COUNTIF('4'!E41,"x")+COUNTIF('5'!E41,"x")+COUNTIF('6'!E41,"x")+COUNTIF('7'!E41,"x")+COUNTIF('8'!E41,"x")+COUNTIF('9'!E41,"x")+COUNTIF('10'!E41,"x")+COUNTIF('11'!E41,"x")+COUNTIF('12'!E41,"x")+COUNTIF('13'!E41,"x")+COUNTIF('14'!E41,"x")+COUNTIF('15'!E41,"x")<>0,COUNTIF('1'!E41,"x")+COUNTIF('2'!E41,"x")+COUNTIF('3'!E41,"x")+COUNTIF('4'!E41,"x")+COUNTIF('5'!E41,"x")+COUNTIF('6'!E41,"x")+COUNTIF('7'!E41,"x")+COUNTIF('8'!E41,"x")+COUNTIF('9'!E41,"x")+COUNTIF('10'!E41,"x")+COUNTIF('11'!E41,"x")+COUNTIF('12'!E41,"x")+COUNTIF('13'!E41,"x")+COUNTIF('14'!E41,"x")+COUNTIF('15'!E41,"x"),"0") -> 0 | G41: =IF(COUNTIF('1'!G41,"x")+COUNTIF('2'!G41,"x")+COUNTIF('3'!G41,"x")+COUNTIF('4'!G41,"x")+COUNTIF('5'!G41,"x")+COUNTIF('6'!G41,"x")+COUNTIF('7'!G41,"x")+COUNTIF('8'!G41,"x")+COUNTIF('9'!G41,"x")+COUNTIF('10'!G41,"x")+COUNTIF('11'!G41,"x")+COUNTIF('12'!G41,"x")+COUNTIF('13'!G41,"x")+COUNTIF('14'!G41,"x")+COUNTIF('15'!G41,"x")<>0,COUNTIF('1'!G41,"x")+COUNTIF('2'!G41,"x")+COUNTIF('3'!G41,"x")+COUNTIF('4'!G41,"x")+COUNTIF('5'!G41,"x")+COUNTIF('6'!G41,"x")+COUNTIF('7'!G41,"x")+COUNTIF('8'!G41,"x")+COUNTIF('9'!G41,"x")+COUNTIF('10'!G41,"x")+COUNTIF('11'!G41,"x")+COUNTIF('12'!G41,"x")+COUNTIF('13'!G41,"x")+COUNTIF('14'!G41,"x")+COUNTIF('15'!G41,"x"),"0") -> 0 | J41: =IF(COUNTIF('1'!J41,"x")+COUNTIF('2'!J41,"x")+COUNTIF('3'!J41,"x")+COUNTIF('4'!J41,"x")+COUNTIF('5'!J41,"x")+COUNTIF('6'!J41,"x")+COUNTIF('7'!J41,"x")+COUNTIF('8'!J41,"x")+COUNTIF('9'!J41,"x")+COUNTIF('10'!J41,"x")+COUNTIF('11'!J41,"x")+COUNTIF('12'!J41,"x")+COUNTIF('13'!J41,"x")+COUNTIF('14'!J41,"x")+COUNTIF('15'!J41,"x")<>0,COUNTIF('1'!J41,"x")+COUNTIF('2'!J41,"x")+COUNTIF('3'!J41,"x")+COUNTIF('4'!J41,"x")+COUNTIF('5'!J41,"x")+COUNTIF('6'!J41,"x")+COUNTIF('7'!J41,"x")+COUNTIF('8'!J41,"x")+COUNTIF('9'!J41,"x")+COUNTIF('10'!J41,"x")+COUNTIF('11'!J41,"x")+COUNTIF('12'!J41,"x")+COUNTIF('13'!J41,"x")+COUNTIF('14'!J41,"x")+COUNTIF('15'!J41,"x"),"0") -> 0 | L41: =IF(COUNTIF('1'!L41,"x")+COUNTIF('2'!L41,"x")+COUNTIF('3'!L41,"x")+COUNTIF('4'!L41,"x")+COUNTIF('5'!L41,"x")+COUNTIF('6'!L41,"x")+COUNTIF('7'!L41,"x")+COUNTIF('8'!L41,"x")+COUNTIF('9'!L41,"x")+COUNTIF('10'!L41,"x")+COUNTIF('11'!L41,"x")+COUNTIF('12'!L41,"x")+COUNTIF('13'!L41,"x")+COUNTIF('14'!L41,"x")+COUNTIF('15'!L41,"x")<>0,COUNTIF('1'!L41,"x")+COUNTIF('2'!L41,"x")+COUNTIF('3'!L41,"x")+COUNTIF('4'!L41,"x")+COUNTIF('5'!L41,"x")+COUNTIF('6'!L41,"x")+COUNTIF('7'!L41,"x")+COUNTIF('8'!L41,"x")+COUNTIF('9'!L41,"x")+COUNTIF('10'!L41,"x")+COUNTIF('11'!L41,"x")+COUNTIF('12'!L41,"x")+COUNTIF('13'!L41,"x")+COUNTIF('14'!L41,"x")+COUNTIF('15'!L41,"x"),"0") -> 0 | O41: =IF(COUNTIF('1'!O41,"x")+COUNTIF('2'!O41,"x")+COUNTIF('3'!O41,"x")+COUNTIF('4'!O41,"x")+COUNTIF('5'!O41,"x")+COUNTIF('6'!O41,"x")+COUNTIF('7'!O41,"x")+COUNTIF('8'!O41,"x")+COUNTIF('9'!O41,"x")+COUNTIF('10'!O41,"x")+COUNTIF('11'!O41,"x")+COUNTIF('12'!O41,"x")+COUNTIF('13'!O41,"x")+COUNTIF('14'!O41,"x")+COUNTIF('15'!O41,"x")<>0,COUNTIF('1'!O41,"x")+COUNTIF('2'!O41,"x")+COUNTIF('3'!O41,"x")+COUNTIF('4'!O41,"x")+COUNTIF('5'!O41,"x")+COUNTIF('6'!O41,"x")+COUNTIF('7'!O41,"x")+COUNTIF('8'!O41,"x")+COUNTIF('9'!O41,"x")+COUNTIF('10'!O41,"x")+COUNTIF('11'!O41,"x")+COUNTIF('12'!O41,"x")+COUNTIF('13'!O41,"x")+COUNTIF('14'!O41,"x")+COUNTIF('15'!O41,"x"),"0") -> 0 | Q41: =IF(COUNTIF('1'!Q41,"x")+COUNTIF('2'!Q41,"x")+COUNTIF('3'!Q41,"x")+COUNTIF('4'!Q41,"x")+COUNTIF('5'!Q41,"x")+COUNTIF('6'!Q41,"x")+COUNTIF('7'!Q41,"x")+COUNTIF('8'!Q41,"x")+COUNTIF('9'!Q41,"x")+COUNTIF('10'!Q41,"x")+COUNTIF('11'!Q41,"x")+COUNTIF('12'!Q41,"x")+COUNTIF('13'!Q41,"x")+COUNTIF('14'!Q41,"x")+COUNTIF('15'!Q41,"x")<>0,COUNTIF('1'!Q41,"x")+COUNTIF('2'!Q41,"x")+COUNTIF('3'!Q41,"x")+COUNTIF('4'!Q41,"x")+COUNTIF('5'!Q41,"x")+COUNTIF('6'!Q41,"x")+COUNTIF('7'!Q41,"x")+COUNTIF('8'!Q41,"x")+COUNTIF('9'!Q41,"x")+COUNTIF('10'!Q41,"x")+COUNTIF('11'!Q41,"x")+COUNTIF('12'!Q41,"x")+COUNTIF('13'!Q41,"x")+COUNTIF('14'!Q41,"x")+COUNTIF('15'!Q41,"x"),"0") -> 0 | S41: =IF(SUM(E41:Q41)<>0,SUM(E41*1,G41*2,J41*3,L41*4,O41*5,Q41*6)/SUM(E41:Q41),"") | V41: =IF(COUNTIF((E41:Q41),"x")>1,"Bitte nur ein Kreuz setzen!","")
B42: =IF(Vorlage!B42<>"",Vorlage!B42,"") -> Gesamteindruck zur Röntgendurchlässigkeit | E42: =IF(COUNTIF('1'!E42,"x")+COUNTIF('2'!E42,"x")+COUNTIF('3'!E42,"x")+COUNTIF('4'!E42,"x")+COUNTIF('5'!E42,"x")+COUNTIF('6'!E42,"x")+COUNTIF('7'!E42,"x")+COUNTIF('8'!E42,"x")+COUNTIF('9'!E42,"x")+COUNTIF('10'!E42,"x")+COUNTIF('11'!E42,"x")+COUNTIF('12'!E42,"x")+COUNTIF('13'!E42,"x")+COUNTIF('14'!E42,"x")+COUNTIF('15'!E42,"x")<>0,COUNTIF('1'!E42,"x")+COUNTIF('2'!E42,"x")+COUNTIF('3'!E42,"x")+COUNTIF('4'!E42,"x")+COUNTIF('5'!E42,"x")+COUNTIF('6'!E42,"x")+COUNTIF('7'!E42,"x")+COUNTIF('8'!E42,"x")+COUNTIF('9'!E42,"x")+COUNTIF('10'!E42,"x")+COUNTIF('11'!E42,"x")+COUNTIF('12'!E42,"x")+COUNTIF('13'!E42,"x")+COUNTIF('14'!E42,"x")+COUNTIF('15'!E42,"x"),"0") -> 0 | G42: =IF(COUNTIF('1'!G42,"x")+COUNTIF('2'!G42,"x")+COUNTIF('3'!G42,"x")+COUNTIF('4'!G42,"x")+COUNTIF('5'!G42,"x")+COUNTIF('6'!G42,"x")+COUNTIF('7'!G42,"x")+COUNTIF('8'!G42,"x")+COUNTIF('9'!G42,"x")+COUNTIF('10'!G42,"x")+COUNTIF('11'!G42,"x")+COUNTIF('12'!G42,"x")+COUNTIF('13'!G42,"x")+COUNTIF('14'!G42,"x")+COUNTIF('15'!G42,"x")<>0,COUNTIF('1'!G42,"x")+COUNTIF('2'!G42,"x")+COUNTIF('3'!G42,"x")+COUNTIF('4'!G42,"x")+COUNTIF('5'!G42,"x")+COUNTIF('6'!G42,"x")+COUNTIF('7'!G42,"x")+COUNTIF('8'!G42,"x")+COUNTIF('9'!G42,"x")+COUNTIF('10'!G42,"x")+COUNTIF('11'!G42,"x")+COUNTIF('12'!G42,"x")+COUNTIF('13'!G42,"x")+COUNTIF('14'!G42,"x")+COUNTIF('15'!G42,"x"),"0") -> 0 | J42: =IF(COUNTIF('1'!J42,"x")+COUNTIF('2'!J42,"x")+COUNTIF('3'!J42,"x")+COUNTIF('4'!J42,"x")+COUNTIF('5'!J42,"x")+COUNTIF('6'!J42,"x")+COUNTIF('7'!J42,"x")+COUNTIF('8'!J42,"x")+COUNTIF('9'!J42,"x")+COUNTIF('10'!J42,"x")+COUNTIF('11'!J42,"x")+COUNTIF('12'!J42,"x")+COUNTIF('13'!J42,"x")+COUNTIF('14'!J42,"x")+COUNTIF('15'!J42,"x")<>0,COUNTIF('1'!J42,"x")+COUNTIF('2'!J42,"x")+COUNTIF('3'!J42,"x")+COUNTIF('4'!J42,"x")+COUNTIF('5'!J42,"x")+COUNTIF('6'!J42,"x")+COUNTIF('7'!J42,"x")+COUNTIF('8'!J42,"x")+COUNTIF('9'!J42,"x")+COUNTIF('10'!J42,"x")+COUNTIF('11'!J42,"x")+COUNTIF('12'!J42,"x")+COUNTIF('13'!J42,"x")+COUNTIF('14'!J42,"x")+COUNTIF('15'!J42,"x"),"0") -> 0 | L42: =IF(COUNTIF('1'!L42,"x")+COUNTIF('2'!L42,"x")+COUNTIF('3'!L42,"x")+COUNTIF('4'!L42,"x")+COUNTIF('5'!L42,"x")+COUNTIF('6'!L42,"x")+COUNTIF('7'!L42,"x")+COUNTIF('8'!L42,"x")+COUNTIF('9'!L42,"x")+COUNTIF('10'!L42,"x")+COUNTIF('11'!L42,"x")+COUNTIF('12'!L42,"x")+COUNTIF('13'!L42,"x")+COUNTIF('14'!L42,"x")+COUNTIF('15'!L42,"x")<>0,COUNTIF('1'!L42,"x")+COUNTIF('2'!L42,"x")+COUNTIF('3'!L42,"x")+COUNTIF('4'!L42,"x")+COUNTIF('5'!L42,"x")+COUNTIF('6'!L42,"x")+COUNTIF('7'!L42,"x")+COUNTIF('8'!L42,"x")+COUNTIF('9'!L42,"x")+COUNTIF('10'!L42,"x")+COUNTIF('11'!L42,"x")+COUNTIF('12'!L42,"x")+COUNTIF('13'!L42,"x")+COUNTIF('14'!L42,"x")+COUNTIF('15'!L42,"x"),"0") -> 0 | O42: =IF(COUNTIF('1'!O42,"x")+COUNTIF('2'!O42,"x")+COUNTIF('3'!O42,"x")+COUNTIF('4'!O42,"x")+COUNTIF('5'!O42,"x")+COUNTIF('6'!O42,"x")+COUNTIF('7'!O42,"x")+COUNTIF('8'!O42,"x")+COUNTIF('9'!O42,"x")+COUNTIF('10'!O42,"x")+COUNTIF('11'!O42,"x")+COUNTIF('12'!O42,"x")+COUNTIF('13'!O42,"x")+COUNTIF('14'!O42,"x")+COUNTIF('15'!O42,"x")<>0,COUNTIF('1'!O42,"x")+COUNTIF('2'!O42,"x")+COUNTIF('3'!O42,"x")+COUNTIF('4'!O42,"x")+COUNTIF('5'!O42,"x")+COUNTIF('6'!O42,"x")+COUNTIF('7'!O42,"x")+COUNTIF('8'!O42,"x")+COUNTIF('9'!O42,"x")+COUNTIF('10'!O42,"x")+COUNTIF('11'!O42,"x")+COUNTIF('12'!O42,"x")+COUNTIF('13'!O42,"x")+COUNTIF('14'!O42,"x")+COUNTIF('15'!O42,"x"),"0") -> 0 | Q42: =IF(COUNTIF('1'!Q42,"x")+COUNTIF('2'!Q42,"x")+COUNTIF('3'!Q42,"x")+COUNTIF('4'!Q42,"x")+COUNTIF('5'!Q42,"x")+COUNTIF('6'!Q42,"x")+COUNTIF('7'!Q42,"x")+COUNTIF('8'!Q42,"x")+COUNTIF('9'!Q42,"x")+COUNTIF('10'!Q42,"x")+COUNTIF('11'!Q42,"x")+COUNTIF('12'!Q42,"x")+COUNTIF('13'!Q42,"x")+COUNTIF('14'!Q42,"x")+COUNTIF('15'!Q42,"x")<>0,COUNTIF('1'!Q42,"x")+COUNTIF('2'!Q42,"x")+COUNTIF('3'!Q42,"x")+COUNTIF('4'!Q42,"x")+COUNTIF('5'!Q42,"x")+COUNTIF('6'!Q42,"x")+COUNTIF('7'!Q42,"x")+COUNTIF('8'!Q42,"x")+COUNTIF('9'!Q42,"x")+COUNTIF('10'!Q42,"x")+COUNTIF('11'!Q42,"x")+COUNTIF('12'!Q42,"x")+COUNTIF('13'!Q42,"x")+COUNTIF('14'!Q42,"x")+COUNTIF('15'!Q42,"x"),"0") -> 0 | S42: =IF(SUM(E42:Q42)<>0,SUM(E42*1,G42*2,J42*3,L42*4,O42*5,Q42*6)/SUM(E42:Q42),"") | V42: =IF(COUNTIF((E42:Q42),"x")>1,"Bitte nur ein Kreuz setzen!","")
S43: =IF(SUM(S33:S42)<>0,SUM(S33:S42)/COUNT(S33:S42),"") | T43: erreichte Punkte | U43: =IF(S43<>"",-((U32/5)*S43)+(U32+(U32/5)),"0") -> 0
A44: =+Vorlage!A44 -> Polster der OP-Tische | T44: Punkte | U44: 3
B45: =IF(Vorlage!B45<>"",Vorlage!B45,"") -> Oberfläche und Verarbeitung | E45: =IF(COUNTIF('1'!E45,"x")+COUNTIF('2'!E45,"x")+COUNTIF('3'!E45,"x")+COUNTIF('4'!E45,"x")+COUNTIF('5'!E45,"x")+COUNTIF('6'!E45,"x")+COUNTIF('7'!E45,"x")+COUNTIF('8'!E45,"x")+COUNTIF('9'!E45,"x")+COUNTIF('10'!E45,"x")+COUNTIF('11'!E45,"x")+COUNTIF('12'!E45,"x")+COUNTIF('13'!E45,"x")+COUNTIF('14'!E45,"x")+COUNTIF('15'!E45,"x")<>0,COUNTIF('1'!E45,"x")+COUNTIF('2'!E45,"x")+COUNTIF('3'!E45,"x")+COUNTIF('4'!E45,"x")+COUNTIF('5'!E45,"x")+COUNTIF('6'!E45,"x")+COUNTIF('7'!E45,"x")+COUNTIF('8'!E45,"x")+COUNTIF('9'!E45,"x")+COUNTIF('10'!E45,"x")+COUNTIF('11'!E45,"x")+COUNTIF('12'!E45,"x")+COUNTIF('13'!E45,"x")+COUNTIF('14'!E45,"x")+COUNTIF('15'!E45,"x"),"0") -> 0 | G45: =IF(COUNTIF('1'!G45,"x")+COUNTIF('2'!G45,"x")+COUNTIF('3'!G45,"x")+COUNTIF('4'!G45,"x")+COUNTIF('5'!G45,"x")+COUNTIF('6'!G45,"x")+COUNTIF('7'!G45,"x")+COUNTIF('8'!G45,"x")+COUNTIF('9'!G45,"x")+COUNTIF('10'!G45,"x")+COUNTIF('11'!G45,"x")+COUNTIF('12'!G45,"x")+COUNTIF('13'!G45,"x")+COUNTIF('14'!G45,"x")+COUNTIF('15'!G45,"x")<>0,COUNTIF('1'!G45,"x")+COUNTIF('2'!G45,"x")+COUNTIF('3'!G45,"x")+COUNTIF('4'!G45,"x")+COUNTIF('5'!G45,"x")+COUNTIF('6'!G45,"x")+COUNTIF('7'!G45,"x")+COUNTIF('8'!G45,"x")+COUNTIF('9'!G45,"x")+COUNTIF('10'!G45,"x")+COUNTIF('11'!G45,"x")+COUNTIF('12'!G45,"x")+COUNTIF('13'!G45,"x")+COUNTIF('14'!G45,"x")+COUNTIF('15'!G45,"x"),"0") -> 0 | J45: =IF(COUNTIF('1'!J45,"x")+COUNTIF('2'!J45,"x")+COUNTIF('3'!J45,"x")+COUNTIF('4'!J45,"x")+COUNTIF('5'!J45,"x")+COUNTIF('6'!J45,"x")+COUNTIF('7'!J45,"x")+COUNTIF('8'!J45,"x")+COUNTIF('9'!J45,"x")+COUNTIF('10'!J45,"x")+COUNTIF('11'!J45,"x")+COUNTIF('12'!J45,"x")+COUNTIF('13'!J45,"x")+COUNTIF('14'!J45,"x")+COUNTIF('15'!J45,"x")<>0,COUNTIF('1'!J45,"x")+COUNTIF('2'!J45,"x")+COUNTIF('3'!J45,"x")+COUNTIF('4'!J45,"x")+COUNTIF('5'!J45,"x")+COUNTIF('6'!J45,"x")+COUNTIF('7'!J45,"x")+COUNTIF('8'!J45,"x")+COUNTIF('9'!J45,"x")+COUNTIF('10'!J45,"x")+COUNTIF('11'!J45,"x")+COUNTIF('12'!J45,"x")+COUNTIF('13'!J45,"x")+COUNTIF('14'!J45,"x")+COUNTIF('15'!J45,"x"),"0") -> 0 | L45: =IF(COUNTIF('1'!L45,"x")+COUNTIF('2'!L45,"x")+COUNTIF('3'!L45,"x")+COUNTIF('4'!L45,"x")+COUNTIF('5'!L45,"x")+COUNTIF('6'!L45,"x")+COUNTIF('7'!L45,"x")+COUNTIF('8'!L45,"x")+COUNTIF('9'!L45,"x")+COUNTIF('10'!L45,"x")+COUNTIF('11'!L45,"x")+COUNTIF('12'!L45,"x")+COUNTIF('13'!L45,"x")+COUNTIF('14'!L45,"x")+COUNTIF('15'!L45,"x")<>0,COUNTIF('1'!L45,"x")+COUNTIF('2'!L45,"x")+COUNTIF('3'!L45,"x")+COUNTIF('4'!L45,"x")+COUNTIF('5'!L45,"x")+COUNTIF('6'!L45,"x")+COUNTIF('7'!L45,"x")+COUNTIF('8'!L45,"x")+COUNTIF('9'!L45,"x")+COUNTIF('10'!L45,"x")+COUNTIF('11'!L45,"x")+COUNTIF('12'!L45,"x")+COUNTIF('13'!L45,"x")+COUNTIF('14'!L45,"x")+COUNTIF('15'!L45,"x"),"0") -> 0 | O45: =IF(COUNTIF('1'!O45,"x")+COUNTIF('2'!O45,"x")+COUNTIF('3'!O45,"x")+COUNTIF('4'!O45,"x")+COUNTIF('5'!O45,"x")+COUNTIF('6'!O45,"x")+COUNTIF('7'!O45,"x")+COUNTIF('8'!O45,"x")+COUNTIF('9'!O45,"x")+COUNTIF('10'!O45,"x")+COUNTIF('11'!O45,"x")+COUNTIF('12'!O45,"x")+COUNTIF('13'!O45,"x")+COUNTIF('14'!O45,"x")+COUNTIF('15'!O45,"x")<>0,COUNTIF('1'!O45,"x")+COUNTIF('2'!O45,"x")+COUNTIF('3'!O45,"x")+COUNTIF('4'!O45,"x")+COUNTIF('5'!O45,"x")+COUNTIF('6'!O45,"x")+COUNTIF('7'!O45,"x")+COUNTIF('8'!O45,"x")+COUNTIF('9'!O45,"x")+COUNTIF('10'!O45,"x")+COUNTIF('11'!O45,"x")+COUNTIF('12'!O45,"x")+COUNTIF('13'!O45,"x")+COUNTIF('14'!O45,"x")+COUNTIF('15'!O45,"x"),"0") -> 0 | Q45: =IF(COUNTIF('1'!Q45,"x")+COUNTIF('2'!Q45,"x")+COUNTIF('3'!Q45,"x")+COUNTIF('4'!Q45,"x")+COUNTIF('5'!Q45,"x")+COUNTIF('6'!Q45,"x")+COUNTIF('7'!Q45,"x")+COUNTIF('8'!Q45,"x")+COUNTIF('9'!Q45,"x")+COUNTIF('10'!Q45,"x")+COUNTIF('11'!Q45,"x")+COUNTIF('12'!Q45,"x")+COUNTIF('13'!Q45,"x")+COUNTIF('14'!Q45,"x")+COUNTIF('15'!Q45,"x")<>0,COUNTIF('1'!Q45,"x")+COUNTIF('2'!Q45,"x")+COUNTIF('3'!Q45,"x")+COUNTIF('4'!Q45,"x")+COUNTIF('5'!Q45,"x")+COUNTIF('6'!Q45,"x")+COUNTIF('7'!Q45,"x")+COUNTIF('8'!Q45,"x")+COUNTIF('9'!Q45,"x")+COUNTIF('10'!Q45,"x")+COUNTIF('11'!Q45,"x")+COUNTIF('12'!Q45,"x")+COUNTIF('13'!Q45,"x")+COUNTIF('14'!Q45,"x")+COUNTIF('15'!Q45,"x"),"0") -> 0 | S45: =IF(SUM(E45:Q45)<>0,SUM(E45*1,G45*2,J45*3,L45*4,O45*5,Q45*6)/SUM(E45:Q45),"") | V45: =IF(COUNTIF((E45:Q45),"x")>1,"Bitte nur ein Kreuz setzen!","")
B46: =IF(Vorlage!B46<>"",Vorlage!B46,"") -> Antidekubitus-Prophylaxe | E46: =IF(COUNTIF('1'!E46,"x")+COUNTIF('2'!E46,"x")+COUNTIF('3'!E46,"x")+COUNTIF('4'!E46,"x")+COUNTIF('5'!E46,"x")+COUNTIF('6'!E46,"x")+COUNTIF('7'!E46,"x")+COUNTIF('8'!E46,"x")+COUNTIF('9'!E46,"x")+COUNTIF('10'!E46,"x")+COUNTIF('11'!E46,"x")+COUNTIF('12'!E46,"x")+COUNTIF('13'!E46,"x")+COUNTIF('14'!E46,"x")+COUNTIF('15'!E46,"x")<>0,COUNTIF('1'!E46,"x")+COUNTIF('2'!E46,"x")+COUNTIF('3'!E46,"x")+COUNTIF('4'!E46,"x")+COUNTIF('5'!E46,"x")+COUNTIF('6'!E46,"x")+COUNTIF('7'!E46,"x")+COUNTIF('8'!E46,"x")+COUNTIF('9'!E46,"x")+COUNTIF('10'!E46,"x")+COUNTIF('11'!E46,"x")+COUNTIF('12'!E46,"x")+COUNTIF('13'!E46,"x")+COUNTIF('14'!E46,"x")+COUNTIF('15'!E46,"x"),"0") -> 0 | G46: =IF(COUNTIF('1'!G46,"x")+COUNTIF('2'!G46,"x")+COUNTIF('3'!G46,"x")+COUNTIF('4'!G46,"x")+COUNTIF('5'!G46,"x")+COUNTIF('6'!G46,"x")+COUNTIF('7'!G46,"x")+COUNTIF('8'!G46,"x")+COUNTIF('9'!G46,"x")+COUNTIF('10'!G46,"x")+COUNTIF('11'!G46,"x")+COUNTIF('12'!G46,"x")+COUNTIF('13'!G46,"x")+COUNTIF('14'!G46,"x")+COUNTIF('15'!G46,"x")<>0,COUNTIF('1'!G46,"x")+COUNTIF('2'!G46,"x")+COUNTIF('3'!G46,"x")+COUNTIF('4'!G46,"x")+COUNTIF('5'!G46,"x")+COUNTIF('6'!G46,"x")+COUNTIF('7'!G46,"x")+COUNTIF('8'!G46,"x")+COUNTIF('9'!G46,"x")+COUNTIF('10'!G46,"x")+COUNTIF('11'!G46,"x")+COUNTIF('12'!G46,"x")+COUNTIF('13'!G46,"x")+COUNTIF('14'!G46,"x")+COUNTIF('15'!G46,"x"),"0") -> 0 | J46: =IF(COUNTIF('1'!J46,"x")+COUNTIF('2'!J46,"x")+COUNTIF('3'!J46,"x")+COUNTIF('4'!J46,"x")+COUNTIF('5'!J46,"x")+COUNTIF('6'!J46,"x")+COUNTIF('7'!J46,"x")+COUNTIF('8'!J46,"x")+COUNTIF('9'!J46,"x")+COUNTIF('10'!J46,"x")+COUNTIF('11'!J46,"x")+COUNTIF('12'!J46,"x")+COUNTIF('13'!J46,"x")+COUNTIF('14'!J46,"x")+COUNTIF('15'!J46,"x")<>0,COUNTIF('1'!J46,"x")+COUNTIF('2'!J46,"x")+COUNTIF('3'!J46,"x")+COUNTIF('4'!J46,"x")+COUNTIF('5'!J46,"x")+COUNTIF('6'!J46,"x")+COUNTIF('7'!J46,"x")+COUNTIF('8'!J46,"x")+COUNTIF('9'!J46,"x")+COUNTIF('10'!J46,"x")+COUNTIF('11'!J46,"x")+COUNTIF('12'!J46,"x")+COUNTIF('13'!J46,"x")+COUNTIF('14'!J46,"x")+COUNTIF('15'!J46,"x"),"0") -> 0 | L46: =IF(COUNTIF('1'!L46,"x")+COUNTIF('2'!L46,"x")+COUNTIF('3'!L46,"x")+COUNTIF('4'!L46,"x")+COUNTIF('5'!L46,"x")+COUNTIF('6'!L46,"x")+COUNTIF('7'!L46,"x")+COUNTIF('8'!L46,"x")+COUNTIF('9'!L46,"x")+COUNTIF('10'!L46,"x")+COUNTIF('11'!L46,"x")+COUNTIF('12'!L46,"x")+COUNTIF('13'!L46,"x")+COUNTIF('14'!L46,"x")+COUNTIF('15'!L46,"x")<>0,COUNTIF('1'!L46,"x")+COUNTIF('2'!L46,"x")+COUNTIF('3'!L46,"x")+COUNTIF('4'!L46,"x")+COUNTIF('5'!L46,"x")+COUNTIF('6'!L46,"x")+COUNTIF('7'!L46,"x")+COUNTIF('8'!L46,"x")+COUNTIF('9'!L46,"x")+COUNTIF('10'!L46,"x")+COUNTIF('11'!L46,"x")+COUNTIF('12'!L46,"x")+COUNTIF('13'!L46,"x")+COUNTIF('14'!L46,"x")+COUNTIF('15'!L46,"x"),"0") -> 0 | O46: =IF(COUNTIF('1'!O46,"x")+COUNTIF('2'!O46,"x")+COUNTIF('3'!O46,"x")+COUNTIF('4'!O46,"x")+COUNTIF('5'!O46,"x")+COUNTIF('6'!O46,"x")+COUNTIF('7'!O46,"x")+COUNTIF('8'!O46,"x")+COUNTIF('9'!O46,"x")+COUNTIF('10'!O46,"x")+COUNTIF('11'!O46,"x")+COUNTIF('12'!O46,"x")+COUNTIF('13'!O46,"x")+COUNTIF('14'!O46,"x")+COUNTIF('15'!O46,"x")<>0,COUNTIF('1'!O46,"x")+COUNTIF('2'!O46,"x")+COUNTIF('3'!O46,"x")+COUNTIF('4'!O46,"x")+COUNTIF('5'!O46,"x")+COUNTIF('6'!O46,"x")+COUNTIF('7'!O46,"x")+COUNTIF('8'!O46,"x")+COUNTIF('9'!O46,"x")+COUNTIF('10'!O46,"x")+COUNTIF('11'!O46,"x")+COUNTIF('12'!O46,"x")+COUNTIF('13'!O46,"x")+COUNTIF('14'!O46,"x")+COUNTIF('15'!O46,"x"),"0") -> 0 | Q46: =IF(COUNTIF('1'!Q46,"x")+COUNTIF('2'!Q46,"x")+COUNTIF('3'!Q46,"x")+COUNTIF('4'!Q46,"x")+COUNTIF('5'!Q46,"x")+COUNTIF('6'!Q46,"x")+COUNTIF('7'!Q46,"x")+COUNTIF('8'!Q46,"x")+COUNTIF('9'!Q46,"x")+COUNTIF('10'!Q46,"x")+COUNTIF('11'!Q46,"x")+COUNTIF('12'!Q46,"x")+COUNTIF('13'!Q46,"x")+COUNTIF('14'!Q46,"x")+COUNTIF('15'!Q46,"x")<>0,COUNTIF('1'!Q46,"x")+COUNTIF('2'!Q46,"x")+COUNTIF('3'!Q46,"x")+COUNTIF('4'!Q46,"x")+COUNTIF('5'!Q46,"x")+COUNTIF('6'!Q46,"x")+COUNTIF('7'!Q46,"x")+COUNTIF('8'!Q46,"x")+COUNTIF('9'!Q46,"x")+COUNTIF('10'!Q46,"x")+COUNTIF('11'!Q46,"x")+COUNTIF('12'!Q46,"x")+COUNTIF('13'!Q46,"x")+COUNTIF('14'!Q46,"x")+COUNTIF('15'!Q46,"x"),"0") -> 0 | S46: =IF(SUM(E46:Q46)<>0,SUM(E46*1,G46*2,J46*3,L46*4,O46*5,Q46*6)/SUM(E46:Q46),"") | V46: =IF(COUNTIF((E46:Q46),"x")>1,"Bitte nur ein Kreuz setzen!","")
B47: =IF(Vorlage!B47<>"",Vorlage!B47,"") -> Wärmeleitfähigkeit | E47: =IF(COUNTIF('1'!E47,"x")+COUNTIF('2'!E47,"x")+COUNTIF('3'!E47,"x")+COUNTIF('4'!E47,"x")+COUNTIF('5'!E47,"x")+COUNTIF('6'!E47,"x")+COUNTIF('7'!E47,"x")+COUNTIF('8'!E47,"x")+COUNTIF('9'!E47,"x")+COUNTIF('10'!E47,"x")+COUNTIF('11'!E47,"x")+COUNTIF('12'!E47,"x")+COUNTIF('13'!E47,"x")+COUNTIF('14'!E47,"x")+COUNTIF('15'!E47,"x")<>0,COUNTIF('1'!E47,"x")+COUNTIF('2'!E47,"x")+COUNTIF('3'!E47,"x")+COUNTIF('4'!E47,"x")+COUNTIF('5'!E47,"x")+COUNTIF('6'!E47,"x")+COUNTIF('7'!E47,"x")+COUNTIF('8'!E47,"x")+COUNTIF('9'!E47,"x")+COUNTIF('10'!E47,"x")+COUNTIF('11'!E47,"x")+COUNTIF('12'!E47,"x")+COUNTIF('13'!E47,"x")+COUNTIF('14'!E47,"x")+COUNTIF('15'!E47,"x"),"0") -> 0 | G47: =IF(COUNTIF('1'!G47,"x")+COUNTIF('2'!G47,"x")+COUNTIF('3'!G47,"x")+COUNTIF('4'!G47,"x")+COUNTIF('5'!G47,"x")+COUNTIF('6'!G47,"x")+COUNTIF('7'!G47,"x")+COUNTIF('8'!G47,"x")+COUNTIF('9'!G47,"x")+COUNTIF('10'!G47,"x")+COUNTIF('11'!G47,"x")+COUNTIF('12'!G47,"x")+COUNTIF('13'!G47,"x")+COUNTIF('14'!G47,"x")+COUNTIF('15'!G47,"x")<>0,COUNTIF('1'!G47,"x")+COUNTIF('2'!G47,"x")+COUNTIF('3'!G47,"x")+COUNTIF('4'!G47,"x")+COUNTIF('5'!G47,"x")+COUNTIF('6'!G47,"x")+COUNTIF('7'!G47,"x")+COUNTIF('8'!G47,"x")+COUNTIF('9'!G47,"x")+COUNTIF('10'!G47,"x")+COUNTIF('11'!G47,"x")+COUNTIF('12'!G47,"x")+COUNTIF('13'!G47,"x")+COUNTIF('14'!G47,"x")+COUNTIF('15'!G47,"x"),"0") -> 0 | J47: =IF(COUNTIF('1'!J47,"x")+COUNTIF('2'!J47,"x")+COUNTIF('3'!J47,"x")+COUNTIF('4'!J47,"x")+COUNTIF('5'!J47,"x")+COUNTIF('6'!J47,"x")+COUNTIF('7'!J47,"x")+COUNTIF('8'!J47,"x")+COUNTIF('9'!J47,"x")+COUNTIF('10'!J47,"x")+COUNTIF('11'!J47,"x")+COUNTIF('12'!J47,"x")+COUNTIF('13'!J47,"x")+COUNTIF('14'!J47,"x")+COUNTIF('15'!J47,"x")<>0,COUNTIF('1'!J47,"x")+COUNTIF('2'!J47,"x")+COUNTIF('3'!J47,"x")+COUNTIF('4'!J47,"x")+COUNTIF('5'!J47,"x")+COUNTIF('6'!J47,"x")+COUNTIF('7'!J47,"x")+COUNTIF('8'!J47,"x")+COUNTIF('9'!J47,"x")+COUNTIF('10'!J47,"x")+COUNTIF('11'!J47,"x")+COUNTIF('12'!J47,"x")+COUNTIF('13'!J47,"x")+COUNTIF('14'!J47,"x")+COUNTIF('15'!J47,"x"),"0") -> 0 | L47: =IF(COUNTIF('1'!L47,"x")+COUNTIF('2'!L47,"x")+COUNTIF('3'!L47,"x")+COUNTIF('4'!L47,"x")+COUNTIF('5'!L47,"x")+COUNTIF('6'!L47,"x")+COUNTIF('7'!L47,"x")+COUNTIF('8'!L47,"x")+COUNTIF('9'!L47,"x")+COUNTIF('10'!L47,"x")+COUNTIF('11'!L47,"x")+COUNTIF('12'!L47,"x")+COUNTIF('13'!L47,"x")+COUNTIF('14'!L47,"x")+COUNTIF('15'!L47,"x")<>0,COUNTIF('1'!L47,"x")+COUNTIF('2'!L47,"x")+COUNTIF('3'!L47,"x")+COUNTIF('4'!L47,"x")+COUNTIF('5'!L47,"x")+COUNTIF('6'!L47,"x")+COUNTIF('7'!L47,"x")+COUNTIF('8'!L47,"x")+COUNTIF('9'!L47,"x")+COUNTIF('10'!L47,"x")+COUNTIF('11'!L47,"x")+COUNTIF('12'!L47,"x")+COUNTIF('13'!L47,"x")+COUNTIF('14'!L47,"x")+COUNTIF('15'!L47,"x"),"0") -> 0 | O47: =IF(COUNTIF('1'!O47,"x")+COUNTIF('2'!O47,"x")+COUNTIF('3'!O47,"x")+COUNTIF('4'!O47,"x")+COUNTIF('5'!O47,"x")+COUNTIF('6'!O47,"x")+COUNTIF('7'!O47,"x")+COUNTIF('8'!O47,"x")+COUNTIF('9'!O47,"x")+COUNTIF('10'!O47,"x")+COUNTIF('11'!O47,"x")+COUNTIF('12'!O47,"x")+COUNTIF('13'!O47,"x")+COUNTIF('14'!O47,"x")+COUNTIF('15'!O47,"x")<>0,COUNTIF('1'!O47,"x")+COUNTIF('2'!O47,"x")+COUNTIF('3'!O47,"x")+COUNTIF('4'!O47,"x")+COUNTIF('5'!O47,"x")+COUNTIF('6'!O47,"x")+COUNTIF('7'!O47,"x")+COUNTIF('8'!O47,"x")+COUNTIF('9'!O47,"x")+COUNTIF('10'!O47,"x")+COUNTIF('11'!O47,"x")+COUNTIF('12'!O47,"x")+COUNTIF('13'!O47,"x")+COUNTIF('14'!O47,"x")+COUNTIF('15'!O47,"x"),"0") -> 0 | Q47: =IF(COUNTIF('1'!Q47,"x")+COUNTIF('2'!Q47,"x")+COUNTIF('3'!Q47,"x")+COUNTIF('4'!Q47,"x")+COUNTIF('5'!Q47,"x")+COUNTIF('6'!Q47,"x")+COUNTIF('7'!Q47,"x")+COUNTIF('8'!Q47,"x")+COUNTIF('9'!Q47,"x")+COUNTIF('10'!Q47,"x")+COUNTIF('11'!Q47,"x")+COUNTIF('12'!Q47,"x")+COUNTIF('13'!Q47,"x")+COUNTIF('14'!Q47,"x")+COUNTIF('15'!Q47,"x")<>0,COUNTIF('1'!Q47,"x")+COUNTIF('2'!Q47,"x")+COUNTIF('3'!Q47,"x")+COUNTIF('4'!Q47,"x")+COUNTIF('5'!Q47,"x")+COUNTIF('6'!Q47,"x")+COUNTIF('7'!Q47,"x")+COUNTIF('8'!Q47,"x")+COUNTIF('9'!Q47,"x")+COUNTIF('10'!Q47,"x")+COUNTIF('11'!Q47,"x")+COUNTIF('12'!Q47,"x")+COUNTIF('13'!Q47,"x")+COUNTIF('14'!Q47,"x")+COUNTIF('15'!Q47,"x"),"0") -> 0 | S47: =IF(SUM(E47:Q47)<>0,SUM(E47*1,G47*2,J47*3,L47*4,O47*5,Q47*6)/SUM(E47:Q47),"") | V47: =IF(COUNTIF((E47:Q47),"x")>1,"Bitte nur ein Kreuz setzen!","")
B48: =IF(Vorlage!B48<>"",Vorlage!B48,"") -> Lagerungskomfort | E48: =IF(COUNTIF('1'!E48,"x")+COUNTIF('2'!E48,"x")+COUNTIF('3'!E48,"x")+COUNTIF('4'!E48,"x")+COUNTIF('5'!E48,"x")+COUNTIF('6'!E48,"x")+COUNTIF('7'!E48,"x")+COUNTIF('8'!E48,"x")+COUNTIF('9'!E48,"x")+COUNTIF('10'!E48,"x")+COUNTIF('11'!E48,"x")+COUNTIF('12'!E48,"x")+COUNTIF('13'!E48,"x")+COUNTIF('14'!E48,"x")+COUNTIF('15'!E48,"x")<>0,COUNTIF('1'!E48,"x")+COUNTIF('2'!E48,"x")+COUNTIF('3'!E48,"x")+COUNTIF('4'!E48,"x")+COUNTIF('5'!E48,"x")+COUNTIF('6'!E48,"x")+COUNTIF('7'!E48,"x")+COUNTIF('8'!E48,"x")+COUNTIF('9'!E48,"x")+COUNTIF('10'!E48,"x")+COUNTIF('11'!E48,"x")+COUNTIF('12'!E48,"x")+COUNTIF('13'!E48,"x")+COUNTIF('14'!E48,"x")+COUNTIF('15'!E48,"x"),"0") -> 0 | G48: =IF(COUNTIF('1'!G48,"x")+COUNTIF('2'!G48,"x")+COUNTIF('3'!G48,"x")+COUNTIF('4'!G48,"x")+COUNTIF('5'!G48,"x")+COUNTIF('6'!G48,"x")+COUNTIF('7'!G48,"x")+COUNTIF('8'!G48,"x")+COUNTIF('9'!G48,"x")+COUNTIF('10'!G48,"x")+COUNTIF('11'!G48,"x")+COUNTIF('12'!G48,"x")+COUNTIF('13'!G48,"x")+COUNTIF('14'!G48,"x")+COUNTIF('15'!G48,"x")<>0,COUNTIF('1'!G48,"x")+COUNTIF('2'!G48,"x")+COUNTIF('3'!G48,"x")+COUNTIF('4'!G48,"x")+COUNTIF('5'!G48,"x")+COUNTIF('6'!G48,"x")+COUNTIF('7'!G48,"x")+COUNTIF('8'!G48,"x")+COUNTIF('9'!G48,"x")+COUNTIF('10'!G48,"x")+COUNTIF('11'!G48,"x")+COUNTIF('12'!G48,"x")+COUNTIF('13'!G48,"x")+COUNTIF('14'!G48,"x")+COUNTIF('15'!G48,"x"),"0") -> 0 | J48: =IF(COUNTIF('1'!J48,"x")+COUNTIF('2'!J48,"x")+COUNTIF('3'!J48,"x")+COUNTIF('4'!J48,"x")+COUNTIF('5'!J48,"x")+COUNTIF('6'!J48,"x")+COUNTIF('7'!J48,"x")+COUNTIF('8'!J48,"x")+COUNTIF('9'!J48,"x")+COUNTIF('10'!J48,"x")+COUNTIF('11'!J48,"x")+COUNTIF('12'!J48,"x")+COUNTIF('13'!J48,"x")+COUNTIF('14'!J48,"x")+COUNTIF('15'!J48,"x")<>0,COUNTIF('1'!J48,"x")+COUNTIF('2'!J48,"x")+COUNTIF('3'!J48,"x")+COUNTIF('4'!J48,"x")+COUNTIF('5'!J48,"x")+COUNTIF('6'!J48,"x")+COUNTIF('7'!J48,"x")+COUNTIF('8'!J48,"x")+COUNTIF('9'!J48,"x")+COUNTIF('10'!J48,"x")+COUNTIF('11'!J48,"x")+COUNTIF('12'!J48,"x")+COUNTIF('13'!J48,"x")+COUNTIF('14'!J48,"x")+COUNTIF('15'!J48,"x"),"0") -> 0 | L48: =IF(COUNTIF('1'!L48,"x")+COUNTIF('2'!L48,"x")+COUNTIF('3'!L48,"x")+COUNTIF('4'!L48,"x")+COUNTIF('5'!L48,"x")+COUNTIF('6'!L48,"x")+COUNTIF('7'!L48,"x")+COUNTIF('8'!L48,"x")+COUNTIF('9'!L48,"x")+COUNTIF('10'!L48,"x")+COUNTIF('11'!L48,"x")+COUNTIF('12'!L48,"x")+COUNTIF('13'!L48,"x")+COUNTIF('14'!L48,"x")+COUNTIF('15'!L48,"x")<>0,COUNTIF('1'!L48,"x")+COUNTIF('2'!L48,"x")+COUNTIF('3'!L48,"x")+COUNTIF('4'!L48,"x")+COUNTIF('5'!L48,"x")+COUNTIF('6'!L48,"x")+COUNTIF('7'!L48,"x")+COUNTIF('8'!L48,"x")+COUNTIF('9'!L48,"x")+COUNTIF('10'!L48,"x")+COUNTIF('11'!L48,"x")+COUNTIF('12'!L48,"x")+COUNTIF('13'!L48,"x")+COUNTIF('14'!L48,"x")+COUNTIF('15'!L48,"x"),"0") -> 0 | O48: =IF(COUNTIF('1'!O48,"x")+COUNTIF('2'!O48,"x")+COUNTIF('3'!O48,"x")+COUNTIF('4'!O48,"x")+COUNTIF('5'!O48,"x")+COUNTIF('6'!O48,"x")+COUNTIF('7'!O48,"x")+COUNTIF('8'!O48,"x")+COUNTIF('9'!O48,"x")+COUNTIF('10'!O48,"x")+COUNTIF('11'!O48,"x")+COUNTIF('12'!O48,"x")+COUNTIF('13'!O48,"x")+COUNTIF('14'!O48,"x")+COUNTIF('15'!O48,"x")<>0,COUNTIF('1'!O48,"x")+COUNTIF('2'!O48,"x")+COUNTIF('3'!O48,"x")+COUNTIF('4'!O48,"x")+COUNTIF('5'!O48,"x")+COUNTIF('6'!O48,"x")+COUNTIF('7'!O48,"x")+COUNTIF('8'!O48,"x")+COUNTIF('9'!O48,"x")+COUNTIF('10'!O48,"x")+COUNTIF('11'!O48,"x")+COUNTIF('12'!O48,"x")+COUNTIF('13'!O48,"x")+COUNTIF('14'!O48,"x")+COUNTIF('15'!O48,"x"),"0") -> 0 | Q48: =IF(COUNTIF('1'!Q48,"x")+COUNTIF('2'!Q48,"x")+COUNTIF('3'!Q48,"x")+COUNTIF('4'!Q48,"x")+COUNTIF('5'!Q48,"x")+COUNTIF('6'!Q48,"x")+COUNTIF('7'!Q48,"x")+COUNTIF('8'!Q48,"x")+COUNTIF('9'!Q48,"x")+COUNTIF('10'!Q48,"x")+COUNTIF('11'!Q48,"x")+COUNTIF('12'!Q48,"x")+COUNTIF('13'!Q48,"x")+COUNTIF('14'!Q48,"x")+COUNTIF('15'!Q48,"x")<>0,COUNTIF('1'!Q48,"x")+COUNTIF('2'!Q48,"x")+COUNTIF('3'!Q48,"x")+COUNTIF('4'!Q48,"x")+COUNTIF('5'!Q48,"x")+COUNTIF('6'!Q48,"x")+COUNTIF('7'!Q48,"x")+COUNTIF('8'!Q48,"x")+COUNTIF('9'!Q48,"x")+COUNTIF('10'!Q48,"x")+COUNTIF('11'!Q48,"x")+COUNTIF('12'!Q48,"x")+COUNTIF('13'!Q48,"x")+COUNTIF('14'!Q48,"x")+COUNTIF('15'!Q48,"x"),"0") -> 0 | S48: =IF(SUM(E48:Q48)<>0,SUM(E48*1,G48*2,J48*3,L48*4,O48*5,Q48*6)/SUM(E48:Q48),"") | V48: =IF(COUNTIF((E48:Q48),"x")>1,"Bitte nur ein Kreuz setzen!","")
B49: =IF(Vorlage!B49<>"",Vorlage!B49,"") | E49: =IF(COUNTIF('1'!E49,"x")+COUNTIF('2'!E49,"x")+COUNTIF('3'!E49,"x")+COUNTIF('4'!E49,"x")+COUNTIF('5'!E49,"x")+COUNTIF('6'!E49,"x")+COUNTIF('7'!E49,"x")+COUNTIF('8'!E49,"x")+COUNTIF('9'!E49,"x")+COUNTIF('10'!E49,"x")+COUNTIF('11'!E49,"x")+COUNTIF('12'!E49,"x")+COUNTIF('13'!E49,"x")+COUNTIF('14'!E49,"x")+COUNTIF('15'!E49,"x")<>0,COUNTIF('1'!E49,"x")+COUNTIF('2'!E49,"x")+COUNTIF('3'!E49,"x")+COUNTIF('4'!E49,"x")+COUNTIF('5'!E49,"x")+COUNTIF('6'!E49,"x")+COUNTIF('7'!E49,"x")+COUNTIF('8'!E49,"x")+COUNTIF('9'!E49,"x")+COUNTIF('10'!E49,"x")+COUNTIF('11'!E49,"x")+COUNTIF('12'!E49,"x")+COUNTIF('13'!E49,"x")+COUNTIF('14'!E49,"x")+COUNTIF('15'!E49,"x"),"0") -> 0 | G49: =IF(COUNTIF('1'!G49,"x")+COUNTIF('2'!G49,"x")+COUNTIF('3'!G49,"x")+COUNTIF('4'!G49,"x")+COUNTIF('5'!G49,"x")+COUNTIF('6'!G49,"x")+COUNTIF('7'!G49,"x")+COUNTIF('8'!G49,"x")+COUNTIF('9'!G49,"x")+COUNTIF('10'!G49,"x")+COUNTIF('11'!G49,"x")+COUNTIF('12'!G49,"x")+COUNTIF('13'!G49,"x")+COUNTIF('14'!G49,"x")+COUNTIF('15'!G49,"x")<>0,COUNTIF('1'!G49,"x")+COUNTIF('2'!G49,"x")+COUNTIF('3'!G49,"x")+COUNTIF('4'!G49,"x")+COUNTIF('5'!G49,"x")+COUNTIF('6'!G49,"x")+COUNTIF('7'!G49,"x")+COUNTIF('8'!G49,"x")+COUNTIF('9'!G49,"x")+COUNTIF('10'!G49,"x")+COUNTIF('11'!G49,"x")+COUNTIF('12'!G49,"x")+COUNTIF('13'!G49,"x")+COUNTIF('14'!G49,"x")+COUNTIF('15'!G49,"x"),"0") -> 0 | J49: =IF(COUNTIF('1'!J49,"x")+COUNTIF('2'!J49,"x")+COUNTIF('3'!J49,"x")+COUNTIF('4'!J49,"x")+COUNTIF('5'!J49,"x")+COUNTIF('6'!J49,"x")+COUNTIF('7'!J49,"x")+COUNTIF('8'!J49,"x")+COUNTIF('9'!J49,"x")+COUNTIF('10'!J49,"x")+COUNTIF('11'!J49,"x")+COUNTIF('12'!J49,"x")+COUNTIF('13'!J49,"x")+COUNTIF('14'!J49,"x")+COUNTIF('15'!J49,"x")<>0,COUNTIF('1'!J49,"x")+COUNTIF('2'!J49,"x")+COUNTIF('3'!J49,"x")+COUNTIF('4'!J49,"x")+COUNTIF('5'!J49,"x")+COUNTIF('6'!J49,"x")+COUNTIF('7'!J49,"x")+COUNTIF('8'!J49,"x")+COUNTIF('9'!J49,"x")+COUNTIF('10'!J49,"x")+COUNTIF('11'!J49,"x")+COUNTIF('12'!J49,"x")+COUNTIF('13'!J49,"x")+COUNTIF('14'!J49,"x")+COUNTIF('15'!J49,"x"),"0") -> 0 | L49: =IF(COUNTIF('1'!L49,"x")+COUNTIF('2'!L49,"x")+COUNTIF('3'!L49,"x")+COUNTIF('4'!L49,"x")+COUNTIF('5'!L49,"x")+COUNTIF('6'!L49,"x")+COUNTIF('7'!L49,"x")+COUNTIF('8'!L49,"x")+COUNTIF('9'!L49,"x")+COUNTIF('10'!L49,"x")+COUNTIF('11'!L49,"x")+COUNTIF('12'!L49,"x")+COUNTIF('13'!L49,"x")+COUNTIF('14'!L49,"x")+COUNTIF('15'!L49,"x")<>0,COUNTIF('1'!L49,"x")+COUNTIF('2'!L49,"x")+COUNTIF('3'!L49,"x")+COUNTIF('4'!L49,"x")+COUNTIF('5'!L49,"x")+COUNTIF('6'!L49,"x")+COUNTIF('7'!L49,"x")+COUNTIF('8'!L49,"x")+COUNTIF('9'!L49,"x")+COUNTIF('10'!L49,"x")+COUNTIF('11'!L49,"x")+COUNTIF('12'!L49,"x")+COUNTIF('13'!L49,"x")+COUNTIF('14'!L49,"x")+COUNTIF('15'!L49,"x"),"0") -> 0 | O49: =IF(COUNTIF('1'!O49,"x")+COUNTIF('2'!O49,"x")+COUNTIF('3'!O49,"x")+COUNTIF('4'!O49,"x")+COUNTIF('5'!O49,"x")+COUNTIF('6'!O49,"x")+COUNTIF('7'!O49,"x")+COUNTIF('8'!O49,"x")+COUNTIF('9'!O49,"x")+COUNTIF('10'!O49,"x")+COUNTIF('11'!O49,"x")+COUNTIF('12'!O49,"x")+COUNTIF('13'!O49,"x")+COUNTIF('14'!O49,"x")+COUNTIF('15'!O49,"x")<>0,COUNTIF('1'!O49,"x")+COUNTIF('2'!O49,"x")+COUNTIF('3'!O49,"x")+COUNTIF('4'!O49,"x")+COUNTIF('5'!O49,"x")+COUNTIF('6'!O49,"x")+COUNTIF('7'!O49,"x")+COUNTIF('8'!O49,"x")+COUNTIF('9'!O49,"x")+COUNTIF('10'!O49,"x")+COUNTIF('11'!O49,"x")+COUNTIF('12'!O49,"x")+COUNTIF('13'!O49,"x")+COUNTIF('14'!O49,"x")+COUNTIF('15'!O49,"x"),"0") -> 0 | Q49: =IF(COUNTIF('1'!Q49,"x")+COUNTIF('2'!Q49,"x")+COUNTIF('3'!Q49,"x")+COUNTIF('4'!Q49,"x")+COUNTIF('5'!Q49,"x")+COUNTIF('6'!Q49,"x")+COUNTIF('7'!Q49,"x")+COUNTIF('8'!Q49,"x")+COUNTIF('9'!Q49,"x")+COUNTIF('10'!Q49,"x")+COUNTIF('11'!Q49,"x")+COUNTIF('12'!Q49,"x")+COUNTIF('13'!Q49,"x")+COUNTIF('14'!Q49,"x")+COUNTIF('15'!Q49,"x")<>0,COUNTIF('1'!Q49,"x")+COUNTIF('2'!Q49,"x")+COUNTIF('3'!Q49,"x")+COUNTIF('4'!Q49,"x")+COUNTIF('5'!Q49,"x")+COUNTIF('6'!Q49,"x")+COUNTIF('7'!Q49,"x")+COUNTIF('8'!Q49,"x")+COUNTIF('9'!Q49,"x")+COUNTIF('10'!Q49,"x")+COUNTIF('11'!Q49,"x")+COUNTIF('12'!Q49,"x")+COUNTIF('13'!Q49,"x")+COUNTIF('14'!Q49,"x")+COUNTIF('15'!Q49,"x"),"0") -> 0 | S49: =IF(SUM(E49:Q49)<>0,SUM(E49*1,G49*2,J49*3,L49*4,O49*5,Q49*6)/SUM(E49:Q49),"") | V49: =IF(COUNTIF((E49:Q49),"x")>1,"Bitte nur ein Kreuz setzen!","")
B50: =IF(Vorlage!B50<>"",Vorlage!B50,"") | E50: =IF(COUNTIF('1'!E50,"x")+COUNTIF('2'!E50,"x")+COUNTIF('3'!E50,"x")+COUNTIF('4'!E50,"x")+COUNTIF('5'!E50,"x")+COUNTIF('6'!E50,"x")+COUNTIF('7'!E50,"x")+COUNTIF('8'!E50,"x")+COUNTIF('9'!E50,"x")+COUNTIF('10'!E50,"x")+COUNTIF('11'!E50,"x")+COUNTIF('12'!E50,"x")+COUNTIF('13'!E50,"x")+COUNTIF('14'!E50,"x")+COUNTIF('15'!E50,"x")<>0,COUNTIF('1'!E50,"x")+COUNTIF('2'!E50,"x")+COUNTIF('3'!E50,"x")+COUNTIF('4'!E50,"x")+COUNTIF('5'!E50,"x")+COUNTIF('6'!E50,"x")+COUNTIF('7'!E50,"x")+COUNTIF('8'!E50,"x")+COUNTIF('9'!E50,"x")+COUNTIF('10'!E50,"x")+COUNTIF('11'!E50,"x")+COUNTIF('12'!E50,"x")+COUNTIF('13'!E50,"x")+COUNTIF('14'!E50,"x")+COUNTIF('15'!E50,"x"),"0") -> 0 | G50: =IF(COUNTIF('1'!G50,"x")+COUNTIF('2'!G50,"x")+COUNTIF('3'!G50,"x")+COUNTIF('4'!G50,"x")+COUNTIF('5'!G50,"x")+COUNTIF('6'!G50,"x")+COUNTIF('7'!G50,"x")+COUNTIF('8'!G50,"x")+COUNTIF('9'!G50,"x")+COUNTIF('10'!G50,"x")+COUNTIF('11'!G50,"x")+COUNTIF('12'!G50,"x")+COUNTIF('13'!G50,"x")+COUNTIF('14'!G50,"x")+COUNTIF('15'!G50,"x")<>0,COUNTIF('1'!G50,"x")+COUNTIF('2'!G50,"x")+COUNTIF('3'!G50,"x")+COUNTIF('4'!G50,"x")+COUNTIF('5'!G50,"x")+COUNTIF('6'!G50,"x")+COUNTIF('7'!G50,"x")+COUNTIF('8'!G50,"x")+COUNTIF('9'!G50,"x")+COUNTIF('10'!G50,"x")+COUNTIF('11'!G50,"x")+COUNTIF('12'!G50,"x")+COUNTIF('13'!G50,"x")+COUNTIF('14'!G50,"x")+COUNTIF('15'!G50,"x"),"0") -> 0 | J50: =IF(COUNTIF('1'!J50,"x")+COUNTIF('2'!J50,"x")+COUNTIF('3'!J50,"x")+COUNTIF('4'!J50,"x")+COUNTIF('5'!J50,"x")+COUNTIF('6'!J50,"x")+COUNTIF('7'!J50,"x")+COUNTIF('8'!J50,"x")+COUNTIF('9'!J50,"x")+COUNTIF('10'!J50,"x")+COUNTIF('11'!J50,"x")+COUNTIF('12'!J50,"x")+COUNTIF('13'!J50,"x")+COUNTIF('14'!J50,"x")+COUNTIF('15'!J50,"x")<>0,COUNTIF('1'!J50,"x")+COUNTIF('2'!J50,"x")+COUNTIF('3'!J50,"x")+COUNTIF('4'!J50,"x")+COUNTIF('5'!J50,"x")+COUNTIF('6'!J50,"x")+COUNTIF('7'!J50,"x")+COUNTIF('8'!J50,"x")+COUNTIF('9'!J50,"x")+COUNTIF('10'!J50,"x")+COUNTIF('11'!J50,"x")+COUNTIF('12'!J50,"x")+COUNTIF('13'!J50,"x")+COUNTIF('14'!J50,"x")+COUNTIF('15'!J50,"x"),"0") -> 0 | L50: =IF(COUNTIF('1'!L50,"x")+COUNTIF('2'!L50,"x")+COUNTIF('3'!L50,"x")+COUNTIF('4'!L50,"x")+COUNTIF('5'!L50,"x")+COUNTIF('6'!L50,"x")+COUNTIF('7'!L50,"x")+COUNTIF('8'!L50,"x")+COUNTIF('9'!L50,"x")+COUNTIF('10'!L50,"x")+COUNTIF('11'!L50,"x")+COUNTIF('12'!L50,"x")+COUNTIF('13'!L50,"x")+COUNTIF('14'!L50,"x")+COUNTIF('15'!L50,"x")<>0,COUNTIF('1'!L50,"x")+COUNTIF('2'!L50,"x")+COUNTIF('3'!L50,"x")+COUNTIF('4'!L50,"x")+COUNTIF('5'!L50,"x")+COUNTIF('6'!L50,"x")+COUNTIF('7'!L50,"x")+COUNTIF('8'!L50,"x")+COUNTIF('9'!L50,"x")+COUNTIF('10'!L50,"x")+COUNTIF('11'!L50,"x")+COUNTIF('12'!L50,"x")+COUNTIF('13'!L50,"x")+COUNTIF('14'!L50,"x")+COUNTIF('15'!L50,"x"),"0") -> 0 | O50: =IF(COUNTIF('1'!O50,"x")+COUNTIF('2'!O50,"x")+COUNTIF('3'!O50,"x")+COUNTIF('4'!O50,"x")+COUNTIF('5'!O50,"x")+COUNTIF('6'!O50,"x")+COUNTIF('7'!O50,"x")+COUNTIF('8'!O50,"x")+COUNTIF('9'!O50,"x")+COUNTIF('10'!O50,"x")+COUNTIF('11'!O50,"x")+COUNTIF('12'!O50,"x")+COUNTIF('13'!O50,"x")+COUNTIF('14'!O50,"x")+COUNTIF('15'!O50,"x")<>0,COUNTIF('1'!O50,"x")+COUNTIF('2'!O50,"x")+COUNTIF('3'!O50,"x")+COUNTIF('4'!O50,"x")+COUNTIF('5'!O50,"x")+COUNTIF('6'!O50,"x")+COUNTIF('7'!O50,"x")+COUNTIF('8'!O50,"x")+COUNTIF('9'!O50,"x")+COUNTIF('10'!O50,"x")+COUNTIF('11'!O50,"x")+COUNTIF('12'!O50,"x")+COUNTIF('13'!O50,"x")+COUNTIF('14'!O50,"x")+COUNTIF('15'!O50,"x"),"0") -> 0 | Q50: =IF(COUNTIF('1'!Q50,"x")+COUNTIF('2'!Q50,"x")+COUNTIF('3'!Q50,"x")+COUNTIF('4'!Q50,"x")+COUNTIF('5'!Q50,"x")+COUNTIF('6'!Q50,"x")+COUNTIF('7'!Q50,"x")+COUNTIF('8'!Q50,"x")+COUNTIF('9'!Q50,"x")+COUNTIF('10'!Q50,"x")+COUNTIF('11'!Q50,"x")+COUNTIF('12'!Q50,"x")+COUNTIF('13'!Q50,"x")+COUNTIF('14'!Q50,"x")+COUNTIF('15'!Q50,"x")<>0,COUNTIF('1'!Q50,"x")+COUNTIF('2'!Q50,"x")+COUNTIF('3'!Q50,"x")+COUNTIF('4'!Q50,"x")+COUNTIF('5'!Q50,"x")+COUNTIF('6'!Q50,"x")+COUNTIF('7'!Q50,"x")+COUNTIF('8'!Q50,"x")+COUNTIF('9'!Q50,"x")+COUNTIF('10'!Q50,"x")+COUNTIF('11'!Q50,"x")+COUNTIF('12'!Q50,"x")+COUNTIF('13'!Q50,"x")+COUNTIF('14'!Q50,"x")+COUNTIF('15'!Q50,"x"),"0") -> 0 | S50: =IF(SUM(E50:Q50)<>0,SUM(E50*1,G50*2,J50*3,L50*4,O50*5,Q50*6)/SUM(E50:Q50),"") | V50: =IF(COUNTIF((E50:Q50),"x")>1,"Bitte nur ein Kreuz setzen!","")
B51: =IF(Vorlage!B51<>"",Vorlage!B51,"") | E51: =IF(COUNTIF('1'!E51,"x")+COUNTIF('2'!E51,"x")+COUNTIF('3'!E51,"x")+COUNTIF('4'!E51,"x")+COUNTIF('5'!E51,"x")+COUNTIF('6'!E51,"x")+COUNTIF('7'!E51,"x")+COUNTIF('8'!E51,"x")+COUNTIF('9'!E51,"x")+COUNTIF('10'!E51,"x")+COUNTIF('11'!E51,"x")+COUNTIF('12'!E51,"x")+COUNTIF('13'!E51,"x")+COUNTIF('14'!E51,"x")+COUNTIF('15'!E51,"x")<>0,COUNTIF('1'!E51,"x")+COUNTIF('2'!E51,"x")+COUNTIF('3'!E51,"x")+COUNTIF('4'!E51,"x")+COUNTIF('5'!E51,"x")+COUNTIF('6'!E51,"x")+COUNTIF('7'!E51,"x")+COUNTIF('8'!E51,"x")+COUNTIF('9'!E51,"x")+COUNTIF('10'!E51,"x")+COUNTIF('11'!E51,"x")+COUNTIF('12'!E51,"x")+COUNTIF('13'!E51,"x")+COUNTIF('14'!E51,"x")+COUNTIF('15'!E51,"x"),"0") -> 0 | G51: =IF(COUNTIF('1'!G51,"x")+COUNTIF('2'!G51,"x")+COUNTIF('3'!G51,"x")+COUNTIF('4'!G51,"x")+COUNTIF('5'!G51,"x")+COUNTIF('6'!G51,"x")+COUNTIF('7'!G51,"x")+COUNTIF('8'!G51,"x")+COUNTIF('9'!G51,"x")+COUNTIF('10'!G51,"x")+COUNTIF('11'!G51,"x")+COUNTIF('12'!G51,"x")+COUNTIF('13'!G51,"x")+COUNTIF('14'!G51,"x")+COUNTIF('15'!G51,"x")<>0,COUNTIF('1'!G51,"x")+COUNTIF('2'!G51,"x")+COUNTIF('3'!G51,"x")+COUNTIF('4'!G51,"x")+COUNTIF('5'!G51,"x")+COUNTIF('6'!G51,"x")+COUNTIF('7'!G51,"x")+COUNTIF('8'!G51,"x")+COUNTIF('9'!G51,"x")+COUNTIF('10'!G51,"x")+COUNTIF('11'!G51,"x")+COUNTIF('12'!G51,"x")+COUNTIF('13'!G51,"x")+COUNTIF('14'!G51,"x")+COUNTIF('15'!G51,"x"),"0") -> 0 | J51: =IF(COUNTIF('1'!J51,"x")+COUNTIF('2'!J51,"x")+COUNTIF('3'!J51,"x")+COUNTIF('4'!J51,"x")+COUNTIF('5'!J51,"x")+COUNTIF('6'!J51,"x")+COUNTIF('7'!J51,"x")+COUNTIF('8'!J51,"x")+COUNTIF('9'!J51,"x")+COUNTIF('10'!J51,"x")+COUNTIF('11'!J51,"x")+COUNTIF('12'!J51,"x")+COUNTIF('13'!J51,"x")+COUNTIF('14'!J51,"x")+COUNTIF('15'!J51,"x")<>0,COUNTIF('1'!J51,"x")+COUNTIF('2'!J51,"x")+COUNTIF('3'!J51,"x")+COUNTIF('4'!J51,"x")+COUNTIF('5'!J51,"x")+COUNTIF('6'!J51,"x")+COUNTIF('7'!J51,"x")+COUNTIF('8'!J51,"x")+COUNTIF('9'!J51,"x")+COUNTIF('10'!J51,"x")+COUNTIF('11'!J51,"x")+COUNTIF('12'!J51,"x")+COUNTIF('13'!J51,"x")+COUNTIF('14'!J51,"x")+COUNTIF('15'!J51,"x"),"0") -> 0 | L51: =IF(COUNTIF('1'!L51,"x")+COUNTIF('2'!L51,"x")+COUNTIF('3'!L51,"x")+COUNTIF('4'!L51,"x")+COUNTIF('5'!L51,"x")+COUNTIF('6'!L51,"x")+COUNTIF('7'!L51,"x")+COUNTIF('8'!L51,"x")+COUNTIF('9'!L51,"x")+COUNTIF('10'!L51,"x")+COUNTIF('11'!L51,"x")+COUNTIF('12'!L51,"x")+COUNTIF('13'!L51,"x")+COUNTIF('14'!L51,"x")+COUNTIF('15'!L51,"x")<>0,COUNTIF('1'!L51,"x")+COUNTIF('2'!L51,"x")+COUNTIF('3'!L51,"x")+COUNTIF('4'!L51,"x")+COUNTIF('5'!L51,"x")+COUNTIF('6'!L51,"x")+COUNTIF('7'!L51,"x")+COUNTIF('8'!L51,"x")+COUNTIF('9'!L51,"x")+COUNTIF('10'!L51,"x")+COUNTIF('11'!L51,"x")+COUNTIF('12'!L51,"x")+COUNTIF('13'!L51,"x")+COUNTIF('14'!L51,"x")+COUNTIF('15'!L51,"x"),"0") -> 0 | O51: =IF(COUNTIF('1'!O51,"x")+COUNTIF('2'!O51,"x")+COUNTIF('3'!O51,"x")+COUNTIF('4'!O51,"x")+COUNTIF('5'!O51,"x")+COUNTIF('6'!O51,"x")+COUNTIF('7'!O51,"x")+COUNTIF('8'!O51,"x")+COUNTIF('9'!O51,"x")+COUNTIF('10'!O51,"x")+COUNTIF('11'!O51,"x")+COUNTIF('12'!O51,"x")+COUNTIF('13'!O51,"x")+COUNTIF('14'!O51,"x")+COUNTIF('15'!O51,"x")<>0,COUNTIF('1'!O51,"x")+COUNTIF('2'!O51,"x")+COUNTIF('3'!O51,"x")+COUNTIF('4'!O51,"x")+COUNTIF('5'!O51,"x")+COUNTIF('6'!O51,"x")+COUNTIF('7'!O51,"x")+COUNTIF('8'!O51,"x")+COUNTIF('9'!O51,"x")+COUNTIF('10'!O51,"x")+COUNTIF('11'!O51,"x")+COUNTIF('12'!O51,"x")+COUNTIF('13'!O51,"x")+COUNTIF('14'!O51,"x")+COUNTIF('15'!O51,"x"),"0") -> 0 | Q51: =IF(COUNTIF('1'!Q51,"x")+COUNTIF('2'!Q51,"x")+COUNTIF('3'!Q51,"x")+COUNTIF('4'!Q51,"x")+COUNTIF('5'!Q51,"x")+COUNTIF('6'!Q51,"x")+COUNTIF('7'!Q51,"x")+COUNTIF('8'!Q51,"x")+COUNTIF('9'!Q51,"x")+COUNTIF('10'!Q51,"x")+COUNTIF('11'!Q51,"x")+COUNTIF('12'!Q51,"x")+COUNTIF('13'!Q51,"x")+COUNTIF('14'!Q51,"x")+COUNTIF('15'!Q51,"x")<>0,COUNTIF('1'!Q51,"x")+COUNTIF('2'!Q51,"x")+COUNTIF('3'!Q51,"x")+COUNTIF('4'!Q51,"x")+COUNTIF('5'!Q51,"x")+COUNTIF('6'!Q51,"x")+COUNTIF('7'!Q51,"x")+COUNTIF('8'!Q51,"x")+COUNTIF('9'!Q51,"x")+COUNTIF('10'!Q51,"x")+COUNTIF('11'!Q51,"x")+COUNTIF('12'!Q51,"x")+COUNTIF('13'!Q51,"x")+COUNTIF('14'!Q51,"x")+COUNTIF('15'!Q51,"x"),"0") -> 0 | S51: =IF(SUM(E51:Q51)<>0,SUM(E51*1,G51*2,J51*3,L51*4,O51*5,Q51*6)/SUM(E51:Q51),"") | V51: =IF(COUNTIF((E51:Q51),"x")>1,"Bitte nur ein Kreuz setzen!","")
B52: =IF(Vorlage!B52<>"",Vorlage!B52,"") | E52: =IF(COUNTIF('1'!E52,"x")+COUNTIF('2'!E52,"x")+COUNTIF('3'!E52,"x")+COUNTIF('4'!E52,"x")+COUNTIF('5'!E52,"x")+COUNTIF('6'!E52,"x")+COUNTIF('7'!E52,"x")+COUNTIF('8'!E52,"x")+COUNTIF('9'!E52,"x")+COUNTIF('10'!E52,"x")+COUNTIF('11'!E52,"x")+COUNTIF('12'!E52,"x")+COUNTIF('13'!E52,"x")+COUNTIF('14'!E52,"x")+COUNTIF('15'!E52,"x")<>0,COUNTIF('1'!E52,"x")+COUNTIF('2'!E52,"x")+COUNTIF('3'!E52,"x")+COUNTIF('4'!E52,"x")+COUNTIF('5'!E52,"x")+COUNTIF('6'!E52,"x")+COUNTIF('7'!E52,"x")+COUNTIF('8'!E52,"x")+COUNTIF('9'!E52,"x")+COUNTIF('10'!E52,"x")+COUNTIF('11'!E52,"x")+COUNTIF('12'!E52,"x")+COUNTIF('13'!E52,"x")+COUNTIF('14'!E52,"x")+COUNTIF('15'!E52,"x"),"0") -> 0 | G52: =IF(COUNTIF('1'!G52,"x")+COUNTIF('2'!G52,"x")+COUNTIF('3'!G52,"x")+COUNTIF('4'!G52,"x")+COUNTIF('5'!G52,"x")+COUNTIF('6'!G52,"x")+COUNTIF('7'!G52,"x")+COUNTIF('8'!G52,"x")+COUNTIF('9'!G52,"x")+COUNTIF('10'!G52,"x")+COUNTIF('11'!G52,"x")+COUNTIF('12'!G52,"x")+COUNTIF('13'!G52,"x")+COUNTIF('14'!G52,"x")+COUNTIF('15'!G52,"x")<>0,COUNTIF('1'!G52,"x")+COUNTIF('2'!G52,"x")+COUNTIF('3'!G52,"x")+COUNTIF('4'!G52,"x")+COUNTIF('5'!G52,"x")+COUNTIF('6'!G52,"x")+COUNTIF('7'!G52,"x")+COUNTIF('8'!G52,"x")+COUNTIF('9'!G52,"x")+COUNTIF('10'!G52,"x")+COUNTIF('11'!G52,"x")+COUNTIF('12'!G52,"x")+COUNTIF('13'!G52,"x")+COUNTIF('14'!G52,"x")+COUNTIF('15'!G52,"x"),"0") -> 0 | J52: =IF(COUNTIF('1'!J52,"x")+COUNTIF('2'!J52,"x")+COUNTIF('3'!J52,"x")+COUNTIF('4'!J52,"x")+COUNTIF('5'!J52,"x")+COUNTIF('6'!J52,"x")+COUNTIF('7'!J52,"x")+COUNTIF('8'!J52,"x")+COUNTIF('9'!J52,"x")+COUNTIF('10'!J52,"x")+COUNTIF('11'!J52,"x")+COUNTIF('12'!J52,"x")+COUNTIF('13'!J52,"x")+COUNTIF('14'!J52,"x")+COUNTIF('15'!J52,"x")<>0,COUNTIF('1'!J52,"x")+COUNTIF('2'!J52,"x")+COUNTIF('3'!J52,"x")+COUNTIF('4'!J52,"x")+COUNTIF('5'!J52,"x")+COUNTIF('6'!J52,"x")+COUNTIF('7'!J52,"x")+COUNTIF('8'!J52,"x")+COUNTIF('9'!J52,"x")+COUNTIF('10'!J52,"x")+COUNTIF('11'!J52,"x")+COUNTIF('12'!J52,"x")+COUNTIF('13'!J52,"x")+COUNTIF('14'!J52,"x")+COUNTIF('15'!J52,"x"),"0") -> 0 | L52: =IF(COUNTIF('1'!L52,"x")+COUNTIF('2'!L52,"x")+COUNTIF('3'!L52,"x")+COUNTIF('4'!L52,"x")+COUNTIF('5'!L52,"x")+COUNTIF('6'!L52,"x")+COUNTIF('7'!L52,"x")+COUNTIF('8'!L52,"x")+COUNTIF('9'!L52,"x")+COUNTIF('10'!L52,"x")+COUNTIF('11'!L52,"x")+COUNTIF('12'!L52,"x")+COUNTIF('13'!L52,"x")+COUNTIF('14'!L52,"x")+COUNTIF('15'!L52,"x")<>0,COUNTIF('1'!L52,"x")+COUNTIF('2'!L52,"x")+COUNTIF('3'!L52,"x")+COUNTIF('4'!L52,"x")+COUNTIF('5'!L52,"x")+COUNTIF('6'!L52,"x")+COUNTIF('7'!L52,"x")+COUNTIF('8'!L52,"x")+COUNTIF('9'!L52,"x")+COUNTIF('10'!L52,"x")+COUNTIF('11'!L52,"x")+COUNTIF('12'!L52,"x")+COUNTIF('13'!L52,"x")+COUNTIF('14'!L52,"x")+COUNTIF('15'!L52,"x"),"0") -> 0 | O52: =IF(COUNTIF('1'!O52,"x")+COUNTIF('2'!O52,"x")+COUNTIF('3'!O52,"x")+COUNTIF('4'!O52,"x")+COUNTIF('5'!O52,"x")+COUNTIF('6'!O52,"x")+COUNTIF('7'!O52,"x")+COUNTIF('8'!O52,"x")+COUNTIF('9'!O52,"x")+COUNTIF('10'!O52,"x")+COUNTIF('11'!O52,"x")+COUNTIF('12'!O52,"x")+COUNTIF('13'!O52,"x")+COUNTIF('14'!O52,"x")+COUNTIF('15'!O52,"x")<>0,COUNTIF('1'!O52,"x")+COUNTIF('2'!O52,"x")+COUNTIF('3'!O52,"x")+COUNTIF('4'!O52,"x")+COUNTIF('5'!O52,"x")+COUNTIF('6'!O52,"x")+COUNTIF('7'!O52,"x")+COUNTIF('8'!O52,"x")+COUNTIF('9'!O52,"x")+COUNTIF('10'!O52,"x")+COUNTIF('11'!O52,"x")+COUNTIF('12'!O52,"x")+COUNTIF('13'!O52,"x")+COUNTIF('14'!O52,"x")+COUNTIF('15'!O52,"x"),"0") -> 0 | Q52: =IF(COUNTIF('1'!Q52,"x")+COUNTIF('2'!Q52,"x")+COUNTIF('3'!Q52,"x")+COUNTIF('4'!Q52,"x")+COUNTIF('5'!Q52,"x")+COUNTIF('6'!Q52,"x")+COUNTIF('7'!Q52,"x")+COUNTIF('8'!Q52,"x")+COUNTIF('9'!Q52,"x")+COUNTIF('10'!Q52,"x")+COUNTIF('11'!Q52,"x")+COUNTIF('12'!Q52,"x")+COUNTIF('13'!Q52,"x")+COUNTIF('14'!Q52,"x")+COUNTIF('15'!Q52,"x")<>0,COUNTIF('1'!Q52,"x")+COUNTIF('2'!Q52,"x")+COUNTIF('3'!Q52,"x")+COUNTIF('4'!Q52,"x")+COUNTIF('5'!Q52,"x")+COUNTIF('6'!Q52,"x")+COUNTIF('7'!Q52,"x")+COUNTIF('8'!Q52,"x")+COUNTIF('9'!Q52,"x")+COUNTIF('10'!Q52,"x")+COUNTIF('11'!Q52,"x")+COUNTIF('12'!Q52,"x")+COUNTIF('13'!Q52,"x")+COUNTIF('14'!Q52,"x")+COUNTIF('15'!Q52,"x"),"0") -> 0 | S52: =IF(SUM(E52:Q52)<>0,SUM(E52*1,G52*2,J52*3,L52*4,O52*5,Q52*6)/SUM(E52:Q52),"") | V52: =IF(COUNTIF((E52:Q52),"x")>1,"Bitte nur ein Kreuz setzen!","")
B53: =IF(Vorlage!B53<>"",Vorlage!B53,"") | E53: =IF(COUNTIF('1'!E53,"x")+COUNTIF('2'!E53,"x")+COUNTIF('3'!E53,"x")+COUNTIF('4'!E53,"x")+COUNTIF('5'!E53,"x")+COUNTIF('6'!E53,"x")+COUNTIF('7'!E53,"x")+COUNTIF('8'!E53,"x")+COUNTIF('9'!E53,"x")+COUNTIF('10'!E53,"x")+COUNTIF('11'!E53,"x")+COUNTIF('12'!E53,"x")+COUNTIF('13'!E53,"x")+COUNTIF('14'!E53,"x")+COUNTIF('15'!E53,"x")<>0,COUNTIF('1'!E53,"x")+COUNTIF('2'!E53,"x")+COUNTIF('3'!E53,"x")+COUNTIF('4'!E53,"x")+COUNTIF('5'!E53,"x")+COUNTIF('6'!E53,"x")+COUNTIF('7'!E53,"x")+COUNTIF('8'!E53,"x")+COUNTIF('9'!E53,"x")+COUNTIF('10'!E53,"x")+COUNTIF('11'!E53,"x")+COUNTIF('12'!E53,"x")+COUNTIF('13'!E53,"x")+COUNTIF('14'!E53,"x")+COUNTIF('15'!E53,"x"),"0") -> 0 | G53: =IF(COUNTIF('1'!G53,"x")+COUNTIF('2'!G53,"x")+COUNTIF('3'!G53,"x")+COUNTIF('4'!G53,"x")+COUNTIF('5'!G53,"x")+COUNTIF('6'!G53,"x")+COUNTIF('7'!G53,"x")+COUNTIF('8'!G53,"x")+COUNTIF('9'!G53,"x")+COUNTIF('10'!G53,"x")+COUNTIF('11'!G53,"x")+COUNTIF('12'!G53,"x")+COUNTIF('13'!G53,"x")+COUNTIF('14'!G53,"x")+COUNTIF('15'!G53,"x")<>0,COUNTIF('1'!G53,"x")+COUNTIF('2'!G53,"x")+COUNTIF('3'!G53,"x")+COUNTIF('4'!G53,"x")+COUNTIF('5'!G53,"x")+COUNTIF('6'!G53,"x")+COUNTIF('7'!G53,"x")+COUNTIF('8'!G53,"x")+COUNTIF('9'!G53,"x")+COUNTIF('10'!G53,"x")+COUNTIF('11'!G53,"x")+COUNTIF('12'!G53,"x")+COUNTIF('13'!G53,"x")+COUNTIF('14'!G53,"x")+COUNTIF('15'!G53,"x"),"0") -> 0 | J53: =IF(COUNTIF('1'!J53,"x")+COUNTIF('2'!J53,"x")+COUNTIF('3'!J53,"x")+COUNTIF('4'!J53,"x")+COUNTIF('5'!J53,"x")+COUNTIF('6'!J53,"x")+COUNTIF('7'!J53,"x")+COUNTIF('8'!J53,"x")+COUNTIF('9'!J53,"x")+COUNTIF('10'!J53,"x")+COUNTIF('11'!J53,"x")+COUNTIF('12'!J53,"x")+COUNTIF('13'!J53,"x")+COUNTIF('14'!J53,"x")+COUNTIF('15'!J53,"x")<>0,COUNTIF('1'!J53,"x")+COUNTIF('2'!J53,"x")+COUNTIF('3'!J53,"x")+COUNTIF('4'!J53,"x")+COUNTIF('5'!J53,"x")+COUNTIF('6'!J53,"x")+COUNTIF('7'!J53,"x")+COUNTIF('8'!J53,"x")+COUNTIF('9'!J53,"x")+COUNTIF('10'!J53,"x")+COUNTIF('11'!J53,"x")+COUNTIF('12'!J53,"x")+COUNTIF('13'!J53,"x")+COUNTIF('14'!J53,"x")+COUNTIF('15'!J53,"x"),"0") -> 0 | L53: =IF(COUNTIF('1'!L53,"x")+COUNTIF('2'!L53,"x")+COUNTIF('3'!L53,"x")+COUNTIF('4'!L53,"x")+COUNTIF('5'!L53,"x")+COUNTIF('6'!L53,"x")+COUNTIF('7'!L53,"x")+COUNTIF('8'!L53,"x")+COUNTIF('9'!L53,"x")+COUNTIF('10'!L53,"x")+COUNTIF('11'!L53,"x")+COUNTIF('12'!L53,"x")+COUNTIF('13'!L53,"x")+COUNTIF('14'!L53,"x")+COUNTIF('15'!L53,"x")<>0,COUNTIF('1'!L53,"x")+COUNTIF('2'!L53,"x")+COUNTIF('3'!L53,"x")+COUNTIF('4'!L53,"x")+COUNTIF('5'!L53,"x")+COUNTIF('6'!L53,"x")+COUNTIF('7'!L53,"x")+COUNTIF('8'!L53,"x")+COUNTIF('9'!L53,"x")+COUNTIF('10'!L53,"x")+COUNTIF('11'!L53,"x")+COUNTIF('12'!L53,"x")+COUNTIF('13'!L53,"x")+COUNTIF('14'!L53,"x")+COUNTIF('15'!L53,"x"),"0") -> 0 | O53: =IF(COUNTIF('1'!O53,"x")+COUNTIF('2'!O53,"x")+COUNTIF('3'!O53,"x")+COUNTIF('4'!O53,"x")+COUNTIF('5'!O53,"x")+COUNTIF('6'!O53,"x")+COUNTIF('7'!O53,"x")+COUNTIF('8'!O53,"x")+COUNTIF('9'!O53,"x")+COUNTIF('10'!O53,"x")+COUNTIF('11'!O53,"x")+COUNTIF('12'!O53,"x")+COUNTIF('13'!O53,"x")+COUNTIF('14'!O53,"x")+COUNTIF('15'!O53,"x")<>0,COUNTIF('1'!O53,"x")+COUNTIF('2'!O53,"x")+COUNTIF('3'!O53,"x")+COUNTIF('4'!O53,"x")+COUNTIF('5'!O53,"x")+COUNTIF('6'!O53,"x")+COUNTIF('7'!O53,"x")+COUNTIF('8'!O53,"x")+COUNTIF('9'!O53,"x")+COUNTIF('10'!O53,"x")+COUNTIF('11'!O53,"x")+COUNTIF('12'!O53,"x")+COUNTIF('13'!O53,"x")+COUNTIF('14'!O53,"x")+COUNTIF('15'!O53,"x"),"0") -> 0 | Q53: =IF(COUNTIF('1'!Q53,"x")+COUNTIF('2'!Q53,"x")+COUNTIF('3'!Q53,"x")+COUNTIF('4'!Q53,"x")+COUNTIF('5'!Q53,"x")+COUNTIF('6'!Q53,"x")+COUNTIF('7'!Q53,"x")+COUNTIF('8'!Q53,"x")+COUNTIF('9'!Q53,"x")+COUNTIF('10'!Q53,"x")+COUNTIF('11'!Q53,"x")+COUNTIF('12'!Q53,"x")+COUNTIF('13'!Q53,"x")+COUNTIF('14'!Q53,"x")+COUNTIF('15'!Q53,"x")<>0,COUNTIF('1'!Q53,"x")+COUNTIF('2'!Q53,"x")+COUNTIF('3'!Q53,"x")+COUNTIF('4'!Q53,"x")+COUNTIF('5'!Q53,"x")+COUNTIF('6'!Q53,"x")+COUNTIF('7'!Q53,"x")+COUNTIF('8'!Q53,"x")+COUNTIF('9'!Q53,"x")+COUNTIF('10'!Q53,"x")+COUNTIF('11'!Q53,"x")+COUNTIF('12'!Q53,"x")+COUNTIF('13'!Q53,"x")+COUNTIF('14'!Q53,"x")+COUNTIF('15'!Q53,"x"),"0") -> 0 | S53: =IF(SUM(E53:Q53)<>0,SUM(E53*1,G53*2,J53*3,L53*4,O53*5,Q53*6)/SUM(E53:Q53),"") | V53: =IF(COUNTIF((E53:Q53),"x")>1,"Bitte nur ein Kreuz setzen!","")
B54: =IF(Vorlage!B54<>"",Vorlage!B54,"") | E54: =IF(COUNTIF('1'!E54,"x")+COUNTIF('2'!E54,"x")+COUNTIF('3'!E54,"x")+COUNTIF('4'!E54,"x")+COUNTIF('5'!E54,"x")+COUNTIF('6'!E54,"x")+COUNTIF('7'!E54,"x")+COUNTIF('8'!E54,"x")+COUNTIF('9'!E54,"x")+COUNTIF('10'!E54,"x")+COUNTIF('11'!E54,"x")+COUNTIF('12'!E54,"x")+COUNTIF('13'!E54,"x")+COUNTIF('14'!E54,"x")+COUNTIF('15'!E54,"x")<>0,COUNTIF('1'!E54,"x")+COUNTIF('2'!E54,"x")+COUNTIF('3'!E54,"x")+COUNTIF('4'!E54,"x")+COUNTIF('5'!E54,"x")+COUNTIF('6'!E54,"x")+COUNTIF('7'!E54,"x")+COUNTIF('8'!E54,"x")+COUNTIF('9'!E54,"x")+COUNTIF('10'!E54,"x")+COUNTIF('11'!E54,"x")+COUNTIF('12'!E54,"x")+COUNTIF('13'!E54,"x")+COUNTIF('14'!E54,"x")+COUNTIF('15'!E54,"x"),"0") -> 0 | G54: =IF(COUNTIF('1'!G54,"x")+COUNTIF('2'!G54,"x")+COUNTIF('3'!G54,"x")+COUNTIF('4'!G54,"x")+COUNTIF('5'!G54,"x")+COUNTIF('6'!G54,"x")+COUNTIF('7'!G54,"x")+COUNTIF('8'!G54,"x")+COUNTIF('9'!G54,"x")+COUNTIF('10'!G54,"x")+COUNTIF('11'!G54,"x")+COUNTIF('12'!G54,"x")+COUNTIF('13'!G54,"x")+COUNTIF('14'!G54,"x")+COUNTIF('15'!G54,"x")<>0,COUNTIF('1'!G54,"x")+COUNTIF('2'!G54,"x")+COUNTIF('3'!G54,"x")+COUNTIF('4'!G54,"x")+COUNTIF('5'!G54,"x")+COUNTIF('6'!G54,"x")+COUNTIF('7'!G54,"x")+COUNTIF('8'!G54,"x")+COUNTIF('9'!G54,"x")+COUNTIF('10'!G54,"x")+COUNTIF('11'!G54,"x")+COUNTIF('12'!G54,"x")+COUNTIF('13'!G54,"x")+COUNTIF('14'!G54,"x")+COUNTIF('15'!G54,"x"),"0") -> 0 | J54: =IF(COUNTIF('1'!J54,"x")+COUNTIF('2'!J54,"x")+COUNTIF('3'!J54,"x")+COUNTIF('4'!J54,"x")+COUNTIF('5'!J54,"x")+COUNTIF('6'!J54,"x")+COUNTIF('7'!J54,"x")+COUNTIF('8'!J54,"x")+COUNTIF('9'!J54,"x")+COUNTIF('10'!J54,"x")+COUNTIF('11'!J54,"x")+COUNTIF('12'!J54,"x")+COUNTIF('13'!J54,"x")+COUNTIF('14'!J54,"x")+COUNTIF('15'!J54,"x")<>0,COUNTIF('1'!J54,"x")+COUNTIF('2'!J54,"x")+COUNTIF('3'!J54,"x")+COUNTIF('4'!J54,"x")+COUNTIF('5'!J54,"x")+COUNTIF('6'!J54,"x")+COUNTIF('7'!J54,"x")+COUNTIF('8'!J54,"x")+COUNTIF('9'!J54,"x")+COUNTIF('10'!J54,"x")+COUNTIF('11'!J54,"x")+COUNTIF('12'!J54,"x")+COUNTIF('13'!J54,"x")+COUNTIF('14'!J54,"x")+COUNTIF('15'!J54,"x"),"0") -> 0 | L54: =IF(COUNTIF('1'!L54,"x")+COUNTIF('2'!L54,"x")+COUNTIF('3'!L54,"x")+COUNTIF('4'!L54,"x")+COUNTIF('5'!L54,"x")+COUNTIF('6'!L54,"x")+COUNTIF('7'!L54,"x")+COUNTIF('8'!L54,"x")+COUNTIF('9'!L54,"x")+COUNTIF('10'!L54,"x")+COUNTIF('11'!L54,"x")+COUNTIF('12'!L54,"x")+COUNTIF('13'!L54,"x")+COUNTIF('14'!L54,"x")+COUNTIF('15'!L54,"x")<>0,COUNTIF('1'!L54,"x")+COUNTIF('2'!L54,"x")+COUNTIF('3'!L54,"x")+COUNTIF('4'!L54,"x")+COUNTIF('5'!L54,"x")+COUNTIF('6'!L54,"x")+COUNTIF('7'!L54,"x")+COUNTIF('8'!L54,"x")+COUNTIF('9'!L54,"x")+COUNTIF('10'!L54,"x")+COUNTIF('11'!L54,"x")+COUNTIF('12'!L54,"x")+COUNTIF('13'!L54,"x")+COUNTIF('14'!L54,"x")+COUNTIF('15'!L54,"x"),"0") -> 0 | O54: =IF(COUNTIF('1'!O54,"x")+COUNTIF('2'!O54,"x")+COUNTIF('3'!O54,"x")+COUNTIF('4'!O54,"x")+COUNTIF('5'!O54,"x")+COUNTIF('6'!O54,"x")+COUNTIF('7'!O54,"x")+COUNTIF('8'!O54,"x")+COUNTIF('9'!O54,"x")+COUNTIF('10'!O54,"x")+COUNTIF('11'!O54,"x")+COUNTIF('12'!O54,"x")+COUNTIF('13'!O54,"x")+COUNTIF('14'!O54,"x")+COUNTIF('15'!O54,"x")<>0,COUNTIF('1'!O54,"x")+COUNTIF('2'!O54,"x")+COUNTIF('3'!O54,"x")+COUNTIF('4'!O54,"x")+COUNTIF('5'!O54,"x")+COUNTIF('6'!O54,"x")+COUNTIF('7'!O54,"x")+COUNTIF('8'!O54,"x")+COUNTIF('9'!O54,"x")+COUNTIF('10'!O54,"x")+COUNTIF('11'!O54,"x")+COUNTIF('12'!O54,"x")+COUNTIF('13'!O54,"x")+COUNTIF('14'!O54,"x")+COUNTIF('15'!O54,"x"),"0") -> 0 | Q54: =IF(COUNTIF('1'!Q54,"x")+COUNTIF('2'!Q54,"x")+COUNTIF('3'!Q54,"x")+COUNTIF('4'!Q54,"x")+COUNTIF('5'!Q54,"x")+COUNTIF('6'!Q54,"x")+COUNTIF('7'!Q54,"x")+COUNTIF('8'!Q54,"x")+COUNTIF('9'!Q54,"x")+COUNTIF('10'!Q54,"x")+COUNTIF('11'!Q54,"x")+COUNTIF('12'!Q54,"x")+COUNTIF('13'!Q54,"x")+COUNTIF('14'!Q54,"x")+COUNTIF('15'!Q54,"x")<>0,COUNTIF('1'!Q54,"x")+COUNTIF('2'!Q54,"x")+COUNTIF('3'!Q54,"x")+COUNTIF('4'!Q54,"x")+COUNTIF('5'!Q54,"x")+COUNTIF('6'!Q54,"x")+COUNTIF('7'!Q54,"x")+COUNTIF('8'!Q54,"x")+COUNTIF('9'!Q54,"x")+COUNTIF('10'!Q54,"x")+COUNTIF('11'!Q54,"x")+COUNTIF('12'!Q54,"x")+COUNTIF('13'!Q54,"x")+COUNTIF('14'!Q54,"x")+COUNTIF('15'!Q54,"x"),"0") -> 0 | S54: =IF(SUM(E54:Q54)<>0,SUM(E54*1,G54*2,J54*3,L54*4,O54*5,Q54*6)/SUM(E54:Q54),"") | V54: =IF(COUNTIF((E54:Q54),"x")>1,"Bitte nur ein Kreuz setzen!","")
S55: =IF(SUM(S45:S54)<>0,SUM(S45:S54)/COUNT(S45:S54),"") | T55: erreichte Punkte | U55: =IF(S55<>"",-((U44/5)*S55)+(U44+(U44/5)),"0") -> 0
A56: =+Vorlage!A56 -> OP-Tischplatten-Transporter bzw. Fahrbarkeit | T56: Punkte | U56: 3
B57: =IF(Vorlage!B57<>"",Vorlage!B57,"") -> Gesamteindruck zur Wendigkeit | E57: =IF(COUNTIF('1'!E57,"x")+COUNTIF('2'!E57,"x")+COUNTIF('3'!E57,"x")+COUNTIF('4'!E57,"x")+COUNTIF('5'!E57,"x")+COUNTIF('6'!E57,"x")+COUNTIF('7'!E57,"x")+COUNTIF('8'!E57,"x")+COUNTIF('9'!E57,"x")+COUNTIF('10'!E57,"x")+COUNTIF('11'!E57,"x")+COUNTIF('12'!E57,"x")+COUNTIF('13'!E57,"x")+COUNTIF('14'!E57,"x")+COUNTIF('15'!E57,"x")<>0,COUNTIF('1'!E57,"x")+COUNTIF('2'!E57,"x")+COUNTIF('3'!E57,"x")+COUNTIF('4'!E57,"x")+COUNTIF('5'!E57,"x")+COUNTIF('6'!E57,"x")+COUNTIF('7'!E57,"x")+COUNTIF('8'!E57,"x")+COUNTIF('9'!E57,"x")+COUNTIF('10'!E57,"x")+COUNTIF('11'!E57,"x")+COUNTIF('12'!E57,"x")+COUNTIF('13'!E57,"x")+COUNTIF('14'!E57,"x")+COUNTIF('15'!E57,"x"),"0") -> 0 | G57: =IF(COUNTIF('1'!G57,"x")+COUNTIF('2'!G57,"x")+COUNTIF('3'!G57,"x")+COUNTIF('4'!G57,"x")+COUNTIF('5'!G57,"x")+COUNTIF('6'!G57,"x")+COUNTIF('7'!G57,"x")+COUNTIF('8'!G57,"x")+COUNTIF('9'!G57,"x")+COUNTIF('10'!G57,"x")+COUNTIF('11'!G57,"x")+COUNTIF('12'!G57,"x")+COUNTIF('13'!G57,"x")+COUNTIF('14'!G57,"x")+COUNTIF('15'!G57,"x")<>0,COUNTIF('1'!G57,"x")+COUNTIF('2'!G57,"x")+COUNTIF('3'!G57,"x")+COUNTIF('4'!G57,"x")+COUNTIF('5'!G57,"x")+COUNTIF('6'!G57,"x")+COUNTIF('7'!G57,"x")+COUNTIF('8'!G57,"x")+COUNTIF('9'!G57,"x")+COUNTIF('10'!G57,"x")+COUNTIF('11'!G57,"x")+COUNTIF('12'!G57,"x")+COUNTIF('13'!G57,"x")+COUNTIF('14'!G57,"x")+COUNTIF('15'!G57,"x"),"0") -> 0 | J57: =IF(COUNTIF('1'!J57,"x")+COUNTIF('2'!J57,"x")+COUNTIF('3'!J57,"x")+COUNTIF('4'!J57,"x")+COUNTIF('5'!J57,"x")+COUNTIF('6'!J57,"x")+COUNTIF('7'!J57,"x")+COUNTIF('8'!J57,"x")+COUNTIF('9'!J57,"x")+COUNTIF('10'!J57,"x")+COUNTIF('11'!J57,"x")+COUNTIF('12'!J57,"x")+COUNTIF('13'!J57,"x")+COUNTIF('14'!J57,"x")+COUNTIF('15'!J57,"x")<>0,COUNTIF('1'!J57,"x")+COUNTIF('2'!J57,"x")+COUNTIF('3'!J57,"x")+COUNTIF('4'!J57,"x")+COUNTIF('5'!J57,"x")+COUNTIF('6'!J57,"x")+COUNTIF('7'!J57,"x")+COUNTIF('8'!J57,"x")+COUNTIF('9'!J57,"x")+COUNTIF('10'!J57,"x")+COUNTIF('11'!J57,"x")+COUNTIF('12'!J57,"x")+COUNTIF('13'!J57,"x")+COUNTIF('14'!J57,"x")+COUNTIF('15'!J57,"x"),"0") -> 0 | L57: =IF(COUNTIF('1'!L57,"x")+COUNTIF('2'!L57,"x")+COUNTIF('3'!L57,"x")+COUNTIF('4'!L57,"x")+COUNTIF('5'!L57,"x")+COUNTIF('6'!L57,"x")+COUNTIF('7'!L57,"x")+COUNTIF('8'!L57,"x")+COUNTIF('9'!L57,"x")+COUNTIF('10'!L57,"x")+COUNTIF('11'!L57,"x")+COUNTIF('12'!L57,"x")+COUNTIF('13'!L57,"x")+COUNTIF('14'!L57,"x")+COUNTIF('15'!L57,"x")<>0,COUNTIF('1'!L57,"x")+COUNTIF('2'!L57,"x")+COUNTIF('3'!L57,"x")+COUNTIF('4'!L57,"x")+COUNTIF('5'!L57,"x")+COUNTIF('6'!L57,"x")+COUNTIF('7'!L57,"x")+COUNTIF('8'!L57,"x")+COUNTIF('9'!L57,"x")+COUNTIF('10'!L57,"x")+COUNTIF('11'!L57,"x")+COUNTIF('12'!L57,"x")+COUNTIF('13'!L57,"x")+COUNTIF('14'!L57,"x")+COUNTIF('15'!L57,"x"),"0") -> 0 | O57: =IF(COUNTIF('1'!O57,"x")+COUNTIF('2'!O57,"x")+COUNTIF('3'!O57,"x")+COUNTIF('4'!O57,"x")+COUNTIF('5'!O57,"x")+COUNTIF('6'!O57,"x")+COUNTIF('7'!O57,"x")+COUNTIF('8'!O57,"x")+COUNTIF('9'!O57,"x")+COUNTIF('10'!O57,"x")+COUNTIF('11'!O57,"x")+COUNTIF('12'!O57,"x")+COUNTIF('13'!O57,"x")+COUNTIF('14'!O57,"x")+COUNTIF('15'!O57,"x")<>0,COUNTIF('1'!O57,"x")+COUNTIF('2'!O57,"x")+COUNTIF('3'!O57,"x")+COUNTIF('4'!O57,"x")+COUNTIF('5'!O57,"x")+COUNTIF('6'!O57,"x")+COUNTIF('7'!O57,"x")+COUNTIF('8'!O57,"x")+COUNTIF('9'!O57,"x")+COUNTIF('10'!O57,"x")+COUNTIF('11'!O57,"x")+COUNTIF('12'!O57,"x")+COUNTIF('13'!O57,"x")+COUNTIF('14'!O57,"x")+COUNTIF('15'!O57,"x"),"0") -> 0 | Q57: =IF(COUNTIF('1'!Q57,"x")+COUNTIF('2'!Q57,"x")+COUNTIF('3'!Q57,"x")+COUNTIF('4'!Q57,"x")+COUNTIF('5'!Q57,"x")+COUNTIF('6'!Q57,"x")+COUNTIF('7'!Q57,"x")+COUNTIF('8'!Q57,"x")+COUNTIF('9'!Q57,"x")+COUNTIF('10'!Q57,"x")+COUNTIF('11'!Q57,"x")+COUNTIF('12'!Q57,"x")+COUNTIF('13'!Q57,"x")+COUNTIF('14'!Q57,"x")+COUNTIF('15'!Q57,"x")<>0,COUNTIF('1'!Q57,"x")+COUNTIF('2'!Q57,"x")+COUNTIF('3'!Q57,"x")+COUNTIF('4'!Q57,"x")+COUNTIF('5'!Q57,"x")+COUNTIF('6'!Q57,"x")+COUNTIF('7'!Q57,"x")+COUNTIF('8'!Q57,"x")+COUNTIF('9'!Q57,"x")+COUNTIF('10'!Q57,"x")+COUNTIF('11'!Q57,"x")+COUNTIF('12'!Q57,"x")+COUNTIF('13'!Q57,"x")+COUNTIF('14'!Q57,"x")+COUNTIF('15'!Q57,"x"),"0") -> 0 | S57: =IF(SUM(E57:Q57)<>0,SUM(E57*1,G57*2,J57*3,L57*4,O57*5,Q57*6)/SUM(E57:Q57),"") | V57: =IF(COUNTIF((E57:Q57),"x")>1,"Bitte nur ein Kreuz setzen!","")
B58: =IF(Vorlage!B58<>"",Vorlage!B58,"") -> Anordnung der Bedienelemente | E58: =IF(COUNTIF('1'!E58,"x")+COUNTIF('2'!E58,"x")+COUNTIF('3'!E58,"x")+COUNTIF('4'!E58,"x")+COUNTIF('5'!E58,"x")+COUNTIF('6'!E58,"x")+COUNTIF('7'!E58,"x")+COUNTIF('8'!E58,"x")+COUNTIF('9'!E58,"x")+COUNTIF('10'!E58,"x")+COUNTIF('11'!E58,"x")+COUNTIF('12'!E58,"x")+COUNTIF('13'!E58,"x")+COUNTIF('14'!E58,"x")+COUNTIF('15'!E58,"x")<>0,COUNTIF('1'!E58,"x")+COUNTIF('2'!E58,"x")+COUNTIF('3'!E58,"x")+COUNTIF('4'!E58,"x")+COUNTIF('5'!E58,"x")+COUNTIF('6'!E58,"x")+COUNTIF('7'!E58,"x")+COUNTIF('8'!E58,"x")+COUNTIF('9'!E58,"x")+COUNTIF('10'!E58,"x")+COUNTIF('11'!E58,"x")+COUNTIF('12'!E58,"x")+COUNTIF('13'!E58,"x")+COUNTIF('14'!E58,"x")+COUNTIF('15'!E58,"x"),"0") -> 0 | G58: =IF(COUNTIF('1'!G58,"x")+COUNTIF('2'!G58,"x")+COUNTIF('3'!G58,"x")+COUNTIF('4'!G58,"x")+COUNTIF('5'!G58,"x")+COUNTIF('6'!G58,"x")+COUNTIF('7'!G58,"x")+COUNTIF('8'!G58,"x")+COUNTIF('9'!G58,"x")+COUNTIF('10'!G58,"x")+COUNTIF('11'!G58,"x")+COUNTIF('12'!G58,"x")+COUNTIF('13'!G58,"x")+COUNTIF('14'!G58,"x")+COUNTIF('15'!G58,"x")<>0,COUNTIF('1'!G58,"x")+COUNTIF('2'!G58,"x")+COUNTIF('3'!G58,"x")+COUNTIF('4'!G58,"x")+COUNTIF('5'!G58,"x")+COUNTIF('6'!G58,"x")+COUNTIF('7'!G58,"x")+COUNTIF('8'!G58,"x")+COUNTIF('9'!G58,"x")+COUNTIF('10'!G58,"x")+COUNTIF('11'!G58,"x")+COUNTIF('12'!G58,"x")+COUNTIF('13'!G58,"x")+COUNTIF('14'!G58,"x")+COUNTIF('15'!G58,"x"),"0") -> 0 | J58: =IF(COUNTIF('1'!J58,"x")+COUNTIF('2'!J58,"x")+COUNTIF('3'!J58,"x")+COUNTIF('4'!J58,"x")+COUNTIF('5'!J58,"x")+COUNTIF('6'!J58,"x")+COUNTIF('7'!J58,"x")+COUNTIF('8'!J58,"x")+COUNTIF('9'!J58,"x")+COUNTIF('10'!J58,"x")+COUNTIF('11'!J58,"x")+COUNTIF('12'!J58,"x")+COUNTIF('13'!J58,"x")+COUNTIF('14'!J58,"x")+COUNTIF('15'!J58,"x")<>0,COUNTIF('1'!J58,"x")+COUNTIF('2'!J58,"x")+COUNTIF('3'!J58,"x")+COUNTIF('4'!J58,"x")+COUNTIF('5'!J58,"x")+COUNTIF('6'!J58,"x")+COUNTIF('7'!J58,"x")+COUNTIF('8'!J58,"x")+COUNTIF('9'!J58,"x")+COUNTIF('10'!J58,"x")+COUNTIF('11'!J58,"x")+COUNTIF('12'!J58,"x")+COUNTIF('13'!J58,"x")+COUNTIF('14'!J58,"x")+COUNTIF('15'!J58,"x"),"0") -> 0 | L58: =IF(COUNTIF('1'!L58,"x")+COUNTIF('2'!L58,"x")+COUNTIF('3'!L58,"x")+COUNTIF('4'!L58,"x")+COUNTIF('5'!L58,"x")+COUNTIF('6'!L58,"x")+COUNTIF('7'!L58,"x")+COUNTIF('8'!L58,"x")+COUNTIF('9'!L58,"x")+COUNTIF('10'!L58,"x")+COUNTIF('11'!L58,"x")+COUNTIF('12'!L58,"x")+COUNTIF('13'!L58,"x")+COUNTIF('14'!L58,"x")+COUNTIF('15'!L58,"x")<>0,COUNTIF('1'!L58,"x")+COUNTIF('2'!L58,"x")+COUNTIF('3'!L58,"x")+COUNTIF('4'!L58,"x")+COUNTIF('5'!L58,"x")+COUNTIF('6'!L58,"x")+COUNTIF('7'!L58,"x")+COUNTIF('8'!L58,"x")+COUNTIF('9'!L58,"x")+COUNTIF('10'!L58,"x")+COUNTIF('11'!L58,"x")+COUNTIF('12'!L58,"x")+COUNTIF('13'!L58,"x")+COUNTIF('14'!L58,"x")+COUNTIF('15'!L58,"x"),"0") -> 0 | O58: =IF(COUNTIF('1'!O58,"x")+COUNTIF('2'!O58,"x")+COUNTIF('3'!O58,"x")+COUNTIF('4'!O58,"x")+COUNTIF('5'!O58,"x")+COUNTIF('6'!O58,"x")+COUNTIF('7'!O58,"x")+COUNTIF('8'!O58,"x")+COUNTIF('9'!O58,"x")+COUNTIF('10'!O58,"x")+COUNTIF('11'!O58,"x")+COUNTIF('12'!O58,"x")+COUNTIF('13'!O58,"x")+COUNTIF('14'!O58,"x")+COUNTIF('15'!O58,"x")<>0,COUNTIF('1'!O58,"x")+COUNTIF('2'!O58,"x")+COUNTIF('3'!O58,"x")+COUNTIF('4'!O58,"x")+COUNTIF('5'!O58,"x")+COUNTIF('6'!O58,"x")+COUNTIF('7'!O58,"x")+COUNTIF('8'!O58,"x")+COUNTIF('9'!O58,"x")+COUNTIF('10'!O58,"x")+COUNTIF('11'!O58,"x")+COUNTIF('12'!O58,"x")+COUNTIF('13'!O58,"x")+COUNTIF('14'!O58,"x")+COUNTIF('15'!O58,"x"),"0") -> 0 | Q58: =IF(COUNTIF('1'!Q58,"x")+COUNTIF('2'!Q58,"x")+COUNTIF('3'!Q58,"x")+COUNTIF('4'!Q58,"x")+COUNTIF('5'!Q58,"x")+COUNTIF('6'!Q58,"x")+COUNTIF('7'!Q58,"x")+COUNTIF('8'!Q58,"x")+COUNTIF('9'!Q58,"x")+COUNTIF('10'!Q58,"x")+COUNTIF('11'!Q58,"x")+COUNTIF('12'!Q58,"x")+COUNTIF('13'!Q58,"x")+COUNTIF('14'!Q58,"x")+COUNTIF('15'!Q58,"x")<>0,COUNTIF('1'!Q58,"x")+COUNTIF('2'!Q58,"x")+COUNTIF('3'!Q58,"x")+COUNTIF('4'!Q58,"x")+COUNTIF('5'!Q58,"x")+COUNTIF('6'!Q58,"x")+COUNTIF('7'!Q58,"x")+COUNTIF('8'!Q58,"x")+COUNTIF('9'!Q58,"x")+COUNTIF('10'!Q58,"x")+COUNTIF('11'!Q58,"x")+COUNTIF('12'!Q58,"x")+COUNTIF('13'!Q58,"x")+COUNTIF('14'!Q58,"x")+COUNTIF('15'!Q58,"x"),"0") -> 0 | S58: =IF(SUM(E58:Q58)<>0,SUM(E58*1,G58*2,J58*3,L58*4,O58*5,Q58*6)/SUM(E58:Q58),"") | V58: =IF(COUNTIF((E58:Q58),"x")>1,"Bitte nur ein Kreuz setzen!","")
B59: =IF(Vorlage!B59<>"",Vorlage!B59,"") -> Verstellmöglichkeiten der OP-Tischplatte auf dem Transporter | E59: =IF(COUNTIF('1'!E59,"x")+COUNTIF('2'!E59,"x")+COUNTIF('3'!E59,"x")+COUNTIF('4'!E59,"x")+COUNTIF('5'!E59,"x")+COUNTIF('6'!E59,"x")+COUNTIF('7'!E59,"x")+COUNTIF('8'!E59,"x")+COUNTIF('9'!E59,"x")+COUNTIF('10'!E59,"x")+COUNTIF('11'!E59,"x")+COUNTIF('12'!E59,"x")+COUNTIF('13'!E59,"x")+COUNTIF('14'!E59,"x")+COUNTIF('15'!E59,"x")<>0,COUNTIF('1'!E59,"x")+COUNTIF('2'!E59,"x")+COUNTIF('3'!E59,"x")+COUNTIF('4'!E59,"x")+COUNTIF('5'!E59,"x")+COUNTIF('6'!E59,"x")+COUNTIF('7'!E59,"x")+COUNTIF('8'!E59,"x")+COUNTIF('9'!E59,"x")+COUNTIF('10'!E59,"x")+COUNTIF('11'!E59,"x")+COUNTIF('12'!E59,"x")+COUNTIF('13'!E59,"x")+COUNTIF('14'!E59,"x")+COUNTIF('15'!E59,"x"),"0") -> 0 | G59: =IF(COUNTIF('1'!G59,"x")+COUNTIF('2'!G59,"x")+COUNTIF('3'!G59,"x")+COUNTIF('4'!G59,"x")+COUNTIF('5'!G59,"x")+COUNTIF('6'!G59,"x")+COUNTIF('7'!G59,"x")+COUNTIF('8'!G59,"x")+COUNTIF('9'!G59,"x")+COUNTIF('10'!G59,"x")+COUNTIF('11'!G59,"x")+COUNTIF('12'!G59,"x")+COUNTIF('13'!G59,"x")+COUNTIF('14'!G59,"x")+COUNTIF('15'!G59,"x")<>0,COUNTIF('1'!G59,"x")+COUNTIF('2'!G59,"x")+COUNTIF('3'!G59,"x")+COUNTIF('4'!G59,"x")+COUNTIF('5'!G59,"x")+COUNTIF('6'!G59,"x")+COUNTIF('7'!G59,"x")+COUNTIF('8'!G59,"x")+COUNTIF('9'!G59,"x")+COUNTIF('10'!G59,"x")+COUNTIF('11'!G59,"x")+COUNTIF('12'!G59,"x")+COUNTIF('13'!G59,"x")+COUNTIF('14'!G59,"x")+COUNTIF('15'!G59,"x"),"0") -> 0 | J59: =IF(COUNTIF('1'!J59,"x")+COUNTIF('2'!J59,"x")+COUNTIF('3'!J59,"x")+COUNTIF('4'!J59,"x")+COUNTIF('5'!J59,"x")+COUNTIF('6'!J59,"x")+COUNTIF('7'!J59,"x")+COUNTIF('8'!J59,"x")+COUNTIF('9'!J59,"x")+COUNTIF('10'!J59,"x")+COUNTIF('11'!J59,"x")+COUNTIF('12'!J59,"x")+COUNTIF('13'!J59,"x")+COUNTIF('14'!J59,"x")+COUNTIF('15'!J59,"x")<>0,COUNTIF('1'!J59,"x")+COUNTIF('2'!J59,"x")+COUNTIF('3'!J59,"x")+COUNTIF('4'!J59,"x")+COUNTIF('5'!J59,"x")+COUNTIF('6'!J59,"x")+COUNTIF('7'!J59,"x")+COUNTIF('8'!J59,"x")+COUNTIF('9'!J59,"x")+COUNTIF('10'!J59,"x")+COUNTIF('11'!J59,"x")+COUNTIF('12'!J59,"x")+COUNTIF('13'!J59,"x")+COUNTIF('14'!J59,"x")+COUNTIF('15'!J59,"x"),"0") -> 0 | L59: =IF(COUNTIF('1'!L59,"x")+COUNTIF('2'!L59,"x")+COUNTIF('3'!L59,"x")+COUNTIF('4'!L59,"x")+COUNTIF('5'!L59,"x")+COUNTIF('6'!L59,"x")+COUNTIF('7'!L59,"x")+COUNTIF('8'!L59,"x")+COUNTIF('9'!L59,"x")+COUNTIF('10'!L59,"x")+COUNTIF('11'!L59,"x")+COUNTIF('12'!L59,"x")+COUNTIF('13'!L59,"x")+COUNTIF('14'!L59,"x")+COUNTIF('15'!L59,"x")<>0,COUNTIF('1'!L59,"x")+COUNTIF('2'!L59,"x")+COUNTIF('3'!L59,"x")+COUNTIF('4'!L59,"x")+COUNTIF('5'!L59,"x")+COUNTIF('6'!L59,"x")+COUNTIF('7'!L59,"x")+COUNTIF('8'!L59,"x")+COUNTIF('9'!L59,"x")+COUNTIF('10'!L59,"x")+COUNTIF('11'!L59,"x")+COUNTIF('12'!L59,"x")+COUNTIF('13'!L59,"x")+COUNTIF('14'!L59,"x")+COUNTIF('15'!L59,"x"),"0") -> 0 | O59: =IF(COUNTIF('1'!O59,"x")+COUNTIF('2'!O59,"x")+COUNTIF('3'!O59,"x")+COUNTIF('4'!O59,"x")+COUNTIF('5'!O59,"x")+COUNTIF('6'!O59,"x")+COUNTIF('7'!O59,"x")+COUNTIF('8'!O59,"x")+COUNTIF('9'!O59,"x")+COUNTIF('10'!O59,"x")+COUNTIF('11'!O59,"x")+COUNTIF('12'!O59,"x")+COUNTIF('13'!O59,"x")+COUNTIF('14'!O59,"x")+COUNTIF('15'!O59,"x")<>0,COUNTIF('1'!O59,"x")+COUNTIF('2'!O59,"x")+COUNTIF('3'!O59,"x")+COUNTIF('4'!O59,"x")+COUNTIF('5'!O59,"x")+COUNTIF('6'!O59,"x")+COUNTIF('7'!O59,"x")+COUNTIF('8'!O59,"x")+COUNTIF('9'!O59,"x")+COUNTIF('10'!O59,"x")+COUNTIF('11'!O59,"x")+COUNTIF('12'!O59,"x")+COUNTIF('13'!O59,"x")+COUNTIF('14'!O59,"x")+COUNTIF('15'!O59,"x"),"0") -> 0 | Q59: =IF(COUNTIF('1'!Q59,"x")+COUNTIF('2'!Q59,"x")+COUNTIF('3'!Q59,"x")+COUNTIF('4'!Q59,"x")+COUNTIF('5'!Q59,"x")+COUNTIF('6'!Q59,"x")+COUNTIF('7'!Q59,"x")+COUNTIF('8'!Q59,"x")+COUNTIF('9'!Q59,"x")+COUNTIF('10'!Q59,"x")+COUNTIF('11'!Q59,"x")+COUNTIF('12'!Q59,"x")+COUNTIF('13'!Q59,"x")+COUNTIF('14'!Q59,"x")+COUNTIF('15'!Q59,"x")<>0,COUNTIF('1'!Q59,"x")+COUNTIF('2'!Q59,"x")+COUNTIF('3'!Q59,"x")+COUNTIF('4'!Q59,"x")+COUNTIF('5'!Q59,"x")+COUNTIF('6'!Q59,"x")+COUNTIF('7'!Q59,"x")+COUNTIF('8'!Q59,"x")+COUNTIF('9'!Q59,"x")+COUNTIF('10'!Q59,"x")+COUNTIF('11'!Q59,"x")+COUNTIF('12'!Q59,"x")+COUNTIF('13'!Q59,"x")+COUNTIF('14'!Q59,"x")+COUNTIF('15'!Q59,"x"),"0") -> 0 | S59: =IF(SUM(E59:Q59)<>0,SUM(E59*1,G59*2,J59*3,L59*4,O59*5,Q59*6)/SUM(E59:Q59),"") | V59: =IF(COUNTIF((E59:Q59),"x")>1,"Bitte nur ein Kreuz setzen!","")
B60: =IF(Vorlage!B60<>"",Vorlage!B60,"") -> Schocklagerungsposition auf dem Transporter | E60: =IF(COUNTIF('1'!E60,"x")+COUNTIF('2'!E60,"x")+COUNTIF('3'!E60,"x")+COUNTIF('4'!E60,"x")+COUNTIF('5'!E60,"x")+COUNTIF('6'!E60,"x")+COUNTIF('7'!E60,"x")+COUNTIF('8'!E60,"x")+COUNTIF('9'!E60,"x")+COUNTIF('10'!E60,"x")+COUNTIF('11'!E60,"x")+COUNTIF('12'!E60,"x")+COUNTIF('13'!E60,"x")+COUNTIF('14'!E60,"x")+COUNTIF('15'!E60,"x")<>0,COUNTIF('1'!E60,"x")+COUNTIF('2'!E60,"x")+COUNTIF('3'!E60,"x")+COUNTIF('4'!E60,"x")+COUNTIF('5'!E60,"x")+COUNTIF('6'!E60,"x")+COUNTIF('7'!E60,"x")+COUNTIF('8'!E60,"x")+COUNTIF('9'!E60,"x")+COUNTIF('10'!E60,"x")+COUNTIF('11'!E60,"x")+COUNTIF('12'!E60,"x")+COUNTIF('13'!E60,"x")+COUNTIF('14'!E60,"x")+COUNTIF('15'!E60,"x"),"0") -> 0 | G60: =IF(COUNTIF('1'!G60,"x")+COUNTIF('2'!G60,"x")+COUNTIF('3'!G60,"x")+COUNTIF('4'!G60,"x")+COUNTIF('5'!G60,"x")+COUNTIF('6'!G60,"x")+COUNTIF('7'!G60,"x")+COUNTIF('8'!G60,"x")+COUNTIF('9'!G60,"x")+COUNTIF('10'!G60,"x")+COUNTIF('11'!G60,"x")+COUNTIF('12'!G60,"x")+COUNTIF('13'!G60,"x")+COUNTIF('14'!G60,"x")+COUNTIF('15'!G60,"x")<>0,COUNTIF('1'!G60,"x")+COUNTIF('2'!G60,"x")+COUNTIF('3'!G60,"x")+COUNTIF('4'!G60,"x")+COUNTIF('5'!G60,"x")+COUNTIF('6'!G60,"x")+COUNTIF('7'!G60,"x")+COUNTIF('8'!G60,"x")+COUNTIF('9'!G60,"x")+COUNTIF('10'!G60,"x")+COUNTIF('11'!G60,"x")+COUNTIF('12'!G60,"x")+COUNTIF('13'!G60,"x")+COUNTIF('14'!G60,"x")+COUNTIF('15'!G60,"x"),"0") -> 0 | J60: =IF(COUNTIF('1'!J60,"x")+COUNTIF('2'!J60,"x")+COUNTIF('3'!J60,"x")+COUNTIF('4'!J60,"x")+COUNTIF('5'!J60,"x")+COUNTIF('6'!J60,"x")+COUNTIF('7'!J60,"x")+COUNTIF('8'!J60,"x")+COUNTIF('9'!J60,"x")+COUNTIF('10'!J60,"x")+COUNTIF('11'!J60,"x")+COUNTIF('12'!J60,"x")+COUNTIF('13'!J60,"x")+COUNTIF('14'!J60,"x")+COUNTIF('15'!J60,"x")<>0,COUNTIF('1'!J60,"x")+COUNTIF('2'!J60,"x")+COUNTIF('3'!J60,"x")+COUNTIF('4'!J60,"x")+COUNTIF('5'!J60,"x")+COUNTIF('6'!J60,"x")+COUNTIF('7'!J60,"x")+COUNTIF('8'!J60,"x")+COUNTIF('9'!J60,"x")+COUNTIF('10'!J60,"x")+COUNTIF('11'!J60,"x")+COUNTIF('12'!J60,"x")+COUNTIF('13'!J60,"x")+COUNTIF('14'!J60,"x")+COUNTIF('15'!J60,"x"),"0") -> 0 | L60: =IF(COUNTIF('1'!L60,"x")+COUNTIF('2'!L60,"x")+COUNTIF('3'!L60,"x")+COUNTIF('4'!L60,"x")+COUNTIF('5'!L60,"x")+COUNTIF('6'!L60,"x")+COUNTIF('7'!L60,"x")+COUNTIF('8'!L60,"x")+COUNTIF('9'!L60,"x")+COUNTIF('10'!L60,"x")+COUNTIF('11'!L60,"x")+COUNTIF('12'!L60,"x")+COUNTIF('13'!L60,"x")+COUNTIF('14'!L60,"x")+COUNTIF('15'!L60,"x")<>0,COUNTIF('1'!L60,"x")+COUNTIF('2'!L60,"x")+COUNTIF('3'!L60,"x")+COUNTIF('4'!L60,"x")+COUNTIF('5'!L60,"x")+COUNTIF('6'!L60,"x")+COUNTIF('7'!L60,"x")+COUNTIF('8'!L60,"x")+COUNTIF('9'!L60,"x")+COUNTIF('10'!L60,"x")+COUNTIF('11'!L60,"x")+COUNTIF('12'!L60,"x")+COUNTIF('13'!L60,"x")+COUNTIF('14'!L60,"x")+COUNTIF('15'!L60,"x"),"0") -> 0 | O60: =IF(COUNTIF('1'!O60,"x")+COUNTIF('2'!O60,"x")+COUNTIF('3'!O60,"x")+COUNTIF('4'!O60,"x")+COUNTIF('5'!O60,"x")+COUNTIF('6'!O60,"x")+COUNTIF('7'!O60,"x")+COUNTIF('8'!O60,"x")+COUNTIF('9'!O60,"x")+COUNTIF('10'!O60,"x")+COUNTIF('11'!O60,"x")+COUNTIF('12'!O60,"x")+COUNTIF('13'!O60,"x")+COUNTIF('14'!O60,"x")+COUNTIF('15'!O60,"x")<>0,COUNTIF('1'!O60,"x")+COUNTIF('2'!O60,"x")+COUNTIF('3'!O60,"x")+COUNTIF('4'!O60,"x")+COUNTIF('5'!O60,"x")+COUNTIF('6'!O60,"x")+COUNTIF('7'!O60,"x")+COUNTIF('8'!O60,"x")+COUNTIF('9'!O60,"x")+COUNTIF('10'!O60,"x")+COUNTIF('11'!O60,"x")+COUNTIF('12'!O60,"x")+COUNTIF('13'!O60,"x")+COUNTIF('14'!O60,"x")+COUNTIF('15'!O60,"x"),"0") -> 0 | Q60: =IF(COUNTIF('1'!Q60,"x")+COUNTIF('2'!Q60,"x")+COUNTIF('3'!Q60,"x")+COUNTIF('4'!Q60,"x")+COUNTIF('5'!Q60,"x")+COUNTIF('6'!Q60,"x")+COUNTIF('7'!Q60,"x")+COUNTIF('8'!Q60,"x")+COUNTIF('9'!Q60,"x")+COUNTIF('10'!Q60,"x")+COUNTIF('11'!Q60,"x")+COUNTIF('12'!Q60,"x")+COUNTIF('13'!Q60,"x")+COUNTIF('14'!Q60,"x")+COUNTIF('15'!Q60,"x")<>0,COUNTIF('1'!Q60,"x")+COUNTIF('2'!Q60,"x")+COUNTIF('3'!Q60,"x")+COUNTIF('4'!Q60,"x")+COUNTIF('5'!Q60,"x")+COUNTIF('6'!Q60,"x")+COUNTIF('7'!Q60,"x")+COUNTIF('8'!Q60,"x")+COUNTIF('9'!Q60,"x")+COUNTIF('10'!Q60,"x")+COUNTIF('11'!Q60,"x")+COUNTIF('12'!Q60,"x")+COUNTIF('13'!Q60,"x")+COUNTIF('14'!Q60,"x")+COUNTIF('15'!Q60,"x"),"0") -> 0 | S60: =IF(SUM(E60:Q60)<>0,SUM(E60*1,G60*2,J60*3,L60*4,O60*5,Q60*6)/SUM(E60:Q60),"") | V60: =IF(COUNTIF((E60:Q60),"x")>1,"Bitte nur ein Kreuz setzen!","")
B61: =IF(Vorlage!B61<>"",Vorlage!B61,"") | E61: =IF(COUNTIF('1'!E61,"x")+COUNTIF('2'!E61,"x")+COUNTIF('3'!E61,"x")+COUNTIF('4'!E61,"x")+COUNTIF('5'!E61,"x")+COUNTIF('6'!E61,"x")+COUNTIF('7'!E61,"x")+COUNTIF('8'!E61,"x")+COUNTIF('9'!E61,"x")+COUNTIF('10'!E61,"x")+COUNTIF('11'!E61,"x")+COUNTIF('12'!E61,"x")+COUNTIF('13'!E61,"x")+COUNTIF('14'!E61,"x")+COUNTIF('15'!E61,"x")<>0,COUNTIF('1'!E61,"x")+COUNTIF('2'!E61,"x")+COUNTIF('3'!E61,"x")+COUNTIF('4'!E61,"x")+COUNTIF('5'!E61,"x")+COUNTIF('6'!E61,"x")+COUNTIF('7'!E61,"x")+COUNTIF('8'!E61,"x")+COUNTIF('9'!E61,"x")+COUNTIF('10'!E61,"x")+COUNTIF('11'!E61,"x")+COUNTIF('12'!E61,"x")+COUNTIF('13'!E61,"x")+COUNTIF('14'!E61,"x")+COUNTIF('15'!E61,"x"),"0") -> 0 | G61: =IF(COUNTIF('1'!G61,"x")+COUNTIF('2'!G61,"x")+COUNTIF('3'!G61,"x")+COUNTIF('4'!G61,"x")+COUNTIF('5'!G61,"x")+COUNTIF('6'!G61,"x")+COUNTIF('7'!G61,"x")+COUNTIF('8'!G61,"x")+COUNTIF('9'!G61,"x")+COUNTIF('10'!G61,"x")+COUNTIF('11'!G61,"x")+COUNTIF('12'!G61,"x")+COUNTIF('13'!G61,"x")+COUNTIF('14'!G61,"x")+COUNTIF('15'!G61,"x")<>0,COUNTIF('1'!G61,"x")+COUNTIF('2'!G61,"x")+COUNTIF('3'!G61,"x")+COUNTIF('4'!G61,"x")+COUNTIF('5'!G61,"x")+COUNTIF('6'!G61,"x")+COUNTIF('7'!G61,"x")+COUNTIF('8'!G61,"x")+COUNTIF('9'!G61,"x")+COUNTIF('10'!G61,"x")+COUNTIF('11'!G61,"x")+COUNTIF('12'!G61,"x")+COUNTIF('13'!G61,"x")+COUNTIF('14'!G61,"x")+COUNTIF('15'!G61,"x"),"0") -> 0 | J61: =IF(COUNTIF('1'!J61,"x")+COUNTIF('2'!J61,"x")+COUNTIF('3'!J61,"x")+COUNTIF('4'!J61,"x")+COUNTIF('5'!J61,"x")+COUNTIF('6'!J61,"x")+COUNTIF('7'!J61,"x")+COUNTIF('8'!J61,"x")+COUNTIF('9'!J61,"x")+COUNTIF('10'!J61,"x")+COUNTIF('11'!J61,"x")+COUNTIF('12'!J61,"x")+COUNTIF('13'!J61,"x")+COUNTIF('14'!J61,"x")+COUNTIF('15'!J61,"x")<>0,COUNTIF('1'!J61,"x")+COUNTIF('2'!J61,"x")+COUNTIF('3'!J61,"x")+COUNTIF('4'!J61,"x")+COUNTIF('5'!J61,"x")+COUNTIF('6'!J61,"x")+COUNTIF('7'!J61,"x")+COUNTIF('8'!J61,"x")+COUNTIF('9'!J61,"x")+COUNTIF('10'!J61,"x")+COUNTIF('11'!J61,"x")+COUNTIF('12'!J61,"x")+COUNTIF('13'!J61,"x")+COUNTIF('14'!J61,"x")+COUNTIF('15'!J61,"x"),"0") -> 0 | L61: =IF(COUNTIF('1'!L61,"x")+COUNTIF('2'!L61,"x")+COUNTIF('3'!L61,"x")+COUNTIF('4'!L61,"x")+COUNTIF('5'!L61,"x")+COUNTIF('6'!L61,"x")+COUNTIF('7'!L61,"x")+COUNTIF('8'!L61,"x")+COUNTIF('9'!L61,"x")+COUNTIF('10'!L61,"x")+COUNTIF('11'!L61,"x")+COUNTIF('12'!L61,"x")+COUNTIF('13'!L61,"x")+COUNTIF('14'!L61,"x")+COUNTIF('15'!L61,"x")<>0,COUNTIF('1'!L61,"x")+COUNTIF('2'!L61,"x")+COUNTIF('3'!L61,"x")+COUNTIF('4'!L61,"x")+COUNTIF('5'!L61,"x")+COUNTIF('6'!L61,"x")+COUNTIF('7'!L61,"x")+COUNTIF('8'!L61,"x")+COUNTIF('9'!L61,"x")+COUNTIF('10'!L61,"x")+COUNTIF('11'!L61,"x")+COUNTIF('12'!L61,"x")+COUNTIF('13'!L61,"x")+COUNTIF('14'!L61,"x")+COUNTIF('15'!L61,"x"),"0") -> 0 | O61: =IF(COUNTIF('1'!O61,"x")+COUNTIF('2'!O61,"x")+COUNTIF('3'!O61,"x")+COUNTIF('4'!O61,"x")+COUNTIF('5'!O61,"x")+COUNTIF('6'!O61,"x")+COUNTIF('7'!O61,"x")+COUNTIF('8'!O61,"x")+COUNTIF('9'!O61,"x")+COUNTIF('10'!O61,"x")+COUNTIF('11'!O61,"x")+COUNTIF('12'!O61,"x")+COUNTIF('13'!O61,"x")+COUNTIF('14'!O61,"x")+COUNTIF('15'!O61,"x")<>0,COUNTIF('1'!O61,"x")+COUNTIF('2'!O61,"x")+COUNTIF('3'!O61,"x")+COUNTIF('4'!O61,"x")+COUNTIF('5'!O61,"x")+COUNTIF('6'!O61,"x")+COUNTIF('7'!O61,"x")+COUNTIF('8'!O61,"x")+COUNTIF('9'!O61,"x")+COUNTIF('10'!O61,"x")+COUNTIF('11'!O61,"x")+COUNTIF('12'!O61,"x")+COUNTIF('13'!O61,"x")+COUNTIF('14'!O61,"x")+COUNTIF('15'!O61,"x"),"0") -> 0 | Q61: =IF(COUNTIF('1'!Q61,"x")+COUNTIF('2'!Q61,"x")+COUNTIF('3'!Q61,"x")+COUNTIF('4'!Q61,"x")+COUNTIF('5'!Q61,"x")+COUNTIF('6'!Q61,"x")+COUNTIF('7'!Q61,"x")+COUNTIF('8'!Q61,"x")+COUNTIF('9'!Q61,"x")+COUNTIF('10'!Q61,"x")+COUNTIF('11'!Q61,"x")+COUNTIF('12'!Q61,"x")+COUNTIF('13'!Q61,"x")+COUNTIF('14'!Q61,"x")+COUNTIF('15'!Q61,"x")<>0,COUNTIF('1'!Q61,"x")+COUNTIF('2'!Q61,"x")+COUNTIF('3'!Q61,"x")+COUNTIF('4'!Q61,"x")+COUNTIF('5'!Q61,"x")+COUNTIF('6'!Q61,"x")+COUNTIF('7'!Q61,"x")+COUNTIF('8'!Q61,"x")+COUNTIF('9'!Q61,"x")+COUNTIF('10'!Q61,"x")+COUNTIF('11'!Q61,"x")+COUNTIF('12'!Q61,"x")+COUNTIF('13'!Q61,"x")+COUNTIF('14'!Q61,"x")+COUNTIF('15'!Q61,"x"),"0") -> 0 | S61: =IF(SUM(E61:Q61)<>0,SUM(E61*1,G61*2,J61*3,L61*4,O61*5,Q61*6)/SUM(E61:Q61),"") | V61: =IF(COUNTIF((E61:Q61),"x")>1,"Bitte nur ein Kreuz setzen!","")
B62: =IF(Vorlage!B62<>"",Vorlage!B62,"") | E62: =IF(COUNTIF('1'!E62,"x")+COUNTIF('2'!E62,"x")+COUNTIF('3'!E62,"x")+COUNTIF('4'!E62,"x")+COUNTIF('5'!E62,"x")+COUNTIF('6'!E62,"x")+COUNTIF('7'!E62,"x")+COUNTIF('8'!E62,"x")+COUNTIF('9'!E62,"x")+COUNTIF('10'!E62,"x")+COUNTIF('11'!E62,"x")+COUNTIF('12'!E62,"x")+COUNTIF('13'!E62,"x")+COUNTIF('14'!E62,"x")+COUNTIF('15'!E62,"x")<>0,COUNTIF('1'!E62,"x")+COUNTIF('2'!E62,"x")+COUNTIF('3'!E62,"x")+COUNTIF('4'!E62,"x")+COUNTIF('5'!E62,"x")+COUNTIF('6'!E62,"x")+COUNTIF('7'!E62,"x")+COUNTIF('8'!E62,"x")+COUNTIF('9'!E62,"x")+COUNTIF('10'!E62,"x")+COUNTIF('11'!E62,"x")+COUNTIF('12'!E62,"x")+COUNTIF('13'!E62,"x")+COUNTIF('14'!E62,"x")+COUNTIF('15'!E62,"x"),"0") -> 0 | G62: =IF(COUNTIF('1'!G62,"x")+COUNTIF('2'!G62,"x")+COUNTIF('3'!G62,"x")+COUNTIF('4'!G62,"x")+COUNTIF('5'!G62,"x")+COUNTIF('6'!G62,"x")+COUNTIF('7'!G62,"x")+COUNTIF('8'!G62,"x")+COUNTIF('9'!G62,"x")+COUNTIF('10'!G62,"x")+COUNTIF('11'!G62,"x")+COUNTIF('12'!G62,"x")+COUNTIF('13'!G62,"x")+COUNTIF('14'!G62,"x")+COUNTIF('15'!G62,"x")<>0,COUNTIF('1'!G62,"x")+COUNTIF('2'!G62,"x")+COUNTIF('3'!G62,"x")+COUNTIF('4'!G62,"x")+COUNTIF('5'!G62,"x")+COUNTIF('6'!G62,"x")+COUNTIF('7'!G62,"x")+COUNTIF('8'!G62,"x")+COUNTIF('9'!G62,"x")+COUNTIF('10'!G62,"x")+COUNTIF('11'!G62,"x")+COUNTIF('12'!G62,"x")+COUNTIF('13'!G62,"x")+COUNTIF('14'!G62,"x")+COUNTIF('15'!G62,"x"),"0") -> 0 | J62: =IF(COUNTIF('1'!J62,"x")+COUNTIF('2'!J62,"x")+COUNTIF('3'!J62,"x")+COUNTIF('4'!J62,"x")+COUNTIF('5'!J62,"x")+COUNTIF('6'!J62,"x")+COUNTIF('7'!J62,"x")+COUNTIF('8'!J62,"x")+COUNTIF('9'!J62,"x")+COUNTIF('10'!J62,"x")+COUNTIF('11'!J62,"x")+COUNTIF('12'!J62,"x")+COUNTIF('13'!J62,"x")+COUNTIF('14'!J62,"x")+COUNTIF('15'!J62,"x")<>0,COUNTIF('1'!J62,"x")+COUNTIF('2'!J62,"x")+COUNTIF('3'!J62,"x")+COUNTIF('4'!J62,"x")+COUNTIF('5'!J62,"x")+COUNTIF('6'!J62,"x")+COUNTIF('7'!J62,"x")+COUNTIF('8'!J62,"x")+COUNTIF('9'!J62,"x")+COUNTIF('10'!J62,"x")+COUNTIF('11'!J62,"x")+COUNTIF('12'!J62,"x")+COUNTIF('13'!J62,"x")+COUNTIF('14'!J62,"x")+COUNTIF('15'!J62,"x"),"0") -> 0 | L62: =IF(COUNTIF('1'!L62,"x")+COUNTIF('2'!L62,"x")+COUNTIF('3'!L62,"x")+COUNTIF('4'!L62,"x")+COUNTIF('5'!L62,"x")+COUNTIF('6'!L62,"x")+COUNTIF('7'!L62,"x")+COUNTIF('8'!L62,"x")+COUNTIF('9'!L62,"x")+COUNTIF('10'!L62,"x")+COUNTIF('11'!L62,"x")+COUNTIF('12'!L62,"x")+COUNTIF('13'!L62,"x")+COUNTIF('14'!L62,"x")+COUNTIF('15'!L62,"x")<>0,COUNTIF('1'!L62,"x")+COUNTIF('2'!L62,"x")+COUNTIF('3'!L62,"x")+COUNTIF('4'!L62,"x")+COUNTIF('5'!L62,"x")+COUNTIF('6'!L62,"x")+COUNTIF('7'!L62,"x")+COUNTIF('8'!L62,"x")+COUNTIF('9'!L62,"x")+COUNTIF('10'!L62,"x")+COUNTIF('11'!L62,"x")+COUNTIF('12'!L62,"x")+COUNTIF('13'!L62,"x")+COUNTIF('14'!L62,"x")+COUNTIF('15'!L62,"x"),"0") -> 0 | O62: =IF(COUNTIF('1'!O62,"x")+COUNTIF('2'!O62,"x")+COUNTIF('3'!O62,"x")+COUNTIF('4'!O62,"x")+COUNTIF('5'!O62,"x")+COUNTIF('6'!O62,"x")+COUNTIF('7'!O62,"x")+COUNTIF('8'!O62,"x")+COUNTIF('9'!O62,"x")+COUNTIF('10'!O62,"x")+COUNTIF('11'!O62,"x")+COUNTIF('12'!O62,"x")+COUNTIF('13'!O62,"x")+COUNTIF('14'!O62,"x")+COUNTIF('15'!O62,"x")<>0,COUNTIF('1'!O62,"x")+COUNTIF('2'!O62,"x")+COUNTIF('3'!O62,"x")+COUNTIF('4'!O62,"x")+COUNTIF('5'!O62,"x")+COUNTIF('6'!O62,"x")+COUNTIF('7'!O62,"x")+COUNTIF('8'!O62,"x")+COUNTIF('9'!O62,"x")+COUNTIF('10'!O62,"x")+COUNTIF('11'!O62,"x")+COUNTIF('12'!O62,"x")+COUNTIF('13'!O62,"x")+COUNTIF('14'!O62,"x")+COUNTIF('15'!O62,"x"),"0") -> 0 | Q62: =IF(COUNTIF('1'!Q62,"x")+COUNTIF('2'!Q62,"x")+COUNTIF('3'!Q62,"x")+COUNTIF('4'!Q62,"x")+COUNTIF('5'!Q62,"x")+COUNTIF('6'!Q62,"x")+COUNTIF('7'!Q62,"x")+COUNTIF('8'!Q62,"x")+COUNTIF('9'!Q62,"x")+COUNTIF('10'!Q62,"x")+COUNTIF('11'!Q62,"x")+COUNTIF('12'!Q62,"x")+COUNTIF('13'!Q62,"x")+COUNTIF('14'!Q62,"x")+COUNTIF('15'!Q62,"x")<>0,COUNTIF('1'!Q62,"x")+COUNTIF('2'!Q62,"x")+COUNTIF('3'!Q62,"x")+COUNTIF('4'!Q62,"x")+COUNTIF('5'!Q62,"x")+COUNTIF('6'!Q62,"x")+COUNTIF('7'!Q62,"x")+COUNTIF('8'!Q62,"x")+COUNTIF('9'!Q62,"x")+COUNTIF('10'!Q62,"x")+COUNTIF('11'!Q62,"x")+COUNTIF('12'!Q62,"x")+COUNTIF('13'!Q62,"x")+COUNTIF('14'!Q62,"x")+COUNTIF('15'!Q62,"x"),"0") -> 0 | S62: =IF(SUM(E62:Q62)<>0,SUM(E62*1,G62*2,J62*3,L62*4,O62*5,Q62*6)/SUM(E62:Q62),"") | V62: =IF(COUNTIF((E62:Q62),"x")>1,"Bitte nur ein Kreuz setzen!","")
B63: =IF(Vorlage!B63<>"",Vorlage!B63,"") | E63: =IF(COUNTIF('1'!E63,"x")+COUNTIF('2'!E63,"x")+COUNTIF('3'!E63,"x")+COUNTIF('4'!E63,"x")+COUNTIF('5'!E63,"x")+COUNTIF('6'!E63,"x")+COUNTIF('7'!E63,"x")+COUNTIF('8'!E63,"x")+COUNTIF('9'!E63,"x")+COUNTIF('10'!E63,"x")+COUNTIF('11'!E63,"x")+COUNTIF('12'!E63,"x")+COUNTIF('13'!E63,"x")+COUNTIF('14'!E63,"x")+COUNTIF('15'!E63,"x")<>0,COUNTIF('1'!E63,"x")+COUNTIF('2'!E63,"x")+COUNTIF('3'!E63,"x")+COUNTIF('4'!E63,"x")+COUNTIF('5'!E63,"x")+COUNTIF('6'!E63,"x")+COUNTIF('7'!E63,"x")+COUNTIF('8'!E63,"x")+COUNTIF('9'!E63,"x")+COUNTIF('10'!E63,"x")+COUNTIF('11'!E63,"x")+COUNTIF('12'!E63,"x")+COUNTIF('13'!E63,"x")+COUNTIF('14'!E63,"x")+COUNTIF('15'!E63,"x"),"0") -> 0 | G63: =IF(COUNTIF('1'!G63,"x")+COUNTIF('2'!G63,"x")+COUNTIF('3'!G63,"x")+COUNTIF('4'!G63,"x")+COUNTIF('5'!G63,"x")+COUNTIF('6'!G63,"x")+COUNTIF('7'!G63,"x")+COUNTIF('8'!G63,"x")+COUNTIF('9'!G63,"x")+COUNTIF('10'!G63,"x")+COUNTIF('11'!G63,"x")+COUNTIF('12'!G63,"x")+COUNTIF('13'!G63,"x")+COUNTIF('14'!G63,"x")+COUNTIF('15'!G63,"x")<>0,COUNTIF('1'!G63,"x")+COUNTIF('2'!G63,"x")+COUNTIF('3'!G63,"x")+COUNTIF('4'!G63,"x")+COUNTIF('5'!G63,"x")+COUNTIF('6'!G63,"x")+COUNTIF('7'!G63,"x")+COUNTIF('8'!G63,"x")+COUNTIF('9'!G63,"x")+COUNTIF('10'!G63,"x")+COUNTIF('11'!G63,"x")+COUNTIF('12'!G63,"x")+COUNTIF('13'!G63,"x")+COUNTIF('14'!G63,"x")+COUNTIF('15'!G63,"x"),"0") -> 0 | J63: =IF(COUNTIF('1'!J63,"x")+COUNTIF('2'!J63,"x")+COUNTIF('3'!J63,"x")+COUNTIF('4'!J63,"x")+COUNTIF('5'!J63,"x")+COUNTIF('6'!J63,"x")+COUNTIF('7'!J63,"x")+COUNTIF('8'!J63,"x")+COUNTIF('9'!J63,"x")+COUNTIF('10'!J63,"x")+COUNTIF('11'!J63,"x")+COUNTIF('12'!J63,"x")+COUNTIF('13'!J63,"x")+COUNTIF('14'!J63,"x")+COUNTIF('15'!J63,"x")<>0,COUNTIF('1'!J63,"x")+COUNTIF('2'!J63,"x")+COUNTIF('3'!J63,"x")+COUNTIF('4'!J63,"x")+COUNTIF('5'!J63,"x")+COUNTIF('6'!J63,"x")+COUNTIF('7'!J63,"x")+COUNTIF('8'!J63,"x")+COUNTIF('9'!J63,"x")+COUNTIF('10'!J63,"x")+COUNTIF('11'!J63,"x")+COUNTIF('12'!J63,"x")+COUNTIF('13'!J63,"x")+COUNTIF('14'!J63,"x")+COUNTIF('15'!J63,"x"),"0") -> 0 | L63: =IF(COUNTIF('1'!L63,"x")+COUNTIF('2'!L63,"x")+COUNTIF('3'!L63,"x")+COUNTIF('4'!L63,"x")+COUNTIF('5'!L63,"x")+COUNTIF('6'!L63,"x")+COUNTIF('7'!L63,"x")+COUNTIF('8'!L63,"x")+COUNTIF('9'!L63,"x")+COUNTIF('10'!L63,"x")+COUNTIF('11'!L63,"x")+COUNTIF('12'!L63,"x")+COUNTIF('13'!L63,"x")+COUNTIF('14'!L63,"x")+COUNTIF('15'!L63,"x")<>0,COUNTIF('1'!L63,"x")+COUNTIF('2'!L63,"x")+COUNTIF('3'!L63,"x")+COUNTIF('4'!L63,"x")+COUNTIF('5'!L63,"x")+COUNTIF('6'!L63,"x")+COUNTIF('7'!L63,"x")+COUNTIF('8'!L63,"x")+COUNTIF('9'!L63,"x")+COUNTIF('10'!L63,"x")+COUNTIF('11'!L63,"x")+COUNTIF('12'!L63,"x")+COUNTIF('13'!L63,"x")+COUNTIF('14'!L63,"x")+COUNTIF('15'!L63,"x"),"0") -> 0 | O63: =IF(COUNTIF('1'!O63,"x")+COUNTIF('2'!O63,"x")+COUNTIF('3'!O63,"x")+COUNTIF('4'!O63,"x")+COUNTIF('5'!O63,"x")+COUNTIF('6'!O63,"x")+COUNTIF('7'!O63,"x")+COUNTIF('8'!O63,"x")+COUNTIF('9'!O63,"x")+COUNTIF('10'!O63,"x")+COUNTIF('11'!O63,"x")+COUNTIF('12'!O63,"x")+COUNTIF('13'!O63,"x")+COUNTIF('14'!O63,"x")+COUNTIF('15'!O63,"x")<>0,COUNTIF('1'!O63,"x")+COUNTIF('2'!O63,"x")+COUNTIF('3'!O63,"x")+COUNTIF('4'!O63,"x")+COUNTIF('5'!O63,"x")+COUNTIF('6'!O63,"x")+COUNTIF('7'!O63,"x")+COUNTIF('8'!O63,"x")+COUNTIF('9'!O63,"x")+COUNTIF('10'!O63,"x")+COUNTIF('11'!O63,"x")+COUNTIF('12'!O63,"x")+COUNTIF('13'!O63,"x")+COUNTIF('14'!O63,"x")+COUNTIF('15'!O63,"x"),"0") -> 0 | Q63: =IF(COUNTIF('1'!Q63,"x")+COUNTIF('2'!Q63,"x")+COUNTIF('3'!Q63,"x")+COUNTIF('4'!Q63,"x")+COUNTIF('5'!Q63,"x")+COUNTIF('6'!Q63,"x")+COUNTIF('7'!Q63,"x")+COUNTIF('8'!Q63,"x")+COUNTIF('9'!Q63,"x")+COUNTIF('10'!Q63,"x")+COUNTIF('11'!Q63,"x")+COUNTIF('12'!Q63,"x")+COUNTIF('13'!Q63,"x")+COUNTIF('14'!Q63,"x")+COUNTIF('15'!Q63,"x")<>0,COUNTIF('1'!Q63,"x")+COUNTIF('2'!Q63,"x")+COUNTIF('3'!Q63,"x")+COUNTIF('4'!Q63,"x")+COUNTIF('5'!Q63,"x")+COUNTIF('6'!Q63,"x")+COUNTIF('7'!Q63,"x")+COUNTIF('8'!Q63,"x")+COUNTIF('9'!Q63,"x")+COUNTIF('10'!Q63,"x")+COUNTIF('11'!Q63,"x")+COUNTIF('12'!Q63,"x")+COUNTIF('13'!Q63,"x")+COUNTIF('14'!Q63,"x")+COUNTIF('15'!Q63,"x"),"0") -> 0 | S63: =IF(SUM(E63:Q63)<>0,SUM(E63*1,G63*2,J63*3,L63*4,O63*5,Q63*6)/SUM(E63:Q63),"") | V63: =IF(COUNTIF((E63:Q63),"x")>1,"Bitte nur ein Kreuz setzen!","")
