Workbook

Sheet Auswertung
A1: =+Vorlage!A1 -> Anwenderbewertung - OP-Tische
A2: =+Vorlage!A2 -> EU-AUS-028/2026
A4: Wertungsmatrix | C4: Gerätebezeichnung:
C5: Hersteller:
A6: Für die Bewertung in der gewünschten Note ein "x" eintragen! | D6: sehr gut | I6: gut | N6: ungenügend | S6: Durchschnittsnote | U6: Punkte
A7: Bezeichnung | E7: 1 | G7: 2 | J7: 3 | L7: 4 | O7: 5 | Q7: 6
A8: =+Vorlage!A8 -> Gesamt-System | T8: Punkte | U8: 3
B9: =IF(Vorlage!B9<>"",Vorlage!B9,"") -> Optische Verarbeitung der Oberflächen | E9: =IF(COUNTIF('1'!E9,"x")+COUNTIF('2'!E9,"x")+COUNTIF('3'!E9,"x")+COUNTIF('4'!E9,"x")+COUNTIF('5'!E9,"x")+COUNTIF('6'!E9,"x")+COUNTIF('7'!E9,"x")+COUNTIF('8'!E9,"x")+COUNTIF('9'!E9,"x")+COUNTIF('10'!E9,"x")+COUNTIF('11'!E9,"x")+COUNTIF('12'!E9,"x")+COUNTIF('13'!E9,"x")+COUNTIF('14'!E9,"x")+COUNTIF('15'!E9,"x")<>0,COUNTIF('1'!E9,"x")+COUNTIF('2'!E9,"x")+COUNTIF('3'!E9,"x")+COUNTIF('4'!E9,"x")+COUNTIF('5'!E9,"x")+COUNTIF('6'!E9,"x")+COUNTIF('7'!E9,"x")+COUNTIF('8'!E9,"x")+COUNTIF('9'!E9,"x")+COUNTIF('10'!E9,"x")+COUNTIF('11'!E9,"x")+COUNTIF('12'!E9,"x")+COUNTIF('13'!E9,"x")+COUNTIF('14'!E9,"x")+COUNTIF('15'!E9,"x"),"0") -> 0 | G9: =IF(COUNTIF('1'!G9,"x")+COUNTIF('2'!G9,"x")+COUNTIF('3'!G9,"x")+COUNTIF('4'!G9,"x")+COUNTIF('5'!G9,"x")+COUNTIF('6'!G9,"x")+COUNTIF('7'!G9,"x")+COUNTIF('8'!G9,"x")+COUNTIF('9'!G9,"x")+COUNTIF('10'!G9,"x")+COUNTIF('11'!G9,"x")+COUNTIF('12'!G9,"x")+COUNTIF('13'!G9,"x")+COUNTIF('14'!G9,"x")+COUNTIF('15'!G9,"x")<>0,COUNTIF('1'!G9,"x")+COUNTIF('2'!G9,"x")+COUNTIF('3'!G9,"x")+COUNTIF('4'!G9,"x")+COUNTIF('5'!G9,"x")+COUNTIF('6'!G9,"x")+COUNTIF('7'!G9,"x")+COUNTIF('8'!G9,"x")+COUNTIF('9'!G9,"x")+COUNTIF('10'!G9,"x")+COUNTIF('11'!G9,"x")+COUNTIF('12'!G9,"x")+COUNTIF('13'!G9,"x")+COUNTIF('14'!G9,"x")+COUNTIF('15'!G9,"x"),"0") -> 0 | J9: =IF(COUNTIF('1'!J9,"x")+COUNTIF('2'!J9,"x")+COUNTIF('3'!J9,"x")+COUNTIF('4'!J9,"x")+COUNTIF('5'!J9,"x")+COUNTIF('6'!J9,"x")+COUNTIF('7'!J9,"x")+COUNTIF('8'!J9,"x")+COUNTIF('9'!J9,"x")+COUNTIF('10'!J9,"x")+COUNTIF('11'!J9,"x")+COUNTIF('12'!J9,"x")+COUNTIF('13'!J9,"x")+COUNTIF('14'!J9,"x")+COUNTIF('15'!J9,"x")<>0,COUNTIF('1'!J9,"x")+COUNTIF('2'!J9,"x")+COUNTIF('3'!J9,"x")+COUNTIF('4'!J9,"x")+COUNTIF('5'!J9,"x")+COUNTIF('6'!J9,"x")+COUNTIF('7'!J9,"x")+COUNTIF('8'!J9,"x")+COUNTIF('9'!J9,"x")+COUNTIF('10'!J9,"x")+COUNTIF('11'!J9,"x")+COUNTIF('12'!J9,"x")+COUNTIF('13'!J9,"x")+COUNTIF('14'!J9,"x")+COUNTIF('15'!J9,"x"),"0") -> 0 | L9: =IF(COUNTIF('1'!L9,"x")+COUNTIF('2'!L9,"x")+COUNTIF('3'!L9,"x")+COUNTIF('4'!L9,"x")+COUNTIF('5'!L9,"x")+COUNTIF('6'!L9,"x")+COUNTIF('7'!L9,"x")+COUNTIF('8'!L9,"x")+COUNTIF('9'!L9,"x")+COUNTIF('10'!L9,"x")+COUNTIF('11'!L9,"x")+COUNTIF('12'!L9,"x")+COUNTIF('13'!L9,"x")+COUNTIF('14'!L9,"x")+COUNTIF('15'!L9,"x")<>0,COUNTIF('1'!L9,"x")+COUNTIF('2'!L9,"x")+COUNTIF('3'!L9,"x")+COUNTIF('4'!L9,"x")+COUNTIF('5'!L9,"x")+COUNTIF('6'!L9,"x")+COUNTIF('7'!L9,"x")+COUNTIF('8'!L9,"x")+COUNTIF('9'!L9,"x")+COUNTIF('10'!L9,"x")+COUNTIF('11'!L9,"x")+COUNTIF('12'!L9,"x")+COUNTIF('13'!L9,"x")+COUNTIF('14'!L9,"x")+COUNTIF('15'!L9,"x"),"0") -> 0 | O9: =IF(COUNTIF('1'!O9,"x")+COUNTIF('2'!O9,"x")+COUNTIF('3'!O9,"x")+COUNTIF('4'!O9,"x")+COUNTIF('5'!O9,"x")+COUNTIF('6'!O9,"x")+COUNTIF('7'!O9,"x")+COUNTIF('8'!O9,"x")+COUNTIF('9'!O9,"x")+COUNTIF('10'!O9,"x")+COUNTIF('11'!O9,"x")+COUNTIF('12'!O9,"x")+COUNTIF('13'!O9,"x")+COUNTIF('14'!O9,"x")+COUNTIF('15'!O9,"x")<>0,COUNTIF('1'!O9,"x")+COUNTIF('2'!O9,"x")+COUNTIF('3'!O9,"x")+COUNTIF('4'!O9,"x")+COUNTIF('5'!O9,"x")+COUNTIF('6'!O9,"x")+COUNTIF('7'!O9,"x")+COUNTIF('8'!O9,"x")+COUNTIF('9'!O9,"x")+COUNTIF('10'!O9,"x")+COUNTIF('11'!O9,"x")+COUNTIF('12'!O9,"x")+COUNTIF('13'!O9,"x")+COUNTIF('14'!O9,"x")+COUNTIF('15'!O9,"x"),"0") -> 0 | Q9: =IF(COUNTIF('1'!Q9,"x")+COUNTIF('2'!Q9,"x")+COUNTIF('3'!Q9,"x")+COUNTIF('4'!Q9,"x")+COUNTIF('5'!Q9,"x")+COUNTIF('6'!Q9,"x")+COUNTIF('7'!Q9,"x")+COUNTIF('8'!Q9,"x")+COUNTIF('9'!Q9,"x")+COUNTIF('10'!Q9,"x")+COUNTIF('11'!Q9,"x")+COUNTIF('12'!Q9,"x")+COUNTIF('13'!Q9,"x")+COUNTIF('14'!Q9,"x")+COUNTIF('15'!Q9,"x")<>0,COUNTIF('1'!Q9,"x")+COUNTIF('2'!Q9,"x")+COUNTIF('3'!Q9,"x")+COUNTIF('4'!Q9,"x")+COUNTIF('5'!Q9,"x")+COUNTIF('6'!Q9,"x")+COUNTIF('7'!Q9,"x")+COUNTIF('8'!Q9,"x")+COUNTIF('9'!Q9,"x")+COUNTIF('10'!Q9,"x")+COUNTIF('11'!Q9,"x")+COUNTIF('12'!Q9,"x")+COUNTIF('13'!Q9,"x")+COUNTIF('14'!Q9,"x")+COUNTIF('15'!Q9,"x"),"0") -> 0 | S9: =IF(SUM(E9:Q9)<>0,SUM(E9*1,G9*2,J9*3,L9*4,O9*5,Q9*6)/SUM(E9:Q9),"") | V9: =IF(COUNTIF((E9:Q9),"x")>1,"Bitte nur ein Kreuz setzen!","")
B10: =IF(Vorlage!B10<>"",Vorlage!B10,"") -> Anzahl der möglichen Positionierungen des Patienten | E10: =IF(COUNTIF('1'!E10,"x")+COUNTIF('2'!E10,"x")+COUNTIF('3'!E10,"x")+COUNTIF('4'!E10,"x")+COUNTIF('5'!E10,"x")+COUNTIF('6'!E10,"x")+COUNTIF('7'!E10,"x")+COUNTIF('8'!E10,"x")+COUNTIF('9'!E10,"x")+COUNTIF('10'!E10,"x")+COUNTIF('11'!E10,"x")+COUNTIF('12'!E10,"x")+COUNTIF('13'!E10,"x")+COUNTIF('14'!E10,"x")+COUNTIF('15'!E10,"x")<>0,COUNTIF('1'!E10,"x")+COUNTIF('2'!E10,"x")+COUNTIF('3'!E10,"x")+COUNTIF('4'!E10,"x")+COUNTIF('5'!E10,"x")+COUNTIF('6'!E10,"x")+COUNTIF('7'!E10,"x")+COUNTIF('8'!E10,"x")+COUNTIF('9'!E10,"x")+COUNTIF('10'!E10,"x")+COUNTIF('11'!E10,"x")+COUNTIF('12'!E10,"x")+COUNTIF('13'!E10,"x")+COUNTIF('14'!E10,"x")+COUNTIF('15'!E10,"x"),"0") -> 0 | G10: =IF(COUNTIF('1'!G10,"x")+COUNTIF('2'!G10,"x")+COUNTIF('3'!G10,"x")+COUNTIF('4'!G10,"x")+COUNTIF('5'!G10,"x")+COUNTIF('6'!G10,"x")+COUNTIF('7'!G10,"x")+COUNTIF('8'!G10,"x")+COUNTIF('9'!G10,"x")+COUNTIF('10'!G10,"x")+COUNTIF('11'!G10,"x")+COUNTIF('12'!G10,"x")+COUNTIF('13'!G10,"x")+COUNTIF('14'!G10,"x")+COUNTIF('15'!G10,"x")<>0,COUNTIF('1'!G10,"x")+COUNTIF('2'!G10,"x")+COUNTIF('3'!G10,"x")+COUNTIF('4'!G10,"x")+COUNTIF('5'!G10,"x")+COUNTIF('6'!G10,"x")+COUNTIF('7'!G10,"x")+COUNTIF('8'!G10,"x")+COUNTIF('9'!G10,"x")+COUNTIF('10'!G10,"x")+COUNTIF('11'!G10,"x")+COUNTIF('12'!G10,"x")+COUNTIF('13'!G10,"x")+COUNTIF('14'!G10,"x")+COUNTIF('15'!G10,"x"),"0") -> 0 | J10: =IF(COUNTIF('1'!J10,"x")+COUNTIF('2'!J10,"x")+COUNTIF('3'!J10,"x")+COUNTIF('4'!J10,"x")+COUNTIF('5'!J10,"x")+COUNTIF('6'!J10,"x")+COUNTIF('7'!J10,"x")+COUNTIF('8'!J10,"x")+COUNTIF('9'!J10,"x")+COUNTIF('10'!J10,"x")+COUNTIF('11'!J10,"x")+COUNTIF('12'!J10,"x")+COUNTIF('13'!J10,"x")+COUNTIF('14'!J10,"x")+COUNTIF('15'!J10,"x")<>0,COUNTIF('1'!J10,"x")+COUNTIF('2'!J10,"x")+COUNTIF('3'!J10,"x")+COUNTIF('4'!J10,"x")+COUNTIF('5'!J10,"x")+COUNTIF('6'!J10,"x")+COUNTIF('7'!J10,"x")+COUNTIF('8'!J10,"x")+COUNTIF('9'!J10,"x")+COUNTIF('10'!J10,"x")+COUNTIF('11'!J10,"x")+COUNTIF('12'!J10,"x")+COUNTIF('13'!J10,"x")+COUNTIF('14'!J10,"x")+COUNTIF('15'!J10,"x"),"0") -> 0 | L10: =IF(COUNTIF('1'!L10,"x")+COUNTIF('2'!L10,"x")+COUNTIF('3'!L10,"x")+COUNTIF('4'!L10,"x")+COUNTIF('5'!L10,"x")+COUNTIF('6'!L10,"x")+COUNTIF('7'!L10,"x")+COUNTIF('8'!L10,"x")+COUNTIF('9'!L10,"x")+COUNTIF('10'!L10,"x")+COUNTIF('11'!L10,"x")+COUNTIF('12'!L10,"x")+COUNTIF('13'!L10,"x")+COUNTIF('14'!L10,"x")+COUNTIF('15'!L10,"x")<>0,COUNTIF('1'!L10,"x")+COUNTIF('2'!L10,"x")+COUNTIF('3'!L10,"x")+COUNTIF('4'!L10,"x")+COUNTIF('5'!L10,"x")+COUNTIF('6'!L10,"x")+COUNTIF('7'!L10,"x")+COUNTIF('8'!L10,"x")+COUNTIF('9'!L10,"x")+COUNTIF('10'!L10,"x")+COUNTIF('11'!L10,"x")+COUNTIF('12'!L10,"x")+COUNTIF('13'!L10,"x")+COUNTIF('14'!L10,"x")+COUNTIF('15'!L10,"x"),"0") -> 0 | O10: =IF(COUNTIF('1'!O10,"x")+COUNTIF('2'!O10,"x")+COUNTIF('3'!O10,"x")+COUNTIF('4'!O10,"x")+COUNTIF('5'!O10,"x")+COUNTIF('6'!O10,"x")+COUNTIF('7'!O10,"x")+COUNTIF('8'!O10,"x")+COUNTIF('9'!O10,"x")+COUNTIF('10'!O10,"x")+COUNTIF('11'!O10,"x")+COUNTIF('12'!O10,"x")+COUNTIF('13'!O10,"x")+COUNTIF('14'!O10,"x")+COUNTIF('15'!O10,"x")<>0,COUNTIF('1'!O10,"x")+COUNTIF('2'!O10,"x")+COUNTIF('3'!O10,"x")+COUNTIF('4'!O10,"x")+COUNTIF('5'!O10,"x")+COUNTIF('6'!O10,"x")+COUNTIF('7'!O10,"x")+COUNTIF('8'!O10,"x")+COUNTIF('9'!O10,"x")+COUNTIF('10'!O10,"x")+COUNTIF('11'!O10,"x")+COUNTIF('12'!O10,"x")+COUNTIF('13'!O10,"x")+COUNTIF('14'!O10,"x")+COUNTIF('15'!O10,"x"),"0") -> 0 | Q10: =IF(COUNTIF('1'!Q10,"x")+COUNTIF('2'!Q10,"x")+COUNTIF('3'!Q10,"x")+COUNTIF('4'!Q10,"x")+COUNTIF('5'!Q10,"x")+COUNTIF('6'!Q10,"x")+COUNTIF('7'!Q10,"x")+COUNTIF('8'!Q10,"x")+COUNTIF('9'!Q10,"x")+COUNTIF('10'!Q10,"x")+COUNTIF('11'!Q10,"x")+COUNTIF('12'!Q10,"x")+COUNTIF('13'!Q10,"x")+COUNTIF('14'!Q10,"x")+COUNTIF('15'!Q10,"x")<>0,COUNTIF('1'!Q10,"x")+COUNTIF('2'!Q10,"x")+COUNTIF('3'!Q10,"x")+COUNTIF('4'!Q10,"x")+COUNTIF('5'!Q10,"x")+COUNTIF('6'!Q10,"x")+COUNTIF('7'!Q10,"x")+COUNTIF('8'!Q10,"x")+COUNTIF('9'!Q10,"x")+COUNTIF('10'!Q10,"x")+COUNTIF('11'!Q10,"x")+COUNTIF('12'!Q10,"x")+COUNTIF('13'!Q10,"x")+COUNTIF('14'!Q10,"x")+COUNTIF('15'!Q10,"x"),"0") -> 0 | S10: =IF(SUM(E10:Q10)<>0,SUM(E10*1,G10*2,J10*3,L10*4,O10*5,Q10*6)/SUM(E10:Q10),"") | V10: =IF(COUNTIF((E10:Q10),"x")>1,"Bitte nur ein Kreuz setzen!","")
B11: =IF(Vorlage!B11<>"",Vorlage!B11,"") -> Eindruck des Bedienkonzeptes (intraoperativ) | E11: =IF(COUNTIF('1'!E11,"x")+COUNTIF('2'!E11,"x")+COUNTIF('3'!E11,"x")+COUNTIF('4'!E11,"x")+COUNTIF('5'!E11,"x")+COUNTIF('6'!E11,"x")+COUNTIF('7'!E11,"x")+COUNTIF('8'!E11,"x")+COUNTIF('9'!E11,"x")+COUNTIF('10'!E11,"x")+COUNTIF('11'!E11,"x")+COUNTIF('12'!E11,"x")+COUNTIF('13'!E11,"x")+COUNTIF('14'!E11,"x")+COUNTIF('15'!E11,"x")<>0,COUNTIF('1'!E11,"x")+COUNTIF('2'!E11,"x")+COUNTIF('3'!E11,"x")+COUNTIF('4'!E11,"x")+COUNTIF('5'!E11,"x")+COUNTIF('6'!E11,"x")+COUNTIF('7'!E11,"x")+COUNTIF('8'!E11,"x")+COUNTIF('9'!E11,"x")+COUNTIF('10'!E11,"x")+COUNTIF('11'!E11,"x")+COUNTIF('12'!E11,"x")+COUNTIF('13'!E11,"x")+COUNTIF('14'!E11,"x")+COUNTIF('15'!E11,"x"),"0") -> 0 | G11: =IF(COUNTIF('1'!G11,"x")+COUNTIF('2'!G11,"x")+COUNTIF('3'!G11,"x")+COUNTIF('4'!G11,"x")+COUNTIF('5'!G11,"x")+COUNTIF('6'!G11,"x")+COUNTIF('7'!G11,"x")+COUNTIF('8'!G11,"x")+COUNTIF('9'!G11,"x")+COUNTIF('10'!G11,"x")+COUNTIF('11'!G11,"x")+COUNTIF('12'!G11,"x")+COUNTIF('13'!G11,"x")+COUNTIF('14'!G11,"x")+COUNTIF('15'!G11,"x")<>0,COUNTIF('1'!G11,"x")+COUNTIF('2'!G11,"x")+COUNTIF('3'!G11,"x")+COUNTIF('4'!G11,"x")+COUNTIF('5'!G11,"x")+COUNTIF('6'!G11,"x")+COUNTIF('7'!G11,"x")+COUNTIF('8'!G11,"x")+COUNTIF('9'!G11,"x")+COUNTIF('10'!G11,"x")+COUNTIF('11'!G11,"x")+COUNTIF('12'!G11,"x")+COUNTIF('13'!G11,"x")+COUNTIF('14'!G11,"x")+COUNTIF('15'!G11,"x"),"0") -> 0 | J11: =IF(COUNTIF('1'!J11,"x")+COUNTIF('2'!J11,"x")+COUNTIF('3'!J11,"x")+COUNTIF('4'!J11,"x")+COUNTIF('5'!J11,"x")+COUNTIF('6'!J11,"x")+COUNTIF('7'!J11,"x")+COUNTIF('8'!J11,"x")+COUNTIF('9'!J11,"x")+COUNTIF('10'!J11,"x")+COUNTIF('11'!J11,"x")+COUNTIF('12'!J11,"x")+COUNTIF('13'!J11,"x")+COUNTIF('14'!J11,"x")+COUNTIF('15'!J11,"x")<>0,COUNTIF('1'!J11,"x")+COUNTIF('2'!J11,"x")+COUNTIF('3'!J11,"x")+COUNTIF('4'!J11,"x")+COUNTIF('5'!J11,"x")+COUNTIF('6'!J11,"x")+COUNTIF('7'!J11,"x")+COUNTIF('8'!J11,"x")+COUNTIF('9'!J11,"x")+COUNTIF('10'!J11,"x")+COUNTIF('11'!J11,"x")+COUNTIF('12'!J11,"x")+COUNTIF('13'!J11,"x")+COUNTIF('14'!J11,"x")+COUNTIF('15'!J11,"x"),"0") -> 0 | L11: =IF(COUNTIF('1'!L11,"x")+COUNTIF('2'!L11,"x")+COUNTIF('3'!L11,"x")+COUNTIF('4'!L11,"x")+COUNTIF('5'!L11,"x")+COUNTIF('6'!L11,"x")+COUNTIF('7'!L11,"x")+COUNTIF('8'!L11,"x")+COUNTIF('9'!L11,"x")+COUNTIF('10'!L11,"x")+COUNTIF('11'!L11,"x")+COUNTIF('12'!L11,"x")+COUNTIF('13'!L11,"x")+COUNTIF('14'!L11,"x")+COUNTIF('15'!L11,"x")<>0,COUNTIF('1'!L11,"x")+COUNTIF('2'!L11,"x")+COUNTIF('3'!L11,"x")+COUNTIF('4'!L11,"x")+COUNTIF('5'!L11,"x")+COUNTIF('6'!L11,"x")+COUNTIF('7'!L11,"x")+COUNTIF('8'!L11,"x")+COUNTIF('9'!L11,"x")+COUNTIF('10'!L11,"x")+COUNTIF('11'!L11,"x")+COUNTIF('12'!L11,"x")+COUNTIF('13'!L11,"x")+COUNTIF('14'!L11,"x")+COUNTIF('15'!L11,"x"),"0") -> 0 | O11: =IF(COUNTIF('1'!O11,"x")+COUNTIF('2'!O11,"x")+COUNTIF('3'!O11,"x")+COUNTIF('4'!O11,"x")+COUNTIF('5'!O11,"x")+COUNTIF('6'!O11,"x")+COUNTIF('7'!O11,"x")+COUNTIF('8'!O11,"x")+COUNTIF('9'!O11,"x")+COUNTIF('10'!O11,"x")+COUNTIF('11'!O11,"x")+COUNTIF('12'!O11,"x")+COUNTIF('13'!O11,"x")+COUNTIF('14'!O11,"x")+COUNTIF('15'!O11,"x")<>0,COUNTIF('1'!O11,"x")+COUNTIF('2'!O11,"x")+COUNTIF('3'!O11,"x")+COUNTIF('4'!O11,"x")+COUNTIF('5'!O11,"x")+COUNTIF('6'!O11,"x")+COUNTIF('7'!O11,"x")+COUNTIF('8'!O11,"x")+COUNTIF('9'!O11,"x")+COUNTIF('10'!O11,"x")+COUNTIF('11'!O11,"x")+COUNTIF('12'!O11,"x")+COUNTIF('13'!O11,"x")+COUNTIF('14'!O11,"x")+COUNTIF('15'!O11,"x"),"0") -> 0 | Q11: =IF(COUNTIF('1'!Q11,"x")+COUNTIF('2'!Q11,"x")+COUNTIF('3'!Q11,"x")+COUNTIF('4'!Q11,"x")+COUNTIF('5'!Q11,"x")+COUNTIF('6'!Q11,"x")+COUNTIF('7'!Q11,"x")+COUNTIF('8'!Q11,"x")+COUNTIF('9'!Q11,"x")+COUNTIF('10'!Q11,"x")+COUNTIF('11'!Q11,"x")+COUNTIF('12'!Q11,"x")+COUNTIF('13'!Q11,"x")+COUNTIF('14'!Q11,"x")+COUNTIF('15'!Q11,"x")<>0,COUNTIF('1'!Q11,"x")+COUNTIF('2'!Q11,"x")+COUNTIF('3'!Q11,"x")+COUNTIF('4'!Q11,"x")+COUNTIF('5'!Q11,"x")+COUNTIF('6'!Q11,"x")+COUNTIF('7'!Q11,"x")+COUNTIF('8'!Q11,"x")+COUNTIF('9'!Q11,"x")+COUNTIF('10'!Q11,"x")+COUNTIF('11'!Q11,"x")+COUNTIF('12'!Q11,"x")+COUNTIF('13'!Q11,"x")+COUNTIF('14'!Q11,"x")+COUNTIF('15'!Q11,"x"),"0") -> 0 | S11: =IF(SUM(E11:Q11)<>0,SUM(E11*1,G11*2,J11*3,L11*4,O11*5,Q11*6)/SUM(E11:Q11),"") | V11: =IF(COUNTIF((E11:Q11),"x")>1,"Bitte nur ein Kreuz setzen!","")
B12: =IF(Vorlage!B12<>"",Vorlage!B12,"") | E12: =IF(COUNTIF('1'!E12,"x")+COUNTIF('2'!E12,"x")+COUNTIF('3'!E12,"x")+COUNTIF('4'!E12,"x")+COUNTIF('5'!E12,"x")+COUNTIF('6'!E12,"x")+COUNTIF('7'!E12,"x")+COUNTIF('8'!E12,"x")+COUNTIF('9'!E12,"x")+COUNTIF('10'!E12,"x")+COUNTIF('11'!E12,"x")+COUNTIF('12'!E12,"x")+COUNTIF('13'!E12,"x")+COUNTIF('14'!E12,"x")+COUNTIF('15'!E12,"x")<>0,COUNTIF('1'!E12,"x")+COUNTIF('2'!E12,"x")+COUNTIF('3'!E12,"x")+COUNTIF('4'!E12,"x")+COUNTIF('5'!E12,"x")+COUNTIF('6'!E12,"x")+COUNTIF('7'!E12,"x")+COUNTIF('8'!E12,"x")+COUNTIF('9'!E12,"x")+COUNTIF('10'!E12,"x")+COUNTIF('11'!E12,"x")+COUNTIF('12'!E12,"x")+COUNTIF('13'!E12,"x")+COUNTIF('14'!E12,"x")+COUNTIF('15'!E12,"x"),"0") -> 0 | G12: =IF(COUNTIF('1'!G12,"x")+COUNTIF('2'!G12,"x")+COUNTIF('3'!G12,"x")+COUNTIF('4'!G12,"x")+COUNTIF('5'!G12,"x")+COUNTIF('6'!G12,"x")+COUNTIF('7'!G12,"x")+COUNTIF('8'!G12,"x")+COUNTIF('9'!G12,"x")+COUNTIF('10'!G12,"x")+COUNTIF('11'!G12,"x")+COUNTIF('12'!G12,"x")+COUNTIF('13'!G12,"x")+COUNTIF('14'!G12,"x")+COUNTIF('15'!G12,"x")<>0,COUNTIF('1'!G12,"x")+COUNTIF('2'!G12,"x")+COUNTIF('3'!G12,"x")+COUNTIF('4'!G12,"x")+COUNTIF('5'!G12,"x")+COUNTIF('6'!G12,"x")+COUNTIF('7'!G12,"x")+COUNTIF('8'!G12,"x")+COUNTIF('9'!G12,"x")+COUNTIF('10'!G12,"x")+COUNTIF('11'!G12,"x")+COUNTIF('12'!G12,"x")+COUNTIF('13'!G12,"x")+COUNTIF('14'!G12,"x")+COUNTIF('15'!G12,"x"),"0") -> 0 | J12: =IF(COUNTIF('1'!J12,"x")+COUNTIF('2'!J12,"x")+COUNTIF('3'!J12,"x")+COUNTIF('4'!J12,"x")+COUNTIF('5'!J12,"x")+COUNTIF('6'!J12,"x")+COUNTIF('7'!J12,"x")+COUNTIF('8'!J12,"x")+COUNTIF('9'!J12,"x")+COUNTIF('10'!J12,"x")+COUNTIF('11'!J12,"x")+COUNTIF('12'!J12,"x")+COUNTIF('13'!J12,"x")+COUNTIF('14'!J12,"x")+COUNTIF('15'!J12,"x")<>0,COUNTIF('1'!J12,"x")+COUNTIF('2'!J12,"x")+COUNTIF('3'!J12,"x")+COUNTIF('4'!J12,"x")+COUNTIF('5'!J12,"x")+COUNTIF('6'!J12,"x")+COUNTIF('7'!J12,"x")+COUNTIF('8'!J12,"x")+COUNTIF('9'!J12,"x")+COUNTIF('10'!J12,"x")+COUNTIF('11'!J12,"x")+COUNTIF('12'!J12,"x")+COUNTIF('13'!J12,"x")+COUNTIF('14'!J12,"x")+COUNTIF('15'!J12,"x"),"0") -> 0 | L12: =IF(COUNTIF('1'!L12,"x")+COUNTIF('2'!L12,"x")+COUNTIF('3'!L12,"x")+COUNTIF('4'!L12,"x")+COUNTIF('5'!L12,"x")+COUNTIF('6'!L12,"x")+COUNTIF('7'!L12,"x")+COUNTIF('8'!L12,"x")+COUNTIF('9'!L12,"x")+COUNTIF('10'!L12,"x")+COUNTIF('11'!L12,"x")+COUNTIF('12'!L12,"x")+COUNTIF('13'!L12,"x")+COUNTIF('14'!L12,"x")+COUNTIF('15'!L12,"x")<>0,COUNTIF('1'!L12,"x")+COUNTIF('2'!L12,"x")+COUNTIF('3'!L12,"x")+COUNTIF('4'!L12,"x")+COUNTIF('5'!L12,"x")+COUNTIF('6'!L12,"x")+COUNTIF('7'!L12,"x")+COUNTIF('8'!L12,"x")+COUNTIF('9'!L12,"x")+COUNTIF('10'!L12,"x")+COUNTIF('11'!L12,"x")+COUNTIF('12'!L12,"x")+COUNTIF('13'!L12,"x")+COUNTIF('14'!L12,"x")+COUNTIF('15'!L12,"x"),"0") -> 0 | O12: =IF(COUNTIF('1'!O12,"x")+COUNTIF('2'!O12,"x")+COUNTIF('3'!O12,"x")+COUNTIF('4'!O12,"x")+COUNTIF('5'!O12,"x")+COUNTIF('6'!O12,"x")+COUNTIF('7'!O12,"x")+COUNTIF('8'!O12,"x")+COUNTIF('9'!O12,"x")+COUNTIF('10'!O12,"x")+COUNTIF('11'!O12,"x")+COUNTIF('12'!O12,"x")+COUNTIF('13'!O12,"x")+COUNTIF('14'!O12,"x")+COUNTIF('15'!O12,"x")<>0,COUNTIF('1'!O12,"x")+COUNTIF('2'!O12,"x")+COUNTIF('3'!O12,"x")+COUNTIF('4'!O12,"x")+COUNTIF('5'!O12,"x")+COUNTIF('6'!O12,"x")+COUNTIF('7'!O12,"x")+COUNTIF('8'!O12,"x")+COUNTIF('9'!O12,"x")+COUNTIF('10'!O12,"x")+COUNTIF('11'!O12,"x")+COUNTIF('12'!O12,"x")+COUNTIF('13'!O12,"x")+COUNTIF('14'!O12,"x")+COUNTIF('15'!O12,"x"),"0") -> 0 | Q12: =IF(COUNTIF('1'!Q12,"x")+COUNTIF('2'!Q12,"x")+COUNTIF('3'!Q12,"x")+COUNTIF('4'!Q12,"x")+COUNTIF('5'!Q12,"x")+COUNTIF('6'!Q12,"x")+COUNTIF('7'!Q12,"x")+COUNTIF('8'!Q12,"x")+COUNTIF('9'!Q12,"x")+COUNTIF('10'!Q12,"x")+COUNTIF('11'!Q12,"x")+COUNTIF('12'!Q12,"x")+COUNTIF('13'!Q12,"x")+COUNTIF('14'!Q12,"x")+COUNTIF('15'!Q12,"x")<>0,COUNTIF('1'!Q12,"x")+COUNTIF('2'!Q12,"x")+COUNTIF('3'!Q12,"x")+COUNTIF('4'!Q12,"x")+COUNTIF('5'!Q12,"x")+COUNTIF('6'!Q12,"x")+COUNTIF('7'!Q12,"x")+COUNTIF('8'!Q12,"x")+COUNTIF('9'!Q12,"x")+COUNTIF('10'!Q12,"x")+COUNTIF('11'!Q12,"x")+COUNTIF('12'!Q12,"x")+COUNTIF('13'!Q12,"x")+COUNTIF('14'!Q12,"x")+COUNTIF('15'!Q12,"x"),"0") -> 0 | S12: =IF(SUM(E12:Q12)<>0,SUM(E12*1,G12*2,J12*3,L12*4,O12*5,Q12*6)/SUM(E12:Q12),"") | V12: =IF(COUNTIF((E12:Q12),"x")>1,"Bitte nur ein Kreuz setzen!","")
B13: =IF(Vorlage!B13<>"",Vorlage!B13,"") | E13: =IF(COUNTIF('1'!E13,"x")+COUNTIF('2'!E13,"x")+COUNTIF('3'!E13,"x")+COUNTIF('4'!E13,"x")+COUNTIF('5'!E13,"x")+COUNTIF('6'!E13,"x")+COUNTIF('7'!E13,"x")+COUNTIF('8'!E13,"x")+COUNTIF('9'!E13,"x")+COUNTIF('10'!E13,"x")+COUNTIF('11'!E13,"x")+COUNTIF('12'!E13,"x")+COUNTIF('13'!E13,"x")+COUNTIF('14'!E13,"x")+COUNTIF('15'!E13,"x")<>0,COUNTIF('1'!E13,"x")+COUNTIF('2'!E13,"x")+COUNTIF('3'!E13,"x")+COUNTIF('4'!E13,"x")+COUNTIF('5'!E13,"x")+COUNTIF('6'!E13,"x")+COUNTIF('7'!E13,"x")+COUNTIF('8'!E13,"x")+COUNTIF('9'!E13,"x")+COUNTIF('10'!E13,"x")+COUNTIF('11'!E13,"x")+COUNTIF('12'!E13,"x")+COUNTIF('13'!E13,"x")+COUNTIF('14'!E13,"x")+COUNTIF('15'!E13,"x"),"0") -> 0 | G13: =IF(COUNTIF('1'!G13,"x")+COUNTIF('2'!G13,"x")+COUNTIF('3'!G13,"x")+COUNTIF('4'!G13,"x")+COUNTIF('5'!G13,"x")+COUNTIF('6'!G13,"x")+COUNTIF('7'!G13,"x")+COUNTIF('8'!G13,"x")+COUNTIF('9'!G13,"x")+COUNTIF('10'!G13,"x")+COUNTIF('11'!G13,"x")+COUNTIF('12'!G13,"x")+COUNTIF('13'!G13,"x")+COUNTIF('14'!G13,"x")+COUNTIF('15'!G13,"x")<>0,COUNTIF('1'!G13,"x")+COUNTIF('2'!G13,"x")+COUNTIF('3'!G13,"x")+COUNTIF('4'!G13,"x")+COUNTIF('5'!G13,"x")+COUNTIF('6'!G13,"x")+COUNTIF('7'!G13,"x")+COUNTIF('8'!G13,"x")+COUNTIF('9'!G13,"x")+COUNTIF('10'!G13,"x")+COUNTIF('11'!G13,"x")+COUNTIF('12'!G13,"x")+COUNTIF('13'!G13,"x")+COUNTIF('14'!G13,"x")+COUNTIF('15'!G13,"x"),"0") -> 0 | J13: =IF(COUNTIF('1'!J13,"x")+COUNTIF('2'!J13,"x")+COUNTIF('3'!J13,"x")+COUNTIF('4'!J13,"x")+COUNTIF('5'!J13,"x")+COUNTIF('6'!J13,"x")+COUNTIF('7'!J13,"x")+COUNTIF('8'!J13,"x")+COUNTIF('9'!J13,"x")+COUNTIF('10'!J13,"x")+COUNTIF('11'!J13,"x")+COUNTIF('12'!J13,"x")+COUNTIF('13'!J13,"x")+COUNTIF('14'!J13,"x")+COUNTIF('15'!J13,"x")<>0,COUNTIF('1'!J13,"x")+COUNTIF('2'!J13,"x")+COUNTIF('3'!J13,"x")+COUNTIF('4'!J13,"x")+COUNTIF('5'!J13,"x")+COUNTIF('6'!J13,"x")+COUNTIF('7'!J13,"x")+COUNTIF('8'!J13,"x")+COUNTIF('9'!J13,"x")+COUNTIF('10'!J13,"x")+COUNTIF('11'!J13,"x")+COUNTIF('12'!J13,"x")+COUNTIF('13'!J13,"x")+COUNTIF('14'!J13,"x")+COUNTIF('15'!J13,"x"),"0") -> 0 | L13: =IF(COUNTIF('1'!L13,"x")+COUNTIF('2'!L13,"x")+COUNTIF('3'!L13,"x")+COUNTIF('4'!L13,"x")+COUNTIF('5'!L13,"x")+COUNTIF('6'!L13,"x")+COUNTIF('7'!L13,"x")+COUNTIF('8'!L13,"x")+COUNTIF('9'!L13,"x")+COUNTIF('10'!L13,"x")+COUNTIF('11'!L13,"x")+COUNTIF('12'!L13,"x")+COUNTIF('13'!L13,"x")+COUNTIF('14'!L13,"x")+COUNTIF('15'!L13,"x")<>0,COUNTIF('1'!L13,"x")+COUNTIF('2'!L13,"x")+COUNTIF('3'!L13,"x")+COUNTIF('4'!L13,"x")+COUNTIF('5'!L13,"x")+COUNTIF('6'!L13,"x")+COUNTIF('7'!L13,"x")+COUNTIF('8'!L13,"x")+COUNTIF('9'!L13,"x")+COUNTIF('10'!L13,"x")+COUNTIF('11'!L13,"x")+COUNTIF('12'!L13,"x")+COUNTIF('13'!L13,"x")+COUNTIF('14'!L13,"x")+COUNTIF('15'!L13,"x"),"0") -> 0 | O13: =IF(COUNTIF('1'!O13,"x")+COUNTIF('2'!O13,"x")+COUNTIF('3'!O13,"x")+COUNTIF('4'!O13,"x")+COUNTIF('5'!O13,"x")+COUNTIF('6'!O13,"x")+COUNTIF('7'!O13,"x")+COUNTIF('8'!O13,"x")+COUNTIF('9'!O13,"x")+COUNTIF('10'!O13,"x")+COUNTIF('11'!O13,"x")+COUNTIF('12'!O13,"x")+COUNTIF('13'!O13,"x")+COUNTIF('14'!O13,"x")+COUNTIF('15'!O13,"x")<>0,COUNTIF('1'!O13,"x")+COUNTIF('2'!O13,"x")+COUNTIF('3'!O13,"x")+COUNTIF('4'!O13,"x")+COUNTIF('5'!O13,"x")+COUNTIF('6'!O13,"x")+COUNTIF('7'!O13,"x")+COUNTIF('8'!O13,"x")+COUNTIF('9'!O13,"x")+COUNTIF('10'!O13,"x")+COUNTIF('11'!O13,"x")+COUNTIF('12'!O13,"x")+COUNTIF('13'!O13,"x")+COUNTIF('14'!O13,"x")+COUNTIF('15'!O13,"x"),"0") -> 0 | Q13: =IF(COUNTIF('1'!Q13,"x")+COUNTIF('2'!Q13,"x")+COUNTIF('3'!Q13,"x")+COUNTIF('4'!Q13,"x")+COUNTIF('5'!Q13,"x")+COUNTIF('6'!Q13,"x")+COUNTIF('7'!Q13,"x")+COUNTIF('8'!Q13,"x")+COUNTIF('9'!Q13,"x")+COUNTIF('10'!Q13,"x")+COUNTIF('11'!Q13,"x")+COUNTIF('12'!Q13,"x")+COUNTIF('13'!Q13,"x")+COUNTIF('14'!Q13,"x")+COUNTIF('15'!Q13,"x")<>0,COUNTIF('1'!Q13,"x")+COUNTIF('2'!Q13,"x")+COUNTIF('3'!Q13,"x")+COUNTIF('4'!Q13,"x")+COUNTIF('5'!Q13,"x")+COUNTIF('6'!Q13,"x")+COUNTIF('7'!Q13,"x")+COUNTIF('8'!Q13,"x")+COUNTIF('9'!Q13,"x")+COUNTIF('10'!Q13,"x")+COUNTIF('11'!Q13,"x")+COUNTIF('12'!Q13,"x")+COUNTIF('13'!Q13,"x")+COUNTIF('14'!Q13,"x")+COUNTIF('15'!Q13,"x"),"0") -> 0 | S13: =IF(SUM(E13:Q13)<>0,SUM(E13*1,G13*2,J13*3,L13*4,O13*5,Q13*6)/SUM(E13:Q13),"") | V13: =IF(COUNTIF((E13:Q13),"x")>1,"Bitte nur ein Kreuz setzen!","")
B14: =IF(Vorlage!B14<>"",Vorlage!B14,"") | E14: =IF(COUNTIF('1'!E14,"x")+COUNTIF('2'!E14,"x")+COUNTIF('3'!E14,"x")+COUNTIF('4'!E14,"x")+COUNTIF('5'!E14,"x")+COUNTIF('6'!E14,"x")+COUNTIF('7'!E14,"x")+COUNTIF('8'!E14,"x")+COUNTIF('9'!E14,"x")+COUNTIF('10'!E14,"x")+COUNTIF('11'!E14,"x")+COUNTIF('12'!E14,"x")+COUNTIF('13'!E14,"x")+COUNTIF('14'!E14,"x")+COUNTIF('15'!E14,"x")<>0,COUNTIF('1'!E14,"x")+COUNTIF('2'!E14,"x")+COUNTIF('3'!E14,"x")+COUNTIF('4'!E14,"x")+COUNTIF('5'!E14,"x")+COUNTIF('6'!E14,"x")+COUNTIF('7'!E14,"x")+COUNTIF('8'!E14,"x")+COUNTIF('9'!E14,"x")+COUNTIF('10'!E14,"x")+COUNTIF('11'!E14,"x")+COUNTIF('12'!E14,"x")+COUNTIF('13'!E14,"x")+COUNTIF('14'!E14,"x")+COUNTIF('15'!E14,"x"),"0") -> 0 | G14: =IF(COUNTIF('1'!G14,"x")+COUNTIF('2'!G14,"x")+COUNTIF('3'!G14,"x")+COUNTIF('4'!G14,"x")+COUNTIF('5'!G14,"x")+COUNTIF('6'!G14,"x")+COUNTIF('7'!G14,"x")+COUNTIF('8'!G14,"x")+COUNTIF('9'!G14,"x")+COUNTIF('10'!G14,"x")+COUNTIF('11'!G14,"x")+COUNTIF('12'!G14,"x")+COUNTIF('13'!G14,"x")+COUNTIF('14'!G14,"x")+COUNTIF('15'!G14,"x")<>0,COUNTIF('1'!G14,"x")+COUNTIF('2'!G14,"x")+COUNTIF('3'!G14,"x")+COUNTIF('4'!G14,"x")+COUNTIF('5'!G14,"x")+COUNTIF('6'!G14,"x")+COUNTIF('7'!G14,"x")+COUNTIF('8'!G14,"x")+COUNTIF('9'!G14,"x")+COUNTIF('10'!G14,"x")+COUNTIF('11'!G14,"x")+COUNTIF('12'!G14,"x")+COUNTIF('13'!G14,"x")+COUNTIF('14'!G14,"x")+COUNTIF('15'!G14,"x"),"0") -> 0 | J14: =IF(COUNTIF('1'!J14,"x")+COUNTIF('2'!J14,"x")+COUNTIF('3'!J14,"x")+COUNTIF('4'!J14,"x")+COUNTIF('5'!J14,"x")+COUNTIF('6'!J14,"x")+COUNTIF('7'!J14,"x")+COUNTIF('8'!J14,"x")+COUNTIF('9'!J14,"x")+COUNTIF('10'!J14,"x")+COUNTIF('11'!J14,"x")+COUNTIF('12'!J14,"x")+COUNTIF('13'!J14,"x")+COUNTIF('14'!J14,"x")+COUNTIF('15'!J14,"x")<>0,COUNTIF('1'!J14,"x")+COUNTIF('2'!J14,"x")+COUNTIF('3'!J14,"x")+COUNTIF('4'!J14,"x")+COUNTIF('5'!J14,"x")+COUNTIF('6'!J14,"x")+COUNTIF('7'!J14,"x")+COUNTIF('8'!J14,"x")+COUNTIF('9'!J14,"x")+COUNTIF('10'!J14,"x")+COUNTIF('11'!J14,"x")+COUNTIF('12'!J14,"x")+COUNTIF('13'!J14,"x")+COUNTIF('14'!J14,"x")+COUNTIF('15'!J14,"x"),"0") -> 0 | L14: =IF(COUNTIF('1'!L14,"x")+COUNTIF('2'!L14,"x")+COUNTIF('3'!L14,"x")+COUNTIF('4'!L14,"x")+COUNTIF('5'!L14,"x")+COUNTIF('6'!L14,"x")+COUNTIF('7'!L14,"x")+COUNTIF('8'!L14,"x")+COUNTIF('9'!L14,"x")+COUNTIF('10'!L14,"x")+COUNTIF('11'!L14,"x")+COUNTIF('12'!L14,"x")+COUNTIF('13'!L14,"x")+COUNTIF('14'!L14,"x")+COUNTIF('15'!L14,"x")<>0,COUNTIF('1'!L14,"x")+COUNTIF('2'!L14,"x")+COUNTIF('3'!L14,"x")+COUNTIF('4'!L14,"x")+COUNTIF('5'!L14,"x")+COUNTIF('6'!L14,"x")+COUNTIF('7'!L14,"x")+COUNTIF('8'!L14,"x")+COUNTIF('9'!L14,"x")+COUNTIF('10'!L14,"x")+COUNTIF('11'!L14,"x")+COUNTIF('12'!L14,"x")+COUNTIF('13'!L14,"x")+COUNTIF('14'!L14,"x")+COUNTIF('15'!L14,"x"),"0") -> 0 | O14: =IF(COUNTIF('1'!O14,"x")+COUNTIF('2'!O14,"x")+COUNTIF('3'!O14,"x")+COUNTIF('4'!O14,"x")+COUNTIF('5'!O14,"x")+COUNTIF('6'!O14,"x")+COUNTIF('7'!O14,"x")+COUNTIF('8'!O14,"x")+COUNTIF('9'!O14,"x")+COUNTIF('10'!O14,"x")+COUNTIF('11'!O14,"x")+COUNTIF('12'!O14,"x")+COUNTIF('13'!O14,"x")+COUNTIF('14'!O14,"x")+COUNTIF('15'!O14,"x")<>0,COUNTIF('1'!O14,"x")+COUNTIF('2'!O14,"x")+COUNTIF('3'!O14,"x")+COUNTIF('4'!O14,"x")+COUNTIF('5'!O14,"x")+COUNTIF('6'!O14,"x")+COUNTIF('7'!O14,"x")+COUNTIF('8'!O14,"x")+COUNTIF('9'!O14,"x")+COUNTIF('10'!O14,"x")+COUNTIF('11'!O14,"x")+COUNTIF('12'!O14,"x")+COUNTIF('13'!O14,"x")+COUNTIF('14'!O14,"x")+COUNTIF('15'!O14,"x"),"0") -> 0 | Q14: =IF(COUNTIF('1'!Q14,"x")+COUNTIF('2'!Q14,"x")+COUNTIF('3'!Q14,"x")+COUNTIF('4'!Q14,"x")+COUNTIF('5'!Q14,"x")+COUNTIF('6'!Q14,"x")+COUNTIF('7'!Q14,"x")+COUNTIF('8'!Q14,"x")+COUNTIF('9'!Q14,"x")+COUNTIF('10'!Q14,"x")+COUNTIF('11'!Q14,"x")+COUNTIF('12'!Q14,"x")+COUNTIF('13'!Q14,"x")+COUNTIF('14'!Q14,"x")+COUNTIF('15'!Q14,"x")<>0,COUNTIF('1'!Q14,"x")+COUNTIF('2'!Q14,"x")+COUNTIF('3'!Q14,"x")+COUNTIF('4'!Q14,"x")+COUNTIF('5'!Q14,"x")+COUNTIF('6'!Q14,"x")+COUNTIF('7'!Q14,"x")+COUNTIF('8'!Q14,"x")+COUNTIF('9'!Q14,"x")+COUNTIF('10'!Q14,"x")+COUNTIF('11'!Q14,"x")+COUNTIF('12'!Q14,"x")+COUNTIF('13'!Q14,"x")+COUNTIF('14'!Q14,"x")+COUNTIF('15'!Q14,"x"),"0") -> 0 | S14: =IF(SUM(E14:Q14)<>0,SUM(E14*1,G14*2,J14*3,L14*4,O14*5,Q14*6)/SUM(E14:Q14),"") | V14: =IF(COUNTIF((E14:Q14),"x")>1,"Bitte nur ein Kreuz setzen!","")
B15: =IF(Vorlage!B15<>"",Vorlage!B15,"") | E15: =IF(COUNTIF('1'!E15,"x")+COUNTIF('2'!E15,"x")+COUNTIF('3'!E15,"x")+COUNTIF('4'!E15,"x")+COUNTIF('5'!E15,"x")+COUNTIF('6'!E15,"x")+COUNTIF('7'!E15,"x")+COUNTIF('8'!E15,"x")+COUNTIF('9'!E15,"x")+COUNTIF('10'!E15,"x")+COUNTIF('11'!E15,"x")+COUNTIF('12'!E15,"x")+COUNTIF('13'!E15,"x")+COUNTIF('14'!E15,"x")+COUNTIF('15'!E15,"x")<>0,COUNTIF('1'!E15,"x")+COUNTIF('2'!E15,"x")+COUNTIF('3'!E15,"x")+COUNTIF('4'!E15,"x")+COUNTIF('5'!E15,"x")+COUNTIF('6'!E15,"x")+COUNTIF('7'!E15,"x")+COUNTIF('8'!E15,"x")+COUNTIF('9'!E15,"x")+COUNTIF('10'!E15,"x")+COUNTIF('11'!E15,"x")+COUNTIF('12'!E15,"x")+COUNTIF('13'!E15,"x")+COUNTIF('14'!E15,"x")+COUNTIF('15'!E15,"x"),"0") -> 0 | G15: =IF(COUNTIF('1'!G15,"x")+COUNTIF('2'!G15,"x")+COUNTIF('3'!G15,"x")+COUNTIF('4'!G15,"x")+COUNTIF('5'!G15,"x")+COUNTIF('6'!G15,"x")+COUNTIF('7'!G15,"x")+COUNTIF('8'!G15,"x")+COUNTIF('9'!G15,"x")+COUNTIF('10'!G15,"x")+COUNTIF('11'!G15,"x")+COUNTIF('12'!G15,"x")+COUNTIF('13'!G15,"x")+COUNTIF('14'!G15,"x")+COUNTIF('15'!G15,"x")<>0,COUNTIF('1'!G15,"x")+COUNTIF('2'!G15,"x")+COUNTIF('3'!G15,"x")+COUNTIF('4'!G15,"x")+COUNTIF('5'!G15,"x")+COUNTIF('6'!G15,"x")+COUNTIF('7'!G15,"x")+COUNTIF('8'!G15,"x")+COUNTIF('9'!G15,"x")+COUNTIF('10'!G15,"x")+COUNTIF('11'!G15,"x")+COUNTIF('12'!G15,"x")+COUNTIF('13'!G15,"x")+COUNTIF('14'!G15,"x")+COUNTIF('15'!G15,"x"),"0") -> 0 | J15: =IF(COUNTIF('1'!J15,"x")+COUNTIF('2'!J15,"x")+COUNTIF('3'!J15,"x")+COUNTIF('4'!J15,"x")+COUNTIF('5'!J15,"x")+COUNTIF('6'!J15,"x")+COUNTIF('7'!J15,"x")+COUNTIF('8'!J15,"x")+COUNTIF('9'!J15,"x")+COUNTIF('10'!J15,"x")+COUNTIF('11'!J15,"x")+COUNTIF('12'!J15,"x")+COUNTIF('13'!J15,"x")+COUNTIF('14'!J15,"x")+COUNTIF('15'!J15,"x")<>0,COUNTIF('1'!J15,"x")+COUNTIF('2'!J15,"x")+COUNTIF('3'!J15,"x")+COUNTIF('4'!J15,"x")+COUNTIF('5'!J15,"x")+COUNTIF('6'!J15,"x")+COUNTIF('7'!J15,"x")+COUNTIF('8'!J15,"x")+COUNTIF('9'!J15,"x")+COUNTIF('10'!J15,"x")+COUNTIF('11'!J15,"x")+COUNTIF('12'!J15,"x")+COUNTIF('13'!J15,"x")+COUNTIF('14'!J15,"x")+COUNTIF('15'!J15,"x"),"0") -> 0 | L15: =IF(COUNTIF('1'!L15,"x")+COUNTIF('2'!L15,"x")+COUNTIF('3'!L15,"x")+COUNTIF('4'!L15,"x")+COUNTIF('5'!L15,"x")+COUNTIF('6'!L15,"x")+COUNTIF('7'!L15,"x")+COUNTIF('8'!L15,"x")+COUNTIF('9'!L15,"x")+COUNTIF('10'!L15,"x")+COUNTIF('11'!L15,"x")+COUNTIF('12'!L15,"x")+COUNTIF('13'!L15,"x")+COUNTIF('14'!L15,"x")+COUNTIF('15'!L15,"x")<>0,COUNTIF('1'!L15,"x")+COUNTIF('2'!L15,"x")+COUNTIF('3'!L15,"x")+COUNTIF('4'!L15,"x")+COUNTIF('5'!L15,"x")+COUNTIF('6'!L15,"x")+COUNTIF('7'!L15,"x")+COUNTIF('8'!L15,"x")+COUNTIF('9'!L15,"x")+COUNTIF('10'!L15,"x")+COUNTIF('11'!L15,"x")+COUNTIF('12'!L15,"x")+COUNTIF('13'!L15,"x")+COUNTIF('14'!L15,"x")+COUNTIF('15'!L15,"x"),"0") -> 0 | O15: =IF(COUNTIF('1'!O15,"x")+COUNTIF('2'!O15,"x")+COUNTIF('3'!O15,"x")+COUNTIF('4'!O15,"x")+COUNTIF('5'!O15,"x")+COUNTIF('6'!O15,"x")+COUNTIF('7'!O15,"x")+COUNTIF('8'!O15,"x")+COUNTIF('9'!O15,"x")+COUNTIF('10'!O15,"x")+COUNTIF('11'!O15,"x")+COUNTIF('12'!O15,"x")+COUNTIF('13'!O15,"x")+COUNTIF('14'!O15,"x")+COUNTIF('15'!O15,"x")<>0,COUNTIF('1'!O15,"x")+COUNTIF('2'!O15,"x")+COUNTIF('3'!O15,"x")+COUNTIF('4'!O15,"x")+COUNTIF('5'!O15,"x")+COUNTIF('6'!O15,"x")+COUNTIF('7'!O15,"x")+COUNTIF('8'!O15,"x")+COUNTIF('9'!O15,"x")+COUNTIF('10'!O15,"x")+COUNTIF('11'!O15,"x")+COUNTIF('12'!O15,"x")+COUNTIF('13'!O15,"x")+COUNTIF('14'!O15,"x")+COUNTIF('15'!O15,"x"),"0") -> 0 | Q15: =IF(COUNTIF('1'!Q15,"x")+COUNTIF('2'!Q15,"x")+COUNTIF('3'!Q15,"x")+COUNTIF('4'!Q15,"x")+COUNTIF('5'!Q15,"x")+COUNTIF('6'!Q15,"x")+COUNTIF('7'!Q15,"x")+COUNTIF('8'!Q15,"x")+COUNTIF('9'!Q15,"x")+COUNTIF('10'!Q15,"x")+COUNTIF('11'!Q15,"x")+COUNTIF('12'!Q15,"x")+COUNTIF('13'!Q15,"x")+COUNTIF('14'!Q15,"x")+COUNTIF('15'!Q15,"x")<>0,COUNTIF('1'!Q15,"x")+COUNTIF('2'!Q15,"x")+COUNTIF('3'!Q15,"x")+COUNTIF('4'!Q15,"x")+COUNTIF('5'!Q15,"x")+COUNTIF('6'!Q15,"x")+COUNTIF('7'!Q15,"x")+COUNTIF('8'!Q15,"x")+COUNTIF('9'!Q15,"x")+COUNTIF('10'!Q15,"x")+COUNTIF('11'!Q15,"x")+COUNTIF('12'!Q15,"x")+COUNTIF('13'!Q15,"x")+COUNTIF('14'!Q15,"x")+COUNTIF('15'!Q15,"x"),"0") -> 0 | S15: =IF(SUM(E15:Q15)<>0,SUM(E15*1,G15*2,J15*3,L15*4,O15*5,Q15*6)/SUM(E15:Q15),"") | V15: =IF(COUNTIF((E15:Q15),"x")>1,"Bitte nur ein Kreuz setzen!","")
B16: =IF(Vorlage!B16<>"",Vorlage!B16,"") | E16: =IF(COUNTIF('1'!E16,"x")+COUNTIF('2'!E16,"x")+COUNTIF('3'!E16,"x")+COUNTIF('4'!E16,"x")+COUNTIF('5'!E16,"x")+COUNTIF('6'!E16,"x")+COUNTIF('7'!E16,"x")+COUNTIF('8'!E16,"x")+COUNTIF('9'!E16,"x")+COUNTIF('10'!E16,"x")+COUNTIF('11'!E16,"x")+COUNTIF('12'!E16,"x")+COUNTIF('13'!E16,"x")+COUNTIF('14'!E16,"x")+COUNTIF('15'!E16,"x")<>0,COUNTIF('1'!E16,"x")+COUNTIF('2'!E16,"x")+COUNTIF('3'!E16,"x")+COUNTIF('4'!E16,"x")+COUNTIF('5'!E16,"x")+COUNTIF('6'!E16,"x")+COUNTIF('7'!E16,"x")+COUNTIF('8'!E16,"x")+COUNTIF('9'!E16,"x")+COUNTIF('10'!E16,"x")+COUNTIF('11'!E16,"x")+COUNTIF('12'!E16,"x")+COUNTIF('13'!E16,"x")+COUNTIF('14'!E16,"x")+COUNTIF('15'!E16,"x"),"0") -> 0 | G16: =IF(COUNTIF('1'!G16,"x")+COUNTIF('2'!G16,"x")+COUNTIF('3'!G16,"x")+COUNTIF('4'!G16,"x")+COUNTIF('5'!G16,"x")+COUNTIF('6'!G16,"x")+COUNTIF('7'!G16,"x")+COUNTIF('8'!G16,"x")+COUNTIF('9'!G16,"x")+COUNTIF('10'!G16,"x")+COUNTIF('11'!G16,"x")+COUNTIF('12'!G16,"x")+COUNTIF('13'!G16,"x")+COUNTIF('14'!G16,"x")+COUNTIF('15'!G16,"x")<>0,COUNTIF('1'!G16,"x")+COUNTIF('2'!G16,"x")+COUNTIF('3'!G16,"x")+COUNTIF('4'!G16,"x")+COUNTIF('5'!G16,"x")+COUNTIF('6'!G16,"x")+COUNTIF('7'!G16,"x")+COUNTIF('8'!G16,"x")+COUNTIF('9'!G16,"x")+COUNTIF('10'!G16,"x")+COUNTIF('11'!G16,"x")+COUNTIF('12'!G16,"x")+COUNTIF('13'!G16,"x")+COUNTIF('14'!G16,"x")+COUNTIF('15'!G16,"x"),"0") -> 0 | J16: =IF(COUNTIF('1'!J16,"x")+COUNTIF('2'!J16,"x")+COUNTIF('3'!J16,"x")+COUNTIF('4'!J16,"x")+COUNTIF('5'!J16,"x")+COUNTIF('6'!J16,"x")+COUNTIF('7'!J16,"x")+COUNTIF('8'!J16,"x")+COUNTIF('9'!J16,"x")+COUNTIF('10'!J16,"x")+COUNTIF('11'!J16,"x")+COUNTIF('12'!J16,"x")+COUNTIF('13'!J16,"x")+COUNTIF('14'!J16,"x")+COUNTIF('15'!J16,"x")<>0,COUNTIF('1'!J16,"x")+COUNTIF('2'!J16,"x")+COUNTIF('3'!J16,"x")+COUNTIF('4'!J16,"x")+COUNTIF('5'!J16,"x")+COUNTIF('6'!J16,"x")+COUNTIF('7'!J16,"x")+COUNTIF('8'!J16,"x")+COUNTIF('9'!J16,"x")+COUNTIF('10'!J16,"x")+COUNTIF('11'!J16,"x")+COUNTIF('12'!J16,"x")+COUNTIF('13'!J16,"x")+COUNTIF('14'!J16,"x")+COUNTIF('15'!J16,"x"),"0") -> 0 | L16: =IF(COUNTIF('1'!L16,"x")+COUNTIF('2'!L16,"x")+COUNTIF('3'!L16,"x")+COUNTIF('4'!L16,"x")+COUNTIF('5'!L16,"x")+COUNTIF('6'!L16,"x")+COUNTIF('7'!L16,"x")+COUNTIF('8'!L16,"x")+COUNTIF('9'!L16,"x")+COUNTIF('10'!L16,"x")+COUNTIF('11'!L16,"x")+COUNTIF('12'!L16,"x")+COUNTIF('13'!L16,"x")+COUNTIF('14'!L16,"x")+COUNTIF('15'!L16,"x")<>0,COUNTIF('1'!L16,"x")+COUNTIF('2'!L16,"x")+COUNTIF('3'!L16,"x")+COUNTIF('4'!L16,"x")+COUNTIF('5'!L16,"x")+COUNTIF('6'!L16,"x")+COUNTIF('7'!L16,"x")+COUNTIF('8'!L16,"x")+COUNTIF('9'!L16,"x")+COUNTIF('10'!L16,"x")+COUNTIF('11'!L16,"x")+COUNTIF('12'!L16,"x")+COUNTIF('13'!L16,"x")+COUNTIF('14'!L16,"x")+COUNTIF('15'!L16,"x"),"0") -> 0 | O16: =IF(COUNTIF('1'!O16,"x")+COUNTIF('2'!O16,"x")+COUNTIF('3'!O16,"x")+COUNTIF('4'!O16,"x")+COUNTIF('5'!O16,"x")+COUNTIF('6'!O16,"x")+COUNTIF('7'!O16,"x")+COUNTIF('8'!O16,"x")+COUNTIF('9'!O16,"x")+COUNTIF('10'!O16,"x")+COUNTIF('11'!O16,"x")+COUNTIF('12'!O16,"x")+COUNTIF('13'!O16,"x")+COUNTIF('14'!O16,"x")+COUNTIF('15'!O16,"x")<>0,COUNTIF('1'!O16,"x")+COUNTIF('2'!O16,"x")+COUNTIF('3'!O16,"x")+COUNTIF('4'!O16,"x")+COUNTIF('5'!O16,"x")+COUNTIF('6'!O16,"x")+COUNTIF('7'!O16,"x")+COUNTIF('8'!O16,"x")+COUNTIF('9'!O16,"x")+COUNTIF('10'!O16,"x")+COUNTIF('11'!O16,"x")+COUNTIF('12'!O16,"x")+COUNTIF('13'!O16,"x")+COUNTIF('14'!O16,"x")+COUNTIF('15'!O16,"x"),"0") -> 0 | Q16: =IF(COUNTIF('1'!Q16,"x")+COUNTIF('2'!Q16,"x")+COUNTIF('3'!Q16,"x")+COUNTIF('4'!Q16,"x")+COUNTIF('5'!Q16,"x")+COUNTIF('6'!Q16,"x")+COUNTIF('7'!Q16,"x")+COUNTIF('8'!Q16,"x")+COUNTIF('9'!Q16,"x")+COUNTIF('10'!Q16,"x")+COUNTIF('11'!Q16,"x")+COUNTIF('12'!Q16,"x")+COUNTIF('13'!Q16,"x")+COUNTIF('14'!Q16,"x")+COUNTIF('15'!Q16,"x")<>0,COUNTIF('1'!Q16,"x")+COUNTIF('2'!Q16,"x")+COUNTIF('3'!Q16,"x")+COUNTIF('4'!Q16,"x")+COUNTIF('5'!Q16,"x")+COUNTIF('6'!Q16,"x")+COUNTIF('7'!Q16,"x")+COUNTIF('8'!Q16,"x")+COUNTIF('9'!Q16,"x")+COUNTIF('10'!Q16,"x")+COUNTIF('11'!Q16,"x")+COUNTIF('12'!Q16,"x")+COUNTIF('13'!Q16,"x")+COUNTIF('14'!Q16,"x")+COUNTIF('15'!Q16,"x"),"0") -> 0 | S16: =IF(SUM(E16:Q16)<>0,SUM(E16*1,G16*2,J16*3,L16*4,O16*5,Q16*6)/SUM(E16:Q16),"") | V16: =IF(COUNTIF((E16:Q16),"x")>1,"Bitte nur ein Kreuz setzen!","")
B17: =IF(Vorlage!B17<>"",Vorlage!B17,"") | E17: =IF(COUNTIF('1'!E17,"x")+COUNTIF('2'!E17,"x")+COUNTIF('3'!E17,"x")+COUNTIF('4'!E17,"x")+COUNTIF('5'!E17,"x")+COUNTIF('6'!E17,"x")+COUNTIF('7'!E17,"x")+COUNTIF('8'!E17,"x")+COUNTIF('9'!E17,"x")+COUNTIF('10'!E17,"x")+COUNTIF('11'!E17,"x")+COUNTIF('12'!E17,"x")+COUNTIF('13'!E17,"x")+COUNTIF('14'!E17,"x")+COUNTIF('15'!E17,"x")<>0,COUNTIF('1'!E17,"x")+COUNTIF('2'!E17,"x")+COUNTIF('3'!E17,"x")+COUNTIF('4'!E17,"x")+COUNTIF('5'!E17,"x")+COUNTIF('6'!E17,"x")+COUNTIF('7'!E17,"x")+COUNTIF('8'!E17,"x")+COUNTIF('9'!E17,"x")+COUNTIF('10'!E17,"x")+COUNTIF('11'!E17,"x")+COUNTIF('12'!E17,"x")+COUNTIF('13'!E17,"x")+COUNTIF('14'!E17,"x")+COUNTIF('15'!E17,"x"),"0") -> 0 | G17: =IF(COUNTIF('1'!G17,"x")+COUNTIF('2'!G17,"x")+COUNTIF('3'!G17,"x")+COUNTIF('4'!G17,"x")+COUNTIF('5'!G17,"x")+COUNTIF('6'!G17,"x")+COUNTIF('7'!G17,"x")+COUNTIF('8'!G17,"x")+COUNTIF('9'!G17,"x")+COUNTIF('10'!G17,"x")+COUNTIF('11'!G17,"x")+COUNTIF('12'!G17,"x")+COUNTIF('13'!G17,"x")+COUNTIF('14'!G17,"x")+COUNTIF('15'!G17,"x")<>0,COUNTIF('1'!G17,"x")+COUNTIF('2'!G17,"x")+COUNTIF('3'!G17,"x")+COUNTIF('4'!G17,"x")+COUNTIF('5'!G17,"x")+COUNTIF('6'!G17,"x")+COUNTIF('7'!G17,"x")+COUNTIF('8'!G17,"x")+COUNTIF('9'!G17,"x")+COUNTIF('10'!G17,"x")+COUNTIF('11'!G17,"x")+COUNTIF('12'!G17,"x")+COUNTIF('13'!G17,"x")+COUNTIF('14'!G17,"x")+COUNTIF('15'!G17,"x"),"0") -> 0 | J17: =IF(COUNTIF('1'!J17,"x")+COUNTIF('2'!J17,"x")+COUNTIF('3'!J17,"x")+COUNTIF('4'!J17,"x")+COUNTIF('5'!J17,"x")+COUNTIF('6'!J17,"x")+COUNTIF('7'!J17,"x")+COUNTIF('8'!J17,"x")+COUNTIF('9'!J17,"x")+COUNTIF('10'!J17,"x")+COUNTIF('11'!J17,"x")+COUNTIF('12'!J17,"x")+COUNTIF('13'!J17,"x")+COUNTIF('14'!J17,"x")+COUNTIF('15'!J17,"x")<>0,COUNTIF('1'!J17,"x")+COUNTIF('2'!J17,"x")+COUNTIF('3'!J17,"x")+COUNTIF('4'!J17,"x")+COUNTIF('5'!J17,"x")+COUNTIF('6'!J17,"x")+COUNTIF('7'!J17,"x")+COUNTIF('8'!J17,"x")+COUNTIF('9'!J17,"x")+COUNTIF('10'!J17,"x")+COUNTIF('11'!J17,"x")+COUNTIF('12'!J17,"x")+COUNTIF('13'!J17,"x")+COUNTIF('14'!J17,"x")+COUNTIF('15'!J17,"x"),"0") -> 0 | L17: =IF(COUNTIF('1'!L17,"x")+COUNTIF('2'!L17,"x")+COUNTIF('3'!L17,"x")+COUNTIF('4'!L17,"x")+COUNTIF('5'!L17,"x")+COUNTIF('6'!L17,"x")+COUNTIF('7'!L17,"x")+COUNTIF('8'!L17,"x")+COUNTIF('9'!L17,"x")+COUNTIF('10'!L17,"x")+COUNTIF('11'!L17,"x")+COUNTIF('12'!L17,"x")+COUNTIF('13'!L17,"x")+COUNTIF('14'!L17,"x")+COUNTIF('15'!L17,"x")<>0,COUNTIF('1'!L17,"x")+COUNTIF('2'!L17,"x")+COUNTIF('3'!L17,"x")+COUNTIF('4'!L17,"x")+COUNTIF('5'!L17,"x")+COUNTIF('6'!L17,"x")+COUNTIF('7'!L17,"x")+COUNTIF('8'!L17,"x")+COUNTIF('9'!L17,"x")+COUNTIF('10'!L17,"x")+COUNTIF('11'!L17,"x")+COUNTIF('12'!L17,"x")+COUNTIF('13'!L17,"x")+COUNTIF('14'!L17,"x")+COUNTIF('15'!L17,"x"),"0") -> 0 | O17: =IF(COUNTIF('1'!O17,"x")+COUNTIF('2'!O17,"x")+COUNTIF('3'!O17,"x")+COUNTIF('4'!O17,"x")+COUNTIF('5'!O17,"x")+COUNTIF('6'!O17,"x")+COUNTIF('7'!O17,"x")+COUNTIF('8'!O17,"x")+COUNTIF('9'!O17,"x")+COUNTIF('10'!O17,"x")+COUNTIF('11'!O17,"x")+COUNTIF('12'!O17,"x")+COUNTIF('13'!O17,"x")+COUNTIF('14'!O17,"x")+COUNTIF('15'!O17,"x")<>0,COUNTIF('1'!O17,"x")+COUNTIF('2'!O17,"x")+COUNTIF('3'!O17,"x")+COUNTIF('4'!O17,"x")+COUNTIF('5'!O17,"x")+COUNTIF('6'!O17,"x")+COUNTIF('7'!O17,"x")+COUNTIF('8'!O17,"x")+COUNTIF('9'!O17,"x")+COUNTIF('10'!O17,"x")+COUNTIF('11'!O17,"x")+COUNTIF('12'!O17,"x")+COUNTIF('13'!O17,"x")+COUNTIF('14'!O17,"x")+COUNTIF('15'!O17,"x"),"0") -> 0 | Q17: =IF(COUNTIF('1'!Q17,"x")+COUNTIF('2'!Q17,"x")+COUNTIF('3'!Q17,"x")+COUNTIF('4'!Q17,"x")+COUNTIF('5'!Q17,"x")+COUNTIF('6'!Q17,"x")+COUNTIF('7'!Q17,"x")+COUNTIF('8'!Q17,"x")+COUNTIF('9'!Q17,"x")+COUNTIF('10'!Q17,"x")+COUNTIF('11'!Q17,"x")+COUNTIF('12'!Q17,"x")+COUNTIF('13'!Q17,"x")+COUNTIF('14'!Q17,"x")+COUNTIF('15'!Q17,"x")<>0,COUNTIF('1'!Q17,"x")+COUNTIF('2'!Q17,"x")+COUNTIF('3'!Q17,"x")+COUNTIF('4'!Q17,"x")+COUNTIF('5'!Q17,"x")+COUNTIF('6'!Q17,"x")+COUNTIF('7'!Q17,"x")+COUNTIF('8'!Q17,"x")+COUNTIF('9'!Q17,"x")+COUNTIF('10'!Q17,"x")+COUNTIF('11'!Q17,"x")+COUNTIF('12'!Q17,"x")+COUNTIF('13'!Q17,"x")+COUNTIF('14'!Q17,"x")+COUNTIF('15'!Q17,"x"),"0") -> 0 | S17: =IF(SUM(E17:Q17)<>0,SUM(E17*1,G17*2,J17*3,L17*4,O17*5,Q17*6)/SUM(E17:Q17),"") | V17: =IF(COUNTIF((E17:Q17),"x")>1,"Bitte nur ein Kreuz setzen!","")
B18: =IF(Vorlage!B18<>"",Vorlage!B18,"") | E18: =IF(COUNTIF('1'!E18,"x")+COUNTIF('2'!E18,"x")+COUNTIF('3'!E18,"x")+COUNTIF('4'!E18,"x")+COUNTIF('5'!E18,"x")+COUNTIF('6'!E18,"x")+COUNTIF('7'!E18,"x")+COUNTIF('8'!E18,"x")+COUNTIF('9'!E18,"x")+COUNTIF('10'!E18,"x")+COUNTIF('11'!E18,"x")+COUNTIF('12'!E18,"x")+COUNTIF('13'!E18,"x")+COUNTIF('14'!E18,"x")+COUNTIF('15'!E18,"x")<>0,COUNTIF('1'!E18,"x")+COUNTIF('2'!E18,"x")+COUNTIF('3'!E18,"x")+COUNTIF('4'!E18,"x")+COUNTIF('5'!E18,"x")+COUNTIF('6'!E18,"x")+COUNTIF('7'!E18,"x")+COUNTIF('8'!E18,"x")+COUNTIF('9'!E18,"x")+COUNTIF('10'!E18,"x")+COUNTIF('11'!E18,"x")+COUNTIF('12'!E18,"x")+COUNTIF('13'!E18,"x")+COUNTIF('14'!E18,"x")+COUNTIF('15'!E18,"x"),"0") -> 0 | G18: =IF(COUNTIF('1'!G18,"x")+COUNTIF('2'!G18,"x")+COUNTIF('3'!G18,"x")+COUNTIF('4'!G18,"x")+COUNTIF('5'!G18,"x")+COUNTIF('6'!G18,"x")+COUNTIF('7'!G18,"x")+COUNTIF('8'!G18,"x")+COUNTIF('9'!G18,"x")+COUNTIF('10'!G18,"x")+COUNTIF('11'!G18,"x")+COUNTIF('12'!G18,"x")+COUNTIF('13'!G18,"x")+COUNTIF('14'!G18,"x")+COUNTIF('15'!G18,"x")<>0,COUNTIF('1'!G18,"x")+COUNTIF('2'!G18,"x")+COUNTIF('3'!G18,"x")+COUNTIF('4'!G18,"x")+COUNTIF('5'!G18,"x")+COUNTIF('6'!G18,"x")+COUNTIF('7'!G18,"x")+COUNTIF('8'!G18,"x")+COUNTIF('9'!G18,"x")+COUNTIF('10'!G18,"x")+COUNTIF('11'!G18,"x")+COUNTIF('12'!G18,"x")+COUNTIF('13'!G18,"x")+COUNTIF('14'!G18,"x")+COUNTIF('15'!G18,"x"),"0") -> 0 | J18: =IF(COUNTIF('1'!J18,"x")+COUNTIF('2'!J18,"x")+COUNTIF('3'!J18,"x")+COUNTIF('4'!J18,"x")+COUNTIF('5'!J18,"x")+COUNTIF('6'!J18,"x")+COUNTIF('7'!J18,"x")+COUNTIF('8'!J18,"x")+COUNTIF('9'!J18,"x")+COUNTIF('10'!J18,"x")+COUNTIF('11'!J18,"x")+COUNTIF('12'!J18,"x")+COUNTIF('13'!J18,"x")+COUNTIF('14'!J18,"x")+COUNTIF('15'!J18,"x")<>0,COUNTIF('1'!J18,"x")+COUNTIF('2'!J18,"x")+COUNTIF('3'!J18,"x")+COUNTIF('4'!J18,"x")+COUNTIF('5'!J18,"x")+COUNTIF('6'!J18,"x")+COUNTIF('7'!J18,"x")+COUNTIF('8'!J18,"x")+COUNTIF('9'!J18,"x")+COUNTIF('10'!J18,"x")+COUNTIF('11'!J18,"x")+COUNTIF('12'!J18,"x")+COUNTIF('13'!J18,"x")+COUNTIF('14'!J18,"x")+COUNTIF('15'!J18,"x"),"0") -> 0 | L18: =IF(COUNTIF('1'!L18,"x")+COUNTIF('2'!L18,"x")+COUNTIF('3'!L18,"x")+COUNTIF('4'!L18,"x")+COUNTIF('5'!L18,"x")+COUNTIF('6'!L18,"x")+COUNTIF('7'!L18,"x")+COUNTIF('8'!L18,"x")+COUNTIF('9'!L18,"x")+COUNTIF('10'!L18,"x")+COUNTIF('11'!L18,"x")+COUNTIF('12'!L18,"x")+COUNTIF('13'!L18,"x")+COUNTIF('14'!L18,"x")+COUNTIF('15'!L18,"x")<>0,COUNTIF('1'!L18,"x")+COUNTIF('2'!L18,"x")+COUNTIF('3'!L18,"x")+COUNTIF('4'!L18,"x")+COUNTIF('5'!L18,"x")+COUNTIF('6'!L18,"x")+COUNTIF('7'!L18,"x")+COUNTIF('8'!L18,"x")+COUNTIF('9'!L18,"x")+COUNTIF('10'!L18,"x")+COUNTIF('11'!L18,"x")+COUNTIF('12'!L18,"x")+COUNTIF('13'!L18,"x")+COUNTIF('14'!L18,"x")+COUNTIF('15'!L18,"x"),"0") -> 0 | O18: =IF(COUNTIF('1'!O18,"x")+COUNTIF('2'!O18,"x")+COUNTIF('3'!O18,"x")+COUNTIF('4'!O18,"x")+COUNTIF('5'!O18,"x")+COUNTIF('6'!O18,"x")+COUNTIF('7'!O18,"x")+COUNTIF('8'!O18,"x")+COUNTIF('9'!O18,"x")+COUNTIF('10'!O18,"x")+COUNTIF('11'!O18,"x")+COUNTIF('12'!O18,"x")+COUNTIF('13'!O18,"x")+COUNTIF('14'!O18,"x")+COUNTIF('15'!O18,"x")<>0,COUNTIF('1'!O18,"x")+COUNTIF('2'!O18,"x")+COUNTIF('3'!O18,"x")+COUNTIF('4'!O18,"x")+COUNTIF('5'!O18,"x")+COUNTIF('6'!O18,"x")+COUNTIF('7'!O18,"x")+COUNTIF('8'!O18,"x")+COUNTIF('9'!O18,"x")+COUNTIF('10'!O18,"x")+COUNTIF('11'!O18,"x")+COUNTIF('12'!O18,"x")+COUNTIF('13'!O18,"x")+COUNTIF('14'!O18,"x")+COUNTIF('15'!O18,"x"),"0") -> 0 | Q18: =IF(COUNTIF('1'!Q18,"x")+COUNTIF('2'!Q18,"x")+COUNTIF('3'!Q18,"x")+COUNTIF('4'!Q18,"x")+COUNTIF('5'!Q18,"x")+COUNTIF('6'!Q18,"x")+COUNTIF('7'!Q18,"x")+COUNTIF('8'!Q18,"x")+COUNTIF('9'!Q18,"x")+COUNTIF('10'!Q18,"x")+COUNTIF('11'!Q18,"x")+COUNTIF('12'!Q18,"x")+COUNTIF('13'!Q18,"x")+COUNTIF('14'!Q18,"x")+COUNTIF('15'!Q18,"x")<>0,COUNTIF('1'!Q18,"x")+COUNTIF('2'!Q18,"x")+COUNTIF('3'!Q18,"x")+COUNTIF('4'!Q18,"x")+COUNTIF('5'!Q18,"x")+COUNTIF('6'!Q18,"x")+COUNTIF('7'!Q18,"x")+COUNTIF('8'!Q18,"x")+COUNTIF('9'!Q18,"x")+COUNTIF('10'!Q18,"x")+COUNTIF('11'!Q18,"x")+COUNTIF('12'!Q18,"x")+COUNTIF('13'!Q18,"x")+COUNTIF('14'!Q18,"x")+COUNTIF('15'!Q18,"x"),"0") -> 0 | S18: =IF(SUM(E18:Q18)<>0,SUM(E18*1,G18*2,J18*3,L18*4,O18*5,Q18*6)/SUM(E18:Q18),"") | V18: =IF(COUNTIF((E18:Q18),"x")>1,"Bitte nur ein Kreuz setzen!","")
S19: =IF(SUM(S9:S18)<>0,SUM(S9:S18)/COUNT(S9:S18),"") | T19: erreichte Punkte | U19: =IF(S19<>"",-((U8/5)*S19)+(U8+(U8/5)),"0") -> 0
A20: =+Vorlage!A20 -> OP- Tisch Säule | T20: Punkte | U20: 8
B21: =IF(Vorlage!B21<>"",Vorlage!B21,"") -> Drehbereich, Bedienkonzept für die Drehung | E21: =IF(COUNTIF('1'!E21,"x")+COUNTIF('2'!E21,"x")+COUNTIF('3'!E21,"x")+COUNTIF('4'!E21,"x")+COUNTIF('5'!E21,"x")+COUNTIF('6'!E21,"x")+COUNTIF('7'!E21,"x")+COUNTIF('8'!E21,"x")+COUNTIF('9'!E21,"x")+COUNTIF('10'!E21,"x")+COUNTIF('11'!E21,"x")+COUNTIF('12'!E21,"x")+COUNTIF('13'!E21,"x")+COUNTIF('14'!E21,"x")+COUNTIF('15'!E21,"x")<>0,COUNTIF('1'!E21,"x")+COUNTIF('2'!E21,"x")+COUNTIF('3'!E21,"x")+COUNTIF('4'!E21,"x")+COUNTIF('5'!E21,"x")+COUNTIF('6'!E21,"x")+COUNTIF('7'!E21,"x")+COUNTIF('8'!E21,"x")+COUNTIF('9'!E21,"x")+COUNTIF('10'!E21,"x")+COUNTIF('11'!E21,"x")+COUNTIF('12'!E21,"x")+COUNTIF('13'!E21,"x")+COUNTIF('14'!E21,"x")+COUNTIF('15'!E21,"x"),"0") -> 0 | G21: =IF(COUNTIF('1'!G21,"x")+COUNTIF('2'!G21,"x")+COUNTIF('3'!G21,"x")+COUNTIF('4'!G21,"x")+COUNTIF('5'!G21,"x")+COUNTIF('6'!G21,"x")+COUNTIF('7'!G21,"x")+COUNTIF('8'!G21,"x")+COUNTIF('9'!G21,"x")+COUNTIF('10'!G21,"x")+COUNTIF('11'!G21,"x")+COUNTIF('12'!G21,"x")+COUNTIF('13'!G21,"x")+COUNTIF('14'!G21,"x")+COUNTIF('15'!G21,"x")<>0,COUNTIF('1'!G21,"x")+COUNTIF('2'!G21,"x")+COUNTIF('3'!G21,"x")+COUNTIF('4'!G21,"x")+COUNTIF('5'!G21,"x")+COUNTIF('6'!G21,"x")+COUNTIF('7'!G21,"x")+COUNTIF('8'!G21,"x")+COUNTIF('9'!G21,"x")+COUNTIF('10'!G21,"x")+COUNTIF('11'!G21,"x")+COUNTIF('12'!G21,"x")+COUNTIF('13'!G21,"x")+COUNTIF('14'!G21,"x")+COUNTIF('15'!G21,"x"),"0") -> 0 | J21: =IF(COUNTIF('1'!J21,"x")+COUNTIF('2'!J21,"x")+COUNTIF('3'!J21,"x")+COUNTIF('4'!J21,"x")+COUNTIF('5'!J21,"x")+COUNTIF('6'!J21,"x")+COUNTIF('7'!J21,"x")+COUNTIF('8'!J21,"x")+COUNTIF('9'!J21,"x")+COUNTIF('10'!J21,"x")+COUNTIF('11'!J21,"x")+COUNTIF('12'!J21,"x")+COUNTIF('13'!J21,"x")+COUNTIF('14'!J21,"x")+COUNTIF('15'!J21,"x")<>0,COUNTIF('1'!J21,"x")+COUNTIF('2'!J21,"x")+COUNTIF('3'!J21,"x")+COUNTIF('4'!J21,"x")+COUNTIF('5'!J21,"x")+COUNTIF('6'!J21,"x")+COUNTIF('7'!J21,"x")+COUNTIF('8'!J21,"x")+COUNTIF('9'!J21,"x")+COUNTIF('10'!J21,"x")+COUNTIF('11'!J21,"x")+COUNTIF('12'!J21,"x")+COUNTIF('13'!J21,"x")+COUNTIF('14'!J21,"x")+COUNTIF('15'!J21,"x"),"0") -> 0 | L21: =IF(COUNTIF('1'!L21,"x")+COUNTIF('2'!L21,"x")+COUNTIF('3'!L21,"x")+COUNTIF('4'!L21,"x")+COUNTIF('5'!L21,"x")+COUNTIF('6'!L21,"x")+COUNTIF('7'!L21,"x")+COUNTIF('8'!L21,"x")+COUNTIF('9'!L21,"x")+COUNTIF('10'!L21,"x")+COUNTIF('11'!L21,"x")+COUNTIF('12'!L21,"x")+COUNTIF('13'!L21,"x")+COUNTIF('14'!L21,"x")+COUNTIF('15'!L21,"x")<>0,COUNTIF('1'!L21,"x")+COUNTIF('2'!L21,"x")+COUNTIF('3'!L21,"x")+COUNTIF('4'!L21,"x")+COUNTIF('5'!L21,"x")+COUNTIF('6'!L21,"x")+COUNTIF('7'!L21,"x")+COUNTIF('8'!L21,"x")+COUNTIF('9'!L21,"x")+COUNTIF('10'!L21,"x")+COUNTIF('11'!L21,"x")+COUNTIF('12'!L21,"x")+COUNTIF('13'!L21,"x")+COUNTIF('14'!L21,"x")+COUNTIF('15'!L21,"x"),"0") -> 0 | O21: =IF(COUNTIF('1'!O21,"x")+COUNTIF('2'!O21,"x")+COUNTIF('3'!O21,"x")+COUNTIF('4'!O21,"x")+COUNTIF('5'!O21,"x")+COUNTIF('6'!O21,"x")+COUNTIF('7'!O21,"x")+COUNTIF('8'!O21,"x")+COUNTIF('9'!O21,"x")+COUNTIF('10'!O21,"x")+COUNTIF('11'!O21,"x")+COUNTIF('12'!O21,"x")+COUNTIF('13'!O21,"x")+COUNTIF('14'!O21,"x")+COUNTIF('15'!O21,"x")<>0,COUNTIF('1'!O21,"x")+COUNTIF('2'!O21,"x")+COUNTIF('3'!O21,"x")+COUNTIF('4'!O21,"x")+COUNTIF('5'!O21,"x")+COUNTIF('6'!O21,"x")+COUNTIF('7'!O21,"x")+COUNTIF('8'!O21,"x")+COUNTIF('9'!O21,"x")+COUNTIF('10'!O21,"x")+COUNTIF('11'!O21,"x")+COUNTIF('12'!O21,"x")+COUNTIF('13'!O21,"x")+COUNTIF('14'!O21,"x")+COUNTIF('15'!O21,"x"),"0") -> 0 | Q21: =IF(COUNTIF('1'!Q21,"x")+COUNTIF('2'!Q21,"x")+COUNTIF('3'!Q21,"x")+COUNTIF('4'!Q21,"x")+COUNTIF('5'!Q21,"x")+COUNTIF('6'!Q21,"x")+COUNTIF('7'!Q21,"x")+COUNTIF('8'!Q21,"x")+COUNTIF('9'!Q21,"x")+COUNTIF('10'!Q21,"x")+COUNTIF('11'!Q21,"x")+COUNTIF('12'!Q21,"x")+COUNTIF('13'!Q21,"x")+COUNTIF('14'!Q21,"x")+COUNTIF('15'!Q21,"x")<>0,COUNTIF('1'!Q21,"x")+COUNTIF('2'!Q21,"x")+COUNTIF('3'!Q21,"x")+COUNTIF('4'!Q21,"x")+COUNTIF('5'!Q21,"x")+COUNTIF('6'!Q21,"x")+COUNTIF('7'!Q21,"x")+COUNTIF('8'!Q21,"x")+COUNTIF('9'!Q21,"x")+COUNTIF('10'!Q21,"x")+COUNTIF('11'!Q21,"x")+COUNTIF('12'!Q21,"x")+COUNTIF('13'!Q21,"x")+COUNTIF('14'!Q21,"x")+COUNTIF('15'!Q21,"x"),"0") -> 0 | S21: =IF(SUM(E21:Q21)<>0,SUM(E21*1,G21*2,J21*3,L21*4,O21*5,Q21*6)/SUM(E21:Q21),"") | V21: =IF(COUNTIF((E21:Q21),"x")>1,"Bitte nur ein Kreuz setzen!","")
B22: =IF(Vorlage!B22<>"",Vorlage!B22,"") -> Gesamteindruck zur motorischen Verstellung | E22: =IF(COUNTIF('1'!E22,"x")+COUNTIF('2'!E22,"x")+COUNTIF('3'!E22,"x")+COUNTIF('4'!E22,"x")+COUNTIF('5'!E22,"x")+COUNTIF('6'!E22,"x")+COUNTIF('7'!E22,"x")+COUNTIF('8'!E22,"x")+COUNTIF('9'!E22,"x")+COUNTIF('10'!E22,"x")+COUNTIF('11'!E22,"x")+COUNTIF('12'!E22,"x")+COUNTIF('13'!E22,"x")+COUNTIF('14'!E22,"x")+COUNTIF('15'!E22,"x")<>0,COUNTIF('1'!E22,"x")+COUNTIF('2'!E22,"x")+COUNTIF('3'!E22,"x")+COUNTIF('4'!E22,"x")+COUNTIF('5'!E22,"x")+COUNTIF('6'!E22,"x")+COUNTIF('7'!E22,"x")+COUNTIF('8'!E22,"x")+COUNTIF('9'!E22,"x")+COUNTIF('10'!E22,"x")+COUNTIF('11'!E22,"x")+COUNTIF('12'!E22,"x")+COUNTIF('13'!E22,"x")+COUNTIF('14'!E22,"x")+COUNTIF('15'!E22,"x"),"0") -> 0 | G22: =IF(COUNTIF('1'!G22,"x")+COUNTIF('2'!G22,"x")+COUNTIF('3'!G22,"x")+COUNTIF('4'!G22,"x")+COUNTIF('5'!G22,"x")+COUNTIF('6'!G22,"x")+COUNTIF('7'!G22,"x")+COUNTIF('8'!G22,"x")+COUNTIF('9'!G22,"x")+COUNTIF('10'!G22,"x")+COUNTIF('11'!G22,"x")+COUNTIF('12'!G22,"x")+COUNTIF('13'!G22,"x")+COUNTIF('14'!G22,"x")+COUNTIF('15'!G22,"x")<>0,COUNTIF('1'!G22,"x")+COUNTIF('2'!G22,"x")+COUNTIF('3'!G22,"x")+COUNTIF('4'!G22,"x")+COUNTIF('5'!G22,"x")+COUNTIF('6'!G22,"x")+COUNTIF('7'!G22,"x")+COUNTIF('8'!G22,"x")+COUNTIF('9'!G22,"x")+COUNTIF('10'!G22,"x")+COUNTIF('11'!G22,"x")+COUNTIF('12'!G22,"x")+COUNTIF('13'!G22,"x")+COUNTIF('14'!G22,"x")+COUNTIF('15'!G22,"x"),"0") -> 0 | J22: =IF(COUNTIF('1'!J22,"x")+COUNTIF('2'!J22,"x")+COUNTIF('3'!J22,"x")+COUNTIF('4'!J22,"x")+COUNTIF('5'!J22,"x")+COUNTIF('6'!J22,"x")+COUNTIF('7'!J22,"x")+COUNTIF('8'!J22,"x")+COUNTIF('9'!J22,"x")+COUNTIF('10'!J22,"x")+COUNTIF('11'!J22,"x")+COUNTIF('12'!J22,"x")+COUNTIF('13'!J22,"x")+COUNTIF('14'!J22,"x")+COUNTIF('15'!J22,"x")<>0,COUNTIF('1'!J22,"x")+COUNTIF('2'!J22,"x")+COUNTIF('3'!J22,"x")+COUNTIF('4'!J22,"x")+COUNTIF('5'!J22,"x")+COUNTIF('6'!J22,"x")+COUNTIF('7'!J22,"x")+COUNTIF('8'!J22,"x")+COUNTIF('9'!J22,"x")+COUNTIF('10'!J22,"x")+COUNTIF('11'!J22,"x")+COUNTIF('12'!J22,"x")+COUNTIF('13'!J22,"x")+COUNTIF('14'!J22,"x")+COUNTIF('15'!J22,"x"),"0") -> 0 | L22: =IF(COUNTIF('1'!L22,"x")+COUNTIF('2'!L22,"x")+COUNTIF('3'!L22,"x")+COUNTIF('4'!L22,"x")+COUNTIF('5'!L22,"x")+COUNTIF('6'!L22,"x")+COUNTIF('7'!L22,"x")+COUNTIF('8'!L22,"x")+COUNTIF('9'!L22,"x")+COUNTIF('10'!L22,"x")+COUNTIF('11'!L22,"x")+COUNTIF('12'!L22,"x")+COUNTIF('13'!L22,"x")+COUNTIF('14'!L22,"x")+COUNTIF('15'!L22,"x")<>0,COUNTIF('1'!L22,"x")+COUNTIF('2'!L22,"x")+COUNTIF('3'!L22,"x")+COUNTIF('4'!L22,"x")+COUNTIF('5'!L22,"x")+COUNTIF('6'!L22,"x")+COUNTIF('7'!L22,"x")+COUNTIF('8'!L22,"x")+COUNTIF('9'!L22,"x")+COUNTIF('10'!L22,"x")+COUNTIF('11'!L22,"x")+COUNTIF('12'!L22,"x")+COUNTIF('13'!L22,"x")+COUNTIF('14'!L22,"x")+COUNTIF('15'!L22,"x"),"0") -> 0 | O22: =IF(COUNTIF('1'!O22,"x")+COUNTIF('2'!O22,"x")+COUNTIF('3'!O22,"x")+COUNTIF('4'!O22,"x")+COUNTIF('5'!O22,"x")+COUNTIF('6'!O22,"x")+COUNTIF('7'!O22,"x")+COUNTIF('8'!O22,"x")+COUNTIF('9'!O22,"x")+COUNTIF('10'!O22,"x")+COUNTIF('11'!O22,"x")+COUNTIF('12'!O22,"x")+COUNTIF('13'!O22,"x")+COUNTIF('14'!O22,"x")+COUNTIF('15'!O22,"x")<>0,COUNTIF('1'!O22,"x")+COUNTIF('2'!O22,"x")+COUNTIF('3'!O22,"x")+COUNTIF('4'!O22,"x")+COUNTIF('5'!O22,"x")+COUNTIF('6'!O22,"x")+COUNTIF('7'!O22,"x")+COUNTIF('8'!O22,"x")+COUNTIF('9'!O22,"x")+COUNTIF('10'!O22,"x")+COUNTIF('11'!O22,"x")+COUNTIF('12'!O22,"x")+COUNTIF('13'!O22,"x")+COUNTIF('14'!O22,"x")+COUNTIF('15'!O22,"x"),"0") -> 0 | Q22: =IF(COUNTIF('1'!Q22,"x")+COUNTIF('2'!Q22,"x")+COUNTIF('3'!Q22,"x")+COUNTIF('4'!Q22,"x")+COUNTIF('5'!Q22,"x")+COUNTIF('6'!Q22,"x")+COUNTIF('7'!Q22,"x")+COUNTIF('8'!Q22,"x")+COUNTIF('9'!Q22,"x")+COUNTIF('10'!Q22,"x")+COUNTIF('11'!Q22,"x")+COUNTIF('12'!Q22,"x")+COUNTIF('13'!Q22,"x")+COUNTIF('14'!Q22,"x")+COUNTIF('15'!Q22,"x")<>0,COUNTIF('1'!Q22,"x")+COUNTIF('2'!Q22,"x")+COUNTIF('3'!Q22,"x")+COUNTIF('4'!Q22,"x")+COUNTIF('5'!Q22,"x")+COUNTIF('6'!Q22,"x")+COUNTIF('7'!Q22,"x")+COUNTIF('8'!Q22,"x")+COUNTIF('9'!Q22,"x")+COUNTIF('10'!Q22,"x")+COUNTIF('11'!Q22,"x")+COUNTIF('12'!Q22,"x")+COUNTIF('13'!Q22,"x")+COUNTIF('14'!Q22,"x")+COUNTIF('15'!Q22,"x"),"0") -> 0 | S22: =IF(SUM(E22:Q22)<>0,SUM(E22*1,G22*2,J22*3,L22*4,O22*5,Q22*6)/SUM(E22:Q22),"") | V22: =IF(COUNTIF((E22:Q22),"x")>1,"Bitte nur ein Kreuz setzen!","")
B23: =IF(Vorlage!B23<>"",Vorlage!B23,"") -> Anlaufverhalten | E23: =IF(COUNTIF('1'!E23,"x")+COUNTIF('2'!E23,"x")+COUNTIF('3'!E23,"x")+COUNTIF('4'!E23,"x")+COUNTIF('5'!E23,"x")+COUNTIF('6'!E23,"x")+COUNTIF('7'!E23,"x")+COUNTIF('8'!E23,"x")+COUNTIF('9'!E23,"x")+COUNTIF('10'!E23,"x")+COUNTIF('11'!E23,"x")+COUNTIF('12'!E23,"x")+COUNTIF('13'!E23,"x")+COUNTIF('14'!E23,"x")+COUNTIF('15'!E23,"x")<>0,COUNTIF('1'!E23,"x")+COUNTIF('2'!E23,"x")+COUNTIF('3'!E23,"x")+COUNTIF('4'!E23,"x")+COUNTIF('5'!E23,"x")+COUNTIF('6'!E23,"x")+COUNTIF('7'!E23,"x")+COUNTIF('8'!E23,"x")+COUNTIF('9'!E23,"x")+COUNTIF('10'!E23,"x")+COUNTIF('11'!E23,"x")+COUNTIF('12'!E23,"x")+COUNTIF('13'!E23,"x")+COUNTIF('14'!E23,"x")+COUNTIF('15'!E23,"x"),"0") -> 0 | G23: =IF(COUNTIF('1'!G23,"x")+COUNTIF('2'!G23,"x")+COUNTIF('3'!G23,"x")+COUNTIF('4'!G23,"x")+COUNTIF('5'!G23,"x")+COUNTIF('6'!G23,"x")+COUNTIF('7'!G23,"x")+COUNTIF('8'!G23,"x")+COUNTIF('9'!G23,"x")+COUNTIF('10'!G23,"x")+COUNTIF('11'!G23,"x")+COUNTIF('12'!G23,"x")+COUNTIF('13'!G23,"x")+COUNTIF('14'!G23,"x")+COUNTIF('15'!G23,"x")<>0,COUNTIF('1'!G23,"x")+COUNTIF('2'!G23,"x")+COUNTIF('3'!G23,"x")+COUNTIF('4'!G23,"x")+COUNTIF('5'!G23,"x")+COUNTIF('6'!G23,"x")+COUNTIF('7'!G23,"x")+COUNTIF('8'!G23,"x")+COUNTIF('9'!G23,"x")+COUNTIF('10'!G23,"x")+COUNTIF('11'!G23,"x")+COUNTIF('12'!G23,"x")+COUNTIF('13'!G23,"x")+COUNTIF('14'!G23,"x")+COUNTIF('15'!G23,"x"),"0") -> 0 | J23: =IF(COUNTIF('1'!J23,"x")+COUNTIF('2'!J23,"x")+COUNTIF('3'!J23,"x")+COUNTIF('4'!J23,"x")+COUNTIF('5'!J23,"x")+COUNTIF('6'!J23,"x")+COUNTIF('7'!J23,"x")+COUNTIF('8'!J23,"x")+COUNTIF('9'!J23,"x")+COUNTIF('10'!J23,"x")+COUNTIF('11'!J23,"x")+COUNTIF('12'!J23,"x")+COUNTIF('13'!J23,"x")+COUNTIF('14'!J23,"x")+COUNTIF('15'!J23,"x")<>0,COUNTIF('1'!J23,"x")+COUNTIF('2'!J23,"x")+COUNTIF('3'!J23,"x")+COUNTIF('4'!J23,"x")+COUNTIF('5'!J23,"x")+COUNTIF('6'!J23,"x")+COUNTIF('7'!J23,"x")+COUNTIF('8'!J23,"x")+COUNTIF('9'!J23,"x")+COUNTIF('10'!J23,"x")+COUNTIF('11'!J23,"x")+COUNTIF('12'!J23,"x")+COUNTIF('13'!J23,"x")+COUNTIF('14'!J23,"x")+COUNTIF('15'!J23,"x"),"0") -> 0 | L23: =IF(COUNTIF('1'!L23,"x")+COUNTIF('2'!L23,"x")+COUNTIF('3'!L23,"x")+COUNTIF('4'!L23,"x")+COUNTIF('5'!L23,"x")+COUNTIF('6'!L23,"x")+COUNTIF('7'!L23,"x")+COUNTIF('8'!L23,"x")+COUNTIF('9'!L23,"x")+COUNTIF('10'!L23,"x")+COUNTIF('11'!L23,"x")+COUNTIF('12'!L23,"x")+COUNTIF('13'!L23,"x")+COUNTIF('14'!L23,"x")+COUNTIF('15'!L23,"x")<>0,COUNTIF('1'!L23,"x")+COUNTIF('2'!L23,"x")+COUNTIF('3'!L23,"x")+COUNTIF('4'!L23,"x")+COUNTIF('5'!L23,"x")+COUNTIF('6'!L23,"x")+COUNTIF('7'!L23,"x")+COUNTIF('8'!L23,"x")+COUNTIF('9'!L23,"x")+COUNTIF('10'!L23,"x")+COUNTIF('11'!L23,"x")+COUNTIF('12'!L23,"x")+COUNTIF('13'!L23,"x")+COUNTIF('14'!L23,"x")+COUNTIF('15'!L23,"x"),"0") -> 0 | O23: =IF(COUNTIF('1'!O23,"x")+COUNTIF('2'!O23,"x")+COUNTIF('3'!O23,"x")+COUNTIF('4'!O23,"x")+COUNTIF('5'!O23,"x")+COUNTIF('6'!O23,"x")+COUNTIF('7'!O23,"x")+COUNTIF('8'!O23,"x")+COUNTIF('9'!O23,"x")+COUNTIF('10'!O23,"x")+COUNTIF('11'!O23,"x")+COUNTIF('12'!O23,"x")+COUNTIF('13'!O23,"x")+COUNTIF('14'!O23,"x")+COUNTIF('15'!O23,"x")<>0,COUNTIF('1'!O23,"x")+COUNTIF('2'!O23,"x")+COUNTIF('3'!O23,"x")+COUNTIF('4'!O23,"x")+COUNTIF('5'!O23,"x")+COUNTIF('6'!O23,"x")+COUNTIF('7'!O23,"x")+COUNTIF('8'!O23,"x")+COUNTIF('9'!O23,"x")+COUNTIF('10'!O23,"x")+COUNTIF('11'!O23,"x")+COUNTIF('12'!O23,"x")+COUNTIF('13'!O23,"x")+COUNTIF('14'!O23,"x")+COUNTIF('15'!O23,"x"),"0") -> 0 | Q23: =IF(COUNTIF('1'!Q23,"x")+COUNTIF('2'!Q23,"x")+COUNTIF('3'!Q23,"x")+COUNTIF('4'!Q23,"x")+COUNTIF('5'!Q23,"x")+COUNTIF('6'!Q23,"x")+COUNTIF('7'!Q23,"x")+COUNTIF('8'!Q23,"x")+COUNTIF('9'!Q23,"x")+COUNTIF('10'!Q23,"x")+COUNTIF('11'!Q23,"x")+COUNTIF('12'!Q23,"x")+COUNTIF('13'!Q23,"x")+COUNTIF('14'!Q23,"x")+COUNTIF('15'!Q23,"x")<>0,COUNTIF('1'!Q23,"x")+COUNTIF('2'!Q23,"x")+COUNTIF('3'!Q23,"x")+COUNTIF('4'!Q23,"x")+COUNTIF('5'!Q23,"x")+COUNTIF('6'!Q23,"x")+COUNTIF('7'!Q23,"x")+COUNTIF('8'!Q23,"x")+COUNTIF('9'!Q23,"x")+COUNTIF('10'!Q23,"x")+COUNTIF('11'!Q23,"x")+COUNTIF('12'!Q23,"x")+COUNTIF('13'!Q23,"x")+COUNTIF('14'!Q23,"x")+COUNTIF('15'!Q23,"x"),"0") -> 0 | S23: =IF(SUM(E23:Q23)<>0,SUM(E23*1,G23*2,J23*3,L23*4,O23*5,Q23*6)/SUM(E23:Q23),"") | V23: =IF(COUNTIF((E23:Q23),"x")>1,"Bitte nur ein Kreuz setzen!","")
B24: =IF(Vorlage!B24<>"",Vorlage!B24,"") -> Verstellmöglichkeiten, Präzision | E24: =IF(COUNTIF('1'!E24,"x")+COUNTIF('2'!E24,"x")+COUNTIF('3'!E24,"x")+COUNTIF('4'!E24,"x")+COUNTIF('5'!E24,"x")+COUNTIF('6'!E24,"x")+COUNTIF('7'!E24,"x")+COUNTIF('8'!E24,"x")+COUNTIF('9'!E24,"x")+COUNTIF('10'!E24,"x")+COUNTIF('11'!E24,"x")+COUNTIF('12'!E24,"x")+COUNTIF('13'!E24,"x")+COUNTIF('14'!E24,"x")+COUNTIF('15'!E24,"x")<>0,COUNTIF('1'!E24,"x")+COUNTIF('2'!E24,"x")+COUNTIF('3'!E24,"x")+COUNTIF('4'!E24,"x")+COUNTIF('5'!E24,"x")+COUNTIF('6'!E24,"x")+COUNTIF('7'!E24,"x")+COUNTIF('8'!E24,"x")+COUNTIF('9'!E24,"x")+COUNTIF('10'!E24,"x")+COUNTIF('11'!E24,"x")+COUNTIF('12'!E24,"x")+COUNTIF('13'!E24,"x")+COUNTIF('14'!E24,"x")+COUNTIF('15'!E24,"x"),"0") -> 0 | G24: =IF(COUNTIF('1'!G24,"x")+COUNTIF('2'!G24,"x")+COUNTIF('3'!G24,"x")+COUNTIF('4'!G24,"x")+COUNTIF('5'!G24,"x")+COUNTIF('6'!G24,"x")+COUNTIF('7'!G24,"x")+COUNTIF('8'!G24,"x")+COUNTIF('9'!G24,"x")+COUNTIF('10'!G24,"x")+COUNTIF('11'!G24,"x")+COUNTIF('12'!G24,"x")+COUNTIF('13'!G24,"x")+COUNTIF('14'!G24,"x")+COUNTIF('15'!G24,"x")<>0,COUNTIF('1'!G24,"x")+COUNTIF('2'!G24,"x")+COUNTIF('3'!G24,"x")+COUNTIF('4'!G24,"x")+COUNTIF('5'!G24,"x")+COUNTIF('6'!G24,"x")+COUNTIF('7'!G24,"x")+COUNTIF('8'!G24,"x")+COUNTIF('9'!G24,"x")+COUNTIF('10'!G24,"x")+COUNTIF('11'!G24,"x")+COUNTIF('12'!G24,"x")+COUNTIF('13'!G24,"x")+COUNTIF('14'!G24,"x")+COUNTIF('15'!G24,"x"),"0") -> 0 | J24: =IF(COUNTIF('1'!J24,"x")+COUNTIF('2'!J24,"x")+COUNTIF('3'!J24,"x")+COUNTIF('4'!J24,"x")+COUNTIF('5'!J24,"x")+COUNTIF('6'!J24,"x")+COUNTIF('7'!J24,"x")+COUNTIF('8'!J24,"x")+COUNTIF('9'!J24,"x")+COUNTIF('10'!J24,"x")+COUNTIF('11'!J24,"x")+COUNTIF('12'!J24,"x")+COUNTIF('13'!J24,"x")+COUNTIF('14'!J24,"x")+COUNTIF('15'!J24,"x")<>0,COUNTIF('1'!J24,"x")+COUNTIF('2'!J24,"x")+COUNTIF('3'!J24,"x")+COUNTIF('4'!J24,"x")+COUNTIF('5'!J24,"x")+COUNTIF('6'!J24,"x")+COUNTIF('7'!J24,"x")+COUNTIF('8'!J24,"x")+COUNTIF('9'!J24,"x")+COUNTIF('10'!J24,"x")+COUNTIF('11'!J24,"x")+COUNTIF('12'!J24,"x")+COUNTIF('13'!J24,"x")+COUNTIF('14'!J24,"x")+COUNTIF('15'!J24,"x"),"0") -> 0 | L24: =IF(COUNTIF('1'!L24,"x")+COUNTIF('2'!L24,"x")+COUNTIF('3'!L24,"x")+COUNTIF('4'!L24,"x")+COUNTIF('5'!L24,"x")+COUNTIF('6'!L24,"x")+COUNTIF('7'!L24,"x")+COUNTIF('8'!L24,"x")+COUNTIF('9'!L24,"x")+COUNTIF('10'!L24,"x")+COUNTIF('11'!L24,"x")+COUNTIF('12'!L24,"x")+COUNTIF('13'!L24,"x")+COUNTIF('14'!L24,"x")+COUNTIF('15'!L24,"x")<>0,COUNTIF('1'!L24,"x")+COUNTIF('2'!L24,"x")+COUNTIF('3'!L24,"x")+COUNTIF('4'!L24,"x")+COUNTIF('5'!L24,"x")+COUNTIF('6'!L24,"x")+COUNTIF('7'!L24,"x")+COUNTIF('8'!L24,"x")+COUNTIF('9'!L24,"x")+COUNTIF('10'!L24,"x")+COUNTIF('11'!L24,"x")+COUNTIF('12'!L24,"x")+COUNTIF('13'!L24,"x")+COUNTIF('14'!L24,"x")+COUNTIF('15'!L24,"x"),"0") -> 0 | O24: =IF(COUNTIF('1'!O24,"x")+COUNTIF('2'!O24,"x")+COUNTIF('3'!O24,"x")+COUNTIF('4'!O24,"x")+COUNTIF('5'!O24,"x")+COUNTIF('6'!O24,"x")+COUNTIF('7'!O24,"x")+COUNTIF('8'!O24,"x")+COUNTIF('9'!O24,"x")+COUNTIF('10'!O24,"x")+COUNTIF('11'!O24,"x")+COUNTIF('12'!O24,"x")+COUNTIF('13'!O24,"x")+COUNTIF('14'!O24,"x")+COUNTIF('15'!O24,"x")<>0,COUNTIF('1'!O24,"x")+COUNTIF('2'!O24,"x")+COUNTIF('3'!O24,"x")+COUNTIF('4'!O24,"x")+COUNTIF('5'!O24,"x")+COUNTIF('6'!O24,"x")+COUNTIF('7'!O24,"x")+COUNTIF('8'!O24,"x")+COUNTIF('9'!O24,"x")+COUNTIF('10'!O24,"x")+COUNTIF('11'!O24,"x")+COUNTIF('12'!O24,"x")+COUNTIF('13'!O24,"x")+COUNTIF('14'!O24,"x")+COUNTIF('15'!O24,"x"),"0") -> 0 | Q24: =IF(COUNTIF('1'!Q24,"x")+COUNTIF('2'!Q24,"x")+COUNTIF('3'!Q24,"x")+COUNTIF('4'!Q24,"x")+COUNTIF('5'!Q24,"x")+COUNTIF('6'!Q24,"x")+COUNTIF('7'!Q24,"x")+COUNTIF('8'!Q24,"x")+COUNTIF('9'!Q24,"x")+COUNTIF('10'!Q24,"x")+COUNTIF('11'!Q24,"x")+COUNTIF('12'!Q24,"x")+COUNTIF('13'!Q24,"x")+COUNTIF('14'!Q24,"x")+COUNTIF('15'!Q24,"x")<>0,COUNTIF('1'!Q24,"x")+COUNTIF('2'!Q24,"x")+COUNTIF('3'!Q24,"x")+COUNTIF('4'!Q24,"x")+COUNTIF('5'!Q24,"x")+COUNTIF('6'!Q24,"x")+COUNTIF('7'!Q24,"x")+COUNTIF('8'!Q24,"x")+COUNTIF('9'!Q24,"x")+COUNTIF('10'!Q24,"x")+COUNTIF('11'!Q24,"x")+COUNTIF('12'!Q24,"x")+COUNTIF('13'!Q24,"x")+COUNTIF('14'!Q24,"x")+COUNTIF('15'!Q24,"x"),"0") -> 0 | S24: =IF(SUM(E24:Q24)<>0,SUM(E24*1,G24*2,J24*3,L24*4,O24*5,Q24*6)/SUM(E24:Q24),"") | V24: =IF(COUNTIF((E24:Q24),"x")>1,"Bitte nur ein Kreuz setzen!","")
