Workbook
Name Aktenvernichter: #REF!
Name Aktenvernichter??: #REF!
Name Altenvernichter: #REF!
Name Art: #REF!
Name Ausstattung: #REF!
Name Belag: #REF!
Name Bet: #REF!
Name Desinfektion: #REF!
Name Fenster: #REF!
Name Fläche: #REF!
Name Fli: #REF!
Name Fliesen: #REF!
Name Garderobe: #REF!
Name Geländer: #REF!
Name Gruppe: #REF!
Name Gum: '[1]Raumverzeichnis U'!$BO$10:$BO$250
Name Gummi: #REF!
Name Holz: #REF!
Name Kleiderkammer: #REF!
Name Kork: #REF!
Name Lin: #REF!
Name LV: #REF!
Name LVS_AUFTRAGGEBER: '[2]LB Laborküchen'!$F$1
Name LVS_DATUM: '[2]LB Laborküchen'!$I$97
Name Met: '[1]Raumverzeichnis U'!$BR$10:$BR$15
Name Metall: #REF!
Name Nof: '[1]Raumverzeichnis U'!$BQ$10:$BQ$250
Name Nop: '[1]Raumverzeichnis U'!$BP$10:$BP$250
Name NopFliesen: #REF!
Name NoppenPVC: #REF!
Name Papier: #REF!
Name Papierkorb: #REF!
Name Par: #REF!
Name Reinigungsgruppen: [3]Daten!$A$1:$C$100
Name Schränke: #REF!
Name Seife: #REF!
Name Spiegel: #REF!
Name Stühle: #REF!
Name Suchwert: #REF!
Name Ter: #REF!
Name Termini: #REF!
Name Tex: #REF!
Name Tische: #REF!
Name Trennwände: #REF!
Name Turnus: #REF!
Name VAR_DATUM: #REF!
Name VAR_KUNDE: #REF!
Name Wandschutz: #REF!
Name Waschbecken: #REF!
Name WC: #REF!

Sheet Vergabegrunddaten
A1: Stand: | B1: =TODAY() -> 46292
A2: Angaben zu dem Bieter | L2: Angaben zu dem Auftraggeber
A4: Bezeichnung des Unternehmens: | L4: Bezeichnung des Auftraggebers | O4: Allwetterbad der Stadt Monheim am Rhein GmbH
A5: Straße mit Nr.: | L5: Straße mit Nr.: | O5: Heinestraße 3
A6: PLZ mit Ort: | L6: PLZ mit Ort: | O6: 40789 Monheim am Rhein
A7: Ansprechperson: | L7: Ansprechperson: | O7: Frau Sandra Groos / Herr Michael Kowalski
A8: Funktion der Ansprechperson: | L8: Funktion der Ansprechperson: | O8: Objektbesichtigungen
A9: Rufnummer: | L9: Rufnummer: | O9: 2173938933
A10: E-Mail: | L10: E-Mail: | O10: post@monamare.de
A11: Website:

Sheet Angebotszusammenfassung
A1: Angebotszusammenfassung Mona Mare
A4: Leistungsart | B4: Los | C4: Objekt | D4: Preis je Jahr | E4: Produktivstunden je Jahr
A5: ='Los 1.1 UR'!C1 -> UR | B5: =Objektinformationen!A5 -> 1.1 | C5: =Objektinformationen!B5 -> Mona Mare | D5: ='Los 1.1 UR'!C7 -> 0 | E5: ='Los 1.1 UR'!C5 -> 0
A6: Summe Los 1.1 | D6: =_xlfn.AGGREGATE(9, 6, D5:D5) -> 0 | E6: =_xlfn.AGGREGATE(9, 6, E5:E5) -> 0
A8: Leistungsart | B8: Los | C8: Leistungsart | D8: Preis 2027 | E8: Preis 2028 | F8: Preis 2029 | G8: Preis 2030 | H8: Preis 2031
A9: VR | B9: =Objektinformationen!A6 -> 1.2 | C9: Vertretungsreinigung | D9: ='Los 1.2 VR'!M7 -> 0 | E9: ='Los 1.2 VR'!P7 -> 0 | F9: ='Los 1.2 VR'!S7 -> 0 | G9: ='Los 1.2 VR'!V7 -> 0 | H9: ='Los 1.2 VR'!Y7 -> 0
A10: Zwischensummen Los 1.2 VR | D10: =SUM(D9:H9) -> 0
A11: Gesamtsumme Los 1 | D11: =D6+D10 -> 0

Sheet LV Freizeitbad
A1: Leistungsverzeichnis Unterhaltsreinigung Mona Mare | D1: Außenflächen | E1: Aufenthalt, Ruhebereich | F1: Aufzug | G1: Flure, Verkehrsfläche | H1: Funktionsraum | I1: Restaurant | J1: Sanitärbereich, Umkleiden, Wickelraum | K1: Sauna
A2: Ausstattungsmerkmale | B2: Leistung | C2: Gewichtung der Attribute gem. DIN EN 13549 in % | D2: A | E2: B | F2: C | G2: E | H2: F | I2: G | J2: H | K2: I
A3: Bodenflächen
A4: Bodenflächen, Schmutzfangmatten, Sauberlaufzonen, Schmutzfangroste | B4: nicht textil: Entfernen haftender und nicht haftender Verunreinigungen | C4: 25 | D4: H
B5: nicht-textil: Pflegefilm / Oberflächensschutzsystem aufrechterhalten | E5: H | F5: H | G5: H | H5: H
B6: textil: Entfernen haftender und nicht haftender Verunreinigungen. Flor aufstellen | D6: H | E6: H | G6: H | H6: H | I6: H | J6: H | K6: H
B7: Fußbodenentwässerung vollständig reinigen, wässern | D7: H | E7: H | G7: H | H7: H | I7: H | J7: H | K7: H
A8: Einrichtungs- und Ausstattungsgegenstände
A9: Bestuhlung, Sitzgruppen, Polstermöbel, Hocker, Sitzbänke | B9: Auf- oder Abstuhlen | C9: 10 | E9: H | G9: H | H9: H | I9: H | J9: H | K9: H
B10: Auf- und Abstuhlen | E10: H | G10: H | H10: H | I10: H | J10: H | K10: H
B11: Polsteroberflächen: Entfernen von haftenden und nicht haftenden Verunreinigungen | E11: 1w | H11: 1w | I11: 1w | J11: 1w
B12: Ganzflächig entfernen haftender und nicht haftender Verunreinigungen | E12: H | G12: H | H12: H | I12: H | J12: H | K12: H
A13: Tische, Tresen, Ablagen, Theken | B13: Freigeräumte Oberflächen: Entfernen haftender und nicht haftender Verunreinigungen | E13: H | G13: H | H13: H | I13: H | J13: H | K13: H
B14: Tischbeine und Tischunterseiten: Entfernen haftender und nicht haftender Verunreinigungen | E14: 1w | G14: 1w | H14: 1w | I14: 1w | J14: H | K14: H
A15: Schränke, Spinde, Garderoben, Regale | B15: Frontflächen: Entfernen von haftenden und nicht haftenden Verunreinigungen | D15: H | E15: H | G15: H | H15: H | J15: H | K15: H
B16: Außen in voller Höhe inkl. Oberseiten: Entfernen haftender und nicht haftender Verunreinigungen | D16: 1w | E16: 1w | G16: 1w | H16: 1w | I16: 1w | J16: 1w | K16: 1w
B17: Innen, wenn ausgeräumt: Entfernen haftender und nicht haftender Verunreinigungen | D17: H | E17: H | G17: H | H17: H | I17: H | J17: H | K17: H
A18: Kleiderhaken, Garderobenständer, Schirmständer | B18: Entfernen haftender und nicht haftender Verunreinigungen | D18: 1w | E18: 1w | G18: 1w | H18: 1w | I18: 1w | J18: 1w | K18: 1w
A19: Rollcontainer, Sideboards | B19: Frontflächen: Entfernen von haftenden und nicht haftenden Verunreinigungen
B20: Freigeräumte Oberseiten: Entfernen haftender und nicht haftender Verunreinigungen | E20: H | G20: H | H20: H | I20: H | J20: H | K20: H
B21: Außen ganzflächig: Entfernen haftender und nicht haftender Verunreinigungen | E21: 1w | G21: 1w | H21: 1w | I21: H | J21: H | K21: H
A22: Schaukästen, Vitrinen | B22: Frontflächen: Entfernen von haftenden und nicht haftenden Verunreinigungen | D22: H | E22: H | G22: H | H22: H | I22: H | J22: H | K22: H
B23: Ganzflächig: Entfernen haftender und nicht haftender Verunreinigungen | D23: 3,5w | E23: 3,5w | G23: 3,5w | H23: 3,5w | I23: 3,5w | J23: 3,5w | K23: 3,5w
A24: Abfallbehälter, Papierkörbe | B24: Entleeren und mit neuem Plastikbeutel bestücken (In Papierkörbe keine Beutel!) | D24: H | E24: H | G24: H | H24: H | I24: H | J24: H | K24: H
B25: Getrennte Deponierung an zentraler Sammelstelle (Abfallbehälter) | D25: H | E25: H | G25: H | H25: H | I25: H | J25: H | K25: H
B26: Innen und außen: Entfernen haftender und nicht haftender Verunreinigungen | D26: H | E26: H | G26: H | H26: H | I26: H | J26: H | K26: H
A27: Betten, Ruhemöbel, Sanitätsliegen | B27: Oberflächen: Entfernen haftender und nicht haftender Verunreinigungen | D27: H | E27: H | G27: H | H27: H | I27: H | J27: H | K27: H
B28: Ganzflächig: Entfernen von haftenden und nicht haftenden Verunreinigungen | E28: 3,5w | G28: 3,5w | I28: 3,5w | J28: 3,5w | K28: 3,5w
A29: Telefone, Tisch- und Stehleuchten | B29: Entfernen haftender und nicht haftender Verunreinigungen | E29: 1w | G29: 1w | H29: 1w | I29: 1w | J29: 1w
A30: EDV-Geräte: Monitore, Tastaturen, Kopierer, Multifunktionsgeräte, etc. | B30: Entfernen von lose aufliegenden Verunreinigungen | E30: 1w | G30: 1w | H30: 1w | I30: 1w
A31: Aufsteller, Bedienterminals, Spendersysteme, Werbeträger | B31: Entfernen haftender und nicht haftender Verunreinigungen | D31: 1w | E31: 1w | G31: 1w | H31: 1w | I31: 1w | J31: 1w
A32: Defibrillatoren, Erste-Hilfe-Koffer, Feuerlöscher | B32: Entfernen haftender und nicht haftender Verunreinigungen | D32: 1w | E32: 1w | G32: 1w | H32: 1w | I32: 1w | J32: 1w
A33: Hinweisschilder, glasgeschützte Bilder, Wandobjekte | B33: Entfernen haftender und nicht haftender Verunreinigungen | D33: 1w | E33: 1w | G33: 1w | H33: 1w | I33: 1w | J33: 1w
A34: Pflanzgefäße | B34: Entfernen haftender und nicht haftender Verunreinigungen | D34: 3,5w | E34: 3,5w | G34: 3,5w | H34: 3,5w | I34: 3,5w
A35: Wandfliesen | B35: Ganzflächig: Entfernen haftender und nicht haftender Verunreinigungen mit Flächendesinfektion | D35: H | E35: H | G35: H | H35: H | I35: H | J35: H | K35: H
A36: Ein- und anbauten
A37: Türanlagen, Zargen, Bedienungselemente und Beschläge | B37: Entfernen von haftenden und nicht haftenden Verunreinigungen im Kontaktbereich | C37: 10 | D37: H
B38: Ganzflächig: Entfernen haftender und nicht haftender Verunreinigungen | D38: 3,5w
A39: Glastüren und Glastrennwände | B39: Entfernen von haftenden und nicht haftenden Verunreinigungen im Kontaktbereich | D39: H
B40: Ganzflächig: Entfernen haftender und nicht haftender Verunreinigungen | D40: 3,5w
...

Sheet Raumgruppen
A1: Raumgruppen Mona Mare
A3: Bezeichnung | B3: Enthaltene Raumarten (Bezeichnungen) | C3: RG | D3: Reinigungs- klasse
A4: Büroraum | B4: Büro, Verwaltung, Dienstzimmer, Sekretariat, Regie | C4: C | D4: 0.95
A5: Besprechungsraum | B5: Besprechung, Konferenz | C5: C | D5: 0.95
A6: Funktionsraum | B6: Kasse, Shop, Massage | C6: D | D6: 0.95
A7: Verkehrsfläche | B7: Flur, Eingang, Empfang, Notausgang, Garderobe, Foyer, Windfang, Vorraum | C7: E | D7: 0.95
A8: Treppenhaus | B8: Treppen, Podest, Treppenhaus, Stufen | C8: E | D8: 0.95
A9: repr. Verkehrsfläche | B9: Ausstellung, Stellfläche, Foyer | C9: E | D9: 0.95
A10: Aufenthaltsraum | B10: Aufenthalt, | C10: F | D10: 0.95
A11: Sanitärbereich | B11: WC, Dusche, Waschraum, Toiletten, Sanitäranlage | C11: G | D11: 0.95
A12: Umkleideraum | B12: Umkleide, Einzelumkleide, Sammelumkleide, Lehrer | C12: G | D12: 0.95
A13: Speiseraum | B13: Café, Speiseraum, Cafeteria, Kiosk, Bistro, Lounge | C13: I1 | D13: 0.95
A14: Sozialraum | B14: Aufenthaltsraum, Teeküche, Sanitätsraum, Erste-Hilfe, Personal, | C14: I2 | D14: 0.95
A15: Küche | B15: Küche, Vorratsraum, Spülen | C15: J1 | D15: 0.95
... A21: Reinigungsmittelraum | B21: Reinigungsmittel, PuMi | C21: P | D21: 0.95

Sheet Objektinformationen
A1: Objektinformationen Allwetterbad der Stadt Monheim am Rhein GmbH
A3: Los | B3: Objektbezeichnung | C3: Adresse | D3: PLZ | E3: Bodenfläche in m² | F3: Produktivstunden Mindestvorgabe je Jahr | H3: Reinigungsrahmenzeit Unterhaltsreinigung
A5: 1.1 | B5: Mona Mare | C5: Kurt-Schumacher-Straße 2 | D5: 40789 | E5: 6280.34 | F5: 6100 | H5: Montag - Sonntag 05:00 - 09:00 Uhr
A6: 1.2 | B6: Mona Mare | C6: Kurt-Schumacher-Straße 2 | D6: 40789 | H6: Montag - Sonntag 05:00 - 09:00 Uhr

Sheet Jahresfaktoren
A1: Jahresfaktoren Mona Mare 2027–2031
A3: Berechnungsgrundlage: Für den Innenbereich werden ausschließlich folgende Schließzeiten berücksichtigt: Altweiber / Weiberfastnacht, Rosenmontag, 1. Weihnachtsfeiertag sowie zwei Wochen Revision zu Beginn des Dezembers. Für die Revision wird wie in der Vorlage der Zeitraum 01.12. bis einschließlich 14.12. angesetzt. Der Außenbereich wird jährlich vom 01.05. bis einschließlich 31.08. kalkuliert. Die bisherigen Gesamt-Jahresfaktoren bleiben als Kontrollsumme erhalten, werden jedoch in Regeltage, Sonntage, übrige gesetzliche Feiertage und hohe Feiertage aufgeteilt. Jahresfaktor je Tagart = Anzahl Tage × Reinigungsintervall pro Woche / 7.
A7: Tarifliche Zuschlagslogik – Gebäudereinigung (gewerbliche Beschäftigte)
A8: Zuschlagsart | B8: Zeitraum / Tage | C8: Zuschlag | D8: Behandlung in dieser Datei | E8: Hinweis
A9: Nachtarbeit | B9: 22:00–05:00 Uhr | C9: 30 % | D9: kein eigener Jahresfaktor | E9: Mangels Zeitvorgabe in der Vorlage nicht quantifizierbar.
A10: Sonntage / Feiertage | B10: 00:00–24:00 Uhr | C10: 80 % | D10: eigener Jahresfaktor | E10: Sonntage und übrige gesetzliche Feiertage werden getrennt ausgewiesen.
A11: Hohe Feiertage | B11: Neujahr, 1. Mai, 1. und 2. Weihnachtsfeiertag | C11: 200 % | D11: eigener Jahresfaktor | E11: Der 1. Weihnachtsfeiertag ist Schließtag und wird daher nicht kalkuliert.
A13: Kalkulationsparameter
A14: Parameter | B14: Ansatz | C14: Tage / Wert | E14: Reinigungsintervall | F14: pro Woche
A15: Altweiber / Weiberfastnacht | B15: 1 Schließtag | C15: 1 | E15: 1 x wöchentlich | F15: 1
A16: Rosenmontag | B16: 1 Schließtag | C16: 1 | E16: 3,5 x wöchentlich | F16: 3.5
A17: Revision | B17: 01.12.–14.12. | C17: 14 | E17: 6 x wöchentlich | F17: 6
A18: 1. Weihnachtsfeiertag | B18: 25.12. | C18: 1 | E18: 7 x wöchentlich | F18: 7
A19: Außenbereich Saison | B19: 01.05.–31.08. | C19: 123
A21: Gesetzliche Feiertage Nordrhein-Westfalen 2027–2031 und Behandlung
A22: Feiertag | B22: Einordnung | C22: 2027 | D22: 2028 | E22: 2029 | F22: 2030 | G22: 2031 | H22: Kalkulatorische Behandlung
A23: Neujahr | B23: Hoher Feiertag 200 % | C23: 01.01.2027 | D23: 01.01.2028 | E23: 01.01.2029 | F23: 01.01.2030 | G23: 01.01.2031 | H23: separater Feiertagsfaktor
A24: Karfreitag | B24: Übriger Feiertag 80 % | C24: 26.03.2027 | D24: 14.04.2028 | E24: 30.03.2029 | F24: 19.04.2030 | G24: 11.04.2031 | H24: separater Feiertagsfaktor
A25: Ostermontag | B25: Übriger Feiertag 80 % | C25: 29.03.2027 | D25: 17.04.2028 | E25: 02.04.2029 | F25: 22.04.2030 | G25: 14.04.2031 | H25: separater Feiertagsfaktor
A26: 1. Mai | B26: Hoher Feiertag 200 % | C26: 01.05.2027 | D26: 01.05.2028 | E26: 01.05.2029 | F26: 01.05.2030 | G26: 01.05.2031 | H26: separater Feiertagsfaktor
A27: Christi Himmelfahrt | B27: Übriger Feiertag 80 % | C27: 06.05.2027 | D27: 25.05.2028 | E27: 10.05.2029 | F27: 30.05.2030 | G27: 22.05.2031 | H27: separater Feiertagsfaktor
A28: Pfingstmontag | B28: Übriger Feiertag 80 % | C28: 17.05.2027 | D28: 05.06.2028 | E28: 21.05.2029 | F28: 10.06.2030 | G28: 02.06.2031 | H28: separater Feiertagsfaktor
A29: Fronleichnam | B29: Übriger Feiertag 80 % | C29: 27.05.2027 | D29: 15.06.2028 | E29: 31.05.2029 | F29: 20.06.2030 | G29: 12.06.2031 | H29: separater Feiertagsfaktor
A30: Tag der Deutschen Einheit | B30: Übriger Feiertag 80 % | C30: 03.10.2027 | D30: 03.10.2028 | E30: 03.10.2029 | F30: 03.10.2030 | G30: 03.10.2031 | H30: separater Feiertagsfaktor
A31: Allerheiligen | B31: Übriger Feiertag 80 % | C31: 01.11.2027 | D31: 01.11.2028 | E31: 01.11.2029 | F31: 01.11.2030 | G31: 01.11.2031 | H31: separater Feiertagsfaktor
A32: 1. Weihnachtsfeiertag | B32: Schließtag / hoher Feiertag | C32: 25.12.2027 | D32: 25.12.2028 | E32: 25.12.2029 | F32: 25.12.2030 | G32: 25.12.2031 | H32: nicht kalkuliert, da Schließtag
A33: 2. Weihnachtsfeiertag | B33: Hoher Feiertag 200 % | C33: 26.12.2027 | D33: 26.12.2028 | E33: 26.12.2029 | F33: 26.12.2030 | G33: 26.12.2031 | H33: separater Feiertagsfaktor
A36: Innenbereich – Schließ-, Öffnungs- und zuschlagspflichtige Tage
A37: Jahr | B37: Kalendertage | C37: Schließtage | D37: Öffnungstage | E37: Regeltage ohne Zuschlag | F37: Sonntage 80 % | G37: übrige Feiertage 80 % | H37: hohe Feiertage 200 % | I37: Kontrolle
A38: 2027 | B38: 365 | C38: 17 | D38: 348 | E38: 290 | F38: 48 | G38: 7 | H38: 3 | I38: 348
A39: 2028 | B39: 366 | C39: 17 | D39: 349 | E39: 288 | F39: 51 | G39: 7 | H39: 3 | I39: 349
A40: 2029 | B40: 365 | C40: 17 | D40: 348 | E40: 288 | F40: 50 | G40: 7 | H40: 3 | I40: 348
A41: 2030 | B41: 365 | C41: 17 | D41: 348 | E41: 288 | F41: 50 | G41: 7 | H41: 3 | I41: 348
A42: 2031 | B42: 365 | C42: 17 | D42: 348 | E42: 288 | F42: 50 | G42: 7 | H42: 3 | I42: 348
A43: Ø 2027–2031 | B43: =AVERAGE(B38:B42) -> 365.2 | C43: =AVERAGE(C38:C42) -> 17 | D43: =AVERAGE(D38:D42) -> 348.2 | E43: =AVERAGE(E38:E42) -> 288.4 | F43: =AVERAGE(F38:F42) -> 49.8 | G43: =AVERAGE(G38:G42) -> 7 | H43: =AVERAGE(H38:H42) -> 3 | I43: =AVERAGE(I38:I42) -> 348.2
A46: Innenbereich – Schließtage im Jahresverlauf
A47: Jahr | B47: Altweiber | C47: Rosenmontag | D47: Revision von | E47: Revision bis | F47: 1. Weihnachtsfeiertag
A48: 2027 | B48: 04.02.2027 | C48: 08.02.2027 | D48: 01.12.2027 | E48: 14.12.2027 | F48: 25.12.2027
A49: 2028 | B49: 24.02.2028 | C49: 28.02.2028 | D49: 01.12.2028 | E49: 14.12.2028 | F49: 25.12.2028
A50: 2029 | B50: 08.02.2029 | C50: 12.02.2029 | D50: 01.12.2029 | E50: 14.12.2029 | F50: 25.12.2029
...

Sheet Stundenverrechnungssätze UR
A1: Stundenverrechnungssatz Mona Mare
A5: Bearbeitungshinweise: | C5: Farblich grün hinterlegte Felder sind zu bearbeiten | G5: Unterhaltsreinigung (Werktag) | L5: Bearbeitungshinweise: | N5: Farblich grün hinterlegte Felder sind zu bearbeiten | R5: Unterhaltsreinigung (Nacht) | W5: Bearbeitungshinweise: | Y5: Farblich grün hinterlegte Felder sind zu bearbeiten | AC5: Unterhaltsreinigung (Sonn-/Feiertag) | AH5: Bearbeitungshinweise: | AJ5: Farblich grün hinterlegte Felder sind zu bearbeiten | AN5: Unterhaltsreinigung (Hoher Feiertag)
A6: In den Positionen 2 bis 4 sind Prozentsätze vom produktiven Stundenlohn einzutragen. | L6: In den Positionen 2 bis 4 sind Prozentsätze vom produktiven Stundenlohn bzw. auf den Zuschlag einzutragen. | W6: In den Positionen 2 bis 4 sind Prozentsätze vom produktiven Stundenlohn bzw. auf den Zuschlag einzutragen. | AH6: In den Positionen 2 bis 4 sind Prozentsätze vom produktiven Stundenlohn bzw. auf den Zuschlag einzutragen.
A7: In den Positionen 6 bis 7 sind Prozentsätze von den Selbstkosten einzutragen. | L7: In den Positionen 6 bis 7 sind Prozentsätze von den Selbstkosten einzutragen. | W7: In den Positionen 6 bis 7 sind Prozentsätze von den Selbstkosten einzutragen. | AH7: In den Positionen 6 bis 7 sind Prozentsätze von den Selbstkosten einzutragen.
A8: Pos. | B8: Bezeichnung | E8: Sozialversicherungspfl. Beschäftigte | G8: Midijobber | I8: Minijobber | L8: Pos. | M8: Bezeichnung | P8: Sozialversicherungspfl. Beschäftigte | R8: Midijobber | T8: Minijobber | W8: Pos. | X8: Bezeichnung | AA8: Sozialversicherungspfl. Beschäftigte | AC8: Midijobber | AE8: Minijobber | AH8: Pos. | AI8: Bezeichnung | AL8: Sozialversicherungspfl. Beschäftigte | AN8: Midijobber | AP8: Minijobber
E9: % | F9: € | G9: % | H9: € | I9: % | J9: € | P9: % | Q9: € | R9: % | S9: € | T9: % | U9: € | AA9: % | AB9: € | AC9: % | AD9: € | AE9: % | AF9: € | AL9: % | AM9: € | AN9: % | AO9: € | AP9: % | AQ9: €
A10: 1.00 | B10: Produktiver Stundenlohn | E10: 1 | G10: 1 | I10: 1 | L10: 1.00 | M10: Produktiver Stundenlohn | P10: 1 | R10: 1 | T10: 1 | W10: 1.00 | X10: Produktiver Stundenlohn | AA10: 1 | AC10: 1 | AE10: 1 | AH10: 1.00 | AI10: Produktiver Stundenlohn | AL10: 1 | AN10: 1 | AP10: 1
A11: 2.00 | B11: Lohngebundene Kosten | L11: 1.10 | M11: Zuschlag Nacht | Q11: =IF(P11>0,ROUND(Q10*P11,2),0) -> 0 | S11: =IF(R11>0,ROUND(S10*R11,2),0) -> 0 | U11: =IF(T11>0,ROUND(U10*T11,2),0) -> 0 | W11: 1.10 | X11: Zuschlag Sonn- und Feiertag | AB11: =IF(AA11>0,ROUND(AB10*AA11,2),0) -> 0 | AD11: =IF(AC11>0,ROUND(AD10*AC11,2),0) -> 0 | AF11: =IF(AE11>0,ROUND(AF10*AE11,2),0) -> 0 | AH11: 1.10 | AI11: Zuschlag Hoher Feiertag | AM11: =IF(AL11>0,ROUND(AM10*AL11,2),0) -> 0 | AO11: =IF(AN11>0,ROUND(AO10*AN11,2),0) -> 0 | AQ11: =IF(AP11>0,ROUND(AQ10*AP11,2),0) -> 0
A12: 2.10 | B12: Sozialversicherungsbeiträge (Arbeitgeberanteil) | L12: 2.00 | M12: Lohngebundene Kosten | W12: 2.00 | X12: Lohngebundene Kosten | AH12: 2.00 | AI12: Lohngebundene Kosten
A13: 2.11 | B13: Krankenversicherung | F13: =E13*F$10 -> 0 | H13: =G13*H$10 -> 0 | J13: =I13*J$10 -> 0 | L13: 2.10 | M13: Sozialversicherungsbeiträge (Arbeitgeberanteil) | W13: 2.10 | X13: Sozialversicherungsbeiträge (Arbeitgeberanteil) | AH13: 2.10 | AI13: Sozialversicherungsbeiträge (Arbeitgeberanteil)
A14: 2.12 | B14: Rentenversicherung | F14: =E14*F$10 -> 0 | H14: =G14*H$10 -> 0 | J14: =I14*J$10 -> 0 | L14: 2.11 | M14: Krankenversicherung | Q14: =P14*Q$10 -> 0 | S14: =R14*S$10 -> 0 | U14: =T14*U$10 -> 0 | W14: 2.11 | X14: Krankenversicherung | AB14: =AA14*AB$10 -> 0 | AD14: =AC14*AD$10 -> 0 | AF14: =AE14*AF$10 -> 0 | AH14: 2.11 | AI14: Krankenversicherung | AM14: =AL14*AM$10 -> 0 | AO14: =AN14*AO$10 -> 0 | AQ14: =AP14*AQ$10 -> 0
A15: 2.13 | B15: Arbeitslosenversicherung | F15: =E15*F$10 -> 0 | H15: =G15*H$10 -> 0 | J15: =I15*J$10 -> 0 | M15: Krankenversicherung auf Zuschlag | Q15: =P15*Q$11 -> 0 | S15: =R15*S$11 -> 0 | U15: =T15*U$11 -> 0 | X15: Krankenversicherung auf Zuschlag | AB15: =AA15*AB$11 -> 0 | AD15: =AC15*AD$11 -> 0 | AF15: =AE15*AF$11 -> 0 | AI15: Krankenversicherung auf Zuschlag | AM15: =AL15*AM$11 -> 0 | AO15: =AN15*AO$11 -> 0 | AQ15: =AP15*AQ$11 -> 0
A16: 2.14 | B16: Pflegeversicherung | F16: =E16*F$10 -> 0 | H16: =G16*H$10 -> 0 | J16: =I16*J$10 -> 0 | L16: 2.12 | M16: Rentenversicherung | Q16: =P16*Q$10 -> 0 | S16: =R16*S$10 -> 0 | U16: =T16*U$10 -> 0 | W16: 2.12 | X16: Rentenversicherung | AB16: =AA16*AB$10 -> 0 | AD16: =AC16*AD$10 -> 0 | AF16: =AE16*AF$10 -> 0 | AH16: 2.12 | AI16: Rentenversicherung | AM16: =AL16*AM$10 -> 0 | AO16: =AN16*AO$10 -> 0 | AQ16: =AP16*AQ$10 -> 0
A17: 2.15 | B17: U2 Mutterschaftsaufwendung | F17: =E17*F$10 -> 0 | H17: =G17*H$10 -> 0 | J17: =I17*J$10 -> 0 | M17: Rentenversicherung auf Zuschlag | Q17: =P17*Q$11 -> 0 | S17: =R17*S$11 -> 0 | U17: =T17*U$11 -> 0 | X17: Rentenversicherung auf Zuschlag | AB17: =AA17*AB$11 -> 0 | AD17: =AC17*AD$11 -> 0 | AF17: =AE17*AF$11 -> 0 | AI17: Rentenversicherung auf Zuschlag | AM17: =AL17*AM$11 -> 0 | AO17: =AN17*AO$11 -> 0 | AQ17: =AP17*AQ$11 -> 0
A18: 2.16 | B18: U3 Insolvenzgeldumlage | F18: =E18*F$10 -> 0 | H18: =G18*H$10 -> 0 | J18: =I18*J$10 -> 0 | L18: 2.13 | M18: Arbeitslosenversicherung | Q18: =P18*Q$10 -> 0 | S18: =R18*S$10 -> 0 | U18: =T18*U$10 -> 0 | W18: 2.13 | X18: Arbeitslosenversicherung | AB18: =AA18*AB$10 -> 0 | AD18: =AC18*AD$10 -> 0 | AF18: =AE18*AF$10 -> 0 | AH18: 2.13 | AI18: Arbeitslosenversicherung | AM18: =AL18*AM$10 -> 0 | AO18: =AN18*AO$10 -> 0 | AQ18: =AP18*AQ$10 -> 0
A19: 2.17 | B19: Gesetzliche Unfallversicherung | F19: =E19*F$10 -> 0 | H19: =G19*H$10 -> 0 | J19: =I19*J$10 -> 0 | M19: Arbeitslosenversicherung auf Zuschlag | Q19: =P19*Q$11 -> 0 | S19: =R19*S$11 -> 0 | U19: =T19*U$11 -> 0 | X19: Arbeitslosenversicherung auf Zuschlag | AB19: =AA19*AB$11 -> 0 | AD19: =AC19*AD$11 -> 0 | AF19: =AE19*AF$11 -> 0 | AI19: Arbeitslosenversicherung auf Zuschlag | AM19: =AL19*AM$11 -> 0 | AO19: =AN19*AO$11 -> 0 | AQ19: =AP19*AQ$11 -> 0
B20: Zwischensumme der Positionen unter 2.10 | E20: =SUM(E13:E19) -> 0 | F20: =SUM(F13:F19) -> 0 | G20: =SUM(G13:G19) -> 0 | H20: =SUM(H13:H19) -> 0 | I20: =SUM(I13:I19) -> 0 | J20: =SUM(J13:J19) -> 0 | L20: 2.14 | M20: Pflegeversicherung | Q20: =P20*Q$10 -> 0 | S20: =R20*S$10 -> 0 | U20: =T20*U$10 -> 0 | W20: 2.14 | X20: Pflegeversicherung | AB20: =AA20*AB$10 -> 0 | AD20: =AC20*AD$10 -> 0 | AF20: =AE20*AF$10 -> 0 | AH20: 2.14 | AI20: Pflegeversicherung | AM20: =AL20*AM$10 -> 0 | AO20: =AN20*AO$10 -> 0 | AQ20: =AP20*AQ$10 -> 0
A21: 2.20 | B21: Soziallöhne | M21: Pflegeversicherung auf Zuschlag | Q21: =P21*Q$11 -> 0 | S21: =R21*S$11 -> 0 | U21: =T21*U$11 -> 0 | X21: Pflegeversicherung auf Zuschlag | AB21: =AA21*AB$11 -> 0 | AD21: =AC21*AD$11 -> 0 | AF21: =AE21*AF$11 -> 0 | AI21: Pflegeversicherung auf Zuschlag | AM21: =AL21*AM$11 -> 0 | AO21: =AN21*AO$11 -> 0 | AQ21: =AP21*AQ$11 -> 0
A22: 2.21 | B22: Gesetzliche Feiertage | F22: =E22*F$10 -> 0 | H22: =G22*H$10 -> 0 | J22: =I22*J$10 -> 0 | L22: 2.15 | M22: U2 Mutterschaftsaufwendung | Q22: =P22*Q$10 -> 0 | S22: =R22*S$10 -> 0 | U22: =T22*U$10 -> 0 | W22: 2.15 | X22: U2 Mutterschaftsaufwendung | AB22: =AA22*AB$10 -> 0 | AD22: =AC22*AD$10 -> 0 | AF22: =AE22*AF$10 -> 0 | AH22: 2.15 | AI22: U2 Mutterschaftsaufwendung | AM22: =AL22*AM$10 -> 0 | AO22: =AN22*AO$10 -> 0 | AQ22: =AP22*AQ$10 -> 0
B23: Sozialversicherung auf Pos. 2.21 | F23: =E23*F$10 -> 0 | H23: =G23*H$10 -> 0 | J23: =I23*J$10 -> 0 | M23: U2 Mutterschaftsaufwendung auf Zuschlag | Q23: =P23*Q$11 -> 0 | S23: =R23*S$11 -> 0 | U23: =T23*U$11 -> 0 | X23: U2 Mutterschaftsaufwendung auf Zuschlag | AB23: =AA23*AB$11 -> 0 | AD23: =AC23*AD$11 -> 0 | AF23: =AE23*AF$11 -> 0 | AI23: U2 Mutterschaftsaufwendung auf Zuschlag | AM23: =AL23*AM$11 -> 0 | AO23: =AN23*AO$11 -> 0 | AQ23: =AP23*AQ$11 -> 0
A24: 2.22 | B24: Urlaubsentgeld | F24: =E24*F$10 -> 0 | H24: =G24*H$10 -> 0 | J24: =I24*J$10 -> 0 | L24: 2.16 | M24: U3 Insolvenzgeldumlage | Q24: =P24*Q$10 -> 0 | S24: =R24*S$10 -> 0 | U24: =T24*U$10 -> 0 | W24: 2.16 | X24: U3 Insolvenzgeldumlage | AB24: =AA24*AB$10 -> 0 | AD24: =AC24*AD$10 -> 0 | AF24: =AE24*AF$10 -> 0 | AH24: 2.16 | AI24: U3 Insolvenzgeldumlage | AM24: =AL24*AM$10 -> 0 | AO24: =AN24*AO$10 -> 0 | AQ24: =AP24*AQ$10 -> 0
B25: Sozialversicherung auf Pos. 2.22 | F25: =E25*F$10 -> 0 | H25: =G25*H$10 -> 0 | J25: =I25*J$10 -> 0 | M25: U3 Insolvenzgeldumlage auf Zuschlag | Q25: =P25*Q$11 -> 0 | S25: =R25*S$11 -> 0 | U25: =T25*U$11 -> 0 | X25: U3 Insolvenzgeldumlage auf Zuschlag | AB25: =AA25*AB$11 -> 0 | AD25: =AC25*AD$11 -> 0 | AF25: =AE25*AF$11 -> 0 | AI25: U3 Insolvenzgeldumlage auf Zuschlag | AM25: =AL25*AM$11 -> 0 | AO25: =AN25*AO$11 -> 0 | AQ25: =AP25*AQ$11 -> 0
A26: 2.23 | B26: Arbeitsfreistellung | F26: =E26*F$10 -> 0 | H26: =G26*H$10 -> 0 | J26: =I26*J$10 -> 0 | L26: 2.17 | M26: Gesetzliche Unfallversicherung | Q26: =P26*Q$10 -> 0 | S26: =R26*S$10 -> 0 | U26: =T26*U$10 -> 0 | W26: 2.17 | X26: Gesetzliche Unfallversicherung | AB26: =AA26*AB$10 -> 0 | AD26: =AC26*AD$10 -> 0 | AF26: =AE26*AF$10 -> 0 | AH26: 2.17 | AI26: Gesetzliche Unfallversicherung | AM26: =AL26*AM$10 -> 0 | AO26: =AN26*AO$10 -> 0 | AQ26: =AP26*AQ$10 -> 0
B27: Sozialversicherung auf Pos. 2.23 | F27: =E27*F$10 -> 0 | H27: =G27*H$10 -> 0 | J27: =I27*J$10 -> 0 | M27: Gesetzliche Unfallversicherung auf Zuschlag | Q27: =P27*Q$11 -> 0 | S27: =R27*S$11 -> 0 | U27: =T27*U$11 -> 0 | X27: Gesetzliche Unfallversicherung auf Zuschlag | AB27: =AA27*AB$11 -> 0 | AD27: =AC27*AD$11 -> 0 | AF27: =AE27*AF$11 -> 0 | AI27: Gesetzliche Unfallversicherung auf Zuschlag | AM27: =AL27*AM$11 -> 0 | AO27: =AN27*AO$11 -> 0 | AQ27: =AP27*AQ$11 -> 0
A28: 2.24 | B28: Lohnfortzahlung im Krankheitsfall | F28: =E28*F$10 -> 0 | H28: =G28*H$10 -> 0 | J28: =I28*J$10 -> 0 | M28: Zwischensumme der Positionen unter 2.10 | Q28: =SUM(Q14:Q27) -> 0 | S28: =SUM(S14:S27) -> 0 | U28: =SUM(U14:U27) -> 0 | X28: Zwischensumme der Positionen unter 2.10 | AB28: =SUM(AB14:AB27) -> 0 | AD28: =SUM(AD14:AD27) -> 0 | AF28: =SUM(AF14:AF27) -> 0 | AI28: Zwischensumme der Positionen unter 2.10 | AM28: =SUM(AM14:AM27) -> 0 | AO28: =SUM(AO14:AO27) -> 0 | AQ28: =SUM(AQ14:AQ27) -> 0
B29: Sozialversicherung auf Pos. 2.24 | F29: =E29*F$10 -> 0 | H29: =G29*H$10 -> 0 | J29: =I29*J$10 -> 0 | M29: Summe Sozialversicherungsbeiträge auf den produktiven Stundenlohn | P29: =IF($F$10<>0,Q28/$F$10,0) -> 0 | R29: =IF($H$10<>0,S28/$H$10,0) -> 0 | T29: =IF($J$10<>0,U28/$J$10,0) -> 0 | X29: Summe Sozialversicherungsbeiträge auf den produktiven Stundenlohn | AA29: =IF($F$10<>0,AB28/$F$10,0) -> 0 | AC29: =IF($H$10<>0,AD28/$H$10,0) -> 0 | AE29: =IF($J$10<>0,AF28/$J$10,0) -> 0 | AI29: Summe Sozialversicherungsbeiträge auf den produktiven Stundenlohn | AL29: =IF($F$10<>0,AM28/$F$10,0) -> 0 | AN29: =IF($H$10<>0,AO28/$H$10,0) -> 0 | AP29: =IF($J$10<>0,AQ28/$J$10,0) -> 0
A30: 2.25 | B30: Zusätzliches Urlaubsgeld | F30: =E30*F$10 -> 0 | H30: =G30*H$10 -> 0 | J30: =I30*J$10 -> 0 | L30: 2.20 | M30: Soziallöhne | W30: 2.20 | X30: Soziallöhne | AH30: 2.20 | AI30: Soziallöhne
B31: Sozialversicherung auf Pos. 2.25 | F31: =E31*F$10 -> 0 | H31: =G31*H$10 -> 0 | J31: =I31*J$10 -> 0 | L31: 2.21 | M31: Gesetzliche Feiertage | Q31: =P31*Q$10 -> 0 | S31: =R31*S$10 -> 0 | U31: =T31*U$10 -> 0 | W31: 2.21 | X31: Gesetzliche Feiertage | AB31: =AA31*AB$10 -> 0 | AD31: =AC31*AD$10 -> 0 | AF31: =AE31*AF$10 -> 0 | AH31: 2.21 | AI31: Gesetzliche Feiertage | AM31: =AL31*AM$10 -> 0 | AO31: =AN31*AO$10 -> 0 | AQ31: =AP31*AQ$10 -> 0
B32: Zwischensumme Soziallöhne inkl. SV-Beiträge auf Soziallöhne | E32: =SUM(E22:E31) -> 0 | F32: =SUM(F22:F31) -> 0 | G32: =SUM(G22:G31) -> 0 | H32: =SUM(H22:H31) -> 0 | I32: =SUM(I22:I31) -> 0 | J32: =SUM(J22:J31) -> 0 | M32: Sozialversicherung auf Pos. 2.21 | Q32: =P32*Q$10 -> 0 | S32: =R32*S$10 -> 0 | U32: =T32*U$10 -> 0 | X32: Sozialversicherung auf Pos. 2.21 | AB32: =AA32*AB$10 -> 0 | AD32: =AC32*AD$10 -> 0 | AF32: =AE32*AF$10 -> 0 | AI32: Sozialversicherung auf Pos. 2.21 | AM32: =AL32*AM$10 -> 0 | AO32: =AN32*AO$10 -> 0 | AQ32: =AP32*AQ$10 -> 0
A33: 2.30 | B33: Zusätzliche lohngebundene Kosten | L33: 2.22 | M33: Urlaubsentgeld | Q33: =P33*Q$10 -> 0 | S33: =R33*S$10 -> 0 | U33: =T33*U$10 -> 0 | W33: 2.22 | X33: Urlaubsentgeld | AB33: =AA33*AB$10 -> 0 | AD33: =AC33*AD$10 -> 0 | AF33: =AE33*AF$10 -> 0 | AH33: 2.22 | AI33: Urlaubsentgeld | AM33: =AL33*AM$10 -> 0 | AO33: =AN33*AO$10 -> 0 | AQ33: =AP33*AQ$10 -> 0
A34: 2.31 | B34: Haftpflichtversicherung | F34: =E34*F$10 -> 0 | H34: =G34*H$10 -> 0 | J34: =I34*J$10 -> 0 | M34: Sozialversicherung auf Pos. 2.22 | Q34: =P34*Q$10 -> 0 | S34: =R34*S$10 -> 0 | U34: =T34*U$10 -> 0 | X34: Sozialversicherung auf Pos. 2.22 | AB34: =AA34*AB$10 -> 0 | AD34: =AC34*AD$10 -> 0 | AF34: =AE34*AF$10 -> 0 | AI34: Sozialversicherung auf Pos. 2.22 | AM34: =AL34*AM$10 -> 0 | AO34: =AN34*AO$10 -> 0 | AQ34: =AP34*AQ$10 -> 0
A35: 2.32 | B35: Sonstige Personalkosten | F35: =E35*F$10 -> 0 | H35: =G35*H$10 -> 0 | J35: =I35*J$10 -> 0 | L35: 2.23 | M35: Arbeitsfreistellung | Q35: =P35*Q$10 -> 0 | S35: =R35*S$10 -> 0 | U35: =T35*U$10 -> 0 | W35: 2.23 | X35: Arbeitsfreistellung | AB35: =AA35*AB$10 -> 0 | AD35: =AC35*AD$10 -> 0 | AF35: =AE35*AF$10 -> 0 | AH35: 2.23 | AI35: Arbeitsfreistellung | AM35: =AL35*AM$10 -> 0 | AO35: =AN35*AO$10 -> 0 | AQ35: =AP35*AQ$10 -> 0
B36: Zwischensumme der Positionen unter 2.30 | E36: =SUM(E34:E35) -> 0 | F36: =SUM(F34:F35) -> 0 | G36: =SUM(G34:G35) -> 0 | H36: =SUM(H34:H35) -> 0 | I36: =SUM(I34:I35) -> 0 | J36: =SUM(J34:J35) -> 0 | M36: Sozialversicherung auf Pos. 2.23 | Q36: =P36*Q$10 -> 0 | S36: =R36*S$10 -> 0 | U36: =T36*U$10 -> 0 | X36: Sozialversicherung auf Pos. 2.23 | AB36: =AA36*AB$10 -> 0 | AD36: =AC36*AD$10 -> 0 | AF36: =AE36*AF$10 -> 0 | AI36: Sozialversicherung auf Pos. 2.23 | AM36: =AL36*AM$10 -> 0 | AO36: =AN36*AO$10 -> 0 | AQ36: =AP36*AQ$10 -> 0
B37: Summe lohngebundene Kosten (Σ 2.10-2.30) | E37: =SUM(E20,E32,E36) -> 0 | F37: =SUM(F20,F32,F36) -> 0 | G37: =SUM(G20,G32,G36) -> 0 | H37: =SUM(H20,H32,H36) -> 0 | I37: =SUM(I20,I32,I36) -> 0 | J37: =SUM(J20,J32,J36) -> 0 | L37: 2.24 | M37: Lohnfortzahlung im Krankheitsfall | Q37: =P37*Q$10 -> 0 | S37: =R37*S$10 -> 0 | U37: =T37*U$10 -> 0 | W37: 2.24 | X37: Lohnfortzahlung im Krankheitsfall | AB37: =AA37*AB$10 -> 0 | AD37: =AC37*AD$10 -> 0 | AF37: =AE37*AF$10 -> 0 | AH37: 2.24 | AI37: Lohnfortzahlung im Krankheitsfall | AM37: =AL37*AM$10 -> 0 | AO37: =AN37*AO$10 -> 0 | AQ37: =AP37*AQ$10 -> 0
A38: 3.00 | B38: Sonstige auftragsbezogene Kosten | M38: Sozialversicherung auf Pos. 2.24 | Q38: =P38*Q$10 -> 0 | S38: =R38*S$10 -> 0 | U38: =T38*U$10 -> 0 | X38: Sozialversicherung auf Pos. 2.24 | AB38: =AA38*AB$10 -> 0 | AD38: =AC38*AD$10 -> 0 | AF38: =AE38*AF$10 -> 0 | AI38: Sozialversicherung auf Pos. 2.24 | AM38: =AL38*AM$10 -> 0 | AO38: =AN38*AO$10 -> 0 | AQ38: =AP38*AQ$10 -> 0
A39: 3.10 | B39: Löhne für Aufsichten / Vorarbeiter inkl. sozialer Folgekosten | F39: =E39*F$10 -> 0 | H39: =G39*H$10 -> 0 | J39: =I39*J$10 -> 0 | L39: 2.25 | M39: Zusätzliches Urlaubsgeld | Q39: =P39*Q$10 -> 0 | S39: =R39*S$10 -> 0 | U39: =T39*U$10 -> 0 | W39: 2.25 | X39: Zusätzliches Urlaubsgeld | AB39: =AA39*AB$10 -> 0 | AD39: =AC39*AD$10 -> 0 | AF39: =AE39*AF$10 -> 0 | AH39: 2.25 | AI39: Zusätzliches Urlaubsgeld | AM39: =AL39*AM$10 -> 0 | AO39: =AN39*AO$10 -> 0 | AQ39: =AP39*AQ$10 -> 0
A40: 3.20 | B40: Fahrtkostenzuschuss | F40: =E40*F$10 -> 0 | H40: =G40*H$10 -> 0 | J40: =I40*J$10 -> 0 | M40: Sozialversicherung auf Pos. 2.25 | Q40: =P40*Q$10 -> 0 | S40: =R40*S$10 -> 0 | U40: =T40*U$10 -> 0 | X40: Sozialversicherung auf Pos. 2.25 | AB40: =AA40*AB$10 -> 0 | AD40: =AC40*AD$10 -> 0 | AF40: =AE40*AF$10 -> 0 | AI40: Sozialversicherung auf Pos. 2.25 | AM40: =AL40*AM$10 -> 0 | AO40: =AN40*AO$10 -> 0 | AQ40: =AP40*AQ$10 -> 0
A41: 3.30 | B41: Fertigungsmaterial, Maschinen und Geräte, Afa etc. | F41: =E41*F$10 -> 0 | H41: =G41*H$10 -> 0 | J41: =I41*J$10 -> 0 | M41: Zwischensumme Soziallöhne inkl. SV-Beiträge auf Soziallöhne | P41: =SUM(P31:P40) -> 0 | Q41: =SUM(Q31:Q40) -> 0 | R41: =SUM(R31:R40) -> 0 | S41: =SUM(S31:S40) -> 0 | T41: =SUM(T31:T40) -> 0 | U41: =SUM(U31:U40) -> 0 | X41: Zwischensumme Soziallöhne inkl. SV-Beiträge auf Soziallöhne | AA41: =SUM(AA31:AA40) -> 0 | AB41: =SUM(AB31:AB40) -> 0 | AC41: =SUM(AC31:AC40) -> 0 | AD41: =SUM(AD31:AD40) -> 0 | AE41: =SUM(AE31:AE40) -> 0 | AF41: =SUM(AF31:AF40) -> 0 | AI41: Zwischensumme Soziallöhne inkl. SV-Beiträge auf Soziallöhne | AL41: =SUM(AL31:AL40) -> 0 | AM41: =SUM(AM31:AM40) -> 0 | AN41: =SUM(AN31:AN40) -> 0 | AO41: =SUM(AO31:AO40) -> 0 | AP41: =SUM(AP31:AP40) -> 0 | AQ41: =SUM(AQ31:AQ40) -> 0
A42: 3.40 | B42: Sondereinzelkosten | F42: =E42*F$10 -> 0 | H42: =G42*H$10 -> 0 | J42: =I42*J$10 -> 0 | L42: 2.30 | M42: Zusätzliche lohngebundene Kosten | W42: 2.30 | X42: Zusätzliche lohngebundene Kosten | AH42: 2.30 | AI42: Zusätzliche lohngebundene Kosten
B43: Summe sonstige auftragsbezogene Kosten (Σ 3.10-3.40) | E43: =SUM(E39:E42) -> 0 | F43: =SUM(F39:F42) -> 0 | G43: =SUM(G39:G42) -> 0 | H43: =SUM(H39:H42) -> 0 | I43: =SUM(I39:I42) -> 0 | J43: =SUM(J39:J42) -> 0 | L43: 2.31 | M43: Haftpflichtversicherung | Q43: =P43*Q$10 -> 0 | S43: =ROUND(R43*S$10,2) -> 0 | U43: =ROUND(T43*U$10,2) -> 0 | W43: 2.31 | X43: Haftpflichtversicherung | AB43: =AA43*AB$10 -> 0 | AD43: =ROUND(AC43*AD$10,2) -> 0 | AF43: =ROUND(AE43*AF$10,2) -> 0 | AH43: 2.31 | AI43: Haftpflichtversicherung | AM43: =AL43*AM$10 -> 0 | AO43: =ROUND(AN43*AO$10,2) -> 0 | AQ43: =ROUND(AP43*AQ$10,2) -> 0
...

Sheet Stundenverrechnungssätze VR
A1: Stundenverrechnungssatz Mona Mare
A5: Bearbeitungshinweise: | C5: Farblich grün hinterlegte Felder sind zu bearbeiten | G5: Unterhaltsreinigung (Werktag) | L5: Bearbeitungshinweise: | N5: Farblich grün hinterlegte Felder sind zu bearbeiten | R5: Unterhaltsreinigung (Sonn-/Feiertag)
A6: In den Positionen 2 bis 4 sind Prozentsätze vom produktiven Stundenlohn einzutragen. | L6: In den Positionen 2 bis 4 sind Prozentsätze vom produktiven Stundenlohn bzw. auf den Zuschlag einzutragen.
A7: In den Positionen 6 bis 7 sind Prozentsätze von den Selbstkosten einzutragen. | L7: In den Positionen 6 bis 7 sind Prozentsätze von den Selbstkosten einzutragen.
A8: Pos. | B8: Bezeichnung | E8: Sozialversicherungspfl. Beschäftigte | G8: Midijobber | I8: Minijobber | L8: Pos. | M8: Bezeichnung | P8: Sozialversicherungspfl. Beschäftigte | R8: Midijobber | T8: Minijobber
E9: % | F9: € | G9: % | H9: € | I9: % | J9: € | P9: % | Q9: € | R9: % | S9: € | T9: % | U9: €
A10: 1.00 | B10: Produktiver Stundenlohn | E10: 1 | G10: 1 | I10: 1 | L10: 1.00 | M10: Produktiver Stundenlohn | P10: 1 | R10: 1 | T10: 1
A11: 2.00 | B11: Lohngebundene Kosten | L11: 1.10 | M11: Zuschlag Sonn- und Feiertag | Q11: =IF(P11>0,ROUND(Q10*P11,2),0) -> 0 | S11: =IF(R11>0,ROUND(S10*R11,2),0) -> 0 | U11: =IF(T11>0,ROUND(U10*T11,2),0) -> 0
A12: 2.10 | B12: Sozialversicherungsbeiträge (Arbeitgeberanteil) | L12: 2.00 | M12: Lohngebundene Kosten
A13: 2.11 | B13: Krankenversicherung | F13: =E13*F$10 -> 0 | H13: =G13*H$10 -> 0 | J13: =I13*J$10 -> 0 | L13: 2.10 | M13: Sozialversicherungsbeiträge (Arbeitgeberanteil)
A14: 2.12 | B14: Rentenversicherung | F14: =E14*F$10 -> 0 | H14: =G14*H$10 -> 0 | J14: =I14*J$10 -> 0 | L14: 2.11 | M14: Krankenversicherung | Q14: =P14*Q$10 -> 0 | S14: =R14*S$10 -> 0 | U14: =T14*U$10 -> 0
A15: 2.13 | B15: Arbeitslosenversicherung | F15: =E15*F$10 -> 0 | H15: =G15*H$10 -> 0 | J15: =I15*J$10 -> 0 | M15: Krankenversicherung auf Zuschlag | Q15: =P15*Q$11 -> 0 | S15: =R15*S$11 -> 0 | U15: =T15*U$11 -> 0
A16: 2.14 | B16: Pflegeversicherung | F16: =E16*F$10 -> 0 | H16: =G16*H$10 -> 0 | J16: =I16*J$10 -> 0 | L16: 2.12 | M16: Rentenversicherung | Q16: =P16*Q$10 -> 0 | S16: =R16*S$10 -> 0 | U16: =T16*U$10 -> 0
A17: 2.15 | B17: U2 Mutterschaftsaufwendung | F17: =E17*F$10 -> 0 | H17: =G17*H$10 -> 0 | J17: =I17*J$10 -> 0 | M17: Rentenversicherung auf Zuschlag | Q17: =P17*Q$11 -> 0 | S17: =R17*S$11 -> 0 | U17: =T17*U$11 -> 0
A18: 2.16 | B18: U3 Insolvenzgeldumlage | F18: =E18*F$10 -> 0 | H18: =G18*H$10 -> 0 | J18: =I18*J$10 -> 0 | L18: 2.13 | M18: Arbeitslosenversicherung | Q18: =P18*Q$10 -> 0 | S18: =R18*S$10 -> 0 | U18: =T18*U$10 -> 0
A19: 2.17 | B19: Gesetzliche Unfallversicherung | F19: =E19*F$10 -> 0 | H19: =G19*H$10 -> 0 | J19: =I19*J$10 -> 0 | M19: Arbeitslosenversicherung auf Zuschlag | Q19: =P19*Q$11 -> 0 | S19: =R19*S$11 -> 0 | U19: =T19*U$11 -> 0
B20: Zwischensumme der Positionen unter 2.10 | E20: =SUM(E13:E19) -> 0 | F20: =SUM(F13:F19) -> 0 | G20: =SUM(G13:G19) -> 0 | H20: =SUM(H13:H19) -> 0 | I20: =SUM(I13:I19) -> 0 | J20: =SUM(J13:J19) -> 0 | L20: 2.14 | M20: Pflegeversicherung | Q20: =P20*Q$10 -> 0 | S20: =R20*S$10 -> 0 | U20: =T20*U$10 -> 0
A21: 2.20 | B21: Soziallöhne | M21: Pflegeversicherung auf Zuschlag | Q21: =P21*Q$11 -> 0 | S21: =R21*S$11 -> 0 | U21: =T21*U$11 -> 0
A22: 2.21 | B22: Gesetzliche Feiertage | F22: =E22*F$10 -> 0 | H22: =G22*H$10 -> 0 | J22: =I22*J$10 -> 0 | L22: 2.15 | M22: U2 Mutterschaftsaufwendung | Q22: =P22*Q$10 -> 0 | S22: =R22*S$10 -> 0 | U22: =T22*U$10 -> 0
B23: Sozialversicherung auf Pos. 2.21 | F23: =E23*F$10 -> 0 | H23: =G23*H$10 -> 0 | J23: =I23*J$10 -> 0 | M23: U2 Mutterschaftsaufwendung auf Zuschlag | Q23: =P23*Q$11 -> 0 | S23: =R23*S$11 -> 0 | U23: =T23*U$11 -> 0
A24: 2.22 | B24: Urlaubsentgeld | F24: =E24*F$10 -> 0 | H24: =G24*H$10 -> 0 | J24: =I24*J$10 -> 0 | L24: 2.16 | M24: U3 Insolvenzgeldumlage | Q24: =P24*Q$10 -> 0 | S24: =R24*S$10 -> 0 | U24: =T24*U$10 -> 0
B25: Sozialversicherung auf Pos. 2.22 | F25: =E25*F$10 -> 0 | H25: =G25*H$10 -> 0 | J25: =I25*J$10 -> 0 | M25: U3 Insolvenzgeldumlage auf Zuschlag | Q25: =P25*Q$11 -> 0 | S25: =R25*S$11 -> 0 | U25: =T25*U$11 -> 0
A26: 2.23 | B26: Arbeitsfreistellung | F26: =E26*F$10 -> 0 | H26: =G26*H$10 -> 0 | J26: =I26*J$10 -> 0 | L26: 2.17 | M26: Gesetzliche Unfallversicherung | Q26: =P26*Q$10 -> 0 | S26: =R26*S$10 -> 0 | U26: =T26*U$10 -> 0
B27: Sozialversicherung auf Pos. 2.23 | F27: =E27*F$10 -> 0 | H27: =G27*H$10 -> 0 | J27: =I27*J$10 -> 0 | M27: Gesetzliche Unfallversicherung auf Zuschlag | Q27: =P27*Q$11 -> 0 | S27: =R27*S$11 -> 0 | U27: =T27*U$11 -> 0
A28: 2.24 | B28: Lohnfortzahlung im Krankheitsfall | F28: =E28*F$10 -> 0 | H28: =G28*H$10 -> 0 | J28: =I28*J$10 -> 0 | M28: Zwischensumme der Positionen unter 2.10 | Q28: =SUM(Q14:Q27) -> 0 | S28: =SUM(S14:S27) -> 0 | U28: =SUM(U14:U27) -> 0
B29: Sozialversicherung auf Pos. 2.24 | F29: =E29*F$10 -> 0 | H29: =G29*H$10 -> 0 | J29: =I29*J$10 -> 0 | M29: Summe Sozialversicherungsbeiträge auf den produktiven Stundenlohn | P29: =IF($F$10<>0,Q28/$F$10,0) -> 0 | R29: =IF($H$10<>0,S28/$H$10,0) -> 0 | T29: =IF($J$10<>0,U28/$J$10,0) -> 0
A30: 2.25 | B30: Zusätzliches Urlaubsgeld | F30: =E30*F$10 -> 0 | H30: =G30*H$10 -> 0 | J30: =I30*J$10 -> 0 | L30: 2.20 | M30: Soziallöhne
B31: Sozialversicherung auf Pos. 2.25 | F31: =E31*F$10 -> 0 | H31: =G31*H$10 -> 0 | J31: =I31*J$10 -> 0 | L31: 2.21 | M31: Gesetzliche Feiertage | Q31: =P31*Q$10 -> 0 | S31: =R31*S$10 -> 0 | U31: =T31*U$10 -> 0
B32: Zwischensumme Soziallöhne inkl. SV-Beiträge auf Soziallöhne | E32: =SUM(E22:E31) -> 0 | F32: =SUM(F22:F31) -> 0 | G32: =SUM(G22:G31) -> 0 | H32: =SUM(H22:H31) -> 0 | I32: =SUM(I22:I31) -> 0 | J32: =SUM(J22:J31) -> 0 | M32: Sozialversicherung auf Pos. 2.21 | Q32: =P32*Q$10 -> 0 | S32: =R32*S$10 -> 0 | U32: =T32*U$10 -> 0
A33: 2.30 | B33: Zusätzliche lohngebundene Kosten | L33: 2.22 | M33: Urlaubsentgeld | Q33: =P33*Q$10 -> 0 | S33: =R33*S$10 -> 0 | U33: =T33*U$10 -> 0
A34: 2.31 | B34: Haftpflichtversicherung | F34: =E34*F$10 -> 0 | H34: =G34*H$10 -> 0 | J34: =I34*J$10 -> 0 | M34: Sozialversicherung auf Pos. 2.22 | Q34: =P34*Q$10 -> 0 | S34: =R34*S$10 -> 0 | U34: =T34*U$10 -> 0
A35: 2.32 | B35: Sonstige Personalkosten | F35: =E35*F$10 -> 0 | H35: =G35*H$10 -> 0 | J35: =I35*J$10 -> 0 | L35: 2.23 | M35: Arbeitsfreistellung | Q35: =P35*Q$10 -> 0 | S35: =R35*S$10 -> 0 | U35: =T35*U$10 -> 0
B36: Zwischensumme der Positionen unter 2.30 | E36: =SUM(E34:E35) -> 0 | F36: =SUM(F34:F35) -> 0 | G36: =SUM(G34:G35) -> 0 | H36: =SUM(H34:H35) -> 0 | I36: =SUM(I34:I35) -> 0 | J36: =SUM(J34:J35) -> 0 | M36: Sozialversicherung auf Pos. 2.23 | Q36: =P36*Q$10 -> 0 | S36: =R36*S$10 -> 0 | U36: =T36*U$10 -> 0
B37: Summe lohngebundene Kosten (Σ 2.10-2.30) | E37: =SUM(E20,E32,E36) -> 0 | F37: =SUM(F20,F32,F36) -> 0 | G37: =SUM(G20,G32,G36) -> 0 | H37: =SUM(H20,H32,H36) -> 0 | I37: =SUM(I20,I32,I36) -> 0 | J37: =SUM(J20,J32,J36) -> 0 | L37: 2.24 | M37: Lohnfortzahlung im Krankheitsfall | Q37: =P37*Q$10 -> 0 | S37: =R37*S$10 -> 0 | U37: =T37*U$10 -> 0
A38: 3.00 | B38: Sonstige auftragsbezogene Kosten | M38: Sozialversicherung auf Pos. 2.24 | Q38: =P38*Q$10 -> 0 | S38: =R38*S$10 -> 0 | U38: =T38*U$10 -> 0
A39: 3.10 | B39: Löhne für Aufsichten / Vorarbeiter inkl. sozialer Folgekosten | F39: =E39*F$10 -> 0 | H39: =G39*H$10 -> 0 | J39: =I39*J$10 -> 0 | L39: 2.25 | M39: Zusätzliches Urlaubsgeld | Q39: =P39*Q$10 -> 0 | S39: =R39*S$10 -> 0 | U39: =T39*U$10 -> 0
A40: 3.20 | B40: Fahrtkostenzuschuss | F40: =E40*F$10 -> 0 | H40: =G40*H$10 -> 0 | J40: =I40*J$10 -> 0 | M40: Sozialversicherung auf Pos. 2.25 | Q40: =P40*Q$10 -> 0 | S40: =R40*S$10 -> 0 | U40: =T40*U$10 -> 0
A41: 3.30 | B41: Fertigungsmaterial, Maschinen und Geräte, Afa etc. | F41: =E41*F$10 -> 0 | H41: =G41*H$10 -> 0 | J41: =I41*J$10 -> 0 | M41: Zwischensumme Soziallöhne inkl. SV-Beiträge auf Soziallöhne | P41: =SUM(P31:P40) -> 0 | Q41: =SUM(Q31:Q40) -> 0 | R41: =SUM(R31:R40) -> 0 | S41: =SUM(S31:S40) -> 0 | T41: =SUM(T31:T40) -> 0 | U41: =SUM(U31:U40) -> 0
A42: 3.40 | B42: Sondereinzelkosten | F42: =E42*F$10 -> 0 | H42: =G42*H$10 -> 0 | J42: =I42*J$10 -> 0 | L42: 2.30 | M42: Zusätzliche lohngebundene Kosten
B43: Summe sonstige auftragsbezogene Kosten (Σ 3.10-3.40) | E43: =SUM(E39:E42) -> 0 | F43: =SUM(F39:F42) -> 0 | G43: =SUM(G39:G42) -> 0 | H43: =SUM(H39:H42) -> 0 | I43: =SUM(I39:I42) -> 0 | J43: =SUM(J39:J42) -> 0 | L43: 2.31 | M43: Haftpflichtversicherung | Q43: =P43*Q$10 -> 0 | S43: =ROUND(R43*S$10,2) -> 0 | U43: =ROUND(T43*U$10,2) -> 0
...

Sheet Los 1.1 UR
A1: Kalkulation nach Einzelaufmaß | C1: UR | D1: Los: | E1: 1.1
A2: Liegenschaft: | C2: =Objektinformationen!B5 -> Mona Mare
A3: Produktivstunden Mindestvorgabe je Jahr: | C3: =Objektinformationen!F5 -> 6100
A4: Jahresreinigungsfläche in m²: | C4: =Q137 -> 806236.95
A5: Produktivstunden kalkuliert je Jahr: | C5: =S137 -> 0
A6: Produktivstunden kalkuliert je Monat: | C6: =C5/12 -> 0
A7: Gesamtpreis je Jahr: | C7: =W137 -> 0
A8: lfd. Nr. | B8: Objektbereich | C8: Etage | D8: Raum-Nr. | E8: Raumart | F8: Bodenbelag | G8: LV-Code | H8: Bodenfläche in m² | I8: Flächenleistung (m²/h) | J8: Wochenintervall | K8: Stundenverrechnungssatz (Werktag) | L8: Jahresintervall (Werktag) | M8: Stundenverrechnungssatz (Sonn- und Feiertag) | N8: Jahresintervall (Sonn- und Feiertag) | O8: Stundenverrechnungssatz (Hoher Feiertag) | P8: Jahresintervall (hoher Feiertag) | Q8: Jahresreinigungsfläche in m² | R8: Produktivstunden je Ausführung | S8: Produktivstunden je Jahr | T8: Preis je Reinigung (Werktag) | U8: Preis je Reinigung (Sonn- und Feiertag) | V8: Preis je Reinigung (hoher Feiertag) | W8: Preis je Jahr
A11: 1 | B11: Haupteingang | C11: EG | D11: 2.01 | E11: Windfang | F11: Fliese / Textil | G11: E | H11: 30.35 | J11: 7 | K11: ='Stundenverrechnungssätze UR'!$E$65 -> 0 | L11: 288.4 | M11: ='Stundenverrechnungssätze UR'!$AA$74 -> 0 | N11: 56.8 | O11: ='Stundenverrechnungssätze UR'!$AL$74 -> 0 | P11: 3 | Q11: =(L11+N11+P11)*H11 -> 10567.87 | R11: =H11/I11 -> #DIV/0! | S11: =(L11++N11+P11)*R11 -> #DIV/0! | T11: =R11*K11 -> #DIV/0! | U11: =R11*M11 -> #DIV/0! | V11: =R11*O11 -> #DIV/0! | W11: =(T11*L11)+(N11*U11)+(V11*P11) -> #DIV/0!
A12: 2 | B12: Haupteingang | C12: EG | D12: 2.02 | E12: Foyer | F12: Fliese | G12: E | H12: 297.6 | J12: 7 | K12: ='Stundenverrechnungssätze UR'!$E$65 -> 0 | L12: 288.4 | M12: ='Stundenverrechnungssätze UR'!$AA$74 -> 0 | N12: 56.8 | O12: ='Stundenverrechnungssätze UR'!$AL$74 -> 0 | P12: 3 | Q12: =(L12+N12+P12)*H12 -> 103624.32 | R12: =H12/I12 -> #DIV/0! | S12: =(L12++N12+P12)*R12 -> #DIV/0! | T12: =R12*K12 -> #DIV/0! | U12: =R12*M12 -> #DIV/0! | V12: =R12*O12 -> #DIV/0! | W12: =(T12*L12)+(N12*U12)+(V12*P12) -> #DIV/0!
A13: 3 | B13: Haupteingang | C13: EG | D13: 2.03 | E13: Kasse | F13: Fliese | G13: D | H13: 46.04
A14: 4 | B14: Haupteingang | C14: EG | D14: 2.04 | E14: Shop | F14: Fliese | G14: D | H14: 56.05
A15: 5 | B15: Haupteingang | C15: EG | D15: 2.05 | E15: Lager | F15: Fliese | G15: K | H15: 46.14
A16: 6 | B16: Haupteingang | C16: EG | D16: 2.06 | E16: PuMi | F16: Fliese | G16: P | H16: 5.13
A17: 7 | B17: Haupteingang | C17: EG | D17: 2.07 | E17: Teeküche | F17: Fliese | G17: I2 | H17: 6.66
A18: 8 | B18: Haupteingang | C18: EG | D18: 2.08 | E18: Backoffice | F18: Fliese | G18: C | H18: 12.03
A19: 9 | B19: Haupteingang | C19: EG | D19: 2.15 | E19: WC | F19: Fliese | G19: G | H19: 3.52 | J19: 7 | K19: ='Stundenverrechnungssätze UR'!$E$65 -> 0 | L19: 288.4 | M19: ='Stundenverrechnungssätze UR'!$AA$74 -> 0 | N19: 56.8 | O19: ='Stundenverrechnungssätze UR'!$AL$74 -> 0 | P19: 3 | Q19: =(L19+N19+P19)*H19 -> 1225.664 | R19: =H19/I19 -> #DIV/0! | S19: =(L19++N19+P19)*R19 -> #DIV/0! | T19: =R19*K19 -> #DIV/0! | U19: =R19*M19 -> #DIV/0! | V19: =R19*O19 -> #DIV/0! | W19: =(T19*L19)+(N19*U19)+(V19*P19) -> #DIV/0!
A20: 10 | B20: Haupteingang | C20: EG | D20: 2.16 | E20: WC Beh. | F20: Fliese | G20: G | H20: 9.88 | J20: 7 | K20: ='Stundenverrechnungssätze UR'!$E$65 -> 0 | L20: 288.4 | M20: ='Stundenverrechnungssätze UR'!$AA$74 -> 0 | N20: 56.8 | O20: ='Stundenverrechnungssätze UR'!$AL$74 -> 0 | P20: 3 | Q20: =(L20+N20+P20)*H20 -> 3440.216 | R20: =H20/I20 -> #DIV/0! | S20: =(L20++N20+P20)*R20 -> #DIV/0! | T20: =R20*K20 -> #DIV/0! | U20: =R20*M20 -> #DIV/0! | V20: =R20*O20 -> #DIV/0! | W20: =(T20*L20)+(N20*U20)+(V20*P20) -> #DIV/0!
A21: Zwischensummen Bereich 1 - Haupteingang | H21: =SUM(H11:H20) -> 513.4 | Q21: =SUM(Q11:Q20) -> 118858.07 | R21: =_xlfn.AGGREGATE(9, 6, R11:R20) -> 0 | S21: =_xlfn.AGGREGATE(9, 6, S11:S20) -> 0 | T21: =_xlfn.AGGREGATE(9, 6, T11:T20) -> 0 | U21: =_xlfn.AGGREGATE(9, 6, U11:U20) -> 0 | V21: =_xlfn.AGGREGATE(9, 6, V11:V20) -> 0 | W21: =_xlfn.AGGREGATE(9, 6, W11:W20) -> 0
A22: 11 | B22: Verwaltung | C22: EG | D22: 2.09 | E22: Archiv | F22: Fliese | G22: K | H22: 17.41
A23: 12 | B23: Verwaltung | C23: EG | D23: 2.10 | E23: Archiv | F23: Fliese | G23: K | H23: 6.57
A24: 13 | B24: Verwaltung | C24: EG | D24: 2.11 | E24: Büro 1 | F24: Fliese | G24: C | H24: 23.96
A25: 14 | B25: Verwaltung | C25: EG | D25: 2.12 | E25: Büro 2 | F25: Fliese | G25: C | H25: 21.44
A26: 15 | B26: Verwaltung | C26: EG | D26: 2.13 | E26: Technik | F26: Fliese | G26: M | H26: 2.01
A27: Zwischensummen Bereich 2 - Verwaltung | H27: =SUM(H22:H26) -> 71.39 | Q27: =SUM(Q22:Q26) -> 0 | R27: =_xlfn.AGGREGATE(9, 6, R22:R26) -> 0 | S27: =_xlfn.AGGREGATE(9, 6, S22:S26) -> 0 | T27: =_xlfn.AGGREGATE(9, 6, T22:T26) -> 0 | U27: =_xlfn.AGGREGATE(9, 6, U22:U26) -> 0 | V27: =_xlfn.AGGREGATE(9, 6, V22:V26) -> 0 | W27: =_xlfn.AGGREGATE(9, 6, W22:W26) -> 0
A28: 16 | B28: Einzelumkleiden | C28: EG | D28: 2.14 | E28: Frisieren | F28: Fliese | G28: G | H28: 35.93 | J28: 12 | K28: ='Stundenverrechnungssätze UR'!$E$65 -> 0 | L28: 494.4 | M28: ='Stundenverrechnungssätze UR'!$AA$74 -> 0 | N28: 56.8 | O28: ='Stundenverrechnungssätze UR'!$AL$74 -> 0 | P28: 3 | Q28: =(L28+N28+P28)*H28 -> 19912.406 | R28: =H28/I28 -> #DIV/0! | S28: =(L28++N28+P28)*R28 -> #DIV/0! | T28: =R28*K28 -> #DIV/0! | U28: =R28*M28 -> #DIV/0! | V28: =R28*O28 -> #DIV/0! | W28: =(T28*L28)+(N28*U28)+(V28*P28) -> #DIV/0!
A29: 17 | B29: Einzelumkleiden | C29: EG | D29: 2.37 | E29: Foyer 2 | F29: Fliese | G29: E | H29: 125.07 | J29: 12 | K29: ='Stundenverrechnungssätze UR'!$E$65 -> 0 | L29: 494.4 | M29: ='Stundenverrechnungssätze UR'!$AA$74 -> 0 | N29: 56.8 | O29: ='Stundenverrechnungssätze UR'!$AL$74 -> 0 | P29: 3 | Q29: =(L29+N29+P29)*H29 -> 69313.794 | R29: =H29/I29 -> #DIV/0! | S29: =(L29++N29+P29)*R29 -> #DIV/0! | T29: =R29*K29 -> #DIV/0! | U29: =R29*M29 -> #DIV/0! | V29: =R29*O29 -> #DIV/0! | W29: =(T29*L29)+(N29*U29)+(V29*P29) -> #DIV/0!
A30: 18 | B30: Einzelumkleiden | C30: EG | D30: 2.38 | E30: Einzelumkleiden | F30: Fliese | G30: G | H30: 190.7 | J30: 12 | K30: ='Stundenverrechnungssätze UR'!$E$65 -> 0 | L30: 494.4 | M30: ='Stundenverrechnungssätze UR'!$AA$74 -> 0 | N30: 56.8 | O30: ='Stundenverrechnungssätze UR'!$AL$74 -> 0 | P30: 3 | Q30: =(L30+N30+P30)*H30 -> 105685.94 | R30: =H30/I30 -> #DIV/0! | S30: =(L30++N30+P30)*R30 -> #DIV/0! | T30: =R30*K30 -> #DIV/0! | U30: =R30*M30 -> #DIV/0! | V30: =R30*O30 -> #DIV/0! | W30: =(T30*L30)+(N30*U30)+(V30*P30) -> #DIV/0!
A31: 19 | B31: Einzelumkleiden | C31: EG | D31: 2.35 | E31: Dusche Damen | F31: Fliese | G31: G | H31: 16.53 | J31: 12 | K31: ='Stundenverrechnungssätze UR'!$E$65 -> 0 | L31: 494.4 | M31: ='Stundenverrechnungssätze UR'!$AA$74 -> 0 | N31: 56.8 | O31: ='Stundenverrechnungssätze UR'!$AL$74 -> 0 | P31: 3 | Q31: =(L31+N31+P31)*H31 -> 9160.926 | R31: =H31/I31 -> #DIV/0! | S31: =(L31++N31+P31)*R31 -> #DIV/0! | T31: =R31*K31 -> #DIV/0! | U31: =R31*M31 -> #DIV/0! | V31: =R31*O31 -> #DIV/0! | W31: =(T31*L31)+(N31*U31)+(V31*P31) -> #DIV/0!
A32: 20 | B32: Einzelumkleiden | C32: EG | D32: 2.34 | E32: Dusche / WC Beh. | F32: Fliese | G32: G | H32: 16.15 | J32: 12 | K32: ='Stundenverrechnungssätze UR'!$E$65 -> 0 | L32: 494.4 | M32: ='Stundenverrechnungssätze UR'!$AA$74 -> 0 | N32: 56.8 | O32: ='Stundenverrechnungssätze UR'!$AL$74 -> 0 | P32: 3 | Q32: =(L32+N32+P32)*H32 -> 8950.33 | R32: =H32/I32 -> #DIV/0! | S32: =(L32++N32+P32)*R32 -> #DIV/0! | T32: =R32*K32 -> #DIV/0! | U32: =R32*M32 -> #DIV/0! | V32: =R32*O32 -> #DIV/0! | W32: =(T32*L32)+(N32*U32)+(V32*P32) -> #DIV/0!
A33: 21 | B33: Einzelumkleiden | C33: EG | D33: 2.33 | E33: PuMi | F33: Fliese | G33: P | H33: 1.93
A34: 22 | B34: Einzelumkleiden | C34: EG | D34: 2.32 | E34: Dusche H | F34: Fliese | G34: G | H34: 17.58 | J34: 12 | K34: ='Stundenverrechnungssätze UR'!$E$65 -> 0 | L34: 494.4 | M34: ='Stundenverrechnungssätze UR'!$AA$74 -> 0 | N34: 56.8 | O34: ='Stundenverrechnungssätze UR'!$AL$74 -> 0 | P34: 3 | Q34: =(L34+N34+P34)*H34 -> 9742.836 | R34: =H34/I34 -> #DIV/0! | S34: =(L34++N34+P34)*R34 -> #DIV/0! | T34: =R34*K34 -> #DIV/0! | U34: =R34*M34 -> #DIV/0! | V34: =R34*O34 -> #DIV/0! | W34: =(T34*L34)+(N34*U34)+(V34*P34) -> #DIV/0!
A35: Zwischensummen Bereich 3 - Einzelumkleiden | H35: =SUM(H28:H34) -> 403.89 | Q35: =SUM(Q28:Q34) -> 222766.23 | R35: =_xlfn.AGGREGATE(9, 6, R28:R34) -> 0 | S35: =_xlfn.AGGREGATE(9, 6, S28:S34) -> 0 | T35: =_xlfn.AGGREGATE(9, 6, T28:T34) -> 0 | U35: =_xlfn.AGGREGATE(9, 6, U28:U34) -> 0 | V35: =_xlfn.AGGREGATE(9, 6, V28:V34) -> 0 | W35: =_xlfn.AGGREGATE(9, 6, W28:W34) -> 0
A36: 23 | B36: Sammelumkleiden | C36: EG | D36: 2.47 | E36: Frisieren 2 | F36: Fliese | G36: G | H36: 59.5 | J36: 12 | K36: ='Stundenverrechnungssätze UR'!$E$65 -> 0 | L36: 494.4 | M36: ='Stundenverrechnungssätze UR'!$AA$74 -> 0 | N36: 56.8 | O36: ='Stundenverrechnungssätze UR'!$AL$74 -> 0 | P36: 3 | Q36: =(L36+N36+P36)*H36 -> 32974.9 | R36: =H36/I36 -> #DIV/0! | S36: =(L36++N36+P36)*R36 -> #DIV/0! | T36: =R36*K36 -> #DIV/0! | U36: =R36*M36 -> #DIV/0! | V36: =R36*O36 -> #DIV/0! | W36: =(T36*L36)+(N36*U36)+(V36*P36) -> #DIV/0!
A37: 24 | B37: Sammelumkleiden | C37: EG | D37: 2.48 | E37: Zugang Frisierbereich | F37: Fliese | G37: E | H37: 5.56 | J37: 12 | K37: ='Stundenverrechnungssätze UR'!$E$65 -> 0 | L37: 494.4 | M37: ='Stundenverrechnungssätze UR'!$AA$74 -> 0 | N37: 56.8 | O37: ='Stundenverrechnungssätze UR'!$AL$74 -> 0 | P37: 3 | Q37: =(L37+N37+P37)*H37 -> 3081.352 | R37: =H37/I37 -> #DIV/0! | S37: =(L37++N37+P37)*R37 -> #DIV/0! | T37: =R37*K37 -> #DIV/0! | U37: =R37*M37 -> #DIV/0! | V37: =R37*O37 -> #DIV/0! | W37: =(T37*L37)+(N37*U37)+(V37*P37) -> #DIV/0!
A38: 25 | B38: Sammelumkleiden | C38: EG | D38: 2.40 | E38: Familienumkleiden | F38: Fliese | G38: G | H38: 7.73 | J38: 12 | K38: ='Stundenverrechnungssätze UR'!$E$65 -> 0 | L38: 494.4 | M38: ='Stundenverrechnungssätze UR'!$AA$74 -> 0 | N38: 56.8 | O38: ='Stundenverrechnungssätze UR'!$AL$74 -> 0 | P38: 3 | Q38: =(L38+N38+P38)*H38 -> 4283.966 | R38: =H38/I38 -> #DIV/0! | S38: =(L38++N38+P38)*R38 -> #DIV/0! | T38: =R38*K38 -> #DIV/0! | U38: =R38*M38 -> #DIV/0! | V38: =R38*O38 -> #DIV/0! | W38: =(T38*L38)+(N38*U38)+(V38*P38) -> #DIV/0!
A39: 26 | B39: Sammelumkleiden | C39: EG | D39: 2.41 | E39: Sammelumkleide 1 | F39: Fliese | G39: G | H39: 2.41 | J39: 12 | K39: ='Stundenverrechnungssätze UR'!$E$65 -> 0 | L39: 494.4 | M39: ='Stundenverrechnungssätze UR'!$AA$74 -> 0 | N39: 56.8 | O39: ='Stundenverrechnungssätze UR'!$AL$74 -> 0 | P39: 3 | Q39: =(L39+N39+P39)*H39 -> 1335.622 | R39: =H39/I39 -> #DIV/0! | S39: =(L39++N39+P39)*R39 -> #DIV/0! | T39: =R39*K39 -> #DIV/0! | U39: =R39*M39 -> #DIV/0! | V39: =R39*O39 -> #DIV/0! | W39: =(T39*L39)+(N39*U39)+(V39*P39) -> #DIV/0!
A40: 27 | B40: Sammelumkleiden | C40: EG | D40: 2.42 | E40: PuMi | F40: Fliese | G40: P | H40: 3.53
A41: 28 | B41: Sammelumkleiden | C41: EG | D41: 2.50 | E41: Barfußgang 1 | F41: Fliese | G41: E | H41: 221.02 | J41: 12 | K41: ='Stundenverrechnungssätze UR'!$E$65 -> 0 | L41: 494.4 | M41: ='Stundenverrechnungssätze UR'!$AA$74 -> 0 | N41: 56.8 | O41: ='Stundenverrechnungssätze UR'!$AL$74 -> 0 | P41: 3 | Q41: =(L41+N41+P41)*H41 -> 122489.28 | R41: =H41/I41 -> #DIV/0! | S41: =(L41++N41+P41)*R41 -> #DIV/0! | T41: =R41*K41 -> #DIV/0! | U41: =R41*M41 -> #DIV/0! | V41: =R41*O41 -> #DIV/0! | W41: =(T41*L41)+(N41*U41)+(V41*P41) -> #DIV/0!
A42: 29 | B42: Sammelumkleiden | C42: EG | D42: 2.43 | E42: Sammelumkleide 2 | F42: Fliese | G42: G | H42: 27.92 | J42: 12 | K42: ='Stundenverrechnungssätze UR'!$E$65 -> 0 | L42: 494.4 | M42: ='Stundenverrechnungssätze UR'!$AA$74 -> 0 | N42: 56.8 | O42: ='Stundenverrechnungssätze UR'!$AL$74 -> 0 | P42: 3 | Q42: =(L42+N42+P42)*H42 -> 15473.264 | R42: =H42/I42 -> #DIV/0! | S42: =(L42++N42+P42)*R42 -> #DIV/0! | T42: =R42*K42 -> #DIV/0! | U42: =R42*M42 -> #DIV/0! | V42: =R42*O42 -> #DIV/0! | W42: =(T42*L42)+(N42*U42)+(V42*P42) -> #DIV/0!
...

Sheet Los 1.2 VR
D1: Vertretungsreinigung | F1: VR | L1: Jahreswerte Vertretungsstunden 2027 | O1: Jahreswerte Vertretungsstunden 2028 | R1: Jahreswerte Vertretungsstunden 2029 | U1: Jahreswerte Vertretungsstunden 2030 | X1: Jahreswerte Vertretungsstunden 2031
A3: Position | B3: Art der Leistung | I3: Information | M3: Wert | N3: Einheit | P3: Wert | Q3: Einheit | S3: Wert | T3: Einheit | V3: Wert | W3: Einheit | Y3: Wert | Z3: Einheit
B4: Vertretung Unterhaltsreinigung im Stundenverrechnungssatz
A5: 1 | B5: Stundenverrechnungssatz für Vertretungen im Rahmen der Unterhaltsreinigung | I5: MO-SA 05:00 - 22:00 Uhr | L5: 100 | M5: ='Stundenverrechnungssätze VR'!$E$65 -> 0 | N5: Stunde | O5: 100 | P5: ='Stundenverrechnungssätze VR'!$E$65 -> 0 | Q5: Stunde | R5: 100 | S5: ='Stundenverrechnungssätze VR'!$E$65 -> 0 | T5: Stunde | U5: 100 | V5: ='Stundenverrechnungssätze VR'!$E$65 -> 0 | W5: Stunde | X5: 100 | Y5: ='Stundenverrechnungssätze VR'!$E$65 -> 0 | Z5: Stunde
A6: 2 | B6: Stundenverrechnungssatz für Vertretungen im Rahmen der Unterhaltsreinigung | I6: Sonntag / Feiertag | L6: 150 | M6: ='Stundenverrechnungssätze VR'!$P$74 -> 0 | N6: Stunde | O6: 150 | P6: ='Stundenverrechnungssätze VR'!$P$74 -> 0 | Q6: Stunde | R6: 150 | S6: ='Stundenverrechnungssätze VR'!$P$74 -> 0 | T6: Stunde | U6: 150 | V6: ='Stundenverrechnungssätze VR'!$P$74 -> 0 | W6: Stunde | X6: 150 | Y6: ='Stundenverrechnungssätze VR'!$P$74 -> 0 | Z6: Stunde
I7: Gesamtpreis je Jahr | M7: =(L5*M5)+(L6*M6) -> 0 | P7: =(O5*P5)+(O6*P6) -> 0 | S7: =(R5*S5)+(R6*S6) -> 0 | V7: =(V5*U5)+(U6*V6) -> 0 | Y7: =(X5*Y5)+(X6*Y6) -> 0
I8: Angebotspreis | Q8: =M7+P7+S7+V7+Y7 -> 0

Sheet Leistungen auf Abruf
A1: Einzutragen sind Angebotspreise für Leistungen auf Abruf. Die Angebotswerte verstehen sich je Einheit ohne Umsatzsteuer
A2: inkl. Material- und Gerätekosten wenn nicht anderslautend beschrieben. Kosten für An- und Abfahren sind ebenfalls einzurechnen.
A3: Position | B3: Art der Leistung | I3: Information | L3: Wert | M3: Einheit
B4: Leistungen im Stundenverrechnungssatz
A5: 1 | B5: Stundenverrechnungssatz für Sonderleistungen im Rahmen der Unterhaltsreinigung | I5: MO-SA 05:00 - 22:00 Uhr | M5: SVS
A6: 2 | B6: Stundenverrechnungssatz für Sonderleistungen im Rahmen der Unterhaltsreinigung | I6: MO-SA 22:00 - 05:00 Uhr | M6: SVS
A7: 3 | B7: Stundenverrechnungssatz für Sonderleistungen im Rahmen der Unterhaltsreinigung | I7: Sonntag, Feiertag | M7: SVS
A8: 4 | B8: Stundenverrechnungssatz für Sonderleistungen im Rahmen der Unterhaltsreinigung | I8: Hoher Feiertag | M8: SVS
A9: 5 | B9: Stundenverrechnungssatz für Sonderleistungen im Rahmen von Bauschlussreinigungen | I9: MO-SA 05:00 - 22:00 Uhr | M9: SVS
A10: 6 | B10: Stundenverrechnungssatz für Sonderleistungen im Rahmen von Bauschlussreinigungen | I10: MO-SA 22:00 - 05:00 Uhr | M10: SVS
A11: 7 | B11: Stundenverrechnungssatz für Sonderleistungen im Rahmen von Bauschlussreinigungen | I11: Sonntag, Feiertag | M11: SVS
A12: 8 | B12: Stundenverrechnungssatz für Sonderleistungen im Rahmen von Bauschlussreinigungen | I12: Hoher Feiertag | M12: SVS
B13: Grundreinigung gemäß Leistungsverzeichnis
A14: 9 | B14: Quadratmeterpreis für die Grundreinigung von Fliesenbodenflächen | I14: unter 100 Quadratmeter | M14: je m2
A15: 10 | B15: Quadratmeterpreis für die Grundreinigung von Fliesenbodenflächen | I15: über 100 Quadratmeter | M15: je m2
A16: 11 | B16: Quadratmeterpreis für die Grundreinigung von Fliesenwandflächen | I16: unter 100 Quadratmeter | M16: je m2
A17: 12 | B17: Quadratmeterpreis für die Grundreinigung von Fliesenwandflächen | I17: über 100 Quadratmeter | M17: je m2
