Workbook
Name Anreden: [1]Auswahllisten!$A$2:$A$4
Name AuswJN: Steuerung!$B$90:$B$91
Name Bietername: [2]Deckblatt!$J$30
Name Bietername: [2]Deckblatt!$J$30
Name Bietername: Deckblatt!$J$29
Name Bietername: Deckblatt!$J$29
Name Blattschutz: #REF!
Name Blattschutz: Steuerung!$B$9
Name Bruttosatz: [3]Standortliste!$M$1
Name Bruttosatz: Steuerung!$C$77
Name ConsultantName: [3]Deckblatt!#REF!
Name Consulter: Steuerung!$B$5
Name Consulternahme: [4]Deckblatt!#REF!
Name Consulternahme: Deckblatt!#REF!
Name DB_Antwort: OFFSET([5]Deckblatt!$I$2:$I$2,1,,COUNTA([5]Deckblatt!$A$2:$A$60)-1)
Name DB_gesamt: OFFSET([5]Deckblatt!$A$2:$I$2,1,,COUNTA([5]Deckblatt!$A$2:$A$60)-1)
Name FarbeEingabe: Steuerung!$B$7
Name Form_Bereich: Steuerung!$B$29
Name Form_BereichAlt: Steuerung!$C$29
Name Form_EP: Steuerung!$B$33
Name Form_Gewerk: Steuerung!$B$27
Name Form_GewerkAlt: Steuerung!$C$27
Name Form_GP: Steuerung!$B$35
Name Form_Position: Steuerung!$B$31
Name Gesamtgewichtung: '[2]4. Wertungsstufe - Matrix'!$J$32
Name Gesamtgewichtung: #REF!
Name Gesamtgewichtung: '4. Wertungsstufe - Matrix'!$J$14
Name Gesamtpunkte_FK_1: 'FK MA'!$M$3
Name Gesamtpunkte_FK_1: #REF!
Name Gesamtpunkte_FK_1: #REF!
Name Gesamtpunkte_FK_PDMS: '[6]FK PDMS'!$M$3
Name Gesamtpunkte_FK_Service: '[2]FK Service'!$M$3
Name Gesamtpunkte_FK_Service: '[2]FK Service'!$M$3
Name Gesamtpunkte_FK_Service: 'FK MA'!$M$3
Name Gesamtpunkte_FK_Service: '[4]FK Service'!$M$3
Name Gesamtpunkte_FK_Service: #REF!
Name Gesamtpunkte_FK_UCC: #REF!
Name gesamtsumme: #REF!
Name GwP_FK_PDMS: '[3]FK SMD'!$Q$3
Name GwP_FK_PDMS: '[6]FK PDMS'!$Q$3
Name GwP_FK_Service: 'FK MA'!$Q$3
Name GwP_FK_Service: #REF!
Name GwP_FK_UCC: #REF!
Name keineAuswahl: Steuerung!$B$92
Name keineAuswahl: Steuerung!$B$92
Name Kundenname: [2]Deckblatt!$J$8
Name Kundenname: [2]Deckblatt!$J$8
Name Kundenname: [3]Deckblatt!$J$8
Name Kundenname: Deckblatt!$J$8
Name Kurzname: [3]Deckblatt!#REF!
Name Kurzname: Deckblatt!$J$14
Name LaufzeitAssurance: #REF!
Name LaufzeitService: [2]SLA!$I$11
Name LaufzeitService: [2]SLA!$I$11
Name LaufzeitService: [3]SLA!$I$11
Name LaufzeitService: #REF!
Name Liste_Organisationen: [1]Auswahllisten!$G$1:$G$3
Name Liste_Tools: [1]Auswahllisten!$F$2:$F$4
Name ListeJN: [2]Steuerung!$B$90:$B$91
Name ListeJN: [2]Steuerung!$B$90:$B$91

Sheet Deckblatt
A1: DB | B1: DB | G1: DB
J3: Leistungsverzeichnis E-Mail Archivierung
A5: Bieter | B5: A | C5: B | D5: C | E5: D | F5: Ebene | G5: Pos. | H5: Bearbeiter | I5: Information | J5: Antwort
A6: =Bietername -> Anbieter1 | B6: 1 | F6: 1 | G6: DB 1 | I6: Auftraggeber
A7: =Bietername -> Anbieter1 | B7: 1 | C7: 1 | F7: 2 | G7: DB 1.1 | I7: Adressdaten
A8: =Bietername -> Anbieter1 | B8: 1 | C8: 1 | D8: 1 | F8: 3 | G8: DB 1.1.1 | H8: C | I8: Auftraggeber-Name | J8: Westpfalz-Klinikum GmbH
A9: =Bietername -> Anbieter1 | B9: 1 | C9: 1 | D9: 2 | F9: 3 | G9: DB 1.1.2 | H9: C | I9: Adresse | J9: Hellmut-Hartert-Straße 1
A10: =Bietername -> Anbieter1 | B10: 1 | C10: 1 | D10: 3 | F10: 3 | G10: DB 1.1.3 | H10: C | I10: PLZ | J10: 67655
A11: =Bietername -> Anbieter1 | B11: 1 | C11: 1 | D11: 4 | F11: 3 | G11: DB 1.1.4 | H11: C | I11: Ort | J11: Kaiserslautern
A12: =Bietername -> Anbieter1 | B12: 1 | C12: 2 | F12: 2 | G12: DB 1.2 | I12: Projekt
A13: =Bietername -> Anbieter1 | B13: 1 | C13: 2 | D13: 1 | F13: 3 | G13: DB 1.2.1 | H13: C | I13: Projektname | J13: E-Mail-Archivierung_Westpfalz-Klinikum_2026_VgV
A14: =Bietername -> Anbieter1 | B14: 1 | C14: 2 | D14: 2 | F14: 3 | G14: DB 1.2.2 | H14: C | I14: Kurzname | J14: E-Mail-Archivierung_WKK
A15: =Bietername -> Anbieter1 | B15: 1 | C15: 3 | F15: 2 | G15: DB 1.3 | I15: Wettbewerb
A16: =Bietername -> Anbieter1 | B16: 1 | C16: 3 | D16: 1 | F16: 3 | G16: DB 1.3.1 | H16: C | I16: Angebotsabgabe/Teilnahmeantrag | J16: siehe Vergabeplattform
A17: =Bietername -> Anbieter1 | B17: 1 | C17: 3 | D17: 2 | F17: 3 | G17: DB 1.3.2 | H17: C | I17: Angebotsform | J17: VgV - Offenes Verfahren
A18: =Bietername -> Anbieter1 | B18: 1 | C18: 3 | D18: 3 | F18: 3 | G18: DB 1.3.3 | H18: C | I18: Abgabeform | J18: dieses Excel Dokument nebst Anlagen
A19: =Bietername -> Anbieter1 | B19: 1 | C19: 3 | D19: 4 | F19: 3 | G19: DB 1.3.4 | H19: C | I19: Abgabeort | J19: Elektronisch via Vergabeplattform
A20: =Bietername -> Anbieter1 | B20: 1 | C20: 3 | D20: 5 | F20: 3 | G20: DB 1.3.5 | H20: C | I20: Bindefrist des Angebots | J20: siehe Bekanntmachung/Vergabeportal
A21: =Bietername -> Anbieter1 | B21: 1 | C21: 3 | D21: 6 | F21: 3 | G21: DB 1.3.6 | H21: C | I21: Geplante Realisierung | J21: siehe Bekanntmachung/Vergabeportal
A22: =Bietername -> Anbieter1 | B22: 1 | C22: 3 | D22: 7 | F22: 3 | G22: DB 1.3.7 | H22: C | I22: Vertragslaufzeit Servicevertrag | J22: siehe Bekanntmachung/Vergabeportal
A23: =Bietername -> Anbieter1 | B23: 1 | C23: 4 | F23: 2 | G23: DB 1.4 | I23: Auftragsbedingungen
A24: =Bietername -> Anbieter1 | B24: 1 | C24: 4 | D24: 1 | F24: 3 | G24: DB 1.4.1 | H24: C | I24: Zuschlagskriterien | J24: Preis/Leistung gemäß UfAB
A25: =Bietername -> Anbieter1 | B25: 1 | C25: 4 | D25: 2 | F25: 3 | G25: DB 1.4.2 | H25: C | I25: Vertragssprache | J25: Deutsch
A26: =Bietername -> Anbieter1 | B26: 1 | C26: 4 | D26: 3 | F26: 3 | G26: DB 1.4.3 | H26: C | I26: Projektsprache | J26: Deutsch
A27: =Bietername -> Anbieter1 | B27: 2 | F27: 1 | G27: DB 2 | I27: Bieter
A28: =Bietername -> Anbieter1 | B28: 2 | C28: 1 | F28: 2 | G28: DB 2.1 | I28: Adressdaten
A29: =Bietername -> Anbieter1 | B29: 2 | C29: 1 | D29: 1 | F29: 3 | G29: DB 2.1.1 | H29: B | I29: Bietername | J29: Anbieter1
A30: =Bietername -> Anbieter1 | B30: 2 | C30: 1 | D30: 2 | F30: 3 | G30: DB 2.1.2 | H30: B | I30: Adresse | J30: . .
A31: =Bietername -> Anbieter1 | B31: 2 | C31: 1 | D31: 3 | F31: 3 | G31: DB 2.1.3 | H31: B | I31: PLZ | J31: . .
A32: =Bietername -> Anbieter1 | B32: 2 | C32: 1 | D32: 4 | F32: 3 | G32: DB 2.1.4 | H32: B | I32: Ort | J32: . .
A33: =Bietername -> Anbieter1 | B33: 2 | C33: 1 | D33: 5 | F33: 3 | G33: DB 2.1.5 | H33: B | I33: Angebotsnummer | J33: . .
A34: =Bietername -> Anbieter1 | B34: 2 | C34: 2 | F34: 2 | G34: DB 2.2 | I34: Ansprechpartner technisch
A35: =Bietername -> Anbieter1 | B35: 2 | C35: 2 | D35: 1 | F35: 3 | G35: DB 2.2.1 | H35: B | I35: Name | J35: . .
A36: =Bietername -> Anbieter1 | B36: 2 | C36: 2 | D36: 2 | F36: 3 | G36: DB 2.2.2 | H36: B | I36: Vorname | J36: . .
A37: =Bietername -> Anbieter1 | B37: 2 | C37: 2 | D37: 3 | F37: 3 | G37: DB 2.2.3 | H37: B | I37: Anrede | J37: . .
A38: =Bietername -> Anbieter1 | B38: 2 | C38: 2 | D38: 4 | F38: 3 | G38: DB 2.2.4 | H38: B | I38: Telefon | J38: . .
A39: =Bietername -> Anbieter1 | B39: 2 | C39: 2 | D39: 5 | F39: 3 | G39: DB 2.2.5 | H39: B | I39: E-Mail | J39: . .
A40: =Bietername -> Anbieter1 | B40: 2 | C40: 3 | F40: 2 | G40: DB 2.3 | I40: Ansprechpartner kaufmännisch
A41: =Bietername -> Anbieter1 | B41: 2 | C41: 3 | D41: 1 | F41: 3 | G41: DB 2.3.1 | H41: B | I41: Name | J41: . .
A42: =Bietername -> Anbieter1 | B42: 2 | C42: 3 | D42: 2 | F42: 3 | G42: DB 2.3.2 | H42: B | I42: Vorname | J42: . .
...

Sheet Hinweise
A1: HW | B1: HW | G1: HW
A5: Bieter | B5: A | C5: B | D5: C | E5: D | F5: Ebene | G5: Pos. | I5: Information
A6: =Bietername -> Anbieter1 | B6: 1 | C6: 0 | D6: 0 | E6: 0 | F6: 1 | G6: HW 1 | I6: Dieses Dokument
A7: =Bietername -> Anbieter1 | B7: 1 | C7: 0 | D7: 1 | E7: 0 | F7: 3 | G7: HW 1..1 | I7: Diese Excel-Datei besteht aus folgenden Arbeitsblättern
A8: =Bietername -> Anbieter1 | B8: 1 | C8: 0 | D8: 2 | E8: 0 | F8: 3 | G8: HW 1..2 | I8: Deckblatt*
A9: =Bietername -> Anbieter1 | B9: 1 | C9: 0 | D9: 3 | E9: 0 | F9: 3 | G9: HW 1..3 | I9: Hinweise
A10: =Bietername -> Anbieter1 | B10: 1 | C10: 0 | D10: 4 | E10: 0 | F10: 3 | G10: HW 1..4 | I10: Teilnahmebedingungen*
A11: =Bietername -> Anbieter1 | B11: 1 | C11: 0 | D11: 5 | E11: 0 | F11: 3 | G11: HW 1..5 | I11: FK MA*
A12: =Bietername -> Anbieter1 | B12: 1 | C12: 0 | D12: 6 | E12: 0 | F12: 3 | G12: HW 1..6 | I12: Mengenverteilung
A13: =Bietername -> Anbieter1 | B13: 1 | C13: 0 | D13: 7 | E13: 0 | F13: 3 | G13: HW 1..7 | I13: LV MA*
A14: =Bietername -> Anbieter1 | B14: 1 | C14: 0 | D14: 8 | E14: 0 | F14: 3 | G14: HW 1..8 | I14: Summenblatt
A15: =Bietername -> Anbieter1 | B15: 1 | C15: 0 | D15: 9 | E15: 0 | F15: 3 | G15: HW 1..9 | I15: Verweisblatt LV*
A16: =Bietername -> Anbieter1 | B16: 1 | C16: 0 | D16: 10 | E16: 0 | F16: 3 | G16: HW 1..10 | I16: 1. Wertungsstufe
A17: =Bietername -> Anbieter1 | B17: 1 | C17: 0 | D17: 11 | E17: 0 | F17: 3 | G17: HW 1..11 | I17: 2. Wertungsstufe
A18: =Bietername -> Anbieter1 | B18: 1 | C18: 0 | D18: 12 | E18: 0 | F18: 3 | G18: HW 1..12 | I18: 3. Wertungsstufe
A19: =Bietername -> Anbieter1 | B19: 1 | C19: 0 | D19: 13 | E19: 0 | F19: 3 | G19: HW 1..13 | I19: 4. Wertungsstufe Matrix
A20: =Bietername -> Anbieter1 | B20: 1 | C20: 0 | D20: 14 | E20: 0 | F20: 3 | G20: HW 1..14 | I20: 4. Wertungsstufe Ergebnis
A21: =Bietername -> Anbieter1 | B21: 1 | C21: 0 | D21: 15 | E21: 0 | F21: 3 | G21: HW 1..15 | I21: mit * gekennzeichnete Arbeitsblätter müssen vom Bieter bearbeitet werden
A22: =Bietername -> Anbieter1 | B22: 1 | C22: 0 | D22: 16 | E22: 0 | F22: 3 | G22: HW 1..16 | I22: Alle vom Bieter auszufüllenden bzw. vom Bieter ausfüllbaren Felder sind gelb markiert
A23: =Bietername -> Anbieter1 | B23: 2 | C23: 0 | D23: 0 | E23: 0 | F23: 1 | G23: HW 2 | I23: Arbeitsblatt Leistungsverzeichnis "LV"
A24: =Bietername -> Anbieter1 | B24: 2 | C24: 0 | D24: 1 | E24: 0 | F24: 3 | G24: HW 2..1 | I24: Im Blatt LV sind die geforderten Positionen detailliert beschrieben. Über den Filter in Feld
A25: =Bietername -> Anbieter1 | B25: 2 | C25: 0 | D25: 2 | E25: 0 | F25: 3 | G25: HW 2..2 | I25: F4 kann ausgewählt werden, ob das gesamte LV mit allen
A26: =Bietername -> Anbieter1 | B26: 2 | C26: 0 | D26: 3 | E26: 0 | F26: 3 | G26: HW 2..3 | I26: Untertexten angezeigt werden soll, oder nur die Überschriften
A27: =Bietername -> Anbieter1 | B27: 2 | C27: 0 | D27: 4 | E27: 0 | F27: 3 | G27: HW 2..4 | I27: der einzelnen Positionen angezeigt werden sollen. In diesem
A28: =Bietername -> Anbieter1 | B28: 2 | C28: 0 | D28: 5 | E28: 0 | F28: 3 | G28: HW 2..5 | I28: Fall muss im Felder der Haken bei Ebene 4 entfernt werden.
A29: =Bietername -> Anbieter1 | B29: 3 | C29: 0 | D29: 0 | E29: 0 | F29: 1 | G29: HW 3 | I29: Verweisblatt
A30: =Bietername -> Anbieter1 | B30: 3 | C30: 0 | D30: 1 | E30: 0 | F30: 3 | G30: HW 3..1 | I30: Anmerkungen, Einschränkungen und Kommentare zu einzelnen Feldern sind bitte im Blatt "Verweisblatt" festzuhalten und auf die jeweilige Position dieses Dokuments zu verweisen.
A31: =Bietername -> Anbieter1 | B31: 4 | C31: 0 | D31: 0 | E31: 0 | F31: 1 | G31: HW 4 | I31: Bewertung der Angebote
A32: =Bietername -> Anbieter1 | B32: 4 | C32: 0 | D32: 1 | E32: 0 | F32: 3 | G32: HW 4..1 | I32: Die Bewertung erfolgt auf Basis des Preises und der Leistung.
A33: =Bietername -> Anbieter1 | B33: 5 | C33: 0 | D33: 0 | E33: 0 | F33: 1 | G33: HW 5 | I33: Auslieferung der Endgeräte
A34: =Bietername -> Anbieter1 | B34: 5 | C34: 0 | D34: 1 | E34: 0 | F34: 3 | G34: HW 5..1 | I34: Die Visitenwägen und die dazugehörigen Komponenten können nach Beauftragung Komplett oder auf Abruf in Teilmengen über einen Zeitraum von drei Jahren geliefert werden.
A35: =Bietername -> Anbieter1 | B35: 6 | C35: 0 | D35: 0 | E35: 0 | F35: 1 | G35: HW 6 | I35: Bürgschaft
A36: =Bietername -> Anbieter1 | B36: 6 | C36: 0 | D36: 1 | E36: 0 | F36: 3 | G36: HW 6..1 | I36: Bei Lieferung auf Abruf muss eine Vorauszahlungsbürgschaft vorgelegt werden, da die Abrechnung der Gesamtsumme bis zum Ende des Jahres erfolgt sein muss.

Sheet Teilnahmebedingungen
A1: TB | C1: Rel2 | G1: TB
H3: ACHTUNG! Sie haben ein A - Kriterium mit "Nein" beantwortet. | L3: Gesamtsumme: | M3: =M6 -> 0 | N3: =M3/$M$3 -> #DIV/0! | Q3: =Q6 -> 0 | S3: =M3*Punkte2 -> 0 | T3: Kontrollsumme
H4: Dies führt automatisch zum Ausschluss aus dem Wettbewerb! | J4: Zielerfüllung | O4: =Bietername -> Anbieter1
A5: Bieter | B5: A | C5: B | D5: C | E5: D | F5: Ebene | G5: Pos. | H5: Eignungs-Kriterien | I5: Pos. Art | M5: Gewichtung | N5: % Antei | O5: Antwort | P5: Verweis
A6: =Bietername -> Anbieter1 | B6: 1 | F6: 1 | G6: TB 1 | H6: Eignungs-Kriterien | I6: -- | M6: =M7+M10+M33+M36+M39+M42+M47+M54+M59 -> 0 | O6: Auswahl Spalte | Q6: =Q7+Q10+Q33+Q36+Q39+Q42+Q47+Q54+Q59 -> 0
A7: =Bietername -> Anbieter1 | B7: 1 | C7: 1 | F7: 2 | G7: TB 1.1 | H7: Berufs- oder Handelsregistereintrag | I7: -- | M7: =M8 -> 0 | Q7: =Q8 -> 0
A8: =Bietername -> Anbieter1 | B8: 1 | C8: 1 | D8: 1 | F8: 3 | G8: TB 1.1.1 | H8: Befähigung zur Berufsausübung einschließlich Auflagen hinsichtlich der Eintragung in einem Berufs- oder Handelsregister | I8: -- | M8: =SUM(M9:M9) -> 0 | O8: hier Auswahl_x000D_ Dropdown-Menü | Q8: =SUM(Q9:Q9) -> 0
A9: =Bietername -> Anbieter1 | B9: 1 | C9: 1 | D9: 1 | E9: 1 | F9: 4 | G9: TB 1.1.1.1 | H9: Nachweis über die erlaubte Berufsausübung, je nach Maßgabe der Rechtsvorschriften des Landes, indem das Unternehmen ansässig ist - entweder über die Eintragung in das Berufs- oder Handelsregister dieses Staates (in nicht beglaubigter Kopie) oder durch Nachweis auf andere Weise. Den Nachweise als Anlage beifügen und im Verweisfeld die dazugehörige Anlagen-Nr. eintragen. | I9: A | J9: Nein | L9: Ja
A10: =Bietername -> Anbieter1 | B10: 1 | C10: 2 | F10: 2 | G10: TB 1.2 | H10: Angabe, dass nachweislich keine Verfehlung begangen wurde, die die Zuverlässigkeit als Bewerber in Frage stellt. Bitte beantworten Sie die Fragen in der Spalte "O". | I10: -- | M10: =M11+M21 -> 0 | Q10: =Q11+Q21 -> 0
A11: =Bietername -> Anbieter1 | B11: 1 | C11: 2 | D11: 1 | F11: 3 | G11: TB 1.2.1 | H11: Zwingende Ausschlussgründe, § 123 GWB. Der Bewerber erklärt, dass keine Person, deren Verhalten dem Unternehmen zuzurechnen ist, rechtskräftig verurteilt oder gegen das Unternehmen eine Geldbuße nach § 30 OWiG festgesetzt worden ist wegen einer Straftat nach: | I11: -- | M11: =SUM(M12:M20) -> 0 | O11: hier Auswahl_x000D_ Dropdown-Menü | Q11: =SUM(Q12:Q20) -> 0
A12: =Bietername -> Anbieter1 | B12: 1 | C12: 2 | D12: 1 | E12: 1 | F12: 4 | G12: TB 1.2.1.1 | H12: § 129 des Strafgesetzbuchs (Bildung krimineller Vereinigungen), § 129a des Strafgesetzbuchs (Bildung terroristischer Vereinigungen) oder § 129b des Strafgesetzbuchs (Kriminelle und terroristische Vereinigungen im Ausland) | I12: A | J12: Nein | L12: Ja
A13: =Bietername -> Anbieter1 | B13: 1 | C13: 2 | D13: 1 | E13: 2 | F13: 4 | G13: TB 1.2.1.2 | H13: § 89c des Strafgesetzbuchs (Terrorismusfinanzierung) oder wegen der Teilnahme an einer solchen Tat oder wegen der Bereitstellung oder Sammlung finanzieller Mittel in Kenntnis dessen, dass diese finanziellen Mittel ganz oder teilweise dazu verwendet werden oder verwendet werden sollen, eine Tat nach § 89a Absatz 2 Nummer 2 des Strafgesetzbuchs zu begehen | I13: A | J13: Nein | L13: Ja
A14: =Bietername -> Anbieter1 | B14: 1 | C14: 2 | D14: 1 | E14: 3 | F14: 4 | G14: TB 1.2.1.3 | H14: § 261 des Strafgesetzbuchs (Geldwäsche; Verschleierung unrechtmäßig erlangter Vermögenswerte) | I14: A | J14: Nein | L14: Ja
A15: =Bietername -> Anbieter1 | B15: 1 | C15: 2 | D15: 1 | E15: 4 | F15: 4 | G15: TB 1.2.1.4 | H15: § 263 des Strafgesetzbuchs (Betrug), soweit sich die Straftat gegen den Haushalt der Europäischen Union oder gegen Haushalte richtet, die von der Europäischen Union oder in ihrem Auftrag verwaltet werden | I15: A | J15: Nein | L15: Ja
A16: =Bietername -> Anbieter1 | B16: 1 | C16: 2 | D16: 1 | E16: 5 | F16: 4 | G16: TB 1.2.1.5 | H16: § 264 des Strafgesetzbuchs (Subventionsbetrug), soweit sich die Straftat gegen den Haushalt der Europäischen Union oder gegen Haushalte richtet, die von der Europäischen Union oder in ihrem Auftrag verwaltet werden | I16: A | J16: Nein | L16: Ja
A17: =Bietername -> Anbieter1 | B17: 1 | C17: 2 | D17: 1 | E17: 6 | F17: 4 | G17: TB 1.2.1.6 | H17: § 299 des Strafgesetzbuchs (Bestechlichkeit und Bestechung im geschäftlichen Verkehr) | I17: A | J17: Nein | L17: Ja
A18: =Bietername -> Anbieter1 | B18: 1 | C18: 2 | D18: 1 | E18: 7 | F18: 4 | G18: TB 1.2.1.7 | H18: § 108e des Strafgesetzbuchs (Bestechlichkeit und Bestechung von Mandatsträgern) | I18: A | J18: Nein | L18: Ja
A19: =Bietername -> Anbieter1 | B19: 1 | C19: 2 | D19: 1 | E19: 8 | F19: 4 | G19: TB 1.2.1.8 | H19: den §§ 333 und 334 des Strafgesetzbuchs (Vorteilsgewährung und Bestechung), jeweils auch in Verbindung mit § 335a des Strafgesetzbuchs (Ausländische und internationale Bedienstete) | I19: A | J19: Nein | L19: Ja
A20: =Bietername -> Anbieter1 | B20: 1 | C20: 2 | D20: 1 | E20: 9 | F20: 4 | G20: TB 1.2.1.9 | H20: Artikel 2 § 2 des Gesetzes zur Bekämpfung internationaler Bestechung (Bestechung ausländischer Abgeordneter im Zusammenhang mit internationalem Geschäftsverkehr) oder den §§ 232 und 233 des Strafgesetzbuchs (Menschenhandel) oder § 233a des Strafgesetzbuchs (Förderung des Menschenhandels) | I20: A | J20: Nein | L20: Ja
A21: =Bietername -> Anbieter1 | B21: 1 | C21: 2 | D21: 2 | F21: 3 | G21: TB 1.2.2 | H21: Fakultative Ausschlussgründe, § 124 GWB. Der Bewerber hat durch Eigenerklärung zu belegen, dass: | I21: -- | M21: =SUM(M22:M32) -> 0 | O21: hier Auswahl_x000D_ Dropdown-Menü | Q21: =SUM(Q22:Q32) -> 0
A22: =Bietername -> Anbieter1 | B22: 1 | C22: 2 | D22: 2 | E22: 1 | F22: 4 | G22: TB 1.2.2.1 | H22: das Unternehmen bei der Ausführung öffentlicher Aufträge nicht gegen geltende umwelt-, sozial- oder arbeitsrechtliche Verpflichtungen verstoßen hat/habe | I22: A | J22: Nein | L22: Ja
A23: =Bietername -> Anbieter1 | B23: 1 | C23: 2 | D23: 2 | E23: 2 | F23: 4 | G23: TB 1.2.2.2 | H23: das Unternehmen nicht zahlungsunfähig ist, über das Vermögen des Unternehmens kein Insolvenzverfahren oder ein vergleichbares Verfahren beantragt oder eröffnet worden ist, die Eröffnung eines solchen Verfahrens mangels Masse abgelehnt worden ist, sich das Unternehmen nicht im Verfahren der Liquidation befindet oder seine Tätigkeit eingestellt hat | I23: A | J23: Nein | L23: Ja
A24: =Bietername -> Anbieter1 | B24: 1 | C24: 2 | D24: 2 | E24: 3 | F24: 4 | G24: TB 1.2.2.3 | H24: das Unternehmen im Rahmen der beruflichen Tätigkeit keine schwere Verfehlung begangen hat, durch die die Integrität des Unternehmens infrage gestellt wird | I24: A | J24: Nein | L24: Ja
A25: =Bietername -> Anbieter1 | B25: 1 | C25: 2 | D25: 2 | E25: 4 | F25: 4 | G25: TB 1.2.2.4 | H25: das Unternehmen keine Vereinbarungen mit anderen Unternehmen getroffen hat, die eine Verhinderung, Einschränkung oder Verfälschung des Wettbewerbs bezwecken oder bewirken | I25: A | J25: Nein | L25: Ja
A26: =Bietername -> Anbieter1 | B26: 1 | C26: 2 | D26: 2 | E26: 5 | F26: 4 | G26: TB 1.2.2.5 | H26: kein Interessenkonflikt bei der Durchführung des Vergabeverfahrens besteht, der die Unparteilichkeit und Unabhängigkeit einer für den öffentlichen Auftraggeber tätigen Person bei der Durchführung des Vergabeverfahrens beeinträchtigen könnte und der durch andere, weniger einschneidende Maßnahmen nicht wirksam beseitigt werden kann | I26: A | J26: Nein | L26: Ja
A27: =Bietername -> Anbieter1 | B27: 1 | C27: 2 | D27: 2 | E27: 6 | F27: 4 | G27: TB 1.2.2.6 | H27: keine Wettbewerbsverzerrung daraus resultiert, dass das Unternehmen bereits in die Vorbereitung des Vergabeverfahrens einbezogen war, und diese Wettbewerbsverzerrung nicht durch andere, weniger einschneidende Maßnahmen beseitigt werden kann | I27: A | J27: Nein | L27: Ja
A28: =Bietername -> Anbieter1 | B28: 1 | C28: 2 | D28: 2 | E28: 7 | F28: 4 | G28: TB 1.2.2.7 | H28: das Unternehmen keine wesentliche Anforderung bei der Ausführung eines früheren öffentlichen Auftrags oder Konzessionsvertrags erheblich oder fortdauernd mangelhaft erfüllt hat und dies zu einer vorzeitigen Beendigung, zu Schadensersatz oder zu einer vergleichbaren Rechtsfolge geführt hat | I28: A | J28: Nein | L28: Ja
A29: =Bietername -> Anbieter1 | B29: 1 | C29: 2 | D29: 2 | E29: 8 | F29: 4 | G29: TB 1.2.2.8 | H29: das Unternehmen in Bezug auf Ausschlussgründe oder Eignungskriterien keine schwerwiegende Täuschung begangen oder Auskünfte zurückgehalten hat oder nicht in der Lage ist, die erforderlichen Nachweise zu übermitteln | I29: A | J29: Nein | L29: Ja
A30: =Bietername -> Anbieter1 | B30: 1 | C30: 2 | D30: 2 | E30: 9 | F30: 4 | G30: TB 1.2.2.9 | H30: das Unternehmen nicht versucht hat, die Entscheidungsfindung des öffentlichen Auftraggebers in unzulässiger Weise zu beeinflussen | I30: A | J30: Nein | L30: Ja
A31: =Bietername -> Anbieter1 | B31: 1 | C31: 2 | D31: 2 | E31: 10 | F31: 4 | G31: TB 1.2.2.10 | H31: das Unternehmen nicht versucht hat, vertrauliche Informationen zu erhalten, durch die es unzulässige Vorteile beim Vergabeverfahren erlangen könnte | I31: A | J31: Nein | L31: Ja
A32: =Bietername -> Anbieter1 | B32: 1 | C32: 2 | D32: 2 | E32: 11 | F32: 4 | G32: TB 1.2.2.11 | H32: das Unternehmen weder fahrlässig noch vorsätzlich irreführende Informationen übermittelt hat, die die Vergabeentscheidung des öffentlichen Auftraggebers erheblich beeinflussen könnten, oder versucht hat, solche Informationen zu übermitteln | I32: A | J32: Nein | L32: Ja
A33: =Bietername -> Anbieter1 | B33: 1 | C33: 3 | F33: 2 | G33: TB 1.3 | H33: Datenschutzrechtliche Anforderungen Bitte beantworten Sie die Fragen in der Spalte "O". | I33: -- | M33: =M34 -> 0 | Q33: =Q34 -> 0
A34: =Bietername -> Anbieter1 | B34: 1 | C34: 3 | D34: 1 | F34: 3 | G34: TB 1.3.1 | H34: Eigenerklärung zur Einhaltung der datenschutzrechtlichen Anforderungen der Ausschreibung | I34: -- | M34: =SUM(M35:M35) -> 0 | O34: hier Auswahl_x000D_ Dropdown-Menü | Q34: =SUM(Q35:Q35) -> 0
A35: =Bietername -> Anbieter1 | B35: 1 | C35: 3 | D35: 1 | E35: 1 | F35: 4 | G35: TB 1.3.1.1 | H35: Das System erfüllt alle Anforderungen der jeweils gültigen Gesetzgebung zum Schutz personenbezogener Daten gemäß EU-Datenschutzgrundverordnung (DSGVO), Bundesdatenschutzgesetz (BDSG), Landesdatenschutzgesetz (LDSG) und Patientendaten-Schutz-Gesetz (PDSG). | I35: A | J35: Nein | L35: Ja
A36: =Bietername -> Anbieter1 | B36: 1 | C36: 4 | F36: 2 | G36: TB 1.4 | H36: Kein Ausschlussgrund nach § 23 AEntG, § 21 MiLoG, § 98c Abs. 1 AufenthG, § 22 LkSG oder § 21 SchwArbG Bitte beantworten Sie die Fragen in der Spalte "O". | I36: -- | M36: =M37 -> 0 | Q36: =Q37 -> 0
A37: =Bietername -> Anbieter1 | B37: 1 | C37: 4 | D37: 1 | F37: 3 | G37: TB 1.4.1 | H37: Der Bewerber hat durch Eigenerklärung zu belegen, dass: | I37: -- | M37: =SUM(M38:M38) -> 0 | O37: hier Auswahl_x000D_ Dropdown-Menü | Q37: =SUM(Q38:Q38) -> 0
A38: =Bietername -> Anbieter1 | B38: 1 | C38: 4 | D38: 1 | E38: 1 | F38: 4 | G38: TB 1.4.1.1 | H38: Das Unternehmen des Bewerbers nicht wegen eines Verstoßes nach § 23 AEntG und nach § 21 MiLoG mit einer Geldbuße von wenigstens EUR 2.500 oder wegen eines Verstoßes gemäß § 22 LkSG mit einer Geldbuße von wenigstens einhundertfünfundsiebzigtausend EUR belegt worden ist und keine aktueller Verstoß und kein anstehender Bußgeldbescheid gegen das Unternehmen des Bieters beziehungsweise die verantwortlich handelnde(n) Person(en) nach § 98c Abs. 1 AufenthG oder nach § 21 SchwArbG bekannt ist. | I38: A | J38: Nein | L38: Ja
A39: =Bietername -> Anbieter1 | B39: 1 | C39: 5 | F39: 2 | G39: TB 1.5 | H39: Steuern, Abgaben oder Beiträge zur Sozialversicherung. Bitte beantworten Sie die Fragen in der Spalte "O". | I39: -- | M39: =M40 -> 0 | Q39: =Q40 -> 0
A40: =Bietername -> Anbieter1 | B40: 1 | C40: 5 | D40: 1 | F40: 3 | G40: TB 1.5.1 | H40: Der Bewerber hat durch Eigenerklärung zu belegen, dass: | I40: -- | M40: =SUM(M41:M41) -> 0 | O40: hier Auswahl_x000D_ Dropdown-Menü | Q40: =SUM(Q41:Q41) -> 0
A41: =Bietername -> Anbieter1 | B41: 1 | C41: 5 | D41: 1 | E41: 1 | F41: 4 | G41: TB 1.5.1.1 | H41: Er seine Verpflichtung zur Zahlung der Steuern, Abgaben oder Beiträgen zur Sozialversicherung und – soweit erforderlich – Berufsverbänden und/ oder Berufsgenossenschaften nachgekommen ist. | I41: A | J41: Nein | L41: Ja
...

Sheet FK MA
A1: FK | B1: FK_Service | C1: Rel2 | G1: FK_MA
H3: ACHTUNG! Sie haben ein A-Kriterium mit "Nein" beantwortet. | L3: Gesamtsumme: | M3: =M6 -> 885 | N3: =M3/$M$3 -> 1 | Q3: =Q6 -> 0 | S3: =M3*Punkte2 -> 3540 | T3: Kontrollsumme
H4: Dies führt automatisch zum Ausschluss aus dem Wettbewerb! | L4: Zielerfüllung | O4: =Bietername -> Anbieter1
A5: Bieter | B5: A | C5: B | D5: C | E5: D | F5: Ebene | G5: Pos. | H5: Text | I5: Pos. Art | J5: =CONCATENATE(Punkte0," Punkte") -> 0 Punkte | K5: =CONCATENATE(Punkte1," Punkte") -> 2 Punkte | L5: =CONCATENATE(Punkte2," Punkte") -> 4 Punkte | M5: Gewichtung | N5: % Anteil Gesamt | O5: Antwort | P5: Verweis | Q5: Punkte
A6: =Bietername -> Anbieter1 | B6: 1 | C6: 0 | D6: 0 | E6: 0 | F6: 1 | G6: FK_MA 1 | H6: E-Mail-Archivierungslösung | I6: -- | M6: =M7 -> 885 | N6: 1 | Q6: =Q7 -> 0
A7: =Bietername -> Anbieter1 | B7: 1 | C7: 1 | D7: 0 | E7: 0 | F7: 2 | G7: FK_MA 1.1 | H7: Allgemeine Anforderungen | I7: -- | M7: =M8+M36 -> 885 | N7: 0.35483871 | Q7: =Q8+Q36 -> 0
A8: =Bietername -> Anbieter1 | B8: 1 | C8: 1 | D8: 1 | E8: 0 | F8: 3 | G8: FK_MA 1.1.1 | H8: Ausschlusskriterien | I8: -- | M8: =SUM(M9:M35) -> 0 | N8: 0.35483871 | O8: hier Auswahl_x000D_ Dropdown-Menü | Q8: =SUM(Q9:Q35) -> 0
A9: =Bietername -> Anbieter1 | B9: 1 | C9: 1 | D9: 1 | E9: 1 | F9: 4 | G9: FK_MA 1.1.1.1 | H9: Die Lösung ist mit dem bestehenden Exchange Server kompatibel | I9: A | J9: Nein | L9: Ja
A10: =Bietername -> Anbieter1 | B10: 1 | C10: 1 | D10: 1 | E10: 2 | F10: 4 | G10: FK_MA 1.1.1.2 | H10: Die Lösung ist mit dem bestehenden Sophos Mailgateway kompatibel | I10: A | J10: Nein | L10: Ja
A11: =Bietername -> Anbieter1 | B11: 1 | C11: 1 | D11: 1 | E11: 3 | F11: 4 | G11: FK_MA 1.1.1.3 | H11: Die gestellten Anforderungen an den Hersteller-Support können vollumfänglich abgedeckt werden | I11: A | J11: Nein | L11: Ja
A12: =Bietername -> Anbieter1 | B12: 1 | C12: 1 | D12: 1 | E12: 4 | F12: 4 | G12: FK_MA 1.1.1.4 | H12: Die automatische Archivierung ein- und ausgehender E-Mails wird unterstützt. | I12: A | J12: Nein | L12: Ja
A13: =Bietername -> Anbieter1 | B13: 1 | C13: 1 | D13: 1 | E13: 5 | F13: 4 | G13: FK_MA 1.1.1.5 | H13: Die Archivierung kann journalbasiert oder durch ein technisch gleichwertiges Verfahren erfolgen. | I13: A | J13: Nein | L13: Ja
A14: =Bietername -> Anbieter1 | B14: 1 | C14: 1 | D14: 1 | E14: 6 | F14: 4 | G14: FK_MA 1.1.1.6 | H14: E-Mails werden einschließlich aller Anhänge und Metadaten archiviert. | I14: A | J14: Nein | L14: Ja
A15: =Bietername -> Anbieter1 | B15: 1 | C15: 1 | D15: 1 | E15: 7 | F15: 4 | G15: FK_MA 1.1.1.7 | H15: Die Archivierung erfolgt manipulationssicher und revisionssicher. | I15: A | J15: Nein | L15: Ja
A16: =Bietername -> Anbieter1 | B16: 1 | C16: 1 | D16: 1 | E16: 8 | F16: 4 | G16: FK_MA 1.1.1.8 | H16: Aufbewahrungsfristen können für Benutzer, Gruppen oder Postfächer definiert werden. | I16: A | J16: Nein | L16: Ja
A17: =Bietername -> Anbieter1 | B17: 1 | C17: 1 | D17: 1 | E17: 9 | F17: 4 | G17: FK_MA 1.1.1.9 | H17: Löschfristen können automatisiert umgesetzt werden. | I17: A | J17: Nein | L17: Ja
A18: =Bietername -> Anbieter1 | B18: 1 | C18: 1 | D18: 1 | E18: 10 | F18: 4 | G18: FK_MA 1.1.1.10 | H18: Legal Hold bzw. eine vergleichbare Sperrfunktion wird unterstützt. | I18: A | J18: Nein | L18: Ja
A19: =Bietername -> Anbieter1 | B19: 1 | C19: 1 | D19: 1 | E19: 11 | F19: 4 | G19: FK_MA 1.1.1.11 | H19: Eine Volltextsuche über E-Mails und Anhänge steht zur Verfügung. | I19: A | J19: Nein | L19: Ja
A20: =Bietername -> Anbieter1 | B20: 1 | C20: 1 | D20: 1 | E20: 12 | F20: 4 | G20: FK_MA 1.1.1.12 | H20: Einzelne archivierte E-Mails können wiederhergestellt werden. | I20: A | J20: Nein | L20: Ja
... A35: =Bietername -> Anbieter1 | B35: 1 | C35: 1 | D35: 1 | E35: 27 | F35: 4 | G35: FK_MA 1.1.1.27 | H35: Nach Vertragsende werden alle beim Auftragnehmer verbliebenen Daten nachweislich und dokumentiert gelöscht. | I35: A | J35: Nein | L35: Ja
A36: =Bietername -> Anbieter1 | B36: 1 | C36: 1 | D36: 2 | E36: 0 | F36: 3 | G36: FK_MA 1.1.2 | H36: Bewertungskriterien | I36: -- | M36: =SUM(M37:M100) -> 885 | N36: 0.35483871 | O36: hier Auswahl_x000D_ Dropdown-Menü | Q36: =SUM(Q37:Q100) -> 0
A37: =Bietername -> Anbieter1 | B37: 1 | C37: 1 | D37: 2 | E37: 1 | F37: 4 | G37: FK_MA 1.1.2.1 | H37: Stehen offene APIs für Drittsysteme zur Verfügung? | I37: Ja/Nein | J37: Nein | L37: Ja | M37: 10 | Q37: =IF(O37=$J37,Punkte0,IF(O37=$L37,Punkte2,0))*$M37 -> 0
A38: =Bietername -> Anbieter1 | B38: 1 | C38: 1 | D38: 2 | E38: 2 | F38: 4 | G38: FK_MA 1.1.2.2 | H38: Ist eine Integration in Monitoring- oder SIEM-Systeme möglich? | I38: Ja/Nein | J38: Nein | L38: Ja | M38: 10 | Q38: =IF(O38=$J38,Punkte0,IF(O38=$L38,Punkte2,0))*$M38 -> 0
A39: =Bietername -> Anbieter1 | B39: 1 | C39: 1 | D39: 2 | E39: 3 | F39: 4 | G39: FK_MA 1.1.2.3 | H39: Können Aufbewahrungsrichtlinien automatisiert aus Gruppen oder Rollen übernommen werden? | I39: Ja/Nein | J39: Nein | L39: Ja | M39: 15 | Q39: =IF(O39=$J39,Punkte0,IF(O39=$L39,Punkte2,0))*$M39 -> 0
A40: =Bietername -> Anbieter1 | B40: 1 | C40: 1 | D40: 2 | E40: 4 | F40: 4 | G40: FK_MA 1.1.2.4 | H40: Können Archivierungsrichtlinien zentral verwaltet werden? | I40: Ja/Nein | J40: Nein | L40: Ja | M40: 15 | Q40: =IF(O40=$J40,Punkte0,IF(O40=$L40,Punkte2,0))*$M40 -> 0
A41: =Bietername -> Anbieter1 | B41: 1 | C41: 1 | D41: 2 | E41: 5 | F41: 4 | G41: FK_MA 1.1.2.5 | H41: Ist die Lösung mandantenfähig? | I41: Ja/Nein | J41: Nein | L41: Ja | M41: 5 | Q41: =IF(O41=$J41,Punkte0,IF(O41=$L41,Punkte2,0))*$M41 -> 0
A42: =Bietername -> Anbieter1 | B42: 1 | C42: 1 | D42: 2 | E42: 6 | F42: 4 | G42: FK_MA 1.1.2.6 | H42: Können berechtigte Benutzer selbst auf ihre Archivdaten zugreifen? | I42: Ja/Nein | J42: Nein | L42: Ja | M42: 15 | Q42: =IF(O42=$J42,Punkte0,IF(O42=$L42,Punkte2,0))*$M42 -> 0
A43: =Bietername -> Anbieter1 | B43: 1 | C43: 1 | D43: 2 | E43: 7 | F43: 4 | G43: FK_MA 1.1.2.7 | H43: Können ganze Postfächer wiederhergestellt werden? | I43: Ja/Nein | J43: Nein | L43: Ja | M43: 20 | Q43: =IF(O43=$J43,Punkte0,IF(O43=$L43,Punkte2,0))*$M43 -> 0
A44: =Bietername -> Anbieter1 | B44: 1 | C44: 1 | D44: 2 | E44: 8 | F44: 4 | G44: FK_MA 1.1.2.8 | H44: Können Suchabfragen gespeichert werden? | I44: Ja/Nein | J44: Nein | L44: Ja | M44: 5 | Q44: =IF(O44=$J44,Punkte0,IF(O44=$L44,Punkte2,0))*$M44 -> 0
A45: =Bietername -> Anbieter1 | B45: 1 | C45: 1 | D45: 2 | E45: 9 | F45: 4 | G45: FK_MA 1.1.2.9 | H45: Werden Suchoperatoren (AND, OR, NOT usw.) unterstützt? | I45: Ja/Nein | J45: Nein | L45: Ja | M45: 10 | Q45: =IF(O45=$J45,Punkte0,IF(O45=$L45,Punkte2,0))*$M45 -> 0
A46: =Bietername -> Anbieter1 | B46: 1 | C46: 1 | D46: 2 | E46: 10 | F46: 4 | G46: FK_MA 1.1.2.10 | H46: Können Suchergebnisse gefiltert werden? | I46: Ja/Nein | J46: Nein | L46: Ja | M46: 10 | Q46: =IF(O46=$J46,Punkte0,IF(O46=$L46,Punkte2,0))*$M46 -> 0
A47: =Bietername -> Anbieter1 | B47: 1 | C47: 1 | D47: 2 | E47: 11 | F47: 4 | G47: FK_MA 1.1.2.11 | H47: Ist der Zugriff über Outlook möglich? | I47: Ja/Nein | J47: Nein | L47: Ja | M47: 20 | Q47: =IF(O47=$J47,Punkte0,IF(O47=$L47,Punkte2,0))*$M47 -> 0
A48: =Bietername -> Anbieter1 | B48: 1 | C48: 1 | D48: 2 | E48: 12 | F48: 4 | G48: FK_MA 1.1.2.12 | H48: Ist ein Webclient verfügbar? | I48: Ja/Nein | J48: Nein | L48: Ja | M48: 15 | Q48: =IF(O48=$J48,Punkte0,IF(O48=$L48,Punkte2,0))*$M48 -> 0
... A100: =Bietername -> Anbieter1 | B100: 1 | C100: 1 | D100: 2 | E100: 64 | F100: 4 | G100: FK_MA 1.1.2.64 | H100: Wird ein Rechenzentrumsstandort in Deutschland angeboten? | I100: Ja/Nein | J100: Nein | L100: Ja | M100: 15 | Q100: =IF(O100=$J100,Punkte0,IF(O100=$L100,Punkte2,0))*$M100 -> 0

Sheet Mengenverteilung
C1: =Kundenname -> Westpfalz-Klinikum GmbH | F1: Standort | G1: =VLOOKUP(G2,ListeStandorte,2,FALSE) -> Westpfalz-Klinikum GmbH
A2: Ebene | B2: Pos. | C2: Beschreibung | D2: Menge | E2: % | F2: Menge ges. | G2: 1
A3: 1 | B3: LV VW 1 | C3: E-Mail Archivierung
A4: 2 | B4: LV VW 1.1 | C4: Lizenzen und Support
A5: 3 | B5: LV VW 1.1.1 | C5: Lizenzen E-Mail Archivierung | D5: =IF(F5=0,"je",F5) -> 3000 | F5: =SUM(G5:AV5) -> 3000 | G5: 3000
A6: 3 | B6: LV VW 1.1.2 | C6: optionale Appliance | D6: =IF(F6=0,"je",F6) -> 1 | F6: =SUM(G6:AV6) -> 1 | G6: 1
A7: 3 | B7: LV VW 1.1.3 | C7: Herstellersupport 24x7 5 Jahre | D7: =IF(F7=0,"je",F7) -> 1 | F7: =SUM(G7:AV7) -> 1 | G7: 1
A8: 1 | B8: LV VW 2 | C8: Dienstleistungen
A9: 2 | B9: LV VW 2.1 | C9: Inbetriebnahme
A10: 3 | B10: LV VW 2.1.1 | C10: Implementierungspauschale | D10: =IF(F10=0,"je",F10) -> 1 | F10: =SUM(G10:AV10) -> 1 | G10: 1
A11: 3 | B11: LV VW 2.1.2 | C11: Schulung Administratoren | D11: =IF(F11=0,"je",F11) -> 1 | F11: =SUM(G11:AV11) -> 1 | G11: 1
A12: 2 | B12: LV VW 2.2 | C12: Stundenlohnarbeiten
A13: 3 | B13: LV VW 2.2.1 | C13: Stundenlohn Systemspezialist | D13: =IF(F13=0,"je",F13) -> je | F13: =SUM(G13:AV13) -> 0
A14: 3 | B14: LV VW 2.2.2 | C14: Stundenlohn Consultant | D14: =IF(F14=0,"je",F14) -> je | F14: =SUM(G14:AV14) -> 0
A15: 3 | B15: LV VW 2.2.3 | C15: Stundenlohn Projektmanager | D15: =IF(F15=0,"je",F15) -> je | F15: =SUM(G15:AV15) -> 0

Sheet LV MA
A1: LV | B1: LV | G1: LV VW | J1: Gesamtsumme | U1: = | V1: = | W1: = | X1: =
B2: Zeile nicht löschen | G2: Zeile nicht löschen | J2: Zeile nicht löschen | K2: x | L2: x | M2: x | N2: x | O2: Zeile nicht löschen
F3: hier filtern | V3: =Bietername -> Anbieter1
A5: =LEFT(Bietername,8) -> Anbieter | B5: A | C5: B | D5: C | E5: D | F5: Ebene | G5: LV-VW | H5: Menge | I5: Kurztext | J5: Langtext | K5: K | L5: E | M5: S | N5: SWP | O5: Hersteller | P5: Modell/Typ | Q5: EP Kauf | R5: EP Einrichtung | S5: EP Service | T5: EP SW Pflege | U5: GP Kauf | V5: GP Einrichtung | W5: GP Service | X5: GP SW Pflege
A6: =Bietername -> Anbieter1 | B6: 1 | C6: 0 | D6: 0 | E6: 0 | F6: 1 | G6: LV VW 1 | I6: E-Mail Archivierung | J6: E-Mail Archivierung
A7: =Bietername -> Anbieter1 | B7: 1 | C7: 1 | D7: 0 | E7: 0 | F7: 2 | G7: LV VW 1.1 | I7: Lizenzen und Support | J7: Lizenzen und Support
A8: =Bietername -> Anbieter1 | B8: 1 | C8: 1 | D8: 1 | E8: 0 | F8: 3 | G8: LV VW 1.1.1 | H8: =Mengenverteilung!D5 -> 3000 | I8: Lizenzen E-Mail Archivierung | J8: Lizenzen E-Mail Archivierung | K8: x | M8: x | U8: =IF($K8<>"X","",IF($H8<>"je",$H8*Q8,"")) -> 0 | V8: =IF($L8<>"X","",IF($H8<>"je",$H8*R8,"")) | W8: =IF($M8<>"X","",IF($H8<>"je",$H8*S8,"")) -> 0 | X8: =IF($N8<>"X","",IF($H8<>"je",$H8*T8,""))
A9: =Bietername -> Anbieter1 | B9: 1 | C9: 1 | D9: 1 | E9: 1 | F9: 4 | G9: LV VW 1.1.1.1 | J9: Bei Kauflizenzen ist der Preis in EP Kauf einzutragen.
A10: =Bietername -> Anbieter1 | B10: 1 | C10: 1 | D10: 1 | E10: 2 | F10: 4 | G10: LV VW 1.1.1.2 | J10: Bei Cloud- bzw. Abolizenzen sind die monatlichen Kosten in EP Service einzutragen.
A11: =Bietername -> Anbieter1 | B11: 1 | C11: 1 | D11: 1 | E11: 3 | F11: 4 | G11: LV VW 1.1.1.3
A12: =Bietername -> Anbieter1 | B12: 1 | C12: 1 | D12: 2 | E12: 0 | F12: 3 | G12: LV VW 1.1.2 | H12: =Mengenverteilung!D6 -> 1 | I12: optionale Appliance | J12: optionale Appliance | K12: x | L12: x | U12: =IF($K12<>"X","",IF($H12<>"je",$H12*Q12,"")) -> 0 | V12: =IF($L12<>"X","",IF($H12<>"je",$H12*R12,"")) -> 0 | W12: =IF($M12<>"X","",IF($H12<>"je",$H12*S12,"")) | X12: =IF($N12<>"X","",IF($H12<>"je",$H12*T12,""))
A13: =Bietername -> Anbieter1 | B13: 1 | C13: 1 | D13: 2 | E13: 1 | F13: 4 | G13: LV VW 1.1.2.1 | J13: Leistung gemäß "Leistungsbeschreibung WKK"
A14: =Bietername -> Anbieter1 | B14: 1 | C14: 1 | D14: 2 | E14: 2 | F14: 4 | G14: LV VW 1.1.2.2
A15: =Bietername -> Anbieter1 | B15: 1 | C15: 1 | D15: 3 | E15: 0 | F15: 3 | G15: LV VW 1.1.3 | H15: =Mengenverteilung!D7 -> 1 | I15: Herstellersupport 24x7 5 Jahre | J15: Herstellersupport 24x7 5 Jahre | K15: x | U15: =IF($K15<>"X","",IF($H15<>"je",$H15*Q15,"")) -> 0 | V15: =IF($L15<>"X","",IF($H15<>"je",$H15*R15,"")) | W15: =IF($M15<>"X","",IF($H15<>"je",$H15*S15,"")) | X15: =IF($N15<>"X","",IF($H15<>"je",$H15*T15,""))
A16: =Bietername -> Anbieter1 | B16: 1 | C16: 1 | D16: 3 | E16: 1 | F16: 4 | G16: LV VW 1.1.3.1 | J16: Leistung gemäß "Leistungsbeschreibung WKK"
A17: =Bietername -> Anbieter1 | B17: 1 | C17: 1 | D17: 3 | E17: 2 | F17: 4 | G17: LV VW 1.1.3.2
A18: =Bietername -> Anbieter1 | B18: 1 | C18: 1 | D18: 3 | E18: 2 | F18: S2 | G18: LV VW Titelsumme 1.1 | I18: Summe Lizenzen und Support | J18: Summe Lizenzen und Support | U18: =SUM(U8:U17) -> 0 | V18: =SUM(V8:V17) -> 0 | W18: =SUM(W8:W17) -> 0 | X18: =SUM(X8:X17) -> 0
A19: =Bietername -> Anbieter1 | B19: 1 | C19: 1 | D19: 3 | E19: 2 | F19: S1 | G19: LV VW Titelsumme 1 | I19: Summe E-Mail Archivierung | J19: Summe E-Mail Archivierung | U19: =U18 -> 0 | V19: =V18 -> 0 | W19: =W18 -> 0 | X19: =X18 -> 0
A20: =Bietername -> Anbieter1 | B20: 2 | C20: 0 | D20: 0 | E20: 0 | F20: 1 | G20: LV VW 2 | I20: =J20 -> Dienstleistungen | J20: Dienstleistungen
A21: =Bietername -> Anbieter1 | B21: 2 | C21: 1 | D21: 0 | E21: 0 | F21: 2 | G21: LV VW 2.1 | I21: =J21 -> Inbetriebnahme | J21: Inbetriebnahme
A22: =Bietername -> Anbieter1 | B22: 2 | C22: 1 | D22: 1 | E22: 0 | F22: 3 | G22: LV VW 2.1.1 | H22: =Mengenverteilung!D10 -> 1 | I22: =J22 -> Implementierungspauschale | J22: Implementierungspauschale | L22: x | U22: =IF($K22<>"X","",IF($H22<>"je",$H22*Q22,"")) | V22: =IF($L22<>"X","",IF($H22<>"je",$H22*R22,"")) -> 0 | W22: =IF($M22<>"X","",IF($H22<>"je",$H22*S22,"")) | X22: =IF($N22<>"X","",IF($H22<>"je",$H22*T22,""))
A23: =Bietername -> Anbieter1 | B23: 2 | C23: 1 | D23: 1 | E23: 1 | F23: 4 | G23: LV VW 2.1.1.1 | J23: technische Einführung und Inbetriebnahme der angeboteten Archivierungslösung
A24: =Bietername -> Anbieter1 | B24: 2 | C24: 1 | D24: 1 | E24: 2 | F24: 4 | G24: LV VW 2.1.1.2 | J24: inkl. Konfiguration, Anbindung bestehender E-Mail Systeme, Durchführung notwendiger Funktionstests
A25: =Bietername -> Anbieter1 | B25: 2 | C25: 1 | D25: 1 | E25: 3 | F25: 4 | G25: LV VW 2.1.1.3 | J25: Pauschalpreis inkl. aller Auslagen wie Reisezeit, Reisekosten, Zuschläge usw.
A26: =Bietername -> Anbieter1 | B26: 2 | C26: 1 | D26: 2 | E26: 0 | F26: 3 | G26: LV VW 2.1.2 | H26: =Mengenverteilung!D11 -> 1 | I26: =J26 -> Schulung Administratoren | J26: Schulung Administratoren | L26: x | U26: =IF($K26<>"X","",IF($H26<>"je",$H26*Q26,"")) | V26: =IF($L26<>"X","",IF($H26<>"je",$H26*R26,"")) -> 0 | W26: =IF($M26<>"X","",IF($H26<>"je",$H26*S26,"")) | X26: =IF($N26<>"X","",IF($H26<>"je",$H26*T26,""))
A27: =Bietername -> Anbieter1 | B27: 2 | C27: 1 | D27: 2 | E27: 1 | F27: 4 | G27: LV VW 2.1.2.1 | J27: Einweisung und Schulung für bis zu 5 Nutzer.
A28: =Bietername -> Anbieter1 | B28: 2 | C28: 1 | D28: 2 | E28: 2 | F28: 4 | G28: LV VW 2.1.2.2 | J28: Pauschalpreis inkl. aller Auslagen wie Reisezeit, Reisekosten, Zuschläge usw.
A29: =Bietername -> Anbieter1 | B29: 2 | C29: 1 | D29: 2 | E29: 2 | F29: S2 | G29: LV VW Titelsumme 2.1 | I29: Summe Summe E-Mail Archivierung | J29: ="Summe "&J21 -> Summe Inbetriebnahme | U29: =SUM(U20:U28) -> 0 | V29: =SUM(V20:V28) -> 0 | W29: =SUM(W20:W28) -> 0 | X29: =SUM(X20:X28) -> 0
A30: =Bietername -> Anbieter1 | B30: 2 | C30: 2 | D30: 0 | E30: 0 | F30: 2 | G30: LV VW 2.2 | I30: =J30 -> Stundenlohnarbeiten | J30: Stundenlohnarbeiten
A31: =Bietername -> Anbieter1 | B31: 2 | C31: 2 | D31: 1 | E31: 0 | F31: 3 | G31: LV VW 2.2.1 | H31: =Mengenverteilung!D13 -> je | I31: =J31 -> Stundenlohn Systemspezialist | J31: Stundenlohn Systemspezialist | L31: x | U31: =IF($K31<>"X","",IF($H31<>"je",$H31*Q31,"")) | V31: =IF($L31<>"X","",IF($H31<>"je",$H31*R31,"")) | W31: =IF($M31<>"X","",IF($H31<>"je",$H31*S31,"")) | X31: =IF($N31<>"X","",IF($H31<>"je",$H31*T31,""))
A32: =Bietername -> Anbieter1 | B32: 2 | C32: 2 | D32: 1 | E32: 1 | F32: 4 | G32: LV VW 2.2.1.1 | J32: für Zusatzarbeiten
A33: =Bietername -> Anbieter1 | B33: 2 | C33: 2 | D33: 1 | E33: 2 | F33: 4 | G33: LV VW 2.2.1.2 | J33: Montags - freitags an Werktagen
A34: =Bietername -> Anbieter1 | B34: 2 | C34: 2 | D34: 1 | E34: 3 | F34: 4 | G34: LV VW 2.2.1.3 | J34: Zwischen 07.30 Uhr und 18.00 Uhr
A35: =Bietername -> Anbieter1 | B35: 2 | C35: 2 | D35: 1 | E35: 4 | F35: 4 | G35: LV VW 2.2.1.4 | J35: Stundensatz
A36: =Bietername -> Anbieter1 | B36: 2 | C36: 2 | D36: 1 | E36: 5 | F36: 4 | G36: LV VW 2.2.1.5 | J36: Die Abrechnung erfolgt nur nach Aufwand, der vor Ausführung durch den Auftraggeber z. B. per E-Mail oder Schriftform freizugeben ist.
A37: =Bietername -> Anbieter1 | B37: 2 | C37: 2 | D37: 2 | E37: 0 | F37: 3 | G37: LV VW 2.2.2 | H37: =Mengenverteilung!D14 -> je | I37: =J37 -> Stundenlohn Consultant | J37: Stundenlohn Consultant | L37: x | U37: =IF($K37<>"X","",IF($H37<>"je",$H37*Q37,"")) | V37: =IF($L37<>"X","",IF($H37<>"je",$H37*R37,"")) | W37: =IF($M37<>"X","",IF($H37<>"je",$H37*S37,"")) | X37: =IF($N37<>"X","",IF($H37<>"je",$H37*T37,""))
A38: =Bietername -> Anbieter1 | B38: 2 | C38: 2 | D38: 2 | E38: 1 | F38: 4 | G38: LV VW 2.2.2.1 | J38: für Zusatzarbeiten
A39: =Bietername -> Anbieter1 | B39: 2 | C39: 2 | D39: 2 | E39: 2 | F39: 4 | G39: LV VW 2.2.2.2 | J39: Montags - freitags an Werktagen
A40: =Bietername -> Anbieter1 | B40: 2 | C40: 2 | D40: 2 | E40: 3 | F40: 4 | G40: LV VW 2.2.2.3 | J40: Zwischen 07.30 Uhr und 18.00 Uhr
A41: =Bietername -> Anbieter1 | B41: 2 | C41: 2 | D41: 2 | E41: 4 | F41: 4 | G41: LV VW 2.2.2.4 | J41: Stundensatz
...

Sheet Summenblatt
A3: Pos. | B3: Titel | C3: Kauf | D3: Einrichtung | E3: Service | F3: SW Pflege
A4: LV VW Titelsumme 1.1 | B4: Summe Lizenzen und Support | C4: ='LV MA'!U18 -> 0 | D4: ='LV MA'!V18 -> 0 | E4: ='LV MA'!W18 -> 0 | F4: ='LV MA'!X18 -> 0
A5: LV VW Titelsumme 1 | B5: Summe E-Mail Archivierung | C5: ='LV MA'!U19 -> 0 | D5: ='LV MA'!V19 -> 0 | E5: ='LV MA'!W19 -> 0 | F5: ='LV MA'!X19 -> 0
A6: LV VW Titelsumme 2.1 | B6: Summe Summe E-Mail Archivierung | C6: ='LV MA'!U29 -> 0 | D6: ='LV MA'!V29 -> 0 | E6: ='LV MA'!W29 -> 0 | F6: ='LV MA'!X29 -> 0
A7: LV VW Titelsumme 2.2 | B7: Summe Stundenlohnarbeiten | C7: ='LV MA'!U49 -> 0 | D7: ='LV MA'!V49 -> 0 | E7: ='LV MA'!W49 -> 0 | F7: ='LV MA'!X49 -> 0
A8: LV VW Titelsumme 2 | B8: Summe Dienstleistungen | C8: ='LV MA'!U50 -> 0 | D8: ='LV MA'!V50 -> 0 | E8: ='LV MA'!W50 -> 0 | F8: ='LV MA'!X50 -> 0
B9: Summe gesamt netto | C9: =C5+C8 -> 0 | D9: =D5+D8 -> 0 | E9: =E5+E8 -> 0 | F9: =F5+F8 -> 0
B10: Summe MwSt. | C10: =C9*MwStSatz -> 0 | D10: =D9*MwStSatz -> 0 | E10: =E9*MwStSatz -> 0 | F10: =F9*MwStSatz -> 0
B11: Summe gesamt Brutto | C11: =C9+C10 -> 0 | D11: =D9+D10 -> 0 | E11: =E9+E10 -> 0 | F11: =F9+F10 -> 0
C15: netto | D15: MwSt. | E15: brutto
B16: Summe Kauf | C16: =C9 -> 0 | D16: =C16*MwStSatz -> 0 | E16: =C16+D16 -> 0
B17: Summe Einrichtung | C17: =D9 -> 0 | D17: =C17*MwStSatz -> 0 | E17: =C17+D17 -> 0
B18: Summe einmaliger Invest | C18: =C16+C17 -> 0 | D18: =C18*MwStSatz -> 0 | E18: =C18+D18 -> 0
B19: Summe lfd.Kosten über Laufzeit (S+SWP) | C19: =(E9+F9)*60 -> 0 | D19: =C19*MwStSatz -> 0 | E19: =C19+D19 -> 0
B20: ="Angebotssumme über Laufzeit " & 60 & " Monate" -> Angebotssumme über Laufzeit 60 Monate | C20: =C18+C19 -> 0 | D20: =C20*MwStSatz -> 0 | E20: =C20+D20 -> 0
B22: Die Gesamt-Angebotssumme ist in das entsprechende Formblatt zu übertragen

Sheet Verweisblatt LV
C4: =Bietername -> Anbieter1
C5: Das Verweisblatt im Bedarfsfall bitte nach unten erweitern
A6: Bietername | B6: Pos. Nr. | C6: Verweisblatt
A7: =LEFT(Bietername,8) -> Anbieter
A8: =LEFT(Bietername,8) -> Anbieter
A9: =LEFT(Bietername,8) -> Anbieter
A10: =LEFT(Bietername,8) -> Anbieter
A11: =LEFT(Bietername,8) -> Anbieter
A12: =LEFT(Bietername,8) -> Anbieter
A13: =LEFT(Bietername,8) -> Anbieter
A14: =LEFT(Bietername,8) -> Anbieter
A15: =LEFT(Bietername,8) -> Anbieter
A16: =LEFT(Bietername,8) -> Anbieter
A17: =LEFT(Bietername,8) -> Anbieter
A18: =LEFT(Bietername,8) -> Anbieter
... A475: =LEFT(Bietername,8) -> Anbieter

Sheet 1. Wertungsstufe
A1: Wertungskriterien
B3: §42 Abs.1, §53, §57 VgV, §123, §124 GWB (Ausschluß) | C3: Zeilen 3-6
B4: Die ersten 8 Kriterien sind gem. VgV | C4: ausblenden
B5: Die Kriterien 9 ff. sind eigene, sofern im Projekt erforderlich
B8: - Beispiel-Bewertung -
A9: 1. | B9: Erste Wertungsstufe - Eignungsprüfung | C9: Anbieter 1 | E9: Anbieter 2 | G9: Anbieter 3 | I9: Anbieter 4 | K9: Anbieter 5 | M9: Anbieter 6 | O9: Anbieter 7 | Q9: Anbieter 8 | S9: Anbieter 9 | U9: Anbieter 10 | W9: Anbieter 11 | Y9: Anbieter 12 | AA9: Anbieter 13
C10: ja | D10: nein | E10: ja | F10: nein | G10: ja | H10: nein | I10: ja | J10: nein | K10: ja | L10: nein | M10: ja | N10: nein | O10: ja | P10: nein | Q10: ja | R10: nein | S10: ja | T10: nein | U10: ja | V10: nein | W10: ja | X10: nein | Y10: ja | Z10: nein | AA10: ja | AB10: nein
A12: 1.1 | B12: Fachkunde / Leistungsfähigkeit / Zuverlässigkeit
A13: 1.1.1 | B13: Die im Register Teilnahmebedingungen gestellten Anforderungen werden erfüllt | C13: x | E13: x | G13: x | I13: x | K13: x | M13: x | O13: x | Q13: x | S13: x | U13: x | W13: x | Y13: x | AA13: x
B14: Einhaltung der Kriterien | C14: =IF(COUNTA($B$13:$B$13) <> COUNTA(C13:C13),"Nein","Ja") -> Ja | D14: =C14 -> Ja | E14: =IF(COUNTA($B$13:$B$13) <> COUNTA(E13:E13),"Nein","Ja") -> Ja | F14: =E14 -> Ja | G14: =IF(COUNTA($B$13:$B$13) <> COUNTA(G13:G13),"Nein","Ja") -> Ja | H14: =G14 -> Ja | I14: =IF(COUNTA($B$13:$B$13) <> COUNTA(I13:I13),"Nein","Ja") -> Ja | J14: =I14 -> Ja | K14: =IF(COUNTA($B$13:$B$13) <> COUNTA(K13:K13),"Nein","Ja") -> Ja | L14: =K14 -> Ja | M14: =IF(COUNTA($B$13:$B$13) <> COUNTA(M13:M13),"Nein","Ja") -> Ja | N14: =M14 -> Ja | O14: =IF(COUNTA($B$13:$B$13) <> COUNTA(O13:O13),"Nein","Ja") -> Ja | P14: =O14 -> Ja | Q14: =IF(COUNTA($B$13:$B$13) <> COUNTA(Q13:Q13),"Nein","Ja") -> Ja | R14: =Q14 -> Ja | S14: =IF(COUNTA($B$13:$B$13) <> COUNTA(S13:S13),"Nein","Ja") -> Ja | T14: =S14 -> Ja | U14: =IF(COUNTA($B$13:$B$13) <> COUNTA(U13:U13),"Nein","Ja") -> Ja | V14: =U14 -> Ja | W14: =IF(COUNTA($B$13:$B$13) <> COUNTA(W13:W13),"Nein","Ja") -> Ja | X14: =W14 -> Ja | Y14: =IF(COUNTA($B$13:$B$13) <> COUNTA(Y13:Y13),"Nein","Ja") -> Ja | Z14: =Y14 -> Ja | AA14: =IF(COUNTA($B$13:$B$13) <> COUNTA(AA13:AA13),"Nein","Ja") -> Ja | AB14: =AA14 -> Ja
B15: Weitere Bewertung des Bieters | C15: =IF(C14="Nein","Nein","Ja") -> Ja | D15: =C15 -> Ja | E15: =IF(E14="Nein","Nein","Ja") -> Ja | F15: =E15 -> Ja | G15: =IF(G14="Nein","Nein","Ja") -> Ja | H15: =G15 -> Ja | I15: =IF(I14="Nein","Nein","Ja") -> Ja | J15: =I15 -> Ja | K15: =IF(K14="Nein","Nein","Ja") -> Ja | L15: =K15 -> Ja | M15: =IF(M14="Nein","Nein","Ja") -> Ja | N15: =M15 -> Ja | O15: =IF(O14="Nein","Nein","Ja") -> Ja | P15: =O15 -> Ja | Q15: =IF(Q14="Nein","Nein","Ja") -> Ja | R15: =Q15 -> Ja | S15: =IF(S14="Nein","Nein","Ja") -> Ja | T15: =S15 -> Ja | U15: =IF(U14="Nein","Nein","Ja") -> Ja | V15: =U15 -> Ja | W15: =IF(W14="Nein","Nein","Ja") -> Ja | X15: =W15 -> Ja | Y15: =IF(Y14="Nein","Nein","Ja") -> Ja | Z15: =Y15 -> Ja | AA15: =IF(AA14="Nein","Nein","Ja") -> Ja | AB15: =AA15 -> Ja

Sheet 2. Wertungsstufe
A1: Wertungskriterien
B3: bei einem vorangegangenen Teilnahmewettbewerb ist dies die erste Wertungsstufe. Teilnahmewettbewerb = Prüfung der Eignung | C3: Zeilen 2-5 ausblenden
B4: Die hier aufgeführten Kriterien müssen mit den angeforderten Unterlagen übereinstimmen, (hier vor Veröffentlichung ausblenden)
B5: ggf. nur den Punkt 2.1.9 verwenden und in Punkt 2.1.1 umbenennen (vor Veröffentlichung hier ausblenden)
B6: - Beispiel-Bewertung -
A8: 2. | B8: Zweite Wertungsstufe Formale Prüfung | C8: ='1. Wertungsstufe'!C9 -> Anbieter 1 | E8: ='1. Wertungsstufe'!E9 -> Anbieter 2 | G8: ='1. Wertungsstufe'!G9 -> Anbieter 3 | I8: ='1. Wertungsstufe'!I9 -> Anbieter 4 | K8: ='1. Wertungsstufe'!K9 -> Anbieter 5 | M8: ='1. Wertungsstufe'!M9 -> Anbieter 6 | O8: ='1. Wertungsstufe'!O9 -> Anbieter 7 | Q8: ='1. Wertungsstufe'!Q9 -> Anbieter 8 | S8: ='1. Wertungsstufe'!S9 -> Anbieter 9 | U8: ='1. Wertungsstufe'!U9 -> Anbieter 10 | W8: ='1. Wertungsstufe'!W9 -> Anbieter 11 | Y8: ='1. Wertungsstufe'!Y9 -> Anbieter 12 | AA8: ='1. Wertungsstufe'!AA9 -> Anbieter 13 | AC8: ='1. Wertungsstufe'!AC9 -> 0
C9: ja | D9: nein | E9: ja | F9: nein | G9: ja | H9: nein | I9: ja | J9: nein | K9: ja | L9: nein | M9: ja | N9: nein | O9: ja | P9: nein | Q9: ja | R9: nein | S9: ja | T9: nein | U9: ja | V9: nein | W9: ja | X9: nein | Y9: ja | Z9: nein | AA9: ja | AB9: nein | AC9: ja | AD9: nein
A11: 2.1 | B11: Ausschlusskriterien
A12: 2.1.1 | B12: Angebote, die nicht die geforderten Angaben und Erklärungen enthalten | C12: x | E12: x | G12: x | I12: x | K12: x | M12: x | O12: x | Q12: x | S12: x | U12: x | W12: x | Y12: x | AA12: x | AC12: x
A13: 2.1.2 | B13: Angebote, die nicht unterschrieben oder elektronisch signiert (soweit zugelassen) sind | C13: x | E13: x | G13: x | I13: x | K13: x | M13: x | O13: x | Q13: x | S13: x | U13: x | W13: x | Y13: x | AA13: x | AC13: x
A14: 2.1.3 | B14: Angebote, in denen Änderungen des Bieters an seinen Eintragungen nicht zweifelsfrei sind | C14: x | E14: x | G14: x | I14: x | K14: x | M14: x | O14: x | Q14: x | S14: x | U14: x | W14: x | Y14: x | AA14: x | AC14: x
A15: 2.1.4 | B15: Angebote, bei denen Änderungen oder Ergänzungen an den Vertragsunterlagen vorgenommen worden sind | C15: x | E15: x | G15: x | I15: x | K15: x | M15: x | O15: x | Q15: x | S15: x | U15: x | W15: x | Y15: x | AA15: x | AC15: x
A16: 2.1.5 | B16: Angebote, die nicht form- oder fristgerecht eingegangen sind, sofern der Bieter dies zu vertreten hat | C16: x | E16: x | G16: x | I16: x | K16: x | M16: x | O16: x | Q16: x | S16: x | U16: x | W16: x | Y16: x | AA16: x | AC16: x
A17: 2.1.6 | B17: Angebote von Bietern, die in Bezug auf die Vergabe eine unzulässige,wettbewerbsbeschränkende Abrede getroffen haben | C17: x | E17: x | G17: x | I17: x | K17: x | M17: x | O17: x | Q17: x | S17: x | U17: x | W17: x | Y17: x | AA17: x | AC17: x
A18: 2.1.7 | B18: Nicht zugelassene Nebenangebote sowie Nebenangebote, die die verlangten Mindestanforderungen nicht erfüllen | C18: x | E18: x | G18: x | I18: x | K18: x | M18: x | O18: x | Q18: x | S18: x | U18: x | W18: x | Y18: x | AA18: x | AC18: x
A19: 2.1.8 | B19: kein weiterer zwingender Ausschlußgrund gem. §123 GWB liegt nicht vor | C19: x | E19: x | G19: x | I19: x | K19: x | M19: x | O19: x | Q19: x | S19: x | U19: x | W19: x | Y19: x | AA19: x | AC19: x
A20: 2.1.9 | B20: Bedienung aller Systeme, deren Administration und Dokumentation wird in deutscher Sprache geliefert/erbracht | C20: x | E20: x | G20: x | I20: x | K20: x | M20: x | O20: x | Q20: x | S20: x | U20: x | W20: x | Y20: x | AA20: x | AC20: x
B21: Einhaltung der Kriterien | C21: =IF(COUNTA($B$12:$B$19) <> COUNTA(C12:C19),"Nein","Ja") -> Ja | D21: =C21 -> Ja | E21: =IF(COUNTA($B$12:$B$19) <> COUNTA(E12:E19),"Nein","Ja") -> Ja | F21: =E21 -> Ja | G21: =IF(COUNTA($B$12:$B$19) <> COUNTA(G12:G19),"Nein","Ja") -> Ja | H21: =G21 -> Ja | I21: =IF(COUNTA($B$12:$B$19) <> COUNTA(I12:I19),"Nein","Ja") -> Ja | J21: =I21 -> Ja | K21: =IF(COUNTA($B$12:$B$19) <> COUNTA(K12:K19),"Nein","Ja") -> Ja | L21: =K21 -> Ja | M21: =IF(COUNTA($B$12:$B$19) <> COUNTA(M12:M19),"Nein","Ja") -> Ja | N21: =M21 -> Ja | O21: =IF(COUNTA($B$12:$B$19) <> COUNTA(O12:O19),"Nein","Ja") -> Ja | P21: =O21 -> Ja | Q21: =IF(COUNTA($B$12:$B$19) <> COUNTA(Q12:Q19),"Nein","Ja") -> Ja | R21: =Q21 -> Ja | S21: =IF(COUNTA($B$12:$B$19) <> COUNTA(S12:S19),"Nein","Ja") -> Ja | T21: =S21 -> Ja | U21: =IF(COUNTA($B$12:$B$19) <> COUNTA(U12:U19),"Nein","Ja") -> Ja | V21: =U21 -> Ja | W21: =IF(COUNTA($B$12:$B$19) <> COUNTA(W12:W19),"Nein","Ja") -> Ja | X21: =W21 -> Ja | Y21: =IF(COUNTA($B$12:$B$19) <> COUNTA(Y12:Y19),"Nein","Ja") -> Ja | Z21: =Y21 -> Ja | AA21: =IF(COUNTA($B$12:$B$19) <> COUNTA(AA12:AA19),"Nein","Ja") -> Ja | AB21: =AA21 -> Ja | AC21: =IF(COUNTA($B$12:$B$19) <> COUNTA(AC12:AC19),"Nein","Ja") -> Ja | AD21: =AC21 -> Ja
B22: Weitere Bewertung des Bieters | C22: =IF(COUNTA($B$12:$B$20) <> COUNTA(C13:C21),"Nein","Ja") -> Ja | D22: =C22 -> Ja | E22: =IF(COUNTA($B$12:$B$20) <> COUNTA(E13:E21),"Nein","Ja") -> Ja | F22: =E22 -> Ja | G22: =IF(COUNTA($B$12:$B$20) <> COUNTA(G13:G21),"Nein","Ja") -> Ja | H22: =G22 -> Ja | I22: =IF(COUNTA($B$12:$B$19) <> COUNTA(I13:I21),"Nein","Ja") -> Nein | J22: =I22 -> Nein | K22: =IF(COUNTA($B$12:$B$19) <> COUNTA(K13:K21),"Nein","Ja") -> Nein | L22: =K22 -> Nein | M22: =IF(COUNTA($B$12:$B$19) <> COUNTA(M13:M21),"Nein","Ja") -> Nein | N22: =M22 -> Nein | O22: =IF(COUNTA($B$12:$B$19) <> COUNTA(O13:O21),"Nein","Ja") -> Nein | P22: =O22 -> Nein | Q22: =IF(COUNTA($B$12:$B$19) <> COUNTA(Q13:Q21),"Nein","Ja") -> Nein | R22: =Q22 -> Nein | S22: =IF(COUNTA($B$12:$B$19) <> COUNTA(S13:S21),"Nein","Ja") -> Nein | T22: =S22 -> Nein | U22: =IF(COUNTA($B$12:$B$19) <> COUNTA(U13:U21),"Nein","Ja") -> Nein | V22: =U22 -> Nein | W22: =IF(COUNTA($B$12:$B$19) <> COUNTA(W13:W21),"Nein","Ja") -> Nein | X22: =W22 -> Nein | Y22: =IF(COUNTA($B$12:$B$19) <> COUNTA(Y13:Y21),"Nein","Ja") -> Nein | Z22: =Y22 -> Nein | AA22: =IF(COUNTA($B$12:$B$19) <> COUNTA(AA13:AA21),"Nein","Ja") -> Nein | AB22: =AA22 -> Nein | AC22: =IF(COUNTA($B$12:$B$19) <> COUNTA(AC13:AC21),"Nein","Ja") -> Nein | AD22: =AC22 -> Nein

Sheet 3. Wertungsstufe
A1: Wertungskriterien
B3: - Beispiel-Bewertung -
A5: 3. | B5: Dritte Wertungsstufe - Angemessenheit der Preise | D5: ='1. Wertungsstufe'!C9 -> Anbieter 1 | F5: ='1. Wertungsstufe'!E9 -> Anbieter 2 | H5: ='1. Wertungsstufe'!G9 -> Anbieter 3 | J5: ='1. Wertungsstufe'!I9 -> Anbieter 4 | L5: ='1. Wertungsstufe'!K9 -> Anbieter 5 | N5: ='1. Wertungsstufe'!M9 -> Anbieter 6 | P5: ='1. Wertungsstufe'!O9 -> Anbieter 7 | R5: ='1. Wertungsstufe'!Q9 -> Anbieter 8 | T5: ='1. Wertungsstufe'!S9 -> Anbieter 9 | V5: ='1. Wertungsstufe'!U9 -> Anbieter 10 | X5: ='1. Wertungsstufe'!W9 -> Anbieter 11 | Z5: ='1. Wertungsstufe'!Y9 -> Anbieter 12 | AB5: ='1. Wertungsstufe'!AA9 -> Anbieter 13
D6: ja | E6: nein | F6: ja | G6: nein | H6: ja | I6: nein | J6: ja | K6: nein | L6: ja | M6: nein | N6: ja | O6: nein | P6: ja | Q6: nein | R6: ja | S6: nein | T6: ja | U6: nein | V6: ja | W6: nein | X6: ja | Y6: nein | Z6: ja | AA6: nein | AB6: ja | AC6: nein
A8: 3.1 | B8: Wirtschaftliche Differenz - Ermittlung | C8: Erfüllung
A9: 3.1.1 | B9: Prozentualer Abstand zum Durchschnitt aller Angebote (+/-) | D9: 0.0515 | F9: 0.0061 | H9: =-5.76% -> -0.0576 | J9: =#REF! -> #REF! | L9: =#REF! -> #REF! | N9: =#REF! -> #REF! | P9: =#REF! -> #REF! | R9: =#REF! -> #REF! | T9: =#REF! -> #REF! | V9: =#REF! -> #REF! | X9: =#REF! -> #REF! | Z9: =#REF! -> #REF! | AB9: =#REF! -> #REF!
A11: 3.2 | B11: Wirtschaftliche Differenz - Prüfung (bei Missverhältnis)
A12: 3.2.1 | B12: Prüfung der Einzelposten des Angebotes wenn das Angebot im Vergleich zum Wettbewerb als zu niedrig erscheint | D12: x | F12: x | H12: x | J12: x | L12: x | N12: x | P12: x | R12: x | T12: x | V12: x | X12: x | Z12: x | AB12: x
A13: 3.2.2 | B13: Anforderung von Belegen zum Nachweis der Kalkulation | D13: x | F13: x | H13: x | J13: x | L13: x | N13: x | P13: x | R13: x | T13: x | V13: x | X13: x | Z13: x | AB13: x
B14: Bewertung: Preis Angemessen | D14: =IF(COUNTA($B$12:$B$13) <> COUNTA(D12:D13),"Nein","Ja") -> Ja | E14: =D14 -> Ja | F14: =IF(COUNTA($B$12:$B$13) <> COUNTA(F12:F13),"Nein","Ja") -> Ja | G14: =F14 -> Ja | H14: =IF(COUNTA($B$12:$B$13) <> COUNTA(H12:H13),"Nein","Ja") -> Ja | I14: =H14 -> Ja | J14: =IF(COUNTA($B$12:$B$13) <> COUNTA(J12:J13),"Nein","Ja") -> Ja | K14: =J14 -> Ja | L14: =IF(COUNTA($B$12:$B$13) <> COUNTA(L12:L13),"Nein","Ja") -> Ja | M14: =L14 -> Ja | N14: =IF(COUNTA($B$12:$B$13) <> COUNTA(N12:N13),"Nein","Ja") -> Ja | O14: =N14 -> Ja | P14: =IF(COUNTA($B$12:$B$13) <> COUNTA(P12:P13),"Nein","Ja") -> Ja | Q14: =P14 -> Ja | R14: =IF(COUNTA($B$12:$B$13) <> COUNTA(R12:R13),"Nein","Ja") -> Ja | S14: =R14 -> Ja | T14: =IF(COUNTA($B$12:$B$13) <> COUNTA(T12:T13),"Nein","Ja") -> Ja | U14: =T14 -> Ja | V14: =IF(COUNTA($B$12:$B$13) <> COUNTA(V12:V13),"Nein","Ja") -> Ja | W14: =V14 -> Ja | X14: =IF(COUNTA($B$12:$B$13) <> COUNTA(X12:X13),"Nein","Ja") -> Ja | Y14: =X14 -> Ja | Z14: =IF(COUNTA($B$12:$B$13) <> COUNTA(Z12:Z13),"Nein","Ja") -> Ja | AA14: =Z14 -> Ja | AB14: =IF(COUNTA($B$12:$B$13) <> COUNTA(AB12:AB13),"Nein","Ja") -> Ja | AC14: =AB14 -> Ja
B15: Weitere Bewertung des Bieters | D15: =IF(COUNTA($B$12:$B$13) <> COUNTA(D12:D13),"Nein","Ja") -> Ja | E15: =D15 -> Ja | F15: =IF(COUNTA($B$12:$B$13) <> COUNTA(F12:F13),"Nein","Ja") -> Ja | G15: =F15 -> Ja | H15: =IF(COUNTA($B$12:$B$13) <> COUNTA(H12:H13),"Nein","Ja") -> Ja | I15: =H15 -> Ja | J15: =IF(COUNTA($B$12:$B$13) <> COUNTA(J12:J13),"Nein","Ja") -> Ja | K15: =J15 -> Ja | L15: =IF(COUNTA($B$12:$B$13) <> COUNTA(L12:L13),"Nein","Ja") -> Ja | M15: =L15 -> Ja | N15: =IF(COUNTA($B$12:$B$13) <> COUNTA(N12:N13),"Nein","Ja") -> Ja | O15: =N15 -> Ja | P15: =IF(COUNTA($B$12:$B$13) <> COUNTA(P12:P13),"Nein","Ja") -> Ja | Q15: =P15 -> Ja | R15: =IF(COUNTA($B$12:$B$13) <> COUNTA(R12:R13),"Nein","Ja") -> Ja | S15: =R15 -> Ja | T15: =IF(COUNTA($B$12:$B$13) <> COUNTA(T12:T13),"Nein","Ja") -> Ja | U15: =T15 -> Ja | V15: =IF(COUNTA($B$12:$B$13) <> COUNTA(V12:V13),"Nein","Ja") -> Ja | W15: =V15 -> Ja | X15: =IF(COUNTA($B$12:$B$13) <> COUNTA(X12:X13),"Nein","Ja") -> Ja | Y15: =X15 -> Ja | Z15: =IF(COUNTA($B$12:$B$13) <> COUNTA(Z12:Z13),"Nein","Ja") -> Ja | AA15: =Z15 -> Ja | AB15: =IF(COUNTA($B$12:$B$13) <> COUNTA(AB12:AB13),"Nein","Ja") -> Ja | AC15: =AB15 -> Ja

Sheet 4. Wertungsstufe - Matrix
G1: Wertungskriterien (Basis UfAB)
A9: A | B9: B | C9: C | D9: D | E9: E | F9: Ebene | H9: - Beispielauswertung -
A10: 3 | B10: 1 | H10: Wertungsstufe - Matrix | O10: Anbieter 1 | R10: Anbieter 2 | U10: Anbieter 3 | X10: Anbieter 4 | Z10: Bemerkungen
A11: 3 | B11: 2 | F11: 2 | G11: 4. | H11: Bewertungsmatrix | I11: Gewichtung der KHG | J11: GW | K11: Pmax | L11: Zielerfüllungsgrad (ZEP) | O11: ZEP | P11: GwP | Q11: Bemerkungen | R11: ZEP | S11: GwP | T11: Bemerkungen | U11: ZEP | V11: GwP | W11: Bemerkungen | X11: ZEP | Y11: GwP
A12: 3 | B12: 2 | C12: 3 | F12: 3 | G12: 4.1 | H12: Fragekatalog: Mail Archivierung | I12: =J12/Gesamtgewichtung -> 1 | J12: ='FK MA'!Gesamtpunkte_FK_1 -> 885 | K12: ='FK MA'!S3 -> 3540 | L12: siehe Blatt FK VW | P12: =K12*0.7 -> 2478 | S12: =K12*0.75 -> 2655 | V12: =K12*0.8 -> 2832 | Y12: 21400
F13: x
F14: x | H14: Gesamtsumme | I14: =I12 -> 1 | J14: =J12 -> 885 | K14: =K12 -> 3540 | P14: =P12 -> 2478 | S14: =S12 -> 2655 | V14: =V12 -> 2832 | Y14: =#REF! -> #REF!
H16: Das Gesamtergebnis wird mit der UfAB-Formel "Erweiterte Richtwertmethode" ermittelt

Sheet 4. Wertungsstufe - Ergebnis
B2: 4.2 Ergebnis - Einfache Richtwertmethode
C4: - Beispielauswertung -
B6: Verfahrensart | C6: Offenes Verfahren (EU-weit)
B8: Bieter/Nr. | D8: Anbieter 1 | E8: Anbieter 2 | F8: Anbieter 3
B9: Leistungspunkte | D9: ='4. Wertungsstufe - Matrix'!P14 -> 2478 | E9: ='4. Wertungsstufe - Matrix'!S14 -> 2655 | F9: ='4. Wertungsstufe - Matrix'!V14 -> 2832
B10: Preis | D10: 237000 | E10: 220000 | F10: 232000
B11: Kennzahl = Leistung / Preis | D11: =D9/D10 -> 0.010455696 | E11: =E9/E10 -> 0.012068182 | F11: =F9/F10 -> 0.012206897
B12: Kennzahl skaliert * | C12: 100000 | D12: =D11*$C$12 -> 1045.5696 | E12: =E11*$C$12 -> 1206.8182 | F12: =F11*$C$12 -> 1220.6897
B14: Ermittlung des wirtschaftlichsten Angebotes | D14: =RANK(D12,$D$12:$F$12) -> 3 | E14: =RANK(E12,$D$12:$F$12) -> 2 | F14: =RANK(F12,$D$12:$F$12) -> 1
B16: * Wichtiger Hinweis: Die angezeigten skalierten Kennzahlen sind gerundete Werte, die Errechnung der Platzierung erfolgt jedoch aufgrund der Einbeziehung aller von Excel berechneten Nachkommastellen.

Sheet Steuerung
A1: c
A2: In diesem Blatt bitte keine Zellen oder Spalten löschen oder hinzufügen!
A3: Farben können bei Bedarf angepasst werden
A5: Consulter | B5: HSP-GPC
A6: Datum | B6: =TODAY() -> 46280 | M6: LV-Register | O6: Alle Register
A7: Zellfarbe für Eingabe (wird nicht gesperrt) | B7: 13434879 | M7: LV MA | O7: Deckblatt | Q7: 1
A8: Blattname LV | B8: LV MA | M8: Verweisblatt LV | O8: Hinweise | Q8: 2
A9: Blattschutz | O9: Teilnahmebedingungen | Q9: 3
A10: Arbeitsmappenschutz | O10: FK Service | Q10: 4
A11: Version | B11: 4.99 | O11: FK MA | Q11: 5
A12: Projektname | B12: =Projektname -> E-Mail-Archivierung_Westpfalz-Klinikum_2026_VgV | O12: Mengenverteilung | Q12: 6
A13: Kundenname | B13: =Kundenname -> Westpfalz-Klinikum GmbH | O13: LV MA | Q13: 7
