Workbook

Sheet Hinweise
B1: Hinweise zum Ausfüllen des Preisblatts
B4: Legende der Zellfarben
B5: Gelb hinterlegte Zellen mit blauer Schrift sind vom Bieter auszufüllen. Dies betrifft die Spalte Einzelpreis netto sowie die Kopfangaben.
B6: Alle übrigen Zellen enthalten Formeln oder Vorgaben der Vergabestelle und sind nicht zu verändern.
B7: Das Blatt Zusammenfassung berechnet sich automatisch und ist nicht zu bearbeiten.
B9: Allgemeine Vorgaben
B10: Alle Preise sind netto in Euro anzugeben.
B11: Die Preise müssen sämtliche für die vertragsgemäße Leistungserbringung erforderlichen Aufwendungen enthalten, einschließlich Reise-, Anfahrts- und Nebenkosten.
B12: Jede Position ist auszufüllen. Positionen, für die keine Kosten anfallen, sind mit 0,00 EUR auszuweisen. Nicht ausgefüllte Positionen führen zum Ausschluss des Angebots.
B13: Die Mengen und Leistungsinhalte sind verbindlich vorgegeben und dürfen nicht verändert werden.
B14: Zusätzliche Zeilen, Spalten oder Blätter dürfen nicht eingefügt werden. Ergänzende Angaben sind in der Spalte Bemerkung Bieter oder in einem gesonderten Begleitschreiben zu machen.
B16: Regelarbeitszeit
B17: Regelarbeitszeit im Sinne dieses Preisblatts ist Montag bis Freitag von 08:00 bis 18:00 Uhr, ausgenommen gesetzliche Feiertage am Erfüllungsort.

Sheet Preisblatt
A1: Preisblatt
A2: Beschaffung, Implementierung und Migration einer Firewall- und Management-Infrastruktur
A3: Anlage zur Leistungsbeschreibung
A5: Vergabenummer: | C5: VSG-SEK-2026-67
A6: Bieter: | C6: [vom Bieter einzutragen]
A7: Datum des Angebots: | C7: [vom Bieter einzutragen]
A9: Pos. | B9: Part Number / Leistung | C9: Beschreibung | D9: Menge | E9: Einheit | F9: Einzelpreis netto | G9: Gesamtpreis netto
A11: A Hardware
A12: Lieferung fabrikneuer Hardware aus aktueller Herstellerproduktion über einen autorisierten Vertriebsweg.
A13: =IF($E13="","",COUNTA($E$9:$E13)-1) -> 1 | B13: PAN-PA-5540-AC | C13: Palo Alto Networks PA-5540 mit redundanten Netzteilen | D13: 2 | E13: Stück | F13: 0 | G13: =D13*F13 -> 0
A14: =IF($E14="","",COUNTA($E$9:$E14)-1) -> 2 | B14: PAN-PA-1420 | C14: Palo Alto Networks PA-1420 | D14: 1 | E14: Stück | F14: 0 | G14: =D14*F14 -> 0
A15: =IF($E15="","",COUNTA($E$9:$E15)-1) -> 3 | B15: PAN-M-700 | C15: Panorama M-700 Chassis mit 16 TB Storage (4x 8 TB RAID), redundante Netzteile, 4-Post-Rack-Mount-Schienen | D15: 1 | E15: Stück | F15: 0 | G15: =D15*F15 -> 0
A16: =IF($E16="","",COUNTA($E$9:$E16)-1) -> 4 | B16: PAN-PWR-C19-EU | C16: Netzkabel IEC-60320 C19 auf CEE 7/7 SCHUKO, 3 m, für PA-5540 (2 Stück je Appliance) | D16: 4 | E16: Stück | F16: 0 | G16: =D16*F16 -> 0
A17: =IF($E17="","",COUNTA($E$9:$E17)-1) -> 5 | B17: PAN-PWR-CORD-C15-EU | C17: Netzkabel für Panorama M-700 und PA-1420 | D17: 4 | E17: Stück | F17: 0 | G17: =D17*F17 -> 0
A18: =IF($E18="","",COUNTA($E$9:$E18)-1) -> 6 | B18: PAN-QSFP28-100GBASE-BIDI | C18: QSFP+ 100 Gb bidirektionaler Transceiver, 70 m OM3 / 100 m OM4, Duplex LC | D18: 12 | E18: Stück | F18: 0 | G18: =D18*F18 -> 0
A19: =IF($E19="","",COUNTA($E$9:$E19)-1) -> 7 | B19: PAN-SFP28-25GBASE-SR | C19: SFP28 25 Gb SR Transceiver, 100 m MMF, Duplex LC, IEEE 802.3ae 25GBASE-SR | D19: 16 | E19: Stück | F19: 0 | G19: =D19*F19 -> 0
A20: =IF($E20="","",COUNTA($E$9:$E22)-1) -> 8 | B20: PAN-SFP-PLUS-SR | C20: SFP+ 10 Gb SR Transceiver, 300 m OM3 MMF, Duplex LC, IEEE 802.3ae 10GBASE-SR | D20: 12 | E20: Stück | F20: 0 | G20: =D20*F20 -> 0
A21: Zwischensumme A Hardware | G21: =SUM(G13:G20) -> 0
A23: B Softwarelizenzen
A24: Laufzeitbeginn ist das Datum der Endabnahme. Registrierung auf den Auftraggeber.
A25: =IF($E25="","",COUNTA($E$9:$E25)-1) -> 9 | B25: PAN-PA-5540-BND-PRECISIONAI-5YR | C25: PA-5540, Precision AI Network Security Subscription Bundle (Advanced Threat Prevention, Advanced URL Filtering, Advanced WildFire, Advanced DNS Security, Advanced SD-WAN, Device Security), 60 Monate | D25: 2 | E25: Stück | F25: 0 | G25: =D25*F25 -> 0
A26: =IF($E26="","",COUNTA($E$9:$E26)-1) -> 10 | B26: PAN-PA-5540-PAA-5YR | C26: PA-5540, Prisma Access Agent Subscription, 60 Monate | D26: 2 | E26: Stück | F26: 0 | G26: =D26*F26 -> 0
A27: =IF($E27="","",COUNTA($E$9:$E27)-1) -> 11 | B27: PAN-PA-1420-ATP-5YR | C27: PA-1420, Advanced Threat Prevention, 60 Monate | D27: 1 | E27: Stück | F27: 0 | G27: =D27*F27 -> 0
A28: =IF($E28="","",COUNTA($E$9:$E28)-1) -> 12 | B28: PAN-M-700-P-25 | C28: Panorama Central Management Software License, 25 Devices oder Log Collector für M-700 | D28: 1 | E28: Stück | F28: 0 | G28: =D28*F28 -> 0
A29: Zwischensumme B Softwarelizenzen | G29: =SUM(G25:G28) -> 0
A31: C Herbeiführung der Betriebsbereitschaft
A32: Das Angebotskonzept ist ohne gesonderte Vergütung mit dem Angebot einzureichen. Vergütet wird ausschließlich die Detaillierung nach Zuschlagserteilung. Die Migrationsarbeiten können nicht innerhalb der Regelarbeitszeit durchgeführt werden. Sämtliche Zuschläge für Einsätze außerhalb der Regelarbeitszeit, an Wochenenden und an Feiertagen sind daher in den Pauschalpreisen dieser Rubrik vollständig enthalten. Eine gesonderte Vergütung nach den Tagessätzen erfolgt für diese Leistungen nicht.
A33: =IF($E33="","",COUNTA($E$9:$E33)-1) -> 13 | B33: Herbeiführung der Betriebsbereitschaft | C33: Dies umfasst sämtliche konzeptionellen Leistungen sowie die Implementierungs-, Integrations und Migrationsleistungen, die zur Herbeiführung der Betriebsbereitschaft erforderlich sind. | D33: 1 | E33: Pauschal | F33: 0 | G33: =D33*F33 -> 0
A34: Zwischensumme C Herbeiführung der Betriebsbereitschaft | G34: =SUM(G33:G33) -> 0
A36: D Schulung
A38: =IF($E38="","",COUNTA($E$9:$E38)-1) -> 14 | B38: Schulung inkl. Schulungsunterlagen | C38: Strukturierter Wissenstransfer vor Ort für das Betriebspersonal einschließlich Übergabe der Unterlagen in bearbeitbarer Form | D38: 5 | E38: Tag | F38: 0 | G38: =D38*F38 -> 0
A39: Zwischensumme D Schulung | G39: =SUM(G38:G38) -> 0
A41: E Systemservice/Herstellersupport
A42: Leistungen des Auftragnehmers als Single Point of Contact sowie Herstellersupport gemäß Abschnitt 11.1 der Leistungsbeschreibung.
A43: =IF($E43="","",COUNTA($E$9:$E43)-1) -> 15 | B43: PAN-SVC-BKLN-5540-5YR | C43: PA-5540, Partner Enabled Premium Support, 60 Monate | D43: 2 | E43: Stück | F43: 0 | G43: =D43*F43 -> 0
A44: =IF($E44="","",COUNTA($E$9:$E44)-1) -> 16 | B44: PAN-SVC-BKLN-1420-5YR | C44: PA-1420, Partner Enabled Premium Support, 60 Monate | D44: 1 | E44: Stück | F44: 0 | G44: =D44*F44 -> 0
A45: =IF($E45="","",COUNTA($E$9:$E45)-1) -> 17 | B45: PAN-SVC-BKLN-M-700-P-25-5Y | C45: Panorama M-700, 25 Devices, Partner Enabled Premium Support, 60 Monate | D45: 1 | E45: Stück | F45: 0 | G45: =D45*F45 -> 0
A46: =IF($E46="","",COUNTA($E$9:$E46)-1) -> 18 | B46: Wartung und Support Jahr 1 | C46: Störungsannahme, Störungsanalyse, Eskalation an den Hersteller, Update-Unterstützung und proaktive Information, Vertragsjahr 1 | D46: 1 | E46: Jahr | F46: 0 | G46: =D46*F46 -> 0
A47: =IF($E47="","",COUNTA($E$9:$E47)-1) -> 19 | B47: Wartung und Support Jahr 2 | C47: Störungsannahme, Störungsanalyse, Eskalation an den Hersteller, Update-Unterstützung und proaktive Information, Vertragsjahr 2 | D47: 1 | E47: Jahr | F47: 0 | G47: =D47*F47 -> 0
A48: =IF($E48="","",COUNTA($E$9:$E48)-1) -> 20 | B48: Wartung und Support Jahr 3 | C48: Störungsannahme, Störungsanalyse, Eskalation an den Hersteller, Update-Unterstützung und proaktive Information, Vertragsjahr 3 | D48: 1 | E48: Jahr | F48: 0 | G48: =D48*F48 -> 0
...

Sheet Zusammenfassung
A1: Zusammenfassung
A2: Die Werte werden automatisch aus dem Blatt Preisblatt übernommen und sind nicht zu bearbeiten.
A4: Rubrik | B4: Bezeichnung | C4: Summe netto | D4: Anteil
A5: A | B5: A Hardware | C5: =Preisblatt!$G$21 -> 0 | D5: =IFERROR(C5/$C$12,0) -> 0
A6: B | B6: B Softwarelizenzen | C6: =Preisblatt!$G$29 -> 0 | D6: =IFERROR(C6/$C$12,0) -> 0
A7: C | B7: C Herbeiführung der Betriebsbereitschaft | C7: =Preisblatt!$G$34 -> 0 | D7: =IFERROR(C7/$C$12,0) -> 0
A8: D | B8: D Schulung | C8: =Preisblatt!$G$39 -> 0 | D8: =IFERROR(C8/$C$12,0) -> 0
A9: E | B9: E Systemservice/Herstellersupport | C9: =Preisblatt!$G$51 -> 0 | D9: =IFERROR(C9/$C$12,0) -> 0
A10: F | B10: F Rückbau des Altsystems | C10: =Preisblatt!$G$55 -> 0 | D10: =IFERROR(C10/$C$12,0) -> 0
A11: G | B11: G Abrufleistungen (fiktive Wertungsmenge) | C11: =Preisblatt!$G$66 -> 0 | D11: =IFERROR(C11/$C$12,0) -> 0
B12: Wertungssumme netto (Rubriken A bis G) | C12: =SUM(C5:C11) -> 0
B13: zuzüglich Umsatzsteuer 19 Prozent | C13: =C12*0.19 -> 0
B14: Wertungssumme brutto | C14: =C12+C13 -> 0
