Workbook

Sheet Anleitung
A1: Bewertungsmatrix Kundenleitsystem – Qualitäts- und Preiswertung
A3: Bewertungslogik
A4: 1 | B4: Zuerst wird die Erfüllung der Mindestanforderungen der Leistungsbeschreibung geprüft. Hierzu sind aussagekräftige Darstellungen im Konzept, Angaben zu den technischen Eigenschaften der angebotenen Hardware und erschöpfende Funktionsbeschreibungen der Software einzureichen. Auf alle Funktionen, die in der Leistungsbeschreibung gefordert werden, muss eingegangen werden. Die Erfüllung der Mindestanforderungen wird auch nach den Angaben im Leistungsverzeichnis beurteilt.
A5: 2 | B5: Nur Bieter mit vollständig erfüllten Mindestanforderungen nehmen an der Qualitäts- und Preiswertung teil.
A6: 3 | B6: Danach erfolgt die Qualitätswertung auf einer Skala von 0 bis 5. Es gibt bewusst keine zusätzlichen Qualitäts-Ausschlussschwellen. Erwartet wird eine aussagekräftige und schlüssige Darstellung der Auftragsumsetzung hinsichtlich der auf dem Arbeitblatt "Qualitätswertung" genannten Unterkriterien. Sofern die Nutzerfreundlichkeit zu bewerten ist, sind Screenshots und Ablauf-/Klickdiagramme oder Vergleichbares einzureichen. Ideen, Funktionen und Eigenschaften der Hardware, die über die in der Leistungsbeschreibung genannten Mindestanforderungen hinausgehen werden positiv honoriert, sofern sie einen zusätzlichen Nutzen bringen. Hierbei werden die angebotenen Hard- und Softwarefunktionen und -eigenschaften in ein Gesamtverhältnis der einzelnen Angebote gesetzt. Die Bewertung und Bepunktung für die Zuschlagskriterien wird wie folgt vorgenommen: Die einzelnen Wertungskriterien werden nach den im Folgenden auf dem Arbeitblatt "Qualitätswertung" ausgeführten Anforderungen und den Anforderungen der Leistungsbeschreibung bewertet und bepunktet und der Angebotspreis in Punkte umgerechnet. Das Kriterium Qualität wird von einer insgesamt dreiköpfigen Wertungskommission bewertet. Die Bewertung erfolgt durch die Mitglieder der Wertungskommission in einem konsensualen Verfahren, bedeutet, es wird eine Gesamtnote einvernehmlich vergeben. Die Leistungskonzepte dürfen 25 Seiten DIN A4 nicht überschreiten, Schriftgröße Arial 10, 1,15-facher Zeilenabstand, gerechnet ohne Deckblatt. Der Auftraggeber wird von Leistungskonzepten, die die Anzahl von 25 DIN A 4 Seiten überschreiten, nur die ersten 25 Seiten (ohne Deckblatt) in die Wertung mit einbeziehen.
A7: 4 | B7: Die unterschiedliche Bedeutung der Qualitätsbereiche wird ausschließlich über die Maximalpunkte abgebildet.
A8: 5 | B8: Qualität: maximal 600 Punkte. Preis: maximal 400 Punkte. Gesamt: maximal 1.000 Punkte.
A10: Qualitätsskala 0–5
A11: Punkte | B11: Bewertung | C11: Orientierung
A12: 0 | B12: nicht verwertbar | C12: Ungenügende inhaltliche und fachliche Ausgestaltung. Das Konzept ist inhaltlich durchweg unzureichend und unbrauchbar.
A13: 1 | B13: sehr schwach | C13: Mangelhafte inhaltliche und fachliche Ausgestaltung. Das Konzept des Bieters lässt insgesamt eine schlechte Leistungserbringung erwarten. Der Gesamteindruck ist negativ. Der Bieter reicht ein lediglich rudimentäres Konzept ein, in dem er auf sehr wenige der genannten wertungsrelevanten Aspekte eingeht und diese nicht hinreichend erläutert. Die Ausführungen sind allenfalls teilweise nachvollziehbar und nicht plausibel. Die angebotenen Funktionen und die Gestaltung der Software und der Hardware lassen insgesamt eine mangelhafte Auftragserfüllung erwarten.
A14: 2 | B14: ausreichend | C14: Ausreichende inhaltliche und fachliche Ausgestaltung. Das Konzept des Bieters lässt insgesamt eine nur ausreichende Leistungserbringung erwarten. Der Gesamteindruck ist eher negativ. Der Bieter geht auf wenige der relevanten Aspekte ein und erläutert diese oberflächlich. Die Ausführungen sind nicht immer nachvollziehbar und nur bedingt plausibel. Die angebotenen Funktionen und die Gestaltung der Software und der Hardware lassen insgesamt eine ausreichende Auftragserfüllung erwarten.
A15: 3 | B15: befriedigend | C15: Befriedigende inhaltliche und fachliche Ausgestaltung. Das Konzept des Bieters lässt insgesamt eine befriedigende Leistungserbringung erwarten. Der Gesamteindruck ist noch positiv. Der Bieter geht auf einige, aber bei weitem nicht relevante Aspekte ein und erläutert diese einigermaßen präzise. Die Ausführungen sind zwar nachvollziehbar, vermögen jedoch nicht vollends zu überzeugen, und sind auch nicht immer plausibel. Die angebotenen Funktionen und die Gestaltung der Software und der Hardware lassen insgesamt eine durchschnittliche Auftragserfüllung erwarten.
A16: 4 | B16: gut | C16: Gute inhaltliche und fachliche Ausgestaltung. Das Konzept des Bieters lässt insgesamt eine gute und effiziente Leistungserbringung erwarten. Der Gesamteindruck ist überwiegend positiv. Der Bieter geht auf viele, aber nicht alle relevanten Aspekte ein und erläutert sie zumeist präzise. Die Ausführungen sind größtenteils nachvollziehbar und plausibel. Die angebotenen Funktionen und die Gestaltung der Software und der Hardware lassen insgesamt eine gute Auftragserfüllung erwarten.
A17: 5 | B17: sehr gut | C17: Sehr gute inhaltliche und fachliche Ausgestaltung. Das Konzept des Bieters lässt insgesamt eine hervorragende und höchst effiziente Leistungserbringung erwarten. Der Gesamteindruck ist durchweg positiv. Der Bieter geht auf alle relevanten Aspekte umfassend ein und erläutert sie äußerst präzise. Sämtliche Ausführungen sind nachvollziehbar und plausibel. Die angebotenen Funktionen und die Gestaltung der Software und der Hardware lassen insgesamt eine sehr gute Auftragserfüllung erwarten. Leistungskonzept, Software oder Hardware bieten einen Mehrwert und lassen eine besonders erfolgreiche Auftragserfüllung erwarten.

Sheet Qualitätswertung
A1: Qualitätswertung
A3: Nr. | B3: Hauptkriterium | C3: Unterkriterium | D3: Maximalpunkte | E3: Bieter 1 0–5 | F3: Bieter 1 Punkte | G3: Bieter 2 0–5 | H3: Bieter 2 Punkte | I3: Bieter 3 0–5 | J3: Bieter 3 Punkte | K3: Bieter 4 0–5 | L3: Bieter 4 Punkte | M3: Bieter 5 0–5 | N3: Bieter 5 Punkte
A4: A1.1 | B4: A1 Fachliches Gesamtkonzept und Prozessabbildung | C4: Kundensteuerung und Check-in: terminierte und unterminierte Kundschaft, Anmeldung, Zuordnung und Warteprozess | D4: 80 | F4: =IF(E4="","",D4*E4/5) | H4: =IF(G4="","",D4*G4/5) | J4: =IF(I4="","",D4*I4/5) | L4: =IF(K4="","",D4*K4/5) | N4: =IF(M4="","",D4*M4/5)
A5: A1.2 | B5: A1 Fachliches Gesamtkonzept und Prozessabbildung | C5: Aufruf-, Weiterleitungs- und Statussteuerung einschließlich bereichsübergreifender Nutzung | D5: 40 | F5: =IF(E5="","",D5*E5/5) | H5: =IF(G5="","",D5*G5/5) | J5: =IF(I5="","",D5*I5/5) | L5: =IF(K5="","",D5*K5/5) | N5: =IF(M5="","",D5*M5/5)
A6: A1.3 | B6: A1 Fachliches Gesamtkonzept und Prozessabbildung | C6: Stimmigkeit, Nachvollziehbarkeit und Praxistauglichkeit des fachlichen Gesamtkonzepts | D6: 40 | F6: =IF(E6="","",D6*E6/5) | H6: =IF(G6="","",D6*G6/5) | J6: =IF(I6="","",D6*I6/5) | L6: =IF(K6="","",D6*K6/5) | N6: =IF(M6="","",D6*M6/5)
A7: A2.1 | B7: A2 Bedienbarkeit und Nutzerführung | C7: Kundenseitige Nutzerführung am Touchpanel / Check-in, Verständlichkeit und Bedienaufwand | D7: 35 | F7: =IF(E7="","",D7*E7/5) | H7: =IF(G7="","",D7*G7/5) | J7: =IF(I7="","",D7*I7/5) | L7: =IF(K7="","",D7*K7/5) | N7: =IF(M7="","",D7*M7/5)
A8: A2.2 | B8: A2 Bedienbarkeit und Nutzerführung | C8: Mitarbeiteroberfläche: Übersichtlichkeit, Statusdarstellung, Filterung und Bedienaufwand | D8: 35 | F8: =IF(E8="","",D8*E8/5) | H8: =IF(G8="","",D8*G8/5) | J8: =IF(I8="","",D8*I8/5) | L8: =IF(K8="","",D8*K8/5) | N8: =IF(M8="","",D8*M8/5)
A9: A2.3 | B9: A2 Bedienbarkeit und Nutzerführung | C9: Nutzbarkeit bei hohem Besucheraufkommen und konfigurierbare Darstellung | D9: 20 | F9: =IF(E9="","",D9*E9/5) | H9: =IF(G9="","",D9*G9/5) | J9: =IF(I9="","",D9*I9/5) | L9: =IF(K9="","",D9*K9/5) | N9: =IF(M9="","",D9*M9/5)
A10: A3.1 | B10: A3 Administration, Flexibilität und Erweiterbarkeit | C10: Eigenständige Administration von Anliegen, Bereichen, Standorten, Rollen und Rechten | D10: 35 | F10: =IF(E10="","",D10*E10/5) | H10: =IF(G10="","",D10*G10/5) | J10: =IF(I10="","",D10*I10/5) | L10: =IF(K10="","",D10*K10/5) | N10: =IF(M10="","",D10*M10/5)
A11: A3.2 | B11: A3 Administration, Flexibilität und Erweiterbarkeit | C11: Konfiguration von Routing-, Aufruf- und Steuerungsregeln | D11: 30 | F11: =IF(E11="","",D11*E11/5) | H11: =IF(G11="","",D11*G11/5) | J11: =IF(I11="","",D11*I11/5) | L11: =IF(K11="","",D11*K11/5) | N11: =IF(M11="","",D11*M11/5)
A12: A3.3 | B12: A3 Administration, Flexibilität und Erweiterbarkeit | C12: Erweiterbarkeit, Änderbarkeit und Nachvollziehbarkeit administrativer Änderungen | D12: 25 | F12: =IF(E12="","",D12*E12/5) | H12: =IF(G12="","",D12*G12/5) | J12: =IF(I12="","",D12*I12/5) | L12: =IF(K12="","",D12*K12/5) | N12: =IF(M12="","",D12*M12/5)
A13: A4.1 | B13: A4 Technische Qualität und Betrieb | C13: Hardwarequalität: Touchpanels, Monitore, Peripherie, Ergonomie und Eignung für den Dauerbetrieb | D13: 40 | F13: =IF(E13="","",D13*E13/5) | H13: =IF(G13="","",D13*G13/5) | J13: =IF(I13="","",D13*I13/5) | L13: =IF(K13="","",D13*K13/5) | N13: =IF(M13="","",D13*M13/5)
A14: A4.2 | B14: A4 Technische Qualität und Betrieb | C14: Technische Betriebsqualität oberhalb der Mindestanforderungen: Stabilität, Skalierbarkeit, Redundanz, Monitoring, Update, Backup und Wiederherstellung | D14: 60 | F14: =IF(E14="","",D14*E14/5) | H14: =IF(G14="","",D14*G14/5) | J14: =IF(I14="","",D14*I14/5) | L14: =IF(K14="","",D14*K14/5) | N14: =IF(M14="","",D14*M14/5)
A15: A5.1 | B15: A5 Einführung, Test und Rollout | C15: Projektierung, Anforderungsaufnahme, Erstkonfiguration und Rollout beider Standorte | D15: 35 | F15: =IF(E15="","",D15*E15/5) | H15: =IF(G15="","",D15*G15/5) | J15: =IF(I15="","",D15*I15/5) | L15: =IF(K15="","",D15*K15/5) | N15: =IF(M15="","",D15*M15/5)
... A20: A7.2 | B20: A7 Schulung und Dokumentation | C20: Qualität, Nutzbarkeit und Aktualisierung der Dokumentation | D20: 15 | F20: =IF(E20="","",D20*E20/5) | H20: =IF(G20="","",D20*G20/5) | J20: =IF(I20="","",D20*I20/5) | L20: =IF(K20="","",D20*K20/5) | N20: =IF(M20="","",D20*M20/5)
A22: Qualität gesamt (max. 600 Punkte) | F22: =SUM(F4:F20) -> 0 | H22: =SUM(H4:H20) -> 0 | J22: =SUM(J4:J20) -> 0 | L22: =SUM(L4:L20) -> 0 | N22: =SUM(N4:N20) -> 0
A24: Hinweis: Die Erfüllung der Mindestanforderungen wird außerhalb dieser Punktetabelle geprüft. In der Qualitätswertung werden die zulässigen Angebote ausschließlich anhand der dargestellten Qualitätskriterien bewertet. Zusätzliche Qualitäts-Ausschlussschwellen sind nicht vorgesehen.

Sheet Preiswertung
A1: Preiswertung
A3: Bieter | B3: Grundlaufzeit (€) | C3: Option 1 (€) | D3: Option 2 (€) | E3: Wertungspreis (€) | F3: Günstigster Wertungspreis (€) | G3: Preispunkte (max. 400)
A4: Bieter 1 | E4: =IF(COUNTA(B4:D4)=0,"",SUM(B4:D4)) | F4: =IF(COUNT($E$4:$E$8)=0,"",MIN($E$4:$E$8)) | G4: =IF(OR(E4="",F4=""),"",F4/E4*400)
A5: Bieter 2 | E5: =IF(COUNTA(B5:D5)=0,"",SUM(B5:D5)) | F5: =IF(COUNT($E$4:$E$8)=0,"",MIN($E$4:$E$8)) | G5: =IF(OR(E5="",F5=""),"",F5/E5*400)
A6: Bieter 3 | E6: =IF(COUNTA(B6:D6)=0,"",SUM(B6:D6)) | F6: =IF(COUNT($E$4:$E$8)=0,"",MIN($E$4:$E$8)) | G6: =IF(OR(E6="",F6=""),"",F6/E6*400)
A7: Bieter 4 | E7: =IF(COUNTA(B7:D7)=0,"",SUM(B7:D7)) | F7: =IF(COUNT($E$4:$E$8)=0,"",MIN($E$4:$E$8)) | G7: =IF(OR(E7="",F7=""),"",F7/E7*400)
A8: Bieter 5 | E8: =IF(COUNTA(B8:D8)=0,"",SUM(B8:D8)) | F8: =IF(COUNT($E$4:$E$8)=0,"",MIN($E$4:$E$8)) | G8: =IF(OR(E8="",F8=""),"",F8/E8*400)

Sheet Gesamtergebnis
A1: Gesamtergebnis
A3: Bieter | B3: Qualitätspunkte | C3: Preispunkte | D3: Gesamtpunkte | E3: Rang | F3: Max. Punkte | G3: Hinweis
A4: Bieter 1 | C4: =Preiswertung!G4 | D4: =IF(OR(B4="",C4=""),"",B4+C4) | E4: =IF(D4="","",RANK(D4,$D$4:$D$8,0)) | F4: 1000 | G4: Qualität 600 / Preis 400
A5: Bieter 2 | C5: =Preiswertung!G5 | D5: =IF(OR(B5="",C5=""),"",B5+C5) | E5: =IF(D5="","",RANK(D5,$D$4:$D$8,0)) | F5: 1000 | G5: Qualität 600 / Preis 400
A6: Bieter 3 | C6: =Preiswertung!G6 | D6: =IF(OR(B6="",C6=""),"",B6+C6) | E6: =IF(D6="","",RANK(D6,$D$4:$D$8,0)) | F6: 1000 | G6: Qualität 600 / Preis 400
A7: Bieter 4 | C7: =Preiswertung!G7 | D7: =IF(OR(B7="",C7=""),"",B7+C7) | E7: =IF(D7="","",RANK(D7,$D$4:$D$8,0)) | F7: 1000 | G7: Qualität 600 / Preis 400
A8: Bieter 5 | C8: =Preiswertung!G8 | D8: =IF(OR(B8="",C8=""),"",B8+C8) | E8: =IF(D8="","",RANK(D8,$D$4:$D$8,0)) | F8: 1000 | G8: Qualität 600 / Preis 400
