Workbook
Name competition_replies: 'IBM Zuschlagskriteri'!$P$5:$P$100
Name competition_replies: 'TMon Zuschlagskriteri'!$P$5:$P$97
Name competition_replies: Zusammenfassung!#REF!
Name competition_replies: 'ERHEBUNGSBOGEN Eignung'!$P$18:$P$174
Name Print_Area: 'ERHEBUNGSBOGEN Eignung'!$A$1:$Q$184
Name Print_Area: 'IBM Zuschlagskriteri'!$A$1:$Q$109
Name Print_Area: Rangfolge!$A$1:$D$15
Name Print_Area: 'TMon Zuschlagskriteri'!$A$1:$Q$106
Name Print_Area: Zusammenfassung!$A$1:$Q$34
Name Print_Titles: 'ERHEBUNGSBOGEN Eignung'!$1:$4
Name Print_Titles: 'IBM Zuschlagskriteri'!$1:$4
Name Print_Titles: 'TMon Zuschlagskriteri'!$1:$4
Name Print_Titles: Zusammenfassung!$1:$4

Sheet Rangfolge
A3: Maßnahme: | B3: ='ERHEBUNGSBOGEN Eignung'!F8 -> Klinikums Bayreuth - Bauliche Erneuerung des Klinikums Bayreuth - Bauabschnitte 1 und 2
A4: Leistung: | B4: ='ERHEBUNGSBOGEN Eignung'!F10 -> Leistungen für Technisches Monitoring (TMon) und Inbetriebnahme-Management (IBM)
A5: Verfahren: | B5: ='ERHEBUNGSBOGEN Eignung'!F12 -> Offenes Verfahren nach § 15 VgV
A7: Rang | B7: Bewerber & Bewerber-Nr.: | C7: Punktzahl (SPPM) | D7: Formelle Prüfung bestanden
A8: =_xlfn.RANK.EQ(C8,$C$8:$C$15) -> #REF! | B8: ='ERHEBUNGSBOGEN Eignung'!#REF! -> #REF! | C8: ='ERHEBUNGSBOGEN Eignung'!O181 -> 0 | D8: Ja
A9: =_xlfn.RANK.EQ(C9,$C$8:$C$15) -> #REF! | B9: ='ERHEBUNGSBOGEN Eignung'!#REF! -> #REF! | C9: ='ERHEBUNGSBOGEN Eignung'!#REF! -> #REF! | D9: Ja
A10: =_xlfn.RANK.EQ(C10,$C$8:$C$15) -> #REF! | B10: ='ERHEBUNGSBOGEN Eignung'!#REF! -> #REF! | C10: ='ERHEBUNGSBOGEN Eignung'!#REF! -> #REF! | D10: Ja
A11: =_xlfn.RANK.EQ(C11,$C$8:$C$15) -> #REF! | B11: ='ERHEBUNGSBOGEN Eignung'!#REF! -> #REF! | C11: ='ERHEBUNGSBOGEN Eignung'!#REF! -> #REF! | D11: Ja
A12: =_xlfn.RANK.EQ(C12,$C$8:$C$15) -> #REF! | B12: ='ERHEBUNGSBOGEN Eignung'!#REF! -> #REF! | C12: ='ERHEBUNGSBOGEN Eignung'!#REF! -> #REF! | D12: Ja
A13: =_xlfn.RANK.EQ(C13,$C$8:$C$15) -> #REF! | B13: ='ERHEBUNGSBOGEN Eignung'!#REF! -> #REF! | C13: ='ERHEBUNGSBOGEN Eignung'!#REF! -> #REF! | D13: Ja
A14: =_xlfn.RANK.EQ(C14,$C$8:$C$15) -> #REF! | B14: ='ERHEBUNGSBOGEN Eignung'!#REF! -> #REF! | C14: ='ERHEBUNGSBOGEN Eignung'!#REF! -> #REF! | D14: Ja
A15: =_xlfn.RANK.EQ(C15,$C$8:$C$15) -> #REF! | B15: ='ERHEBUNGSBOGEN Eignung'!#REF! -> #REF! | C15: ='ERHEBUNGSBOGEN Eignung'!#REF! -> #REF! | D15: Ja

Sheet ERHEBUNGSBOGEN Eignung
A1: =F8 -> Klinikums Bayreuth - Bauliche Erneuerung des Klinikums Bayreuth - Bauabschnitte 1 und 2 | P1: TMon_IBM
A2: =+F10 -> Leistungen für Technisches Monitoring (TMon) und Inbetriebnahme-Management (IBM)
A3: NUMMER Bieter (wird durch Beschaffungsdienstleister vergeben) | P3: 1
A4: ANGEBOT ALS … / BESTANDTEIL DER BIETERGEMEINSCHAFT MIT DEM NAMEN …
E6: AUFTRAGGEBER | F6: Klinikum Bayreuth GmbH, Preuschwitzer Str. 101, 95445 Bayreuth
E8: MASSNAHME | F8: Klinikums Bayreuth - Bauliche Erneuerung des Klinikums Bayreuth - Bauabschnitte 1 und 2
E10: LEISTUNG | F10: Leistungen für Technisches Monitoring (TMon) und Inbetriebnahme-Management (IBM)
E12: VERFAHREN | F12: Offenes Verfahren nach § 15 VgV
E14: BESCHAFFUNGSDIENSTLEISTER | F14: Stein und Partner Projektmanagement GmbH
E16: KOMMUNIKATION | F16: Die Kommunikation im Verfahren ist AUSSCHLIESSLICH über die Plattform zu führen.
E18: BEARBEITUNG | F18: Auf allen Folgeseiten sind die Felder durch den Bieter auszufüllen, die folgendermaßen markiert sind. Darüber hinaus dürfen keine Anpassungen an der Datei vorgenommen werden. | M18: →
F21: Felder mit nebenstehender Kennzeichnung werden durch die Kontaktstelle ausgefüllt. | M21: →
E23: WICHTIGE HINWEISE | F23: Der Erhebungsbogen darf NICHT in ein anderes Datei-Format (z.B. PDF) konvertiert werden! Die Excel-Datei ist abzugeben. Unwahre Angaben können zum Ausschluss von diesem und zukünftigen Verfahren führen, die durch den Auftraggeber ausgerichtet werden! Der Erhebungsbogen kann nicht händisch unterzeichnet werden. Anstelle einer Unterschrift ist am Ende des Erhebungsbogens der Namen eines bevollmächtigten Vertreters anzugeben.
E27: TEIL I: ALLGEMEINE ANGABEN
A28: 1. | B28: 1. | E28: ART DER TEILNAHME
A30: 1. | B30: 1. | C30: 1 | E30: EINZELBIETER | M30: Ja | P30: FALSE
E31: Ich bin Bieter bzw. handle für ein Unternehmen, das ein Angebot abgibt. | M31: Nein | P31: FALSE
E32: Wenn Sie sich als Teil einer Bietergemeinschaft handeln, bitte "Nein" angeben und 1.1.2 bzw. 1.1.3 beachten.
A34: 1. | B34: 1. | C34: 2 | E34: VERTRETUNGSBERECHTIGES MITGLIED BIETERGEMEINSCHAFT | M34: Ja | P34: FALSE
E35: Ich bin vertretungsberechtigtes Mitglied einer Bietergemeinschaft und gebe das Angebot ab. | M35: Nein | P35: FALSE
E36: Wenn Sie sich als Teil einer Bietergemeinschaft anbieten und nicht vertretungsberechtigt sind bzw. Einzelbieter sind, bitte "Nein" angeben und 1.1.1 bzw. 1.1.3 beachten.
A38: 1. | B38: 1. | C38: 3 | E38: NICHT-VERTRETUNGSBERECHTIGES MITGLIED BIETERGEMEINSCHAFT | M38: Ja | P38: FALSE
E39: Ich bin weiteres, nicht-vertretungsberechtigtes Mitglied einer Bietergemeinschaft und beteilige mich am Angebot. | M39: Nein | P39: FALSE
E40: Wenn Sie Einzelbieter sind bzw. sich als vertretungsberechtigtes Mitglied einer Bietergemeinschaft anbieten, bitte "Nein" angeben und 1.1.1 bzw. 1.1.2 beachten.
A42: 1. | B42: 1. | C42: 4 | E42: EIGNUNGSLEIHE (GEBER DER EIGNUNGSLEIHE) | M42: Ja | P42: FALSE
E43: Ich bin bzw. handle für ein anderes Unternehmen, dessen Kapazität im Hinblick auf die wirtschaftliche und finanzielle oder technische und berufliche Leistungsfähigkeit in Anspruch genommen werden soll (Eignungsleihe). | M43: Nein | P43: FALSE
E44: Wenn Sie keine Eignung verleihen, bitte "Nein" angeben bzw. 2.3.1 beachten.
A46: 1. | B46: 1. | C46: 5 | E46: UNTERAUFTRAGNEHMER | M46: Ja | P46: FALSE
E47: Ich bin bzw. handle für ein anderes Unternehmen, dem im Wege der Unterauftragsvergabe ein Teil des Auftrags gegeben werden soll. | M47: Nein | P47: FALSE
E48: Wenn Sie kein Unterauftragnehmer sind, bitte "Nein" angeben bzw. 2.4.1 beachten.
E50: TEIL II: ANGABEN ZUM UNTERNEHMEN
A51: 2. | B51: 1. | E51: ANGABEN ZUR IDENTITÄT DES UNTERNEHMENS
A53: 2. | B53: 1. | C53: 1 | E53: Rechtsgeschäftlich korrekter Name des Unternehmens, welches den Erhebungsbogen ausfüllt:
E54: Ansprechpartner(in):
E55: Straße und Hausnummer:
E56: Postleitzahl:
E57: Ort:
E58: Land:
E59: Telefon:
E60: Fax:
E61: E-Mail:
E62: Website:
A64: 2. | B64: 1. | C64: 2 | E64: Umsatzsteuer-ldentifikationsnummer:
E65: Rechtsform:
E66: Gründungsjahr:
E67: Nationalität des Eigentümers / Eigentümerin:
A69: 2. | B69: 1. | C69: 3 | E69: WIRTSCHAFTLICHE VERKNÜPFUNGEN | M69: (Nein = Ankreuzen, ansonsten Erläuterung) | P69: FALSE
E70: Sollten wirtschaftliche Verknüpfungen zu anderen Unternehmen bestehen, sind diese anzugeben und ggf. in separater Anlage zu erläutern.
A72: 2. | B72: 3. | E72: ANGABEN ZUR INANSPRUCHNAHME DER KAPAZITÄTEN ANDERER UNTERNEHMEN (EIGNUNGSLEIHE)
A74: 2. | B74: 3. | C74: 1 | E74: EIGNUNGSLEIHE (NEHMER DER EIGNUNGSLEIHE) | M74: Ja | P74: FALSE
E75: Nimmt das Unternehmen zur Erfüllung der Eignungskriterien die Kapazitäten anderer Unternehmen in Anspruch?
E76: Wenn Sie keine Eignungsleihe in Anspruch nehmen, bitte "Nein" angeben. | M76: Nein | P76: FALSE
A78: 2. | B78: 4. | E78: ANGABEN ZUR VERGABE VON UNTERAUFTRÄGEN
A80: 2. | B80: 4. | C80: 1 | E80: VERGABE VON UNTERAUFTRÄGEN AN DRITTE | M80: Ja | P80: FALSE
E81: Beabsichtigt das Unternehmen, einen Teil des Auftrags im Wege der Unterauftragsvergabe an Dritte weiterzuvergeben? Wenn Sie keine Leistungsanteile an Dritte unterbeauftragen, bitte "Nein" angeben. | M81: Nein | P81: FALSE
E83: TEIL III: AUSSCHLUSSGRÜNDE
A84: 3. | B84: 1. | E84: AUSSCHLUSSGRÜNDE
A86: 3. | B86: 1. | C86: 1 | E86: AUSSCHLUSSGRÜNDE GEMÄSS §§ 123 und/ oder 124 GWB | M86: Ja | P86: FALSE
E87: Sollten Ausschlussgründe nach §§123 und/ oder 124 GWB vorliegen (Ja = Es liegen Ausschlussgründe vor), sind die erforderlichen Erklärungen gm. § 125 GWB in separater Anlage abzugeben. | M87: Nein | P87: FALSE
A89: 3. | B89: 1. | C89: 2 | E89: AUSSCHLUSSGRÜNDE GEMÄSS MINDESTLOHNGESETZ / ARBEITNEHMERENTSENDEGESETZ / | M89: Ja | P89: FALSE
E90: AUFENTHALTSGESETZ / SCHWARZARBEITSBEKÄMPFUNGSGESETZ | M90: Nein | P90: FALSE
E91: Sollten Ausschlussgründe nach nach § 19 Abs. 1 Mindestlohngesetz, § 21 Abs. 1 Arbeitnehmerentsendegesetz, § 98c Abs. 1 Aufenthaltsgesetz oder § 21 Abs. 1 Satz 1 oder 2 Schwarzarbeitsbekämpfungsgesetz vorliegen (Ja = Es liegen Ausschlussgründe vor), sind diese wahrheitsgemäß anzugeben.
A93: 3. | B93: 1. | C93: 3 | E93: AUSSCHLUSSGRÜNDE ZUR SICHERSTELLUNG EINER UNABHÄNGIGEN QUALITÄTSSICHERUNG GEM. AMEV-TECHNISCHES MONITORING | M93: Ja | P93: FALSE
E94: Bereits beauftragte Fachplanungsbüros werden für diese Maßnahme ausgeschlossen. Dies begründet sich primär nicht im Vergaberecht, sondern in den Ausführungen des AMEV-Technische Monitorings. (Dies versteht TMon ausdrücklich als Qualitätssicherungsinstrument. Die eigenen Leistungen können nicht (völlig) unvoreingenommen geprüft werden. Weiterhin können dadurch Interessenskonflikte entstehen und eine zielführende unabhängige Qualitätssicherung beeinträchtigen.) | M94: Nein | P94: FALSE
E96: TEIL IV: EIGNUNGSKRITERIEN
A97: 4. | B97: 1. | E97: BEFÄHIGUNG ZUR BERUFSAUSÜBUNG
A99: 4 | B99: 1. | C99: 1 | E99: UNTERNEHMENSEINTRAGUNG | K99: Eintragungsort und -nummer | M99: ok
E100: Ist das Unternehmen in den einschlägigen Berufs- oder Handelsregistern seines Niederlassungsmitgliedstaates eingetragen?
E101: Falls ja, geben Sie bitte das Berufs- oder Handelsregister mit Eintragungsort und -nummer an. | M101: nein
E102: Falls nein, reicht eine Erläuterung als Eigenerklärung aus, weshalb dies nicht möglich ist.
A104: 4 | B104: 1. | C104: 2 | E104: BERUFSBEZEICHNUNG | K104: Mindestanforderung! | L104: (Ja = Ankreuzen) | P104: FALSE
E105: Der/die verantwortliche Berufsangehörige (Inhaber/in oder Geschäftsführer/in – je nach Rechtsform des Bieters) erklärt, zum Führen der Berufsbezeichnung oder zum Tätigwerden im Hinblick auf die vertragsgegenständliche Leistung der Ausschreibung in Deutschland berechtigt zu sein (§ 75 Abs. 3 VgV). Die Angabe erfolgt als Eigenerklärung. | K105: (Ja = Berechtigung zum Führen der Berufsbezeichnung oder zum Tätigwerden in Hinblick auf die vertragsgegenständliche Leistung der Ausschreibung liegt vor.)
A110: 4. | B110: 2 | E110: WIRTSCHAFTLICHE UND FINANZIELLE LEISTUNGSFÄHIGKEIT
A112: 4. | B112: 2. | C112: 1 | E112: DURCHSCHNITTLICHER SPEZIFISCHER JAHRESUMSATZ DER LETZTEN DREI GESCHÄFTSJAHRE | M112: ok
E114: Es sind die Jahresumsätze im ausschreibungsgegenständlichen Tätigkeitsbereich des Unternehmens der vergangenen 3 Geschäftsjahre (2023, 2024, 2025) anzugeben. Durchschnittlich in den Geschäftsjahren > 500.000,00 Euro brutto
K116: Jahresumsatz | L116: 2023
K117: Jahresumsatz | L117: 2024
K118: Jahresumsatz | L118: 2025
A121: 4. | B121: 2. | C121: 2 | E121: BERUFSHAFTPFLICHT | K121: Mindestanforderung!
E123: Der Bieter erklärt, im Auftragsfall eine Berufshaftpflicht mit folgenden Konditionen für je TMon und IBM nachzuweisen und für die Vertragsdauer aufrechtzuerhalten: *Personenschäden: mind. 3.000.000 EUR (Mindestanforderung); *Sonstige Schäden: mind. 2.000.000 EUR (Mindestanforderung). Die Deckungssumme muss pro Kalenderjahr mindestens 2-fach maximiert sein. Die Erklärung erfolgt als Eigenerklärung. | K123: (Ja = Im Auftragsfall wird eine Berufshaftpflicht mit genannten Konditionen abgeschlossen und dem AG nachgewiesen) | L123: (Ja = Ankreuzen) | P123: FALSE
A126: 4. | B126: 2. | C126: 3 | E126: Personelle Kapazitäten | K126: Mindestanforderung!
E128: Es ist per Eigenerklärung anzugeben, dass folgende personelle Mindestanforderungen erfüllt werden: (Mehrfachnennungen sind zulässig) (im Durchschnitt der Jahre 2023, 2024, 2025) | K128: (Ja =Darstellung im in tabellarischer Auflistung mit Angabe der Qualifikation)
E129: *mindestens 5 festangestellte Ingenieure (Mindestqualifikation Master) mit Erfahrung im Bereich TGA, | L129: (Ja = Ankreuzen) | P129: FALSE
E130: *mindestens 2 festangestellte Ingenieure (Mindestqualifikation Master) mit zusätzlicher Erfahrung für Technisches Monitoring | L130: (Ja = Ankreuzen) | P130: FALSE
E131: *mindestens 2 festangestellte Ingenieure (Mindestqualifikation Master) mit zusätzlicher Erfahrung in Inbetriebnahme und Inbetriebnahmemanagement | L131: (Ja = Ankreuzen) | P131: FALSE
A134: 4. | B134: 3. | E134: BERUFLICHE LEISTUNGSFÄHIGKEIT (VgV § 46 Abs. 3)
A136: 4. | B136: 3. | C136: 1 | E136: ORGANIGRAMM DES TEAMS | H136: Mindestanforderung! (Ja = Ankreuzen, Eigenerklärung / Organigramm beigefügt) | M136: ok | P136: FALSE
E137: Für das verantwortliche Team (TMon und IBM) ist ein vom Bieter erstelltes Organigramm als Eigenerklärung beizufügen. Daraus müssen Projektaufstellung, Vertretungsregelungen und Aufgabenfelder hervorgehen.
A139: 4. | B139: 3. | C139: 2 | E139: Fachingenieur Technisches Monitoring | L139: Mindestanforderung! (alle Kriterien müssen erfüllt sein) | M139: ok
E140: Namen des verbindlich vorgesehenen FACHINGENIEURS / FACHINGENIEURIN: | K140: FACHBEZOGENEN LEBENSLAUF
E141: 1. Die berufliche Befähigung und Qualifikation des Fachingenieurs/-in ist in einem ausführlichen, vom Bieter erstellten Lebenslauf als Eigenerklärung darzustellen. Aus dem Lebenslauf müssen Ausbildungszeit / Studium, Abschluss (Titel), Arbeitgeber (Nachweis Master für: Ingenieurwesen, Versorgungstechnik, Elektrotechnik, Gebäudetechnik, o.vgl.) | M141: (Ja = Ankreuzen) | P141: FALSE
E142: 2. Erforderlich sind mindestens 5 Jahre Berufserfahrung ab dem Datum des unter Pkt. 2 angegebenen Nachweises bis zum Fristende zur Einreichung des Angebots | M142: (Ja = Ankreuzen) | P142: FALSE
E143: 3. Erfahrungen in den Leistungsphasen 2–8. (LPH 8 muss abgeschlossen sein bis spätestens zur Einreichung des Angebots, und nicht älter als 01.01.2020) | M143: (Ja = Ankreuzen) | P143: FALSE
A145: 4. | B145: 3. | C145: 3 | E145: STELLVERTRETENDE Fachingenieur Technisches Monitoring | L145: Mindestanforderung! (alle Kriterien müssen erfüllt sein) | M145: ok
E146: Namen des verbindlich vorgesehenen STELLVERTRETENDEN FACHINGENIEURS / FACHINGENIEURIN: | K146: FACHBEZOGENEN LEBENSLAUF BEIFÜGEN
E147: 1.Die berufliche Befähigung und Qualifikation des Fachingenieurs/-in ist in einem ausführlichen, vom Bieter erstellten Lebenslauf als Eigenerklärung darzustellen. Aus dem Lebenslauf müssen Ausbildungszeit / Studium, Abschluss (Titel), Arbeitgeber (Nachweis Master für: Ingenieurwesen, Versorgungstechnik, Elektrotechnik, Gebäudetechnik, o.vgl.) | M147: (Ja = Ankreuzen) | P147: FALSE
E148: 2. Erforderlich sind mindestens 3 Jahre Berufserfahrung ab dem Datum des unter Pkt. 2 angegebenen Nachweises bis zum Fristende zur Einreichung des Angebots | M148: (Ja = Ankreuzen) | P148: FALSE
E149: 3. Erfahrungen in den Leistungsphasen 2–8. (Mindestens eine Referenz muss mit der LPH 8 bis spätestens zur Einreichung des Angebots abgeschlossen sein. Der Abschluss der Leistungsphase 8 darf zum Zeitpunkt der Angebotsabgabe nicht vor dem 01.01.2020 liegen.) | M149: (Ja = Ankreuzen) | P149: FALSE
A151: 4. | B151: 4 | C151: 1 | E151: Fachingenieur Inbetriebnahmemanagement (IBM) | L151: Mindestanforderung! (alle Kriterien müssen erfüllt sein) | M151: ok
E152: Namen des verbindlich vorgesehenen FACHINGENIEURS / FACHINGENIEURIN: | K152: FACHBEZOGENEN LEBENSLAUF BEIFÜGEN
...

Sheet TMon Zuschlagskriteri
A1: ='ERHEBUNGSBOGEN Eignung'!A1 -> Klinikums Bayreuth - Bauliche Erneuerung des Klinikums Bayreuth - Bauabschnitte 1 und 2 | P1: ='ERHEBUNGSBOGEN Eignung'!P1 -> TMon_IBM
A2: ='ERHEBUNGSBOGEN Eignung'!A2 -> Leistungen für Technisches Monitoring (TMon) und Inbetriebnahme-Management (IBM)
A3: NUMMER Bieter (wird durch Beschaffungsdienstleister vergeben) | P3: 1
A4: ANGEBOT ALS … / BESTANDTEIL DER BIETERGEMEINSCHAFT MIT DEM NAMEN …
E5: TEIL II: ANGABEN ZUM UNTERNEHMEN
A6: 2. | B6: 1. | E6: ANGABEN ZUR IDENTITÄT DES UNTERNEHMENS
A8: 2. | B8: 1. | C8: 1 | E8: Rechtsgeschäftlich korrekter Name des Unternehmens, welches den Erhebungsbogen ausfüllt: | P8: ='ERHEBUNGSBOGEN Eignung'!P53 -> 0
E9: Ansprechpartner(in): | P9: ='ERHEBUNGSBOGEN Eignung'!P54 -> 0
E10: TEIL V: ZUSCHLAGSKRITERIEN
A11: 5. | B11: 1. | E11: PERSÖNLICHE REFERENZEN TMon
E13: Übergreifende Mindestanforderungen (Bei Nicht-Erfüllung wird Referenz nicht gewertet!)
E14: Doppeltmeldungen der Referenzen aus dem IBM sind zulässig, wenn sie alle Mindestkriterien beider Bereiche erfüllen
E15: EINFÜHRENDE HINWEISE zu allen nachfolgenden Referenzen, die für jede Referenz zwingend zu beachten bzw. zu erfüllen sind:
E16: • Für die Leistungen für TMON wurde mindestens die Begleitung der TGA der Leistungsphasen 3-6 beauftragt. | L16: (Ja = Ankreuzen) | P16: FALSE
E17: • Referenzen sind nur zulässig, wenn sie spätestens zum 31.08.2016 abgeschlossen worden sind. | L17: (Ja = Ankreuzen) | P17: FALSE
E18: • Der Fachingenieur / Fachingenieurin ist zum Führen der Referenz berechtigt. | L18: (Ja = Ankreuzen) | P18: FALSE
E19: • Mindestens 1 Referenzprojekt hatte eine stufenweise Inbetriebnahme | L19: (Ja = Ankreuzen) | P19: FALSE
E20: • Es dürfen nicht mehr als zwei Referenzen vorgelegt werden. Wenn entgegen dieser Vorgabe durch den Bieter mehr als zwei Referenzen vorgelegt werden, besteht seitens des Bieters kein Anspruch darauf, dass diejenigen Referenzen gewertet werden, die gemäß den genannten Kriterien die meisten Punkte versprechen. | L20: (Ja = Ankreuzen) | P20: FALSE
A22: 5. | B22: 1. | C22: 1 | E22: REFERENZ 1 - PERSÖNLICHE REFERENZ DES FACHINGENIEURS/-IN TECHNISCHES MONITORING | M22: Eindeutiger Referenzname, mit Ortsangabe
E24: Für die hier zu behandelnde Referenz sind die übergreifenden Mindestanforderungen zu beachten (Bei Nicht-Erfüllung wird Referenz nicht gewertet!)
E26: ERGÄNZENDE PROJEKTANGABEN (reine Informationsangaben – keine zusätzliche Punktewertung)
E27: Angabe Person mit Funktion im Referenzprojekt (mind. Stellvertretender Fachingenieur / Fachingenieurin): | M27: ok
E29: • Auftraggeberdaten (Name, Adresse, Ansprechpartner, Telefon, E-Mail, Art des Vertragsverhältnisses / vertraglich gebunden als z. B. alleiniger Auftragnehmer, ARGE-Vertragspartner, Unterauftragnehmer): | M29: ok
E34: Planungsbeginn | M34: ok
E35: Baubeginn (nicht vor 01.1.2020) | M35: ok
E36: Fertigstellung LPH 6 | M36: ok
E37: Gesamtbaukosten brutto (EUR) | M37: ok
E39: Projektbeschreibung (insbesondere Aufgabenstellung, Planungsumfang, besondere technische Randbedingungen, Schnittstellen und spezielle eigene Leistungen): Max 1 Seite DIN A4 als Anlage | M39: ok
E44: ZUSCHLAGSKRITZERIUM ZUR WERTUNG | J44: zu erreichende Punkte | M44: max. Punkte
E45: • Leistungen TMon., für ein Gebäude mit Einstufung der Gebäudeklasse gem. § 2 MBO | M45: 10 | O45: =SUMIF(P46:P48,TRUE,J46:J48) -> 0
E46: - Gebäudeklasse 5 | J46: 10 | K46: Punkte | M46: (Ja = Ankreuzen) | P46: FALSE
E47: - Gebäudeklasse 4 | J47: 5 | K47: Punkte | M47: (Ja = Ankreuzen) | P47: FALSE
E48: - Bebäudeklasse 3 | J48: 0 | K48: Punkte | M48: (Ja = Ankreuzen) | P48: FALSE
E50: • Aufgabenstellung Leistungsgegenstand: | M50: 10 | O50: =SUMIF(P51:P53,TRUE,J51:J53) -> 0
E51: * Neubau eines Sonderbaus von medizinischer oder anderer betreiberkritischen Nutzung mit hoher technischen Ausstattungsdichte mit mehreren Gebäudeteilen | J51: 10 | K51: Punkte | M51: (Ja = Ankreuzen) | P51: FALSE
E52: * Neubau eines Sonderbaus von medizinischer oder anderer betreiberkritischen Nutzung mit hoher technischen Ausstattungsdichte | J52: 7 | K52: Punkte | M52: (Ja = Ankreuzen) | P52: FALSE
E53: * Neubau eines Sonderbaus mit mehreren Gebäudeteilen | J53: 5 | K53: Punkte | M53: (Ja = Ankreuzen) | P53: FALSE
E55: Folgende Fachbereiche / Leistungen sind Bestandteil der Referenz | L55: Punkte | M55: 10 | O55: =SUMIF(P56:P58,TRUE,J56:J58) -> 0
E56: * Sicherheitsstromversorgung | J56: 2 | K56: Punkte | M56: (Ja = Ankreuzen) | P56: FALSE
E57: * Probebetrieb | J57: 3 | K57: Punkte | M57: (Ja = Ankreuzen) | P57: FALSE
E58: * Erfahrungen mit hochinstallierten Gebäuden aus dem Bereichen OP, ITS, Labor, Medizintechnik | J58: 5 | K58: Punkte | M58: (Ja = Ankreuzen) | P58: FALSE
A60: 5. | B60: 1. | C60: 2 | E60: REFERENZ 2 - PERSÖNLICHE REFERENZ DES STELLVERTRETENDEN FACHINGENIEURS/-IN | M60: Eindeutiger Referenzname, mit Ortsangabe
E62: Für die hier zu behandelnde Referenz sind die übergreifenden Mindestanforderungen zu beachten (Bei Nicht-Erfüllung wird Referenz nicht gewertet!)
E64: ERGÄNZENDE PROJEKTANGABEN (reine Informationsangaben – keine zusätzliche Punktewertung)
E65: Angabe Person mit Funktion im Referenzprojekt (mind. Stellvertretender Fachingenieur / Fachingenieurin): | M65: ok
E67: • Auftraggeberdaten (Name, Adresse, Ansprechpartner, Telefon, E-Mail, Art des Vertragsverhältnisses / vertraglich gebunden als z. B. alleiniger Auftragnehmer, ARGE-Vertragspartner, Unterauftragnehmer): | M67: ok
E72: Planungsbeginn | M72: ok
E73: Baubeginn (nicht vor 01.1.2020) | M73: ok
E74: Fertigstellung LPH 6 | M74: ok
E75: Gesamtbaukosten brutto (EUR) | M75: ok
E77: Projektbeschreibung (insbesondere Aufgabenstellung, Planungsumfang, besondere technische Randbedingungen, Schnittstellen und spezielle eigene Leistungen): | M77: ok
E82: EIGUNGSKRITERIEN ZUR WERTUNG | J82: zu erreichende Punkte | M82: max. Punkte
E83: • Leistungen TMon., für ein Gebäude mit Einstufung der Gebäudeklasse gem. § 2 MBO | M83: 10 | O83: =SUMIF(P84:P86,TRUE,J84:J86) -> 0
E84: - Gebäudeklasse 5 | J84: 10 | K84: Punkte | M84: (Ja = Ankreuzen) | P84: FALSE
E85: - Gebäudeklasse 4 | J85: 5 | K85: Punkte | M85: (Ja = Ankreuzen) | P85: FALSE
E86: - Bebäudeklasse 3 | J86: 0 | K86: Punkte | M86: (Ja = Ankreuzen) | P86: FALSE
E88: • Aufgabenstellung Leistungsgegenstand: | M88: 10 | O88: =SUMIF(P89:P91,TRUE,J89:J91) -> 0
E89: * Neubau eines Sonderbaus von medizinischer oder anderer betreiberkritischen Nutzung mit hoher technischen Ausstattungsdichte mit mehreren Gebäudeteilen | J89: 10 | K89: Punkte | M89: (Ja = Ankreuzen) | P89: FALSE
E90: * Neubau eines Sonderbaus von medizinischer oder anderer betreiberkritischen Nutzung mit hoher technischen Ausstattungsdichte | J90: 7 | K90: Punkte | M90: (Ja = Ankreuzen) | P90: FALSE
E91: * Neubau eines Sonderbaus mit mehreren Gebäudeteilen | J91: 5 | K91: Punkte | M91: (Ja = Ankreuzen) | P91: FALSE
E93: • Folgende Fachbereiche / Leistungen sind Bestandteil der Referenz | L93: Punkte | M93: 10 | O93: =SUMIF(P94:P96,TRUE,J94:J96) -> 0
E94: * Sicherheitsstromversorgung | J94: 2 | K94: Punkte | M94: (Ja = Ankreuzen) | P94: FALSE
E95: * Probebetrieb | J95: 3 | K95: Punkte | M95: (Ja = Ankreuzen) | P95: FALSE
E96: * Erfahrungen mit hochinstallierten Gebäuden aus dem Bereichen OP, ITS, Labor, Medizintechnik | J96: 5 | K96: Punkte | M96: (Ja = Ankreuzen) | P96: FALSE
E98: TEIL VI: ZUSAMMENFASSUNG
A99: 5 | B99: 2 | E99: BEPUNKTUNG (PUNKTZAHL)
A101: 5 | B101: 2 | C101: 1 | E101: INSGESAMT MAXIMAL ERREICHBARE PUNKTZAHL | L101: Punkte | M101: =SUM(M23:M100) -> 60
A103: 5 | B103: 2 | C103: 2 | E103: INSGESAMT ERZIELTE PUNKTZAHL GEMÄSS DEN VOM BIETER GEMACHTEN ANGABEN | L103: Punkte | O103: =SUM(O45:O101) -> 0
E104: HINWEIS: Die insgesamt erzielte Punktzahl errechnet sich letzendlich erst im Zuge der durchgeführten Prüfung!

Sheet IBM Zuschlagskriteri
A1: ='ERHEBUNGSBOGEN Eignung'!A1 -> Klinikums Bayreuth - Bauliche Erneuerung des Klinikums Bayreuth - Bauabschnitte 1 und 2 | P1: ='ERHEBUNGSBOGEN Eignung'!P1 -> TMon_IBM
A2: ='ERHEBUNGSBOGEN Eignung'!A2 -> Leistungen für Technisches Monitoring (TMon) und Inbetriebnahme-Management (IBM)
A3: NUMMER Bieter (wird durch Beschaffungsdienstleister vergeben) | P3: 1
A4: ANGEBOT ALS … / BESTANDTEIL DER BIETERGEMEINSCHAFT MIT DEM NAMEN …
E5: TEIL II: ANGABEN ZUM UNTERNEHMEN
A6: 2. | B6: 1. | E6: ANGABEN ZUR IDENTITÄT DES UNTERNEHMENS
A8: 2. | B8: 1. | C8: 1 | E8: Rechtsgeschäftlich korrekter Name des Unternehmens, welches den Erhebungsbogen ausfüllt: | P8: ='ERHEBUNGSBOGEN Eignung'!P53 -> 0
E9: Ansprechpartner(in): | P9: ='ERHEBUNGSBOGEN Eignung'!P54 -> 0
E10: TEIL V: ZUSCHLAGSKRITERIEN
A11: 5 | B11: 3 | E11: PERSÖNLICHE REFERENZEN INBETRIEBNAHMEMANAGEMENT (IBM)
E13: Übergreifende Mindestanforderungen (Bei Nicht-Erfüllung wird Referenz nicht gewertet!)
E14: Doppeltmeldungen der Referenzen aus dem TMon sind zulässig, wenn sie alle Mindestkriterien beider Bereiche erfüllen
E15: EINFÜHRENDE HINWEISE zu allen nachfolgenden Referenzen, die für jede Referenz zwingend zu beachten bzw. zu erfüllen sind:
E16: • Für die Fachingenieurleistungen sind zwei Referenzprojekte nachzuweisen, bei denen Leistungen des Inbetriebnahmemanagements bzw. Technischen Inbetriebnahmemanagements für Gebäude mit komplexer Technischer Gebäudeausrüstung erbracht wurden. | L16: (Ja = Ankreuzen) | P16: FALSE
E17: • Referenzen sind nur zulässig, wenn sie spätestens zum 31.08.2016 abgeschlossen worden sind. | L17: (Ja = Ankreuzen) | P17: FALSE
E18: • Mindestens für 1 Referenzprojekt wurde die Inbetriebnahme stufenweise während des laufenden Betriebs vorgenommen. | L18: (Ja = Ankreuzen) | P18: FALSE
E19: • Die Referenzleistung muss Leistungen der Planung, Steuerung oder Begleitung der Inbetriebnahme der technischen Gebäudeausrüstung umfasst haben. | L19: (Ja = Ankreuzen) | P19: FALSE
E20: • Der Fachingenieur / Fachingenieurin ist zum Führen der Referenz berechtigt. | L20: (Ja = Ankreuzen) | P20: FALSE
E21: • Es dürfen nicht mehr als zwei Referenzen vorgelegt werden. Wenn entgegen dieser Vorgabe durch den Bieter mehr als zwei Referenzen vorgelegt werden, besteht seitens des Bieters kein Anspruch darauf, dass diejenigen Referenzen gewertet werden, die gemäß den genannten Kriterien die meisten Punkte versprechen. | L21: (Ja = Ankreuzen) | P21: FALSE
A23: 5. | B23: 3 | C23: 1 | E23: REFERENZ 1 - PERSÖNLICHE REFERENZ DES FACHINGENIEURS /-INGENIEURIN INBETRIEBMANAGEMENT (IBM) | M23: Eindeutiger Referenzname, mit Ortsangabe
E25: Für die hier zu behandelnde Referenz sind die übergreifenden Mindestanforderungen zu beachten (Bei Nicht-Erfüllung wird Referenz nicht gewertet!)
E27: ERGÄNZENDE PROJEKTANGABEN (reine Informationsangaben – keine zusätzliche Punktewertung)
E28: Angabe Person mit Funktion im Referenzprojekt (mind. Stellvertretender Fachingenieur / Fachingenieurin): | M28: ok
E30: • Auftraggeberdaten (Name, Adresse, Ansprechpartner, Telefon, E-Mail, Art des Vertragsverhältnisses / vertraglich gebunden als z. B. alleiniger Auftragnehmer, ARGE-Vertragspartner, Unterauftragnehmer): | M30: ok
E35: Planungsbeginn | M35: ok
E36: Baubeginn (nicht vor 01.1.2020) | M36: ok
E37: Fertigstellung LPH 8 | M37: ok
E38: Gesamtbaukosten brutto (EUR) | M38: ok
E40: Projektbeschreibung (insbesondere Aufgabenstellung, Planungsumfang, besondere technische Randbedingungen, Schnittstellen und spezielle eigene Leistungen): Max 1 Seite DIN A4 als Anlage | M40: ok
E45: ZUSCHLAGSKRITZERIUM ZUR WERTUNG | J45: zu erreichende Punkte | M45: max. Punkte
E46: • Leistungen IBM, für ein Gebäude mit Einstufung der Gebäudeklasse gem. § 2 MBO | M46: 20 | O46: =SUMIF(P47:P49,TRUE,J47:J49) -> 0
E47: - Gebäudeklasse 5 | J47: 20 | K47: Punkte | M47: (Ja = Ankreuzen) | P47: FALSE
E48: - Gebäudeklasse 4 | J48: 10 | K48: Punkte | M48: (Ja = Ankreuzen) | P48: FALSE
E49: - Bebäudeklasse 3 | J49: 0 | K49: Punkte | M49: (Ja = Ankreuzen) | P49: FALSE
E51: • Aufgabenstellung Leistungsgegenstand: | M51: 20 | O51: =SUMIF(P52:P54,TRUE,J52:J54) -> 0
E52: *Neubau eines Sonderbaus von medizinischer oder anderer betreiberkritischen Nutzung mit hoher technischen Ausstattungsdichte mit mehreren Gebäudeteilen | J52: 20 | K52: Punkte | M52: (Ja = Ankreuzen) | P52: FALSE
E53: *Neubau eines Sonderbaus von medizinischer oder anderer betreiberkritischen Nutzung mit hoher technischen Ausstattungsdichte | J53: 15 | K53: Punkte | M53: (Ja = Ankreuzen) | P53: FALSE
E54: *Neubau eines Sonderbaus mit mehreren Gebäudeteilen | J54: 10 | K54: Punkte | M54: (Ja = Ankreuzen) | P54: FALSE
E56: • Folgende Fachbereiche / Leistungen sind Bestandteil der Referenz | L56: Punkte | M56: 40 | O56: =SUMIF(P57:P59,TRUE,J57:J59) -> 0
E57: * Sicherheitsstromversorgung | J57: 5 | K57: Punkte | M57: (Ja = Ankreuzen) | P57: FALSE
E58: * Probebetrieb | J58: 15 | K58: Punkte | M58: (Ja = Ankreuzen) | P58: FALSE
E59: * Erfahrungen mit hochinstallierten Gebäuden aus dem Bereichen OP, ITS, Labor, Medizintechnik | J59: 20 | K59: Punkte | M59: (Ja = Ankreuzen) | P59: FALSE
A62: 5. | B62: 3 | C62: 2 | E62: REFERENZ 2 - PERSÖNLICHE REFERENZ DES STELLVERTRETENDEN FACHINGENIEURS /-INGENIEURIN IBM | M62: Eindeutiger Referenzname, mit Ortsangabe
E64: Für die hier zu behandelnde Referenz sind die übergreifenden Mindestanforderungen zu beachten (Bei Nicht-Erfüllung wird Referenz nicht gewertet!)
E66: ERGÄNZENDE PROJEKTANGABEN (reine Informationsangaben – keine zusätzliche Punktewertung)
E67: Angabe Person mit Funktion im Referenzprojekt (mind. Stellvertretender Fachingenieur / Fachingenieurin): | M67: ok
E69: • Auftraggeberdaten (Name, Adresse, Ansprechpartner, Telefon, E-Mail, Art des Vertragsverhältnisses / vertraglich gebunden als z. B. alleiniger Auftragnehmer, ARGE-Vertragspartner, Unterauftragnehmer): | M69: ok
E74: Planungsbeginn | M74: ok
E75: Baubeginn (nicht vor 01.1.2020) | M75: ok
E76: Fertigstellung LPH 8 | M76: ok
E77: Gesamtbaukosten brutto (EUR) | M77: ok
E79: Projektbeschreibung (insbesondere Aufgabenstellung, Planungsumfang, besondere technische Randbedingungen, Schnittstellen und spezielle eigene Leistungen): | M79: ok
E84: EIGUNGSKRITERIEN ZUR WERTUNG | J84: zu erreichende Punkte | M84: max. Punkte
E85: • Leistungen IBM, für ein Gebäude mit Einstufung der Gebäudeklasse gem. § 2 MBO | M85: 20 | O85: =SUMIF(P86:P88,TRUE,J86:J88) -> 0
E86: - Gebäudeklasse 5 | J86: 20 | K86: Punkte | M86: (Ja = Ankreuzen) | P86: FALSE
E87: - Gebäudeklasse 4 | J87: 10 | K87: Punkte | M87: (Ja = Ankreuzen) | P87: FALSE
E88: - Bebäudeklasse 3 | J88: 0 | K88: Punkte | M88: (Ja = Ankreuzen) | P88: FALSE
E90: • Aufgabenstellung Leistungsgegenstand: | M90: 20 | O90: =SUMIF(P91:P93,TRUE,J91:J93) -> 0
E91: * Neubau eines Sonderbaus von medizinischer oder anderer betreiberkritischen Nutzung mit hoher technischen Ausstattungsdichte mit mehreren Gebäudeteilen | J91: 20 | K91: Punkte | M91: (Ja = Ankreuzen) | P91: FALSE
E92: * Neubau eines Sonderbaus von medizinischer oder anderer betreiberkritischen Nutzung mit hoher technischen Ausstattungsdichte | J92: 15 | K92: Punkte | M92: (Ja = Ankreuzen) | P92: FALSE
E93: * Neubau eines Sonderbaus mit mehreren Gebäudeteilen | J93: 10 | K93: Punkte | M93: (Ja = Ankreuzen) | P93: FALSE
E95: • Folgende Fachbereiche / Leistungen sind Bestandteil der Referenz | L95: Punkte | M95: 40 | O95: =SUMIF(P96:P98,TRUE,J96:J98) -> 0
E96: * Sicherheitsstromversorgung | J96: 5 | K96: Punkte | M96: (Ja = Ankreuzen) | P96: FALSE
E97: * Probebetrieb | J97: 15 | K97: Punkte | M97: (Ja = Ankreuzen) | P97: FALSE
E98: * Erfahrungen mit hochinstallierten Gebäuden aus dem Bereichen OP, ITS, Labor, Medizintechnik | J98: 20 | K98: Punkte | M98: (Ja = Ankreuzen) | P98: FALSE
E101: TEIL VI: ZUSAMMENFASSUNG
A102: 5 | B102: 4 | E102: BEPUNKTUNG (PUNKTZAHL)
A104: 5 | B104: 4 | C104: 1 | E104: INSGESAMT MAXIMAL ERREICHBARE PUNKTZAHL | L104: Punkte | M104: =SUM(M24:M103) -> 160
A106: 5 | B106: 4 | C106: 2 | E106: INSGESAMT ERZIELTE PUNKTZAHL GEMÄSS DEN VOM BIETER GEMACHTEN ANGABEN | L106: Punkte | O106: =SUM(O46:O104) -> 0
E107: HINWEIS: Die insgesamt erzielte Punktzahl errechnet sich letzendlich erst im Zuge der durchgeführten Prüfung!

Sheet Zusammenfassung
A1: ='ERHEBUNGSBOGEN Eignung'!A1 -> Klinikums Bayreuth - Bauliche Erneuerung des Klinikums Bayreuth - Bauabschnitte 1 und 2 | P1: TMon_IBM
A2: ='ERHEBUNGSBOGEN Eignung'!A2 -> Leistungen für Technisches Monitoring (TMon) und Inbetriebnahme-Management (IBM)
A3: NUMMER Bieter (wird durch Beschaffungsdienstleister vergeben) | P3: 1
A4: ANGEBOT ALS … / BESTANDTEIL DER BIETERGEMEINSCHAFT MIT DEM NAMEN …
E5: TEIL VI: ZUSAMMENFASSUNG
A6: 6. | B6: 1. | E6: BEPUNKTUNG (PUNKTZAHL)
A8: 6 | B8: 1. | C8: 1 | E8: INSGESAMT MAXIMAL ERREICHBARE PUNKTZAHL | L8: Punkte | M8: ='TMon Zuschlagskriteri'!M101+'IBM Zuschlagskriteri'!M104 -> 220
A10: 6. | B10: 1. | C10: 2 | E10: INSGESAMT ERZIELTE PUNKTZAHL GEMÄSS DEN VOM BIETER GEMACHTEN ANGABEN | L10: Punkte | O10: ='TMon Zuschlagskriteri'!O103+'IBM Zuschlagskriteri'!O106 -> 0
E11: HINWEIS: Die insgesamt erzielte Punktzahl errechnet sich letzendlich erst im Zuge der durchgeführten Prüfung!
A13: 6. | B13: 2 | E13: BEIGEFÜGTE EIGENERKLÄRUNGEN UND ANLAGEN
A15: 6. | E15: ÜBERSICHT DER VOM BIETER BEIGEFÜGTEN EIGENERKLÄRUNGEN UND ANLAGEN
E16: Der Bieter hat dem Erhebungsbogen folgende Eigenerklärungen und selbst erstellte Anlagen beigefügt (Erhebungsbogen + Honorarangebot, ggf. weitere Anlagen = Angebot).
E18: HINWEISE BZGL. ANLAGEN | L18: Nummerierung der Anlagen
E19: In der nebenstehenden Übersicht sind alle enthaltenen Anlagen aufzuführen. Die Anlagen sind in der nebenstehenden Übersicht mit kurzen und prägnanten Namen zu nennen. | L19: Anlage 01
L20: Anlage 02
L21: Anlage 03
L22: Anlage 04
L23: Anlage 05
L24: Anlage 06
L25: Anlage 07
L26: Anlage 08
L27: Anlage 09
L28: Anlage 10
L29: Anlage 11
L30: Anlage 12
L31: Anlage 13
... L33: Anlage 15
