Workbook
Name competition_replies: 'IBM Zuschlagskriteri'!$P$5:$P$100
Name competition_replies: 'TMon Zuschlagskriteri'!$P$5:$P$97
Name competition_replies: Zusammenfassung!#REF!
Name competition_replies: 'ERHEBUNGSBOGEN Eignung'!$P$18:$P$174
Name Print_Area: 'ERHEBUNGSBOGEN Eignung'!$A$1:$Q$184
Name Print_Area: 'IBM Zuschlagskriteri'!$A$1:$Q$109
Name Print_Area: Rangfolge!$A$1:$D$15
Name Print_Area: 'TMon Zuschlagskriteri'!$A$1:$Q$106
Name Print_Area: Zusammenfassung!$A$1:$Q$34
Name Print_Titles: 'ERHEBUNGSBOGEN Eignung'!$1:$4
Name Print_Titles: 'IBM Zuschlagskriteri'!$1:$4
Name Print_Titles: 'TMon Zuschlagskriteri'!$1:$4
Name Print_Titles: Zusammenfassung!$1:$4

Sheet Rangfolge
A3: Maßnahme: | B3: ='ERHEBUNGSBOGEN Eignung'!F8 -> Klinikums Bayreuth - Bauliche Erneuerung des Klinikums Bayreuth - Bauabschnitte 1 und 2
A4: Leistung: | B4: ='ERHEBUNGSBOGEN Eignung'!F10 -> Leistungen für Technisches Monitoring (TMon) und Inbetriebnahme-Management (IBM)
A5: Verfahren: | B5: ='ERHEBUNGSBOGEN Eignung'!F12 -> Offenes Verfahren nach § 15 VgV
A7: Rang | B7: Bewerber & Bewerber-Nr.: | C7: Punktzahl (SPPM) | D7: Formelle Prüfung bestanden
A8: =_xlfn.RANK.EQ(C8,$C$8:$C$15) -> #REF! | B8: ='ERHEBUNGSBOGEN Eignung'!#REF! -> #REF! | C8: ='ERHEBUNGSBOGEN Eignung'!O181 -> 0 | D8: Ja
A9: =_xlfn.RANK.EQ(C9,$C$8:$C$15) -> #REF! | B9: ='ERHEBUNGSBOGEN Eignung'!#REF! -> #REF! | C9: ='ERHEBUNGSBOGEN Eignung'!#REF! -> #REF! | D9: Ja
A10: =_xlfn.RANK.EQ(C10,$C$8:$C$15) -> #REF! | B10: ='ERHEBUNGSBOGEN Eignung'!#REF! -> #REF! | C10: ='ERHEBUNGSBOGEN Eignung'!#REF! -> #REF! | D10: Ja
A11: =_xlfn.RANK.EQ(C11,$C$8:$C$15) -> #REF! | B11: ='ERHEBUNGSBOGEN Eignung'!#REF! -> #REF! | C11: ='ERHEBUNGSBOGEN Eignung'!#REF! -> #REF! | D11: Ja
A12: =_xlfn.RANK.EQ(C12,$C$8:$C$15) -> #REF! | B12: ='ERHEBUNGSBOGEN Eignung'!#REF! -> #REF! | C12: ='ERHEBUNGSBOGEN Eignung'!#REF! -> #REF! | D12: Ja
A13: =_xlfn.RANK.EQ(C13,$C$8:$C$15) -> #REF! | B13: ='ERHEBUNGSBOGEN Eignung'!#REF! -> #REF! | C13: ='ERHEBUNGSBOGEN Eignung'!#REF! -> #REF! | D13: Ja
A14: =_xlfn.RANK.EQ(C14,$C$8:$C$15) -> #REF! | B14: ='ERHEBUNGSBOGEN Eignung'!#REF! -> #REF! | C14: ='ERHEBUNGSBOGEN Eignung'!#REF! -> #REF! | D14: Ja
A15: =_xlfn.RANK.EQ(C15,$C$8:$C$15) -> #REF! | B15: ='ERHEBUNGSBOGEN Eignung'!#REF! -> #REF! | C15: ='ERHEBUNGSBOGEN Eignung'!#REF! -> #REF! | D15: Ja

Sheet ERHEBUNGSBOGEN Eignung
A1: =F8 -> Klinikums Bayreuth - Bauliche Erneuerung des Klinikums Bayreuth - Bauabschnitte 1 und 2 | P1: TMon_IBM
A2: =+F10 -> Leistungen für Technisches Monitoring (TMon) und Inbetriebnahme-Management (IBM)
A3: NUMMER Bieter (wird durch Beschaffungsdienstleister vergeben) | P3: 1
A4: ANGEBOT ALS … / BESTANDTEIL DER BIETERGEMEINSCHAFT MIT DEM NAMEN …
E6: AUFTRAGGEBER | F6: Klinikum Bayreuth GmbH, Preuschwitzer Str. 101, 95445 Bayreuth
E8: MASSNAHME | F8: Klinikums Bayreuth - Bauliche Erneuerung des Klinikums Bayreuth - Bauabschnitte 1 und 2
E10: LEISTUNG | F10: Leistungen für Technisches Monitoring (TMon) und Inbetriebnahme-Management (IBM)
E12: VERFAHREN | F12: Offenes Verfahren nach § 15 VgV
E14: BESCHAFFUNGSDIENSTLEISTER | F14: Stein und Partner Projektmanagement GmbH
E16: KOMMUNIKATION | F16: Die Kommunikation im Verfahren ist AUSSCHLIESSLICH über die Plattform zu führen.
E18: BEARBEITUNG | F18: Auf allen Folgeseiten sind die Felder durch den Bieter auszufüllen, die folgendermaßen markiert sind. Darüber hinaus dürfen keine Anpassungen an der Datei vorgenommen werden. | M18: →
F21: Felder mit nebenstehender Kennzeichnung werden durch die Kontaktstelle ausgefüllt. | M21: →
E23: WICHTIGE HINWEISE | F23: Der Erhebungsbogen darf NICHT in ein anderes Datei-Format (z.B. PDF) konvertiert werden! Die Excel-Datei ist abzugeben. Unwahre Angaben können zum Ausschluss von diesem und zukünftigen Verfahren führen, die durch den Auftraggeber ausgerichtet werden! Der Erhebungsbogen kann nicht händisch unterzeichnet werden. Anstelle einer Unterschrift ist am Ende des Erhebungsbogens der Namen eines bevollmächtigten Vertreters anzugeben.
E27: TEIL I: ALLGEMEINE ANGABEN
A28: 1. | B28: 1. | E28: ART DER TEILNAHME
A30: 1. | B30: 1. | C30: 1 | E30: EINZELBIETER | M30: Ja | P30: FALSE
E31: Ich bin Bieter bzw. handle für ein Unternehmen, das ein Angebot abgibt. | M31: Nein | P31: FALSE
E32: Wenn Sie sich als Teil einer Bietergemeinschaft handeln, bitte "Nein" angeben und 1.1.2 bzw. 1.1.3 beachten.
A34: 1. | B34: 1. | C34: 2 | E34: VERTRETUNGSBERECHTIGES MITGLIED BIETERGEMEINSCHAFT | M34: Ja | P34: FALSE
E35: Ich bin vertretungsberechtigtes Mitglied einer Bietergemeinschaft und gebe das Angebot ab. | M35: Nein | P35: FALSE
E36: Wenn Sie sich als Teil einer Bietergemeinschaft anbieten und nicht vertretungsberechtigt sind bzw. Einzelbieter sind, bitte "Nein" angeben und 1.1.1 bzw. 1.1.3 beachten.
A38: 1. | B38: 1. | C38: 3 | E38: NICHT-VERTRETUNGSBERECHTIGES MITGLIED BIETERGEMEINSCHAFT | M38: Ja | P38: FALSE
E39: Ich bin weiteres, nicht-vertretungsberechtigtes Mitglied einer Bietergemeinschaft und beteilige mich am Angebot. | M39: Nein | P39: FALSE
E40: Wenn Sie Einzelbieter sind bzw. sich als vertretungsberechtigtes Mitglied einer Bietergemeinschaft anbieten, bitte "Nein" angeben und 1.1.1 bzw. 1.1.2 beachten.
A42: 1. | B42: 1. | C42: 4 | E42: EIGNUNGSLEIHE (GEBER DER EIGNUNGSLEIHE) | M42: Ja | P42: FALSE
E43: Ich bin bzw. handle für ein anderes Unternehmen, dessen Kapazität im Hinblick auf die wirtschaftliche und finanzielle oder technische und berufliche Leistungsfähigkeit in Anspruch genommen werden soll (Eignungsleihe). | M43: Nein | P43: FALSE
E44: Wenn Sie keine Eignung verleihen, bitte "Nein" angeben bzw. 2.3.1 beachten.
A46: 1. | B46: 1. | C46: 5 | E46: UNTERAUFTRAGNEHMER | M46: Ja | P46: FALSE
E47: Ich bin bzw. handle für ein anderes Unternehmen, dem im Wege der Unterauftragsvergabe ein Teil des Auftrags gegeben werden soll. | M47: Nein | P47: FALSE
E48: Wenn Sie kein Unterauftragnehmer sind, bitte "Nein" angeben bzw. 2.4.1 beachten.
E50: TEIL II: ANGABEN ZUM UNTERNEHMEN
A51: 2. | B51: 1. | E51: ANGABEN ZUR IDENTITÄT DES UNTERNEHMENS
A53: 2. | B53: 1. | C53: 1 | E53: Rechtsgeschäftlich korrekter Name des Unternehmens, welches den Erhebungsbogen ausfüllt:
E54: Ansprechpartner(in):
E55: Straße und Hausnummer:
E56: Postleitzahl:
E57: Ort:
E58: Land:
E59: Telefon:
E60: Fax:
...

Sheet TMon Zuschlagskriteri
A1: ='ERHEBUNGSBOGEN Eignung'!A1 -> Klinikums Bayreuth - Bauliche Erneuerung des Klinikums Bayreuth - Bauabschnitte 1 und 2 | P1: ='ERHEBUNGSBOGEN Eignung'!P1 -> TMon_IBM
A2: ='ERHEBUNGSBOGEN Eignung'!A2 -> Leistungen für Technisches Monitoring (TMon) und Inbetriebnahme-Management (IBM)
A3: NUMMER Bieter (wird durch Beschaffungsdienstleister vergeben) | P3: 1
A4: ANGEBOT ALS … / BESTANDTEIL DER BIETERGEMEINSCHAFT MIT DEM NAMEN …
E5: TEIL II: ANGABEN ZUM UNTERNEHMEN
A6: 2. | B6: 1. | E6: ANGABEN ZUR IDENTITÄT DES UNTERNEHMENS
A8: 2. | B8: 1. | C8: 1 | E8: Rechtsgeschäftlich korrekter Name des Unternehmens, welches den Erhebungsbogen ausfüllt: | P8: ='ERHEBUNGSBOGEN Eignung'!P53 -> 0
E9: Ansprechpartner(in): | P9: ='ERHEBUNGSBOGEN Eignung'!P54 -> 0
E10: TEIL V: ZUSCHLAGSKRITERIEN
A11: 5. | B11: 1. | E11: PERSÖNLICHE REFERENZEN TMon
E13: Übergreifende Mindestanforderungen (Bei Nicht-Erfüllung wird Referenz nicht gewertet!)
E14: Doppeltmeldungen der Referenzen aus dem IBM sind zulässig, wenn sie alle Mindestkriterien beider Bereiche erfüllen
E15: EINFÜHRENDE HINWEISE zu allen nachfolgenden Referenzen, die für jede Referenz zwingend zu beachten bzw. zu erfüllen sind:
E16: • Für die Leistungen für TMON wurde mindestens die Begleitung der TGA der Leistungsphasen 3-6 beauftragt. | L16: (Ja = Ankreuzen) | P16: FALSE
E17: • Referenzen sind nur zulässig, wenn sie spätestens zum 31.08.2016 abgeschlossen worden sind. | L17: (Ja = Ankreuzen) | P17: FALSE
E18: • Der Fachingenieur / Fachingenieurin ist zum Führen der Referenz berechtigt. | L18: (Ja = Ankreuzen) | P18: FALSE
E19: • Mindestens 1 Referenzprojekt hatte eine stufenweise Inbetriebnahme | L19: (Ja = Ankreuzen) | P19: FALSE
E20: • Es dürfen nicht mehr als zwei Referenzen vorgelegt werden. Wenn entgegen dieser Vorgabe durch den Bieter mehr als zwei Referenzen vorgelegt werden, besteht seitens des Bieters kein Anspruch darauf, dass diejenigen Referenzen gewertet werden, die gemäß den genannten Kriterien die meisten Punkte versprechen. | L20: (Ja = Ankreuzen) | P20: FALSE
A22: 5. | B22: 1. | C22: 1 | E22: REFERENZ 1 - PERSÖNLICHE REFERENZ DES FACHINGENIEURS/-IN TECHNISCHES MONITORING | M22: Eindeutiger Referenzname, mit Ortsangabe
E24: Für die hier zu behandelnde Referenz sind die übergreifenden Mindestanforderungen zu beachten (Bei Nicht-Erfüllung wird Referenz nicht gewertet!)
E26: ERGÄNZENDE PROJEKTANGABEN (reine Informationsangaben – keine zusätzliche Punktewertung)
E27: Angabe Person mit Funktion im Referenzprojekt (mind. Stellvertretender Fachingenieur / Fachingenieurin): | M27: ok
E29: • Auftraggeberdaten (Name, Adresse, Ansprechpartner, Telefon, E-Mail, Art des Vertragsverhältnisses / vertraglich gebunden als z. B. alleiniger Auftragnehmer, ARGE-Vertragspartner, Unterauftragnehmer): | M29: ok
E34: Planungsbeginn | M34: ok
E35: Baubeginn (nicht vor 01.1.2020) | M35: ok
E36: Fertigstellung LPH 6 | M36: ok
E37: Gesamtbaukosten brutto (EUR) | M37: ok
E39: Projektbeschreibung (insbesondere Aufgabenstellung, Planungsumfang, besondere technische Randbedingungen, Schnittstellen und spezielle eigene Leistungen): Max 1 Seite DIN A4 als Anlage | M39: ok
E44: ZUSCHLAGSKRITZERIUM ZUR WERTUNG | J44: zu erreichende Punkte | M44: max. Punkte
E45: • Leistungen TMon., für ein Gebäude mit Einstufung der Gebäudeklasse gem. § 2 MBO | M45: 10 | O45: =SUMIF(P46:P48,TRUE,J46:J48) -> 0
E46: - Gebäudeklasse 5 | J46: 10 | K46: Punkte | M46: (Ja = Ankreuzen) | P46: FALSE
E47: - Gebäudeklasse 4 | J47: 5 | K47: Punkte | M47: (Ja = Ankreuzen) | P47: FALSE
E48: - Bebäudeklasse 3 | J48: 0 | K48: Punkte | M48: (Ja = Ankreuzen) | P48: FALSE
E50: • Aufgabenstellung Leistungsgegenstand: | M50: 10 | O50: =SUMIF(P51:P53,TRUE,J51:J53) -> 0
E51: * Neubau eines Sonderbaus von medizinischer oder anderer betreiberkritischen Nutzung mit hoher technischen Ausstattungsdichte mit mehreren Gebäudeteilen | J51: 10 | K51: Punkte | M51: (Ja = Ankreuzen) | P51: FALSE
E52: * Neubau eines Sonderbaus von medizinischer oder anderer betreiberkritischen Nutzung mit hoher technischen Ausstattungsdichte | J52: 7 | K52: Punkte | M52: (Ja = Ankreuzen) | P52: FALSE
E53: * Neubau eines Sonderbaus mit mehreren Gebäudeteilen | J53: 5 | K53: Punkte | M53: (Ja = Ankreuzen) | P53: FALSE
E55: Folgende Fachbereiche / Leistungen sind Bestandteil der Referenz | L55: Punkte | M55: 10 | O55: =SUMIF(P56:P58,TRUE,J56:J58) -> 0
E56: * Sicherheitsstromversorgung | J56: 2 | K56: Punkte | M56: (Ja = Ankreuzen) | P56: FALSE
E57: * Probebetrieb | J57: 3 | K57: Punkte | M57: (Ja = Ankreuzen) | P57: FALSE
...

Sheet IBM Zuschlagskriteri
A1: ='ERHEBUNGSBOGEN Eignung'!A1 -> Klinikums Bayreuth - Bauliche Erneuerung des Klinikums Bayreuth - Bauabschnitte 1 und 2 | P1: ='ERHEBUNGSBOGEN Eignung'!P1 -> TMon_IBM
A2: ='ERHEBUNGSBOGEN Eignung'!A2 -> Leistungen für Technisches Monitoring (TMon) und Inbetriebnahme-Management (IBM)
A3: NUMMER Bieter (wird durch Beschaffungsdienstleister vergeben) | P3: 1
A4: ANGEBOT ALS … / BESTANDTEIL DER BIETERGEMEINSCHAFT MIT DEM NAMEN …
E5: TEIL II: ANGABEN ZUM UNTERNEHMEN
A6: 2. | B6: 1. | E6: ANGABEN ZUR IDENTITÄT DES UNTERNEHMENS
A8: 2. | B8: 1. | C8: 1 | E8: Rechtsgeschäftlich korrekter Name des Unternehmens, welches den Erhebungsbogen ausfüllt: | P8: ='ERHEBUNGSBOGEN Eignung'!P53 -> 0
E9: Ansprechpartner(in): | P9: ='ERHEBUNGSBOGEN Eignung'!P54 -> 0
E10: TEIL V: ZUSCHLAGSKRITERIEN
A11: 5 | B11: 3 | E11: PERSÖNLICHE REFERENZEN INBETRIEBNAHMEMANAGEMENT (IBM)
E13: Übergreifende Mindestanforderungen (Bei Nicht-Erfüllung wird Referenz nicht gewertet!)
E14: Doppeltmeldungen der Referenzen aus dem TMon sind zulässig, wenn sie alle Mindestkriterien beider Bereiche erfüllen
E15: EINFÜHRENDE HINWEISE zu allen nachfolgenden Referenzen, die für jede Referenz zwingend zu beachten bzw. zu erfüllen sind:
E16: • Für die Fachingenieurleistungen sind zwei Referenzprojekte nachzuweisen, bei denen Leistungen des Inbetriebnahmemanagements bzw. Technischen Inbetriebnahmemanagements für Gebäude mit komplexer Technischer Gebäudeausrüstung erbracht wurden. | L16: (Ja = Ankreuzen) | P16: FALSE
E17: • Referenzen sind nur zulässig, wenn sie spätestens zum 31.08.2016 abgeschlossen worden sind. | L17: (Ja = Ankreuzen) | P17: FALSE
E18: • Mindestens für 1 Referenzprojekt wurde die Inbetriebnahme stufenweise während des laufenden Betriebs vorgenommen. | L18: (Ja = Ankreuzen) | P18: FALSE
E19: • Die Referenzleistung muss Leistungen der Planung, Steuerung oder Begleitung der Inbetriebnahme der technischen Gebäudeausrüstung umfasst haben. | L19: (Ja = Ankreuzen) | P19: FALSE
E20: • Der Fachingenieur / Fachingenieurin ist zum Führen der Referenz berechtigt. | L20: (Ja = Ankreuzen) | P20: FALSE
E21: • Es dürfen nicht mehr als zwei Referenzen vorgelegt werden. Wenn entgegen dieser Vorgabe durch den Bieter mehr als zwei Referenzen vorgelegt werden, besteht seitens des Bieters kein Anspruch darauf, dass diejenigen Referenzen gewertet werden, die gemäß den genannten Kriterien die meisten Punkte versprechen. | L21: (Ja = Ankreuzen) | P21: FALSE
A23: 5. | B23: 3 | C23: 1 | E23: REFERENZ 1 - PERSÖNLICHE REFERENZ DES FACHINGENIEURS /-INGENIEURIN INBETRIEBMANAGEMENT (IBM) | M23: Eindeutiger Referenzname, mit Ortsangabe
E25: Für die hier zu behandelnde Referenz sind die übergreifenden Mindestanforderungen zu beachten (Bei Nicht-Erfüllung wird Referenz nicht gewertet!)
E27: ERGÄNZENDE PROJEKTANGABEN (reine Informationsangaben – keine zusätzliche Punktewertung)
E28: Angabe Person mit Funktion im Referenzprojekt (mind. Stellvertretender Fachingenieur / Fachingenieurin): | M28: ok
E30: • Auftraggeberdaten (Name, Adresse, Ansprechpartner, Telefon, E-Mail, Art des Vertragsverhältnisses / vertraglich gebunden als z. B. alleiniger Auftragnehmer, ARGE-Vertragspartner, Unterauftragnehmer): | M30: ok
E35: Planungsbeginn | M35: ok
E36: Baubeginn (nicht vor 01.1.2020) | M36: ok
E37: Fertigstellung LPH 8 | M37: ok
E38: Gesamtbaukosten brutto (EUR) | M38: ok
E40: Projektbeschreibung (insbesondere Aufgabenstellung, Planungsumfang, besondere technische Randbedingungen, Schnittstellen und spezielle eigene Leistungen): Max 1 Seite DIN A4 als Anlage | M40: ok
E45: ZUSCHLAGSKRITZERIUM ZUR WERTUNG | J45: zu erreichende Punkte | M45: max. Punkte
E46: • Leistungen IBM, für ein Gebäude mit Einstufung der Gebäudeklasse gem. § 2 MBO | M46: 20 | O46: =SUMIF(P47:P49,TRUE,J47:J49) -> 0
E47: - Gebäudeklasse 5 | J47: 20 | K47: Punkte | M47: (Ja = Ankreuzen) | P47: FALSE
E48: - Gebäudeklasse 4 | J48: 10 | K48: Punkte | M48: (Ja = Ankreuzen) | P48: FALSE
E49: - Bebäudeklasse 3 | J49: 0 | K49: Punkte | M49: (Ja = Ankreuzen) | P49: FALSE
E51: • Aufgabenstellung Leistungsgegenstand: | M51: 20 | O51: =SUMIF(P52:P54,TRUE,J52:J54) -> 0
E52: *Neubau eines Sonderbaus von medizinischer oder anderer betreiberkritischen Nutzung mit hoher technischen Ausstattungsdichte mit mehreren Gebäudeteilen | J52: 20 | K52: Punkte | M52: (Ja = Ankreuzen) | P52: FALSE
E53: *Neubau eines Sonderbaus von medizinischer oder anderer betreiberkritischen Nutzung mit hoher technischen Ausstattungsdichte | J53: 15 | K53: Punkte | M53: (Ja = Ankreuzen) | P53: FALSE
E54: *Neubau eines Sonderbaus mit mehreren Gebäudeteilen | J54: 10 | K54: Punkte | M54: (Ja = Ankreuzen) | P54: FALSE
E56: • Folgende Fachbereiche / Leistungen sind Bestandteil der Referenz | L56: Punkte | M56: 40 | O56: =SUMIF(P57:P59,TRUE,J57:J59) -> 0
E57: * Sicherheitsstromversorgung | J57: 5 | K57: Punkte | M57: (Ja = Ankreuzen) | P57: FALSE
...

Sheet Zusammenfassung
A1: ='ERHEBUNGSBOGEN Eignung'!A1 -> Klinikums Bayreuth - Bauliche Erneuerung des Klinikums Bayreuth - Bauabschnitte 1 und 2 | P1: TMon_IBM
A2: ='ERHEBUNGSBOGEN Eignung'!A2 -> Leistungen für Technisches Monitoring (TMon) und Inbetriebnahme-Management (IBM)
A3: NUMMER Bieter (wird durch Beschaffungsdienstleister vergeben) | P3: 1
A4: ANGEBOT ALS … / BESTANDTEIL DER BIETERGEMEINSCHAFT MIT DEM NAMEN …
E5: TEIL VI: ZUSAMMENFASSUNG
A6: 6. | B6: 1. | E6: BEPUNKTUNG (PUNKTZAHL)
A8: 6 | B8: 1. | C8: 1 | E8: INSGESAMT MAXIMAL ERREICHBARE PUNKTZAHL | L8: Punkte | M8: ='TMon Zuschlagskriteri'!M101+'IBM Zuschlagskriteri'!M104 -> 220
A10: 6. | B10: 1. | C10: 2 | E10: INSGESAMT ERZIELTE PUNKTZAHL GEMÄSS DEN VOM BIETER GEMACHTEN ANGABEN | L10: Punkte | O10: ='TMon Zuschlagskriteri'!O103+'IBM Zuschlagskriteri'!O106 -> 0
E11: HINWEIS: Die insgesamt erzielte Punktzahl errechnet sich letzendlich erst im Zuge der durchgeführten Prüfung!
A13: 6. | B13: 2 | E13: BEIGEFÜGTE EIGENERKLÄRUNGEN UND ANLAGEN
A15: 6. | E15: ÜBERSICHT DER VOM BIETER BEIGEFÜGTEN EIGENERKLÄRUNGEN UND ANLAGEN
E16: Der Bieter hat dem Erhebungsbogen folgende Eigenerklärungen und selbst erstellte Anlagen beigefügt (Erhebungsbogen + Honorarangebot, ggf. weitere Anlagen = Angebot).
E18: HINWEISE BZGL. ANLAGEN | L18: Nummerierung der Anlagen
E19: In der nebenstehenden Übersicht sind alle enthaltenen Anlagen aufzuführen. Die Anlagen sind in der nebenstehenden Übersicht mit kurzen und prägnanten Namen zu nennen. | L19: Anlage 01
L20: Anlage 02
L21: Anlage 03
L22: Anlage 04
L23: Anlage 05
L24: Anlage 06
L25: Anlage 07
L26: Anlage 08
L27: Anlage 09
L28: Anlage 10
L29: Anlage 11
L30: Anlage 12
L31: Anlage 13
... L33: Anlage 15
