Workbook

Sheet Zuschlag
B1: Landesverwaltungsamt Saarland HIL GmbH, Kompetenzzentrum Kette Aufbau Kompetenzzentrum Kette (HIL WND) (Integrierte Projektabwicklung – IPA – mittels Mehrparteienvertrag – MPV) Verhandlungsverfahren mit Teilnahmewettbewerb Vergabelos: Ausführungsleistungen Technische Anlagen Wertungsmatrix Angebot | C1: Vergabenummer: ... Vergabeidentifikationsnummer: … Auftrags-/Vertragsnummer: …
B6: Name des Bieters: | C6: Bieter Nr: | J6: Aus Gründen der besseren Lesbarkeit wird im Folgenden auf die gleichzeitige Verwendung weiblicher und männlicher Sprachformen verzichtet und das generische Maskulinum verwendet. Sämtliche Personenbezeichnungen gelten gleichermaßen für alle Geschlechter.
B8: ZUSCHLAGSKRITERIEN
C9: Bewertung
B10: Kriterium | C10: max. mögliche Punktzahl | D10: erreichte Wertungsunkte (max. 5 Wertungspunkte) | E10: Faktor | F10: max. erreichbare Wertungspunkte (unter Berüscksichtigung der Gewichtung des Kriteriums - 15 %) | G10: Erreichte Wertungspunkte | H10: Bewertungssystematik
A11: 1. | B11: Konzepte | C11: 10 | D11: … | E11: 3 | F11: 15 | G11: ...
B12: Unterkriterien | C12: max. mögliche Punktzahl | D12: erreichte Punkte | E12: Faktor | F12: max. erreichbare Punkte (Gewichtung im Verhältnis zu erreichbaren Gesamtwertungspunkten im Kriterium: jeweils 1/2 (50 %) je Konzept) | G12: Erreichte Wertungspunkte
A13: 1.1. | B13: Personalkonzept | C13: 5 | D13: … | E13: 1 | F13: 5 | G13: …
A14: 1.2. | B14: Konzept über die frühzeitige Einbindung der Ausführung in den Planungsprozess | C14: 5 | D14: … | E14: 1 | F14: 5 | G14: …
B15: Kriterium | C15: max. mögliche Punktzahl | D15: erreichte Wertungsunkte (max. 5 Wertungspunkte) | E15: Faktor | F15: max. erreichbare Wertungspunklte (unter Berücksichtigung der Gewichtung des Kriteriums - 25 %) | G15: Erreichte Wertungspunkte
A16: 2. | B16: Erfahrung des Projektpersonals | C16: 20 | D16: … | E16: 5 | F16: 25 | G16: …
B17: Unterkriterien | C17: max. mögliche Punktzahl | D17: erreichte Punkte | E17: Faktor | G17: Erreichte Wertungspunkte
A18: 2.1. | B18: Vertreter Senior-Management-Team (SMT) | C18: 5 | D18: … | E18: 1 | G18: …
A19: 2.1.1. | B19: Berufserfahrung | C19: 5 | D19: … | E19: 0.4 | G19: … | H19: 1 Punkt 3 Jahre bis einschl. 5 Jahre Erfahrung in geschäftsleitender (oder vergleichbarer - z. B. Bereichsleiter) Position 2 Punkte mehr als 5 Jahre bis einschl. 8 Jahre Erfahrung in geschäftsleitender (oder vergleichbarer - z. B. Bereichsleiter) Position 3 Punkte mehr als 8 Jahre bis einschl. 11 Jahre Erfahrung in geschäftsleitender (oder vergleichbarer - z. B. Bereichsleiter) Position 4 Punkte mehr als 11 Jahre bis einschl. 14 Jahre Erfahrung in geschäftsleitender (oder vergleichbarer - z. B. Bereichsleiter) Position 5 Punkte mehr als 14 Jahre Erfahrung in geschäftsleitender (oder vergleichbarer - z. B. Bereichsleiter) Position
A20: 2.1.2. | B20: Erfahrung mit kooperativen Vertragsabwicklungsmodellen | C20: 5 (Durchschnitt aus 2.1.2. a) und b)) | D20: … | E20: 0.6 | G20: … | H20: 1 Punkt wird für eine Referenz vergeben, in welcher der Vertrag Regelungen für eine gemeinsame, transparente und kooperative Erarbeitung und Festlegung der Herstellkosten durch die Vertragsparteien beinhaltete. 1 Punkt wird für eine Referenz vergeben, in welcher der Vertrag Regelungen für eine gemeinsame, transparente und kooperative Erarbeitung und Festlegung der vertraglichen Zwischen- und Fertigstellungstermine durch die Vertragsparteien beinhaltete. 1 Punkt wird für eine Referenz vergeben, in welcher der Vertrag Regelungen für eine gemeinsame, transparente und kooperative Erarbeitung und Festlegung der Herstellqualitäten (des “Bau-Solls”) durch die Vertragsparteien beinhaltete. 1 Punkt wird für eine Referenz vergeben, in welcher der Vertrag Regelungen für einen gemeinsamen, transparenten und kooperativen Umgang der Ver-tragsparteien mit Risiken, welche ein Kostensteigerungs- und Terminverlängerunspotenzial beinhalteten, und den daraus resultierenden Kosten und Ausführungszeiträumen beinhaltete. 1 Punkt wird für eine Referenz vergeben, in welcher der Vertrag Regelungen für eine gemeinsame Zusammenarbeit der Bauausführenden mit den Planern in einem Projektraum vor Ort beinhaltete.
A21: a) | B21: Referenz 1 | C21: 5 | D21: …
A22: b) | B22: Referenz 2 | C22: 5 | D22: …
A23: 2.2. | B23: Vertreter Projekt-Management-Team (PMT) | C23: 5 | D23: … | E23: 1 | G23: …
A24: 2.2.1. | B24: Berufserfahrung | C24: 5 | D24: … | E24: 0.3 | G24: … | H24: 1 Punkt 3 Jahre bis einschl. 5 Jahre Erfahrung min. als Projektleiter 2 Punkte mehr als 5 Jahre bis einschl. 8 Jahre Erfahrung min. als Projektleiter 3 Punkte mehr als 8 Jahre bis einschl. 11 Jahre Erfahrung min. als Projektleiter 4 Punkte mehr als 11 Jahre bis einschl. 14 Jahre Erfahrung min. als Projektleiter 5 Punkte mehr als 14 Jahre Erfahrung min. als Projektleiter
A25: 2.2.2. | B25: Erfahrung mit kooperativen Vertragsabwicklungsmodellen | C25: 5 (Durchschnitt aus 2.2.2. a) und b)) | D25: … | E25: 0.2 | G25: … | H25: 1 Punkt wird für eine Referenz vergeben, in welcher der Vertrag Regelungen für eine gemeinsame, transparente und kooperative Erarbeitung und Festlegung der Herstellkosten durch die Vertragsparteien beinhaltete. 1 Punkt wird für eine Referenz vergeben, in welcher der Vertrag Regelungen für eine gemeinsame, transparente und kooperative Erarbeitung und Festlegung der vertraglichen Zwischen- und Fertigstellungstermine durch die Vertragsparteien beinhaltete. 1 Punkt wird für eine Referenz vergeben, in welcher der Vertrag Regelungen für eine gemeinsame, transparente und kooperative Erarbeitung und Festlegung der Herstellqualitäten (des “Bau-Solls”) durch die Vertragsparteien beinhaltete. 1 Punkt wird für eine Referenz vergeben, in welcher der Vertrag Regelungen für einen gemeinsamen, transparenten und kooperativen Umgang der Ver-tragsparteien mit Risiken, welche ein Kostensteigerungs- und Terminverlängerunspotenzial beinhalteten, und den daraus resultierenden Kosten und Ausführungszeiträumen beinhaltete. 1 Punkt wird für eine Referenz vergeben, in welcher der Vertrag Regelungen für eine gemeinsame Zusammenarbeit der Bauausführenden mit den Planern in einem Projektraum vor Ort beinhaltete.
A26: a) | B26: Referenz 1 | C26: 5 | D26: …
A27: b) | B27: Referenz 2 | C27: 5 | D27: …
A28: 2.2.3. | B28: Erfahrung mit der frühzeitigen Einbindung der Ausführung in den Planungsprozess | C28: 5 (Durchschnitt aus 2.2.3. a) und b)) | D28: … | E28: 0.2 | G28: … | H28: 1 Punkt erhält eine Referenz, in der bieterseits in der Leistungsphase (Lph) 5 nach HOAI (oder vergleichbar) aktiv in/an der Planung mitgewirkt wurde, wobei die Mitwirkung nach Art und Umfang den gesamten beauftragten Leistungsbereich und nicht nur Einzelfragen der Planung umfasste 2 Punkte erhält eine Referenz, in der bieterseits ab der Lph 3 bis einschl. Lph 5 nach der HOAI (oder vergleichbar) aktiv in/an der Planung mitgewirkt haben, wobei die Mitwirkung nach Art und Umfang nur Einzelfragen der Planung umfasste 3 Punkte erhält eine Referenz, in der bieterseits ab der Lph 2 bis einschl. Lph 5 nach der HOAI (oder vergleichbar) aktiv in/an der Planung mitgewirkt haben, wobei die Mitwirkung nach Art und Umfang nur Einzelfragen der Planung umfasste 4 Punkte erhält eine Referenz, in der bieterseits ab der Lph 3 bis einschl. der Lph 5 nach HOAI (oder vergleichbar) aktiv in/an der Planung mitgewirkt haben, wobei die Mitwirkung nach Art und Umfang den gesamten beauf-tragten Leistungsbereich und nicht nur Einzelfragen der Planung umfasste 5 Punkte erhält eine Referenz, in der bieterseits ab der Lph 2 bis einschl. der Lph 5 nach HOAI (oder vergleichbar) aktiv in/an der Planung mitgewirkt haben, wobei die Mitwirkung nach Art und Umfang den gesamten beauftragten Leistungsbereich und nicht nur Einzelfragen der Planung umfasste
A29: a) | B29: Referenz 1 | C29: 5 | D29: …
A30: b) | B30: Referenz 2 | C30: 5 | D30: …
A31: 2.2.4. | B31: Erfahrung mit Lean-Design/Lean-Construction | C31: 5 | D31: … | E31: 0.3 | G31: … | H31: 1 Punkt Mitarbeiter verfügt über theoretische Lean-Grundkenntnisse. 2 Punkte Mitarbeiter hat eine der folgenden Lean-Methoden (LPS, Taktplanung/-steuerung, Shopfloormanagement (SFM), TVD oder 5S auf der Baustelle) intern und damit für eigene Steuerung in einem Projekt umgesetzt. 3 Punkte Mitarbeiter hat eine der folgenden Lean-Methoden (LPS, Taktplanung/-steuerung, Shopfloormanagement (SFM), TVD oder 5S auf der Baustelle) unternehmensübergreifend und damit mit externen Projektbeteiligten in einem Projekt umgesetzt. 4 Punkte Mitarbeiter hat mehr als eine der folgenden Lean-Methoden (LPS, Takt-planung/-steuerung, Shopfloormanagement (SFM), TVD oder 5S auf der Baustelle) unternehmensübergreifend und damit mit externen Projektbeteiligten in einem Projekt oder eine dieser Lean-Methoden in mehr als einem Projekt unternehmensübergreifen umgesetzt. 5 Punkte Mitarbeiter hat mehrere der folgenden Lean-Methoden (LPS, Taktpla-nung/-steuerung, Shopfloormanagement (SFM), TVD oder 5S auf der Baustelle) unternehmensübergreifend und damit mit externen Projektbeteiligten in mehr als einem Projekt umgesetzt
A32: 2.3. | B32: Mitglied Project-Implementation-Team (PIT) - Fachprojektleiter (Gewerk Elektrische Anlagen) | C32: 5 | D32: … | E32: 1 | G32: …
A33: 2.3.1. | B33: Berufserfahrung | C33: 5 | D33: … | E33: 0.2 | G33: … | H33: 1 Punkt 1 Jahr bis einschl. 3 Jahre Erfahrung min. als Fachprojektleiter 2 Punkte mehr als 3 Jahre bis einschl. 6 Jahre Erfahrung min. als Fachprojektleiter 3 Punkte mehr als 6 Jahre bis einschl. 9 Jahre Erfahrung min. als Fachprojektleiter 4 Punkte mehr als 9 Jahre bis einschl. 12 Jahre Erfahrung min. als Fachprojektleiter 5 Punkte mehr als 12 Jahre Erfahrung min. als Fachprojektleiter
A34: 2.3.2. | B34: Erfahrung mit Einbindung der Ausführung in den Planungsprozess | C34: 5 (Durchschnitt aus 2.3.2. a) und b)) | D34: … | E34: 0.25 | G34: … | H34: 1 Punkt erhält eine Referenz, in der bieterseits in der Leistungsphase (Lph) 5 nach HOAI (oder vergleichbar) aktiv in/an der Planung mitgewirkt wurde, wobei die Mitwirkung nach Art und Umfang den gesamten beauftragten Leistungsbereich und nicht nur Einzelfragen der Planung umfasste 2 Punkte erhält eine Referenz, in der bieterseits ab der Lph 3 bis einschl. Lph 5 nach der HOAI (oder vergleichbar) aktiv in/an der Planung mitgewirkt haben, wobei die Mitwirkung nach Art und Umfang nur Einzelfragen der Planung umfasste 3 Punkte erhält eine Referenz, in der bieterseits ab der Lph 2 bis einschl. Lph 5 nach der HOAI (oder vergleichbar) aktiv in/an der Planung mitgewirkt haben, wobei die Mitwirkung nach Art und Umfang nur Einzelfragen der Planung umfasste 4 Punkte erhält eine Referenz, in der bieterseits ab der Lph 3 bis einschl. der Lph 5 nach HOAI (oder vergleichbar) aktiv in/an der Planung mitgewirkt haben, wobei die Mitwirkung nach Art und Umfang den gesamten beauf-tragten Leistungsbereich und nicht nur Einzelfragen der Planung umfasste 5 Punkte erhält eine Referenz, in der bieterseits ab der Lph 2 bis einschl. der Lph 5 nach HOAI (oder vergleichbar) aktiv in/an der Planung mitgewirkt haben, wobei die Mitwirkung nach Art und Umfang den gesamten beauftragten Leistungsbereich und nicht nur Einzelfragen der Planung umfasste
A35: a) | B35: Referenz 1 | C35: 5 | D35: …
A36: b) | B36: Referenz 2 | C36: 5 | D36: …
A37: 2.3.3. | B37: Erfahrung mit BIM | C37: 5 (Durchschnitt aus 2.3.3. a) und b)) | D37: … | E37: 0.25 | G37: … | H37: 1 Punkt erhält eine Referenz, in der drei (3) der in B.IV.6. genannten AwF durchgeführt wurden. 2 Punkte erhält eine Referenz, in der vier (4) der in B.IV.6. genannten AwF durchgeführt wurden. 3 Punkte erhält eine Referenz, in der fünf (5) der in B.IV.6. genannten AwF durchgeführt wurden. 4 Punkte erhält eine Referenz, in der sechs (6) der in B.IV.6. genannten AwF durchgeführt wurden. 5 Punkte erhält eine Referenz, in der sieben (7) oder acht (8) der in B.IV.6. genannten AwF durchgeführt wurden.
A38: a) | B38: Referenz 1 | C38: 5 | D38: …
A39: b) | B39: Referenz 2 | C39: 5 | D39: …
A40: 2.3.4. | B40: Erfahrung mit Lean-Design/Lean-Construction | C40: 5 | D40: … | E40: 0.3 | G40: … | H40: 1 Punkt Mitarbeiter verfügt über theoretische Lean-Grundkenntnisse. 2 Punkte Mitarbeiter hat eine der folgenden Lean-Methoden (LPS, Taktplanung/-steuerung, Shopfloormanagement (SFM), TVD oder 5S auf der Baustelle) intern und damit für eigene Steuerung in einem Projekt umgesetzt. 3 Punkte Mitarbeiter hat eine der folgenden Lean-Methoden (LPS, Taktplanung/-steuerung, Shopfloormanagement (SFM), TVD oder 5S auf der Baustelle) unternehmensübergreifend und damit mit externen Projektbeteiligten in einem Projekt umgesetzt. 4 Punkte Mitarbeiter hat mehr als eine der folgenden Lean-Methoden (LPS, Takt-planung/-steuerung, Shopfloormanagement (SFM), TVD oder 5S auf der Baustelle) unternehmensübergreifend und damit mit externen Projektbeteiligten in einem Projekt oder eine dieser Lean-Methoden in mehr als einem Projekt unternehmensübergreifen umgesetzt. 5 Punkte Mitarbeiter hat mehrere der folgenden Lean-Methoden (LPS, Taktpla-nung/-steuerung, Shopfloormanagement (SFM), TVD oder 5S auf der Baustelle) unternehmensübergreifend und damit mit externen Projektbeteiligten in mehr als einem Projekt umgesetzt
A41: 2.4. | B41: Mitglied Project-Implementation-Team (PIT) - Kalkulator | C41: 5 | D41: … | E41: 1 | G41: …
A42: 2.4.1. | B42: Berufserfahrung | C42: 5 | D42: … | E42: 0.2 | G42: … | H42: 1 Punkt 1 Jahr bis einschl. 3 Jahre Erfahrung in der Kalkulation 2 Punkte mehr als 3 Jahre bis einschl. 6 Jahre Erfahrung in der Kalkulation 3 Punkte mehr als 6 Jahre bis einschl. 9 Jahre Erfahrung in der Kalkulation 4 Punkte mehr als 9 Jahre bis einschl. 12 Jahre Erfahrung in der Kalkulation 5 Punkte mehr als 12 Jahre Erfahrung in der Kalkulation
A43: 2.4.2. | B43: Erfahrung mit der frühzeitigen Einbindung der Ausführung in den Planungsprozess | C43: 5 (Durchschnitt aus 2.4.2. a) und b)) | D43: … | E43: 0.25 | G43: … | H43: 1 Punkt erhält eine Referenz, in der bieterseits in der Leistungsphase (Lph) 5 nach HOAI (oder vergleichbar) aktiv in/an der Planung mitgewirkt wurde, wobei die Mitwirkung nach Art und Umfang den gesamten beauftragten Leistungsbereich und nicht nur Einzelfragen der Planung umfasste 2 Punkte erhält eine Referenz, in der bieterseits ab der Lph 3 bis einschl. Lph 5 nach der HOAI (oder vergleichbar) aktiv in/an der Planung mitgewirkt haben, wobei die Mitwirkung nach Art und Umfang nur Einzelfragen der Planung umfasste 3 Punkte erhält eine Referenz, in der bieterseits ab der Lph 2 bis einschl. Lph 5 nach der HOAI (oder vergleichbar) aktiv in/an der Planung mitgewirkt haben, wobei die Mitwirkung nach Art und Umfang nur Einzelfragen der Planung umfasste 4 Punkte erhält eine Referenz, in der bieterseits ab der Lph 3 bis einschl. der Lph 5 nach HOAI (oder vergleichbar) aktiv in/an der Planung mitgewirkt haben, wobei die Mitwirkung nach Art und Umfang den gesamten beauf-tragten Leistungsbereich und nicht nur Einzelfragen der Planung umfasste 5 Punkte erhält eine Referenz, in der bieterseits ab der Lph 2 bis einschl. der Lph 5 nach HOAI (oder vergleichbar) aktiv in/an der Planung mitgewirkt haben, wobei die Mitwirkung nach Art und Umfang den gesamten beauftragten Leistungsbereich und nicht nur Einzelfragen der Planung umfasste
A44: a) | B44: Referenz 1 | C44: 5 | D44: …
A45: b) | B45: Referenz 2 | C45: 5 | D45: …
A46: 2.4.3. | B46: Erfahrung mit BIM | C46: 5 | D46: … | E46: 0.25 | G46: … | H46: 1 Punkt erhält eine Referenz, in der drei (3) der in B.IV.6. genannten AwF durchgeführt wurden. 2 Punkte erhält eine Referenz, in der vier (4) der in B.IV.6. genannten AwF durchgeführt wurden. 3 Punkte erhält eine Referenz, in der fünf (5) der in B.IV.6. genannten AwF durchgeführt wurden. 4 Punkte erhält eine Referenz, in der sechs (6) der in B.IV.6. genannten AwF durchgeführt wurden. 5 Punkte erhält eine Referenz, in der sieben (7) oder acht (8) der in B.IV.6. genannten AwF durchgeführt wurden.
A47: a) | B47: Referenz 1 | C47: 5 | D47: …
A48: b) | B48: Referenz 2 | C48: 5 | D48: …
A49: 2.4.4. | B49: Erfahrung mit Lean-Design/Lean-Construction | C49: 5 | D49: … | E49: 0.3 | G49: … | H49: 1 Punkt Mitarbeiter verfügt über theoretische Lean-Grundkenntnisse. 2 Punkte Mitarbeiter hat eine der folgenden Lean-Methoden (LPS, Taktplanung/-steuerung, Shopfloormanagement (SFM), TVD oder 5S auf der Baustelle) intern und damit für eigene Steuerung in einem Projekt umgesetzt. 3 Punkte Mitarbeiter hat eine der folgenden Lean-Methoden (LPS, Taktplanung/-steuerung, Shopfloormanagement (SFM), TVD oder 5S auf der Baustelle) unternehmensübergreifend und damit mit externen Projektbeteiligten in einem Projekt umgesetzt. 4 Punkte Mitarbeiter hat mehr als eine der folgenden Lean-Methoden (LPS, Takt-planung/-steuerung, Shopfloormanagement (SFM), TVD oder 5S auf der Baustelle) unternehmensübergreifend und damit mit externen Projektbeteiligten in einem Projekt oder eine dieser Lean-Methoden in mehr als einem Projekt unternehmensübergreifen umgesetzt. 5 Punkte Mitarbeiter hat mehrere der folgenden Lean-Methoden (LPS, Taktpla-nung/-steuerung, Shopfloormanagement (SFM), TVD oder 5S auf der Baustelle) unternehmensübergreifend und damit mit externen Projektbeteiligten in mehr als einem Projekt umgesetzt
B50: Kriterium | C50: max. mögliche Punktzahl | D50: erreichte Wertungsunkte (max. 5 Wertungspunkte) | E50: Faktor | F50: max. erreichbare Wertungspunklte (unter Berücksichtigung der Gewichtung des Kriteriums - 40 %) | G50: Erreichte Wertungspunkte
A51: 3. | B51: IPA-Kompetenzen | C51: 20 | D51: … | E51: 8 | F51: 40 | G51: …
B52: Unterkriterien | C52: max. mögliche Punktzahl | D52: erreichte Punkte | E52: Faktor | G52: Erreichte Wertungspumkte
A53: 3.1. | B53: Vertreter Senior-Management-Team (SMT) | C53: 5 | D53: … | E53: 1 | G53: … | H53: 1 Punkt die Aspekte/Verhaltensanker sind bei der jeweiligen Person nur in sehr geringem Maße festzustellen. 2 Punkte die Aspekte/Verhaltensanker sind bei der jeweiligen Person in gerin-gem Maße festzustellen. 3 Punkte die Aspekte/Verhaltensanker sind bei der jeweiligen Person in durchschittlichem Maße festzustellen. 4 Punkte die Aspekte/Verhaltensanker sind bei der jeweiligen Person in hohem Maße festzustellen. 5 Punkte die Aspekte/Verhaltensanker sind bei der jeweiligen Person in sehr hohem Maße festzustellen.
A54: 3.1.1. | B54: Kommunikationsfähigkeit | C54: 5 | D54: … | E54: 0.1 | G54: …
A55: 3.1.2. | B55: Teamföhigkeit | C55: 5 | D55: … | E55: 0.25 | G55: …
A56: 3.1.3. | B56: Konfliklösungsfähigkeit | C56: 5 | D56: … | E56: 0.15 | G56: …
A57: 3.1.4. | B57: Organisations- und Führungsfähigkeit | C57: 5 | D57: … | E57: 0.15 | G57: …
A58: 3.1.5. | B58: Reflexionsfähgkeit (Lernfähigkeit) | C58: 5 | D58: … | E58: 0.15 | G58: …
A59: 3.1.6. | B59: IPA-Systemverständnis | C59: 5 | D59: … | E59: 0.2 | G59: …
A60: 3.2. | B60: Vertreter Projekt-Management-Team (PMT) | C60: 5 | D60: … | E60: 1 | G60: …
A61: 3.2.1. | B61: Kommunikationsfähigkeit | C61: 5 | D61: … | E61: 0.1 | G61: …
A62: 3.2.2. | B62: Teamföhigkeit | C62: 5 | D62: … | E62: 0.25 | G62: …
A63: 3.2.3. | B63: Konfliklösungsfähigkeit | C63: 5 | D63: … | E63: 0.15 | G63: …
A64: 3.2.4. | B64: Organisations- und Führungsfähigkeit | C64: 5 | D64: … | E64: 0.15 | G64: …
A65: 3.2.5. | B65: Reflexionsfähgkeit (Lernfähigkeit) | C65: 5 | D65: … | E65: 0.15 | G65: …
... A80: 3.4.6. | B80: IPA-Systemverständnis | C80: 5 | D80: … | E80: 0.2 | G80: …
B81: Kriterium | C81: max. mögliche Punktzahl | D81: erreichte Punkte | E81: Faktor | F81: max. erreichbare Wertungspunklte (Gewichtung im Verhältnis zu erreichbaren Gesamtwertungspunkten: 20 %) | G81: Erreichte Wertungspunkte
A82: 4. | B82: Verrechnungssätze, AGK- Satz, Gewinn-Satz und Tagespauschalen für Reise- und Unterbringungskosten | C82: 5 | D82: … | E82: 4 | F82: 20 | G82: … | H82: − 5 Punkte erhält das Angebot mit der niedrigsten Angebotssumme. − 0 Punkte erhält ein fiktives Angebot mit dem 2,0-fachen der niedrigsten Angebotssumme. − Alle Angebote mit darüber liegenden Angebotssummen erhalten ebenfalls 0 Punkte. − Die Punktermittlung für die dazwischen liegenden Angebotssummen erfolgt über eine lineare Interpolation (Referenzierung) mit zwei Stellen nach dem Komma und werden gemäß nachfolgender Formel ermittelt:
A83: 5. | B83: Erreichte Gesamtwertungspunkte | F83: 100 | G83: =SUM(G11:G82) -> 0

Sheet Zuschlag Bieter 1
A1: Landesverwaltungsamt - Staatliche Hochbaubehörde Aufbau Kompetenzzentrum Kette (St. Wendel) (Integrierte Projektabwicklung – IPA – mittels Mehrparteienvertrag – MPV) Verhandlungsverfahren mit Teilnahmewettbewerb Vergabelos: Planung Industriebau Wertungsmatrix Angebot | C1: Vergabenummer: 26E09301/05
A6: Name des Bieters: | C6: Bieter Nr:
A7: Bietername 1
A9: ZUSCHLAGSKRITERIEN | C9: Bewertung | H9: Berechnung | M9: Berechnung | R9: Berechnung
A10: Kriterium | R10: max. mögliche Punktzahl | S10: erreichte Wertungspunkte (max. 5 Wertungspunkte)
A11: 1. | B11: Konzepte (Durchschnitt aus 1.1. und 1.2.) | R11: 5 | S11: =ROUND((D13+D14)/2,2) -> 0
A12: Unterkriterien | C12: max. mögliche Punkte Unterkriterium | D12: erreichte Punkte Unterkriterium
A13: 1.1. | B13: Personalkonzept | C13: 5
A14: 1.2. | B14: Konzept über die frühzeitige Einbindung der Ausführung in den Planungsprozess | C14: 5
A15: Kriterium | R15: max. mögliche Punktzahl | S15: erreichte Wertungsunkte (max. 5 Wertungspunkte)
A16: 2. | B16: Erfahrung des Projektpersonals | R16: 20 | S16: =ROUND((P18+P23+P32+P41)/4,2) -> 0
A17: Unterkriterien | C17: max. mögliche Punktzahl | D17: erreichte Punkte | E17: Faktor | F17: Erreichte Punkte | H17: max. mögliche Punktzahl | I17: erreichte Punkte | J17: Faktor | M17: max. mögliche Punktzahl | N17: erreichte Punkte | O17: Faktor
A18: 2.1. | B18: Vertreter Senior-Management-Team (SMT) | M18: 5 | N18: =SUM(K19:K20) -> 0 | O18: 1 | P18: =ROUND(N18*O18,2) -> 0
A19: 2.1.1. | B19: Berufserfahrung | C19: 5 | E19: 0.4 | F19: =ROUND(D19*E19,2) -> 0 | K19: =+F19 -> 0
A20: 2.1.2. | B20: Erfahrung mit kollabortaiven Vertragsabwicklungsmodellen (Durchschnitt aus 2.1.2. a) und b)) | H20: 5 | I20: =+(D21+D22)/2 -> 0 | J20: 0.6 | K20: =ROUND(I20*J20,2) -> 0
A21: a) | B21: Referenz 1 | C21: 5
A22: b) | B22: Referenz 2 | C22: 5
A23: 2.2. | B23: Vertreter Projekt-Management-Team (PMT) | M23: 5 | N23: =SUM(K24:K31) -> 0 | O23: 1 | P23: =ROUND(N23*O23,2) -> 0
A24: 2.2.1. | B24: Berufserfahrung | C24: 5 | E24: 0.3 | F24: =ROUND(D24*E24,2) -> 0 | K24: =+F24 -> 0
A25: 2.2.2. | B25: Erfahrung mit kollaborativen Vertragsabwicklungsmodellen (Durchschnitt aus 2.2.2. a) und b)) | H25: 5 | I25: =+(D26+D27)/2 -> 0 | J25: 0.2 | K25: =ROUND(I25*J25,2) -> 0
A26: a) | B26: Referenz 1 | C26: 5
A27: b) | B27: Referenz 2 | C27: 5
A28: 2.2.3. | B28: Erfahrung mit der frühzeitigen Einbindung der Ausführung in den Planungsprozess (Durchschnitt aus 2.2.3. a) und b)) | H28: 5 | I28: =+(D29+D30)/2 -> 0 | J28: 0.2 | K28: =+I28*J28 -> 0
A29: a) | B29: Referenz 1 | C29: 5
A30: b) | B30: Referenz 2 | C30: 5
A31: 2.2.4. | B31: Erfahrung mit Lean-Design/Lean-Construction | C31: 5 | E31: 0.3 | F31: =ROUND(D31*E31,2) -> 0 | K31: =+F31 -> 0
A32: 2.3. | B32: Mitglied Project-Implementation-Team (PIT) - Fachprojektleiter Objektplanung Gebäude | M32: 5 | N32: =SUM(K33:K40) -> 0 | O32: 1 | P32: =ROUND(N32*O32,2) -> 0
A33: 2.3.1. | B33: Berufserfahrung | C33: 5 | E33: 0.2 | F33: =ROUND(D33*E33,2) -> 0 | K33: =+F33 -> 0
A34: 2.3.2. | B34: Erfahrung mit Einbindung der Ausführung in den Planungsprozess (Durchschnitt aus 2.3.2. a) und b)) | H34: 5 | I34: =+(D35+D36)/2 -> 0 | J34: 0.25 | K34: =ROUND(I34*J34,2) -> 0
A35: a) | B35: Referenz 1 | C35: 5
A36: b) | B36: Referenz 2 | C36: 5
A37: 2.3.3. | B37: Erfahrung mit BIM (Durchschnitt aus 2.3.3. a) und b)) | H37: 5 | I37: =+(D38+D39)/2 -> 0 | J37: 0.25 | K37: =ROUND(I37*J37,2) -> 0
A38: a) | B38: Referenz 1 | C38: 5
A39: b) | B39: Referenz 2 | C39: 5
A40: 2.3.4. | B40: Erfahrung mit Lean-Design/Lean-Construction | C40: 5 | E40: 0.3 | F40: =ROUND(D40*E40,2) -> 0 | K40: =+F40 -> 0
A41: 2.4. | B41: Mitglied Project-Implementation-Team (PIT) - Planungskoordinator (einschl. BIM-Koordinator) | M41: 5 | N41: =SUM(K42:K49) -> 0 | O41: 1 | P41: =ROUND(N41*O41,2) -> 0
A42: 2.4.1. | B42: Berufserfahrung | C42: 5 | E42: 0.2 | F42: =ROUND(D42*E42,2) -> 0 | K42: =+F42 -> 0
A43: 2.4.2. | B43: Erfahrung mit der frühzeitigen Einbindung der Ausführung in den Planungsprozess (Durchschnitt aus 2.4.2. a) und b)) | H43: 5 | I43: =+(D44+D45)/2 -> 0 | J43: 0.25 | K43: =ROUND(I43*J43,2) -> 0
A44: a) | B44: Referenz 1 | C44: 5
A45: b) | B45: Referenz 2 | C45: 5
A46: 2.4.3. | B46: Erfahrung mit BIM (Durchschnitt aus 2.4.3. a) und b)) | H46: 5 | I46: =+(D47+D48)/2 -> 0 | J46: 0.25 | K46: =ROUND(I46*J46,2) -> 0
A47: a) | B47: Referenz 1 | C47: 5
A48: b) | B48: Referenz 2 | C48: 5
A49: 2.4.4. | B49: Erfahrung mit Lean-Design/Lean-Construction | C49: 5 | E49: 0.3 | F49: =ROUND(D49*E49,2) -> 0 | K49: =+F49 -> 0
A50: Kriterium | R50: max. mögliche Punktzahl | S50: erreichte Wertungsunkte (max. 5 Wertungspunkte)
A51: 3. | B51: IPA-Fähigkeiten | R51: 20 | S51: =ROUND((P53+P60+P67+P74)/4,2) -> 0
A52: Unterkriterien | C52: max. mögliche Punktzahl | D52: erreichte Punkte | E52: Faktor | F52: Erreichte Punkte | M52: max. mögliche Punktzahl | N52: erreichte Wertungs-Punkte | O52: Faktor | P52: erreichte Wertungs-punkte
A53: 3.1. | B53: Vertreter Senior-Management-Team (SMT) | M53: 5 | N53: =SUM(F54:F59) -> 0 | O53: 1 | P53: =ROUND(N53*O53,2) -> 0
A54: 3.1.1. | B54: Kommunikationsfähigkeit | C54: 5 | E54: 0.1 | F54: =ROUND(D54*E54,2) -> 0
A55: 3.1.2. | B55: Teamföhigkeit | C55: 5 | E55: 0.25 | F55: =ROUND(D55*E55,2) -> 0
A56: 3.1.3. | B56: Konfliklösungsfähigkeit | C56: 5 | E56: 0.15 | F56: =ROUND(D56*E56,2) -> 0
A57: 3.1.4. | B57: Organisations- und Führungsfähigkeit | C57: 5 | E57: 0.15 | F57: =ROUND(D57*E57,2) -> 0
A58: 3.1.5. | B58: Reflexionsfähgkeit (Lernfähigkeit) | C58: 5 | E58: 0.15 | F58: =ROUND(D58*E58,2) -> 0
A59: 3.1.6. | B59: IPA-Systemverständnis | C59: 5 | E59: 0.2 | F59: =ROUND(D59*E59,2) -> 0
A60: 3.2. | B60: Vertreter Projekt-Management-Team (PMT) | M60: 5 | N60: =SUM(F61:F66) -> 0 | O60: 1 | P60: =ROUND(N60*O60,2) -> 0
A61: 3.2.1. | B61: Kommunikationsfähigkeit | C61: 5 | E61: 0.1 | F61: =ROUND(D61*E61,2) -> 0
A62: 3.2.2. | B62: Teamföhigkeit | C62: 5 | E62: 0.25 | F62: =ROUND(D62*E62,2) -> 0
A63: 3.2.3. | B63: Konfliklösungsfähigkeit | C63: 5 | E63: 0.15 | F63: =ROUND(D63*E63,2) -> 0
A64: 3.2.4. | B64: Organisations- und Führungsfähigkeit | C64: 5 | E64: 0.15 | F64: =ROUND(D64*E64,2) -> 0
A65: 3.2.5. | B65: Reflexionsfähgkeit (Lernfähigkeit) | C65: 5 | E65: 0.15 | F65: =ROUND(D65*E65,2) -> 0
A66: 3.2.6. | B66: IPA-Systemverständnis | C66: 5 | E66: 0.2 | F66: =ROUND(D66*E66,2) -> 0
A67: 3.3. | B67: Mitglied Project-Implementation-Team (PIT) - Fachprojektleiter Objektplanung Gebäude | M67: 5 | N67: =SUM(F68:F73) -> 0 | O67: 1 | P67: =ROUND(N67*O67,2) -> 0
A68: 3.3.1. | B68: Kommunikationsfähigkeit | C68: 5 | E68: 0.1 | F68: =ROUND(D68*E68,2) -> 0
A69: 3.3.2. | B69: Teamföhigkeit | C69: 5 | E69: 0.25 | F69: =ROUND(D69*E69,2) -> 0
A70: 3.3.3. | B70: Konfliklösungsfähigkeit | C70: 5 | E70: 0.15 | F70: =ROUND(D70*E70,2) -> 0
A71: 3.3.4. | B71: Organisations- und Führungsfähigkeit | C71: 5 | E71: 0.15 | F71: =ROUND(D71*E71,2) -> 0
A72: 3.3.5. | B72: Reflexionsfähgkeit (Lernfähigkeit) | C72: 5 | E72: 0.15 | F72: =ROUND(D72*E72,2) -> 0
A73: 3.3.6 | B73: IPA-Systemverständnis | C73: 5 | E73: 0.2 | F73: =ROUND(D73*E73,2) -> 0
A74: 3.4. | B74: Mitglied Project-Implementation-Team (PIT) - Planungskoordinator (einschl. BIM-Koordinator) | M74: 5 | N74: =SUM(F75:F80) -> 0 | O74: 1 | P74: =ROUND(N74*O74,2) -> 0
A75: 3.4.1. | B75: Kommunikationsfähigkeit | C75: 5 | E75: 0.1 | F75: =ROUND(D75*E75,2) -> 0
A76: 3.4.2. | B76: Teamföhigkeit | C76: 5 | E76: 0.25 | F76: =ROUND(D76*E76,2) -> 0
A77: 3.4.3. | B77: Konfliklösungsfähigkeit | C77: 5 | E77: 0.15 | F77: =ROUND(D77*E77,2) -> 0
A78: 3.4.4. | B78: Organisations- und Führungsfähigkeit | C78: 5 | E78: 0.15 | F78: =ROUND(D78*E78,2) -> 0
A79: 3.4.5. | B79: Reflexionsfähgkeit (Lernfähigkeit) | C79: 5 | E79: 0.15 | F79: =ROUND(D79*E79,2) -> 0
A80: 3.4.6. | B80: IPA-Systemverständnis | C80: 5 | E80: 0.2 | F80: =ROUND(D80*E80,2) -> 0
A81: Kriterium | C81: max. mögliche Punktzahl | D81: erreichte Punkte | E81: Faktor | F81: Erreichte Punkte | R81: max. mögliche Punktzahl | S81: erreichte Punkte
A82: 4. | B82: Verrechnungssätze, Gewinn-Satz und Tagespauschalen für Reise- und Unterbringungskosten | C82: 5 | E82: 1 | F82: =ROUND(D82*E82,2) -> 0 | R82: 5 | S82: =ROUND(F82,2) -> 0

Sheet Zuschlag Bieter 2
A1: Landesverwaltungsamt Saarland HIL GmbH, Kompetenzzentrum Kette Aufbau Kompetenzzentrum Kette (HIL WND) (Integrierte Projektabwicklung – IPA – mittels Mehrparteienvertrag – MPV) Verhandlungsverfahren mit Teilnahmewettbewerb Vergabelos: Planung Industriebau Wertungsmatrix Angebot | C1: Vergabenummer: 26E09301/05
A6: Name des Bieters: | C6: Bieter Nr:
A7: Bietername 2
A9: ZUSCHLAGSKRITERIEN | C9: Bewertung | H9: Berechnung | M9: Berechnung | R9: Berechnung
A10: Kriterium | R10: max. mögliche Punktzahl | S10: erreichte Wertungspunkte (max. 5 Wertungspunkte)
A11: 1. | B11: Konzepte (Durchschnitt aus 1.1. und 1.2.) | R11: 5 | S11: =ROUND((D13+D14)/2,2) -> 0
A12: Unterkriterien | C12: max. mögliche Punkte Unterkriterium | D12: erreichte Punkte Unterkriterium
A13: 1.1. | B13: Personalkonzept | C13: 5
A14: 1.2. | B14: Konzept über die frühzeitige Einbindung der Ausführung in den Planungsprozess | C14: 5
A15: Kriterium | R15: max. mögliche Punktzahl | S15: erreichte Wertungsunkte (max. 5 Wertungspunkte)
A16: 2. | B16: Erfahrung des Projektpersonals | R16: 20 | S16: =ROUND((P18+P23+P32+P41)/4,2) -> 0
A17: Unterkriterien | C17: max. mögliche Punktzahl | D17: erreichte Punkte | E17: Faktor | F17: Erreichte Punkte | H17: max. mögliche Punktzahl | I17: erreichte Punkte | J17: Faktor | M17: max. mögliche Punktzahl | N17: erreichte Punkte | O17: Faktor
A18: 2.1. | B18: Vertreter Senior-Management-Team (SMT) | M18: 5 | N18: =SUM(K19:K20) -> 0 | O18: 1 | P18: =ROUND(N18*O18,2) -> 0
A19: 2.1.1. | B19: Berufserfahrung | C19: 5 | E19: 0.4 | F19: =ROUND(D19*E19,2) -> 0 | K19: =+F19 -> 0
A20: 2.1.2. | B20: Erfahrung mit kooperativen Vertragsabwicklungsmodellen (Durchschnitt aus 2.1.2. a) und b)) | H20: 5 | I20: =+(D21+D22)/2 -> 0 | J20: 0.6 | K20: =ROUND(I20*J20,2) -> 0
A21: a) | B21: Referenz 1 | C21: 5
A22: b) | B22: Referenz 2 | C22: 5
A23: 2.2. | B23: Vertreter Projekt-Management-Team (PMT) | M23: 5 | N23: =SUM(K24:K31) -> 0 | O23: 1 | P23: =ROUND(N23*O23,2) -> 0
A24: 2.2.1. | B24: Berufserfahrung | C24: 5 | E24: 0.3 | F24: =ROUND(D24*E24,2) -> 0 | K24: =+F24 -> 0
A25: 2.2.2. | B25: Erfahrung mit kooperativen Vertragsabwicklungsmodellen (Durchschnitt aus 2.2.2. a) und b)) | H25: 5 | I25: =+(D26+D27)/2 -> 0 | J25: 0.2 | K25: =ROUND(I25*J25,2) -> 0
A26: a) | B26: Referenz 1 | C26: 5
A27: b) | B27: Referenz 2 | C27: 5
A28: 2.2.3. | B28: Erfahrung mit der frühzeitigen Einbindung der Ausführung in den Planungsprozess (Durchschnitt aus 2.2.3. a) und b)) | H28: 5 | I28: =+(D29+D30)/2 -> 0 | J28: 0.2 | K28: =+I28*J28 -> 0
A29: a) | B29: Referenz 1 | C29: 5
A30: b) | B30: Referenz 2 | C30: 5
A31: 2.2.4. | B31: Erfahrung mit Lean-Design/Lean-Construction | C31: 5 | E31: 0.3 | F31: =ROUND(D31*E31,2) -> 0 | K31: =+F31 -> 0
A32: 2.3. | B32: Mitglied Project-Implementation-Team (PIT) - Fachprojektleiter Objektplanung Gebäude | M32: 5 | N32: =SUM(K33:K40) -> 0 | O32: 1 | P32: =ROUND(N32*O32,2) -> 0
A33: 2.3.1. | B33: Berufserfahrung | C33: 5 | E33: 0.2 | F33: =ROUND(D33*E33,2) -> 0 | K33: =+F33 -> 0
A34: 2.3.2. | B34: Erfahrung mit Einbindung der Ausführung in den Planungsprozess (Durchschnitt aus 2.3.2. a) und b)) | H34: 5 | I34: =+(D35+D36)/2 -> 0 | J34: 0.25 | K34: =ROUND(I34*J34,2) -> 0
A35: a) | B35: Referenz 1 | C35: 5
A36: b) | B36: Referenz 2 | C36: 5
A37: 2.3.3. | B37: Erfahrung mit BIM (Durchschnitt aus 2.3.3. a) und b)) | H37: 5 | I37: =+(D38+D39)/2 -> 0 | J37: 0.25 | K37: =ROUND(I37*J37,2) -> 0
A38: a) | B38: Referenz 1 | C38: 5
A39: b) | B39: Referenz 2 | C39: 5
A40: 2.3.4. | B40: Erfahrung mit Lean-Design/Lean-Construction | C40: 5 | E40: 0.3 | F40: =ROUND(D40*E40,2) -> 0 | K40: =+F40 -> 0
A41: 2.4. | B41: Mitglied Project-Implementation-Team (PIT) - Planungskoordinator (einschl. BIM-Koordinator) | M41: 5 | N41: =SUM(K42:K49) -> 0 | O41: 1 | P41: =ROUND(N41*O41,2) -> 0
A42: 2.4.1. | B42: Berufserfahrung | C42: 5 | E42: 0.2 | F42: =ROUND(D42*E42,2) -> 0 | K42: =+F42 -> 0
A43: 2.4.2. | B43: Erfahrung mit der frühzeitigen Einbindung der Ausführung in den Planungsprozess (Durchschnitt aus 2.4.2. a) und b)) | H43: 5 | I43: =+(D44+D45)/2 -> 0 | J43: 0.25 | K43: =ROUND(I43*J43,2) -> 0
A44: a) | B44: Referenz 1 | C44: 5
A45: b) | B45: Referenz 2 | C45: 5
A46: 2.4.3. | B46: Erfahrung mit BIM (Durchschnitt aus 2.4.3. a) und b)) | H46: 5 | I46: =+(D47+D48)/2 -> 0 | J46: 0.25 | K46: =ROUND(I46*J46,2) -> 0
A47: a) | B47: Referenz 1 | C47: 5
A48: b) | B48: Referenz 2 | C48: 5
A49: 2.4.4. | B49: Erfahrung mit Lean-Design/Lean-Construction | C49: 5 | E49: 0.3 | F49: =ROUND(D49*E49,2) -> 0 | K49: =+F49 -> 0
A50: Kriterium | R50: max. mögliche Punktzahl | S50: erreichte Wertungsunkte (max. 5 Wertungspunkte)
A51: 3. | B51: IPA-Fähigkeiten | R51: 20 | S51: =ROUND((P53+P60+P67+P74)/4,2) -> 0
A52: Unterkriterien | C52: max. mögliche Punktzahl | D52: erreichte Punkte | E52: Faktor | F52: Erreichte Punkte | M52: max. mögliche Punktzahl | N52: erreichte Wertungs-Punkte | O52: Faktor | P52: erreichte Wertungs-punkte
A53: 3.1. | B53: Vertreter Senior-Management-Team (SMT) | M53: 5 | N53: =SUM(F54:F59) -> 0 | O53: 1 | P53: =ROUND(N53*O53,2) -> 0
A54: 3.1.1. | B54: Kommunikationsfähigkeit | C54: 5 | E54: 0.1 | F54: =ROUND(D54*E54,2) -> 0
A55: 3.1.2. | B55: Teamföhigkeit | C55: 5 | E55: 0.25 | F55: =ROUND(D55*E55,2) -> 0
A56: 3.1.3. | B56: Konfliklösungsfähigkeit | C56: 5 | E56: 0.15 | F56: =ROUND(D56*E56,2) -> 0
A57: 3.1.4. | B57: Organisations- und Führungsfähigkeit | C57: 5 | E57: 0.15 | F57: =ROUND(D57*E57,2) -> 0
A58: 3.1.5. | B58: Reflexionsfähgkeit (Lernfähigkeit) | C58: 5 | E58: 0.15 | F58: =ROUND(D58*E58,2) -> 0
A59: 3.1.6. | B59: IPA-Systemverständnis | C59: 5 | E59: 0.2 | F59: =ROUND(D59*E59,2) -> 0
A60: 3.2. | B60: Vertreter Projekt-Management-Team (PMT) | M60: 5 | N60: =SUM(F61:F66) -> 0 | O60: 1 | P60: =ROUND(N60*O60,2) -> 0
A61: 3.2.1. | B61: Kommunikationsfähigkeit | C61: 5 | E61: 0.1 | F61: =ROUND(D61*E61,2) -> 0
A62: 3.2.2. | B62: Teamföhigkeit | C62: 5 | E62: 0.25 | F62: =ROUND(D62*E62,2) -> 0
A63: 3.2.3. | B63: Konfliklösungsfähigkeit | C63: 5 | E63: 0.15 | F63: =ROUND(D63*E63,2) -> 0
A64: 3.2.4. | B64: Organisations- und Führungsfähigkeit | C64: 5 | E64: 0.15 | F64: =ROUND(D64*E64,2) -> 0
A65: 3.2.5. | B65: Reflexionsfähgkeit (Lernfähigkeit) | C65: 5 | E65: 0.15 | F65: =ROUND(D65*E65,2) -> 0
A66: 3.2.6. | B66: IPA-Systemverständnis | C66: 5 | E66: 0.2 | F66: =ROUND(D66*E66,2) -> 0
A67: 3.3. | B67: Mitglied Project-Implementation-Team (PIT) - Fachprojektleiter Objektplanung Gebäude | M67: 5 | N67: =SUM(F68:F73) -> 0 | O67: 1 | P67: =ROUND(N67*O67,2) -> 0
A68: 3.3.1. | B68: Kommunikationsfähigkeit | C68: 5 | E68: 0.1 | F68: =ROUND(D68*E68,2) -> 0
A69: 3.3.2. | B69: Teamföhigkeit | C69: 5 | E69: 0.25 | F69: =ROUND(D69*E69,2) -> 0
A70: 3.3.3. | B70: Konfliklösungsfähigkeit | C70: 5 | E70: 0.15 | F70: =ROUND(D70*E70,2) -> 0
A71: 3.3.4. | B71: Organisations- und Führungsfähigkeit | C71: 5 | E71: 0.15 | F71: =ROUND(D71*E71,2) -> 0
A72: 3.3.5. | B72: Reflexionsfähgkeit (Lernfähigkeit) | C72: 5 | E72: 0.15 | F72: =ROUND(D72*E72,2) -> 0
A73: 3.3.6 | B73: IPA-Systemverständnis | C73: 5 | E73: 0.2 | F73: =ROUND(D73*E73,2) -> 0
A74: 3.4. | B74: Mitglied Project-Implementation-Team (PIT) - Planungskoordinator (einschl. BIM-Koordinator) | M74: 5 | N74: =SUM(F75:F80) -> 0 | O74: 1 | P74: =ROUND(N74*O74,2) -> 0
A75: 3.4.1. | B75: Kommunikationsfähigkeit | C75: 5 | E75: 0.1 | F75: =ROUND(D75*E75,2) -> 0
A76: 3.4.2. | B76: Teamföhigkeit | C76: 5 | E76: 0.25 | F76: =ROUND(D76*E76,2) -> 0
A77: 3.4.3. | B77: Konfliklösungsfähigkeit | C77: 5 | E77: 0.15 | F77: =ROUND(D77*E77,2) -> 0
A78: 3.4.4. | B78: Organisations- und Führungsfähigkeit | C78: 5 | E78: 0.15 | F78: =ROUND(D78*E78,2) -> 0
A79: 3.4.5. | B79: Reflexionsfähgkeit (Lernfähigkeit) | C79: 5 | E79: 0.15 | F79: =ROUND(D79*E79,2) -> 0
A80: 3.4.6. | B80: IPA-Systemverständnis | C80: 5 | E80: 0.2 | F80: =ROUND(D80*E80,2) -> 0
A81: Kriterium | C81: max. mögliche Punktzahl | D81: erreichte Punkte | E81: Faktor | F81: Erreichte Punkte | R81: max. mögliche Punktzahl | S81: erreichte Punkte
A82: 4. | B82: Verrechnungssätze, Gewinn-Satz und Tagespauschalen für Reise- und Unterbringungskosten | C82: 5 | E82: 1 | F82: =ROUND(D82*E82,2) -> 0 | R82: 5 | S82: =ROUND(F82,2) -> 0

Sheet Zuschlag Bieter 3
A1: Landesverwaltungsamt Saarland HIL GmbH, Kompetenzzentrum Kette Aufbau Kompetenzzentrum Kette (HIL WND) (Integrierte Projektabwicklung – IPA – mittels Mehrparteienvertrag – MPV) Verhandlungsverfahren mit Teilnahmewettbewerb Vergabelos: Planung Industriebau Wertungsmatrix Angebot | C1: Vergabeidentifikationsnummer: 26E09301/05
A6: Name des Bieters: | C6: Bieter Nr:
A7: Bietername 3
A9: ZUSCHLAGSKRITERIEN | C9: Bewertung | H9: Berechnung | M9: Berechnung | R9: Berechnung
A10: Kriterium | R10: max. mögliche Punktzahl | S10: erreichte Wertungspunkte (max. 5 Wertungspunkte)
A11: 1. | B11: Konzepte (Durchschnitt aus 1.1. und 1.2.) | R11: 5 | S11: =ROUND((D13+D14)/2,2) -> 0
A12: Unterkriterien | C12: max. mögliche Punkte Unterkriterium | D12: erreichte Punkte Unterkriterium
A13: 1.1. | B13: Personalkonzept | C13: 5
A14: 1.2. | B14: Konzept über die frühzeitige Einbindung der Ausführung in den Planungsprozess | C14: 5
A15: Kriterium | R15: max. mögliche Punktzahl | S15: erreichte Wertungsunkte (max. 5 Wertungspunkte)
A16: 2. | B16: Erfahrung des Projektpersonals | R16: 20 | S16: =ROUND((P18+P23+P32+P41)/4,2) -> 0
A17: Unterkriterien | C17: max. mögliche Punktzahl | D17: erreichte Punkte | E17: Faktor | F17: Erreichte Punkte | H17: max. mögliche Punktzahl | I17: erreichte Punkte | J17: Faktor | M17: max. mögliche Punktzahl | N17: erreichte Punkte | O17: Faktor
A18: 2.1. | B18: Vertreter Senior-Management-Team (SMT) | M18: 5 | N18: =SUM(K19:K20) -> 0 | O18: 1 | P18: =ROUND(N18*O18,2) -> 0
A19: 2.1.1. | B19: Berufserfahrung | C19: 5 | E19: 0.4 | F19: =ROUND(D19*E19,2) -> 0 | K19: =+F19 -> 0
A20: 2.1.2. | B20: Erfahrung mit kooperativen Vertragsabwicklungsmodellen (Durchschnitt aus 2.1.2. a) und b)) | H20: 5 | I20: =+(D21+D22)/2 -> 0 | J20: 0.6 | K20: =ROUND(I20*J20,2) -> 0
A21: a) | B21: Referenz 1 | C21: 5
A22: b) | B22: Referenz 2 | C22: 5
A23: 2.2. | B23: Vertreter Projekt-Management-Team (PMT) | M23: 5 | N23: =SUM(K24:K31) -> 0 | O23: 1 | P23: =ROUND(N23*O23,2) -> 0
A24: 2.2.1. | B24: Berufserfahrung | C24: 5 | E24: 0.3 | F24: =ROUND(D24*E24,2) -> 0 | K24: =+F24 -> 0
A25: 2.2.2. | B25: Erfahrung mit kooperativen Vertragsabwicklungsmodellen (Durchschnitt aus 2.2.2. a) und b)) | H25: 5 | I25: =+(D26+D27)/2 -> 0 | J25: 0.2 | K25: =ROUND(I25*J25,2) -> 0
A26: a) | B26: Referenz 1 | C26: 5
A27: b) | B27: Referenz 2 | C27: 5
A28: 2.2.3. | B28: Erfahrung mit der frühzeitigen Einbindung der Ausführung in den Planungsprozess (Durchschnitt aus 2.2.3. a) und b)) | H28: 5 | I28: =+(D29+D30)/2 -> 0 | J28: 0.2 | K28: =+I28*J28 -> 0
A29: a) | B29: Referenz 1 | C29: 5
A30: b) | B30: Referenz 2 | C30: 5
A31: 2.2.4. | B31: Erfahrung mit Lean-Design/Lean-Construction | C31: 5 | E31: 0.3 | F31: =ROUND(D31*E31,2) -> 0 | K31: =+F31 -> 0
A32: 2.3. | B32: Mitglied Project-Implementation-Team (PIT) - Fachprojektleiter Objektplanung Gebäude | M32: 5 | N32: =SUM(K33:K40) -> 0 | O32: 1 | P32: =ROUND(N32*O32,2) -> 0
A33: 2.3.1. | B33: Berufserfahrung | C33: 5 | E33: 0.2 | F33: =ROUND(D33*E33,2) -> 0 | K33: =+F33 -> 0
A34: 2.3.2. | B34: Erfahrung mit Einbindung der Ausführung in den Planungsprozess (Durchschnitt aus 2.3.2. a) und b)) | H34: 5 | I34: =+(D35+D36)/2 -> 0 | J34: 0.25 | K34: =ROUND(I34*J34,2) -> 0
A35: a) | B35: Referenz 1 | C35: 5
A36: b) | B36: Referenz 2 | C36: 5
A37: 2.3.3. | B37: Erfahrung mit BIM (Durchschnitt aus 2.3.3. a) und b)) | H37: 5 | I37: =+(D38+D39)/2 -> 0 | J37: 0.25 | K37: =ROUND(I37*J37,2) -> 0
A38: a) | B38: Referenz 1 | C38: 5
A39: b) | B39: Referenz 2 | C39: 5
A40: 2.3.4. | B40: Erfahrung mit Lean-Design/Lean-Construction | C40: 5 | E40: 0.3 | F40: =ROUND(D40*E40,2) -> 0 | K40: =+F40 -> 0
A41: 2.4. | B41: Mitglied Project-Implementation-Team (PIT) - Planungskoordinator (einschl. BIM-Koordinator) | M41: 5 | N41: =SUM(K42:K49) -> 0 | O41: 1 | P41: =ROUND(N41*O41,2) -> 0
A42: 2.4.1. | B42: Berufserfahrung | C42: 5 | E42: 0.2 | F42: =ROUND(D42*E42,2) -> 0 | K42: =+F42 -> 0
A43: 2.4.2. | B43: Erfahrung mit der frühzeitigen Einbindung der Ausführung in den Planungsprozess (Durchschnitt aus 2.4.2. a) und b)) | H43: 5 | I43: =+(D44+D45)/2 -> 0 | J43: 0.25 | K43: =ROUND(I43*J43,2) -> 0
A44: a) | B44: Referenz 1 | C44: 5
A45: b) | B45: Referenz 2 | C45: 5
A46: 2.4.3. | B46: Erfahrung mit BIM (Durchschnitt aus 2.4.3. a) und b)) | H46: 5 | I46: =+(D47+D48)/2 -> 0 | J46: 0.25 | K46: =ROUND(I46*J46,2) -> 0
A47: a) | B47: Referenz 1 | C47: 5
A48: b) | B48: Referenz 2 | C48: 5
A49: 2.4.4. | B49: Erfahrung mit Lean-Design/Lean-Construction | C49: 5 | E49: 0.3 | F49: =ROUND(D49*E49,2) -> 0 | K49: =+F49 -> 0
A50: Kriterium | R50: max. mögliche Punktzahl | S50: erreichte Wertungsunkte (max. 5 Wertungspunkte)
A51: 3. | B51: IPA-Fähigkeiten | R51: 20 | S51: =ROUND((P53+P60+P67+P74)/4,2) -> 0
A52: Unterkriterien | C52: max. mögliche Punktzahl | D52: erreichte Punkte | E52: Faktor | F52: Erreichte Punkte | M52: max. mögliche Punktzahl | N52: erreichte Wertungs-Punkte | O52: Faktor | P52: erreichte Wertungs-punkte
A53: 3.1. | B53: Vertreter Senior-Management-Team (SMT) | M53: 5 | N53: =SUM(F54:F59) -> 0 | O53: 1 | P53: =ROUND(N53*O53,2) -> 0
A54: 3.1.1. | B54: Kommunikationsfähigkeit | C54: 5 | E54: 0.1 | F54: =ROUND(D54*E54,2) -> 0
A55: 3.1.2. | B55: Teamföhigkeit | C55: 5 | E55: 0.25 | F55: =ROUND(D55*E55,2) -> 0
A56: 3.1.3. | B56: Konfliklösungsfähigkeit | C56: 5 | E56: 0.15 | F56: =ROUND(D56*E56,2) -> 0
A57: 3.1.4. | B57: Organisations- und Führungsfähigkeit | C57: 5 | E57: 0.15 | F57: =ROUND(D57*E57,2) -> 0
A58: 3.1.5. | B58: Reflexionsfähgkeit (Lernfähigkeit) | C58: 5 | E58: 0.15 | F58: =ROUND(D58*E58,2) -> 0
A59: 3.1.6. | B59: IPA-Systemverständnis | C59: 5 | E59: 0.2 | F59: =ROUND(D59*E59,2) -> 0
A60: 3.2. | B60: Vertreter Projekt-Management-Team (PMT) | M60: 5 | N60: =SUM(F61:F66) -> 0 | O60: 1 | P60: =ROUND(N60*O60,2) -> 0
A61: 3.2.1. | B61: Kommunikationsfähigkeit | C61: 5 | E61: 0.1 | F61: =ROUND(D61*E61,2) -> 0
A62: 3.2.2. | B62: Teamföhigkeit | C62: 5 | E62: 0.25 | F62: =ROUND(D62*E62,2) -> 0
A63: 3.2.3. | B63: Konfliklösungsfähigkeit | C63: 5 | E63: 0.15 | F63: =ROUND(D63*E63,2) -> 0
A64: 3.2.4. | B64: Organisations- und Führungsfähigkeit | C64: 5 | E64: 0.15 | F64: =ROUND(D64*E64,2) -> 0
A65: 3.2.5. | B65: Reflexionsfähgkeit (Lernfähigkeit) | C65: 5 | E65: 0.15 | F65: =ROUND(D65*E65,2) -> 0
A66: 3.2.6. | B66: IPA-Systemverständnis | C66: 5 | E66: 0.2 | F66: =ROUND(D66*E66,2) -> 0
A67: 3.3. | B67: Mitglied Project-Implementation-Team (PIT) - Fachprojektleiter Objektplanung Gebäude | M67: 5 | N67: =SUM(F68:F73) -> 0 | O67: 1 | P67: =ROUND(N67*O67,2) -> 0
A68: 3.3.1. | B68: Kommunikationsfähigkeit | C68: 5 | E68: 0.1 | F68: =ROUND(D68*E68,2) -> 0
A69: 3.3.2. | B69: Teamföhigkeit | C69: 5 | E69: 0.25 | F69: =ROUND(D69*E69,2) -> 0
A70: 3.3.3. | B70: Konfliklösungsfähigkeit | C70: 5 | E70: 0.15 | F70: =ROUND(D70*E70,2) -> 0
A71: 3.3.4. | B71: Organisations- und Führungsfähigkeit | C71: 5 | E71: 0.15 | F71: =ROUND(D71*E71,2) -> 0
A72: 3.3.5. | B72: Reflexionsfähgkeit (Lernfähigkeit) | C72: 5 | E72: 0.15 | F72: =ROUND(D72*E72,2) -> 0
A73: 3.3.6 | B73: IPA-Systemverständnis | C73: 5 | E73: 0.2 | F73: =ROUND(D73*E73,2) -> 0
A74: 3.4. | B74: Mitglied Project-Implementation-Team (PIT) - Planungskoordinator (einschl. BIM-Koordinator) | M74: 5 | N74: =SUM(F75:F80) -> 0 | O74: 1 | P74: =ROUND(N74*O74,2) -> 0
A75: 3.4.1. | B75: Kommunikationsfähigkeit | C75: 5 | E75: 0.1 | F75: =ROUND(D75*E75,2) -> 0
A76: 3.4.2. | B76: Teamföhigkeit | C76: 5 | E76: 0.25 | F76: =ROUND(D76*E76,2) -> 0
A77: 3.4.3. | B77: Konfliklösungsfähigkeit | C77: 5 | E77: 0.15 | F77: =ROUND(D77*E77,2) -> 0
A78: 3.4.4. | B78: Organisations- und Führungsfähigkeit | C78: 5 | E78: 0.15 | F78: =ROUND(D78*E78,2) -> 0
A79: 3.4.5. | B79: Reflexionsfähgkeit (Lernfähigkeit) | C79: 5 | E79: 0.15 | F79: =ROUND(D79*E79,2) -> 0
A80: 3.4.6. | B80: IPA-Systemverständnis | C80: 5 | E80: 0.2 | F80: =ROUND(D80*E80,2) -> 0
A81: Kriterium | C81: max. mögliche Punktzahl | D81: erreichte Punkte | E81: Faktor | F81: Erreichte Punkte | R81: max. mögliche Punktzahl | S81: erreichte Punkte
A82: 4. | B82: Verrechnungssätze, Gewinn-Satz und Tagespauschalen für Reise- und Unterbringungskosten | C82: 5 | E82: 1 | F82: =ROUND(D82*E82,2) -> 0 | R82: 5 | S82: =ROUND(F82,2) -> 0

Sheet Zuschlag Bieter 4
A1: Landesverwaltungsamt Saarland HIL GmbH, Kompetenzzentrum Kette Aufbau Kompetenzzentrum Kette (HIL WND) (Integrierte Projektabwicklung – IPA – mittels Mehrparteienvertrag – MPV) Verhandlungsverfahren mit Teilnahmewettbewerb Vergabelos: Planung Industriebau Wertungsmatrix Angebot | C1: Vergabenummer: 26E09301/05
A6: Name des Bieters: | C6: Bieter Nr:
A7: Bietername 4
A9: ZUSCHLAGSKRITERIEN | C9: Bewertung | H9: Berechnung | M9: Berechnung | R9: Berechnung
A10: Kriterium | R10: max. mögliche Punktzahl | S10: erreichte Wertungspunkte (max. 5 Wertungspunkte)
A11: 1. | B11: Konzepte (Durchschnitt aus 1.1. und 1.2.) | R11: 5 | S11: =ROUND((D13+D14)/2,2) -> 0
A12: Unterkriterien | C12: max. mögliche Punkte Unterkriterium | D12: erreichte Punkte Unterkriterium
A13: 1.1. | B13: Personalkonzept | C13: 5
A14: 1.2. | B14: Konzept über die frühzeitige Einbindung der Ausführung in den Planungsprozess | C14: 5
A15: Kriterium | R15: max. mögliche Punktzahl | S15: erreichte Wertungsunkte (max. 5 Wertungspunkte)
A16: 2. | B16: Erfahrung des Projektpersonals | R16: 20 | S16: =ROUND((P18+P23+P32+P41)/4,2) -> 0
A17: Unterkriterien | C17: max. mögliche Punktzahl | D17: erreichte Punkte | E17: Faktor | F17: Erreichte Punkte | H17: max. mögliche Punktzahl | I17: erreichte Punkte | J17: Faktor | M17: max. mögliche Punktzahl | N17: erreichte Punkte | O17: Faktor
A18: 2.1. | B18: Vertreter Senior-Management-Team (SMT) | M18: 5 | N18: =SUM(K19:K20) -> 0 | O18: 1 | P18: =ROUND(N18*O18,2) -> 0
A19: 2.1.1. | B19: Berufserfahrung | C19: 5 | E19: 0.4 | F19: =ROUND(D19*E19,2) -> 0 | K19: =+F19 -> 0
A20: 2.1.2. | B20: Erfahrung mit kooperativen Vertragsabwicklungsmodellen (Durchschnitt aus 2.1.2. a) und b)) | H20: 5 | I20: =+(D21+D22)/2 -> 0 | J20: 0.6 | K20: =ROUND(I20*J20,2) -> 0
A21: a) | B21: Referenz 1 | C21: 5
A22: b) | B22: Referenz 2 | C22: 5
A23: 2.2. | B23: Vertreter Projekt-Management-Team (PMT) | M23: 5 | N23: =SUM(K24:K31) -> 0 | O23: 1 | P23: =ROUND(N23*O23,2) -> 0
A24: 2.2.1. | B24: Berufserfahrung | C24: 5 | E24: 0.3 | F24: =ROUND(D24*E24,2) -> 0 | K24: =+F24 -> 0
A25: 2.2.2. | B25: Erfahrung mit kooperativen Vertragsabwicklungsmodellen (Durchschnitt aus 2.2.2. a) und b)) | H25: 5 | I25: =+(D26+D27)/2 -> 0 | J25: 0.2 | K25: =ROUND(I25*J25,2) -> 0
A26: a) | B26: Referenz 1 | C26: 5
A27: b) | B27: Referenz 2 | C27: 5
A28: 2.2.3. | B28: Erfahrung mit der frühzeitigen Einbindung der Ausführung in den Planungsprozess (Durchschnitt aus 2.2.3. a) und b)) | H28: 5 | I28: =+(D29+D30)/2 -> 0 | J28: 0.2 | K28: =+I28*J28 -> 0
A29: a) | B29: Referenz 1 | C29: 5
A30: b) | B30: Referenz 2 | C30: 5
A31: 2.2.4. | B31: Erfahrung mit Lean-Design/Lean-Construction | C31: 5 | E31: 0.3 | F31: =ROUND(D31*E31,2) -> 0 | K31: =+F31 -> 0
A32: 2.3. | B32: Mitglied Project-Implementation-Team (PIT) - Fachprojektleiter Objektplanung Gebäude | M32: 5 | N32: =SUM(K33:K40) -> 0 | O32: 1 | P32: =ROUND(N32*O32,2) -> 0
A33: 2.3.1. | B33: Berufserfahrung | C33: 5 | E33: 0.2 | F33: =ROUND(D33*E33,2) -> 0 | K33: =+F33 -> 0
A34: 2.3.2. | B34: Erfahrung mit Einbindung der Ausführung in den Planungsprozess (Durchschnitt aus 2.3.2. a) und b)) | H34: 5 | I34: =+(D35+D36)/2 -> 0 | J34: 0.25 | K34: =ROUND(I34*J34,2) -> 0
A35: a) | B35: Referenz 1 | C35: 5
A36: b) | B36: Referenz 2 | C36: 5
A37: 2.3.3. | B37: Erfahrung mit BIM (Durchschnitt aus 2.3.3. a) und b)) | H37: 5 | I37: =+(D38+D39)/2 -> 0 | J37: 0.25 | K37: =ROUND(I37*J37,2) -> 0
A38: a) | B38: Referenz 1 | C38: 5
A39: b) | B39: Referenz 2 | C39: 5
A40: 2.3.4. | B40: Erfahrung mit Lean-Design/Lean-Construction | C40: 5 | E40: 0.3 | F40: =ROUND(D40*E40,2) -> 0 | K40: =+F40 -> 0
A41: 2.4. | B41: Mitglied Project-Implementation-Team (PIT) - Planungskoordinator (einschl. BIM-Koordinator) | M41: 5 | N41: =SUM(K42:K49) -> 0 | O41: 1 | P41: =ROUND(N41*O41,2) -> 0
A42: 2.4.1. | B42: Berufserfahrung | C42: 5 | E42: 0.2 | F42: =ROUND(D42*E42,2) -> 0 | K42: =+F42 -> 0
A43: 2.4.2. | B43: Erfahrung mit der frühzeitigen Einbindung der Ausführung in den Planungsprozess (Durchschnitt aus 2.4.2. a) und b)) | H43: 5 | I43: =+(D44+D45)/2 -> 0 | J43: 0.25 | K43: =ROUND(I43*J43,2) -> 0
A44: a) | B44: Referenz 1 | C44: 5
A45: b) | B45: Referenz 2 | C45: 5
A46: 2.4.3. | B46: Erfahrung mit BIM (Durchschnitt aus 2.4.3. a) und b)) | H46: 5 | I46: =+(D47+D48)/2 -> 0 | J46: 0.25 | K46: =ROUND(I46*J46,2) -> 0
A47: a) | B47: Referenz 1 | C47: 5
A48: b) | B48: Referenz 2 | C48: 5
A49: 2.4.4. | B49: Erfahrung mit Lean-Design/Lean-Construction | C49: 5 | E49: 0.3 | F49: =ROUND(D49*E49,2) -> 0 | K49: =+F49 -> 0
A50: Kriterium | R50: max. mögliche Punktzahl | S50: erreichte Wertungsunkte (max. 5 Wertungspunkte)
A51: 3. | B51: IPA-Fähigkeiten | R51: 20 | S51: =ROUND((P53+P60+P67+P74)/4,2) -> 0
A52: Unterkriterien | C52: max. mögliche Punktzahl | D52: erreichte Punkte | E52: Faktor | F52: Erreichte Punkte | M52: max. mögliche Punktzahl | N52: erreichte Wertungs-Punkte | O52: Faktor | P52: erreichte Wertungs-punkte
A53: 3.1. | B53: Vertreter Senior-Management-Team (SMT) | M53: 5 | N53: =SUM(F54:F59) -> 0 | O53: 1 | P53: =ROUND(N53*O53,2) -> 0
A54: 3.1.1. | B54: Kommunikationsfähigkeit | C54: 5 | E54: 0.1 | F54: =ROUND(D54*E54,2) -> 0
A55: 3.1.2. | B55: Teamföhigkeit | C55: 5 | E55: 0.25 | F55: =ROUND(D55*E55,2) -> 0
A56: 3.1.3. | B56: Konfliklösungsfähigkeit | C56: 5 | E56: 0.15 | F56: =ROUND(D56*E56,2) -> 0
A57: 3.1.4. | B57: Organisations- und Führungsfähigkeit | C57: 5 | E57: 0.15 | F57: =ROUND(D57*E57,2) -> 0
A58: 3.1.5. | B58: Reflexionsfähgkeit (Lernfähigkeit) | C58: 5 | E58: 0.15 | F58: =ROUND(D58*E58,2) -> 0
A59: 3.1.6. | B59: IPA-Systemverständnis | C59: 5 | E59: 0.2 | F59: =ROUND(D59*E59,2) -> 0
A60: 3.2. | B60: Vertreter Projekt-Management-Team (PMT) | M60: 5 | N60: =SUM(F61:F66) -> 0 | O60: 1 | P60: =ROUND(N60*O60,2) -> 0
A61: 3.2.1. | B61: Kommunikationsfähigkeit | C61: 5 | E61: 0.1 | F61: =ROUND(D61*E61,2) -> 0
A62: 3.2.2. | B62: Teamföhigkeit | C62: 5 | E62: 0.25 | F62: =ROUND(D62*E62,2) -> 0
A63: 3.2.3. | B63: Konfliklösungsfähigkeit | C63: 5 | E63: 0.15 | F63: =ROUND(D63*E63,2) -> 0
A64: 3.2.4. | B64: Organisations- und Führungsfähigkeit | C64: 5 | E64: 0.15 | F64: =ROUND(D64*E64,2) -> 0
A65: 3.2.5. | B65: Reflexionsfähgkeit (Lernfähigkeit) | C65: 5 | E65: 0.15 | F65: =ROUND(D65*E65,2) -> 0
A66: 3.2.6. | B66: IPA-Systemverständnis | C66: 5 | E66: 0.2 | F66: =ROUND(D66*E66,2) -> 0
A67: 3.3. | B67: Mitglied Project-Implementation-Team (PIT) - Fachprojektleiter Objektplanung Gebäude | M67: 5 | N67: =SUM(F68:F73) -> 0 | O67: 1 | P67: =ROUND(N67*O67,2) -> 0
A68: 3.3.1. | B68: Kommunikationsfähigkeit | C68: 5 | E68: 0.1 | F68: =ROUND(D68*E68,2) -> 0
A69: 3.3.2. | B69: Teamföhigkeit | C69: 5 | E69: 0.25 | F69: =ROUND(D69*E69,2) -> 0
A70: 3.3.3. | B70: Konfliklösungsfähigkeit | C70: 5 | E70: 0.15 | F70: =ROUND(D70*E70,2) -> 0
A71: 3.3.4. | B71: Organisations- und Führungsfähigkeit | C71: 5 | E71: 0.15 | F71: =ROUND(D71*E71,2) -> 0
A72: 3.3.5. | B72: Reflexionsfähgkeit (Lernfähigkeit) | C72: 5 | E72: 0.15 | F72: =ROUND(D72*E72,2) -> 0
A73: 3.3.6 | B73: IPA-Systemverständnis | C73: 5 | E73: 0.2 | F73: =ROUND(D73*E73,2) -> 0
A74: 3.4. | B74: Mitglied Project-Implementation-Team (PIT) - Planungskoordinator (einschl. BIM-Koordinator) | M74: 5 | N74: =SUM(F75:F80) -> 0 | O74: 1 | P74: =ROUND(N74*O74,2) -> 0
A75: 3.4.1. | B75: Kommunikationsfähigkeit | C75: 5 | E75: 0.1 | F75: =ROUND(D75*E75,2) -> 0
A76: 3.4.2. | B76: Teamföhigkeit | C76: 5 | E76: 0.25 | F76: =ROUND(D76*E76,2) -> 0
A77: 3.4.3. | B77: Konfliklösungsfähigkeit | C77: 5 | E77: 0.15 | F77: =ROUND(D77*E77,2) -> 0
A78: 3.4.4. | B78: Organisations- und Führungsfähigkeit | C78: 5 | E78: 0.15 | F78: =ROUND(D78*E78,2) -> 0
A79: 3.4.5. | B79: Reflexionsfähgkeit (Lernfähigkeit) | C79: 5 | E79: 0.15 | F79: =ROUND(D79*E79,2) -> 0
A80: 3.4.6. | B80: IPA-Systemverständnis | C80: 5 | E80: 0.2 | F80: =ROUND(D80*E80,2) -> 0
A81: Kriterium | C81: max. mögliche Punktzahl | D81: erreichte Punkte | E81: Faktor | F81: Erreichte Punkte | R81: max. mögliche Punktzahl | S81: erreichte Punkte
A82: 4. | B82: Verrechnungssätze, Gewinn-Satz und Tagespauschalen für Reise- und Unterbringungskosten | C82: 5 | E82: 1 | F82: =ROUND(D82*E82,2) -> 0 | R82: 5 | S82: =ROUND(F82,2) -> 0

Sheet Zuschlag Bieter 5
A1: Landesverwaltungsamt Saarland HIL GmbH, Kompetenzzentrum Kette Aufbau Kompetenzzentrum Kette (HIL WND) (Integrierte Projektabwicklung – IPA – mittels Mehrparteienvertrag – MPV) Verhandlungsverfahren mit Teilnahmewettbewerb Vergabelos: Planung Indutstriebau Wertungsmatrix Angebot | C1: Vergabenummer: 26E09301/05
A6: Name des Bieters: | C6: Bieter Nr:
A7: Bietername 5
A9: ZUSCHLAGSKRITERIEN | C9: Bewertung | H9: Berechnung | M9: Berechnung | R9: Berechnung
A10: Kriterium | R10: max. mögliche Punktzahl | S10: erreichte Wertungspunkte (max. 5 Wertungspunkte)
A11: 1. | B11: Konzepte (Durchschnitt aus 1.1. und 1.2.) | R11: 5 | S11: =ROUND((D13+D14)/2,2) -> 0
A12: Unterkriterien | C12: max. mögliche Punkte Unterkriterium | D12: erreichte Punkte Unterkriterium
A13: 1.1. | B13: Personalkonzept | C13: 5
A14: 1.2. | B14: Konzept über die frühzeitige Einbindung der Ausführung in den Planungsprozess | C14: 5
A15: Kriterium | R15: max. mögliche Punktzahl | S15: erreichte Wertungsunkte (max. 5 Wertungspunkte)
A16: 2. | B16: Erfahrung des Projektpersonals | R16: 20 | S16: =ROUND((P18+P23+P32+P41)/4,2) -> 0
A17: Unterkriterien | C17: max. mögliche Punktzahl | D17: erreichte Punkte | E17: Faktor | F17: Erreichte Punkte | H17: max. mögliche Punktzahl | I17: erreichte Punkte | J17: Faktor | M17: max. mögliche Punktzahl | N17: erreichte Punkte | O17: Faktor
A18: 2.1. | B18: Vertreter Senior-Management-Team (SMT) | M18: 5 | N18: =SUM(K19:K20) -> 0 | O18: 1 | P18: =ROUND(N18*O18,2) -> 0
A19: 2.1.1. | B19: Berufserfahrung | C19: 5 | E19: 0.4 | F19: =ROUND(D19*E19,2) -> 0 | K19: =+F19 -> 0
A20: 2.1.2. | B20: Erfahrung mit kooperativen Vertragsabwicklungsmodellen (Durchschnitt aus 2.1.2. a) und b)) | H20: 5 | I20: =+(D21+D22)/2 -> 0 | J20: 0.6 | K20: =ROUND(I20*J20,2) -> 0
A21: a) | B21: Referenz 1 | C21: 5
A22: b) | B22: Referenz 2 | C22: 5
A23: 2.2. | B23: Vertreter Projekt-Management-Team (PMT) | M23: 5 | N23: =SUM(K24:K31) -> 0 | O23: 1 | P23: =ROUND(N23*O23,2) -> 0
A24: 2.2.1. | B24: Berufserfahrung | C24: 5 | E24: 0.3 | F24: =ROUND(D24*E24,2) -> 0 | K24: =+F24 -> 0
A25: 2.2.2. | B25: Erfahrung mit kooperativen Vertragsabwicklungsmodellen (Durchschnitt aus 2.2.2. a) und b)) | H25: 5 | I25: =+(D26+D27)/2 -> 0 | J25: 0.2 | K25: =ROUND(I25*J25,2) -> 0
A26: a) | B26: Referenz 1 | C26: 5
A27: b) | B27: Referenz 2 | C27: 5
A28: 2.2.3. | B28: Erfahrung mit der frühzeitigen Einbindung der Ausführung in den Planungsprozess (Durchschnitt aus 2.2.3. a) und b)) | H28: 5 | I28: =+(D29+D30)/2 -> 0 | J28: 0.2 | K28: =+I28*J28 -> 0
A29: a) | B29: Referenz 1 | C29: 5
A30: b) | B30: Referenz 2 | C30: 5
A31: 2.2.4. | B31: Erfahrung mit Lean-Design/Lean-Construction | C31: 5 | E31: 0.3 | F31: =ROUND(D31*E31,2) -> 0 | K31: =+F31 -> 0
A32: 2.3. | B32: Mitglied Project-Implementation-Team (PIT) - Fachprojektleiter Objektplanung Gebäude | M32: 5 | N32: =SUM(K33:K40) -> 0 | O32: 1 | P32: =ROUND(N32*O32,2) -> 0
A33: 2.3.1. | B33: Berufserfahrung | C33: 5 | E33: 0.2 | F33: =ROUND(D33*E33,2) -> 0 | K33: =+F33 -> 0
A34: 2.3.2. | B34: Erfahrung mit Einbindung der Ausführung in den Planungsprozess (Durchschnitt aus 2.3.2. a) und b)) | H34: 5 | I34: =+(D35+D36)/2 -> 0 | J34: 0.25 | K34: =ROUND(I34*J34,2) -> 0
A35: a) | B35: Referenz 1 | C35: 5
A36: b) | B36: Referenz 2 | C36: 5
A37: 2.3.3. | B37: Erfahrung mit BIM (Durchschnitt aus 2.3.3. a) und b)) | H37: 5 | I37: =+(D38+D39)/2 -> 0 | J37: 0.25 | K37: =ROUND(I37*J37,2) -> 0
A38: a) | B38: Referenz 1 | C38: 5
A39: b) | B39: Referenz 2 | C39: 5
A40: 2.3.4. | B40: Erfahrung mit Lean-Design/Lean-Construction | C40: 5 | E40: 0.3 | F40: =ROUND(D40*E40,2) -> 0 | K40: =+F40 -> 0
A41: 2.4. | B41: Mitglied Project-Implementation-Team (PIT) - Planungskoordinator (einschl. BIM-Koordinator) | M41: 5 | N41: =SUM(K42:K49) -> 0 | O41: 1 | P41: =ROUND(N41*O41,2) -> 0
A42: 2.4.1. | B42: Berufserfahrung | C42: 5 | E42: 0.2 | F42: =ROUND(D42*E42,2) -> 0 | K42: =+F42 -> 0
A43: 2.4.2. | B43: Erfahrung mit der frühzeitigen Einbindung der Ausführung in den Planungsprozess (Durchschnitt aus 2.4.2. a) und b)) | H43: 5 | I43: =+(D44+D45)/2 -> 0 | J43: 0.25 | K43: =ROUND(I43*J43,2) -> 0
A44: a) | B44: Referenz 1 | C44: 5
A45: b) | B45: Referenz 2 | C45: 5
A46: 2.4.3. | B46: Erfahrung mit BIM (Durchschnitt aus 2.4.3. a) und b)) | H46: 5 | I46: =+(D47+D48)/2 -> 0 | J46: 0.25 | K46: =ROUND(I46*J46,2) -> 0
A47: a) | B47: Referenz 1 | C47: 5
A48: b) | B48: Referenz 2 | C48: 5
A49: 2.4.4. | B49: Erfahrung mit Lean-Design/Lean-Construction | C49: 5 | E49: 0.3 | F49: =ROUND(D49*E49,2) -> 0 | K49: =+F49 -> 0
A50: Kriterium | R50: max. mögliche Punktzahl | S50: erreichte Wertungsunkte (max. 5 Wertungspunkte)
A51: 3. | B51: IPA-Fähigkeiten | R51: 20 | S51: =ROUND((P53+P60+P67+P74)/4,2) -> 0
A52: Unterkriterien | C52: max. mögliche Punktzahl | D52: erreichte Punkte | E52: Faktor | F52: Erreichte Punkte | M52: max. mögliche Punktzahl | N52: erreichte Wertungs-Punkte | O52: Faktor | P52: erreichte Wertungs-punkte
A53: 3.1. | B53: Vertreter Senior-Management-Team (SMT) | M53: 5 | N53: =SUM(F54:F59) -> 0 | O53: 1 | P53: =ROUND(N53*O53,2) -> 0
A54: 3.1.1. | B54: Kommunikationsfähigkeit | C54: 5 | E54: 0.1 | F54: =ROUND(D54*E54,2) -> 0
A55: 3.1.2. | B55: Teamföhigkeit | C55: 5 | E55: 0.25 | F55: =ROUND(D55*E55,2) -> 0
A56: 3.1.3. | B56: Konfliklösungsfähigkeit | C56: 5 | E56: 0.15 | F56: =ROUND(D56*E56,2) -> 0
A57: 3.1.4. | B57: Organisations- und Führungsfähigkeit | C57: 5 | E57: 0.15 | F57: =ROUND(D57*E57,2) -> 0
A58: 3.1.5. | B58: Reflexionsfähgkeit (Lernfähigkeit) | C58: 5 | E58: 0.15 | F58: =ROUND(D58*E58,2) -> 0
A59: 3.1.6. | B59: IPA-Systemverständnis | C59: 5 | E59: 0.2 | F59: =ROUND(D59*E59,2) -> 0
A60: 3.2. | B60: Vertreter Projekt-Management-Team (PMT) | M60: 5 | N60: =SUM(F61:F66) -> 0 | O60: 1 | P60: =ROUND(N60*O60,2) -> 0
A61: 3.2.1. | B61: Kommunikationsfähigkeit | C61: 5 | E61: 0.1 | F61: =ROUND(D61*E61,2) -> 0
A62: 3.2.2. | B62: Teamföhigkeit | C62: 5 | E62: 0.25 | F62: =ROUND(D62*E62,2) -> 0
A63: 3.2.3. | B63: Konfliklösungsfähigkeit | C63: 5 | E63: 0.15 | F63: =ROUND(D63*E63,2) -> 0
A64: 3.2.4. | B64: Organisations- und Führungsfähigkeit | C64: 5 | E64: 0.15 | F64: =ROUND(D64*E64,2) -> 0
A65: 3.2.5. | B65: Reflexionsfähgkeit (Lernfähigkeit) | C65: 5 | E65: 0.15 | F65: =ROUND(D65*E65,2) -> 0
A66: 3.2.6. | B66: IPA-Systemverständnis | C66: 5 | E66: 0.2 | F66: =ROUND(D66*E66,2) -> 0
A67: 3.3. | B67: Mitglied Project-Implementation-Team (PIT) - Fachprojektleiter Objektplanung Gebäude | M67: 5 | N67: =SUM(F68:F73) -> 0 | O67: 1 | P67: =ROUND(N67*O67,2) -> 0
A68: 3.3.1. | B68: Kommunikationsfähigkeit | C68: 5 | E68: 0.1 | F68: =ROUND(D68*E68,2) -> 0
A69: 3.3.2. | B69: Teamföhigkeit | C69: 5 | E69: 0.25 | F69: =ROUND(D69*E69,2) -> 0
A70: 3.3.3. | B70: Konfliklösungsfähigkeit | C70: 5 | E70: 0.15 | F70: =ROUND(D70*E70,2) -> 0
A71: 3.3.4. | B71: Organisations- und Führungsfähigkeit | C71: 5 | E71: 0.15 | F71: =ROUND(D71*E71,2) -> 0
A72: 3.3.5. | B72: Reflexionsfähgkeit (Lernfähigkeit) | C72: 5 | E72: 0.15 | F72: =ROUND(D72*E72,2) -> 0
A73: 3.3.6 | B73: IPA-Systemverständnis | C73: 5 | E73: 0.2 | F73: =ROUND(D73*E73,2) -> 0
A74: 3.4. | B74: Mitglied Project-Implementation-Team (PIT) - Planungskoordinator (einschl. BIM-Koordinator) | M74: 5 | N74: =SUM(F75:F80) -> 0 | O74: 1 | P74: =ROUND(N74*O74,2) -> 0
A75: 3.4.1. | B75: Kommunikationsfähigkeit | C75: 5 | E75: 0.1 | F75: =ROUND(D75*E75,2) -> 0
A76: 3.4.2. | B76: Teamföhigkeit | C76: 5 | E76: 0.25 | F76: =ROUND(D76*E76,2) -> 0
A77: 3.4.3. | B77: Konfliklösungsfähigkeit | C77: 5 | E77: 0.15 | F77: =ROUND(D77*E77,2) -> 0
A78: 3.4.4. | B78: Organisations- und Führungsfähigkeit | C78: 5 | E78: 0.15 | F78: =ROUND(D78*E78,2) -> 0
A79: 3.4.5. | B79: Reflexionsfähgkeit (Lernfähigkeit) | C79: 5 | E79: 0.15 | F79: =ROUND(D79*E79,2) -> 0
A80: 3.4.6. | B80: IPA-Systemverständnis | C80: 5 | E80: 0.2 | F80: =ROUND(D80*E80,2) -> 0
A81: Kriterium | C81: max. mögliche Punktzahl | D81: erreichte Punkte | E81: Faktor | F81: Erreichte Punkte | R81: max. mögliche Punktzahl | S81: erreichte Punkte
A82: 4. | B82: Verrechnungssätze, Gewinn-Satz und Tagespauschalen für Reise- und Unterbringungskosten | C82: 5 | E82: 1 | F82: =ROUND(D82*E82,2) -> 0 | R82: 5 | S82: =ROUND(F82,2) -> 0

Sheet Zusammenfassung
A1: Zusammenfassung und Streckung
D4: Erreichte Wertungspunkte | K4: Gestreckte Wertungspunkte | R4: Gewichtete, gestreckte Wertungspunkte
D5: Bieter 1 | E5: Bieter 2 | F5: Bieter 3 | G5: Bieter 4 | H5: Bieter 5 | K5: =+D5 -> Bieter 1 | L5: =+E5 -> Bieter 2 | M5: =+F5 -> Bieter 3 | N5: =+G5 -> Bieter 4 | O5: =+H5 -> Bieter 5 | R5: =+K5 -> Bieter 1 | S5: =+L5 -> Bieter 2 | T5: =+M5 -> Bieter 3 | U5: =+N5 -> Bieter 4 | V5: =+O5 -> Bieter 5
B6: Name des Bieters | D6: =+'Zuschlag Bieter 1'!$A$7 -> Bietername 1 | E6: =+'Zuschlag Bieter 2'!$A$7 -> Bietername 2 | F6: =+'Zuschlag Bieter 3'!$A$7 -> Bietername 3 | G6: =+'Zuschlag Bieter 4'!$A$7 -> Bietername 4 | H6: =+'Zuschlag Bieter 5'!$A$7 -> Bietername 5 | I6: Höchste erreichte Punktzahl | K6: =+D6 -> Bietername 1 | L6: =+E6 -> Bietername 2 | M6: =+F6 -> Bietername 3 | N6: =+G6 -> Bietername 4 | O6: =+H6 -> Bietername 5 | Q6: Faktor | R6: =+K6 -> Bietername 1 | S6: =+L6 -> Bietername 2 | T6: =+M6 -> Bietername 3 | U6: =+N6 -> Bietername 4 | V6: =+O6 -> Bietername 5
B7: Kriterium
A8: 1. | B8: Konzepte | D8: =+'Zuschlag Bieter 1'!$S$11 -> 0 | E8: =+'Zuschlag Bieter 2'!$S$11 -> 0 | F8: =+'Zuschlag Bieter 3'!$S$11 -> 0 | G8: =+'Zuschlag Bieter 4'!$S$11 -> 0 | H8: =+'Zuschlag Bieter 5'!$S$11 -> 0 | I8: =MAX(D8:H8) -> 0 | K8: =ROUND(D8/$I8*5,2) -> #DIV/0! | L8: =ROUND(E8/$I8*5,2) -> #DIV/0! | M8: =ROUND(F8/$I8*5,2) -> #DIV/0! | N8: =ROUND(G8/$I8*5,2) -> #DIV/0! | O8: =ROUND(H8/$I8*5,2) -> #DIV/0! | Q8: 3 | R8: =+K8*$Q8 -> #DIV/0! | S8: =+L8*$Q8 -> #DIV/0! | T8: =+M8*$Q8 -> #DIV/0! | U8: =+N8*$Q8 -> #DIV/0! | V8: =+O8*$Q8 -> #DIV/0!
A9: 2. | B9: Erfahrung des Projektpersonals | D9: =+'Zuschlag Bieter 1'!$S$16 -> 0 | E9: =+'Zuschlag Bieter 1'!$S$16 -> 0 | F9: =+'Zuschlag Bieter 1'!$S$16 -> 0 | G9: =+'Zuschlag Bieter 1'!$S$16 -> 0 | H9: =+'Zuschlag Bieter 1'!$S$16 -> 0 | I9: =MAX(D9:H9) -> 0 | K9: =ROUND(D9/$I9*5,2) -> #DIV/0! | L9: =ROUND(E9/$I9*5,2) -> #DIV/0! | M9: =ROUND(F9/$I9*5,2) -> #DIV/0! | N9: =ROUND(G9/$I9*5,2) -> #DIV/0! | O9: =ROUND(H9/$I9*5,2) -> #DIV/0! | Q9: 5 | R9: =+K9*$Q9 -> #DIV/0! | S9: =+L9*$Q9 -> #DIV/0! | T9: =+M9*$Q9 -> #DIV/0! | U9: =+N9*$Q9 -> #DIV/0! | V9: =+O9*$Q9 -> #DIV/0!
A10: 3. | B10: IPA-Fähigkeiten | D10: =+'Zuschlag Bieter 1'!$S$51 -> 0 | E10: =+'Zuschlag Bieter 1'!$S$51 -> 0 | F10: =+'Zuschlag Bieter 1'!$S$51 -> 0 | G10: =+'Zuschlag Bieter 1'!$S$51 -> 0 | H10: =+'Zuschlag Bieter 1'!$S$51 -> 0 | I10: =MAX(D10:H10) -> 0 | K10: =ROUND(D10/$I10*5,2) -> #DIV/0! | L10: =ROUND(E10/$I10*5,2) -> #DIV/0! | M10: =ROUND(F10/$I10*5,2) -> #DIV/0! | N10: =ROUND(G10/$I10*5,2) -> #DIV/0! | O10: =ROUND(H10/$I10*5,2) -> #DIV/0! | Q10: 8 | R10: =+K10*$Q10 -> #DIV/0! | S10: =+L10*$Q10 -> #DIV/0! | T10: =+M10*$Q10 -> #DIV/0! | U10: =+N10*$Q10 -> #DIV/0! | V10: =+O10*$Q10 -> #DIV/0!
A11: 4. | B11: Verrechnungssätze, AGK- Satz, Gewinn-Satz und Tagespauschalen für Reise- und Unterbringungskosten | D11: =+'Zuschlag Bieter 1'!$S$82 -> 0 | E11: =+'Zuschlag Bieter 1'!$S$82 -> 0 | F11: =+'Zuschlag Bieter 1'!$S$82 -> 0 | G11: =+'Zuschlag Bieter 1'!$S$82 -> 0 | H11: =+'Zuschlag Bieter 1'!$S$82 -> 0 | K11: =+D11 -> 0 | L11: =+E11 -> 0 | M11: =+F11 -> 0 | N11: =+G11 -> 0 | O11: =+H11 -> 0 | Q11: 4 | R11: =+K11*$Q11 -> 0 | S11: =+L11*$Q11 -> 0 | T11: =+M11*$Q11 -> 0 | U11: =+N11*$Q11 -> 0 | V11: =+O11*$Q11 -> 0
A12: Erreichte Gesamtbewertungspunkte | D12: =SUM(D8:D11) -> 0 | E12: =SUM(E8:E11) -> 0 | F12: =SUM(F8:F11) -> 0 | G12: =SUM(G8:G11) -> 0 | H12: =SUM(H8:H11) -> 0 | K12: =SUM(K8:K11) -> #DIV/0! | L12: =SUM(L8:L11) -> #DIV/0! | M12: =SUM(M8:M11) -> #DIV/0! | N12: =SUM(N8:N11) -> #DIV/0! | O12: =SUM(O8:O11) -> #DIV/0! | R12: =SUM(R8:R11) -> #DIV/0! | S12: =SUM(S8:S11) -> #DIV/0! | T12: =SUM(T8:T11) -> #DIV/0! | U12: =SUM(U8:U11) -> #DIV/0! | V12: =SUM(V8:V11) -> #DIV/0!
A13: Rang | R13: =_xlfn.RANK.EQ(R12,$R$12:$V$12,0) -> #DIV/0! | S13: =_xlfn.RANK.EQ(S12,$R$12:$V$12,0) -> #DIV/0! | T13: =_xlfn.RANK.EQ(T12,$R$12:$V$12,0) -> #DIV/0! | U13: =_xlfn.RANK.EQ(U12,$R$12:$V$12,0) -> #DIV/0! | V13: =_xlfn.RANK.EQ(V12,$R$12:$V$12,0) -> #DIV/0!
