Workbook
Name OLE_LINK5: 'Anforderungen Los 1-3'!#REF!
Name OLE_LINK5: 'Anforderungen Los 4'!#REF!
Name OLE_LINK5: 'Los 1 LV und LB'!#REF!
Name OLE_LINK5: 'Los 1 techn. Daten'!#REF!
Name OLE_LINK5: 'Los 2 LV und LB'!#REF!
Name OLE_LINK5: 'Los 2 techn. Daten'!#REF!
Name OLE_LINK5: 'Los 3 LV und LB'!#REF!
Name OLE_LINK5: 'Los 4 LV und LB'!#REF!
Name OLE_LINK7: 'Anforderungen Los 1-3'!#REF!
Name OLE_LINK7: 'Anforderungen Los 4'!#REF!
Name OLE_LINK7: 'Los 1 LV und LB'!#REF!
Name OLE_LINK7: 'Los 1 techn. Daten'!#REF!
Name OLE_LINK7: 'Los 2 LV und LB'!#REF!
Name OLE_LINK7: 'Los 2 techn. Daten'!#REF!
Name OLE_LINK7: 'Los 3 LV und LB'!#REF!
Name OLE_LINK7: 'Los 4 LV und LB'!#REF!

Sheet Inhaltsverzeichnis
A1: Inhaltsverzeichnis
A2: für | B2: Rahmenvertrag über Lieferung, Aufstellung und Inbetriebnahme von Narkose- und Beatmungssystemen
A3: Vergabenummer | B3: 2026_JDS_05
A5: Registerkarten für den Teilnahmewettbewerb | B5: Link
A6: Beschreibung Bewertungsverfahren | B6: Bewertungsverfahren
A7: Anforderungen für stationäre Geräte - Los 1-3 | B7: Anforderungen Los 1-3
A8: Anforderungen für mobile Geräte - Los 4 | B8: Anforderungen Los 4
A9: Los 1 High-End-Intensivbeatmung für Erwachsene mind. 15" Display - Leistungsbeschreibung und -verzeichnis | B9: Los 1 High-End-Intensivbeatmung für Erwachsene mind. 15" Display - Leistungsbeschreibung und -verzeichnis
A10: Los 1 High-End-Intensivbeatmung für Erwachsene mind. 15" Display - Technische Daten | B10: Los 1 High-End-Intensivbeatmung für Erwachsene mind. 15" Display - Technische Daten
A11: Los 2 High-End-Intensivbeatmungsgerät Neonatal mind. 15" Display - Leistungsbeschreibung und -verzeichnis | B11: Los 2 High-End-Intensivbeatmungsgerät Neonatal mind. 15" Display - Leistungsbeschreibung und -verzeichnis
A12: Los 2 High-End-Intensivbeatmungsgerät Neonatal mind. 15" Display - Technische Daten | B12: Los 2 High-End-Intensivbeatmungsgerät Neonatal mind. 15" Display - Technische Daten
A13: Los 3 Anästhesiearbeitsplatz - Leistungsbeschreibung und -verzeichnis | B13: Los 3 Anästhesiearbeitsplatz - Leistungsbeschreibung und -verzeichnis
A14: Los 4 High-End-Transportbeatmungsgeräte - Leistungsbeschreibung und -verzeichnis | B14: Los 4 High-End-Transportbeatmungsgeräte - Leistungsbeschreibung und -verzeichnis
A15: Übersicht Lose: Punkte nach Teilnahmewettbewerb | B15: Übersicht Lose: Punkte nach TW

Sheet Bewertungsverfahren
A1: Zurück zum Inhaltsverzeichnis
A2: Beschreibung Bewertungsverfahren
A3: Alle Lose
A5: Übersicht und Angaben zu Fragetypen und zum Bewertungsverfahren
A7: Allgemeine Informationen zur Ausschreibung: | B7: Farbe
A8: Vom Bieter auszufüllende Felder bzw. Excel-Tabellenblätter sind hellblau hinterlegt. | B8: hellblau
A10: Folgende Fragetypen sind im LV zu beantworten: | B10: Typ
A11: Fragetyp "Mindestanforderung": Entspricht einem Ausschlusskriterium im Sinne einer Mindestanforderung. Mindestanforderungen müssen zwingend erfüllt werden. Mindestanforderung sind Bestandteil der Grundausstattung. Die Nichterfüllung einer als Ausschlusskriterium gekennzeichneten Anforderung führt zwingend zum Ausschluss des Angebots. Im Bewertungsverfahren werden für Mindestanforderung keine Punkte vergeben. | B11: M
A12: Fragetyp "Wertungskriterium": Als Wertungskriterium definierte Anforderungen werden mit Punkten bewertet. Das Bewertungsschema wird beim Wertungskriterium beschrieben. Der Auftragnehmer beschreibt in seinem Angebot, ob und - sofern vom Auftraggeber gefordert - wie er die entsprechende Anforderung erfüllt. Soweit dies vom Auftraggeber nicht anders verlangt wird, ist diese Anforderung dann im Auftragsfall vom Auftragnehmer seiner Beschreibung entsprechend ebenso umzusetzen, wie eine Mindestanforderung. Die Wertungskennzahl können pro Wertungskriterium unterschiedlich sein und sind hinter jedem Wertungskriterium aufgeführt. | B12: W
A13: Fragetyp "Verfügbare Option": Als verfügbare Option definierte Anforderungen entspricht einem Ausschlusskriterium im Sinne einer Mindestanforderung. Verfügbare Option müssen zwingend erfüllt werden. Verfügbare Option sind nicht Bestandteil der Grundausstattung und können optional mit beauftragt werden. Die Nichterfüllung einer als Verfügbare Option gekennzeichneten Anforderung führt zwingend zum Ausschluss des Angebots. Im Bewertungsverfahren werden für verfügbare Option keine Punkte vergeben. | B13: O
A14: Fragetyp "Information": Als Information bezeichnete Kriterien werden nicht mit Punkten bewertet. Falsche und/oder unvollständige Antworten im LV führen zum Ausschluss des Bieters. | B14: I
A16: Folgende Antwortkategorien stehen für Muss-Kriterien und Wertungsfragen zur Auswahl: | B16: Antwort
A17: Antwortkategorie "ja": Mindestanforderung: Wählen Sie diese Antwort, wenn die verlangte Funktionalität vorhanden und unangepasst bereitstellbar ist, sowie im Leistungs- und Lieferumfang und damit im Angebotspreis vollständig enthalten ist. Wertungsfrage: Wählen Sie diese Antwort, wenn die verlangte Funktionalität grundsätzlich angeboten werden kann. Wertungsfragen, die mit ja beantwortet werden, sind im Preisblatt unter Bewertung nicht einzupreisen, sondern lediglich im Portfolio unten den Tabellenblättern "Basissysteme", "Optionen" und "Sonden" aufzuführen. | B17: ja
A18: Antwortkategorie "nein": Wählen Sie diese Antwort, wenn die Funktionalität nicht vorhanden ist, nicht bereitstellbar ist, nicht anbietbar ist oder die gewünschte Vorgehensweise nicht realisiert werden kann. Bei den "Mindestanfordeungen" führt eine Beantwortung mit "nein" zum Ausschluss des Angebots. | B18: nein
A19: Beim Fragetyp Information und vereinzelt auch bei Wertungsfragen besteht die Möglichkeit Freitexte sowie bei letzterem die entsprechenden Punkte einzutragen. Dies ist der Fall, wenn weder "ja" noch "nein" als Auswahl zur Verfügung steht. | B19: Freitext
A21: Punktevergabe für jede "Wertungskriterium | B21: Typ
... A23: Antwort "nein" führt zu null Punkten. | B23: W

Sheet Anforderungen Los 1-3
A1: Zurück zum Inhaltsverzeichnis
A2: Bestandteil des Teilnahmeantrag
A3: Teil I für stationäre Geräte - Los 1-3
A4: Leistungsbeschreibung und -verzeichnis
A5: für | B5: =Inhaltsverzeichnis!B2 -> Rahmenvertrag über Lieferung, Aufstellung und Inbetriebnahme von Narkose- und Beatmungssystemen
A6: Vergabenummer | B6: =Inhaltsverzeichnis!B3 -> 2026_JDS_05
A8: Name des Bieter
A10: Bitte füllen Sie nur die hellblauen Felder aus, ändern Sie weder Formeln, noch Reihenfolgen in der Matrix!
A11: Positionsnr. | B11: Typ | C11: Beschreibung | D11: Vorgaben / Fragen / Einheit | E11: bitte ausfüllen | F11: Auswertung | G11: Hinweis | H11: =SUM(H12:H104) -> 237
A12: 1.1 | C12: Allgemeine Anforderungen
A13: 1.1.1 | B13: M | C13: Das LV ist komplett in der Excel Tabelle auszufüllen und vom Bieter als Excel Datei abzugeben. | D13: ja / nein | F13: =IF(E13="ja","OK",IF(E13="","bitte befüllen","Ausschluss")) -> bitte befüllen | G13: ja = Ok / nein = Ausschluss
A14: 1.1.2 | B14: M | C14: Der beigefügte Rahmenvertrag wird vollumfänglich und vorbehaltlos mit Abgabe des Teilnahmeantrags akzeptiert | D14: ja / nein | F14: =IF(E14="ja","OK",IF(E14="","bitte befüllen","Ausschluss")) -> bitte befüllen | G14: ja = Ok / nein = Ausschluss
A15: 1.1.3 | B15: I | C15: Alle aufgeführten Leistungen sind vollumfänglich in Ihrer Kalkulation/Preisgestaltung abgebildet. | D15: ja / nein | F15: =IF(E15="","bitte befüllen","OK") -> bitte befüllen | G15: ja / nein
A16: 1.1.4 | B16: M | C16: Der Bieter sichert zu, die im LV angegebenen Spezifikationen durch technische Nachweise belegen zu können. Falsche und/oder unvollständige Antworten (auch bei den mit I=Information gekennzeichneten Feldern) im LV führen zum Ausschluss des Bieters. | D16: ja / nein | F16: =IF(E16="ja","OK",IF(E16="","bitte befüllen","Ausschluss")) -> bitte befüllen | G16: ja = Ok / nein = Ausschluss
A17: 1.1.5 | B17: M | C17: Angeboten werden dürfen ausschließlich Produkte, die zum Zeitpunkt der Ausschreibung verfügbar sind und dem zum Zeitpunkt der Ausschreibung aktuellen Stand der Technik entsprechen. Der Hersteller bestätigt, dass für das angebotene Produkt innerhalb eines Zeitraums von 10 Jahren ab Ablauf der Angebotsfrist kein End of Service (EoS) vorgesehen bzw. angekündigt ist. | D17: ja / nein | F17: =IF(E17="ja","OK",IF(E17="","bitte befüllen","Ausschluss")) -> bitte befüllen | G17: ja = Ok / nein = Ausschluss
A18: 1.1.6 | B18: M | C18: Der AN gewährt auf das angebotene System eine Gewährleistung von mindestens 2 Jahr. Die Gewährleistung beginnt nach Abnahme. Die Gewährleistung gilt ohne Einschränkung oder Begrenzung der Nutzungsfrequenz/ Dauerbetrieb. Unberührt von dieser Gewährleistung bleiben die übrigen Rechte des AG im Fall von Mängeln. | D18: ja / nein | F18: =IF(E18="ja","OK",IF(E18="","bitte befüllen","Ausschluss")) -> bitte befüllen | G18: ja = Ok / nein = Ausschluss
A19: 1.1.7 | B19: M | C19: Von dem Auftragnehmer (nachfolgend AN) ist eine Konformitätserklärung für das Gesamtsystem vor Abnahme dem Auftraggeber (nachfolgend AG) zu übergeben. Der AN hat rechtzeitig vor der Abnahme die technischen Daten inkl. Installationsvoraussetzungen und Umgebungsbedingungen zum Betrieb dem AG bereitzustellen. | D19: ja / nein | F19: =IF(E19="ja","OK",IF(E19="","bitte befüllen","Ausschluss")) -> bitte befüllen | G19: ja = Ok / nein = Ausschluss
A20: 1.1.8 | B20: W | C20: Der AN gewährt auf das angebotene System eine Gewährleistung >= 3 Jahre | D20: Angabe in Jahren | F20: =IF(E20="ja",50,IF(E20="nein",0,"bitte befüllen")) -> bitte befüllen | G20: ja = 50 Punkte / nein = 0 Punkte | H20: 50
A21: 1.1.9 | B21: M | C21: Die folgenden Beschreibungen und Anforderungen sind Grundlagen für das Angebot und müssen in jedem Bereich eingehalten werden. | D21: ja / nein | F21: =IF(E21="","bitte befüllen","OK") -> bitte befüllen | G21: ja / nein
A22: 1.1.10 | B22: M | C22: Das Angebot enthält alle Einrichtungen und Gerätebestandteile einschließlich notwendigem Zubehör, welche zur Funktionsfähigkeit der Geräte erforderlich sind. | D22: ja / nein | F22: =IF(E22="","bitte befüllen","OK") -> bitte befüllen | G22: ja / nein
A23: 1.1.11 | B23: M | C23: Die beschriebenen Komponenten verstehen sich betriebsfertig montiert, installiert und in Betrieb genommen. Sollten systemspezifisch zusätzliche Komponenten zur Erlangung der beschriebenen Funktionalität erforderlich sein, so sind diese vom Anbieter als herstellerspezifische Positionen am Ende des Angebotes zu ergänzen, bepreisen und zu erläutern. | D23: ja / nein | F23: =IF(E23="","bitte befüllen","OK") -> bitte befüllen | G23: ja / nein
A24: 1.2 | C24: Wirtschaftlichkeit, Nachhaltigkeit, Innovationskraft
A25: 1.2.1 | B25: W | C25: Der Produktionsstandort des angebotenen Gerätes und für die Lieferung und Ersatzteilversorgung ist innerhalb der Europäischen Union. Ein geeigneter Nachweis des Herstellers ist dem Teilnahmeantrag beizufügen. | D25: ja / nein | F25: =IF(E25="ja",50,IF(E25="nein",0,"bitte befüllen")) -> bitte befüllen | G25: ja = 50 Punkte / nein = 0 Punkte | H25: 50
A26: 1.2.2 | B26: W | C26: Der Hersteller verfügt über Ökoeffizienz-Analysen für mindestens Anästhesiemasken, Filter und Patientenschlauchsysteme, die die ökologische Auswahl von Einweg- oder Mehrweg-Zubehör ermöglichen. | D26: ja / nein | F26: =IF(E26="ja",10,IF(E26="nein",0,"bitte befüllen")) -> bitte befüllen | G26: ja = 10 Punkte / nein = 0 Punkte | H26: 10
A27: 1.3 | C27: Anerkannten Regeln der Technik / Vorschriften und Verordnungen
A28: 1.3.1 | B28: M | C28: Ausgeschrieben wird der o.g. Liefergegenstand mit Zubehör. Die Leistungen umfassen die Lieferung, Montage, betriebsfertige Übergabe lt. MDR, MDG und MPBetreibV, Einweisung, sämtliche Abnahmeprüfungen durch den Hersteller oder Dritte sowie die Entsorgung der Verpackungsmaterialien. | D28: ja / nein | F28: =IF(E28="ja","OK",IF(E28="","bitte befüllen","Ausschluss")) -> bitte befüllen | G28: ja = Ok / nein = Ausschluss
A29: 1.3.2 | C29: Für alle Produkte gelten die anerkannten Regeln der Technik. Insbesondere müssen die Produkte ggf. folgenden Vorschriften und Verordnungen in der anwendbaren und aktuellen Fassung entsprechen:
A30: 1.3.3 | B30: M | C30: MDR (Europäische Medizinprodukteverordnung) | D30: ja / nein | F30: =IF(E30="ja","OK",IF(E30="","bitte befüllen","Ausschluss")) -> bitte befüllen | G30: ja = Ok / nein = Ausschluss
A31: 1.3.4 | B31: M | C31: MDG (Medizinprodukte-Durchführungsgesetz) | D31: ja / nein | F31: =IF(E31="ja","OK",IF(E31="","bitte befüllen","Ausschluss")) -> bitte befüllen | G31: ja = Ok / nein = Ausschluss
A32: 1.3.5 | B32: M | C32: ArbSchG Arbeitsschutzgesetz | D32: ja / nein | F32: =IF(E32="ja","OK",IF(E32="","bitte befüllen","Ausschluss")) -> bitte befüllen | G32: ja = Ok / nein = Ausschluss
A33: 1.3.6 | B33: M | C33: GPSG Gesetz über technische Arbeitsmittel hinsichtlich bestimmungsgemäßer Verwendung von Produkten | D33: ja / nein | F33: =IF(E33="ja","OK",IF(E33="","bitte befüllen","Ausschluss")) -> bitte befüllen | G33: ja = Ok / nein = Ausschluss
A34: 1.3.7 | B34: M | C34: VDI und VDE Richtlinien | D34: ja / nein | F34: =IF(E34="ja","OK",IF(E34="","bitte befüllen","Ausschluss")) -> bitte befüllen | G34: ja = Ok / nein = Ausschluss
A35: 1.3.8 | B35: M | C35: Medizinische elektrische Geräte: EN 60601-1 | D35: ja / nein | F35: =IF(E35="ja","OK",IF(E35="","bitte befüllen","Ausschluss")) -> bitte befüllen | G35: ja = Ok / nein = Ausschluss
A36: 1.3.9 | B36: M | C36: Vibrationstest EN 60068-2-64, EN 60068-2-27 | D36: ja / nein | F36: =IF(E36="ja","OK",IF(E36="","bitte befüllen","Ausschluss")) -> bitte befüllen | G36: ja = Ok / nein = Ausschluss
A37: 1.3.10 | B37: M | C37: EN ISO 13485 Medizinprodukte: Qualitätsmanagementsysteme – Anforderungen für regulatorische Zwecke | D37: ja / nein | F37: =IF(E37="ja","OK",IF(E37="","bitte befüllen","Ausschluss")) -> bitte befüllen | G37: ja = Ok / nein = Ausschluss
A38: 1.3.11 | B38: M | C38: Zertifizierung nach DIN EN ISO 9001: Standard für Qualitätsmanagementsysteme oder gleichwertig | D38: ja / nein | F38: =IF(E38="ja","OK",IF(E38="","bitte befüllen","Ausschluss")) -> bitte befüllen | G38: ja = Ok / nein = Ausschluss
A39: 1.3.12 | B39: M | C39: Zertifikat der Normenerfüllung (Ist dem Angebot beigefügt) | D39: ja / nein | F39: =IF(E39="ja","OK",IF(E39="","bitte befüllen","Ausschluss")) -> bitte befüllen | G39: ja = Ok / nein = Ausschluss
A40: 1.3.13 | B40: M | C40: CE-Kennzeichnung (Ist dem Angebot beigefügt) | D40: ja / nein | F40: =IF(E40="ja","OK",IF(E40="","bitte befüllen","Ausschluss")) -> bitte befüllen | G40: ja = Ok / nein = Ausschluss
A41: 1.3.14 | B41: M | C41: Die Beatmungsgeräte (ausgenommen Los 4 High-End-Transportbeatmungsgerät) verfügen über eine Netzwerkschnittstelle zur Übertragung eines Gerätefehler-Reports inklusive Logbuch bei potentieller Fehlfunktion. | D41: ja / nein | F41: =IF(E41="ja","OK",IF(E41="","bitte befüllen","Ausschluss")) -> bitte befüllen | G41: ja = Ok / nein = Ausschluss
A42: 1.3.16 | B42: I | C42: Nennung Betriebssystem (Microsoft, Linux u. a.) | D42: Freitext | F42: =IF(E42="","bitte befüllen","OK") -> bitte befüllen | G42: Informativ, keine Wertung
A43: 1.3.17 | B43: M | C43: Im Sinne der Resilienz-Steigerung für Einrichtungen des Gesundheitswesens sowie aktueller KRITIS-Anforderungen muss der Anbieter für sein Gerät einen unterbrechungsfreien Betrieb nachweisen. Dies beinhaltet eine Notfallkonzeptbeschreibung bei Ausfall der zentralen Strom- & Gasversorgung. Entsprechende Nachweise sind beizufügen. | D43: ja / nein | F43: =IF(E43="ja","OK",IF(E43="","bitte befüllen","Ausschluss")) -> bitte befüllen | G43: ja = Ok / nein = Ausschluss
A44: 1.4 | C44: Cybersecurity
A45: 1.4.1 | C45: Patchmanagment im Zusammenhang mit Medizinprodukten bezieht sich auf das Verwalten und Aktualisieren von Software-Patches, um die Sicherheit, Funktionalität und Konformität von medizinischen Geräten sicherzustellen. Dies ist besonders wichtig, da medizinische Geräte oft auf komplexe Software angewiesen sind, die kontinuierlich aktualisiert werden muss, um Schwachstellen zu schließen und die Patientensicherheit zu gewährleisten. Die nachstehenden Punkte sind hierfür einzuhalten.
A46: 1.4.1.1 | B46: M | C46: Sicherheitsrelevante Updates: Der Hersteller stellt während des definierten Produktlebenszyklus sicherheitsrelevante Patches zur Behebung bekannt gewordener Sicherheitslücken bereit. Sicherheitsrelevante Schwachstellen mit einem CVSS-Score ≥ 6,0 werden innerhalb von 30 Tagen nach Verfügbarkeit bzw. Bekanntwerden durch einen entsprechenden Patch oder eine gleichwertige sicherheitswirksame Maßnahme adressiert. | D46: ja / nein | F46: =IF(E46="ja","OK",IF(E46="","bitte befüllen","Ausschluss")) -> bitte befüllen | G46: ja = Ok / nein = Ausschluss
A47: 1.4.1.2 | B47: M | C47: Regulatorische Anforderungen: Medizinprodukte unterliegen strengen regulatorischen Vorschriften, wie beispielsweise der MDR (Medical Device Regulation) in der EU oder der FDA (Food and Drug Administration) in den USA. Diese Vorschriften legen fest, dass Software, die für medizinische Geräte verwendet wird, regelmäßig überprüft und aktualisiert werden muss, um die Sicherheit zu gewährleisten. | D47: ja / nein | F47: =IF(E47="ja","OK",IF(E47="","bitte befüllen","Ausschluss")) -> bitte befüllen | G47: ja = Ok / nein = Ausschluss
A48: 1.4.1.3 | B48: M | C48: Kompatibilität: Patches müssen sorgfältig implementiert werden, um sicherzustellen, dass sie die Funktionalität des Geräts nicht beeinträchtigen oder unerwartete Komplikationen verursachen. Daher ist ein gründliches Testen erforderlich, bevor Patches auf Geräten im Einsatz ausgerollt werden. | D48: ja / nein | F48: =IF(E48="ja","OK",IF(E48="","bitte befüllen","Ausschluss")) -> bitte befüllen | G48: ja = Ok / nein = Ausschluss
A49: 1.4.1.4 | B49: M | C49: Risikomanagement: Beim Patchmanagement für Medizinprodukte spielt das Risikomanagement eine zentrale Rolle. Die Implementierung von Patches muss sorgfältig geplant werden, um sicherzustellen, dass Risiken für den Patienten und das Gerät minimal sind. | D49: ja / nein | F49: =IF(E49="ja","OK",IF(E49="","bitte befüllen","Ausschluss")) -> bitte befüllen | G49: ja = Ok / nein = Ausschluss
A50: 1.4.1.5 | B50: M | C50: Dokumentation und Nachverfolgbarkeit: Alle Patches müssen vollständig dokumentiert werden, um den regulatorischen Anforderungen gerecht zu werden. Unternehmen müssen nachweisen können, dass sie alle notwendigen Schritte unternommen haben, um die Sicherheit ihrer Produkte zu gewährleisten. | D50: ja / nein | F50: =IF(E50="ja","OK",IF(E50="","bitte befüllen","Ausschluss")) -> bitte befüllen | G50: ja = Ok / nein = Ausschluss
A51: 1.4.2 | B51: M | C51: Das angebotene Gerät kann unter Einhaltung der Anforderungen der DSGVO betrieben und in die IT-Infrastruktur des Auftraggebers integriert werden. Die hierfür erforderlichen datenschutzrelevanten technischen Funktionen und Konfigurationsmöglichkeiten werden vom Hersteller bereitgestellt. Nachweis: Herstellererklärung bzw. geeignete Produktdokumentation ist dem Teilnahmeantrag beigefügt. | D51: ja / nein | F51: =IF(E51="ja","OK",IF(E51="","bitte befüllen","Ausschluss")) -> bitte befüllen | G51: ja = Ok / nein = Ausschluss
A52: 1.4.3 | B52: W | C52: Das mindestens 8-stellige Anwenderpasswort ist gemäß MDR-Regulatorik vom Auftraggeben individuell änderbar und nach Gültigkeit zeitlich limitierbar (bis zu 1 Jahre). | D52: ja / nein | F52: =IF(E52="ja",5,IF(E52="nein",0,"bitte befüllen")) -> bitte befüllen | G52: ja = 5 Punkte / nein = 0 Punkte | H52: 5
A53: 1.4.4 | B53: W | C53: Das mindestens 8-stellige Servicepasswort ist gemäß MDR-Regulatorik vom Auftraggeben individuell änderbar und nach Gültigkeit zeitlich limitierbar (bis zu 1 Jahre). | D53: ja / nein | F53: =IF(E53="ja",5,IF(E53="nein",0,"bitte befüllen")) -> bitte befüllen | G53: ja = 5 Punkte / nein = 0 Punkte | H53: 5
A54: 1.5 | C54: Beschreibung Datenmanagement / Schnittstellen
A55: 1.5.1 | B55: M | C55: Alle erforderlichen Hardwarekomponenten, Anbindungs- und Integrationsleistungen sowie die notwendigen Lizenzen für die Narkose- und Beatmungssysteme sind im Angebot enthalten. Der Auftragnehmer stellt im Rahmen seines Verantwortungsbereichs die für die netzwerkseitige Integration erforderlichen Informationen und Mitwirkungen zur Risikobewertung gemäß DIN EN 80001-1 zur Verfügung. | D55: ja / nein | F55: =IF(E55="ja","OK",IF(E55="","bitte befüllen","Ausschluss")) -> bitte befüllen | G55: ja = Ok / nein = Ausschluss
A56: 1.5.2 | B56: W | C56: Die HL7-Funktionalität für die KIS-Anbindung steht zur Verfügung | D56: ja / nein | F56: =IF(E56="ja",5,IF(E56="nein",0,"bitte befüllen")) -> bitte befüllen | G56: ja = 5 Punkte / nein = 0 Punkte | H56: 5
A57: 1.5.3 | B57: M | C57: Die Einbindung des angebotenen Medizinprodukts in die IT-Infrastruktur des Auftraggebers erfolgt in Abstimmung mit dem Hersteller und gemäß dessen technischen, sicherheitsrelevanten und regulatorischen Vorgaben. Anforderungen der Haus-IT werden berücksichtigt, sofern diese mit den Herstellervorgaben vereinbar sind. | D57: ja / nein | F57: =IF(E57="ja","OK",IF(E57="","bitte befüllen","Ausschluss")) -> bitte befüllen | G57: ja = Ok / nein = Ausschluss
A58: 1.5.4 | B58: W | C58: Möglichkeit einer serverbasierten Verteilung von Software per Kliniknetzwerk, um möglichst wirtschaftlich Softwareupgrade und - updates durchführen zu können. Eine Konzeptbeschreibung ist beizulegen. | D58: ja / nein | F58: =IF(E58="ja",5,IF(E58="nein",0,"bitte befüllen")) -> bitte befüllen | G58: ja = 5 Punkte / nein = 0 Punkte | H58: 5
A59: 1.6 | C59: Datenanalyse und digitale Webservices
A60: 1.6.1 | B60: W | C60: Auswertungen zu Leistungs- und Verbrauchsdaten des Gerätes können auf verschiedenen Endgeräten ortsunabhängig eingesehen und über standardisierte Berichtsformate (CSV) oder Schnittstellen (ODATA) weiter verarbeitet werden | D60: ja / nein | F60: =IF(E60="ja",5,IF(E60="nein",0,"bitte befüllen")) -> bitte befüllen | G60: ja = 5 Punkte / nein = 0 Punkte | H60: 5
A61: 1.6.2 | B61: W | C61: Die Zugriffsrechte für webbasierte Analysedaschboars können userspezifisch erteilt werden. | D61: ja / nein | F61: =IF(E61="ja",10,IF(E61="nein",0,"bitte befüllen")) -> bitte befüllen | G61: ja = 10 Punkte / nein = 0 Punkte | H61: 10
A62: 1.6.3 | B62: W | C62: Die zuvor genannten Funktionen können ohne die zusätzliche Installation von Softwarekomponenten am Gerät vollständig genutzt werden | D62: ja / nein | F62: =IF(E62="ja",1,IF(E62="nein",0,"bitte befüllen")) -> bitte befüllen | G62: ja = 1 Punkte / nein = 0 Punkte | H62: 1
A63: 1.6.4 | B63: W | C63: Es besteht die Möglichkeit auf interaktive Produkttrainer und Simulatoren zum angebotenen Produkt zurückzugreifen, die nach Registrierung frei zuzgänglich und per Webbrowser aufrufbar sind, sodass Sie dem Personal zur Gewinnung von Bediensicherheit zur Verfügung gestellt werden können. Eine Beschreibung des Konzeptes ist beizulegen. | D63: ja / nein | F63: =IF(E63="ja",1,IF(E63="nein",0,"bitte befüllen")) -> bitte befüllen | G63: ja = 1 Punkte / nein = 0 Punkte | H63: 1
A64: 1.6.5 | B64: W | C64: Der Anbieter unterstützt digitale Lernplattformen. Es besteht die Möglichkeit auf Online-Schulungen für das angebotene Gerät zurückzugreifen, inklusive Lern- & Erfolgskontrolle. Eine Beschreibung des Konzeptes ist beizulegen. | D64: ja / nein | F64: =IF(E64="ja",10,IF(E64="nein",0,"bitte befüllen")) -> bitte befüllen | G64: ja = 10 Punkte / nein = 0 Punkte | H64: 10
A65: 1.7 | C65: Probestellung, Lieferung, Aufstellung, Inbetriebnahme und Einweisung
A66: 1.7.1 | B66: M | C66: Im Zuge eines Miniwettbewerb wird eine Anwenderrezension gemacht, wenn die finale Konfiguration des Anwenders feststeht. | D66: ja / nein | F66: =IF(E66="ja","OK",IF(E66="","bitte befüllen","Ausschluss")) -> bitte befüllen | G66: ja = Ok / nein = Ausschluss
A67: 1.7.2 | B67: M | C67: Mit der Angebotsabgabe verpﬂichtet sich der Bieter zu einer Demonstration seines System beim Anwender während des Miniwettbewerbs. Bei der Demonstration wird die Anwenderrezenssion durchgeführt. Die Demonstration/Probestellung des Systems ist für den AG kostenneutral. | D67: ja / nein | F67: =IF(E67="ja","OK",IF(E67="","bitte befüllen","Ausschluss")) -> bitte befüllen | G67: ja = Ok / nein = Ausschluss
A68: 1.7.3 | B68: M | C68: Im Miniwettbewerb erfolgt eine Anwenderrezension der Narkose- und Beatmungssysteme für max. 1 Woche. Ist eine kostenneutrale Probestellung in der Klinik möglich. Bitte beachten Sie, dass Sie zur Probestellung gesondert aufgefordert werden. | D68: ja / nein | F68: =IF(E68="ja","OK",IF(E68="","bitte befüllen","Ausschluss")) -> bitte befüllen | G68: ja = Ok / nein = Ausschluss
A69: 1.7.4 | B69: M | C69: Der beigefügte Leihvertrag wird vollumfänglich und vorbehaltlos mit Abgabe des Teilnahmeantrags akzeptiert | D69: ja / nein | F69: =IF(E69="ja","OK",IF(E69="","bitte befüllen","Ausschluss")) -> bitte befüllen | G69: ja = Ok / nein = Ausschluss
A70: 1.8 | C70: Komponenten, Aufbereitung und empfohlende Desinfketionsmittel
A71: 1.8.1 | B71: M | C71: Reinigung und Desinfizierbarkeit ist in der Gebrauchsanweisung beschrieben und folgt der Empfehlung der Kommission für Krankenhaushygiene und Infektionsprävention beim Robert Koch-Institut (RKI) und des Bundesinstitutes für Arzneimittel und Medizinprodukte (BfArM) zu den "Anforderungen an die Hygiene bei der Aufbereitung von Medizinprodukten". Bitte führen Sie die zugelassenen Reinigungs- und Desinfektionsmittel auf. | D71: ja / nein | F71: =IF(E71="ja","OK",IF(E71="","bitte befüllen","Ausschluss")) -> bitte befüllen | G71: ja = Ok / nein = Ausschluss
A72: 1.8.2 | B72: I | C72: Kurzbeschreibung der Hygienereinigung von der Geräteoberflächen (sollten Sie eine Anlage beifügen, so verwiesen Sie im Freitext auf die Anlage) | D72: Freitext | F72: =IF(E72="","bitte befüllen","OK") -> bitte befüllen | G72: Informativ, keine Wertung
A73: 1.8.3 | C73: Mittel 1
A74: 1.8.3.1 | B74: I | C74: Bezeichnung | D74: Freitext | F74: =IF(E74="","bitte befüllen","OK") -> bitte befüllen | G74: Informativ, keine Wertung
A75: 1.8.3.2 | B75: I | C75: Produktgruppe | D75: Freitext | F75: =IF(E75="","bitte befüllen","OK") -> bitte befüllen | G75: Informativ, keine Wertung
A76: 1.8.3.3 | B76: I | C76: Konzentration | D76: Freitext | F76: =IF(E76="","bitte befüllen","OK") -> bitte befüllen | G76: Informativ, keine Wertung
A77: 1.8.3.4 | B77: I | C77: Einwirkzeit | D77: Freitext | F77: =IF(E77="","bitte befüllen","OK") -> bitte befüllen | G77: Informativ, keine Wertung
A78: 1.8.4 | C78: Mittel 2
A79: 1.8.4.1 | B79: I | C79: Bezeichnung | D79: Freitext | F79: =IF(E79="","bitte befüllen","OK") -> bitte befüllen | G79: Informativ, keine Wertung
A80: 1.8.4.2 | B80: I | C80: Produktgruppe | D80: Freitext | F80: =IF(E80="","bitte befüllen","OK") -> bitte befüllen | G80: Informativ, keine Wertung
A81: 1.8.4.3 | B81: I | C81: Konzentration | D81: Freitext | F81: =IF(E81="","bitte befüllen","OK") -> bitte befüllen | G81: Informativ, keine Wertung
A82: 1.8.4.4 | B82: I | C82: Einwirkzeit | D82: Freitext | F82: =IF(E82="","bitte befüllen","OK") -> bitte befüllen | G82: Informativ, keine Wertung
A83: 1.8.5 | C83: Mittel 3
A84: 1.8.5.1 | B84: I | C84: Bezeichnung | D84: Freitext | F84: =IF(E84="","bitte befüllen","OK") -> bitte befüllen | G84: Informativ, keine Wertung
A85: 1.8.5.2 | B85: I | C85: Produktgruppe | D85: Freitext | F85: =IF(E85="","bitte befüllen","OK") -> bitte befüllen | G85: Informativ, keine Wertung
A86: 1.8.5.3 | B86: I | C86: Konzentration | D86: Freitext | F86: =IF(E86="","bitte befüllen","OK") -> bitte befüllen | G86: Informativ, keine Wertung
A87: 1.8.5.4 | B87: I | C87: Einwirkzeit | D87: Freitext | F87: =IF(E87="","bitte befüllen","OK") -> bitte befüllen | G87: Informativ, keine Wertung
A88: 1.9 | C88: Service und Nebenleistungen
A89: 1.9.1 | B89: O | C89: Service- und Wartungsvertrag für die Systeme (nach Gewährleistungszeitraum) | D89: ja / nein | F89: =IF(E89="ja","OK",IF(E89="","bitte befüllen","Ausschluss")) -> bitte befüllen | G89: ja = Ok / nein = Ausschluss
A90: 1.9.2 | B90: M | C90: Ein Muster des Serivice- und Wartungsvertrag für das angebotene System ist mit abzugeben | D90: ja / nein | F90: =IF(E90="ja","OK",IF(E90="","bitte befüllen","Ausschluss")) -> bitte befüllen | G90: ja = Ok / nein = Ausschluss
A91: 1.9.3 | B91: M | C91: Der angebotene Serivice- und Wartungsvertrag kann nach Beendigung des Gewährleistungszeitraum zu den genannten Konditionen abgeschlossen werden. | D91: ja / nein | F91: =IF(E91="ja","OK",IF(E91="","bitte befüllen","Ausschluss")) -> bitte befüllen | G91: ja = Ok / nein = Ausschluss
A92: 1.9.4 | C92: Serviceleistungen innerhalb der Gewährleistungsfrist
A93: 1.9.4.1 | B93: M | C93: Mit Beauftragung der Lieferung der angebotenen Geräte und Systeme sind in der Gewährleistungsfrist alle Serviceleistungen gemäß nachstehender Ausführungsbeschreibung enthalten. | D93: ja / nein | F93: =IF(E93="ja","OK",IF(E93="","bitte befüllen","Ausschluss")) -> bitte befüllen | G93: ja = Ok / nein = Ausschluss
A94: 1.9.4.2 | B94: M | C94: Service- und Wartungsleistungen für die angebotenen Geräte und Systeme inkl. aller Hard- und Softwarekomponenten. Die Kosten für Service- bzw. Wartungsverträge während der Gewährleistungsfrist sind in den Gesamtkosten der angebotenen Geräte und Systeme enthalten. Beinhaltete Serviceleistungen der Wartung der System-, Hardware-, und Softwarekomponenten: - die vom Hersteller empfohlenen wiederkehrenden Prüfungen und Wartungen - die wiederkehrenden Prüfungen nach MPBetreibV - die erforderliche Arbeitszeit, Lohnkosten und Fahraufwendungen zur Durchführung der Leistungen - die erforderlichen Wartungsteile und Servicekits zur Durchführung der Wartung an den angebotenen Geräten und Systemen gemäß Herstellerangaben - die Akkumulatoren / Batterien, die gemäß Herstellerangaben zu wechseln sind oder als Verbrauchsteil fällig werden können (eine gesonderte Berechnung von zu wechselnden Akkumulatoren ist ausgeschlossen) - Instandsetzungsleistungen und alle hierfür benötigten Ersatzteile und Aufwände aufgrund von Geräteschäden - die Installation von Softwareupdates - die Bereitstellung der Dokumentation der durchgeführten Leistungen - die sämtlichen weiteren notwendigen Prüfungen | D94: ja / nein | F94: =IF(E94="ja","OK",IF(E94="","bitte befüllen","Ausschluss")) -> bitte befüllen | G94: ja = Ok / nein = Ausschluss
A95: 1.9.4.3 | B95: M | C95: Das Angebot hat für den Zeitraum nach der Inbetriebnahme innerhalb der gesetzlichen bzw. vereinbarten Gewährleistungszeit sämtliche für den ordnungsgemäßen Betrieb des angebotenen Systems erforderlichen Service- und Instandhaltungsleistungen pauschal zu beinhalten. Eine gesonderte Berechnung von Serviceleistungen, Arbeitszeit, Anfahrt, Diagnose, Wartung, Instandsetzung oder sonstigen Aufwänden ist innerhalb des Gewährleistungszeitraums ausgeschlossen. Von der Pauschale ausgenommen und gesondert berechnungsfähig sind ausschließlich: - Instandsetzungsleistungen, Ersatzteile und sonstige Aufwände, die nachweislich durch eine unsachgemäße Handhabung bzw. ein grob fahrlässiges oder vorsätzliches Verhalten des Auftraggebers verursacht wurden; - Miet- und Leihgeräte, ausgenommen Überbrückungs- bzw. Ersatzsysteme, die aufgrund eines vom Auftragnehmer zu vertretenden Lieferverzugs erforderlich werden. | D95: ja / nein | F95: =IF(E95="ja","OK",IF(E95="","bitte befüllen","Ausschluss")) -> bitte befüllen | G95: ja = Ok / nein = Ausschluss
A96: 1.9.5 | B96: W | C96: Die Servicestelle ist in Deutschland ansässig. Servicemitarbeiter müssen die deutsche Sprache beherrschen! | D96: ja / nein | F96: =IF(E96="ja",20,IF(E96="nein",0,"bitte befüllen")) -> bitte befüllen | G96: ja = 20 Punkte / nein = 0 Punkte | H96: 20
A97: 1.9.6 | B97: W | C97: Servicetechniker in den Zuständigkeitsbereich wie z. B. Berlin (150 km), Anzahl ≥ 3 | D97: ja / nein | F97: =IF(E97="ja",20,IF(E97="nein",0,"bitte befüllen")) -> bitte befüllen | G97: ja = 20 Punkte / nein = 0 Punkte | H97: 20
A98: 1.9.7 | B98: M | C98: Arbeitszeit Service: mind. werktags 8.00 – 17.00 Uhr | D98: ja / nein | F98: =IF(E98="ja","OK",IF(E98="","bitte befüllen","Ausschluss")) -> bitte befüllen | G98: ja = Ok / nein = Ausschluss
A99: 1.9.8 | B99: I | C99: Anzahl der Service-Niederlassungen in Deutschland | D99: Freitext | F99: =IF(E99="","bitte befüllen","OK") -> bitte befüllen | G99: Informativ, keine Wertung
A100: 1.9.9 | B100: W | C100: Servicetechniker in Deutschland, Anzahl ≥ 15 | D100: ja / nein | F100: =IF(E100="ja",20,IF(E100="nein",0,"bitte befüllen")) -> bitte befüllen | G100: ja = 20 Punkte / nein = 0 Punkte | H100: 20
A101: 1.9.10 | B101: W | C101: Besteht die Möglichkeit zur Weiterbildung von Technikern in einer firmeneigenen Institution? | D101: ja / nein | F101: =IF(E101="ja",20,IF(E101="nein",0,"bitte befüllen")) -> bitte befüllen | G101: ja = 20 Punkte / nein = 0 Punkte | H101: 20
A102: 1.9.11 | B102: M | C102: Arbeitszeit Service-Hotline: Erreichbarkeit einer Service Hotline mit Beratungsservice 24/7 an 365 Tagen im Jahr | D102: ja / nein | F102: =IF(E102="ja","OK",IF(E102="","bitte befüllen","Ausschluss")) -> bitte befüllen | G102: ja = Ok / nein = Ausschluss
...

Sheet Anforderungen Los 4
A1: Zurück zum Inhaltsverzeichnis
A2: Bestandteil des Teilnahmeantrag
A3: Teil I für mobile Geräte - Los 4
A4: Leistungsbeschreibung und -verzeichnis
A5: für | B5: =Inhaltsverzeichnis!B2 -> Rahmenvertrag über Lieferung, Aufstellung und Inbetriebnahme von Narkose- und Beatmungssystemen
A6: Vergabenummer | B6: =Inhaltsverzeichnis!B3 -> 2026_JDS_05
A8: Name des Bieter
A10: Bitte füllen Sie nur die hellblauen Felder aus, ändern Sie weder Formeln, noch Reihenfolgen in der Matrix!
A11: Positionsnr. | B11: Typ | C11: Beschreibung | D11: Vorgaben / Fragen / Einheit | E11: bitte ausfüllen | F11: Auswertung | G11: Hinweis | H11: =SUM(H12:H104) -> 237
A12: 1.1 | C12: Allgemeine Anforderungen
A13: 1.1.1 | B13: M | C13: Das LV ist komplett in der Excel Tabelle auszufüllen und vom Bieter als Excel Datei abzugeben. | D13: ja / nein | F13: =IF(E13="ja","OK",IF(E13="","bitte befüllen","Ausschluss")) -> bitte befüllen | G13: ja = Ok / nein = Ausschluss
A14: 1.1.2 | B14: M | C14: Der beigefügte Rahmenvertrag wird vollumfänglich und vorbehaltlos mit Abgabe des Teilnahmeantrags akzeptiert | D14: ja / nein | F14: =IF(E14="ja","OK",IF(E14="","bitte befüllen","Ausschluss")) -> bitte befüllen | G14: ja = Ok / nein = Ausschluss
A15: 1.1.3 | B15: I | C15: Alle aufgeführten Leistungen sind vollumfänglich in Ihrer Kalkulation/Preisgestaltung abgebildet. | D15: ja / nein | F15: =IF(E15="","bitte befüllen","OK") -> bitte befüllen | G15: ja / nein
A16: 1.1.4 | B16: M | C16: Der Bieter sichert zu, die im LV angegebenen Spezifikationen durch technische Nachweise belegen zu können. Falsche und/oder unvollständige Antworten (auch bei den mit I=Information gekennzeichneten Feldern) im LV führen zum Ausschluss des Bieters. | D16: ja / nein | F16: =IF(E16="ja","OK",IF(E16="","bitte befüllen","Ausschluss")) -> bitte befüllen | G16: ja = Ok / nein = Ausschluss
A17: 1.1.5 | B17: M | C17: Angeboten werden dürfen ausschließlich Produkte, die zum Zeitpunkt der Ausschreibung verfügbar sind und dem zum Zeitpunkt der Ausschreibung aktuellen Stand der Technik entsprechen. Der Hersteller bestätigt, dass für das angebotene Produkt innerhalb eines Zeitraums von 10 Jahren ab Ablauf der Angebotsfrist kein End of Service (EoS) vorgesehen bzw. angekündigt ist. | D17: ja / nein | F17: =IF(E17="ja","OK",IF(E17="","bitte befüllen","Ausschluss")) -> bitte befüllen | G17: ja = Ok / nein = Ausschluss
A18: 1.1.6 | B18: M | C18: Der AN gewährt auf das angebotene System eine Gewährleistung von mindestens 2 Jahr. Die Gewährleistung beginnt nach Abnahme. Die Gewährleistung gilt ohne Einschränkung oder Begrenzung der Nutzungsfrequenz/ Dauerbetrieb. Unberührt von dieser Gewährleistung bleiben die übrigen Rechte des AG im Fall von Mängeln. | D18: ja / nein | F18: =IF(E18="ja","OK",IF(E18="","bitte befüllen","Ausschluss")) -> bitte befüllen | G18: ja = Ok / nein = Ausschluss
A19: 1.1.7 | B19: M | C19: Von dem Auftragnehmer (nachfolgend AN) ist eine Konformitätserklärung für das Gesamtsystem vor Abnahme dem Auftraggeber (nachfolgend AG) zu übergeben. Der AN hat rechtzeitig vor der Abnahme die technischen Daten inkl. Installationsvoraussetzungen und Umgebungsbedingungen zum Betrieb dem AG bereitzustellen. | D19: ja / nein | F19: =IF(E19="ja","OK",IF(E19="","bitte befüllen","Ausschluss")) -> bitte befüllen | G19: ja = Ok / nein = Ausschluss
A20: 1.1.8 | B20: W | C20: Der AN gewährt auf das angebotene System eine Gewährleistung >= 3 Jahre | D20: Angabe in Jahren | F20: =IF(E20="ja",50,IF(E20="nein",0,"bitte befüllen")) -> bitte befüllen | G20: ja = 50 Punkte / nein = 0 Punkte | H20: 50
A21: 1.1.9 | B21: M | C21: Die folgenden Beschreibungen und Anforderungen sind Grundlagen für das Angebot und müssen in jedem Bereich eingehalten werden. | D21: ja / nein | F21: =IF(E21="","bitte befüllen","OK") -> bitte befüllen | G21: ja / nein
A22: 1.1.10 | B22: M | C22: Das Angebot enthält alle Einrichtungen und Gerätebestandteile einschließlich notwendigem Zubehör, welche zur Funktionsfähigkeit der Geräte erforderlich sind. | D22: ja / nein | F22: =IF(E22="","bitte befüllen","OK") -> bitte befüllen | G22: ja / nein
A23: 1.1.11 | B23: M | C23: Die beschriebenen Komponenten verstehen sich betriebsfertig montiert, installiert und in Betrieb genommen. Sollten systemspezifisch zusätzliche Komponenten zur Erlangung der beschriebenen Funktionalität erforderlich sein, so sind diese vom Anbieter als herstellerspezifische Positionen am Ende des Angebotes zu ergänzen, bepreisen und zu erläutern. | D23: ja / nein | F23: =IF(E23="","bitte befüllen","OK") -> bitte befüllen | G23: ja / nein
A24: 1.2 | C24: Wirtschaftlichkeit, Nachhaltigkeit, Innovationskraft
A25: 1.2.1 | B25: W | C25: Der Produktionsstandort des angebotenen Gerätes und für die Lieferung und Ersatzteilversorgung ist innerhalb der Europäischen Union. Ein geeigneter Nachweis des Herstellers ist dem Teilnahmeantrag beizufügen. | D25: ja / nein | F25: =IF(E25="ja",50,IF(E25="nein",0,"bitte befüllen")) -> bitte befüllen | G25: ja = 50 Punkte / nein = 0 Punkte | H25: 50
A26: 1.2.2 | B26: W | C26: Der Hersteller verfügt über Ökoeffizienz-Analysen für mindestens Anästhesiemasken, Filter und Patientenschlauchsysteme, die die ökologische Auswahl von Einweg- oder Mehrweg-Zubehör ermöglichen. | D26: ja / nein | F26: =IF(E26="ja",10,IF(E26="nein",0,"bitte befüllen")) -> bitte befüllen | G26: ja = 10 Punkte / nein = 0 Punkte | H26: 10
A27: 1.3 | C27: Anerkannten Regeln der Technik / Vorschriften und Verordnungen
A28: 1.3.1 | B28: M | C28: Ausgeschrieben wird der o.g. Liefergegenstand mit Zubehör. Die Leistungen umfassen die Lieferung, Montage, betriebsfertige Übergabe lt. MDR, MDG und MPBetreibV, Einweisung, sämtliche Abnahmeprüfungen durch den Hersteller oder Dritte sowie die Entsorgung der Verpackungsmaterialien. | D28: ja / nein | F28: =IF(E28="ja","OK",IF(E28="","bitte befüllen","Ausschluss")) -> bitte befüllen | G28: ja = Ok / nein = Ausschluss
A29: 1.3.2 | C29: Für alle Produkte gelten die anerkannten Regeln der Technik. Insbesondere müssen die Produkte ggf. folgenden Vorschriften und Verordnungen in der anwendbaren und aktuellen Fassung entsprechen:
A30: 1.3.3 | B30: M | C30: MDR (Europäische Medizinprodukteverordnung) | D30: ja / nein | F30: =IF(E30="ja","OK",IF(E30="","bitte befüllen","Ausschluss")) -> bitte befüllen | G30: ja = Ok / nein = Ausschluss
A31: 1.3.4 | B31: M | C31: MDG (Medizinprodukte-Durchführungsgesetz) | D31: ja / nein | F31: =IF(E31="ja","OK",IF(E31="","bitte befüllen","Ausschluss")) -> bitte befüllen | G31: ja = Ok / nein = Ausschluss
A32: 1.3.5 | B32: M | C32: ArbSchG Arbeitsschutzgesetz | D32: ja / nein | F32: =IF(E32="ja","OK",IF(E32="","bitte befüllen","Ausschluss")) -> bitte befüllen | G32: ja = Ok / nein = Ausschluss
A33: 1.3.6 | B33: M | C33: GPSG Gesetz über technische Arbeitsmittel hinsichtlich bestimmungsgemäßer Verwendung von Produkten | D33: ja / nein | F33: =IF(E33="ja","OK",IF(E33="","bitte befüllen","Ausschluss")) -> bitte befüllen | G33: ja = Ok / nein = Ausschluss
A34: 1.3.7 | B34: M | C34: VDI und VDE Richtlinien | D34: ja / nein | F34: =IF(E34="ja","OK",IF(E34="","bitte befüllen","Ausschluss")) -> bitte befüllen | G34: ja = Ok / nein = Ausschluss
A35: 1.3.8 | B35: M | C35: Medizinische elektrische Geräte: EN 60601-1 | D35: ja / nein | F35: =IF(E35="ja","OK",IF(E35="","bitte befüllen","Ausschluss")) -> bitte befüllen | G35: ja = Ok / nein = Ausschluss
A36: 1.3.9 | B36: M | C36: Vibrationstest EN 60068-2-64, EN 60068-2-27 | D36: ja / nein | F36: =IF(E36="ja","OK",IF(E36="","bitte befüllen","Ausschluss")) -> bitte befüllen | G36: ja = Ok / nein = Ausschluss
A37: 1.3.10 | B37: M | C37: EN ISO 13485 Medizinprodukte: Qualitätsmanagementsysteme – Anforderungen für regulatorische Zwecke | D37: ja / nein | F37: =IF(E37="ja","OK",IF(E37="","bitte befüllen","Ausschluss")) -> bitte befüllen | G37: ja = Ok / nein = Ausschluss
A38: 1.3.11 | B38: M | C38: Zertifizierung nach DIN EN ISO 9001: Standard für Qualitätsmanagementsysteme oder gleichwertig | D38: ja / nein | F38: =IF(E38="ja","OK",IF(E38="","bitte befüllen","Ausschluss")) -> bitte befüllen | G38: ja = Ok / nein = Ausschluss
A39: 1.3.12 | B39: M | C39: Zertifikat der Normenerfüllung (Ist dem Angebot beigefügt) | D39: ja / nein | F39: =IF(E39="ja","OK",IF(E39="","bitte befüllen","Ausschluss")) -> bitte befüllen | G39: ja = Ok / nein = Ausschluss
A40: 1.3.13 | B40: M | C40: CE-Kennzeichnung (Ist dem Angebot beigefügt) | D40: ja / nein | F40: =IF(E40="ja","OK",IF(E40="","bitte befüllen","Ausschluss")) -> bitte befüllen | G40: ja = Ok / nein = Ausschluss
A41: 1.3.14 | B41: M | C41: Die Beatmungsgeräte (ausgenommen Los 4 High-End-Transportbeatmungsgerät) verfügen über eine Netzwerkschnittstelle zur Übertragung eines Gerätefehler-Reports inklusive Logbuch bei potentieller Fehlfunktion. | D41: ja / nein | F41: =IF(E41="ja","OK",IF(E41="","bitte befüllen","Ausschluss")) -> bitte befüllen | G41: ja = Ok / nein = Ausschluss
A42: 1.3.16 | B42: I | C42: Nennung Betriebssystem (Microsoft, Linux u. a.) | D42: Freitext | F42: =IF(E42="","bitte befüllen","OK") -> bitte befüllen | G42: Informativ, keine Wertung
A43: 1.3.17 | B43: M | C43: Im Sinne der Resilienz-Steigerung für Einrichtungen des Gesundheitswesens sowie aktueller KRITIS-Anforderungen muss der Anbieter für sein Gerät einen unterbrechungsfreien Betrieb nachweisen. Dies beinhaltet eine Notfallkonzeptbeschreibung bei Ausfall der zentralen Strom- & Gasversorgung. Entsprechende Nachweise sind beizufügen. | D43: ja / nein | F43: =IF(E43="ja","OK",IF(E43="","bitte befüllen","Ausschluss")) -> bitte befüllen | G43: ja = Ok / nein = Ausschluss
A44: 1.4 | C44: Cybersecurity
A45: 1.4.1 | C45: Patchmanagment im Zusammenhang mit Medizinprodukten bezieht sich auf das Verwalten und Aktualisieren von Software-Patches, um die Sicherheit, Funktionalität und Konformität von medizinischen Geräten sicherzustellen. Dies ist besonders wichtig, da medizinische Geräte oft auf komplexe Software angewiesen sind, die kontinuierlich aktualisiert werden muss, um Schwachstellen zu schließen und die Patientensicherheit zu gewährleisten. Die nachstehenden Punkte sind hierfür einzuhalten.
A46: 1.4.1.1 | B46: M | C46: Sicherheitsrelevante Updates: Der Hersteller stellt während des definierten Produktlebenszyklus sicherheitsrelevante Patches zur Behebung bekannt gewordener Sicherheitslücken bereit. Sicherheitsrelevante Schwachstellen mit einem CVSS-Score ≥ 6,0 werden innerhalb von 30 Tagen nach Verfügbarkeit bzw. Bekanntwerden durch einen entsprechenden Patch oder eine gleichwertige sicherheitswirksame Maßnahme adressiert. | D46: ja / nein | F46: =IF(E46="ja","OK",IF(E46="","bitte befüllen","Ausschluss")) -> bitte befüllen | G46: ja = Ok / nein = Ausschluss
A47: 1.4.1.2 | B47: M | C47: Regulatorische Anforderungen: Medizinprodukte unterliegen strengen regulatorischen Vorschriften, wie beispielsweise der MDR (Medical Device Regulation) in der EU oder der FDA (Food and Drug Administration) in den USA. Diese Vorschriften legen fest, dass Software, die für medizinische Geräte verwendet wird, regelmäßig überprüft und aktualisiert werden muss, um die Sicherheit zu gewährleisten. | D47: ja / nein | F47: =IF(E47="ja","OK",IF(E47="","bitte befüllen","Ausschluss")) -> bitte befüllen | G47: ja = Ok / nein = Ausschluss
A48: 1.4.1.3 | B48: M | C48: Kompatibilität: Patches müssen sorgfältig implementiert werden, um sicherzustellen, dass sie die Funktionalität des Geräts nicht beeinträchtigen oder unerwartete Komplikationen verursachen. Daher ist ein gründliches Testen erforderlich, bevor Patches auf Geräten im Einsatz ausgerollt werden. | D48: ja / nein | F48: =IF(E48="ja","OK",IF(E48="","bitte befüllen","Ausschluss")) -> bitte befüllen | G48: ja = Ok / nein = Ausschluss
A49: 1.4.1.4 | B49: M | C49: Risikomanagement: Beim Patchmanagement für Medizinprodukte spielt das Risikomanagement eine zentrale Rolle. Die Implementierung von Patches muss sorgfältig geplant werden, um sicherzustellen, dass Risiken für den Patienten und das Gerät minimal sind. | D49: ja / nein | F49: =IF(E49="ja","OK",IF(E49="","bitte befüllen","Ausschluss")) -> bitte befüllen | G49: ja = Ok / nein = Ausschluss
A50: 1.4.1.5 | B50: M | C50: Dokumentation und Nachverfolgbarkeit: Alle Patches müssen vollständig dokumentiert werden, um den regulatorischen Anforderungen gerecht zu werden. Unternehmen müssen nachweisen können, dass sie alle notwendigen Schritte unternommen haben, um die Sicherheit ihrer Produkte zu gewährleisten. | D50: ja / nein | F50: =IF(E50="ja","OK",IF(E50="","bitte befüllen","Ausschluss")) -> bitte befüllen | G50: ja = Ok / nein = Ausschluss
A51: 1.4.2 | B51: M | C51: Das angebotene Gerät kann unter Einhaltung der Anforderungen der DSGVO betrieben und in die IT-Infrastruktur des Auftraggebers integriert werden. Die hierfür erforderlichen datenschutzrelevanten technischen Funktionen und Konfigurationsmöglichkeiten werden vom Hersteller bereitgestellt. Nachweis: Herstellererklärung bzw. geeignete Produktdokumentation ist dem Teilnahmeantrag beigefügt. | D51: ja / nein | F51: =IF(E51="ja","OK",IF(E51="","bitte befüllen","Ausschluss")) -> bitte befüllen | G51: ja = Ok / nein = Ausschluss
A52: 1.4.3 | B52: W | C52: Das mindestens 8-stellige Anwenderpasswort ist gemäß MDR-Regulatorik vom Auftraggeben individuell änderbar und nach Gültigkeit zeitlich limitierbar (bis zu 1 Jahre). | D52: ja / nein | F52: =IF(E52="ja",5,IF(E52="nein",0,"bitte befüllen")) -> bitte befüllen | G52: ja = 5 Punkte / nein = 0 Punkte | H52: 5
A53: 1.4.4 | B53: W | C53: Das mindestens 8-stellige Servicepasswort ist gemäß MDR-Regulatorik vom Auftraggeben individuell änderbar und nach Gültigkeit zeitlich limitierbar (bis zu 1 Jahre). | D53: ja / nein | F53: =IF(E53="ja",5,IF(E53="nein",0,"bitte befüllen")) -> bitte befüllen | G53: ja = 5 Punkte / nein = 0 Punkte | H53: 5
A54: 1.5 | C54: Beschreibung Datenmanagement / Schnittstellen
A55: 1.5.1 | B55: M | C55: Alle erforderlichen Hardwarekomponenten, Anbindungs- und Integrationsleistungen sowie die notwendigen Lizenzen für die Narkose- und Beatmungssysteme sind im Angebot enthalten. Der Auftragnehmer stellt im Rahmen seines Verantwortungsbereichs die für die netzwerkseitige Integration erforderlichen Informationen und Mitwirkungen zur Risikobewertung gemäß DIN EN 80001-1 zur Verfügung. | D55: ja / nein | F55: =IF(E55="ja","OK",IF(E55="","bitte befüllen","Ausschluss")) -> bitte befüllen | G55: ja = Ok / nein = Ausschluss
A56: 1.5.2 | B56: W | C56: Die HL7-Funktionalität für die KIS-Anbindung steht zur Verfügung | D56: ja / nein | F56: =IF(E56="ja",5,IF(E56="nein",0,"bitte befüllen")) -> bitte befüllen | G56: ja = 5 Punkte / nein = 0 Punkte | H56: 5
A57: 1.5.3 | B57: M | C57: Die Einbindung des angebotenen Medizinprodukts in die IT-Infrastruktur des Auftraggebers erfolgt in Abstimmung mit dem Hersteller und gemäß dessen technischen, sicherheitsrelevanten und regulatorischen Vorgaben. Anforderungen der Haus-IT werden berücksichtigt, sofern diese mit den Herstellervorgaben vereinbar sind. | D57: ja / nein | F57: =IF(E57="ja","OK",IF(E57="","bitte befüllen","Ausschluss")) -> bitte befüllen | G57: ja = Ok / nein = Ausschluss
A58: 1.5.4 | B58: W | C58: Möglichkeit einer serverbasierten Verteilung von Software per Kliniknetzwerk, um möglichst wirtschaftlich Softwareupgrade und - updates durchführen zu können. Eine Konzeptbeschreibung ist beizulegen. | D58: ja / nein | F58: =IF(E58="ja",5,IF(E58="nein",0,"bitte befüllen")) -> bitte befüllen | G58: ja = 5 Punkte / nein = 0 Punkte | H58: 5
A59: 1.6 | C59: Datenanalyse und digitale Webservices
A60: 1.6.1 | B60: W | C60: Auswertungen zu Leistungs- und Verbrauchsdaten des Gerätes können auf verschiedenen Endgeräten ortsunabhängig eingesehen und über standardisierte Berichtsformate (CSV) oder Schnittstellen (ODATA) weiter verarbeitet werden | D60: ja / nein | F60: =IF(E60="ja",5,IF(E60="nein",0,"bitte befüllen")) -> bitte befüllen | G60: ja = 5 Punkte / nein = 0 Punkte | H60: 5
A61: 1.6.2 | B61: W | C61: Die Zugriffsrechte für webbasierte Analysedaschboars können userspezifisch erteilt werden. | D61: ja / nein | F61: =IF(E61="ja",10,IF(E61="nein",0,"bitte befüllen")) -> bitte befüllen | G61: ja = 10 Punkte / nein = 0 Punkte | H61: 10
A62: 1.6.3 | B62: W | C62: Die zuvor genannten Funktionen können ohne die zusätzliche Installation von Softwarekomponenten am Gerät vollständig genutzt werden | D62: ja / nein | F62: =IF(E62="ja",1,IF(E62="nein",0,"bitte befüllen")) -> bitte befüllen | G62: ja = 1 Punkte / nein = 0 Punkte | H62: 1
A63: 1.6.4 | B63: W | C63: Es besteht die Möglichkeit auf interaktive Produkttrainer und Simulatoren zum angebotenen Produkt zurückzugreifen, die nach Registrierung frei zuzgänglich und per Webbrowser aufrufbar sind, sodass Sie dem Personal zur Gewinnung von Bediensicherheit zur Verfügung gestellt werden können. Eine Beschreibung des Konzeptes ist beizulegen. | D63: ja / nein | F63: =IF(E63="ja",1,IF(E63="nein",0,"bitte befüllen")) -> bitte befüllen | G63: ja = 1 Punkte / nein = 0 Punkte | H63: 1
A64: 1.6.5 | B64: W | C64: Der Anbieter unterstützt digitale Lernplattformen. Es besteht die Möglichkeit auf Online-Schulungen für das angebotene Gerät zurückzugreifen, inklusive Lern- & Erfolgskontrolle. Eine Beschreibung des Konzeptes ist beizulegen. | D64: ja / nein | F64: =IF(E64="ja",10,IF(E64="nein",0,"bitte befüllen")) -> bitte befüllen | G64: ja = 10 Punkte / nein = 0 Punkte | H64: 10
A65: 1.7 | C65: Probestellung, Lieferung, Aufstellung, Inbetriebnahme und Einweisung
A66: 1.7.1 | B66: M | C66: Im Zuge eines Miniwettbewerb wird eine Anwenderrezension gemacht, wenn die finale Konfiguration des Anwenders feststeht. | D66: ja / nein | F66: =IF(E66="ja","OK",IF(E66="","bitte befüllen","Ausschluss")) -> bitte befüllen | G66: ja = Ok / nein = Ausschluss
A67: 1.7.2 | B67: M | C67: Mit der Angebotsabgabe verpﬂichtet sich der Bieter zu einer Demonstration seines System beim Anwender während des Miniwettbewerbs. Bei der Demonstration wird die Anwenderrezenssion durchgeführt. Die Demonstration/Probestellung des Systems ist für den AG kostenneutral. | D67: ja / nein | F67: =IF(E67="ja","OK",IF(E67="","bitte befüllen","Ausschluss")) -> bitte befüllen | G67: ja = Ok / nein = Ausschluss
A68: 1.7.3 | B68: M | C68: Im Miniwettbewerb erfolgt eine Anwenderrezension der Narkose- und Beatmungssysteme für max. 1 Woche. Ist eine kostenneutrale Probestellung in der Klinik möglich. Bitte beachten Sie, dass Sie zur Probestellung gesondert aufgefordert werden. | D68: ja / nein | F68: =IF(E68="ja","OK",IF(E68="","bitte befüllen","Ausschluss")) -> bitte befüllen | G68: ja = Ok / nein = Ausschluss
A69: 1.7.4 | B69: M | C69: Der beigefügte Leihvertrag wird vollumfänglich und vorbehaltlos mit Abgabe des Teilnahmeantrags akzeptiert | D69: ja / nein | F69: =IF(E69="ja","OK",IF(E69="","bitte befüllen","Ausschluss")) -> bitte befüllen | G69: ja = Ok / nein = Ausschluss
A70: 1.8 | C70: Komponenten, Aufbereitung und empfohlende Desinfketionsmittel
A71: 1.8.1 | B71: M | C71: Reinigung und Desinfizierbarkeit ist in der Gebrauchsanweisung beschrieben und folgt der Empfehlung der Kommission für Krankenhaushygiene und Infektionsprävention beim Robert Koch-Institut (RKI) und des Bundesinstitutes für Arzneimittel und Medizinprodukte (BfArM) zu den "Anforderungen an die Hygiene bei der Aufbereitung von Medizinprodukten". Bitte führen Sie die zugelassenen Reinigungs- und Desinfektionsmittel auf. | D71: ja / nein | F71: =IF(E71="ja","OK",IF(E71="","bitte befüllen","Ausschluss")) -> bitte befüllen | G71: ja = Ok / nein = Ausschluss
A72: 1.8.2 | B72: I | C72: Kurzbeschreibung der Hygienereinigung von der Geräteoberflächen (sollten Sie eine Anlage beifügen, so verwiesen Sie im Freitext auf die Anlage) | D72: Freitext | F72: =IF(E72="","bitte befüllen","OK") -> bitte befüllen | G72: Informativ, keine Wertung
A73: 1.8.3 | C73: Mittel 1
A74: 1.8.3.1 | B74: I | C74: Bezeichnung | D74: Freitext | F74: =IF(E74="","bitte befüllen","OK") -> bitte befüllen | G74: Informativ, keine Wertung
A75: 1.8.3.2 | B75: I | C75: Produktgruppe | D75: Freitext | F75: =IF(E75="","bitte befüllen","OK") -> bitte befüllen | G75: Informativ, keine Wertung
A76: 1.8.3.3 | B76: I | C76: Konzentration | D76: Freitext | F76: =IF(E76="","bitte befüllen","OK") -> bitte befüllen | G76: Informativ, keine Wertung
A77: 1.8.3.4 | B77: I | C77: Einwirkzeit | D77: Freitext | F77: =IF(E77="","bitte befüllen","OK") -> bitte befüllen | G77: Informativ, keine Wertung
A78: 1.8.4 | C78: Mittel 2
A79: 1.8.4.1 | B79: I | C79: Bezeichnung | D79: Freitext | F79: =IF(E79="","bitte befüllen","OK") -> bitte befüllen | G79: Informativ, keine Wertung
A80: 1.8.4.2 | B80: I | C80: Produktgruppe | D80: Freitext | F80: =IF(E80="","bitte befüllen","OK") -> bitte befüllen | G80: Informativ, keine Wertung
A81: 1.8.4.3 | B81: I | C81: Konzentration | D81: Freitext | F81: =IF(E81="","bitte befüllen","OK") -> bitte befüllen | G81: Informativ, keine Wertung
A82: 1.8.4.4 | B82: I | C82: Einwirkzeit | D82: Freitext | F82: =IF(E82="","bitte befüllen","OK") -> bitte befüllen | G82: Informativ, keine Wertung
A83: 1.8.5 | C83: Mittel 3
A84: 1.8.5.1 | B84: I | C84: Bezeichnung | D84: Freitext | F84: =IF(E84="","bitte befüllen","OK") -> bitte befüllen | G84: Informativ, keine Wertung
A85: 1.8.5.2 | B85: I | C85: Produktgruppe | D85: Freitext | F85: =IF(E85="","bitte befüllen","OK") -> bitte befüllen | G85: Informativ, keine Wertung
A86: 1.8.5.3 | B86: I | C86: Konzentration | D86: Freitext | F86: =IF(E86="","bitte befüllen","OK") -> bitte befüllen | G86: Informativ, keine Wertung
A87: 1.8.5.4 | B87: I | C87: Einwirkzeit | D87: Freitext | F87: =IF(E87="","bitte befüllen","OK") -> bitte befüllen | G87: Informativ, keine Wertung
A88: 1.9 | C88: Service und Nebenleistungen
A89: 1.9.1 | B89: O | C89: Service- und Wartungsvertrag für die Systeme (nach Gewährleistungszeitraum) | D89: ja / nein | F89: =IF(E89="ja","OK",IF(E89="","bitte befüllen","Ausschluss")) -> bitte befüllen | G89: ja = Ok / nein = Ausschluss
A90: 1.9.2 | B90: M | C90: Ein Muster des Serivice- und Wartungsvertrag für das angebotene System ist mit abzugeben | D90: ja / nein | F90: =IF(E90="ja","OK",IF(E90="","bitte befüllen","Ausschluss")) -> bitte befüllen | G90: ja = Ok / nein = Ausschluss
A91: 1.9.3 | B91: M | C91: Der angebotene Serivice- und Wartungsvertrag kann nach Beendigung des Gewährleistungszeitraum zu den genannten Konditionen abgeschlossen werden. | D91: ja / nein | F91: =IF(E91="ja","OK",IF(E91="","bitte befüllen","Ausschluss")) -> bitte befüllen | G91: ja = Ok / nein = Ausschluss
A92: 1.9.4 | C92: Serviceleistungen innerhalb der Gewährleistungsfrist
A93: 1.9.4.1 | B93: M | C93: Mit Beauftragung der Lieferung der angebotenen Geräte und Systeme sind in der Gewährleistungsfrist alle Serviceleistungen gemäß nachstehender Ausführungsbeschreibung enthalten. | D93: ja / nein | F93: =IF(E93="ja","OK",IF(E93="","bitte befüllen","Ausschluss")) -> bitte befüllen | G93: ja = Ok / nein = Ausschluss
A94: 1.9.4.2 | B94: M | C94: Service- und Wartungsleistungen für die angebotenen Geräte und Systeme inkl. aller Hard- und Softwarekomponenten. Die Kosten für Service- bzw. Wartungsverträge während der Gewährleistungsfrist sind in den Gesamtkosten der angebotenen Geräte und Systeme enthalten. Beinhaltete Serviceleistungen der Wartung der System-, Hardware-, und Softwarekomponenten: - die vom Hersteller empfohlenen wiederkehrenden Prüfungen und Wartungen - die wiederkehrenden Prüfungen nach MPBetreibV - die erforderliche Arbeitszeit, Lohnkosten und Fahraufwendungen zur Durchführung der Leistungen - die erforderlichen Wartungsteile und Servicekits zur Durchführung der Wartung an den angebotenen Geräten und Systemen gemäß Herstellerangaben - die Akkumulatoren / Batterien, die gemäß Herstellerangaben zu wechseln sind oder als Verbrauchsteil fällig werden können (eine gesonderte Berechnung von zu wechselnden Akkumulatoren ist ausgeschlossen) - Instandsetzungsleistungen und alle hierfür benötigten Ersatzteile und Aufwände aufgrund von Geräteschäden - die Installation von Softwareupdates - die Bereitstellung der Dokumentation der durchgeführten Leistungen - die sämtlichen weiteren notwendigen Prüfungen | D94: ja / nein | F94: =IF(E94="ja","OK",IF(E94="","bitte befüllen","Ausschluss")) -> bitte befüllen | G94: ja = Ok / nein = Ausschluss
A95: 1.9.4.3 | B95: M | C95: Das Angebot hat für den Zeitraum nach der Inbetriebnahme innerhalb der gesetzlichen bzw. vereinbarten Gewährleistungszeit sämtliche für den ordnungsgemäßen Betrieb des angebotenen Systems erforderlichen Service- und Instandhaltungsleistungen pauschal zu beinhalten. Eine gesonderte Berechnung von Serviceleistungen, Arbeitszeit, Anfahrt, Diagnose, Wartung, Instandsetzung oder sonstigen Aufwänden ist innerhalb des Gewährleistungszeitraums ausgeschlossen. Von der Pauschale ausgenommen und gesondert berechnungsfähig sind ausschließlich: - Instandsetzungsleistungen, Ersatzteile und sonstige Aufwände, die nachweislich durch eine unsachgemäße Handhabung bzw. ein grob fahrlässiges oder vorsätzliches Verhalten des Auftraggebers verursacht wurden; - Miet- und Leihgeräte, ausgenommen Überbrückungs- bzw. Ersatzsysteme, die aufgrund eines vom Auftragnehmer zu vertretenden Lieferverzugs erforderlich werden. | D95: ja / nein | F95: =IF(E95="ja","OK",IF(E95="","bitte befüllen","Ausschluss")) -> bitte befüllen | G95: ja = Ok / nein = Ausschluss
A96: 1.9.5 | B96: W | C96: Die Servicestelle ist in Deutschland ansässig. Servicemitarbeiter müssen die deutsche Sprache beherrschen! | D96: ja / nein | F96: =IF(E96="ja",20,IF(E96="nein",0,"bitte befüllen")) -> bitte befüllen | G96: ja = 20 Punkte / nein = 0 Punkte | H96: 20
A97: 1.9.6 | B97: W | C97: Servicetechniker in den Zuständigkeitsbereich wie z. B. Berlin (150 km), Anzahl ≥ 3 | D97: ja / nein | F97: =IF(E97="ja",20,IF(E97="nein",0,"bitte befüllen")) -> bitte befüllen | G97: ja = 20 Punkte / nein = 0 Punkte | H97: 20
A98: 1.9.7 | B98: M | C98: Arbeitszeit Service: mind. werktags 8.00 – 17.00 Uhr | D98: ja / nein | F98: =IF(E98="ja","OK",IF(E98="","bitte befüllen","Ausschluss")) -> bitte befüllen | G98: ja = Ok / nein = Ausschluss
A99: 1.9.8 | B99: I | C99: Anzahl der Service-Niederlassungen in Deutschland | D99: Freitext | F99: =IF(E99="","bitte befüllen","OK") -> bitte befüllen | G99: Informativ, keine Wertung
A100: 1.9.9 | B100: W | C100: Servicetechniker in Deutschland, Anzahl ≥ 15 | D100: ja / nein | F100: =IF(E100="ja",20,IF(E100="nein",0,"bitte befüllen")) -> bitte befüllen | G100: ja = 20 Punkte / nein = 0 Punkte | H100: 20
A101: 1.9.10 | B101: W | C101: Besteht die Möglichkeit zur Weiterbildung von Technikern in einer firmeneigenen Institution? | D101: ja / nein | F101: =IF(E101="ja",20,IF(E101="nein",0,"bitte befüllen")) -> bitte befüllen | G101: ja = 20 Punkte / nein = 0 Punkte | H101: 20
A102: 1.9.11 | B102: M | C102: Arbeitszeit Service-Hotline: Erreichbarkeit einer Service Hotline mit Beratungsservice 24/7 an 365 Tagen im Jahr | D102: ja / nein | F102: =IF(E102="ja","OK",IF(E102="","bitte befüllen","Ausschluss")) -> bitte befüllen | G102: ja = Ok / nein = Ausschluss
...

Sheet Los 1 LV und LB
A1: Zurück zum Inhaltsverzeichnis
A2: Bestandteil des Teilnahmeantrag
A3: Teil II für Los 1 High-End-Intensivbeatmungsgeräte für Erwachsene mind. 15" Display
A4: Leistungsbeschreibung und -verzeichnis
A5: für | B5: =Inhaltsverzeichnis!B2 -> Rahmenvertrag über Lieferung, Aufstellung und Inbetriebnahme von Narkose- und Beatmungssystemen
A6: Vergabenummer | B6: =Inhaltsverzeichnis!B3 -> 2026_JDS_05
A8: Name des Bieter | C8: ='Anforderungen Los 1-3'!C8 -> 0
A10: Bitte füllen Sie nur die hellblauen Felder aus, ändern Sie weder Formeln, noch Reihenfolgen in der Matrix!
A11: Positionsnr. | B11: Typ | C11: Beschreibung | D11: Vorgaben / Fragen / Einheit | E11: bitte ausfüllen | F11: Auswertung | G11: Hinweis | H11: =SUM(H12:H172) -> 696
A12: 2.1 | C12: Allgemeines
A13: 2.1.1 | B13: M | C13: Ausgeschrieben sind Langzeitbeatmungsgeräte für den Betrieb auf der Intensivstation. Die Geräte beinhalten neben den Standardbeatmungsformen Beatmungsarten mit freier Durchatembarkeit und druckunterstützender Beatmung. Beatmungsverfahren, die die Entwöhnungszeit des Patienten vom Beatmungsgerät verkürzen, müssen Bestandteil des Gerätes sein. Es sollen Erwachsene, Kinder und optional Neonaten beatmet werden können. | D13: ja / nein | G13: ja = Ok / nein = Ausschluss
A14: 2.1.2 | B14: M | C14: Das fahrbare Intensivbeatmungsgerät muss auf der rechten und linken Geräteseite jeweils mit mindestens zwei seitlich angeordneten Normschiene mit einer Mindestlänge von 20 cm ausgestattet sein. | D14: ja / nein | F14: =IF(E14="ja","OK",IF(E14="","bitte befüllen","Ausschluss")) -> bitte befüllen | G14: ja = Ok / nein = Ausschluss
A15: 2.1.3 | B15: M | C15: Das Angebot muss alle Einrichtungen und Gerätebestandteile einschließlich Schlauchhaltearm sowie notwendigem Einweg- und Mehrwegzubehör enthalten, die zum bestimmungsgemäßen Gebrauch der Geräte erforderlich sind. | D15: ja / nein | F15: =IF(E15="ja","OK",IF(E15="","bitte befüllen","Ausschluss")) -> bitte befüllen | G15: ja = Ok / nein = Ausschluss
A16: 2.1.4 | B16: W | C16: Bewertet wird das Alter des angebotenen Intensivbeatmungsgerätes für Erwachsene, ausgehend vom Zeitpunkt der erstmaligen Markteinführung des konkret angebotenen Gerätemodells. Ein geeigneter Hersteller-Nachweis ist dem Teilnahmeantrag beizufügen. | D16: Angabe in Jahr "YYYY" | F16: =IF(E16="","bitte befüllen",IF(E16>=2020,20,0)) -> bitte befüllen | G16: vor 2020 = 0 Punkte / ab 2020 = 10 Punkte | H16: 10
A17: 2.1.5 | B17: W | C17: Bewertet wird die Aktualität der auf dem angebotenen Intensivbeatmungsgerät für Erwachsene eingesetzten Firmware. Maßgeblich ist der Zeitpunkt der letzten vom Hersteller freigegebenen Firmware-Version, die für das konkret angebotene Gerätemodell verfügbar ist. Ein geeigneter Hersteller-Nachweis ist dem Teilnahmeantrag beizufügen. | D17: Angabe in Jahr "YYYY" | F17: =IF(E17="","bitte befüllen",IF(E17>=2024,20,0)) -> bitte befüllen | G17: vor 2024 = 0 Punkte / ab 2024 = 20 Punkte | H17: 20
A18: 2.1.6 | B18: W | C18: Zum Zeitpunkt der Ausschreibung ermöglichen die angebotenen Geräte die Datenausgabe von Einstell-, Messwerten und Alarmen basierend auf dem SDC-Kommunikationsstandards IEEE 11073-20702-2016, IEEE 11073-10207-2017 und IEEE 11073-20701-2018. | D18: ja / nein | F18: =IF(E18="ja",20,IF(E18="nein",0,"bitte befüllen")) -> bitte befüllen | G18: ja = 20 Punkte / nein = 0 Punkte | H18: 20
A19: 2.2 | C19: Produktspezifikation
A20: 2.2.1 | B20: M | C20: Das angebotene System verfügt über ein farbiges Display mit einer Bildschirmdiagonale von mindestens 15 Zoll. | D20: ja / nein | F20: =IF(E20="ja","OK",IF(E20="","bitte befüllen","Ausschluss")) -> bitte befüllen | G20: ja = Ok / nein = Ausschluss
A21: 2.2.2 | B21: M | C21: Bedienung des Grafikdisplays über Touchscreen-Technologie | D21: ja / nein | F21: =IF(E21="ja","OK",IF(E21="","bitte befüllen","Ausschluss")) -> bitte befüllen | G21: ja = Ok / nein = Ausschluss
A22: 2.2.3 | B22: M | C22: Kurven der Beatmungsparameter sind vollausgefüllt und nicht als Linie dargestellt | D22: ja / nein | F22: =IF(E22="ja","OK",IF(E22="","bitte befüllen","Ausschluss")) -> bitte befüllen | G22: ja = Ok / nein = Ausschluss
A23: 2.2.4 | B23: M | C23: Gleichzeitige Darstellung folgender Kurven: Atemwegsdruck, Atemgasflow, CO2 und berechneter Trachealdruck | D23: ja / nein | F23: =IF(E23="ja","OK",IF(E23="","bitte befüllen","Ausschluss")) -> bitte befüllen | G23: ja = Ok / nein = Ausschluss
A24: 2.2.5 | B24: M | C24: Simultane Darstellung von mindestens drei Beatmungskurven in Echtzeit und drei Shorttrends in einer Ansicht | D24: ja / nein | F24: =IF(E24="ja","OK",IF(E24="","bitte befüllen","Ausschluss")) -> bitte befüllen | G24: ja = Ok / nein = Ausschluss
A25: 2.2.6 | B25: M | C25: Darstellung von folgenden Loops: Paw – V, Flow – Paw, V – Flow, Ptrach – V, Flow – Ptrach | D25: ja / nein | F25: =IF(E25="ja","OK",IF(E25="","bitte befüllen","Ausschluss")) -> bitte befüllen | G25: ja = Ok / nein = Ausschluss
A26: 2.2.7 | B26: M | C26: Speicherung von Referenzloops und deren Anzeige ohne zeitliche Begrenzung | D26: ja / nein | F26: =IF(E26="ja","OK",IF(E26="","bitte befüllen","Ausschluss")) -> bitte befüllen | G26: ja = Ok / nein = Ausschluss
A27: 2.2.8 | B27: M | C27: Trendauflösung und Trenddarstellung zwischen 1, 2, 4, 8, 12 und 24 Stunden und 3 Tage rückwirkend wählbar | D27: ja / nein | F27: =IF(E27="ja","OK",IF(E27="","bitte befüllen","Ausschluss")) -> bitte befüllen | G27: ja = Ok / nein = Ausschluss
A28: 2.2.9 | B28: M | C28: Durch den Anwender einfach konfigurierbare, anwenderspezifische Datentabelle zusammenstellbar | D28: ja / nein | F28: =IF(E28="ja","OK",IF(E28="","bitte befüllen","Ausschluss")) -> bitte befüllen | G28: ja = Ok / nein = Ausschluss
A29: 2.2.10 | B29: W | C29: Bildschirm mit automatischer Tag- Nachtschaltung und automatischer Dimmfunktion | D29: ja / nein | F29: =IF(E29="ja",20,IF(E29="nein",0,"bitte befüllen")) -> bitte befüllen | G29: ja = 20 Punkte / nein = 0 Punkte | H29: 20
A30: 2.2.11 | B30: W | C30: Freie passwortunabhängige Konfiguration während der Beatmung von mindestens 6 Softkeys auf der Hauptseite für häufig genutzte Funktionen | D30: ja / nein | F30: =IF(E30="ja",10,IF(E30="nein",0,"bitte befüllen")) -> bitte befüllen | G30: ja = 10 Punkte / nein = 0 Punkte | H30: 10
A31: 2.2.12 | B31: M | C31: Übersichtstabelle der Messwerte frei konfigurierbar | D31: ja / nein | F31: =IF(E31="ja","OK",IF(E31="","bitte befüllen","Ausschluss")) -> bitte befüllen | G31: ja = Ok / nein = Ausschluss
A32: 2.2.13 | B32: M | C32: Logbucheinträge bis zu 7 Tage speicherbar exportierbar über USB-Port | D32: ja / nein | F32: =IF(E32="ja","OK",IF(E32="","bitte befüllen","Ausschluss")) -> bitte befüllen | G32: ja = Ok / nein = Ausschluss
A33: 2.2.14 | B33: W | C33: Option: Logbucheinträge sind von Anwendern über das Krankenhaus-IT-Netzwerk abrufbar und exportierbar (optionale Funktionalität separat beschreiben). | D33: ja / nein | F33: =IF(E33="ja",20,IF(E33="nein",0,"bitte befüllen")) -> bitte befüllen | G33: ja = 20 Punkte / nein = 0 Punkte | H33: 20
A34: 2.2.15 | B34: M | C34: Einstellungsvorgabe/-vorschlag des VTs über die Eingabe der Körpergröße oder über die Eingabe des idealen Körpergewichts | D34: ja / nein | F34: =IF(E34="ja","OK",IF(E34="","bitte befüllen","Ausschluss")) -> bitte befüllen | G34: ja = Ok / nein = Ausschluss
A35: 2.2.16 | B35: M | C35: O2-Gasmessung mit verbrauchfreier O2-Sensorik | D35: ja / nein | F35: =IF(E35="ja","OK",IF(E35="","bitte befüllen","Ausschluss")) -> bitte befüllen | G35: ja = Ok / nein = Ausschluss
A36: 2.2.17 | B36: M | C36: Getrennt wählbare Patientenbereiche für Erwachsene / Pädiatrie / Neonatologie | D36: ja / nein | F36: =IF(E36="ja","OK",IF(E36="","bitte befüllen","Ausschluss")) -> bitte befüllen | G36: ja = Ok / nein = Ausschluss
A37: 2.2.18 | B37: I | C37: Gasentnahme O₂ und AIR erfolgt aus zentraler Wandversorgung mittels ZV-Schläuche | D37: ja / nein | F37: =IF(E37="ja","OK",IF(E37="","bitte befüllen","Ausschluss")) -> bitte befüllen | G37: ja / nein
A38: 2.2.19 | B38: I | C38: Gasentnahme O₂ aus zentraler Wandversorgung (ZV) mittels ZV-Schlauch und AIR über Turbine | D38: ja / nein | F38: =IF(E38="ja",10,IF(E38="nein",0,"bitte befüllen")) -> bitte befüllen | G38: ja / nein
A39: 2.2.20 | B39: I | C39: Das Beatmungsgerät ist uneingeschränkt geeignet zum Einsatz an Patienten bis zu einem max. Körpergewicht | D39: Angabe in "kg" | F39: =IF(E39="ja",10,IF(E39="nein",0,"bitte befüllen")) -> bitte befüllen | G39: Informativ, keine Wertung
A40: 2.2.21 | B40: M | C40: Das Beatmungsgerät ist uneingeschränkt geeignet zum Einsatz an Patienten mit einem Körpergewicht bis 400g. | D40: ja / nein | F40: =IF(E40="ja","OK",IF(E40="","bitte befüllen","Ausschluss")) -> bitte befüllen | G40: ja = Ok / nein = Ausschluss
A41: 2.2.22 | B41: M | C41: Automatische Einstellung der Startwerte der Beatmungsparameter nach Eingabe der Körpergröße und Berechnung des Idealen Körpergewichts oder Patientenbereich | D41: ja / nein | F41: =IF(E41="ja","OK",IF(E41="","bitte befüllen","Ausschluss")) -> bitte befüllen | G41: ja = Ok / nein = Ausschluss
A42: 2.2.23 | B42: W | C42: Die Geräuschemission gemäß ISO80601-2-12:2011 liegt unter 44dB (ohne zusätzliches Turbinenmodul) | D42: ja / nein | F42: =IF(E42="ja",1,IF(E42="nein",0,"bitte befüllen")) -> bitte befüllen | G42: ja = 1 Punkte / nein = 0 Punkte | H42: 1
A43: 2.2.24 | B43: W | C43: Das Fahrgestell des Beatmungsgeräts verfügt über eine ausziehbare und höhenverstellbare Bettankopplung, um eine mechanische Verbindung zum Bett herzustellen. Eine Beschreibung ist beizulegen. | D43: ja / nein | F43: =IF(E43="ja",5,IF(E43="nein",0,"bitte befüllen")) -> bitte befüllen | G43: ja = 5 Punkte / nein = 0 Punkte | H43: 5
A44: 2.2.25 | B44: W | C44: Opton: Die Gesamthöhe des Fahrgestells des angebotenen Beatmungsgerätes ist individuell an die jeweiligen Einsatzbedingungen anpassbar. Bewertet wird die Möglichkeit der Höhenverstellung des Fahrgestells. Der Bieter hat die Art und den Umfang der Höhenverstellung zu beschreiben anzugeben. | D44: ja / nein | F44: =IF(E44="ja",5,IF(E44="nein",0,"bitte befüllen")) -> bitte befüllen | G44: ja = 5 Punkte / nein = 0 Punkte | H44: 5
A45: 2.2.26 | B45: W | C45: Option: Das Fahrgestell verfügt über einen umlaufenden Handgriff aus Metall der auch als Rangierschutz dient. | D45: ja / nein | F45: =IF(E45="ja",10,IF(E45="nein",0,"bitte befüllen")) -> bitte befüllen | G45: ja = 10 Punkte / nein = 0 Punkte | H45: 10
A46: 2.2.27 | B46: W | C46: Das Fahrgestell verfügt über ein 38mm-Rundrohr zur Aufnahme von Spritzenpumpen oder mobilen Patientenmonitoren | D46: ja / nein | F46: =IF(E46="ja",10,IF(E46="nein",0,"bitte befüllen")) -> bitte befüllen | G46: ja = 10 Punkte / nein = 0 Punkte | H46: 10
A47: 2.2.28 | B47: W | C47: Das Fahrgestell verfügt über mind. zwei schwenkbare Normschienen mit jeweils einer Mindestlänge von 15cm. | D47: ja / nein | F47: =IF(E47="ja",10,IF(E47="nein",0,"bitte befüllen")) -> bitte befüllen | G47: ja = 10 Punkte / nein = 0 Punkte | H47: 10
A48: 2.2.29 | B48: W | C48: Das Fahrgestell verfügt über mind. zwei feste Normschienen zur Aufnahme einer separaten Bronchusabsaugung sowie Absaugzubehör. | D48: ja / nein | F48: =IF(E48="ja",10,IF(E48="nein",0,"bitte befüllen")) -> bitte befüllen | G48: ja = 10 Punkte / nein = 0 Punkte | H48: 10
A49: 2.3 | C49: Bedienkonzept, Gerätecheck und Handhabung
A50: 2.3.1 | B50: M | C50: Das Beatmungsgerät muss einen automatisierten Gerätecheck ermöglichen. Der Ablauf und das Ergebnis des Gerätechecks müssen über das Display angezeigt werden. Abweichungen bzw. erkannte Fehler sind dem Bediener eindeutig anzuzeigen. | D50: ja / nein | F50: =IF(E50="ja","OK",IF(E50="","bitte befüllen","Ausschluss")) -> bitte befüllen | G50: ja = Ok / nein = Ausschluss
A51: 2.3.2 | B51: M | C51: Das Beatmungsgerät muss die Dichtigkeit des angeschlossenen Schlauchsystems überwachen und eine während des Betriebs erkannte Leckage auf dem Display eindeutig anzeigen bzw. den Bediener entsprechend warnen. | D51: ja / nein | F51: =IF(E51="ja","OK",IF(E51="","bitte befüllen","Ausschluss")) -> bitte befüllen | G51: ja = Ok / nein = Ausschluss
A52: 2.3.3 | B52: M | C52: Das Beatmungsgerät muss im Rahmen des Gerätechecks die ordnungsgemäße Funktion der für die Gasversorgung relevanten Komponenten überprüfen. Bei Geräten mit Umschaltventilen für die zentrale Versorgung mit Air und O₂ muss die Funktionsprüfung der Umschaltventile bei angeschlossenen Zentralgasversorgungsschläuchen erfolgen. Bei Geräten mit Turbinenantrieb bzw. einer technisch abweichenden Gasversorgung ist eine separate Prüfung von Umschaltventilen nicht erforderlich, sofern durch die interne Geräteprüfung eine gleichwertige Überprüfung der für die sichere Gasversorgung relevanten Funktionen erfolgt. | D52: ja / nein | F52: =IF(E52="ja","OK",IF(E52="","bitte befüllen","Ausschluss")) -> bitte befüllen | G52: ja = Ok / nein = Ausschluss
A53: 2.3.4 | B53: M | C53: Integrierte kontextbezogene Hilfefunktionen über Bildschirmtext | D53: ja / nein | F53: =IF(E53="ja","OK",IF(E53="","bitte befüllen","Ausschluss")) -> bitte befüllen | G53: ja = Ok / nein = Ausschluss
A54: 2.3.5 | B54: W | C54: Gerätebedienung über Touchscreen und zentralen haptischen Druckdrehknopf möglich | D54: ja / nein | F54: =IF(E54="ja",20,IF(E54="nein",0,"bitte befüllen")) -> bitte befüllen | G54: ja = 20 Punkte / nein = 0 Punkte | H54: 20
A55: 2.3.6 | B55: W | C55: Zentraler Drehknof mit farblich leuchtender Umrandung, zweifarbig je nach Status der haptischen Bestätigung | D55: ja / nein | F55: =IF(E55="ja",20,IF(E55="nein",0,"bitte befüllen")) -> bitte befüllen | G55: ja = 20 Punkte / nein = 0 Punkte | H55: 20
A56: 2.3.7 | B56: W | C56: Durch längeres Drücken des haptischen Drehknopfes besteht die Möglichkeit der direkten Live-Einstellbarkeit von Beatmungsdrücken | D56: ja / nein | F56: =IF(E56="ja",20,IF(E56="nein",0,"bitte befüllen")) -> bitte befüllen | G56: ja = 20 Punkte / nein = 0 Punkte | H56: 20
A57: 2.3.8 | B57: M | C57: Einstellvorgaben über die Körpergröße des Patienten oder über das Körpergewicht | D57: ja / nein | F57: =IF(E57="ja","OK",IF(E57="","bitte befüllen","Ausschluss")) -> bitte befüllen | G57: ja = Ok / nein = Ausschluss
A58: 2.3.9 | B58: W | C58: Das Inspirationsventil muss im Rahmen der vorgesehenen Wartungs- und Instandhaltungsarbeiten ohne Einsatz von Werkzeug durch eine Person austauschbar bzw. wartungsfrei ausgeführt sein. Bei Geräten, bei denen das Inspirationsventil ein fest integrierter Bestandteil des Gerätes ist und nicht als separates Bauteil ausgetauscht wird, gilt das Kriterium als erfüllt, sofern gemäß Herstellervorgaben kein separater Austausch des Inspirationsventils erforderlich ist. Nachweis ist dem Teilnahmeantrag beigefügt. | D58: ja / nein | F58: =IF(E58="ja",20,IF(E58="nein",0,"bitte befüllen")) -> bitte befüllen | G58: ja = 20 Punkte / nein = 0 Punkte | H58: 20
A59: 2.3.10 | B59: W | C59: Es sind mind. 5 verschiedene abteilungs-/benutzerindividuelle Bildschirmansichten konfigurierbar und speicherbar. | D59: ja / nein | F59: =IF(E59="ja",1,IF(E59="nein",0,"bitte befüllen")) -> bitte befüllen | G59: ja = 1 Punkte / nein = 0 Punkte | H59: 1
A60: 2.3.11 | B60: M | C60: Die Bildschirmansichten sind wahlweise gegen nichtautorisiertes Verstellen geschützt. | D60: ja / nein | F60: =IF(E60="ja","OK",IF(E60="","bitte befüllen","Ausschluss")) -> bitte befüllen | G60: ja = Ok / nein = Ausschluss
A61: 2.3.12 | B61: W | C61: Der Austausch des Exspirationssystems muss ohne Werkzeug durch eine Person erfolgen. | D61: ja / nein | F61: =IF(E61="ja",20,IF(E61="nein",0,"bitte befüllen")) -> bitte befüllen | G61: ja = 20 Punkte / nein = 0 Punkte | H61: 20
A62: 2.3.13 | B62: W | C62: Das patientengasführende Exspirationsteil muss als Einweg- und Mehrwegmaterial zur Verfügung stehen. Ein Nachweis ist beizulegen. Mehrwegmaterialien sind nicht als Einwegmaterial zulässig. | D62: ja / nein | F62: =IF(E62="ja",10,IF(E62="nein",0,"bitte befüllen")) -> bitte befüllen | G62: ja = 10 Punkte / nein = 0 Punkte | H62: 10
A63: 2.3.14 | B63: M | C63: Automatische unterbrechungsfreie Gasumschaltung bei Ausfall eines Gases und Notbetrieb des Gerätes mit reinem O2 oder AIR. | D63: ja / nein | F63: =IF(E63="ja","OK",IF(E63="","bitte befüllen","Ausschluss")) -> bitte befüllen | G63: ja = Ok / nein = Ausschluss
A64: 2.3.15 | B64: M | C64: Das Gerät verfügt im Vollbetrieb über eine integrierte unterbrechungsfreie Spannungsversorgung (Batteriebetrieb) bei Netzausfall von mindestens 30 Minuten | D64: ja / nein | F64: =IF(E64="ja","OK",IF(E64="","bitte befüllen","Ausschluss")) -> bitte befüllen | G64: ja = Ok / nein = Ausschluss
A65: 2.3.16 | B65: W | C65: Eine Anzeige des aktuellen Akkuladezustandes sowie verbleibender Restakkulaufzeit in Minuten des Beatmungsgerätes ist in der Hauptansicht sichtbar. | D65: ja / nein | F65: =IF(E65="ja",10,IF(E65="nein",0,"bitte befüllen")) -> bitte befüllen | G65: ja = 10 Punkte / nein = 0 Punkte | H65: 10
A66: 2.3.17 | B66: W | C66: Ein Akkutest und die exakte Kapazitätsmessung der Akkuleistung ist durch den Anwender unabhängig vom Systemtest / Gerätecheck durchführbar. | D66: ja / nein | F66: =IF(E66="ja",10,IF(E66="nein",0,"bitte befüllen")) -> bitte befüllen | G66: ja = 10 Punkte / nein = 0 Punkte | H66: 10
A67: 2.3.18 | B67: W | C67: Der Betrieb des Gerätes muss ohne gerätenahe und patientennahe Filter möglich und zulässig sein. | D67: ja / nein | F67: =IF(E67="ja",1,IF(E67="nein",0,"bitte befüllen")) -> bitte befüllen | G67: ja = 1 Punkte / nein = 0 Punkte | H67: 1
A68: 2.3.19 | B68: M | C68: Eine automatische Kompensation der Leckage ist wahlweise zuschaltbar. | D68: ja / nein | F68: =IF(E68="ja","OK",IF(E68="","bitte befüllen","Ausschluss")) -> bitte befüllen | G68: ja = Ok / nein = Ausschluss
A69: 2.3.20 | B69: M | C69: Das Gerät verfügt über die Möglichkeit der gleichzeitigen Kopplung/Verstellung der Parameter Ti und AF (um I:E-Verhältnis gleich zubehalten) sowie PEEP und Pinsp (um Driving-Pressure konstant zubehalten). | D69: ja / nein | F69: =IF(E69="ja","OK",IF(E69="","bitte befüllen","Ausschluss")) -> bitte befüllen | G69: ja = Ok / nein = Ausschluss
A70: 2.3.21 | B70: W | C70: Automatische Umschaltung von Bildschirmdarstellung und Alarmlautstärke von Tag auf Nacht ist zeitlich programmierbar | D70: ja / nein | F70: =IF(E70="ja",20,IF(E70="nein",0,"bitte befüllen")) -> bitte befüllen | G70: ja = 20 Punkte / nein = 0 Punkte | H70: 20
A71: 2.3.22 | B71: W | C71: Der Flowsensor / die Flowmessung kalibriert sich stündlich vollautomatisch. | D71: ja / nein | F71: =IF(E71="ja",5,IF(E71="nein",0,"bitte befüllen")) -> bitte befüllen | G71: ja = 5 Punkte / nein = 0 Punkte | H71: 5
A72: 2.3.23 | B72: M | C72: Die Kalibration des Flowsensors muss ohne Diskonnektion, PEEP-Verlust und ohne Manipulation des Patientenschlauchsystems erfolgen. | D72: ja / nein | F72: =IF(E72="ja","OK",IF(E72="","bitte befüllen","Ausschluss")) -> bitte befüllen | G72: ja = Ok / nein = Ausschluss
A73: 2.3.24 | B73: W | C73: Bei Ausfall des Hauptmonitors ist das aktuelle Minutenvolumen (MVe) und die gemessene Sauerstoffkonzentration FiO2 ist für den Anwender am Beatmungsgerät jederzeit sichtbar. | D73: ja / nein | F73: =IF(E73="ja",20,IF(E73="nein",0,"bitte befüllen")) -> bitte befüllen | G73: ja = 20 Punkte / nein = 0 Punkte | H73: 20
A74: 2.3.25 | B74: W | C74: Das Gerät verfügt über ein LED-Sicherheitsdisplay, welches kontinuierlich das aktuelle Minutenvolumen (MVe) und die gemessene Sauerstoffkonzentration (FiO2) darstellt. | D74: ja / nein | F74: =IF(E74="ja",20,IF(E74="nein",0,"bitte befüllen")) -> bitte befüllen | G74: ja = 20 Punkte / nein = 0 Punkte | H74: 20
A75: 2.4 | C75: Volumenkontrollierte Beatmungsverfahren (Nomenklatur gemäß ISO 19223:2021)
A76: 2.4.1 | B76: M | C76: CMV-VC oder ähnlich | D76: ja / nein | F76: =IF(E76="ja","OK",IF(E76="","bitte befüllen","Ausschluss")) -> bitte befüllen | G76: ja = Ok / nein = Ausschluss
A77: 2.4.2 | B77: M | C77: SIMV-VC\PS oder ähnlich | D77: ja / nein | F77: =IF(E77="ja","OK",IF(E77="","bitte befüllen","Ausschluss")) -> bitte befüllen | G77: ja = Ok / nein = Ausschluss
A78: 2.4.3 | B78: W | C78: A/C-VC oder ähnlich | D78: ja / nein | F78: =IF(E78="ja",1,IF(E78="nein",0,"bitte befüllen")) -> bitte befüllen | G78: ja = 1 Punkte / nein = 0 Punkte | H78: 1
A79: 2.5 | C79: Druckkontrollierte Beatmungsverfahren
A80: 2.5.1 | B80: M | C80: CMV-PC oder ähnlich | D80: ja / nein | F80: =IF(E80="ja","OK",IF(E80="","bitte befüllen","Ausschluss")) -> bitte befüllen | G80: ja = Ok / nein = Ausschluss
A81: 2.5.2 | B81: M | C81: SIMV-PC/PS oder ähnlich | D81: ja / nein | F81: =IF(E81="ja","OK",IF(E81="","bitte befüllen","Ausschluss")) -> bitte befüllen | G81: ja = Ok / nein = Ausschluss
A82: 2.5.3 | B82: O | C82: MMV-vtPC/PS oder ähnlich | D82: ja / nein | F82: =IF(E82="ja","OK",IF(E82="","bitte befüllen","Ausschluss")) -> bitte befüllen | G82: ja = Ok / nein = Ausschluss
A83: 2.5.4 | B83: W | C83: A/C-PC oder ähnlich | D83: ja / nein | F83: =IF(E83="ja",1,IF(E83="nein",0,"bitte befüllen")) -> bitte befüllen | G83: ja = 1 Punkte / nein = 0 Punkte | H83: 1
A84: 2.5.5 | B84: O | C84: Druckkontrollierte Beatmung (IMV-PC – mit „freier Durchatembarkeit“) oder ähnlich | D84: ja / nein | F84: =IF(E84="ja","OK",IF(E84="","bitte befüllen","Ausschluss")) -> bitte befüllen | G84: ja = Ok / nein = Ausschluss
A85: 2.6 | C85: Spontanatmungs-Beatmungsverfahren
A86: 2.6.1 | B86: M | C86: CSV-PS oder ähnlich | D86: ja / nein | F86: =IF(E86="ja","OK",IF(E86="","bitte befüllen","Ausschluss")) -> bitte befüllen | G86: ja = Ok / nein = Ausschluss
A87: 2.6.2 | B87: M | C87: Druckunterstützung (PS) mit einstellbarem Flowtrigger | D87: ja / nein | F87: =IF(E87="ja","OK",IF(E87="","bitte befüllen","Ausschluss")) -> bitte befüllen | G87: ja = Ok / nein = Ausschluss
A88: 2.6.3 | B88: W | C88: Druckunterstützung (PS) in der druckkontrollierten, synchronisierten, intermittierend mandatorischen Beatmung und in der druckkontrollierten, intermittierend mandatorischen, synchronisierten Beatmung auf zwei Druckniveaus mit permanenter freier Spontanatmung und exspiratorischer Synchronisierung darf nur auf PEEP Niveau ausgelöst werden. | D88: ja / nein | F88: =IF(E88="ja",1,IF(E88="nein",0,"bitte befüllen")) -> bitte befüllen | G88: ja = 1 Punkte / nein = 0 Punkte | H88: 1
A89: 2.6.4 | B89: O | C89: CSV-ES Spontanatmung mit proportionaler Druckunterstüzung oder ähnlich | D89: ja / nein | F89: =IF(E89="ja","OK",IF(E89="","bitte befüllen","Ausschluss")) -> bitte befüllen | G89: ja = Ok / nein = Ausschluss
A90: 2.6.5 | B90: W | C90: Option: Druckbegrenzte, zufällige Variation der Druckunterstützung (atemzugsweise unterschiedlich hohe Druckunterstützungsniveaus) im Beatmungsmodus CSV-PS. Die Höhe der Variation kann jederzeit verändert werden. | D90: ja / nein | F90: =IF(E90="ja",20,IF(E90="nein",0,"bitte befüllen")) -> bitte befüllen | G90: ja = 20 Punkte / nein = 0 Punkte | H90: 20
A91: 2.7 | C91: Zusätzlich zuschaltbare Beatmungsverfahren
A92: 2.7.1 | B92: W | C92: Volumengarantie-Funktion zur Einstellung eines Zieltidalvolumens in druckkontrollierter Beatmung optional zuschaltbar. | D92: ja / nein | F92: =IF(E92="ja",1,IF(E92="nein",0,"bitte befüllen")) -> bitte befüllen | G92: ja = 1 Punkte / nein = 0 Punkte | H92: 1
A93: 2.7.2 | B93: W | C93: Seufzerfunktion mit einstellbarer Dauer der Seufzerphase, der Zeit zwischen den Seufzerphasen und dem intermittierenden PEEP. Die Funktion kann in allen Beatmungsmodi mit mandatorischen Hüben, außer bei IMV-PC-Beatmung eingeschaltet werden | D93: ja / nein | F93: =IF(E93="ja",1,IF(E93="nein",0,"bitte befüllen")) -> bitte befüllen | G93: ja = 1 Punkte / nein = 0 Punkte | H93: 1
A94: 2.7.3 | B94: W | C94: Automatische Tubuskompensation kann in allen invasiven Beatmungsmodi zugeschaltet werden. | D94: ja / nein | F94: =IF(E94="ja",10,IF(E94="nein",0,"bitte befüllen")) -> bitte befüllen | G94: ja = 10 Punkte / nein = 0 Punkte | H94: 10
A95: 2.7.4 | B95: W | C95: Separat zuschaltbare Kompensation des Tubuswiderstandes in der Inspirationsphase (Automatische Tubuskompensation) | D95: ja / nein | F95: =IF(E95="ja",1,IF(E95="nein",0,"bitte befüllen")) -> bitte befüllen | G95: ja = 1 Punkte / nein = 0 Punkte | H95: 1
A96: 2.7.5 | B96: W | C96: Separat zuschaltbare Kompensation des Tubuswiderstandes in der In- sowie in der Exspirationsphase (Automatische Tubuskompensation) | D96: ja / nein | F96: =IF(E96="ja",1,IF(E96="nein",0,"bitte befüllen")) -> bitte befüllen | G96: ja = 1 Punkte / nein = 0 Punkte | H96: 1
A97: 2.7.6 | B97: W | C97: Separat zuschaltbare Kompensation des Tubuswiderstandes nur in den Spontanatemphasen. | D97: ja / nein | F97: =IF(E97="ja",1,IF(E97="nein",0,"bitte befüllen")) -> bitte befüllen | G97: ja = 1 Punkte / nein = 0 Punkte | H97: 1
A98: 2.7.7 | B98: W | C98: Berechnung und Anzeige des Trachealdrucks durch Eingabe der Tubusart und des Tubusdurchmessers unabhängig von der Nutzung der Funktion automatische Tubuskompensation | D98: ja / nein | F98: =IF(E98="ja",5,IF(E98="nein",0,"bitte befüllen")) -> bitte befüllen | G98: ja = 5 Punkte / nein = 0 Punkte | H98: 5
A99: 2.7.8 | B99: M | C99: Apnoeventilation mit freier Durchatembarkeit und einstellbarer bzw. aus der aktiven Spontanatmungsform automatisch übernommener Druckanstiegsgeschwindigkeit. | D99: ja / nein | F99: =IF(E99="ja","OK",IF(E99="","bitte befüllen","Ausschluss")) -> bitte befüllen | G99: ja = Ok / nein = Ausschluss
A100: 2.7.9 | B100: M | C100: Automatische Rückkehr aus der Apnoeventilation in die Spontanatmung auf den vorherigen Beatmungsmodus. | D100: ja / nein | F100: =IF(E100="ja","OK",IF(E100="","bitte befüllen","Ausschluss")) -> bitte befüllen | G100: ja = Ok / nein = Ausschluss
A101: 2.7.10 | B101: W | C101: Option: Druckunterstützte Beatmung mit garantierter Mindestfrequenz (Backup-Frequenz) für die Patientenkategorie Erwachsene und Pädiatrie sowie für Neonaten | D101: ja / nein | F101: =IF(E101="ja",10,IF(E101="nein",0,"bitte befüllen")) -> bitte befüllen | G101: ja = 10 Punkte / nein = 0 Punkte | H101: 10
A102: 2.7.11 | B102: M | C102: O2-Flowtherapie mit mindestens Flow 60 L/min | D102: ja / nein | F102: =IF(E102="ja","OK",IF(E102="","bitte befüllen","Ausschluss")) -> bitte befüllen | G102: ja = Ok / nein = Ausschluss
...

Sheet Los 1 techn. Daten
A1: Zurück zum Inhaltsverzeichnis
A2: Bestandteil des Teilnahmeantrag
A3: Teil II für Los 1 High-End-Intensivbeatmung für Erwachsene mind. 15" Display
A4: Technische Daten
A5: für | B5: =Inhaltsverzeichnis!B2 -> Rahmenvertrag über Lieferung, Aufstellung und Inbetriebnahme von Narkose- und Beatmungssystemen
A6: Vergabenummer | B6: =Inhaltsverzeichnis!B3 -> 2026_JDS_05
A8: Name des Bieter | B8: ='Anforderungen Los 1-3'!C8 -> 0
A10: Bitte füllen Sie nur die hellblauen Felder aus, ändern Sie weder Formeln, noch Reihenfolgen in der Matrix!
A11: Positionsnr. | B11: Beschreibung | C11: Vorgaben / Fragen / Einheit | D11: Wert (bitte ausfüllen) | E11: Wert (bitte ausfüllen)
A12: 2.20 | B12: Allgemeines
A13: 2.20.1 | B13: Fabrikat
A14: 2.20.2 | B14: Typ / Artikel.Nr.
A15: 2.21 | B15: Betriebskennwerte | C15: Einheit | D15: von | E15: bis
A16: 2.21.1 | B16: Betriebsspannung | C16: V
A17: 2.21.2 | B17: Betriebsspannung | C17: Hz
A18: 2.21.3 | B18: Leistungsaufnahme | C18: W
A19: 2.21.4 | B19: Schutzklasse
A20: 2.21.5 | B20: Klassifizierung
A21: 2.22 | B21: Technische Daten | D21: von | E21: bis
A22: 2.22.1 | B22: Beatmungsfrequenz einstellbar | C22: 1/min
A23: 2.22.2 | B23: Inspirationszeit Tinsp einstellbar | C23: s
A24: 2.22.3 | B24: Atemzugvolumen einstellbar | C24: L
A25: 2.22.4 | B25: Insp. Flow einstellbar | C25: L/min
A26: 2.22.5 | B26: Insp. Druck Pinsp einstellbar | C26: mbar
A27: 2.22.6 | B27: Insp. Drucklimitierung Pmax einstellbar | C27: mbar
A28: 2.22.7 | B28: O2 Konzentration einstellbar | C28: Vol%
A29: 2.22.8 | B29: PEEP einstellbar einstellbar | C29: mbar
A30: 2.22.9 | B30: Triggerempfindlichkeit einstellbar | C30: L/min
A31: 2.22.10 | B31: Druckunterstützung Psupp einstellbar | C31: mbar
A32: 2.22.11 | B32: Anstiegszeit für Druckunterstützung | C32: s
A33: 2.22.12 | B33: Insp. Abbruchkriterium für PS, VS, PPS | C33: %
... A46: 2.22.25 | B46: Apnoe-Alarmzeit einstellbar | C46: s
A47: 2.22.26 | B47: Steuerpinzip Gerät
A48: 2.22.27 | B48: Dauer intermittierende PEEP
A49: 2.22.28 | B49: Medikamentenverneblung Dauer | C49: min
A50: 2.22.29 | B50: Max. Inspirationsflow | C50: L/min
A51: 2.22.30 | B51: Atemwegsdruck Messwert | C51: mbar
A52: 2.22.31 | B52: O2 Messung | C52: Vol%
A53: 2.22.32 | B53: Atemzugvolumen VT Messung | C53: mL BTPS
A54: 2.22.33 | B54: Spon.geatmetes Minutenvolumen MVspn | C54: L/min BTPS
A55: 2.22.34 | B55: Frequenzmessung | C55: /min
A56: 2.22.35 | B56: Messbereich etCO2 optional | C56: mmHg
A57: 2.22.36 | B57: Compliance | C57: mL/mbar
A58: 2.22.37 | B58: Resitance | C58: mbar/(L/s)
A59: 2.22.38 | B59: Leckage-Minutenvolumen | C59: L/min BPTS
A60: 2.22.39 | B60: Rapid-Shallow-Breathing RSB | C60: /min/L
... A62: 2.22.41 | B62: Okklusionsdruck P 0.1 | C62: mbar
A63: 2.22.42 | B63: Bildschirmtyp
A64: 2.22.43 | B64: Bildschirmdiagonale | C64: Zoll/cm
A65: 2.22.44 | B65: Geräte Abmessungen (B x H x T) | C65: mm
A66: 2.22.45 | B66: Gewicht der Basiseinheit | C66: kg
A67: 2.23 | B67: Umgebungsbedingungen bei Betrieb | D67: von | E67: bis
A68: 2.23.1 | B68: Temperatur | C68: °C
A69: 2.23.2 | B69: Relative Feuchte | C69: %
A70: 2.23.3 | B70: Luftdruck | C70: hPa
A71: 2.24 | B71: Umgebungsbedingungen bei Lagerung und Transport | D71: von | E71: bis
A72: 2.24.1 | B72: Temperatur | C72: °C
A73: 2.24.2 | B73: Relative Feuchte | C73: %
A74: 2.24.3 | B74: Luftdruck | C74: hPa

Sheet Los 2 LV und LB
A1: Zurück zum Inhaltsverzeichnis
A2: Bestandteil des Teilnahmeantrag
A3: Teil II für Los 2 High-End-Intensivbeatmungsgeräte Neonatal mind. 15" Display
A4: Leistungsbeschreibung und -verzeichnis
A5: für | B5: =Inhaltsverzeichnis!B2 -> Rahmenvertrag über Lieferung, Aufstellung und Inbetriebnahme von Narkose- und Beatmungssystemen
A6: Vergabenummer | B6: =Inhaltsverzeichnis!B3 -> 2026_JDS_05
A8: Name des Bieter | C8: ='Anforderungen Los 1-3'!C8 -> 0
A10: Bitte füllen Sie nur die hellblauen Felder aus, ändern Sie weder Formeln, noch Reihenfolgen in der Matrix!
A11: Positionsnr. | B11: Typ | C11: Beschreibung | D11: Vorgaben / Fragen / Einheit | E11: bitte ausfüllen | F11: Auswertung | G11: Hinweis | H11: =SUM(H12:H162) -> 735
A12: 2.1 | C12: Allgemeines
A13: 2.1.1 | B13: M | C13: Ausgeschrieben sind Langzeitbeatmungsgeräte für den Betrieb auf der neonatologischen Intensivstation. Die Geräte beinhalten neben den Standardbeatmungsformen Beatmungsarten mit freier Durchatembarkeit, druckunterstützender Beatmung und Hochfrequenzoszillationsbeatmung. Es sollen Früh- und Neugeborene und pädiatrische Patienten beatmet werden können. | D13: ja / nein | F13: =IF(E13="ja","OK",IF(E13="","bitte befüllen","Ausschluss")) -> bitte befüllen | G13: ja = Ok / nein = Ausschluss
A14: 2.1.2 | B14: M | C14: Das fahrbare Intensivbeatmungsgerät muss auf der rechten und linken Geräteseite jeweils mit mindestens zwei seitlich angeordneten Normschiene mit einer Mindestlänge von 20 cm ausgestattet sein. | D14: ja / nein | F14: =IF(E14="ja","OK",IF(E14="","bitte befüllen","Ausschluss")) -> bitte befüllen | G14: ja = Ok / nein = Ausschluss
A15: 2.1.3 | B15: M | C15: Das Angebot muss alle Einrichtungen und Gerätebestandteile einschließlich Schlauchhaltearm sowie notwendigem Einweg- und Mehrwegzubehör enthalten, die zum bestimmungsgemäßen Gebrauch der Geräte erforderlich sind. | D15: ja / nein | F15: =IF(E15="ja","OK",IF(E15="","bitte befüllen","Ausschluss")) -> bitte befüllen | G15: ja = Ok / nein = Ausschluss
A16: 2.1.4 | B16: W | C16: Bewertet wird das Alter des angebotenen Intensivbeatmungsgerätes Neonatal, ausgehend vom Zeitpunkt der erstmaligen Markteinführung des konkret angebotenen Gerätemodells. Ein geeigneter Hersteller-Nachweis ist dem Teilnahmeantrag beizufügen. | D16: Angabe in Jahr "YYYY" | F16: =IF(E16="","bitte befüllen",IF(E16>=2020,20,0)) -> bitte befüllen | G16: vor 2020 = 0 Punkte / ab 2020 = 10 Punkte | H16: 10
A17: 2.1.5 | B17: W | C17: Bewertet wird die Aktualität der auf dem angebotenen Intensivbeatmungsgerätes Neonatal eingesetzten Firmware. Maßgeblich ist der Zeitpunkt der letzten vom Hersteller freigegebenen Firmware-Version, die für das konkret angebotene Gerätemodell verfügbar ist. Ein geeigneter Hersteller-Nachweis ist dem Teilnahmeantrag beizufügen. | D17: Angabe in Jahr "YYYY" | F17: =IF(E17="","bitte befüllen",IF(E17>=2024,20,0)) -> bitte befüllen | G17: vor 2024 = 0 Punkte / ab 2024 = 20 Punkte | H17: 20
A18: 2.1.6 | B18: W | C18: Zum Zeitpunkt der Ausschreibung ermöglichen die angebotenen Geräte die Datenausgabe von Einstell-, Messwerten und Alarmen basierend auf dem SDC-Kommunikationsstandards IEEE 11073-20702-2016, IEEE 11073-10207-2017 und IEEE 11073-20701-2018. | D18: ja / nein | F18: =IF(E18="ja",20,IF(E18="nein",0,"bitte befüllen")) -> bitte befüllen | G18: ja = 20 Punkte / nein = 0 Punkte | H18: 20
A19: 2.2 | C19: Produktspezifikation
A20: 2.2.1 | B20: M | C20: Farbiges mind. 15“ Widescreen Grafikdisplay | D20: ja / nein | F20: =IF(E20="ja","OK",IF(E20="","bitte befüllen","Ausschluss")) -> bitte befüllen | G20: ja = Ok / nein = Ausschluss
A21: 2.2.2 | B21: M | C21: Bedienung des Grafikdisplays über Touchscreen-Technologie | D21: ja / nein | F21: =IF(E21="ja","OK",IF(E21="","bitte befüllen","Ausschluss")) -> bitte befüllen | G21: ja = Ok / nein = Ausschluss
A22: 2.2.3 | B22: W | C22: Gleichzeitige Darstellung folgender Kurven: Atemwegsdruck, Atemgasflow, CO2 und berechneter Trachealdruck | D22: ja / nein | F22: =IF(E22="ja",20,IF(E22="nein",0,"bitte befüllen")) -> bitte befüllen | G22: ja = 20 Punkte / nein = 0 Punkte | H22: 20
A23: 2.2.4 | B23: W | C23: Darstellung von folgenden Loops: Paw – V, Flow – Paw, V – Flow | D23: ja / nein | F23: =IF(E23="ja",20,IF(E23="nein",0,"bitte befüllen")) -> bitte befüllen | G23: ja = 20 Punkte / nein = 0 Punkte | H23: 20
A24: 2.2.5 | B24: W | C24: Darstellung von folgenden Loops: Ptrach – V, Flow – Ptrach | D24: ja / nein | F24: =IF(E24="ja",10,IF(E24="nein",0,"bitte befüllen")) -> bitte befüllen | G24: ja = 10 Punkte / nein = 0 Punkte | H24: 10
A25: 2.2.6 | B25: M | C25: Speicherung und Anzeige von Referenz-Loops sowie die Darstellung von Trends über einen Zeitraum von mindestens 72 Stunden | D25: ja / nein | F25: =IF(E25="ja","OK",IF(E25="","bitte befüllen","Ausschluss")) -> bitte befüllen | G25: ja = Ok / nein = Ausschluss
A26: 2.2.7 | B26: M | C26: Trendauflösung und Trenddarstellung zwischen 1, 2, 4, 8, 12 und 24 Stunden und 7 Tage rückwirkend wählbar | D26: ja / nein | F26: =IF(E26="ja","OK",IF(E26="","bitte befüllen","Ausschluss")) -> bitte befüllen | G26: ja = Ok / nein = Ausschluss
A27: 2.2.8 | B27: W | C27: Bildschirm mit automatischer Tag- Nachtschaltung und automatischer Dimmfunktion | D27: ja / nein | F27: =IF(E27="ja",20,IF(E27="nein",0,"bitte befüllen")) -> bitte befüllen | G27: ja = 20 Punkte / nein = 0 Punkte | H27: 20
A28: 2.2.9 | B28: W | C28: Freie passwortunabhängige Konfiguration während der Beatmung von mindestens 65 Softkeys auf der Hauptseite für häufig genutzte Funktionen | D28: ja / nein | F28: =IF(E28="ja",10,IF(E28="nein",0,"bitte befüllen")) -> bitte befüllen | G28: ja = 10 Punkte / nein = 0 Punkte | H28: 10
A29: 2.2.10 | B29: M | C29: Übersichtstabelle der Messwerte frei konfigurierbar | D29: ja / nein | F29: =IF(E29="ja","OK",IF(E29="","bitte befüllen","Ausschluss")) -> bitte befüllen | G29: ja = Ok / nein = Ausschluss
A30: 2.2.11 | B30: M | C30: Logbucheinträge bis zu 7 Tage speicherbar exportierbar über USB-Port | D30: ja / nein | F30: =IF(E30="ja","OK",IF(E30="","bitte befüllen","Ausschluss")) -> bitte befüllen | G30: ja = Ok / nein = Ausschluss
A31: 2.2.12 | B31: M | C31: Das Beatmungsgerät muss eine invasive Hochfrequenzoszillationsbeatmung (HFOV) für neonatologische Patienten ermöglichen. Die hierfür erforderlichen Parameter müssen am Gerät einstellbar und überwacht werden können. | D31: ja / nein | F31: =IF(E31="ja","OK",IF(E31="","bitte befüllen","Ausschluss")) -> bitte befüllen | G31: ja = Ok / nein = Ausschluss
A32: 2.2.13 | B32: M | C32: O2-Gasmessung mit verbrauchfreier O2-Sensorik | D32: ja / nein | F32: =IF(E32="ja","OK",IF(E32="","bitte befüllen","Ausschluss")) -> bitte befüllen | G32: ja = Ok / nein = Ausschluss
A33: 2.2.14 | B33: W | C33: Getrennt wählbare Patientenbereiche für Pädiatrie / Neonatologie | D33: ja / nein | F33: =IF(E33="ja",20,IF(E33="nein",0,"bitte befüllen")) -> bitte befüllen | G33: ja = 20 Punkte / nein = 0 Punkte | H33: 20
A34: 2.2.15 | B34: I | C34: Gasentnahme O₂ und AIR erfolgt aus zentraler Wandversorgung mittels ZV-Schläuche | D34: ja / nein | F34: =IF(E34="ja","OK",IF(E34="","bitte befüllen","Ausschluss")) -> bitte befüllen | G34: ja / nein
A35: 2.2.16 | B35: I | C35: Gasentnahme O₂ aus zentraler Wandversorgung (ZV) mittels ZV-Schlauch und AIR über Turbine | D35: ja / nein | F35: =IF(E35="ja",10,IF(E35="nein",0,"bitte befüllen")) -> bitte befüllen | G35: ja / nein
A36: 2.2.17 | B36: W | C36: Das Beatmungsgerät ist uneingeschränkt geeignet zum Einsatz an Patienten mit einem Körpergewicht bis 20kg. | D36: ja / nein | F36: =IF(E36="ja",1,IF(E36="nein",0,"bitte befüllen")) -> bitte befüllen | G36: ja = 1 Punkte / nein = 0 Punkte | H36: 1
A37: 2.2.18 | B37: W | C37: Das Beatmungsgerät ist uneingeschränkt geeignet zum Einsatz an Patienten mit einem Körpergewicht ab 200g. | D37: ja / nein | F37: =IF(E37="ja",10,IF(E37="nein",0,"bitte befüllen")) -> bitte befüllen | G37: ja = 10 Punkte / nein = 0 Punkte | H37: 10
A38: 2.2.19 | B38: M | C38: Automatische Einstellung der Startwerte der Beatmungsparameter nach Eingabe der Körpergröße und Berechnung des tatsächlichen Patientengewichts oder Patientenbereich | D38: ja / nein | F38: =IF(E38="ja","OK",IF(E38="","bitte befüllen","Ausschluss")) -> bitte befüllen | G38: ja = Ok / nein = Ausschluss
A39: 2.2.20 | B39: O | C39: Integrierte etCO2-Messung | D39: ja / nein | F39: =IF(E39="ja","OK",IF(E39="","bitte befüllen","Ausschluss")) -> bitte befüllen | G39: ja = Ok / nein = Ausschluss
A40: 2.2.21 | B40: W | C40: Die Geräuschemission gemäß ISO80601-2-12:2011 liegt unter 44dB (ohne zusätzliches Turbinenmodul) | D40: ja / nein | F40: =IF(E40="ja",1,IF(E40="nein",0,"bitte befüllen")) -> bitte befüllen | G40: ja = 1 Punkte / nein = 0 Punkte | H40: 1
A41: 2.2.22 | B41: W | C41: Die Geräuschemission gemäß ISO80601-2-12:2011 liegt bei PC-HFO unter 51dB (ohne zusätzliches Turbinenmodul) | D41: ja / nein | F41: =IF(E41="ja",1,IF(E41="nein",0,"bitte befüllen")) -> bitte befüllen | G41: ja = 1 Punkte / nein = 0 Punkte | H41: 1
A42: 2.2.23 | B42: W | C42: Option: Das Fahrgestell des Beatmungsgeräts verfügt über eine ausziehbare und höhenverstellbare Bettankopplung, um eine mechanische Verbindung zum Hybridinkubator herzustellen. Eine Beschreibung ist beizulegen. | D42: ja / nein | F42: =IF(E42="ja",10,IF(E42="nein",0,"bitte befüllen")) -> bitte befüllen | G42: ja = 10 Punkte / nein = 0 Punkte | H42: 10
A43: 2.2.24 | B43: W | C43: Option: Die Gesamthöhe des Fahrgestells des angebotenen Beatmungsgerätes ist individuell an die jeweiligen Einsatzbedingungen anpassbar. Bewertet wird die Möglichkeit der Höhenverstellung des Fahrgestells. Der Bieter hat die Art und den Umfang der Höhenverstellung zu beschreiben und beizulegen. | D43: ja / nein | F43: =IF(E43="ja",5,IF(E43="nein",0,"bitte befüllen")) -> bitte befüllen | G43: ja = 5 Punkte / nein = 0 Punkte | H43: 5
A44: 2.2.25 | B44: W | C44: Option: Das Fahrgestell verfügt optional über einen vollumlaufenden Handgriff aus Metall der auch als Rangierschutz dient. | D44: ja / nein | F44: =IF(E44="ja",10,IF(E44="nein",0,"bitte befüllen")) -> bitte befüllen | G44: ja = 10 Punkte / nein = 0 Punkte | H44: 10
A45: 2.2.26 | B45: W | C45: Es können optional mind. 4 Infusionen gleichzeitig über eine geeignete Hängevorrichtung in Augenhöhe transportiert werden. | D45: ja / nein | F45: =IF(E45="ja",10,IF(E45="nein",0,"bitte befüllen")) -> bitte befüllen | G45: ja = 10 Punkte / nein = 0 Punkte | H45: 10
A46: 2.2.27 | B46: W | C46: Option: In Verbindung mit einem verteilten Alarmsystem (DAS) gemäß aktueller Normierung IEC 60601-1-8-2020 können Gerätealarme am Beatmungsgerät dauerhaft stummgestellt werden. Eine Beschreibung beizulegen. | D46: ja / nein | F46: =IF(E46="ja",20,IF(E46="nein",0,"bitte befüllen")) -> bitte befüllen | G46: ja = 20 Punkte / nein = 0 Punkte | H46: 20
A47: 2.3 | C47: Bedienkonzept, Gerätecheck und Handhabung
A48: 2.3.1 | B48: M | C48: Das Beatmungsgerät muss einen automatisierten Gerätecheck ohne erforderliche Interaktion des Bedieners ermöglichen. Der Ablauf und das Ergebnis des Gerätechecks müssen über das Display angezeigt werden. Abweichungen bzw. erkannte Fehler sind dem Bediener eindeutig anzuzeigen. | D48: ja / nein | F48: =IF(E48="ja","OK",IF(E48="","bitte befüllen","Ausschluss")) -> bitte befüllen | G48: ja = Ok / nein = Ausschluss
A49: 2.3.2 | B49: M | C49: Das Beatmungsgerät muss die Dichtigkeit des angeschlossenen Schlauchsystems überwachen und eine während des Betriebs erkannte Leckage auf dem Display eindeutig anzeigen bzw. den Bediener entsprechend warnen. | D49: ja / nein | F49: =IF(E49="ja","OK",IF(E49="","bitte befüllen","Ausschluss")) -> bitte befüllen | G49: ja = Ok / nein = Ausschluss
A50: 2.3.3 | B50: M | C50: Das Beatmungsgerät muss im Rahmen des Gerätechecks die ordnungsgemäße Funktion der für die Gasversorgung relevanten Komponenten überprüfen. Bei Geräten mit Umschaltventilen für die zentrale Versorgung mit Air und O₂ muss die Funktionsprüfung der Umschaltventile bei angeschlossenen Zentralgasversorgungsschläuchen erfolgen. Bei Geräten mit Turbinenantrieb bzw. einer technisch abweichenden Gasversorgung ist eine separate Prüfung von Umschaltventilen nicht erforderlich, sofern durch die interne Geräteprüfung eine gleichwertige Überprüfung der für die sichere Gasversorgung relevanten Funktionen erfolgt. | D50: ja / nein | F50: =IF(E50="ja","OK",IF(E50="","bitte befüllen","Ausschluss")) -> bitte befüllen | G50: ja = Ok / nein = Ausschluss
A51: 2.3.4 | B51: M | C51: Integrierte kontextbezogene Hilfefunktionen über Bildschirmtext | D51: ja / nein | F51: =IF(E51="ja","OK",IF(E51="","bitte befüllen","Ausschluss")) -> bitte befüllen | G51: ja = Ok / nein = Ausschluss
A52: 2.3.5 | B52: M | C52: Gerätebedienung über Touchscreen und zentralen haptischen Druckdrehknopf | D52: ja / nein | F52: =IF(E52="ja","OK",IF(E52="","bitte befüllen","Ausschluss")) -> bitte befüllen | G52: ja = Ok / nein = Ausschluss
A53: 2.3.6 | B53: W | C53: Das Beatmungsgerät verfügt über einen zentralen Drehknopf mit farblich beleuchteter Umrandung zur optischen Anzeige des jeweiligen Gerätestatus. Die Beleuchtung kann dabei unterschiedliche Farben zur Kennzeichnung verschiedener Gerätezustände darstellen. Die haptische Rückmeldung bei der Bedienung des Drehknopfes erfolgt unabhängig von der farblichen Statusanzeige. | D53: ja / nein | F53: =IF(E53="ja",10,IF(E53="nein",0,"bitte befüllen")) -> bitte befüllen | G53: ja = 10 Punkte / nein = 0 Punkte | H53: 10
A54: 2.3.7 | B54: M | C54: Einstellvorgaben über das Körpergewicht des Patienten | D54: ja / nein | F54: =IF(E54="ja","OK",IF(E54="","bitte befüllen","Ausschluss")) -> bitte befüllen | G54: ja = Ok / nein = Ausschluss
A55: 2.3.8 | B55: M | C55: Das Inspirationsventil muss im Rahmen der vorgesehenen Wartungs- und Instandhaltungsarbeiten ohne Einsatz von Werkzeug durch eine Person austauschbar bzw. wartungsfrei ausgeführt sein. Bei Geräten, bei denen das Inspirationsventil ein fest integrierter Bestandteil des Gerätes ist und nicht als separates Bauteil ausgetauscht wird, gilt das Kriterium als erfüllt, sofern gemäß Herstellervorgaben kein separater Austausch des Inspirationsventils erforderlich ist. Nachweis ist dem Teilnahmeantrag beigefügt. | D55: ja / nein | F55: =IF(E55="ja","OK",IF(E55="","bitte befüllen","Ausschluss")) -> bitte befüllen | G55: ja = Ok / nein = Ausschluss
A56: 2.3.9 | B56: W | C56: Es sind mind. 5 verschiedene abteilungs-/benutzerindividuelle Bildschirmansichten konfigurierbar und speicherbar. | D56: ja / nein | F56: =IF(E56="ja",1,IF(E56="nein",0,"bitte befüllen")) -> bitte befüllen | G56: ja = 1 Punkte / nein = 0 Punkte | H56: 1
A57: 2.3.10 | B57: M | C57: Die Bildschirmansichten sind wahlweise gegen nichtautorisiertes Verstellen geschützt. | D57: ja / nein | F57: =IF(E57="ja","OK",IF(E57="","bitte befüllen","Ausschluss")) -> bitte befüllen | G57: ja = Ok / nein = Ausschluss
A58: 2.3.11 | B58: W | C58: Der Austausch des Exspirationssystems muss ohne Werkzeug durch eine Person erfolgen. | D58: ja / nein | F58: =IF(E58="ja",1,IF(E58="nein",0,"bitte befüllen")) -> bitte befüllen | G58: ja = 1 Punkte / nein = 0 Punkte | H58: 1
A59: 2.3.12 | B59: M | C59: Das Beatmungsgerät muss bei Ausfall einer für den Betrieb erforderlichen Gasversorgung eine automatische und unterbrechungsfreie Umschaltung auf eine verfügbare alternative Gasversorgung gewährleisten. Bei Geräten mit zentraler Versorgung mit Air und O₂ muss bei Ausfall eines Versorgungsgases der Betrieb mit dem jeweils verfügbaren Gas Air oder O₂ automatisch aufrechterhalten werden. Bei Geräten mit Turbinenantrieb bzw. einer technisch abweichenden Gasversorgung ist eine separate Umschaltung auf eine alternative zentrale Gasversorgung nicht erforderlich, sofern durch die technische Ausführung des Gerätes ein gleichwertiger, unterbrechungsfreier Notbetrieb bei Ausfall der zentralen Gasversorgung gewährleistet ist. Bei Turbinengeräten kann hierfür Umgebungsluft über die Turbine verwendet werden. | D59: ja / nein | F59: =IF(E59="ja","OK",IF(E59="","bitte befüllen","Ausschluss")) -> bitte befüllen | G59: ja = Ok / nein = Ausschluss
A60: 2.3.13 | B60: M | C60: Das Gerät verfügt über eine integrierte unterbrechungsfreie Spannungsversorgung (Batteriebetrieb) bei Netzausfall von mindestens 30 Minuten | D60: ja / nein | F60: =IF(E60="ja","OK",IF(E60="","bitte befüllen","Ausschluss")) -> bitte befüllen | G60: ja = Ok / nein = Ausschluss
A61: 2.3.14 | B61: W | C61: Eine Anzeige des aktuellen Akkuladezustandes sowie verbleibender Restakkulaufzeit in Minuten des Beatmungsgerätes ist in der Hauptansicht sichtbar. | D61: ja / nein | F61: =IF(E61="ja",10,IF(E61="nein",0,"bitte befüllen")) -> bitte befüllen | G61: ja = 10 Punkte / nein = 0 Punkte | H61: 10
A62: 2.3.15 | B62: W | C62: Das Beatmungsgerät muss eine automatische Überprüfung des Akkuzustands und der verfügbaren Akkukapazität ermöglichen. Die Überprüfung muss unabhängig vom regulären Systemtest bzw. Gerätecheck erfolgen können. Bei einer eingeschränkten Akkuleistung bzw. nicht ausreichender Akkukapazität muss der Anwender automatisch und eindeutig über das Gerät informiert bzw. gewarnt werden. | D62: ja / nein | F62: =IF(E62="ja",10,IF(E62="nein",0,"bitte befüllen")) -> bitte befüllen | G62: ja = 10 Punkte / nein = 0 Punkte | H62: 10
A63: 2.3.16 | B63: M | C63: Das Beatmungsgerät muss ohne gerätenahe und patientennahe externe Filter betrieben werden können und hierfür vom Hersteller freigegeben sein. Sofern der Hersteller den Einsatz eines Filters empfiehlt oder ein integrierter Filter Bestandteil des Gerätes ist, gilt das Kriterium als erfüllt, sofern der Betrieb des Gerätes entsprechend den Herstellervorgaben ohne zusätzliche gerätenahe bzw. patientennahe externe Filter zulässig ist. | D63: ja / nein | F63: =IF(E63="ja","OK",IF(E63="","bitte befüllen","Ausschluss")) -> bitte befüllen | G63: ja = Ok / nein = Ausschluss
A64: 2.3.17 | B64: W | C64: Das Gerät verfügt über die Möglichkeit der gleichzeitigen Kopplung/Verstellung der Parameter Ti und AF (um I:E-Verhältnis gleich zubehalten) sowie PEEP und Pinsp (um Driving-Pressure konstant zubehalten). | D64: ja / nein | F64: =IF(E64="ja",20,IF(E64="nein",0,"bitte befüllen")) -> bitte befüllen | G64: ja = 20 Punkte / nein = 0 Punkte | H64: 20
A65: 2.4 | C65: Volumengarantierte Beatmung
A66: 2.4.1 | B66: M | C66: Volumengarantierte Beatmung auf der Grundlage von druckkontrollierter Beatmung und exspiratorischem Tidalvolumen | D66: ja / nein | F66: =IF(E66="ja","OK",IF(E66="","bitte befüllen","Ausschluss")) -> bitte befüllen | G66: ja = Ok / nein = Ausschluss
A67: 2.4.2 | B67: W | C67: Volumengarantierte Beatmung auf der Grundlage von druckkontrollierter Beatmung und leckkompensiertem Tidalvolumen | D67: ja / nein | F67: =IF(E67="ja",10,IF(E67="nein",0,"bitte befüllen")) -> bitte befüllen | G67: ja = 10 Punkte / nein = 0 Punkte | H67: 10
A68: 2.4.3 | B68: W | C68: Volumengarantierte Beatmung mit separaten Druckreglern für getriggerte und reine mandatorische Atemzüge | D68: ja / nein | F68: =IF(E68="ja",10,IF(E68="nein",0,"bitte befüllen")) -> bitte befüllen | G68: ja = 10 Punkte / nein = 0 Punkte | H68: 10
A69: 2.4.4 | B69: M | C69: Volumengarantierte Beatmung mit direkt einstellbarer oberer Druckgrenze | D69: ja / nein | F69: =IF(E69="ja","OK",IF(E69="","bitte befüllen","Ausschluss")) -> bitte befüllen | G69: ja = Ok / nein = Ausschluss
A70: 2.4.5 | B70: M | C70: Die volumengarantierte Beatmung kann mit allen getriggerten Beatmungsmodi kombiniert werden | D70: ja / nein | F70: =IF(E70="ja","OK",IF(E70="","bitte befüllen","Ausschluss")) -> bitte befüllen | G70: ja = Ok / nein = Ausschluss
A71: 2.4.6 | B71: M | C71: SIMV-PC/VG oder ähnlich | D71: ja / nein | F71: =IF(E71="ja","OK",IF(E71="","bitte befüllen","Ausschluss")) -> bitte befüllen | G71: ja = Ok / nein = Ausschluss
A72: 2.4.7 | B72: M | C72: AC-PC/VG oder ähnlich | D72: ja / nein | F72: =IF(E72="ja","OK",IF(E72="","bitte befüllen","Ausschluss")) -> bitte befüllen | G72: ja = Ok / nein = Ausschluss
A73: 2.4.8 | B73: W | C73: MMV-PC/VG oder ähnlich | D73: ja / nein | F73: =IF(E73="ja",10,IF(E73="nein",0,"bitte befüllen")) -> bitte befüllen | G73: ja = 10 Punkte / nein = 0 Punkte | H73: 10
A74: 2.4.9 | B74: W | C74: Optional: APRV-PC/VG oder ähnlich | D74: ja / nein | F74: =IF(E74="ja",10,IF(E74="nein",0,"bitte befüllen")) -> bitte befüllen | G74: ja = 10 Punkte / nein = 0 Punkte | H74: 10
A75: 2.4.10 | B75: W | C75: PSV-PC/VG oder ähnlich | D75: ja / nein | F75: =IF(E75="ja",10,IF(E75="nein",0,"bitte befüllen")) -> bitte befüllen | G75: ja = 10 Punkte / nein = 0 Punkte | H75: 10
A76: 2.5 | C76: Druckkontrollierte Beatmungsverfahren
A77: 2.5.1 | B77: M | C77: CMV-PC oder ähnlich | D77: ja / nein | F77: =IF(E77="ja","OK",IF(E77="","bitte befüllen","Ausschluss")) -> bitte befüllen | G77: ja = Ok / nein = Ausschluss
A78: 2.5.2 | B78: M | C78: SIMV-PC/PS oder ähnlich | D78: ja / nein | F78: =IF(E78="ja","OK",IF(E78="","bitte befüllen","Ausschluss")) -> bitte befüllen | G78: ja = Ok / nein = Ausschluss
A79: 2.5.3 | B79: M | C79: A/C-PC oder ähnlich | D79: ja / nein | F79: =IF(E79="ja","OK",IF(E79="","bitte befüllen","Ausschluss")) -> bitte befüllen | G79: ja = Ok / nein = Ausschluss
A80: 2.5.4 | B80: W | C80: PSV-PC oder ähnlich | D80: ja / nein | F80: =IF(E80="ja",10,IF(E80="nein",0,"bitte befüllen")) -> bitte befüllen | G80: ja = 10 Punkte / nein = 0 Punkte | H80: 10
A81: 2.5.5 | B81: W | C81: Optional: APRV-PC oder ähnlich | D81: ja / nein | F81: =IF(E81="ja",10,IF(E81="nein",0,"bitte befüllen")) -> bitte befüllen | G81: ja = 10 Punkte / nein = 0 Punkte | H81: 10
A82: 2.6 | C82: Hochfrequenz-Oszillation
A83: 2.6.1 | B83: M | C83: Druckkontrollierte Hochfrequenz-Oszillation für neonatale und pädiatrische Patienten | D83: ja / nein | F83: =IF(E83="ja","OK",IF(E83="","bitte befüllen","Ausschluss")) -> bitte befüllen | G83: ja = Ok / nein = Ausschluss
A84: 2.6.2 | B84: W | C84: Hochfrequente Oszillation mit intermittierenden Seufzer-Atemzügen | D84: ja / nein | F84: =IF(E84="ja",20,IF(E84="nein",0,"bitte befüllen")) -> bitte befüllen | G84: ja = 20 Punkte / nein = 0 Punkte | H84: 20
A85: 2.6.3 | B85: M | C85: Hochfrequente Oszillation mit Frequenzen von 5 bis 20 Hz | D85: ja / nein | F85: =IF(E85="ja","OK",IF(E85="","bitte befüllen","Ausschluss")) -> bitte befüllen | G85: ja = Ok / nein = Ausschluss
A86: 2.6.4 | B86: M | C86: Hochfrequenzschwingung mit I:E-Verhältnissen von 1:1, 1:2 und 1:3 | D86: ja / nein | F86: =IF(E86="ja","OK",IF(E86="","bitte befüllen","Ausschluss")) -> bitte befüllen | G86: ja = Ok / nein = Ausschluss
A87: 2.6.5 | B87: M | C87: Ausgewähltes I:E-Verhältnis unabhängig vom mittleren Atemwegsdruck und der Druckamplitude | D87: ja / nein | F87: =IF(E87="ja","OK",IF(E87="","bitte befüllen","Ausschluss")) -> bitte befüllen | G87: ja = Ok / nein = Ausschluss
A88: 2.6.6 | B88: W | C88: Hochfrequenz-Oszillation mit automatischer Regelung der Druckamplitude zur Aufrechterhaltung eines stabilen HF-Tidalvolumens | D88: ja / nein | F88: =IF(E88="ja",10,IF(E88="nein",0,"bitte befüllen")) -> bitte befüllen | G88: ja = 10 Punkte / nein = 0 Punkte | H88: 10
A89: 2.6.7 | B89: W | C89: Nahtlose Aktivierung der Volumengarantie während laufender Hochfrequenz | D89: ja / nein | F89: =IF(E89="ja",10,IF(E89="nein",0,"bitte befüllen")) -> bitte befüllen | G89: ja = 10 Punkte / nein = 0 Punkte | H89: 10
A90: 2.6.8 | B90: M | C90: Hochfrequenzamplituden sind unabhängig vom eingestellten FiO2 | D90: ja / nein | F90: =IF(E90="ja","OK",IF(E90="","bitte befüllen","Ausschluss")) -> bitte befüllen | G90: ja = Ok / nein = Ausschluss
A91: 2.6.9 | B91: M | C91: Beatmungssysteme können bei Hochfrequenz-Oszillation und konventioneller Beatmung eingesetzt werden, ohne dass die Messgenauigkeit beeinträchtigt wird | D91: ja / nein | F91: =IF(E91="ja","OK",IF(E91="","bitte befüllen","Ausschluss")) -> bitte befüllen | G91: ja = Ok / nein = Ausschluss
A92: 2.6.10 | B92: M | C92: Die Hochfrequenz-Oszillation kann mit einer Stickoxidtherapie mit oder ohne Durchflussmessung des Stickoxidgeräts kombiniert werden | D92: ja / nein | F92: =IF(E92="ja","OK",IF(E92="","bitte befüllen","Ausschluss")) -> bitte befüllen | G92: ja = Ok / nein = Ausschluss
A93: 2.6.11 | B93: M | C93: Manuelle konventionelle Einatmung (Seufzer) während der Hochfrequenzschwingung | D93: ja / nein | F93: =IF(E93="ja","OK",IF(E93="","bitte befüllen","Ausschluss")) -> bitte befüllen | G93: ja = Ok / nein = Ausschluss
A94: 2.6.12 | B94: W | C94: Der Parameter DCO2 ist als 2-Stunden-Trend auf dem Screen konfigurierbar | D94: ja / nein | F94: =IF(E94="ja",10,IF(E94="nein",0,"bitte befüllen")) -> bitte befüllen | G94: ja = 10 Punkte / nein = 0 Punkte | H94: 10
A95: 2.7 | C95: Spontanatmungs-Beatmungsverfahren
A96: 2.7.1 | B96: M | C96: SPN-CPAP mit oder ohne Druckunterstützung | D96: ja / nein | F96: =IF(E96="ja","OK",IF(E96="","bitte befüllen","Ausschluss")) -> bitte befüllen | G96: ja = Ok / nein = Ausschluss
A97: 2.7.2 | B97: W | C97: Die Druckunterstützung darf nur auf PEEP-Niveau aktiv sein | D97: ja / nein | F97: =IF(E97="ja",5,IF(E97="nein",0,"bitte befüllen")) -> bitte befüllen | G97: ja = 5 Punkte / nein = 0 Punkte | H97: 5
A98: 2.7.3 | B98: W | C98: Das Beatmungsgerät muss einen Beatmungsmodus ermöglichen, der eine spontane, kontinuierliche positive Atemwegsdruckunterstützung mit zusätzlicher Volumenunterstützung ermöglicht. Die Volumenunterstützung muss Bestandteil des entsprechenden Beatmungsmodus sein; eine separate Zuschaltung zu einem anderen Beatmungsmodus ist nicht erforderlich. | D98: ja / nein | F98: =IF(E98="ja",10,IF(E98="nein",0,"bitte befüllen")) -> bitte befüllen | G98: ja = 10 Punkte / nein = 0 Punkte | H98: 10
A99: 2.7.4 | B99: W | C99: SPN-PPS - Spontanatmung mit einer proportionalen Druckunterstützung in Abhängigkeit von der Atemarbeit des Patienten | D99: ja / nein | F99: =IF(E99="ja",1,IF(E99="nein",0,"bitte befüllen")) -> bitte befüllen | G99: ja = 1 Punkte / nein = 0 Punkte | H99: 1
A100: 2.7.5 | B100: W | C100: Volumenunterstützung mit einstellbarem Volumenziel und Flow Trigger | D100: ja / nein | F100: =IF(E100="ja",5,IF(E100="nein",0,"bitte befüllen")) -> bitte befüllen | G100: ja = 5 Punkte / nein = 0 Punkte | H100: 5
A101: 2.7.6 | B101: M | C101: Druckunterstützung (PS) mit einstellbarem Flowtrigger | D101: ja / nein | F101: =IF(E101="ja","OK",IF(E101="","bitte befüllen","Ausschluss")) -> bitte befüllen | G101: ja = Ok / nein = Ausschluss
A102: 2.8 | C102: Zusätzlich zuschaltbare Beatmungsverfahren
...

Sheet Los 2 techn. Daten
A1: Zurück zum Inhaltsverzeichnis
A2: Bestandteil des Teilnahmeantrag
A3: Teil II für Los 1 High-End-Intensivbeatmungsgerät Neonatal mind. 15" Display
A4: Technische Daten
A5: für | B5: =Inhaltsverzeichnis!B2 -> Rahmenvertrag über Lieferung, Aufstellung und Inbetriebnahme von Narkose- und Beatmungssystemen
A6: Vergabenummer | B6: =Inhaltsverzeichnis!B3 -> 2026_JDS_05
A8: Name des Bieter | B8: ='Anforderungen Los 1-3'!C8 -> 0
A10: Bitte füllen Sie nur die hellblauen Felder aus, ändern Sie weder Formeln, noch Reihenfolgen in der Matrix!
A11: Positionsnr. | B11: Beschreibung | C11: Vorgaben / Fragen / Einheit | D11: Wert (bitte ausfüllen) | E11: Wert bis (bitte ausfüllen)
A12: 2.20 | B12: Allgemeines
A13: 2.20.1 | B13: Fabrikat
A14: 2.20.2 | B14: Typ / Artikel.Nr.
A15: 2.21 | B15: Betriebskennwerte | C15: Einheit | D15: von | E15: bis
A16: 2.21.1 | B16: Betriebsspannung | C16: V
A17: 2.21.2 | B17: Betriebsspannung | C17: Hz
A18: 2.21.3 | B18: Leistungsaufnahme | C18: W
A19: 2.21.4 | B19: Schutzklasse
A20: 2.21.5 | B20: Klassifizierung
A21: 2.22 | B21: Technische Daten | D21: von | E21: bis
A22: 2.22.1 | B22: Beatmungsfrequenz einstellbar | C22: 1/min
A23: 2.22.2 | B23: Inspirationszeit Tinsp einstellbar | C23: s
A24: 2.22.3 | B24: Atemzugvolumen einstellbar | C24: L
A25: 2.22.4 | B25: Insp. Flow einstellbar | C25: L/min
A26: 2.22.5 | B26: Insp. Druck Pinsp einstellbar | C26: mbar
A27: 2.22.6 | B27: Insp. Drucklimitierung Pmax einstellbar | C27: mbar
A28: 2.22.7 | B28: O2 Konzentration einstellbar | C28: Vol%
A29: 2.22.8 | B29: PEEP einstellbar einstellbar | C29: mbar
A30: 2.22.9 | B30: Triggerempfindlichkeit einstellbar | C30: L/min
A31: 2.22.10 | B31: Druckunterstützung Psupp einstellbar | C31: mbar
A32: 2.22.11 | B32: Anstiegszeit für Druckunterstützung | C32: s
A33: 2.22.12 | B33: Insp. Abbruchkriterium für PS, VS, PPS | C33: %
... A46: 2.22.25 | B46: Apnoe-Alarmzeit einstellbar | C46: s
A47: 2.22.26 | B47: Steuerpinzip Gerät
A48: 2.22.27 | B48: Dauer intermittierende PEEP
A49: 2.22.28 | B49: Medikamentenverneblung Dauer | C49: min
A50: 2.22.29 | B50: Max. Inspirationsflow | C50: L/min
A51: 2.22.30 | B51: Atemwegsdruck Messwert | C51: mbar
A52: 2.22.31 | B52: O2 Messung | C52: Vol%
A53: 2.22.32 | B53: Atemzugvolumen VT Messung | C53: mL BTPS
A54: 2.22.33 | B54: Spon.geatmetes Minutenvolumen MVspn | C54: L/min BTPS
A55: 2.22.34 | B55: Frequenzmessung | C55: /min
A56: 2.22.35 | B56: Messbereich etCO2 optional | C56: mmHg
A57: 2.22.36 | B57: Compliance | C57: mL/mbar
A58: 2.22.37 | B58: Resitance | C58: mbar/(L/s)
A59: 2.22.38 | B59: Leckage-Minutenvolumen | C59: L/min BPTS
A60: 2.22.39 | B60: Rapid-Shallow-Breathing RSB | C60: /min/L
... A62: 2.22.41 | B62: Okklusionsdruck P 0.1 | C62: mbar
A63: 2.22.42 | B63: Bildschirmtyp
A64: 2.22.43 | B64: Bildschirmdiagonale | C64: Zoll/cm
A65: 2.22.44 | B65: Geräte Abmessungen (B x H x T) | C65: mm
A66: 2.22.45 | B66: Gewicht der Basiseinheit | C66: kg
A67: 2.23 | B67: Umgebungsbedingungen bei Betrieb | C67: Einheit | D67: von | E67: bis
A68: 2.23.1 | B68: Temperatur | C68: °C
A69: 2.23.2 | B69: Relative Feuchte | C69: %
A70: 2.23.3 | B70: Luftdruck | C70: hPa
A71: 2.24 | B71: Umgebungsbedingungen bei Lagerung und Transport | C71: Einheit | D71: von | E71: bis
A72: 2.24.1 | B72: Temperatur | C72: °C
A73: 2.24.2 | B73: Relative Feuchte | C73: %
A74: 2.24.3 | B74: Luftdruck | C74: hPa

Sheet Los 3 LV und LB
A1: Zurück zum Inhaltsverzeichnis
A2: Bestandteil des Teilnahmeantrag
A3: Teil II für Los 3 Anästhesiearbeitsplatz
A4: Leistungsbeschreibung und -verzeichnis
A5: für | B5: =Inhaltsverzeichnis!B2 -> Rahmenvertrag über Lieferung, Aufstellung und Inbetriebnahme von Narkose- und Beatmungssystemen
A6: Vergabenummer | B6: =Inhaltsverzeichnis!B3 -> 2026_JDS_05
A8: Name des Bieter | C8: ='Anforderungen Los 1-3'!C8 -> 0
A10: Bitte füllen Sie nur die hellblauen Felder aus, ändern Sie weder Formeln, noch Reihenfolgen in der Matrix!
A11: Positionsnr. | B11: Typ | C11: Beschreibung | D11: Vorgaben / Fragen / Einheit | E11: bitte ausfüllen | F11: Auswertung | G11: Hinweis | H11: =SUM(H12:H286) -> 1302
A12: 2.1 | C12: Allgemeines
A13: 2.1.1 | B13: M | C13: Ausgeschrieben sind Anästhesiearbeitsplatz. | D13: ja / nein | F13: =IF(E13="ja","OK",IF(E13="","bitte befüllen","Ausschluss")) -> bitte befüllen | G13: ja = Ok / nein = Ausschluss
A14: 2.1.2 | B14: M | C14: Die fahrbaren Geräte müssen jeweils mit zwei seitlichen mindestens 20cm langen Normschienen ausgestattet sein. | D14: ja / nein | F14: =IF(E14="ja","OK",IF(E14="","bitte befüllen","Ausschluss")) -> bitte befüllen | G14: ja = Ok / nein = Ausschluss
A15: 2.1.3 | B15: M | C15: Das Angebot muss alle Einrichtungen und Gerätebestandteile einschließlich Schlauchhaltearm sowie notwendigem Einweg- und Mehrwegzubehör enthalten, die zum bestimmungsgemäßen Gebrauch der Geräte erforderlich sind. | D15: ja / nein | F15: =IF(E15="ja","OK",IF(E15="","bitte befüllen","Ausschluss")) -> bitte befüllen | G15: ja = Ok / nein = Ausschluss
A16: 2.1.4 | B16: W | C16: Bewertet wird das Alter des angebotenen Anästhesiearbeitsplatz, ausgehend vom Zeitpunkt der erstmaligen Markteinführung des konkret angebotenen Gerätemodells. Ein geeigneter Hersteller-Nachweis ist dem Teilnahmeantrag beizufügen. | D16: Angabe in Jahr "YYYY" | F16: =IF(E16="","bitte befüllen",IF(E16>=2019,20,0)) -> bitte befüllen | G16: vor 2019 = 0 Punkte / ab 2019 = 20 Punkte | H16: 20
A17: 2.1.5 | B17: W | C17: Bewertet wird die Aktualität der auf dem angebotenen Anästhesiearbeitsplatz eingesetzten Firmware. Maßgeblich ist der Zeitpunkt der letzten vom Hersteller freigegebenen Firmware-Version, die für das konkret angebotene Gerätemodell verfügbar ist. Ein geeigneter Hersteller-Nachweis ist dem Teilnahmeantrag beizufügen. | D17: Angabe in Jahr "YYYY" | F17: =IF(E17="","bitte befüllen",IF(E17>=2024,20,0)) -> bitte befüllen | G17: vor 2024 = 0 Punkte / ab 2024 = 20 Punkte | H17: 20
A18: 2.1.6 | B18: W | C18: Option: Der Hersteller bietet die Bereitstellung und Abholung der bereitgestellten Sammelbehälter, sowie die 100%ige Verwertung der Kalkabfälle gemäß §26 KrWG zu freiwilligen Rücknahme an | D18: ja / nein | F18: =IF(E18="ja",10,IF(E18="nein",0,"bitte befüllen")) -> bitte befüllen | G18: ja = 10 Punkte / nein = 0 Punkte | H18: 10
A19: 2.2 | C19: Anerkannten Regeln der Technik / Vorschriften und Verordnungen
A20: 2.2.1 | B20: M | C20: Medizinprodukterichtlinie: MDR (EU) 2017/45 | D20: ja / nein | F20: =IF(E20="ja","OK",IF(E20="","bitte befüllen","Ausschluss")) -> bitte befüllen | G20: ja = Ok / nein = Ausschluss
A21: 2.2.2 | B21: M | C21: Ergänzungsnorm Elektromagnetische Störgrößen: EN 60601-1-2 | D21: ja / nein | F21: =IF(E21="ja","OK",IF(E21="","bitte befüllen","Ausschluss")) -> bitte befüllen | G21: ja = Ok / nein = Ausschluss
A22: 2.2.3 | B22: M | C22: Ergänzungsnorm Alarmsysteme: EN 60601-1-8 | D22: ja / nein | F22: =IF(E22="ja","OK",IF(E22="","bitte befüllen","Ausschluss")) -> bitte befüllen | G22: ja = Ok / nein = Ausschluss
A23: 2.2.4 | B23: M | C23: Besondere Festlegung für die Sicherheit von Anästhesiesystemen: EN ISO 80601-2-13 | D23: ja / nein | F23: =IF(E23="ja","OK",IF(E23="","bitte befüllen","Ausschluss")) -> bitte befüllen | G23: ja = Ok / nein = Ausschluss
A24: 2.2.5 | B24: M | C24: Systeme für die Inhalationsanästhesie: ISO 8835-2 / ISO 8835-3 / ISO 8835-4 / ISO 8835-5 | D24: ja / nein | F24: =IF(E24="ja","OK",IF(E24="","bitte befüllen","Ausschluss")) -> bitte befüllen | G24: ja = Ok / nein = Ausschluss
A25: 2.2.6 | B25: M | C25: Medizinische elektrische Geräte: ISO 21647 | D25: ja / nein | F25: =IF(E25="ja","OK",IF(E25="","bitte befüllen","Ausschluss")) -> bitte befüllen | G25: ja = Ok / nein = Ausschluss
A26: 2.2.7 | B26: M | C26: Anästhesie-Arbeitsplatz: ISO 80601-2-13 | D26: ja / nein | F26: =IF(E26="ja","OK",IF(E26="","bitte befüllen","Ausschluss")) -> bitte befüllen | G26: ja = Ok / nein = Ausschluss
A27: 2.2.8 | B27: M | C27: Anästhesiegasmonitoring: DIN EN ISO 80601-2-55 | D27: ja / nein | F27: =IF(E27="ja","OK",IF(E27="","bitte befüllen","Ausschluss")) -> bitte befüllen | G27: ja = Ok / nein = Ausschluss
A28: 2.3 | C28: Zweckbestimmung und Hauptmerkmale
A29: 2.3.1 | B29: M | C29: Das Anästhesiegerät ist für allgemeine und regionale Anästhesien bei Erwachsenen, Kindern und Neonaten ohne Austausch von Komponenten (außer Patientenschlauchsystem) geeignet. | D29: ja / nein | F29: =IF(E29="ja","OK",IF(E29="","bitte befüllen","Ausschluss")) -> bitte befüllen | G29: ja = Ok / nein = Ausschluss
A30: 2.3.2 | B30: M | C30: Das Anästhesiegerät ist für Narkosen mit volatilen Anästhetika im Rückatemsystem geeignet. | D30: ja / nein | F30: =IF(E30="ja","OK",IF(E30="","bitte befüllen","Ausschluss")) -> bitte befüllen | G30: ja = Ok / nein = Ausschluss
A31: 2.3.3 | B31: M | C31: Das Gerät ermöglicht die kontinuierliche Kapnometrie bei spontan atmenden Patienten während einer Sedierung mit O₂-Insufflation, ohne dass eine maschinelle Beatmung erforderlich ist. Die Einstellung oberer und unterer Alarmgrenzen für den gemessenen CO₂-Wert ist möglich. | D31: ja / nein | F31: =IF(E31="ja","OK",IF(E31="","bitte befüllen","Ausschluss")) -> bitte befüllen | G31: ja = Ok / nein = Ausschluss
A32: 2.3.4 | B32: M | C32: Das Anästhesiegerät ermöglicht maschinelle und manuelle Beatmung als auch spontane Atmung (CPAP) mit und ohne Druckunterstützung. | D32: ja / nein | F32: =IF(E32="ja","OK",IF(E32="","bitte befüllen","Ausschluss")) -> bitte befüllen | G32: ja = Ok / nein = Ausschluss
A33: 2.3.5 | C33: Das Anästhesiegerät muss für Minimal Flow und Low Flow geeignet sein:
A34: 2.3.5.1 | B34: M | C34: - Frischgasflow reduzierbar bis zu 0,2 [L/min] | D34: ja / nein | F34: =IF(E34="ja","OK",IF(E34="","bitte befüllen","Ausschluss")) -> bitte befüllen | G34: ja = Ok / nein = Ausschluss
A35: 2.3.5.2 | B35: W | C35: - Integrierte aktive Klimatisierung des Atemgases durch eine Atemsystemheizung | D35: ja / nein | F35: =IF(E35="ja",5,IF(E35="nein",0,"bitte befüllen")) -> bitte befüllen | G35: ja = 5 Punkte / nein = 0 Punkte | H35: 5
A36: 2.3.5.3 | B36: W | C36: - Assistenzsystem zur Anzeige der Frischgasnutzung | D36: ja / nein | F36: =IF(E36="ja",5,IF(E36="nein",0,"bitte befüllen")) -> bitte befüllen | G36: ja = 5 Punkte / nein = 0 Punkte | H36: 5
A37: 2.3.6 | B37: W | C37: Das Gerät ermöglicht eine grafische Trenddarstellung des Frischgasverbrauchs bzw. der Frischgasnutzung über die letzten 30 Minuten. Die Darstellung muss eine zeitliche Nachverfolgung der Frischgasnutzung während des laufenden Anästhesieverfahrens ermöglichen. | D37: ja / nein | F37: =IF(E37="ja",10,IF(E37="nein",0,"bitte befüllen")) -> bitte befüllen | G37: ja = 10 Punkte / nein = 0 Punkte | H37: 10
A38: 2.3.7 | B38: M | C38: Das Anästhesiegerät muss mit einem integrierten Beatmungsmonitoring für die Ventilation, einer inspiratorischen O2-Messung und einem Patientengas-Messmodul für O2, CO2 und Anästhesiegase ausgestattet sein. | D38: ja / nein | F38: =IF(E38="ja","OK",IF(E38="","bitte befüllen","Ausschluss")) -> bitte befüllen | G38: ja = Ok / nein = Ausschluss
A39: 2.3.8 | B39: M | C39: Das Anästhesiegerät verfügt über eine, in die Basiseinheit integrierte O2-Flowröhre für O2-Insufflation. | D39: ja / nein | F39: =IF(E39="ja","OK",IF(E39="","bitte befüllen","Ausschluss")) -> bitte befüllen | G39: ja = Ok / nein = Ausschluss
A40: 2.3.9 | B40: M | C40: Das Anästhesiegerät verfügt über eine, in die Basiseinheit integrierte Einrichtung zur Fortleitung von Überschussgas (Anästhesiegasfortleitung). | D40: ja / nein | F40: =IF(E40="ja","OK",IF(E40="","bitte befüllen","Ausschluss")) -> bitte befüllen | G40: ja = Ok / nein = Ausschluss
A41: 2.3.10 | C41: Hauptmerkmale:
A42: 2.3.10.1 | B42: W | C42: Intelligentes Alarmsystem mit automatischer Aktivierung und Kontrolle der Alarme für zu niedrige Konzentration der volatilen Anästhetika. | D42: ja / nein | F42: =IF(E42="ja",10,IF(E42="nein",0,"bitte befüllen")) -> bitte befüllen | G42: ja = 10 Punkte / nein = 0 Punkte | H42: 10
A43: 2.3.10.2 | B43: W | C43: Das Gerät verfügt über ein Assistenzsystem, das die korrekte Verbindung der Atemschläuche sowie des Schlauches zum Handbeatmungsbeutel überwacht und den Anwender bei einer fehlerhaften, fehlenden oder gelösten Verbindung entsprechend warnt. Die Überwachungsfunktion steht sowohl während des Betriebs als auch im Standby-Modus zur Verfügung. Sofern zur Nutzung der Funktion spezielles Zubehör erforderlich ist, ist dieses vom Bieter mit anzubieten und im Angebot eindeutig zu benennen. | D43: ja / nein | F43: =IF(E43="ja",5,IF(E43="nein",0,"bitte befüllen")) -> bitte befüllen | G43: ja = 5 Punkte / nein = 0 Punkte | H43: 5
A44: 2.3.10.3 | B44: W | C44: Das Anästhesiegerät verfügt über eine Netzwerkschnittstelle und ermöglicht die automatische Synchronisation der Geräteuhr über das Network Time Protocol (NTP) mit einem vom Krankenhaus vorgegebenen NTP-Zeitserver. | D44: ja / nein | F44: =IF(E44="ja",5,IF(E44="nein",0,"bitte befüllen")) -> bitte befüllen | G44: ja = 5 Punkte / nein = 0 Punkte | H44: 5
A45: 2.3.10.4 | B45: W | C45: Digitalschnittstelle seriell Typ RS232 vorhanden und für Anwender frei zugänglich (mind. 1 Stück) | D45: ja / nein | F45: =IF(E45="ja",1,IF(E45="nein",0,"bitte befüllen")) -> bitte befüllen | G45: ja = 1 Punkte / nein = 0 Punkte | H45: 1
A46: 2.3.10.5 | B46: W | C46: Das Anästhesiegerät bietet die Möglichkeit, über eine Netzwerkschnittstelle Status- und Diagnosedaten des Gerätes einschließlich relevanter Sensorinformationen automatisiert an den technischen Service des Herstellers zu übermitteln. Die Übermittlung muss zur Unterstützung der technischen Ferndiagnose und Fehleranalyse genutzt werden können. | D46: ja / nein | F46: =IF(E46="ja",5,IF(E46="nein",0,"bitte befüllen")) -> bitte befüllen | G46: ja = 5 Punkte / nein = 0 Punkte | H46: 5
A47: 2.3.10.6 | B47: W | C47: Der Anwender kann einen Status- bzw. Diagnosereport des Anästhesiegerätes direkt über das User-Interface des Gerätes an den technischen Service des Herstellers übermitteln. Die Übermittlung kann durch den Anwender ohne Verwendung eines separaten Computers oder eines externen Serviceportals ausgelöst werden. | D47: ja / nein | F47: =IF(E47="ja",5,IF(E47="nein",0,"bitte befüllen")) -> bitte befüllen | G47: ja = 5 Punkte / nein = 0 Punkte | H47: 5
A48: 2.3.10.7 | B48: W | C48: Das Anästhesiegerät verfügt über einen geräteindividuellen QR-Code, der auf dem Bildschirm des Gerätes angezeigt wird. Durch das Scannen des QR-Codes mit einem handelsüblichen Smartphone oder Tablet erhält der Anwender direkten Zugriff auf gerätebezogene Informationen über Webseiten des Herstellers. Die über den QR-Code aufgerufenen Informationen müssen dem konkret angebotenen Gerät bzw. Gerätemodell zugeordnet sein. Ein QR-Code, der ausschließlich auf die allgemeine Internetseite des Herstellers bzw. eine allgemeine Produktseite führt, erfüllt das Kriterium nicht. | D48: ja / nein | F48: =IF(E48="ja",5,IF(E48="nein",0,"bitte befüllen")) -> bitte befüllen | G48: ja = 5 Punkte / nein = 0 Punkte | H48: 5
A49: 2.3.10.8 | B49: W | C49: Option: Die angebotenen Produkte unterstützen eine SDC-konforme Datenausgabe von Einstellwerten, Messwerten und Alarmen gemäß IEEE 11073-10207:2017, IEEE 11073-20702:2016 und IEEE 11073-20701:2018. | D49: ja / nein | F49: =IF(E49="ja",20,IF(E49="nein",0,"bitte befüllen")) -> bitte befüllen | G49: ja = 20 Punkte / nein = 0 Punkte | H49: 20
A50: 2.4 | C50: Sicherheits- und Backup-Funktionen
A51: 2.4.1 | B51: M | C51: Das Anästhesiegerät verfügt über eine integrierte O₂-Flowröhre zur Versorgung des Patienten mit Sauerstoff bei manueller Beatmung über den Handbeatmungsbeutel und das APL-Ventil. Die O₂-Versorgung zur manuellen Beatmung muss in allen Betriebszuständen des Gerätes (Aus, Standby und Betrieb) sowie bei einem Geräte- bzw. Systemfehler verfügbar sein. Die Funktion muss unabhängig von der automatischen/mechanischen Beatmungsfunktion nutzbar sein. Ein Nachweis mit Herstellerangabe bzw. technische Dokumentation/Gebrauchsanweisung ist dem Teilnahmeantrag beigefügt. | D51: ja / nein | F51: =IF(E51="ja","OK",IF(E51="","bitte befüllen","Ausschluss")) -> bitte befüllen | G51: ja = Ok / nein = Ausschluss
A52: 2.4.2 | B52: W | C52: Das Anästhesiegerät ermöglicht bei vollständigem Ausfall der externen Gasversorgung, d. h. bei Ausfall der zentralen Gasversorgung und gleichzeitig nicht verfügbarer bzw. leerer Reservegasflaschen, die Aufrechterhaltung der maschinellen Ventilation. Die maschinelle Ventilation muss nach Eintritt des vollständigen Ausfalls der externen Gasversorgung für die Mindestdauer von 20 Minuten muss bei der vorgegebenen Beatmungseinstellung eingehalten werden | D52: ja / nein | F52: =IF(E52="ja",10,IF(E52="nein",0,"bitte befüllen")) -> bitte befüllen | G52: ja = 10 Punkte / nein = 0 Punkte | H52: 10
A53: 2.4.3 | B53: W | C53: Bei ausgeschaltetem Anästhesiegerät bzw. bei Ausfall der elektrischen Energieversorgung kann die integrierte O₂-Notdosierung zur Versorgung des Patienten mit dem am Gerät angeschlossenen Vaporizer genutzt werden. Dabei muss der über die O₂-Notdosierung zugeführte Sauerstoff durch den ausgewählten Vaporizer geführt und mit dem eingestellten Anästhesiemittel angereichert werden können. | D53: ja / nein | F53: =IF(E53="ja",5,IF(E53="nein",0,"bitte befüllen")) -> bitte befüllen | G53: ja = 5 Punkte / nein = 0 Punkte | H53: 5
A54: 2.4.4 | B54: W | C54: Bei aktiver Nutzung der integrierten Notdosierung bleibt das Beatmungsmonitoring nutzbar, u.a. sind Beatmungsmesswerte im Hauptbildschirm des Narkosegerätes weiterhin sichtbar. | D54: ja / nein | F54: =IF(E54="ja",1,IF(E54="nein",0,"bitte befüllen")) -> bitte befüllen | G54: ja = 1 Punkte / nein = 0 Punkte | H54: 1
A55: 2.4.5 | B55: W | C55: Während des Einschaltvorganges muss zu jeder Zeit die manuelle Beatmung mit einem kontinuierlichen und einstellbaren Frischgasfluss möglich sein. | D55: ja / nein | F55: =IF(E55="ja",5,IF(E55="nein",0,"bitte befüllen")) -> bitte befüllen | G55: ja = 5 Punkte / nein = 0 Punkte | H55: 5
A56: 2.4.6 | B56: W | C56: Sauerstoff-Notdosierung liefert über den gesamten Einstellbereich einen zunehmend ansteigenden Gasfluss. | D56: ja / nein | F56: =IF(E56="ja",5,IF(E56="nein",0,"bitte befüllen")) -> bitte befüllen | G56: ja = 5 Punkte / nein = 0 Punkte | H56: 5
A57: 2.4.7 | B57: W | C57: Bei Nutzung der integrierten O₂-Flowröhre kann der eingestellte O₂-Flow wahlweise über das Atemsystem zur manuellen Beatmung (Handbeatmungsbeutel und APL-Ventil) oder über einen separaten Anschluss zur O₂-Insufflation geleitet werden. Die Umschaltung zwischen den beiden Anwendungen erfolgt ohne Umstecken des O₂-Schlauches. | D57: ja / nein | F57: =IF(E57="ja",10,IF(E57="nein",0,"bitte befüllen")) -> bitte befüllen | G57: ja = 10 Punkte / nein = 0 Punkte | H57: 10
A58: 2.4.8 | B58: W | C58: Das Gerät verfügt über eine automatische PEEP Stabilisierung, die dafür sorgt, dass der PEEP auch bei Leckagen aufrecht erhalten wird. | D58: ja / nein | F58: =IF(E58="ja",5,IF(E58="nein",0,"bitte befüllen")) -> bitte befüllen | G58: ja = 5 Punkte / nein = 0 Punkte | H58: 5
A59: 2.4.9 | B59: W | C59: Eine manuelle Beatmung des Patienten mittels Handbeatmungsbeutel und mechanischem APL-Ventil ist auch bei ausgeschaltetem Anästhesiegerät sowie im Fehlerfall möglich. Dabei muss die Versorgung des Patienten mit O₂ und einem am Gerät angeschlossenen Vaporizer für ein volatiles Anästhetikum weiterhin möglich sein. Die Funktion muss für die gesamte Dauer des ausgeschalteten Gerätezustands bzw. des bestehenden Fehlerzustands ohne zeitliche Begrenzung zur Verfügung stehen. | D59: ja / nein | F59: =IF(E59="ja",5,IF(E59="nein",0,"bitte befüllen")) -> bitte befüllen | G59: ja = 5 Punkte / nein = 0 Punkte | H59: 5
A60: 2.4.10 | B60: W | C60: Unterbrechungsfreie Stromversorgung für mindestens 90 min unter mechanischer kontrollierter Beatmung mit kontinuierlicher Anzeige der Batteriekapazität. Dies wird über den gesamten Nutzungszeitraum der Batterien, sprich bis zum ihrem Austausch garantiert. Die Stromversorgung muss mit Batterien innerhalb des Gehäuses des Narkosegerätes realisiert werden. Bitte Beleg beifügen. | D60: ja / nein | F60: =IF(E60="ja",5,IF(E60="nein",0,"bitte befüllen")) -> bitte befüllen | G60: ja = 5 Punkte / nein = 0 Punkte | H60: 5
A61: 2.4.11 | B61: W | C61: Eine manuelle Beatmung des Patienten mittels Handbeatmungsbeutel und APL-Ventil ist auch bei einem vollständigen Ausfall der elektrischen Energieversorgung und bei vollständig entladenem internen Akku weiterhin möglich. Dabei muss die Applikation eines volatilen Anästhetikums über den am Anästhesiegerät angeschlossenen Vaporizer weiterhin möglich sein. Die Funktion muss ohne elektrische Energieversorgung und ohne Nutzung der maschinellen Beatmungsfunktion zur Verfügung stehen. | D61: Angabe der Dauer in "Minuten" | F61: =IF(E61="","bitte befüllen",IF(OR(E61="unbegrenzt",E61>=60),8,IF(E61>=30,4,IF(E61>=20,2,0)))) -> bitte befüllen | G61: < 20 = 0 Punkte ≥ 20 = 2 Punkte ≥ 30 = 4 Punkte ≥ 60 oder unbegrenzt = 8 Punkte | H61: 8
A62: 2.4.12 | B62: W | C62: Eine maschinelle Beatmung ist auch bei Defekt oder Ausfall der Flowmessung möglich. | D62: ja / nein | F62: =IF(E62="ja",10,IF(E62="nein",0,"bitte befüllen")) -> bitte befüllen | G62: ja = 10 Punkte / nein = 0 Punkte | H62: 10
A63: 2.4.13 | C63: Verhalten bei Ausfall der zentralen Gasversorgung:
A64: 2.4.13.1 | B64: W | C64: Die maschinelle Beatmung kann bei Ausfall der zentralen Gasversorgung und nach Verbrauch der verfügbaren Reservegasflaschen weiterhin mit Umgebungsluft aufrechterhalten werden. | D64: Angabe der Dauer in "Minuten" | F64: =IF(E64="","Bitte befüllen",IF(OR(E64="unbegrenzt",E64>=60),8,IF(E64>=30,4,IF(E64>=20,2,0)))) -> Bitte befüllen | G64: ≥ 20 = 2 Punkte ≥ 30 = 4 Punkte ≥ 60 oder unbegrenzt = 8 Punkte | H64: 8
A65: 2.4.13.2 | B65: W | C65: Bei Ausfall eines Gases der zentralen Gasversorgung und nach Verbrauch der entsprechenden Reservegasflaschen wird die maschinelle Beatmung ohne Verzögerung und/oder ohne notwendige Anwenderinteraktion kontinuierlich fortgeführt. Herstellerangabe und technische Beschreibung des Umschalt- bzw. Versorgungskonzeptes ist dem Teilnahmeantrag beigefügt. | D65: ja / nein | F65: =IF(E65="ja",10,IF(E65="nein",0,"bitte befüllen")) -> bitte befüllen | G65: ja = 10 Punkte / nein = 0 Punkte | H65: 10
A66: 2.4.13.3 | C66: Das Anästhesiegerät verfügt über einen mechanisch aktivierbaren Notschalter, der bei definierten technischen Fehlerfällen einen unmittelbaren Wechsel von der maschinellen zur manuellen Beatmung ermöglicht. Mit Aktivierung des Notschalters wird die elektronische Frischgasdosierung automatisch deaktiviert, um eine sichere manuelle Beatmung zu ermöglichen. Sofern der Bildschirm des Gerätes noch funktionsfähig ist, werden dem Anwender konkrete Handlungsschritte zur sicheren Fortführung der manuellen Beatmung angezeigt. Bewertet wird das Vorhandensein und der Funktionsumfang des beschriebenen mechanischen Notfall-Bypasses, siehe Antworten Position 2.4.16.1, 2.4.16.2 und 2.4.16.3
A67: 2.4.13.4 | B67: W | C67: Beatmung mit Umgebungsluft | D67: ja / nein | F67: =IF(E67="ja",8,IF(E67="nein",0,"bitte befüllen")) -> bitte befüllen | G67: ja = 8 Punkte / nein = 0 Punkte | H67: 8
A68: 2.4.13.5 | B68: W | C68: Automatische Fortführung bei O₂/Air-Ausfall | D68: ja / nein | F68: =IF(E68="ja",8,IF(E68="nein",0,"bitte befüllen")) -> bitte befüllen | G68: ja = 8 Punkte / nein = 0 Punkte | H68: 8
A69: 2.4.13.6 | B69: W | C69: Mechanischer Notfall-Bypass | D69: ja / nein | F69: =IF(E69="ja",6,IF(E69="nein",0,"bitte befüllen")) -> bitte befüllen | G69: ja = 6 Punkte / nein = 0 Punkte | H69: 6
A70: 2.5 | C70: Gerätetest und Status Informationen
A71: 2.5.1 | B71: M | C71: Vollautomatischer Systemtest beinhaltet: | D71: ja / nein | F71: =IF(E71="ja","OK",IF(E71="","bitte befüllen","Ausschluss")) -> bitte befüllen | G71: ja = Ok / nein = Ausschluss
A72: 2.5.2 | B72: M | C72: - Test aller Sensoren und Ventile | D72: ja / nein | F72: =IF(E72="ja","OK",IF(E72="","bitte befüllen","Ausschluss")) -> bitte befüllen | G72: ja = Ok / nein = Ausschluss
A73: 2.5.3 | B73: M | C73: - Kalibrierung aller Sensoren | D73: ja / nein | F73: =IF(E73="ja","OK",IF(E73="","bitte befüllen","Ausschluss")) -> bitte befüllen | G73: ja = Ok / nein = Ausschluss
A74: 2.5.4 | B74: M | C74: - Leckage und Compliance Messung, inkl. Atemsystem | D74: ja / nein | F74: =IF(E74="ja","OK",IF(E74="","bitte befüllen","Ausschluss")) -> bitte befüllen | G74: ja = Ok / nein = Ausschluss
A75: 2.5.5 | B75: M | C75: - System Compliance. | D75: ja / nein | F75: =IF(E75="ja","OK",IF(E75="","bitte befüllen","Ausschluss")) -> bitte befüllen | G75: ja = Ok / nein = Ausschluss
A76: 2.5.6 | B76: W | C76: Das Anästhesiegerät muss das Vorhandensein und die korrekte Position der In- und Exspirationsmembrane automatisch erkennen bzw. überwachen. Eine ausschließlich durch den Anwender durchzuführende manuelle Kontrolle des Vorhandenseins oder der korrekten Position der In- und Exspirationsmembrane erfüllt das Mindestkriterium nicht. | D76: ja / nein | F76: =IF(E76="ja",20,IF(E76="nein",0,"bitte befüllen")) -> bitte befüllen | G76: ja = 20 Punkte / nein = 0 Punkte | H76: 20
A77: 2.5.7 | B77: W | C77: Der Systemtest des Anästhesiegerätes kann vollständig automatisiert durchgeführt werden. Während der Durchführung des Systemtests sind keinerlei Benutzerinteraktionen oder manuelle Eingaben erforderlich. | D77: ja / nein | F77: =IF(E77="ja",5,IF(E77="nein",0,"bitte befüllen")) -> bitte befüllen | G77: ja = 5 Punkte / nein = 0 Punkte | H77: 5
A78: 2.5.8 | B78: W | C78: Der Systemtest kann zeitgesteuert zu einem vom Anwender festgelegten Zeitpunkt gestartet werden, um die Verfügbarkeit des Anästhesiegerätes zu einem definierten Zeitpunkt sicherzustellen. | D78: ja / nein | F78: =IF(E78="ja",5,IF(E78="nein",0,"bitte befüllen")) -> bitte befüllen | G78: ja = 5 Punkte / nein = 0 Punkte | H78: 5
A79: 2.5.9 | B79: W | C79: Der Anwender kann bei der Aktivierung des zeitgesteuerten Systemtests festlegen, ob das Gerät: - aus dem ausgeschalteten Zustand automatisch eingeschaltet und anschließend der Systemtest durchgeführt wird oder - sich bereits im Standby-Modus befindet und der Systemtest zum festgelegten Zeitpunkt automatisch gestartet wird. Befindet sich das Gerät bis zum zeitgesteuerten Systemtest im Standby-Modus, wird der Systemtest automatisch im Hintergrund durchgeführt. | D79: ja / nein | F79: =IF(E79="ja",5,IF(E79="nein",0,"bitte befüllen")) -> bitte befüllen | G79: ja = 5 Punkte / nein = 0 Punkte | H79: 5
A80: 2.5.10 | B80: W | C80: Es ist kein zusätzlicher Systemtest bzw. keine zusätzliche Prüfung zwischen zwei Patienten vorgeschrieben. Die entsprechenden Passagen aus der gültigen Gebrauchsanweisung ist als Anlage beizufügen. | D80: ja / nein | F80: =IF(E80="ja",5,IF(E80="nein",0,"bitte befüllen")) -> bitte befüllen | G80: ja = 5 Punkte / nein = 0 Punkte | H80: 5
A81: 2.5.11 | B81: W | C81: Falls nach dem bestanden Selbsttest weitere manuelle Tests erforderlich sind, sind die entsprechenden Passagen und Abschnitt aus der Gebrauchsanweisung in einer separaten Anlage beizufügen und der Zeitaufwand nachvollziehbar zu belegen. Wenn keine weiteren manuellen Tests erforderlich sind, wird die volle Punktzahl vergeben. Wenn weitere manuelle Tests erforderlich sind, werden 0 Punkte vergeben. | D81: ja / nein | F81: =IF(E81="ja",5,IF(E81="nein",0,"bitte befüllen")) -> bitte befüllen | G81: ja = 5 Punkte / nein = 0 Punkte | H81: 5
A82: 2.5.12 | B82: W | C82: Während des Selbsttests werden keine volatilen Anästhetika verbraucht. Wenn das Narkosegerät während des Selbsttest volatile Anästhetika verbraucht, sind die genauen Verbräuche in Milliliter [ml] jeweils für Sevoflurane, Desflurane und Isoflurane für 365 Tagen Betriebszeit und tägliche Selbsttests anzugeben. Wenn das Narkosegerät keine volatilen Anästhetika verbraucht, wird die volle Punktzahl vergeben. Wenn volatile Anästhetika während des Selbsttests verbraucht werden, werden 0 Punkte vergeben. | D82: ja / nein | F82: =IF(E82="ja",5,IF(E82="nein",0,"bitte befüllen")) -> bitte befüllen | G82: ja = 5 Punkte / nein = 0 Punkte | H82: 5
A83: 2.5.13 | B83: W | C83: Wenn der automatisierte Systemtest aufgrund eines Fehlers unterbrochen oder abgebrochen wird, muss das Anästhesiegerät den Anwender durch ein akustisches Signal auf den Fehler hinweisen. Nach Behebung der Fehlerursache muss der Systemtest an der unterbrochenen Stelle fortgesetzt werden können, ohne dass der bereits erfolgreich durchgeführte Teil des Systemtests erneut durchgeführt werden muss. | D83: ja / nein | F83: =IF(E83="ja",5,IF(E83="nein",0,"bitte befüllen")) -> bitte befüllen | G83: ja = 5 Punkte / nein = 0 Punkte | H83: 5
A84: 2.5.14 | B84: W | C84: Das Ergebnis des Systemtest wird in der Übersicht angezeigt und kann bei Bedarf wieder aufgerufen werden. Hierbei werden Ergebnisse einzelner Testbestandteile sowohl farblich als auch durch eindeutige Symbole gekennzeichnet. Die Symbole müssen sich entsprechend der Farben voneinander unterscheiden, sodass z.B. farbenblinde Anwender die einzelnen Ergebnisse der Tests erkennen können. | D84: ja / nein | F84: =IF(E84="ja",5,IF(E84="nein",0,"bitte befüllen")) -> bitte befüllen | G84: ja = 5 Punkte / nein = 0 Punkte | H84: 5
A85: 2.5.15 | B85: W | C85: Falls manuelle Prüfungen bestimmter Systemkomponenten nicht bestanden werden, unter anderem der Notfall-Handbeatmungsbeutel nicht vorhanden ist, kann dieses einzeln pro Prüfung auf einer Checkliste im Gerät vermerkt werden. | D85: ja / nein | F85: =IF(E85="ja",5,IF(E85="nein",0,"bitte befüllen")) -> bitte befüllen | G85: ja = 5 Punkte / nein = 0 Punkte | H85: 5
A86: 2.5.16 | B86: W | C86: Falls manuelle Prüfungen bestimmter Systemkomponenten nicht bestanden wurden, ist dies am Ergebnis des Selbst- / Leckagetests erkennbar und ein entsprechender Hinweis auf die im Gerät gespeicherte Checkliste wird auf dem Standby-Screen angezeigt. | D86: ja / nein | F86: =IF(E86="ja",5,IF(E86="nein",0,"bitte befüllen")) -> bitte befüllen | G86: ja = 5 Punkte / nein = 0 Punkte | H86: 5
A87: 2.5.17 | B87: W | C87: Nicht bestandene manuelle Prüfungen bestimmter Systemkomponten, können erneut durchgeführt werden und das Gesamtergebnis des System- / Leckagetests wird entsprechend angepasst, ohne den automatischen Test erneut durchlaufen zu müssen. | D87: ja / nein | F87: =IF(E87="ja",5,IF(E87="nein",0,"bitte befüllen")) -> bitte befüllen | G87: ja = 5 Punkte / nein = 0 Punkte | H87: 5
A88: 2.5.18 | B88: W | C88: Ob die manuelle Prüfung mandatorisch in einem schrittweisen Verfahren mit Bebilderung und Anweisungen durchgeführt werden muss, kann in der Systemkonfiguration festgelegt werden. | D88: ja / nein | F88: =IF(E88="ja",5,IF(E88="nein",0,"bitte befüllen")) -> bitte befüllen | G88: ja = 5 Punkte / nein = 0 Punkte | H88: 5
... A90: 2.5.20 | B90: W | C90: Das Anästhesiegerät erkennt im Rahmen des Selbst- bzw. Leckagetests falsch konnektierte Atemschläuche, einschließlich eines Schlauchkurzschlusses durch direkte Verbindung des Inspirations- und Exspirationsanschlusses. Der Anwender wird konkret auf die fehlerhafte Konnektierung hingewiesen. Ein lediglich nicht bestandenes Ergebnis des Selbst- bzw. Leckagetests ohne konkrete Identifikation der fehlerhaften Schlauchkonfiguration erfüllt das Kriterium nicht. | D90: ja / nein | F90: =IF(E90="ja",5,IF(E90="nein",0,"bitte befüllen")) -> bitte befüllen | G90: ja = 5 Punkte / nein = 0 Punkte | H90: 5
A91: 2.5.21 | B91: W | C91: Das System erinnert den Anwender während des Systemtests oder im Standby an den erforderlichen Austausch von Verbrauchsmaterialien. Die Erfassung der Austauschintervalle erfolgt automatisch. Das Assistenzsystem unterstützt mindestens folgende Komponenten: - Flowsensoren - Wasserfallen - Atemkalk - Atemschlauchsysteme Neu eingesetzte bzw. ausgetauschte Komponenten werden vom Gerät automatisch erkannt und das jeweilige Austauschintervall entsprechend aktualisiert. Die Austauschintervalle müssen konfigurierbar sein. | D91: ja / nein | F91: =IF(E91="ja",10,IF(E91="nein",0,"bitte befüllen")) -> bitte befüllen | G91: ja = 10 Punkte / nein = 0 Punkte | H91: 10
A92: 2.5.22 | B92: W | C92: Das Anästhesiegerät erkennt automatisch, wenn die ausgewählte Patientenkategorie nicht mit dem angeschlossenen Patientenschlauchsystem übereinstimmt, beispielsweise bei einer Auswahl von Erwachsener, pädiatrischer Patient oder Neonat. Der Anwender erhält eine entsprechende optische und/oder akustische Warnung. | D92: ja / nein | F92: =IF(E92="ja",10,IF(E92="nein",0,"bitte befüllen")) -> bitte befüllen | G92: ja = 10 Punkte / nein = 0 Punkte | H92: 10
A93: 2.5.23 | B93: W | C93: Das Anästhesiegerät erkennt bereits im Standby-Modus, ob die Atemschläuche bzw. der Schlauch des Handbeatmungsbeutels falsch oder fehlerhaft konnektiert sind. Der Anwender erhält vor Beginn der Anästhesie einen entsprechenden konkreten Hinweis auf die fehlerhafte Konnektierung. | D93: ja / nein | F93: =IF(E93="ja",10,IF(E93="nein",0,"bitte befüllen")) -> bitte befüllen | G93: ja = 10 Punkte / nein = 0 Punkte | H93: 10
A94: 2.5.24 | B94: W | C94: Der aktuelle Ladezustand des integrierten Akkus kann auch bei ausgeschaltetem Anästhesiegerät ohne vorheriges Einschalten des Gerätes abgerufen bzw. angezeigt werden. | D94: ja / nein | F94: =IF(E94="ja",10,IF(E94="nein",0,"bitte befüllen")) -> bitte befüllen | G94: ja = 10 Punkte / nein = 0 Punkte | H94: 10
A95: 2.5.25 | B95: W | C95: Das Passwort, um das Menü der Systemeinstellungen zu erreichen, besteht aus mindestens 8 Zeichen. | D95: ja / nein | F95: =IF(E95="ja",5,IF(E95="nein",0,"bitte befüllen")) -> bitte befüllen | G95: ja = 5 Punkte / nein = 0 Punkte | H95: 5
A96: 2.5.26 | B96: W | C96: Das Anästhesiegerät verfügt über ein unabhängig vom regulären Leckagetest nutzbares Assistenzsystem zur schnellen Leckage-Detektion. Das Gerät baut hierzu automatisiert einen definierten Prüfdruck im Atemsystem auf und ermittelt kontinuierlich den Leckagewert. Der aktuelle Leckagewert wird numerisch und dessen zeitlicher Verlauf grafisch auf dem Display dargestellt. Die Funktion ist ohne Durchführung des vollständigen Leckagetests nutzbar. | D96: ja / nein | F96: =IF(E96="ja",10,IF(E96="nein",0,"bitte befüllen")) -> bitte befüllen | G96: ja = 10 Punkte / nein = 0 Punkte | H96: 10
A97: 2.6 | C97: Therapie
A98: 2.6.1 | C98: Ventilationsleistung
A99: 2.6.2 | B99: W | C99: Der Ventilator ist elektronisch gesteuert und elektrisch angetrieben [Antwort: Ziffer "0" eintragen]. Sofern für den Betrieb des Ventilators zusätzlich ein Antriebsgas erforderlich ist, hat der Bieter den Verbrauch des Antriebsgases in l/min anzugeben. Der Verbrauch ist für folgende definierte Beatmungssituation anzugeben: - druckkontrollierte Beatmung - Inspirationsdruck: 20 mbar - PEEP: 5 mbar - resultierendes Tidalvolumen: 600 ml - Atemfrequenz: 12/min - Dauer: 3 Stunden Das erforderliche Antriebsgas ist eindeutig zu benennen. Die Angaben sind in einer separaten Anlage zum Angebot einzureichen. | D99: Angabe Verbrauch des Antriebsgases "l/min" | F99: =IF(E99="","bitte befüllen","OK") -> bitte befüllen | G99: Der niedrigste Verbrauch erhält damit 20 Punkte. Angebote mit höherem Verbrauch erhalten entsprechend weniger Punkte. Punkte = (niedrigster angebotener Antriebsgasverbrauch / Antriebsgasverbrauch des jeweiligen Angebots) × 20 | H99: 20
A100: 2.6.3 | B100: W | C100: Sofern das angebotene Anästhesiegerät für den Betrieb des Ventilators ein Antriebsgas benötigt, müssen pro angebotenem Gerät mindestens folgende Komponenten Bestandteil des Angebotes sein: - eine geeignete 5-Liter-Reservegasflasche des erforderlichen Antriebsgases, - ein geeigneter Druckminderer mit Druckanzeige, - eine Möglichkeit zur Anzeige des verbleibenden Flaschendrucks am Hauptbildschirm des Anästhesiegerätes. Bei einem elektrisch betriebenen Ventilator, der kein Antriebsgas benötigt, entfällt diese Anforderung. Ein Nachweis "Herstellerangabe bzw. technische Dokumentation" ist dem Teilnahmeantrag beigefügt. | D100: ja / nein / entfällt | F100: =IF(E100="ja",10,IF(E100="nein",0,IF(E100="entfällt",10,"bitte befüllen"))) -> bitte befüllen | G100: ja = 10 Punkte / nein = 0 Punkte / entfällt = 10 Punkte | H100: 10
A101: 2.6.4 | B101: W | C101: Der Ventilator arbeitet nicht nach dem Bag-in-Bottle Prinzip. Ein Nachweis mit Herstellerangabe bzw. technische Dokumentation ist dem Teilnahmeantrag beigefügt. | D101: ja / nein | F101: =IF(E101="ja",5,IF(E101="nein",0,"bitte befüllen")) -> bitte befüllen | G101: ja = 5 Punkte / nein = 0 Punkte | H101: 5
A102: 2.6.5 | B102: W | C102: Das abgegebene Tidalvolumen bleibt bei einer Änderung des Frischgasflows möglichst unabhängig vom eingestellten Frischgasflow. Bei ansonsten unveränderten Beatmungseinstellungen wird der Frischgasflow von 0,2 l/min auf 5,0 l/min verändert. Die Änderung erfolgt in einem Schritt bzw. innerhalb eines Atemzuges. Bewertet wird die daraus resultierende prozentuale Veränderung des abgegebenen Tidalvolumens (VT). | D102: Angabe Veränderung des Tidalvolumens (VT) in % | F102: =IF(E102="","bitte befüllen",IF(E102<=1%,10,IF(E102<=3%,8,IF(E102<=5%,6,IF(E102<=10%,3,0))))) -> bitte befüllen | G102: ≤ 1 % = 10 Punkte > 1 % bis ≤ 3 % = 8 Punkte > 3 % bis ≤ 5 % = 6 Punkte > 5 % bis ≤ 10 % = 3 Punkte > 10 % = 0 Punkte | H102: 10
A103: 2.6.6 | B103: W | C103: Das Anästhesiegerät optimiert das Atemsystemvolumen auf Basis der eingestellten und gemessenen Tidalvolumina. | D103: ja / nein | F103: =IF(E103="ja",10,IF(E103="nein",0,"bitte befüllen")) -> bitte befüllen | G103: ja = 10 Punkte / nein = 0 Punkte | H103: 10
...

Sheet Los 4 LV und LB
A1: Zurück zum Inhaltsverzeichnis
A2: Bestandteil des Teilnahmeantrag
A3: Teil II für Los 4 High-End-Transportbeatmungsgerät
A4: Leistungsbeschreibung und -verzeichnis
A5: für | B5: =Inhaltsverzeichnis!B2 -> Rahmenvertrag über Lieferung, Aufstellung und Inbetriebnahme von Narkose- und Beatmungssystemen
A6: Vergabenummer | B6: =Inhaltsverzeichnis!B3 -> 2026_JDS_05
A8: Name des Bieter | C8: ='Anforderungen Los 1-3'!C8 -> 0
A10: Bitte füllen Sie nur die hellblauen Felder aus, ändern Sie weder Formeln, noch Reihenfolgen in der Matrix!
A11: Positionsnr. | B11: Typ | C11: Beschreibung | D11: Vorgaben / Fragen / Einheit | E11: bitte ausfüllen | F11: Auswertung | G11: Hinweis | H11: =SUM(H12:H143) -> 565
A12: 2.1 | C12: Allgemeines
A13: 2.1.1 | B13: M | C13: Ausgeschrieben sind High-End-Transportbeatmungsgeräte für den klinischen und präklinischen Betrieb. Die Geräte beinhalten neben den Standardbeatmungsformen Beatmungsarten mit freier Durchatembarkeit und druckunterstützender Beatmung. Die Geräte müssen Modi für die invasiven, noninvasiven Beatmung sowie Highflow-O2-Therapie enthalten. Es sollen Erwachsene und Kinder beatmet werden können. | D13: ja / nein | F13: =IF(E13="ja","OK",IF(E13="","bitte befüllen","Ausschluss")) -> bitte befüllen | G13: ja = Ok / nein = Ausschluss
A14: 2.1.2 | B14: M | C14: Sofern das angebotene Transportbeatmungsgerät als fahrbares System ausgeführt wird, muss dieses mit einer Vorrichtung zur sicheren Aufnahme und Befestigung von mindestens einer O₂-Flaschen mit einem Nennvolumen von jeweils 5 Litern ausgestattet sein. Die genannten Ausstattungsmerkmale müssen Bestandteil des fahrbaren Systems sein. Die hierfür anfallenden Kosten sind separat auszuweisen. | D14: ja / nein | F14: =IF(E14="ja","OK",IF(E14="","bitte befüllen","Ausschluss")) -> bitte befüllen | G14: ja = Ok / nein = Ausschluss
A15: 2.1.3 | B15: W | C15: Bewertet wird das Alter des angebotenen Transportbeatmungsgerät, ausgehend vom Zeitpunkt der erstmaligen Markteinführung des konkret angebotenen Gerätemodells. Ein geeigneter Hersteller-Nachweis ist dem Teilnahmeantrag beizufügen. | D15: Angabe in Jahr "YYYY" | F15: =IF(E15="","bitte befüllen",IF(E15>=2022,20,0)) -> bitte befüllen | G15: vor 2022 = 0 Punkte / ab 2022 = 20 Punkte | H15: 20
A16: 2.1.4 | B16: W | C16: Bewertet wird die Aktualität der auf dem angebotenen Transportbeatmungsgerät eingesetzten Firmware. Maßgeblich ist der Zeitpunkt der letzten vom Hersteller freigegebenen Firmware-Version, die für das konkret angebotene Gerätemodell verfügbar ist. Ein geeigneter Hersteller-Nachweis ist dem Teilnahmeantrag beizufügen. | D16: Angabe in Jahr "YYYY" | F16: =IF(E16="","bitte befüllen",IF(E16>=2024,20,0)) -> bitte befüllen | G16: vor 2024 = 0 Punkte / ab 2024 = 20 Punkte | H16: 20
A17: 2.2 | C17: Anerkannten Regeln der Technik / Vorschriften und Verordnungen
A18: 2.2.1 | B18: M | C18: Medizinische elektrische Geräte: IEC 60601-1 | D18: ja / nein | F18: =IF(E18="ja","OK",IF(E18="","bitte befüllen","Ausschluss")) -> bitte befüllen | G18: ja = Ok / nein = Ausschluss
A19: 2.2.2 | B19: M | C19: Ergänzungsnorm Elektromagnetische Störgrößen: IEC 60601-1-2 | D19: ja / nein | F19: =IF(E19="ja","OK",IF(E19="","bitte befüllen","Ausschluss")) -> bitte befüllen | G19: ja = Ok / nein = Ausschluss
A20: 2.2.3 | B20: M | C20: Elektrische Sicherheit: EN 60601-1-6 | D20: ja / nein | F20: =IF(E20="ja","OK",IF(E20="","bitte befüllen","Ausschluss")) -> bitte befüllen | G20: ja = Ok / nein = Ausschluss
A21: 2.2.4 | B21: M | C21: Anforderungen an Alarmsysteme sowie an deren Dokumentation EN 60601-1-8 | D21: ja / nein | F21: =IF(E21="ja","OK",IF(E21="","bitte befüllen","Ausschluss")) -> bitte befüllen | G21: ja = Ok / nein = Ausschluss
A22: 2.2.5 | B22: M | C22: Medizinische elektrische Geräte: ISO 80601-2-90 | D22: ja / nein | F22: =IF(E22="ja","OK",IF(E22="","bitte befüllen","Ausschluss")) -> bitte befüllen | G22: ja = Ok / nein = Ausschluss
A23: 2.2.6 | B23: M | C23: Das angebotene Transportbeatmungsgerät muss die Anforderungen der DIN EN ISO 80601-2-84:2024-04 und DIN EN ISO 80601-2-12:2025-03 bzw. der jeweils gültigen Nachfolgenorm erfüllen. | D23: ja / nein | F23: =IF(E23="ja","OK",IF(E23="","bitte befüllen","Ausschluss")) -> bitte befüllen | G23: ja = Ok / nein = Ausschluss
A24: 2.3 | C24: Produktspezifikation
A25: 2.3.1 | B25: M | C25: Das Gerät wird mit Turbinentechnologie angetrieben | D25: ja / nein | F25: =IF(E25="ja","OK",IF(E25="","bitte befüllen","Ausschluss")) -> bitte befüllen | G25: ja = Ok / nein = Ausschluss
A26: 2.3.2 | B26: M | C26: Ein integrierter HEPA-Filter (min. Klasse 13) filtert die angesaugte Umgebungsluft. | D26: ja / nein | F26: =IF(E26="ja","OK",IF(E26="","bitte befüllen","Ausschluss")) -> bitte befüllen | G26: ja = Ok / nein = Ausschluss
A27: 2.3.3 | B27: M | C27: FiO2 stufenlos einstellbar von 21-100 Vol.% | D27: ja / nein | F27: =IF(E27="ja","OK",IF(E27="","bitte befüllen","Ausschluss")) -> bitte befüllen | G27: ja = Ok / nein = Ausschluss
A28: 2.3.4 | B28: W | C28: Das Gewicht der betriebsbereiten Beatmungseinheit einschließlich Standardakku, jedoch ohne Zusatzakku, beträgt maximal 6,5 kg. | D28: ja / nein | F28: =IF(E28="ja",20,IF(E28="nein",0,"bitte befüllen")) -> bitte befüllen | G28: ja = 20 Punkte / nein = 0 Punkte | H28: 20
A29: 2.3.5 | B29: M | C29: Das farbige Touchdisplay hat eine Mindestgröße von 8,4" | D29: ja / nein | F29: =IF(E29="ja","OK",IF(E29="","bitte befüllen","Ausschluss")) -> bitte befüllen | G29: ja = Ok / nein = Ausschluss
A30: 2.3.6 | B30: W | C30: Das Display ist bei ebenerdiger Aufstellung des Gerätes in einem Neigungswinkel von 30° bis 40° zur Horizontalen angeordnet. | D30: ja / nein | F30: =IF(E30="ja",20,IF(E30="nein",0,"bitte befüllen")) -> bitte befüllen | G30: ja = 20 Punkte / nein = 0 Punkte | H30: 20
A31: 2.3.7 | B31: W | C31: Ein am Gerät verbauter Tragegurt ermöglicht es, dass das Gerät auf der Schulter getragen werden kann. | D31: ja / nein | F31: =IF(E31="ja",10,IF(E31="nein",0,"bitte befüllen")) -> bitte befüllen | G31: ja = 10 Punkte / nein = 0 Punkte | H31: 10
A32: 2.3.8 | B32: W | C32: Die Anschlüsse des Patientenschlauchsystems sind konstruktiv gegen Stoßeinwirkungen und daraus resultierende Beschädigungen geschützt. Der Schutz kann beispielsweise durch einen fest mit dem Gerät verbundenen Schutzbügel oder durch eine entsprechend ausgeführte Schlauchsystemführung (z. B. Schlauchsystem-Winkel) gewährleistet werden. | D32: ja / nein | F32: =IF(E32="ja",20,IF(E32="nein",0,"bitte befüllen")) -> bitte befüllen | G32: ja = 20 Punkte / nein = 0 Punkte | H32: 20
A33: 2.3.9 | B33: M | C33: Klaue zur Montage an einer DIN-Normschiene und zur Bettmontage vorhanden | D33: ja / nein | F33: =IF(E33="ja","OK",IF(E33="","bitte befüllen","Ausschluss")) -> bitte befüllen | G33: ja = Ok / nein = Ausschluss
A34: 2.3.10 | B34: M | C34: Das Gerät verfügt über einen NIST-Anschluss für einen O2-ZV-Schlauch | D34: ja / nein | F34: =IF(E34="ja","OK",IF(E34="","bitte befüllen","Ausschluss")) -> bitte befüllen | G34: ja = Ok / nein = Ausschluss
A35: 2.3.11 | B35: M | C35: Das Gerät muss eine direkte Verbindung mit der im Rettungswagen vorhandenen O₂-Versorgung über eine DIN-Schnellkupplung oder eine Schnellkupplung Typ Walther ermöglichen. Die hierfür erforderliche Anschlusskompatibilität darf über ein geeignetes separates Schlauchset oder einen geeigneten Adapter hergestellt werden. | D35: ja / nein | F35: =IF(E35="ja","OK",IF(E35="","bitte befüllen","Ausschluss")) -> bitte befüllen | G35: ja = Ok / nein = Ausschluss
A36: 2.3.12 | B36: M | C36: Das Gerät ist sowohl mit 100% Sauerstoff, als auch mit 93% Sauerstoff betrieben werden | D36: ja / nein | F36: =IF(E36="ja","OK",IF(E36="","bitte befüllen","Ausschluss")) -> bitte befüllen | G36: ja = Ok / nein = Ausschluss
A37: 2.3.13 | B37: M | C37: High-Flow-O2-Therapie (HFOT) mit mind. 60L/min ist im Gerät integriert | D37: ja / nein | F37: =IF(E37="ja","OK",IF(E37="","bitte befüllen","Ausschluss")) -> bitte befüllen | G37: ja = Ok / nein = Ausschluss
A38: 2.3.14 | B38: M | C38: Präoxygenierung über eine haptische Schnelltaste ist möglich | D38: ja / nein | F38: =IF(E38="ja","OK",IF(E38="","bitte befüllen","Ausschluss")) -> bitte befüllen | G38: ja = Ok / nein = Ausschluss
A39: 2.3.15 | B39: M | C39: Das Gerät ist zugelassen für den Einsatz in der Klinik und im präklinischen Rettungsdienst. | D39: ja / nein | F39: =IF(E39="ja","OK",IF(E39="","bitte befüllen","Ausschluss")) -> bitte befüllen | G39: ja = Ok / nein = Ausschluss
A40: 2.3.16 | B40: M | C40: Die Flowleistung der Turbine beträgt 200L/min oder mehr | D40: ja / nein | F40: =IF(E40="ja","OK",IF(E40="","bitte befüllen","Ausschluss")) -> bitte befüllen | G40: ja = Ok / nein = Ausschluss
A41: 2.3.17 | B41: W | C41: Das Gerät erfüllt mindestens IP-Schutzklasse 44 (Wasser/Staub) | D41: ja / nein | F41: =IF(E41="ja",5,IF(E41="nein",0,"bitte befüllen")) -> bitte befüllen | G41: ja = 5 Punkte / nein = 0 Punkte | H41: 5
A42: 2.4 | C42: Bedienkonzept, Gerätecheck und Handhabung
A43: 2.4.1 | B43: M | C43: Das Gerät kann mit individuellen Voreinstellungen in verschiedenen Patientenkategorien, Beatmungsmodi und Starteinstellungen vorkonfiguriert werden. | D43: ja / nein | F43: =IF(E43="ja","OK",IF(E43="","bitte befüllen","Ausschluss")) -> bitte befüllen | G43: ja = Ok / nein = Ausschluss
A44: 2.4.2 | B44: W | C44: Der HEPA-Filterwechsel ist durch den klinischen Anwender und ohne Werkzeug möglich | D44: ja / nein | F44: =IF(E44="ja",20,IF(E44="nein",0,"bitte befüllen")) -> bitte befüllen | G44: ja = 20 Punkte / nein = 0 Punkte | H44: 20
A45: 2.4.3 | B45: W | C45: Der Geräteselbsttest inklusive Schlauch- und Flowsensor-Test startet vollautomatisch und ohne zusätzliche Interaktion beim Einschalten des Gerätes. | D45: ja / nein | F45: =IF(E45="ja",20,IF(E45="nein",0,"bitte befüllen")) -> bitte befüllen | G45: ja = 20 Punkte / nein = 0 Punkte | H45: 20
A46: 2.4.4 | B46: W | C46: Der gesamte Geräteselbsttest inklusive Schlauch- und Flowsensor-Test dauert nicht länger als 80 Sekunden. | D46: ja / nein | F46: =IF(E46="ja",20,IF(E46="nein",0,"bitte befüllen")) -> bitte befüllen | G46: ja = 20 Punkte / nein = 0 Punkte | H46: 20
A47: 2.4.5 | B47: W | C47: Die Ergebnisse des Geräte- und Schlauchset-Tests einschließlich der Flowsensorkalibrierung werden im Gerät gespeichert. Bei gültigem Testergebnis ist nach dem Einschalten eine sofortige Aufnahme der Beatmung ohne erneute Durchführung dieser Tests möglich. | D47: ja / nein | F47: =IF(E47="ja",20,IF(E47="nein",0,"bitte befüllen")) -> bitte befüllen | G47: ja = 20 Punkte / nein = 0 Punkte | H47: 20
A48: 2.4.6 | B48: W | C48: Das Einwegschlauchsystem einschließlich Exspirationsventil, Flow- und Druckleitung wird als vorkonfektionierte, anschlussbereite Einheit geliefert. Die einzelnen Komponenten sind im Betrieb trennbar und können bei Bedarf separat ausgetauscht werden, sodass bei einem Defekt einer Einzelkomponente nicht das gesamte Schlauchsystem ersetzt werden muss. Eine entsprechende Beschreibung der Ausführung und Austauschmöglichkeiten ist dem Angebot beizulegen. | D48: ja / nein | F48: =IF(E48="ja",10,IF(E48="nein",0,"bitte befüllen")) -> bitte befüllen | G48: ja = 10 Punkte / nein = 0 Punkte | H48: 10
A49: 2.4.7 | B49: W | C49: Die Länge der Gesamtzubehörkomponente (Einwegschlauchsystem, Exspirationsventil sowie Flow- und Druckleitung, fest miteinander verbunden) für erwachsene Patienten muss mindestens 1,5 m und maximal 1,8 m betragen. | D49: ja / nein | F49: =IF(E49="ja",10,IF(E49="nein",0,"bitte befüllen")) -> bitte befüllen | G49: ja = 10 Punkte / nein = 0 Punkte | H49: 10
A50: 2.4.8 | B50: M | C50: Der Einzelpreis für folgende Zubehörkomponenten ist in einer separaten Anlage auszuweisen und wird bewertet: | D50: ja / nein | F50: =IF(E50="ja","OK",IF(E50="","bitte befüllen","Ausschluss")) -> bitte befüllen | G50: ja = Ok / nein = Ausschluss
A51: 2.4.9 | B51: M | C51: - Einwegexspirationsventil | D51: ja / nein | F51: =IF(E51="ja","OK",IF(E51="","bitte befüllen","Ausschluss")) -> bitte befüllen | G51: ja = Ok / nein = Ausschluss
A52: 2.4.10 | B52: M | C52: - Einwegschlauchschlauchsystem | D52: ja / nein | F52: =IF(E52="ja","OK",IF(E52="","bitte befüllen","Ausschluss")) -> bitte befüllen | G52: ja = Ok / nein = Ausschluss
A53: 2.4.11 | B53: M | C53: - Flowsensorleitung / Flowsensor / Druckleitung | D53: ja / nein | F53: =IF(E53="ja","OK",IF(E53="","bitte befüllen","Ausschluss")) -> bitte befüllen | G53: ja = Ok / nein = Ausschluss
A54: 2.4.12 | B54: W | C54: Das verwendete Schlauchsystem ist über eine Auswahlfunktion im Display eindeutig auswählbar. Die Auswahl erfolgt unter Angabe bzw. Zuordnung der jeweiligen Schlauchsystembezeichnung und/oder Artikelnummer. | D54: ja / nein | F54: =IF(E54="ja",20,IF(E54="nein",0,"bitte befüllen")) -> bitte befüllen | G54: ja = 20 Punkte / nein = 0 Punkte | H54: 20
A55: 2.4.13 | B55: W | C55: Die Kalibrierung des Flowsensors ist ohne Trennung oder Umstecken des Schlauchsystems möglich. Eine einmalige einfache manuelle Betätigung bzw. Drehung des Flowsensors oder Kalibrieradapters ist zulässig. | D55: ja / nein | F55: =IF(E55="ja",20,IF(E55="nein",0,"bitte befüllen")) -> bitte befüllen | G55: ja = 20 Punkte / nein = 0 Punkte | H55: 20
A56: 2.4.14 | B56: M | C56: Das Gerät verfügt über einen haptischen Drehknopf. | D56: ja / nein | F56: =IF(E56="ja","OK",IF(E56="","bitte befüllen","Ausschluss")) -> bitte befüllen | G56: ja = Ok / nein = Ausschluss
A57: 2.4.15 | B57: W | C57: Das Gerät kann sowohl über das Touchdisplay, als auch über einen Drehknopf und Hardkeys vollumfänglich bedient werden. | D57: ja / nein | F57: =IF(E57="ja",20,IF(E57="nein",0,"bitte befüllen")) -> bitte befüllen | G57: ja = 20 Punkte / nein = 0 Punkte | H57: 20
A58: 2.4.16 | B58: W | C58: Das Touchdisplay kann gegen unbeabsichtigte Eingaben gesperrt werden. Bei aktivierter Touchsperre ist die vollständige Bedienung der für die Beatmung erforderlichen Funktionen einschließlich der Einstellung und Bestätigung der Beatmungsparameter über den Dreh-/Drückknopf möglich. | D58: ja / nein | F58: =IF(E58="ja",10,IF(E58="nein",0,"bitte befüllen")) -> bitte befüllen | G58: ja = 10 Punkte / nein = 0 Punkte | H58: 10
A59: 2.4.17 | B59: W | C59: Das Gerät verfügt über zeitlich einstellbare Tag-Nacht-Anzeigen mit unterschiedlichen Kontrasten (Hell-/Dunkelanzeige) | D59: ja / nein | F59: =IF(E59="ja",20,IF(E59="nein",0,"bitte befüllen")) -> bitte befüllen | G59: ja = 20 Punkte / nein = 0 Punkte | H59: 20
A60: 2.4.18 | B60: M | C60: Unterschiedliche Parameterkurven auf dem Hauptbildschirm sind frei einstellbar. | D60: ja / nein | F60: =IF(E60="ja","OK",IF(E60="","bitte befüllen","Ausschluss")) -> bitte befüllen | G60: ja = Ok / nein = Ausschluss
A61: 2.4.19 | B61: M | C61: Parameterfelder auf dem Hauptbildschirm sind frei einstellbar. | D61: ja / nein | F61: =IF(E61="ja","OK",IF(E61="","bitte befüllen","Ausschluss")) -> bitte befüllen | G61: ja = Ok / nein = Ausschluss
A62: 2.4.20 | B62: W | C62: Die Helligkeit des Display ist individuell einstellbar. | D62: ja / nein | F62: =IF(E62="ja",20,IF(E62="nein",0,"bitte befüllen")) -> bitte befüllen | G62: ja = 20 Punkte / nein = 0 Punkte | H62: 20
A63: 2.4.21 | B63: M | C63: Das Gerät muss mindestens folgende Mess- und Überwachungsparameter numerisch anzeigen: Pplat/Pplateau, Ppeak/PIP, Pmean, PEEP, VTe, VTspon/VTESpont, MVe, MVespon/MVspon, AFtotal, AFspon sowie den maximalen inspiratorischen und exspiratorischen Flow (Vinsp max bzw. Vexsp max). | D63: ja / nein | F63: =IF(E63="ja","OK",IF(E63="","bitte befüllen","Ausschluss")) -> bitte befüllen | G63: ja = Ok / nein = Ausschluss
A64: 2.4.22 | B64: W | C64: Leckagekompensation in der Invasiven und Noninvasiven Beatmung | D64: ja / nein | F64: =IF(E64="ja",10,IF(E64="nein",0,"bitte befüllen")) -> bitte befüllen | G64: ja = 10 Punkte / nein = 0 Punkte | H64: 10
A65: 2.4.23 | B65: M | C65: Automatische Kompensation der Geräte- und Schlauch-Compliance | D65: ja / nein | F65: =IF(E65="ja","OK",IF(E65="","bitte befüllen","Ausschluss")) -> bitte befüllen | G65: ja = Ok / nein = Ausschluss
A66: 2.4.24 | B66: M | C66: Automatische Kompensation der Geräte- und Schlauch-Resistance | D66: ja / nein | F66: =IF(E66="ja","OK",IF(E66="","bitte befüllen","Ausschluss")) -> bitte befüllen | G66: ja = Ok / nein = Ausschluss
A67: 2.4.25 | B67: W | C67: Die Helligkeit der LED-Alarm-Anzeigen kann individuell eingestellt werden. | D67: ja / nein | F67: =IF(E67="ja",10,IF(E67="nein",0,"bitte befüllen")) -> bitte befüllen | G67: ja = 10 Punkte / nein = 0 Punkte | H67: 10
A68: 2.4.26 | B68: M | C68: Darstellung von mehreren Echtzeitkurven auf dem Hauptbildschirm, mindestens Atemwegsdruck, Flow, Volumen und CO2 | D68: ja / nein | F68: =IF(E68="ja","OK",IF(E68="","bitte befüllen","Ausschluss")) -> bitte befüllen | G68: ja = Ok / nein = Ausschluss
A69: 2.4.27 | B69: W | C69: Spontanatmung wird in der Echtzeitkurve durch eine farbliche Kennzeichnung eindeutig hervorgehoben. | D69: ja / nein | F69: =IF(E69="ja",5,IF(E69="nein",0,"bitte befüllen")) -> bitte befüllen | G69: ja = 5 Punkte / nein = 0 Punkte | H69: 5
A70: 2.4.28 | B70: W | C70: Alle Kurven können zu Analysezwecken manuell eingefroren werden. | D70: ja / nein | F70: =IF(E70="ja",5,IF(E70="nein",0,"bitte befüllen")) -> bitte befüllen | G70: ja = 5 Punkte / nein = 0 Punkte | H70: 5
A71: 2.4.29 | B71: W | C71: Logbucheinträge werden vollautomatisch gespeichert. Es sind bis zu 999 Logbucheinträge möglich und jederzeit abrufbar. | D71: ja / nein | F71: =IF(E71="ja",5,IF(E71="nein",0,"bitte befüllen")) -> bitte befüllen | G71: ja = 5 Punkte / nein = 0 Punkte | H71: 5
A72: 2.4.30 | B72: W | C72: Die Dauer des automatisierten Präoxygenierungsmanövers kann innerhalb eines vom Hersteller vorgegebenen und für das Gerät zulässigen Bereichs variabel eingestellt werden. | D72: ja / nein | F72: =IF(E72="ja",5,IF(E72="nein",0,"bitte befüllen")) -> bitte befüllen | G72: ja = 5 Punkte / nein = 0 Punkte | H72: 5
A73: 2.4.31 | B73: W | C73: Das Gerät ermöglicht die Überwachung der Atemaktivität bzw. Atemfrequenz mittels Kapnometrie auch bei nicht invasiver Sauerstoffapplikation ohne aktive Beatmung. Die Atemfrequenz kann hierbei als überwachte bzw. alarmierte Größe dargestellt werden. | D73: ja / nein | F73: =IF(E73="ja",5,IF(E73="nein",0,"bitte befüllen")) -> bitte befüllen | G73: ja = 5 Punkte / nein = 0 Punkte | H73: 5
A74: 2.4.32 | B74: M | C74: Das Gerät verfügt über eine definierte O₂-Konzentration (FiO₂) für das Präoxygenierungsmanöver. Die Voreinstellung berücksichtigt die jeweilige Patientengruppe bzw. den vorgesehenen Anwendungsbereich. | D74: ja / nein | F74: =IF(E74="ja","OK",IF(E74="","bitte befüllen","Ausschluss")) -> bitte befüllen | G74: ja = Ok / nein = Ausschluss
A75: 2.5 | C75: Volumenkontrollierte Beatmungsverfahren (Nomenklatur gemäß ISO 19223:2021)
A76: 2.5.1 | B76: M | C76: SIMV-vtPC/PS | D76: ja / nein | F76: =IF(E76="ja","OK",IF(E76="","bitte befüllen","Ausschluss")) -> bitte befüllen | G76: ja = Ok / nein = Ausschluss
A77: 2.5.2 | B77: W | C77: SIMV-VC/PS | D77: ja / nein | F77: =IF(E77="ja",10,IF(E77="nein",0,"bitte befüllen")) -> bitte befüllen | G77: ja = 10 Punkte / nein = 0 Punkte | H77: 10
A78: 2.5.3 | B78: W | C78: CMV-VC | D78: ja / nein | F78: =IF(E78="ja",10,IF(E78="nein",0,"bitte befüllen")) -> bitte befüllen | G78: ja = 10 Punkte / nein = 0 Punkte | H78: 10
A79: 2.5.4 | B79: W | C79: ASV/adaptives Verfahren | D79: ja / nein | F79: =IF(E79="ja",10,IF(E79="nein",0,"bitte befüllen")) -> bitte befüllen | G79: ja = 10 Punkte / nein = 0 Punkte | H79: 10
A80: 2.6 | C80: Druckkontrollierte Beatmungsverfahren (Nomenklatur gemäß ISO 19223:2021)
A81: 2.6.1 | B81: M | C81: A/C-PC | D81: ja / nein | F81: =IF(E81="ja","OK",IF(E81="","bitte befüllen","Ausschluss")) -> bitte befüllen | G81: ja = Ok / nein = Ausschluss
A82: 2.6.2 | B82: M | C82: CMV-PC | D82: ja / nein | F82: =IF(E82="ja","OK",IF(E82="","bitte befüllen","Ausschluss")) -> bitte befüllen | G82: ja = Ok / nein = Ausschluss
A83: 2.6.3 | B83: M | C83: SIMV-PC/PS | D83: ja / nein | F83: =IF(E83="ja","OK",IF(E83="","bitte befüllen","Ausschluss")) -> bitte befüllen | G83: ja = Ok / nein = Ausschluss
A84: 2.6.4 | B84: M | C84: SIMV-vtPC/PS | D84: ja / nein | F84: =IF(E84="ja","OK",IF(E84="","bitte befüllen","Ausschluss")) -> bitte befüllen | G84: ja = Ok / nein = Ausschluss
A85: 2.7 | C85: Spontanatmungs-Beatmungsverfahren (Nomenklatur gemäß ISO 19223:2021)
A86: 2.7.1 | B86: M | C86: CSV-PS | D86: ja / nein | F86: =IF(E86="ja","OK",IF(E86="","bitte befüllen","Ausschluss")) -> bitte befüllen | G86: ja = Ok / nein = Ausschluss
A87: 2.7.2 | B87: M | C87: CSV-PS mit garantierter Mindestfrequenz | D87: ja / nein | F87: =IF(E87="ja","OK",IF(E87="","bitte befüllen","Ausschluss")) -> bitte befüllen | G87: ja = Ok / nein = Ausschluss
A88: 2.8 | C88: Zusätzlich zuschaltbare Beatmungsverfahren
A89: 2.8.1 | B89: M | C89: Apnoeventilation | D89: ja / nein | F89: =IF(E89="ja","OK",IF(E89="","bitte befüllen","Ausschluss")) -> bitte befüllen | G89: ja = Ok / nein = Ausschluss
A90: 2.8.2 | B90: M | C90: Invasive und noninvasive Beatmung (NIV) ist möglich | D90: ja / nein | F90: =IF(E90="ja","OK",IF(E90="","bitte befüllen","Ausschluss")) -> bitte befüllen | G90: ja = Ok / nein = Ausschluss
A91: 2.8.3 | B91: M | C91: Pressure-Supportventilation mit garantierter Mindestatemfrequenz | D91: ja / nein | F91: =IF(E91="ja","OK",IF(E91="","bitte befüllen","Ausschluss")) -> bitte befüllen | G91: ja = Ok / nein = Ausschluss
A92: 2.8.4 | B92: W | C92: Eine automatische Tubuskompensation zur Kompensation des tubusbedingten Atemwegswiderstands ist für die vorgesehenen Patientengruppen verfügbar. Die Kompensation kann durch Eingabe der Tubusgröße patientenbezogen eingestellt werden. | D92: ja / nein | F92: =IF(E92="ja",5,IF(E92="nein",0,"bitte befüllen")) -> bitte befüllen | G92: ja = 5 Punkte / nein = 0 Punkte | H92: 5
A93: 2.8.5 | B93: W | C93: Das Gerät verfügt über eine Volumengarantie bzw. ein funktional vergleichbares Beatmungsverfahren zur automatischen Anpassung des inspiratorischen Drucks zur Erreichung eines vorgegebenen Tidalvolumens bei druckkontrollierter Beatmung. | D93: ja / nein | F93: =IF(E93="ja",20,IF(E93="nein",0,"bitte befüllen")) -> bitte befüllen | G93: ja = 20 Punkte / nein = 0 Punkte | H93: 20
A94: 2.8.6 | B94: M | C94: Für die Beatmung von Kindern und Neonaten ist ein geeignetes Einwegschlauchsystem mit reduziertem Totraum verfügbar, das für Tidalvolumina ab 2 ml geeignet ist. Die technischen Daten des Schlauchsystems einschließlich des Totraums sind dem Angebot beizulegen. | D94: entfällt
A95: 2.8.7 | B95: M | C95: Ein Erwachsenen-Einwegschlauchsystem mit einer Schlauchlänge von mindesten 1,5 und maximal 1,8 m ist verfügbar. | D95: ja / nein | F95: =IF(E95="ja","OK",IF(E95="","bitte befüllen","Ausschluss")) -> bitte befüllen | G95: ja = Ok / nein = Ausschluss
A96: 2.8.8 | B96: M | C96: Ein Erwachsenen-Einwegschlauchsystem mit einer Schlauchlänge von mindestens 3,0 m ist verfügbar. | D96: ja / nein | F96: =IF(E96="ja","OK",IF(E96="","bitte befüllen","Ausschluss")) -> bitte befüllen | G96: ja = Ok / nein = Ausschluss
A97: 2.8.9 | B97: W | C97: Bei der High-Flow-O₂-Therapie kann ein aktives Anfeuchtungssystem direkt über das Beatmungsgerät gesteuert und bedient werden. Die unterstützten Anfeuchtungssysteme und deren Kompatibilität sind zu benennen. | D97: ja / nein | F97: =IF(E97="ja",10,IF(E97="nein",0,"bitte befüllen")) -> bitte befüllen | G97: ja = 10 Punkte / nein = 0 Punkte | H97: 10
A98: 2.8.10 | B98: W | C98: Die obere Druckgrenze bei HFOT ist über den Paw-Alarm einstellbar | D98: ja / nein | F98: =IF(E98="ja",10,IF(E98="nein",0,"bitte befüllen")) -> bitte befüllen | G98: ja = 10 Punkte / nein = 0 Punkte | H98: 10
A99: 2.8.11 | B99: W | C99: Manuelle Inspiration Hold-Manöver bis 15 Sekunden | D99: ja / nein | F99: =IF(E99="ja",10,IF(E99="nein",0,"bitte befüllen")) -> bitte befüllen | G99: ja = 10 Punkte / nein = 0 Punkte | H99: 10
A100: 2.8.12 | B100: M | C100: pneumatische Verneblung ist in allen Beatmungsmodi für Erwachsene und Kinder möglich | D100: ja / nein | F100: =IF(E100="ja","OK",IF(E100="","bitte befüllen","Ausschluss")) -> bitte befüllen | G100: ja = Ok / nein = Ausschluss
A101: 2.8.13 | B101: M | C101: Optional ist eine CO2-Messung im Hauptstromverfahren möglich. | D101: ja / nein | F101: =IF(E101="ja","OK",IF(E101="","bitte befüllen","Ausschluss")) -> bitte befüllen | G101: ja = Ok / nein = Ausschluss
A102: 2.8.14 | B102: W | C102: Der optionale CO2-Hauptstromsensor wiegt weniger als 35g | D102: ja / nein | F102: =IF(E102="ja",5,IF(E102="nein",0,"bitte befüllen")) -> bitte befüllen | G102: ja = 5 Punkte / nein = 0 Punkte | H102: 5
...

Sheet Übersicht Punkte nach TW
A1: Zurück zum Inhaltsverzeichnis
A2: Übersicht Lose: Auswertung Punkte
A3: für | C3: =Inhaltsverzeichnis!B2 -> Rahmenvertrag über Lieferung, Aufstellung und Inbetriebnahme von Narkose- und Beatmungssystemen
A4: Vergabenummer | C4: =Inhaltsverzeichnis!B3 -> 2026_JDS_05
A5: Name des Bieter | C5: ='Anforderungen Los 1-3'!C8 -> 0
A7: In der folgenden Übersicht werden die erreichbaren und die von Ihnen erreichten Punkte zusammengefasst.
A8: Registerkarte | B8: Status LV / LB | C8: max. erreichbare Leistungspunkte je Registerkarte | D8: max. erreichbare Leistungspunkte wertungsrelevant je Los | E8: erreichte Leistungspunkte je Los | F8: Leistungspunkte je Los wertungsrelevant (erreichte Leistungspunkte aus Anforderungen alle Lose + erreichte Leistungspunkte aus zu bewertenden Los) | G8: Für den Mindestqualitätsstandard wird die nachstehende Leistungspunktzahl festgelegt. | H8: vorläufiger Status Teilnahmeantrag (vor vollständiger Eignungsprüfung)
A9: Anforderungen für stationäre Geräte - Los 1-3 | B9: ='Anforderungen Los 1-3'!E105 -> bitte befüllen | C9: ='Anforderungen Los 1-3'!H11 -> 237 | E9: ='Anforderungen Los 1-3'!F105 -> 0
A10: Anforderungen für mobile Geräte - Los 4 | B10: ='Anforderungen Los 4'!E105 -> bitte befüllen | C10: ='Anforderungen Los 4'!H11 -> 237 | E10: ='Anforderungen Los 4'!F105 -> 0
A11: Los 1 High-End-Intensivbeatmung für Erwachsene mind. 15" Display | B11: ='Los 1 LV und LB'!E173 -> bitte befüllen | C11: ='Los 1 LV und LB'!$H$11 -> 696 | D11: =$C$9+C11 -> 933 | E11: ='Los 1 LV und LB'!F173 -> 0 | F11: =$E$9+E11 -> 0 | G11: =ROUND(D11/2,0) -> 467 | H11: =IF(F11=0,"In Prüfung",IF(F11>=G11,"OK",(IF(F11<G11,"Ausschluss",(IF(F11=0,"in Prüfung")))))) -> In Prüfung
A12: Los 2 High-End-Intensivbeatmungsgerät Neonatal mind. 15" Display | B12: ='Los 2 LV und LB'!E163 -> bitte befüllen | C12: ='Los 2 LV und LB'!H11 -> 735 | D12: =$C$9+C12 -> 972 | E12: ='Los 2 LV und LB'!F163 -> 0 | F12: =$E$9+E12 -> 0 | G12: =ROUND(D12/2,0) -> 486 | H12: =IF(F12=0,"In Prüfung",IF(F12>=G12,"OK",(IF(F12<G12,"Ausschluss",(IF(F12=0,"in Prüfung")))))) -> In Prüfung
A13: Los 3 Anästhesiearbeitsplatz | B13: ='Los 3 LV und LB'!E287 -> bitte befüllen | C13: ='Los 3 LV und LB'!H11 -> 1302 | D13: =$C$9+C13 -> 1539 | E13: ='Los 3 LV und LB'!F287 -> 0 | F13: =$E$9+E13 -> 0 | G13: =ROUND(D13/2,0) -> 770 | H13: =IF(F13=0,"In Prüfung",IF(F13>=G13,"OK",(IF(F13<G13,"Ausschluss",(IF(F13=0,"in Prüfung")))))) -> In Prüfung
A14: Los 4 High-End-Transportbeatmungsgerät | B14: ='Los 4 LV und LB'!E144 -> bitte befüllen | C14: ='Los 4 LV und LB'!H11 -> 565 | D14: =$C$10+C14 -> 802 | E14: ='Los 4 LV und LB'!F144 -> 0 | F14: =$E$10+E14 -> 0 | G14: =ROUND(D14/2,0) -> 401 | H14: =IF(F14=0,"In Prüfung",IF(F14>=G14,"OK",(IF(F14<G14,"Ausschluss",(IF(F14=0,"in Prüfung")))))) -> In Prüfung
