Workbook
Name OLE_LINK5: 'Anforderungen Los 1-3'!#REF!
Name OLE_LINK5: 'Anforderungen Los 4'!#REF!
Name OLE_LINK5: 'Los 1 LV und LB'!#REF!
Name OLE_LINK5: 'Los 1 techn. Daten'!#REF!
Name OLE_LINK5: 'Los 2 LV und LB'!#REF!
Name OLE_LINK5: 'Los 2 techn. Daten'!#REF!
Name OLE_LINK5: 'Los 3 LV und LB'!#REF!
Name OLE_LINK5: 'Los 4 LV und LB'!#REF!
Name OLE_LINK7: 'Anforderungen Los 1-3'!#REF!
Name OLE_LINK7: 'Anforderungen Los 4'!#REF!
Name OLE_LINK7: 'Los 1 LV und LB'!#REF!
Name OLE_LINK7: 'Los 1 techn. Daten'!#REF!
Name OLE_LINK7: 'Los 2 LV und LB'!#REF!
Name OLE_LINK7: 'Los 2 techn. Daten'!#REF!
Name OLE_LINK7: 'Los 3 LV und LB'!#REF!
Name OLE_LINK7: 'Los 4 LV und LB'!#REF!

Sheet Inhaltsverzeichnis
A1: Inhaltsverzeichnis
A2: für | B2: Rahmenvertrag über Lieferung, Aufstellung und Inbetriebnahme von Narkose- und Beatmungssystemen
A3: Vergabenummer | B3: 2026_JDS_05
A5: Registerkarten für den Teilnahmewettbewerb | B5: Link
A6: Beschreibung Bewertungsverfahren | B6: Bewertungsverfahren
A7: Anforderungen für stationäre Geräte - Los 1-3 | B7: Anforderungen Los 1-3
A8: Anforderungen für mobile Geräte - Los 4 | B8: Anforderungen Los 4
A9: Los 1 High-End-Intensivbeatmung für Erwachsene mind. 15" Display - Leistungsbeschreibung und -verzeichnis | B9: Los 1 High-End-Intensivbeatmung für Erwachsene mind. 15" Display - Leistungsbeschreibung und -verzeichnis
A10: Los 1 High-End-Intensivbeatmung für Erwachsene mind. 15" Display - Technische Daten | B10: Los 1 High-End-Intensivbeatmung für Erwachsene mind. 15" Display - Technische Daten
A11: Los 2 High-End-Intensivbeatmungsgerät Neonatal mind. 15" Display - Leistungsbeschreibung und -verzeichnis | B11: Los 2 High-End-Intensivbeatmungsgerät Neonatal mind. 15" Display - Leistungsbeschreibung und -verzeichnis
A12: Los 2 High-End-Intensivbeatmungsgerät Neonatal mind. 15" Display - Technische Daten | B12: Los 2 High-End-Intensivbeatmungsgerät Neonatal mind. 15" Display - Technische Daten
A13: Los 3 Anästhesiearbeitsplatz - Leistungsbeschreibung und -verzeichnis | B13: Los 3 Anästhesiearbeitsplatz - Leistungsbeschreibung und -verzeichnis
A14: Los 4 High-End-Transportbeatmungsgeräte - Leistungsbeschreibung und -verzeichnis | B14: Los 4 High-End-Transportbeatmungsgeräte - Leistungsbeschreibung und -verzeichnis
A15: Übersicht Lose: Punkte nach Teilnahmewettbewerb | B15: Übersicht Lose: Punkte nach TW

Sheet Bewertungsverfahren
A1: Zurück zum Inhaltsverzeichnis
A2: Beschreibung Bewertungsverfahren
A3: Alle Lose
A5: Übersicht und Angaben zu Fragetypen und zum Bewertungsverfahren
A7: Allgemeine Informationen zur Ausschreibung: | B7: Farbe
A8: Vom Bieter auszufüllende Felder bzw. Excel-Tabellenblätter sind hellblau hinterlegt. | B8: hellblau
A10: Folgende Fragetypen sind im LV zu beantworten: | B10: Typ
A11: Fragetyp "Mindestanforderung": Entspricht einem Ausschlusskriterium im Sinne einer Mindestanforderung. Mindestanforderungen müssen zwingend erfüllt werden. Mindestanforderung sind Bestandteil der Grundausstattung. Die Nichterfüllung einer als Ausschlusskriterium gekennzeichneten Anforderung führt zwingend zum Ausschluss des Angebots. Im Bewertungsverfahren werden für Mindestanforderung keine Punkte vergeben. | B11: M
A12: Fragetyp "Wertungskriterium": Als Wertungskriterium definierte Anforderungen werden mit Punkten bewertet. Das Bewertungsschema wird beim Wertungskriterium beschrieben. Der Auftragnehmer beschreibt in seinem Angebot, ob und - sofern vom Auftraggeber gefordert - wie er die entsprechende Anforderung erfüllt. Soweit dies vom Auftraggeber nicht anders verlangt wird, ist diese Anforderung dann im Auftragsfall vom Auftragnehmer seiner Beschreibung entsprechend ebenso umzusetzen, wie eine Mindestanforderung. Die Wertungskennzahl können pro Wertungskriterium unterschiedlich sein und sind hinter jedem Wertungskriterium aufgeführt. | B12: W
A13: Fragetyp "Verfügbare Option": Als verfügbare Option definierte Anforderungen entspricht einem Ausschlusskriterium im Sinne einer Mindestanforderung. Verfügbare Option müssen zwingend erfüllt werden. Verfügbare Option sind nicht Bestandteil der Grundausstattung und können optional mit beauftragt werden. Die Nichterfüllung einer als Verfügbare Option gekennzeichneten Anforderung führt zwingend zum Ausschluss des Angebots. Im Bewertungsverfahren werden für verfügbare Option keine Punkte vergeben. | B13: O
A14: Fragetyp "Information": Als Information bezeichnete Kriterien werden nicht mit Punkten bewertet. Falsche und/oder unvollständige Antworten im LV führen zum Ausschluss des Bieters. | B14: I
A16: Folgende Antwortkategorien stehen für Muss-Kriterien und Wertungsfragen zur Auswahl: | B16: Antwort
A17: Antwortkategorie "ja": Mindestanforderung: Wählen Sie diese Antwort, wenn die verlangte Funktionalität vorhanden und unangepasst bereitstellbar ist, sowie im Leistungs- und Lieferumfang und damit im Angebotspreis vollständig enthalten ist. Wertungsfrage: Wählen Sie diese Antwort, wenn die verlangte Funktionalität grundsätzlich angeboten werden kann. Wertungsfragen, die mit ja beantwortet werden, sind im Preisblatt unter Bewertung nicht einzupreisen, sondern lediglich im Portfolio unten den Tabellenblättern "Basissysteme", "Optionen" und "Sonden" aufzuführen. | B17: ja
A18: Antwortkategorie "nein": Wählen Sie diese Antwort, wenn die Funktionalität nicht vorhanden ist, nicht bereitstellbar ist, nicht anbietbar ist oder die gewünschte Vorgehensweise nicht realisiert werden kann. Bei den "Mindestanfordeungen" führt eine Beantwortung mit "nein" zum Ausschluss des Angebots. | B18: nein
A19: Beim Fragetyp Information und vereinzelt auch bei Wertungsfragen besteht die Möglichkeit Freitexte sowie bei letzterem die entsprechenden Punkte einzutragen. Dies ist der Fall, wenn weder "ja" noch "nein" als Auswahl zur Verfügung steht. | B19: Freitext
A21: Punktevergabe für jede "Wertungskriterium | B21: Typ
... A23: Antwort "nein" führt zu null Punkten. | B23: W

Sheet Anforderungen Los 1-3
A1: Zurück zum Inhaltsverzeichnis
A2: Bestandteil des Teilnahmeantrag
A3: Teil I für stationäre Geräte - Los 1-3
A4: Leistungsbeschreibung und -verzeichnis
A5: für | B5: =Inhaltsverzeichnis!B2 -> Rahmenvertrag über Lieferung, Aufstellung und Inbetriebnahme von Narkose- und Beatmungssystemen
A6: Vergabenummer | B6: =Inhaltsverzeichnis!B3 -> 2026_JDS_05
A8: Name des Bieter
A10: Bitte füllen Sie nur die hellblauen Felder aus, ändern Sie weder Formeln, noch Reihenfolgen in der Matrix!
A11: Positionsnr. | B11: Typ | C11: Beschreibung | D11: Vorgaben / Fragen / Einheit | E11: bitte ausfüllen | F11: Auswertung | G11: Hinweis | H11: =SUM(H12:H104) -> 237
A12: 1.1 | C12: Allgemeine Anforderungen
A13: 1.1.1 | B13: M | C13: Das LV ist komplett in der Excel Tabelle auszufüllen und vom Bieter als Excel Datei abzugeben. | D13: ja / nein | F13: =IF(E13="ja","OK",IF(E13="","bitte befüllen","Ausschluss")) -> bitte befüllen | G13: ja = Ok / nein = Ausschluss
A14: 1.1.2 | B14: M | C14: Der beigefügte Rahmenvertrag wird vollumfänglich und vorbehaltlos mit Abgabe des Teilnahmeantrags akzeptiert | D14: ja / nein | F14: =IF(E14="ja","OK",IF(E14="","bitte befüllen","Ausschluss")) -> bitte befüllen | G14: ja = Ok / nein = Ausschluss
A15: 1.1.3 | B15: I | C15: Alle aufgeführten Leistungen sind vollumfänglich in Ihrer Kalkulation/Preisgestaltung abgebildet. | D15: ja / nein | F15: =IF(E15="","bitte befüllen","OK") -> bitte befüllen | G15: ja / nein
A16: 1.1.4 | B16: M | C16: Der Bieter sichert zu, die im LV angegebenen Spezifikationen durch technische Nachweise belegen zu können. Falsche und/oder unvollständige Antworten (auch bei den mit I=Information gekennzeichneten Feldern) im LV führen zum Ausschluss des Bieters. | D16: ja / nein | F16: =IF(E16="ja","OK",IF(E16="","bitte befüllen","Ausschluss")) -> bitte befüllen | G16: ja = Ok / nein = Ausschluss
A17: 1.1.5 | B17: M | C17: Angeboten werden dürfen ausschließlich Produkte, die zum Zeitpunkt der Ausschreibung verfügbar sind und dem zum Zeitpunkt der Ausschreibung aktuellen Stand der Technik entsprechen. Der Hersteller bestätigt, dass für das angebotene Produkt innerhalb eines Zeitraums von 10 Jahren ab Ablauf der Angebotsfrist kein End of Service (EoS) vorgesehen bzw. angekündigt ist. | D17: ja / nein | F17: =IF(E17="ja","OK",IF(E17="","bitte befüllen","Ausschluss")) -> bitte befüllen | G17: ja = Ok / nein = Ausschluss
A18: 1.1.6 | B18: M | C18: Der AN gewährt auf das angebotene System eine Gewährleistung von mindestens 2 Jahr. Die Gewährleistung beginnt nach Abnahme. Die Gewährleistung gilt ohne Einschränkung oder Begrenzung der Nutzungsfrequenz/ Dauerbetrieb. Unberührt von dieser Gewährleistung bleiben die übrigen Rechte des AG im Fall von Mängeln. | D18: ja / nein | F18: =IF(E18="ja","OK",IF(E18="","bitte befüllen","Ausschluss")) -> bitte befüllen | G18: ja = Ok / nein = Ausschluss
A19: 1.1.7 | B19: M | C19: Von dem Auftragnehmer (nachfolgend AN) ist eine Konformitätserklärung für das Gesamtsystem vor Abnahme dem Auftraggeber (nachfolgend AG) zu übergeben. Der AN hat rechtzeitig vor der Abnahme die technischen Daten inkl. Installationsvoraussetzungen und Umgebungsbedingungen zum Betrieb dem AG bereitzustellen. | D19: ja / nein | F19: =IF(E19="ja","OK",IF(E19="","bitte befüllen","Ausschluss")) -> bitte befüllen | G19: ja = Ok / nein = Ausschluss
A20: 1.1.8 | B20: W | C20: Der AN gewährt auf das angebotene System eine Gewährleistung >= 3 Jahre | D20: Angabe in Jahren | F20: =IF(E20="ja",50,IF(E20="nein",0,"bitte befüllen")) -> bitte befüllen | G20: ja = 50 Punkte / nein = 0 Punkte | H20: 50
A21: 1.1.9 | B21: M | C21: Die folgenden Beschreibungen und Anforderungen sind Grundlagen für das Angebot und müssen in jedem Bereich eingehalten werden. | D21: ja / nein | F21: =IF(E21="","bitte befüllen","OK") -> bitte befüllen | G21: ja / nein
A22: 1.1.10 | B22: M | C22: Das Angebot enthält alle Einrichtungen und Gerätebestandteile einschließlich notwendigem Zubehör, welche zur Funktionsfähigkeit der Geräte erforderlich sind. | D22: ja / nein | F22: =IF(E22="","bitte befüllen","OK") -> bitte befüllen | G22: ja / nein
A23: 1.1.11 | B23: M | C23: Die beschriebenen Komponenten verstehen sich betriebsfertig montiert, installiert und in Betrieb genommen. Sollten systemspezifisch zusätzliche Komponenten zur Erlangung der beschriebenen Funktionalität erforderlich sein, so sind diese vom Anbieter als herstellerspezifische Positionen am Ende des Angebotes zu ergänzen, bepreisen und zu erläutern. | D23: ja / nein | F23: =IF(E23="","bitte befüllen","OK") -> bitte befüllen | G23: ja / nein
A24: 1.2 | C24: Wirtschaftlichkeit, Nachhaltigkeit, Innovationskraft
A25: 1.2.1 | B25: W | C25: Der Produktionsstandort des angebotenen Gerätes und für die Lieferung und Ersatzteilversorgung ist innerhalb der Europäischen Union. Ein geeigneter Nachweis des Herstellers ist dem Teilnahmeantrag beizufügen. | D25: ja / nein | F25: =IF(E25="ja",50,IF(E25="nein",0,"bitte befüllen")) -> bitte befüllen | G25: ja = 50 Punkte / nein = 0 Punkte | H25: 50
A26: 1.2.2 | B26: W | C26: Der Hersteller verfügt über Ökoeffizienz-Analysen für mindestens Anästhesiemasken, Filter und Patientenschlauchsysteme, die die ökologische Auswahl von Einweg- oder Mehrweg-Zubehör ermöglichen. | D26: ja / nein | F26: =IF(E26="ja",10,IF(E26="nein",0,"bitte befüllen")) -> bitte befüllen | G26: ja = 10 Punkte / nein = 0 Punkte | H26: 10
A27: 1.3 | C27: Anerkannten Regeln der Technik / Vorschriften und Verordnungen
A28: 1.3.1 | B28: M | C28: Ausgeschrieben wird der o.g. Liefergegenstand mit Zubehör. Die Leistungen umfassen die Lieferung, Montage, betriebsfertige Übergabe lt. MDR, MDG und MPBetreibV, Einweisung, sämtliche Abnahmeprüfungen durch den Hersteller oder Dritte sowie die Entsorgung der Verpackungsmaterialien. | D28: ja / nein | F28: =IF(E28="ja","OK",IF(E28="","bitte befüllen","Ausschluss")) -> bitte befüllen | G28: ja = Ok / nein = Ausschluss
A29: 1.3.2 | C29: Für alle Produkte gelten die anerkannten Regeln der Technik. Insbesondere müssen die Produkte ggf. folgenden Vorschriften und Verordnungen in der anwendbaren und aktuellen Fassung entsprechen:
A30: 1.3.3 | B30: M | C30: MDR (Europäische Medizinprodukteverordnung) | D30: ja / nein | F30: =IF(E30="ja","OK",IF(E30="","bitte befüllen","Ausschluss")) -> bitte befüllen | G30: ja = Ok / nein = Ausschluss
A31: 1.3.4 | B31: M | C31: MDG (Medizinprodukte-Durchführungsgesetz) | D31: ja / nein | F31: =IF(E31="ja","OK",IF(E31="","bitte befüllen","Ausschluss")) -> bitte befüllen | G31: ja = Ok / nein = Ausschluss
A32: 1.3.5 | B32: M | C32: ArbSchG Arbeitsschutzgesetz | D32: ja / nein | F32: =IF(E32="ja","OK",IF(E32="","bitte befüllen","Ausschluss")) -> bitte befüllen | G32: ja = Ok / nein = Ausschluss
A33: 1.3.6 | B33: M | C33: GPSG Gesetz über technische Arbeitsmittel hinsichtlich bestimmungsgemäßer Verwendung von Produkten | D33: ja / nein | F33: =IF(E33="ja","OK",IF(E33="","bitte befüllen","Ausschluss")) -> bitte befüllen | G33: ja = Ok / nein = Ausschluss
A34: 1.3.7 | B34: M | C34: VDI und VDE Richtlinien | D34: ja / nein | F34: =IF(E34="ja","OK",IF(E34="","bitte befüllen","Ausschluss")) -> bitte befüllen | G34: ja = Ok / nein = Ausschluss
A35: 1.3.8 | B35: M | C35: Medizinische elektrische Geräte: EN 60601-1 | D35: ja / nein | F35: =IF(E35="ja","OK",IF(E35="","bitte befüllen","Ausschluss")) -> bitte befüllen | G35: ja = Ok / nein = Ausschluss
A36: 1.3.9 | B36: M | C36: Vibrationstest EN 60068-2-64, EN 60068-2-27 | D36: ja / nein | F36: =IF(E36="ja","OK",IF(E36="","bitte befüllen","Ausschluss")) -> bitte befüllen | G36: ja = Ok / nein = Ausschluss
A37: 1.3.10 | B37: M | C37: EN ISO 13485 Medizinprodukte: Qualitätsmanagementsysteme – Anforderungen für regulatorische Zwecke | D37: ja / nein | F37: =IF(E37="ja","OK",IF(E37="","bitte befüllen","Ausschluss")) -> bitte befüllen | G37: ja = Ok / nein = Ausschluss
A38: 1.3.11 | B38: M | C38: Zertifizierung nach DIN EN ISO 9001: Standard für Qualitätsmanagementsysteme oder gleichwertig | D38: ja / nein | F38: =IF(E38="ja","OK",IF(E38="","bitte befüllen","Ausschluss")) -> bitte befüllen | G38: ja = Ok / nein = Ausschluss
A39: 1.3.12 | B39: M | C39: Zertifikat der Normenerfüllung (Ist dem Angebot beigefügt) | D39: ja / nein | F39: =IF(E39="ja","OK",IF(E39="","bitte befüllen","Ausschluss")) -> bitte befüllen | G39: ja = Ok / nein = Ausschluss
A40: 1.3.13 | B40: M | C40: CE-Kennzeichnung (Ist dem Angebot beigefügt) | D40: ja / nein | F40: =IF(E40="ja","OK",IF(E40="","bitte befüllen","Ausschluss")) -> bitte befüllen | G40: ja = Ok / nein = Ausschluss
A41: 1.3.14 | B41: M | C41: Die Beatmungsgeräte (ausgenommen Los 4 High-End-Transportbeatmungsgerät) verfügen über eine Netzwerkschnittstelle zur Übertragung eines Gerätefehler-Reports inklusive Logbuch bei potentieller Fehlfunktion. | D41: ja / nein | F41: =IF(E41="ja","OK",IF(E41="","bitte befüllen","Ausschluss")) -> bitte befüllen | G41: ja = Ok / nein = Ausschluss
A42: 1.3.16 | B42: I | C42: Nennung Betriebssystem (Microsoft, Linux u. a.) | D42: Freitext | F42: =IF(E42="","bitte befüllen","OK") -> bitte befüllen | G42: Informativ, keine Wertung
...

Sheet Anforderungen Los 4
A1: Zurück zum Inhaltsverzeichnis
A2: Bestandteil des Teilnahmeantrag
A3: Teil I für mobile Geräte - Los 4
A4: Leistungsbeschreibung und -verzeichnis
A5: für | B5: =Inhaltsverzeichnis!B2 -> Rahmenvertrag über Lieferung, Aufstellung und Inbetriebnahme von Narkose- und Beatmungssystemen
A6: Vergabenummer | B6: =Inhaltsverzeichnis!B3 -> 2026_JDS_05
A8: Name des Bieter
A10: Bitte füllen Sie nur die hellblauen Felder aus, ändern Sie weder Formeln, noch Reihenfolgen in der Matrix!
A11: Positionsnr. | B11: Typ | C11: Beschreibung | D11: Vorgaben / Fragen / Einheit | E11: bitte ausfüllen | F11: Auswertung | G11: Hinweis | H11: =SUM(H12:H104) -> 237
A12: 1.1 | C12: Allgemeine Anforderungen
A13: 1.1.1 | B13: M | C13: Das LV ist komplett in der Excel Tabelle auszufüllen und vom Bieter als Excel Datei abzugeben. | D13: ja / nein | F13: =IF(E13="ja","OK",IF(E13="","bitte befüllen","Ausschluss")) -> bitte befüllen | G13: ja = Ok / nein = Ausschluss
A14: 1.1.2 | B14: M | C14: Der beigefügte Rahmenvertrag wird vollumfänglich und vorbehaltlos mit Abgabe des Teilnahmeantrags akzeptiert | D14: ja / nein | F14: =IF(E14="ja","OK",IF(E14="","bitte befüllen","Ausschluss")) -> bitte befüllen | G14: ja = Ok / nein = Ausschluss
A15: 1.1.3 | B15: I | C15: Alle aufgeführten Leistungen sind vollumfänglich in Ihrer Kalkulation/Preisgestaltung abgebildet. | D15: ja / nein | F15: =IF(E15="","bitte befüllen","OK") -> bitte befüllen | G15: ja / nein
A16: 1.1.4 | B16: M | C16: Der Bieter sichert zu, die im LV angegebenen Spezifikationen durch technische Nachweise belegen zu können. Falsche und/oder unvollständige Antworten (auch bei den mit I=Information gekennzeichneten Feldern) im LV führen zum Ausschluss des Bieters. | D16: ja / nein | F16: =IF(E16="ja","OK",IF(E16="","bitte befüllen","Ausschluss")) -> bitte befüllen | G16: ja = Ok / nein = Ausschluss
A17: 1.1.5 | B17: M | C17: Angeboten werden dürfen ausschließlich Produkte, die zum Zeitpunkt der Ausschreibung verfügbar sind und dem zum Zeitpunkt der Ausschreibung aktuellen Stand der Technik entsprechen. Der Hersteller bestätigt, dass für das angebotene Produkt innerhalb eines Zeitraums von 10 Jahren ab Ablauf der Angebotsfrist kein End of Service (EoS) vorgesehen bzw. angekündigt ist. | D17: ja / nein | F17: =IF(E17="ja","OK",IF(E17="","bitte befüllen","Ausschluss")) -> bitte befüllen | G17: ja = Ok / nein = Ausschluss
A18: 1.1.6 | B18: M | C18: Der AN gewährt auf das angebotene System eine Gewährleistung von mindestens 2 Jahr. Die Gewährleistung beginnt nach Abnahme. Die Gewährleistung gilt ohne Einschränkung oder Begrenzung der Nutzungsfrequenz/ Dauerbetrieb. Unberührt von dieser Gewährleistung bleiben die übrigen Rechte des AG im Fall von Mängeln. | D18: ja / nein | F18: =IF(E18="ja","OK",IF(E18="","bitte befüllen","Ausschluss")) -> bitte befüllen | G18: ja = Ok / nein = Ausschluss
A19: 1.1.7 | B19: M | C19: Von dem Auftragnehmer (nachfolgend AN) ist eine Konformitätserklärung für das Gesamtsystem vor Abnahme dem Auftraggeber (nachfolgend AG) zu übergeben. Der AN hat rechtzeitig vor der Abnahme die technischen Daten inkl. Installationsvoraussetzungen und Umgebungsbedingungen zum Betrieb dem AG bereitzustellen. | D19: ja / nein | F19: =IF(E19="ja","OK",IF(E19="","bitte befüllen","Ausschluss")) -> bitte befüllen | G19: ja = Ok / nein = Ausschluss
A20: 1.1.8 | B20: W | C20: Der AN gewährt auf das angebotene System eine Gewährleistung >= 3 Jahre | D20: Angabe in Jahren | F20: =IF(E20="ja",50,IF(E20="nein",0,"bitte befüllen")) -> bitte befüllen | G20: ja = 50 Punkte / nein = 0 Punkte | H20: 50
A21: 1.1.9 | B21: M | C21: Die folgenden Beschreibungen und Anforderungen sind Grundlagen für das Angebot und müssen in jedem Bereich eingehalten werden. | D21: ja / nein | F21: =IF(E21="","bitte befüllen","OK") -> bitte befüllen | G21: ja / nein
A22: 1.1.10 | B22: M | C22: Das Angebot enthält alle Einrichtungen und Gerätebestandteile einschließlich notwendigem Zubehör, welche zur Funktionsfähigkeit der Geräte erforderlich sind. | D22: ja / nein | F22: =IF(E22="","bitte befüllen","OK") -> bitte befüllen | G22: ja / nein
A23: 1.1.11 | B23: M | C23: Die beschriebenen Komponenten verstehen sich betriebsfertig montiert, installiert und in Betrieb genommen. Sollten systemspezifisch zusätzliche Komponenten zur Erlangung der beschriebenen Funktionalität erforderlich sein, so sind diese vom Anbieter als herstellerspezifische Positionen am Ende des Angebotes zu ergänzen, bepreisen und zu erläutern. | D23: ja / nein | F23: =IF(E23="","bitte befüllen","OK") -> bitte befüllen | G23: ja / nein
A24: 1.2 | C24: Wirtschaftlichkeit, Nachhaltigkeit, Innovationskraft
A25: 1.2.1 | B25: W | C25: Der Produktionsstandort des angebotenen Gerätes und für die Lieferung und Ersatzteilversorgung ist innerhalb der Europäischen Union. Ein geeigneter Nachweis des Herstellers ist dem Teilnahmeantrag beizufügen. | D25: ja / nein | F25: =IF(E25="ja",50,IF(E25="nein",0,"bitte befüllen")) -> bitte befüllen | G25: ja = 50 Punkte / nein = 0 Punkte | H25: 50
A26: 1.2.2 | B26: W | C26: Der Hersteller verfügt über Ökoeffizienz-Analysen für mindestens Anästhesiemasken, Filter und Patientenschlauchsysteme, die die ökologische Auswahl von Einweg- oder Mehrweg-Zubehör ermöglichen. | D26: ja / nein | F26: =IF(E26="ja",10,IF(E26="nein",0,"bitte befüllen")) -> bitte befüllen | G26: ja = 10 Punkte / nein = 0 Punkte | H26: 10
A27: 1.3 | C27: Anerkannten Regeln der Technik / Vorschriften und Verordnungen
A28: 1.3.1 | B28: M | C28: Ausgeschrieben wird der o.g. Liefergegenstand mit Zubehör. Die Leistungen umfassen die Lieferung, Montage, betriebsfertige Übergabe lt. MDR, MDG und MPBetreibV, Einweisung, sämtliche Abnahmeprüfungen durch den Hersteller oder Dritte sowie die Entsorgung der Verpackungsmaterialien. | D28: ja / nein | F28: =IF(E28="ja","OK",IF(E28="","bitte befüllen","Ausschluss")) -> bitte befüllen | G28: ja = Ok / nein = Ausschluss
A29: 1.3.2 | C29: Für alle Produkte gelten die anerkannten Regeln der Technik. Insbesondere müssen die Produkte ggf. folgenden Vorschriften und Verordnungen in der anwendbaren und aktuellen Fassung entsprechen:
A30: 1.3.3 | B30: M | C30: MDR (Europäische Medizinprodukteverordnung) | D30: ja / nein | F30: =IF(E30="ja","OK",IF(E30="","bitte befüllen","Ausschluss")) -> bitte befüllen | G30: ja = Ok / nein = Ausschluss
A31: 1.3.4 | B31: M | C31: MDG (Medizinprodukte-Durchführungsgesetz) | D31: ja / nein | F31: =IF(E31="ja","OK",IF(E31="","bitte befüllen","Ausschluss")) -> bitte befüllen | G31: ja = Ok / nein = Ausschluss
A32: 1.3.5 | B32: M | C32: ArbSchG Arbeitsschutzgesetz | D32: ja / nein | F32: =IF(E32="ja","OK",IF(E32="","bitte befüllen","Ausschluss")) -> bitte befüllen | G32: ja = Ok / nein = Ausschluss
A33: 1.3.6 | B33: M | C33: GPSG Gesetz über technische Arbeitsmittel hinsichtlich bestimmungsgemäßer Verwendung von Produkten | D33: ja / nein | F33: =IF(E33="ja","OK",IF(E33="","bitte befüllen","Ausschluss")) -> bitte befüllen | G33: ja = Ok / nein = Ausschluss
A34: 1.3.7 | B34: M | C34: VDI und VDE Richtlinien | D34: ja / nein | F34: =IF(E34="ja","OK",IF(E34="","bitte befüllen","Ausschluss")) -> bitte befüllen | G34: ja = Ok / nein = Ausschluss
A35: 1.3.8 | B35: M | C35: Medizinische elektrische Geräte: EN 60601-1 | D35: ja / nein | F35: =IF(E35="ja","OK",IF(E35="","bitte befüllen","Ausschluss")) -> bitte befüllen | G35: ja = Ok / nein = Ausschluss
A36: 1.3.9 | B36: M | C36: Vibrationstest EN 60068-2-64, EN 60068-2-27 | D36: ja / nein | F36: =IF(E36="ja","OK",IF(E36="","bitte befüllen","Ausschluss")) -> bitte befüllen | G36: ja = Ok / nein = Ausschluss
A37: 1.3.10 | B37: M | C37: EN ISO 13485 Medizinprodukte: Qualitätsmanagementsysteme – Anforderungen für regulatorische Zwecke | D37: ja / nein | F37: =IF(E37="ja","OK",IF(E37="","bitte befüllen","Ausschluss")) -> bitte befüllen | G37: ja = Ok / nein = Ausschluss
A38: 1.3.11 | B38: M | C38: Zertifizierung nach DIN EN ISO 9001: Standard für Qualitätsmanagementsysteme oder gleichwertig | D38: ja / nein | F38: =IF(E38="ja","OK",IF(E38="","bitte befüllen","Ausschluss")) -> bitte befüllen | G38: ja = Ok / nein = Ausschluss
A39: 1.3.12 | B39: M | C39: Zertifikat der Normenerfüllung (Ist dem Angebot beigefügt) | D39: ja / nein | F39: =IF(E39="ja","OK",IF(E39="","bitte befüllen","Ausschluss")) -> bitte befüllen | G39: ja = Ok / nein = Ausschluss
A40: 1.3.13 | B40: M | C40: CE-Kennzeichnung (Ist dem Angebot beigefügt) | D40: ja / nein | F40: =IF(E40="ja","OK",IF(E40="","bitte befüllen","Ausschluss")) -> bitte befüllen | G40: ja = Ok / nein = Ausschluss
A41: 1.3.14 | B41: M | C41: Die Beatmungsgeräte (ausgenommen Los 4 High-End-Transportbeatmungsgerät) verfügen über eine Netzwerkschnittstelle zur Übertragung eines Gerätefehler-Reports inklusive Logbuch bei potentieller Fehlfunktion. | D41: ja / nein | F41: =IF(E41="ja","OK",IF(E41="","bitte befüllen","Ausschluss")) -> bitte befüllen | G41: ja = Ok / nein = Ausschluss
A42: 1.3.16 | B42: I | C42: Nennung Betriebssystem (Microsoft, Linux u. a.) | D42: Freitext | F42: =IF(E42="","bitte befüllen","OK") -> bitte befüllen | G42: Informativ, keine Wertung
...

Sheet Los 1 LV und LB
A1: Zurück zum Inhaltsverzeichnis
A2: Bestandteil des Teilnahmeantrag
A3: Teil II für Los 1 High-End-Intensivbeatmungsgeräte für Erwachsene mind. 15" Display
A4: Leistungsbeschreibung und -verzeichnis
A5: für | B5: =Inhaltsverzeichnis!B2 -> Rahmenvertrag über Lieferung, Aufstellung und Inbetriebnahme von Narkose- und Beatmungssystemen
A6: Vergabenummer | B6: =Inhaltsverzeichnis!B3 -> 2026_JDS_05
A8: Name des Bieter | C8: ='Anforderungen Los 1-3'!C8 -> 0
A10: Bitte füllen Sie nur die hellblauen Felder aus, ändern Sie weder Formeln, noch Reihenfolgen in der Matrix!
A11: Positionsnr. | B11: Typ | C11: Beschreibung | D11: Vorgaben / Fragen / Einheit | E11: bitte ausfüllen | F11: Auswertung | G11: Hinweis | H11: =SUM(H12:H172) -> 696
A12: 2.1 | C12: Allgemeines
A13: 2.1.1 | B13: M | C13: Ausgeschrieben sind Langzeitbeatmungsgeräte für den Betrieb auf der Intensivstation. Die Geräte beinhalten neben den Standardbeatmungsformen Beatmungsarten mit freier Durchatembarkeit und druckunterstützender Beatmung. Beatmungsverfahren, die die Entwöhnungszeit des Patienten vom Beatmungsgerät verkürzen, müssen Bestandteil des Gerätes sein. Es sollen Erwachsene, Kinder und optional Neonaten beatmet werden können. | D13: ja / nein | G13: ja = Ok / nein = Ausschluss
A14: 2.1.2 | B14: M | C14: Das fahrbare Intensivbeatmungsgerät muss auf der rechten und linken Geräteseite jeweils mit mindestens zwei seitlich angeordneten Normschiene mit einer Mindestlänge von 20 cm ausgestattet sein. | D14: ja / nein | F14: =IF(E14="ja","OK",IF(E14="","bitte befüllen","Ausschluss")) -> bitte befüllen | G14: ja = Ok / nein = Ausschluss
A15: 2.1.3 | B15: M | C15: Das Angebot muss alle Einrichtungen und Gerätebestandteile einschließlich Schlauchhaltearm sowie notwendigem Einweg- und Mehrwegzubehör enthalten, die zum bestimmungsgemäßen Gebrauch der Geräte erforderlich sind. | D15: ja / nein | F15: =IF(E15="ja","OK",IF(E15="","bitte befüllen","Ausschluss")) -> bitte befüllen | G15: ja = Ok / nein = Ausschluss
A16: 2.1.4 | B16: W | C16: Bewertet wird das Alter des angebotenen Intensivbeatmungsgerätes für Erwachsene, ausgehend vom Zeitpunkt der erstmaligen Markteinführung des konkret angebotenen Gerätemodells. Ein geeigneter Hersteller-Nachweis ist dem Teilnahmeantrag beizufügen. | D16: Angabe in Jahr "YYYY" | F16: =IF(E16="","bitte befüllen",IF(E16>=2020,20,0)) -> bitte befüllen | G16: vor 2020 = 0 Punkte / ab 2020 = 10 Punkte | H16: 10
A17: 2.1.5 | B17: W | C17: Bewertet wird die Aktualität der auf dem angebotenen Intensivbeatmungsgerät für Erwachsene eingesetzten Firmware. Maßgeblich ist der Zeitpunkt der letzten vom Hersteller freigegebenen Firmware-Version, die für das konkret angebotene Gerätemodell verfügbar ist. Ein geeigneter Hersteller-Nachweis ist dem Teilnahmeantrag beizufügen. | D17: Angabe in Jahr "YYYY" | F17: =IF(E17="","bitte befüllen",IF(E17>=2024,20,0)) -> bitte befüllen | G17: vor 2024 = 0 Punkte / ab 2024 = 20 Punkte | H17: 20
A18: 2.1.6 | B18: W | C18: Zum Zeitpunkt der Ausschreibung ermöglichen die angebotenen Geräte die Datenausgabe von Einstell-, Messwerten und Alarmen basierend auf dem SDC-Kommunikationsstandards IEEE 11073-20702-2016, IEEE 11073-10207-2017 und IEEE 11073-20701-2018. | D18: ja / nein | F18: =IF(E18="ja",20,IF(E18="nein",0,"bitte befüllen")) -> bitte befüllen | G18: ja = 20 Punkte / nein = 0 Punkte | H18: 20
A19: 2.2 | C19: Produktspezifikation
A20: 2.2.1 | B20: M | C20: Das angebotene System verfügt über ein farbiges Display mit einer Bildschirmdiagonale von mindestens 15 Zoll. | D20: ja / nein | F20: =IF(E20="ja","OK",IF(E20="","bitte befüllen","Ausschluss")) -> bitte befüllen | G20: ja = Ok / nein = Ausschluss
A21: 2.2.2 | B21: M | C21: Bedienung des Grafikdisplays über Touchscreen-Technologie | D21: ja / nein | F21: =IF(E21="ja","OK",IF(E21="","bitte befüllen","Ausschluss")) -> bitte befüllen | G21: ja = Ok / nein = Ausschluss
A22: 2.2.3 | B22: M | C22: Kurven der Beatmungsparameter sind vollausgefüllt und nicht als Linie dargestellt | D22: ja / nein | F22: =IF(E22="ja","OK",IF(E22="","bitte befüllen","Ausschluss")) -> bitte befüllen | G22: ja = Ok / nein = Ausschluss
A23: 2.2.4 | B23: M | C23: Gleichzeitige Darstellung folgender Kurven: Atemwegsdruck, Atemgasflow, CO2 und berechneter Trachealdruck | D23: ja / nein | F23: =IF(E23="ja","OK",IF(E23="","bitte befüllen","Ausschluss")) -> bitte befüllen | G23: ja = Ok / nein = Ausschluss
A24: 2.2.5 | B24: M | C24: Simultane Darstellung von mindestens drei Beatmungskurven in Echtzeit und drei Shorttrends in einer Ansicht | D24: ja / nein | F24: =IF(E24="ja","OK",IF(E24="","bitte befüllen","Ausschluss")) -> bitte befüllen | G24: ja = Ok / nein = Ausschluss
A25: 2.2.6 | B25: M | C25: Darstellung von folgenden Loops: Paw – V, Flow – Paw, V – Flow, Ptrach – V, Flow – Ptrach | D25: ja / nein | F25: =IF(E25="ja","OK",IF(E25="","bitte befüllen","Ausschluss")) -> bitte befüllen | G25: ja = Ok / nein = Ausschluss
A26: 2.2.7 | B26: M | C26: Speicherung von Referenzloops und deren Anzeige ohne zeitliche Begrenzung | D26: ja / nein | F26: =IF(E26="ja","OK",IF(E26="","bitte befüllen","Ausschluss")) -> bitte befüllen | G26: ja = Ok / nein = Ausschluss
A27: 2.2.8 | B27: M | C27: Trendauflösung und Trenddarstellung zwischen 1, 2, 4, 8, 12 und 24 Stunden und 3 Tage rückwirkend wählbar | D27: ja / nein | F27: =IF(E27="ja","OK",IF(E27="","bitte befüllen","Ausschluss")) -> bitte befüllen | G27: ja = Ok / nein = Ausschluss
A28: 2.2.9 | B28: M | C28: Durch den Anwender einfach konfigurierbare, anwenderspezifische Datentabelle zusammenstellbar | D28: ja / nein | F28: =IF(E28="ja","OK",IF(E28="","bitte befüllen","Ausschluss")) -> bitte befüllen | G28: ja = Ok / nein = Ausschluss
A29: 2.2.10 | B29: W | C29: Bildschirm mit automatischer Tag- Nachtschaltung und automatischer Dimmfunktion | D29: ja / nein | F29: =IF(E29="ja",20,IF(E29="nein",0,"bitte befüllen")) -> bitte befüllen | G29: ja = 20 Punkte / nein = 0 Punkte | H29: 20
A30: 2.2.11 | B30: W | C30: Freie passwortunabhängige Konfiguration während der Beatmung von mindestens 6 Softkeys auf der Hauptseite für häufig genutzte Funktionen | D30: ja / nein | F30: =IF(E30="ja",10,IF(E30="nein",0,"bitte befüllen")) -> bitte befüllen | G30: ja = 10 Punkte / nein = 0 Punkte | H30: 10
A31: 2.2.12 | B31: M | C31: Übersichtstabelle der Messwerte frei konfigurierbar | D31: ja / nein | F31: =IF(E31="ja","OK",IF(E31="","bitte befüllen","Ausschluss")) -> bitte befüllen | G31: ja = Ok / nein = Ausschluss
A32: 2.2.13 | B32: M | C32: Logbucheinträge bis zu 7 Tage speicherbar exportierbar über USB-Port | D32: ja / nein | F32: =IF(E32="ja","OK",IF(E32="","bitte befüllen","Ausschluss")) -> bitte befüllen | G32: ja = Ok / nein = Ausschluss
A33: 2.2.14 | B33: W | C33: Option: Logbucheinträge sind von Anwendern über das Krankenhaus-IT-Netzwerk abrufbar und exportierbar (optionale Funktionalität separat beschreiben). | D33: ja / nein | F33: =IF(E33="ja",20,IF(E33="nein",0,"bitte befüllen")) -> bitte befüllen | G33: ja = 20 Punkte / nein = 0 Punkte | H33: 20
A34: 2.2.15 | B34: M | C34: Einstellungsvorgabe/-vorschlag des VTs über die Eingabe der Körpergröße oder über die Eingabe des idealen Körpergewichts | D34: ja / nein | F34: =IF(E34="ja","OK",IF(E34="","bitte befüllen","Ausschluss")) -> bitte befüllen | G34: ja = Ok / nein = Ausschluss
A35: 2.2.16 | B35: M | C35: O2-Gasmessung mit verbrauchfreier O2-Sensorik | D35: ja / nein | F35: =IF(E35="ja","OK",IF(E35="","bitte befüllen","Ausschluss")) -> bitte befüllen | G35: ja = Ok / nein = Ausschluss
A36: 2.2.17 | B36: M | C36: Getrennt wählbare Patientenbereiche für Erwachsene / Pädiatrie / Neonatologie | D36: ja / nein | F36: =IF(E36="ja","OK",IF(E36="","bitte befüllen","Ausschluss")) -> bitte befüllen | G36: ja = Ok / nein = Ausschluss
A37: 2.2.18 | B37: I | C37: Gasentnahme O₂ und AIR erfolgt aus zentraler Wandversorgung mittels ZV-Schläuche | D37: ja / nein | F37: =IF(E37="ja","OK",IF(E37="","bitte befüllen","Ausschluss")) -> bitte befüllen | G37: ja / nein
A38: 2.2.19 | B38: I | C38: Gasentnahme O₂ aus zentraler Wandversorgung (ZV) mittels ZV-Schlauch und AIR über Turbine | D38: ja / nein | F38: =IF(E38="ja",10,IF(E38="nein",0,"bitte befüllen")) -> bitte befüllen | G38: ja / nein
A39: 2.2.20 | B39: I | C39: Das Beatmungsgerät ist uneingeschränkt geeignet zum Einsatz an Patienten bis zu einem max. Körpergewicht | D39: Angabe in "kg" | F39: =IF(E39="ja",10,IF(E39="nein",0,"bitte befüllen")) -> bitte befüllen | G39: Informativ, keine Wertung
A40: 2.2.21 | B40: M | C40: Das Beatmungsgerät ist uneingeschränkt geeignet zum Einsatz an Patienten mit einem Körpergewicht bis 400g. | D40: ja / nein | F40: =IF(E40="ja","OK",IF(E40="","bitte befüllen","Ausschluss")) -> bitte befüllen | G40: ja = Ok / nein = Ausschluss
A41: 2.2.22 | B41: M | C41: Automatische Einstellung der Startwerte der Beatmungsparameter nach Eingabe der Körpergröße und Berechnung des Idealen Körpergewichts oder Patientenbereich | D41: ja / nein | F41: =IF(E41="ja","OK",IF(E41="","bitte befüllen","Ausschluss")) -> bitte befüllen | G41: ja = Ok / nein = Ausschluss
A42: 2.2.23 | B42: W | C42: Die Geräuschemission gemäß ISO80601-2-12:2011 liegt unter 44dB (ohne zusätzliches Turbinenmodul) | D42: ja / nein | F42: =IF(E42="ja",1,IF(E42="nein",0,"bitte befüllen")) -> bitte befüllen | G42: ja = 1 Punkte / nein = 0 Punkte | H42: 1
...

Sheet Los 1 techn. Daten
A1: Zurück zum Inhaltsverzeichnis
A2: Bestandteil des Teilnahmeantrag
A3: Teil II für Los 1 High-End-Intensivbeatmung für Erwachsene mind. 15" Display
A4: Technische Daten
A5: für | B5: =Inhaltsverzeichnis!B2 -> Rahmenvertrag über Lieferung, Aufstellung und Inbetriebnahme von Narkose- und Beatmungssystemen
A6: Vergabenummer | B6: =Inhaltsverzeichnis!B3 -> 2026_JDS_05
A8: Name des Bieter | B8: ='Anforderungen Los 1-3'!C8 -> 0
A10: Bitte füllen Sie nur die hellblauen Felder aus, ändern Sie weder Formeln, noch Reihenfolgen in der Matrix!
A11: Positionsnr. | B11: Beschreibung | C11: Vorgaben / Fragen / Einheit | D11: Wert (bitte ausfüllen) | E11: Wert (bitte ausfüllen)
A12: 2.20 | B12: Allgemeines
A13: 2.20.1 | B13: Fabrikat
A14: 2.20.2 | B14: Typ / Artikel.Nr.
A15: 2.21 | B15: Betriebskennwerte | C15: Einheit | D15: von | E15: bis
A16: 2.21.1 | B16: Betriebsspannung | C16: V
A17: 2.21.2 | B17: Betriebsspannung | C17: Hz
A18: 2.21.3 | B18: Leistungsaufnahme | C18: W
A19: 2.21.4 | B19: Schutzklasse
A20: 2.21.5 | B20: Klassifizierung
A21: 2.22 | B21: Technische Daten | D21: von | E21: bis
A22: 2.22.1 | B22: Beatmungsfrequenz einstellbar | C22: 1/min
A23: 2.22.2 | B23: Inspirationszeit Tinsp einstellbar | C23: s
A24: 2.22.3 | B24: Atemzugvolumen einstellbar | C24: L
A25: 2.22.4 | B25: Insp. Flow einstellbar | C25: L/min
A26: 2.22.5 | B26: Insp. Druck Pinsp einstellbar | C26: mbar
A27: 2.22.6 | B27: Insp. Drucklimitierung Pmax einstellbar | C27: mbar
A28: 2.22.7 | B28: O2 Konzentration einstellbar | C28: Vol%
A29: 2.22.8 | B29: PEEP einstellbar einstellbar | C29: mbar
A30: 2.22.9 | B30: Triggerempfindlichkeit einstellbar | C30: L/min
A31: 2.22.10 | B31: Druckunterstützung Psupp einstellbar | C31: mbar
A32: 2.22.11 | B32: Anstiegszeit für Druckunterstützung | C32: s
A33: 2.22.12 | B33: Insp. Abbruchkriterium für PS, VS, PPS | C33: %
... A46: 2.22.25 | B46: Apnoe-Alarmzeit einstellbar | C46: s
A47: 2.22.26 | B47: Steuerpinzip Gerät
A48: 2.22.27 | B48: Dauer intermittierende PEEP
A49: 2.22.28 | B49: Medikamentenverneblung Dauer | C49: min
A50: 2.22.29 | B50: Max. Inspirationsflow | C50: L/min
A51: 2.22.30 | B51: Atemwegsdruck Messwert | C51: mbar
A52: 2.22.31 | B52: O2 Messung | C52: Vol%
A53: 2.22.32 | B53: Atemzugvolumen VT Messung | C53: mL BTPS
A54: 2.22.33 | B54: Spon.geatmetes Minutenvolumen MVspn | C54: L/min BTPS
...

Sheet Los 2 LV und LB
A1: Zurück zum Inhaltsverzeichnis
A2: Bestandteil des Teilnahmeantrag
A3: Teil II für Los 2 High-End-Intensivbeatmungsgeräte Neonatal mind. 15" Display
A4: Leistungsbeschreibung und -verzeichnis
A5: für | B5: =Inhaltsverzeichnis!B2 -> Rahmenvertrag über Lieferung, Aufstellung und Inbetriebnahme von Narkose- und Beatmungssystemen
A6: Vergabenummer | B6: =Inhaltsverzeichnis!B3 -> 2026_JDS_05
A8: Name des Bieter | C8: ='Anforderungen Los 1-3'!C8 -> 0
A10: Bitte füllen Sie nur die hellblauen Felder aus, ändern Sie weder Formeln, noch Reihenfolgen in der Matrix!
A11: Positionsnr. | B11: Typ | C11: Beschreibung | D11: Vorgaben / Fragen / Einheit | E11: bitte ausfüllen | F11: Auswertung | G11: Hinweis | H11: =SUM(H12:H162) -> 735
A12: 2.1 | C12: Allgemeines
A13: 2.1.1 | B13: M | C13: Ausgeschrieben sind Langzeitbeatmungsgeräte für den Betrieb auf der neonatologischen Intensivstation. Die Geräte beinhalten neben den Standardbeatmungsformen Beatmungsarten mit freier Durchatembarkeit, druckunterstützender Beatmung und Hochfrequenzoszillationsbeatmung. Es sollen Früh- und Neugeborene und pädiatrische Patienten beatmet werden können. | D13: ja / nein | F13: =IF(E13="ja","OK",IF(E13="","bitte befüllen","Ausschluss")) -> bitte befüllen | G13: ja = Ok / nein = Ausschluss
A14: 2.1.2 | B14: M | C14: Das fahrbare Intensivbeatmungsgerät muss auf der rechten und linken Geräteseite jeweils mit mindestens zwei seitlich angeordneten Normschiene mit einer Mindestlänge von 20 cm ausgestattet sein. | D14: ja / nein | F14: =IF(E14="ja","OK",IF(E14="","bitte befüllen","Ausschluss")) -> bitte befüllen | G14: ja = Ok / nein = Ausschluss
A15: 2.1.3 | B15: M | C15: Das Angebot muss alle Einrichtungen und Gerätebestandteile einschließlich Schlauchhaltearm sowie notwendigem Einweg- und Mehrwegzubehör enthalten, die zum bestimmungsgemäßen Gebrauch der Geräte erforderlich sind. | D15: ja / nein | F15: =IF(E15="ja","OK",IF(E15="","bitte befüllen","Ausschluss")) -> bitte befüllen | G15: ja = Ok / nein = Ausschluss
A16: 2.1.4 | B16: W | C16: Bewertet wird das Alter des angebotenen Intensivbeatmungsgerätes Neonatal, ausgehend vom Zeitpunkt der erstmaligen Markteinführung des konkret angebotenen Gerätemodells. Ein geeigneter Hersteller-Nachweis ist dem Teilnahmeantrag beizufügen. | D16: Angabe in Jahr "YYYY" | F16: =IF(E16="","bitte befüllen",IF(E16>=2020,20,0)) -> bitte befüllen | G16: vor 2020 = 0 Punkte / ab 2020 = 10 Punkte | H16: 10
A17: 2.1.5 | B17: W | C17: Bewertet wird die Aktualität der auf dem angebotenen Intensivbeatmungsgerätes Neonatal eingesetzten Firmware. Maßgeblich ist der Zeitpunkt der letzten vom Hersteller freigegebenen Firmware-Version, die für das konkret angebotene Gerätemodell verfügbar ist. Ein geeigneter Hersteller-Nachweis ist dem Teilnahmeantrag beizufügen. | D17: Angabe in Jahr "YYYY" | F17: =IF(E17="","bitte befüllen",IF(E17>=2024,20,0)) -> bitte befüllen | G17: vor 2024 = 0 Punkte / ab 2024 = 20 Punkte | H17: 20
A18: 2.1.6 | B18: W | C18: Zum Zeitpunkt der Ausschreibung ermöglichen die angebotenen Geräte die Datenausgabe von Einstell-, Messwerten und Alarmen basierend auf dem SDC-Kommunikationsstandards IEEE 11073-20702-2016, IEEE 11073-10207-2017 und IEEE 11073-20701-2018. | D18: ja / nein | F18: =IF(E18="ja",20,IF(E18="nein",0,"bitte befüllen")) -> bitte befüllen | G18: ja = 20 Punkte / nein = 0 Punkte | H18: 20
A19: 2.2 | C19: Produktspezifikation
A20: 2.2.1 | B20: M | C20: Farbiges mind. 15“ Widescreen Grafikdisplay | D20: ja / nein | F20: =IF(E20="ja","OK",IF(E20="","bitte befüllen","Ausschluss")) -> bitte befüllen | G20: ja = Ok / nein = Ausschluss
A21: 2.2.2 | B21: M | C21: Bedienung des Grafikdisplays über Touchscreen-Technologie | D21: ja / nein | F21: =IF(E21="ja","OK",IF(E21="","bitte befüllen","Ausschluss")) -> bitte befüllen | G21: ja = Ok / nein = Ausschluss
A22: 2.2.3 | B22: W | C22: Gleichzeitige Darstellung folgender Kurven: Atemwegsdruck, Atemgasflow, CO2 und berechneter Trachealdruck | D22: ja / nein | F22: =IF(E22="ja",20,IF(E22="nein",0,"bitte befüllen")) -> bitte befüllen | G22: ja = 20 Punkte / nein = 0 Punkte | H22: 20
A23: 2.2.4 | B23: W | C23: Darstellung von folgenden Loops: Paw – V, Flow – Paw, V – Flow | D23: ja / nein | F23: =IF(E23="ja",20,IF(E23="nein",0,"bitte befüllen")) -> bitte befüllen | G23: ja = 20 Punkte / nein = 0 Punkte | H23: 20
A24: 2.2.5 | B24: W | C24: Darstellung von folgenden Loops: Ptrach – V, Flow – Ptrach | D24: ja / nein | F24: =IF(E24="ja",10,IF(E24="nein",0,"bitte befüllen")) -> bitte befüllen | G24: ja = 10 Punkte / nein = 0 Punkte | H24: 10
A25: 2.2.6 | B25: M | C25: Speicherung und Anzeige von Referenz-Loops sowie die Darstellung von Trends über einen Zeitraum von mindestens 72 Stunden | D25: ja / nein | F25: =IF(E25="ja","OK",IF(E25="","bitte befüllen","Ausschluss")) -> bitte befüllen | G25: ja = Ok / nein = Ausschluss
A26: 2.2.7 | B26: M | C26: Trendauflösung und Trenddarstellung zwischen 1, 2, 4, 8, 12 und 24 Stunden und 7 Tage rückwirkend wählbar | D26: ja / nein | F26: =IF(E26="ja","OK",IF(E26="","bitte befüllen","Ausschluss")) -> bitte befüllen | G26: ja = Ok / nein = Ausschluss
A27: 2.2.8 | B27: W | C27: Bildschirm mit automatischer Tag- Nachtschaltung und automatischer Dimmfunktion | D27: ja / nein | F27: =IF(E27="ja",20,IF(E27="nein",0,"bitte befüllen")) -> bitte befüllen | G27: ja = 20 Punkte / nein = 0 Punkte | H27: 20
A28: 2.2.9 | B28: W | C28: Freie passwortunabhängige Konfiguration während der Beatmung von mindestens 65 Softkeys auf der Hauptseite für häufig genutzte Funktionen | D28: ja / nein | F28: =IF(E28="ja",10,IF(E28="nein",0,"bitte befüllen")) -> bitte befüllen | G28: ja = 10 Punkte / nein = 0 Punkte | H28: 10
A29: 2.2.10 | B29: M | C29: Übersichtstabelle der Messwerte frei konfigurierbar | D29: ja / nein | F29: =IF(E29="ja","OK",IF(E29="","bitte befüllen","Ausschluss")) -> bitte befüllen | G29: ja = Ok / nein = Ausschluss
A30: 2.2.11 | B30: M | C30: Logbucheinträge bis zu 7 Tage speicherbar exportierbar über USB-Port | D30: ja / nein | F30: =IF(E30="ja","OK",IF(E30="","bitte befüllen","Ausschluss")) -> bitte befüllen | G30: ja = Ok / nein = Ausschluss
A31: 2.2.12 | B31: M | C31: Das Beatmungsgerät muss eine invasive Hochfrequenzoszillationsbeatmung (HFOV) für neonatologische Patienten ermöglichen. Die hierfür erforderlichen Parameter müssen am Gerät einstellbar und überwacht werden können. | D31: ja / nein | F31: =IF(E31="ja","OK",IF(E31="","bitte befüllen","Ausschluss")) -> bitte befüllen | G31: ja = Ok / nein = Ausschluss
A32: 2.2.13 | B32: M | C32: O2-Gasmessung mit verbrauchfreier O2-Sensorik | D32: ja / nein | F32: =IF(E32="ja","OK",IF(E32="","bitte befüllen","Ausschluss")) -> bitte befüllen | G32: ja = Ok / nein = Ausschluss
A33: 2.2.14 | B33: W | C33: Getrennt wählbare Patientenbereiche für Pädiatrie / Neonatologie | D33: ja / nein | F33: =IF(E33="ja",20,IF(E33="nein",0,"bitte befüllen")) -> bitte befüllen | G33: ja = 20 Punkte / nein = 0 Punkte | H33: 20
A34: 2.2.15 | B34: I | C34: Gasentnahme O₂ und AIR erfolgt aus zentraler Wandversorgung mittels ZV-Schläuche | D34: ja / nein | F34: =IF(E34="ja","OK",IF(E34="","bitte befüllen","Ausschluss")) -> bitte befüllen | G34: ja / nein
A35: 2.2.16 | B35: I | C35: Gasentnahme O₂ aus zentraler Wandversorgung (ZV) mittels ZV-Schlauch und AIR über Turbine | D35: ja / nein | F35: =IF(E35="ja",10,IF(E35="nein",0,"bitte befüllen")) -> bitte befüllen | G35: ja / nein
A36: 2.2.17 | B36: W | C36: Das Beatmungsgerät ist uneingeschränkt geeignet zum Einsatz an Patienten mit einem Körpergewicht bis 20kg. | D36: ja / nein | F36: =IF(E36="ja",1,IF(E36="nein",0,"bitte befüllen")) -> bitte befüllen | G36: ja = 1 Punkte / nein = 0 Punkte | H36: 1
A37: 2.2.18 | B37: W | C37: Das Beatmungsgerät ist uneingeschränkt geeignet zum Einsatz an Patienten mit einem Körpergewicht ab 200g. | D37: ja / nein | F37: =IF(E37="ja",10,IF(E37="nein",0,"bitte befüllen")) -> bitte befüllen | G37: ja = 10 Punkte / nein = 0 Punkte | H37: 10
A38: 2.2.19 | B38: M | C38: Automatische Einstellung der Startwerte der Beatmungsparameter nach Eingabe der Körpergröße und Berechnung des tatsächlichen Patientengewichts oder Patientenbereich | D38: ja / nein | F38: =IF(E38="ja","OK",IF(E38="","bitte befüllen","Ausschluss")) -> bitte befüllen | G38: ja = Ok / nein = Ausschluss
A39: 2.2.20 | B39: O | C39: Integrierte etCO2-Messung | D39: ja / nein | F39: =IF(E39="ja","OK",IF(E39="","bitte befüllen","Ausschluss")) -> bitte befüllen | G39: ja = Ok / nein = Ausschluss
A40: 2.2.21 | B40: W | C40: Die Geräuschemission gemäß ISO80601-2-12:2011 liegt unter 44dB (ohne zusätzliches Turbinenmodul) | D40: ja / nein | F40: =IF(E40="ja",1,IF(E40="nein",0,"bitte befüllen")) -> bitte befüllen | G40: ja = 1 Punkte / nein = 0 Punkte | H40: 1
A41: 2.2.22 | B41: W | C41: Die Geräuschemission gemäß ISO80601-2-12:2011 liegt bei PC-HFO unter 51dB (ohne zusätzliches Turbinenmodul) | D41: ja / nein | F41: =IF(E41="ja",1,IF(E41="nein",0,"bitte befüllen")) -> bitte befüllen | G41: ja = 1 Punkte / nein = 0 Punkte | H41: 1
A42: 2.2.23 | B42: W | C42: Option: Das Fahrgestell des Beatmungsgeräts verfügt über eine ausziehbare und höhenverstellbare Bettankopplung, um eine mechanische Verbindung zum Hybridinkubator herzustellen. Eine Beschreibung ist beizulegen. | D42: ja / nein | F42: =IF(E42="ja",10,IF(E42="nein",0,"bitte befüllen")) -> bitte befüllen | G42: ja = 10 Punkte / nein = 0 Punkte | H42: 10
...

Sheet Los 2 techn. Daten
A1: Zurück zum Inhaltsverzeichnis
A2: Bestandteil des Teilnahmeantrag
A3: Teil II für Los 1 High-End-Intensivbeatmungsgerät Neonatal mind. 15" Display
A4: Technische Daten
A5: für | B5: =Inhaltsverzeichnis!B2 -> Rahmenvertrag über Lieferung, Aufstellung und Inbetriebnahme von Narkose- und Beatmungssystemen
A6: Vergabenummer | B6: =Inhaltsverzeichnis!B3 -> 2026_JDS_05
A8: Name des Bieter | B8: ='Anforderungen Los 1-3'!C8 -> 0
A10: Bitte füllen Sie nur die hellblauen Felder aus, ändern Sie weder Formeln, noch Reihenfolgen in der Matrix!
A11: Positionsnr. | B11: Beschreibung | C11: Vorgaben / Fragen / Einheit | D11: Wert (bitte ausfüllen) | E11: Wert bis (bitte ausfüllen)
A12: 2.20 | B12: Allgemeines
A13: 2.20.1 | B13: Fabrikat
A14: 2.20.2 | B14: Typ / Artikel.Nr.
A15: 2.21 | B15: Betriebskennwerte | C15: Einheit | D15: von | E15: bis
A16: 2.21.1 | B16: Betriebsspannung | C16: V
A17: 2.21.2 | B17: Betriebsspannung | C17: Hz
A18: 2.21.3 | B18: Leistungsaufnahme | C18: W
A19: 2.21.4 | B19: Schutzklasse
A20: 2.21.5 | B20: Klassifizierung
A21: 2.22 | B21: Technische Daten | D21: von | E21: bis
A22: 2.22.1 | B22: Beatmungsfrequenz einstellbar | C22: 1/min
A23: 2.22.2 | B23: Inspirationszeit Tinsp einstellbar | C23: s
A24: 2.22.3 | B24: Atemzugvolumen einstellbar | C24: L
A25: 2.22.4 | B25: Insp. Flow einstellbar | C25: L/min
A26: 2.22.5 | B26: Insp. Druck Pinsp einstellbar | C26: mbar
A27: 2.22.6 | B27: Insp. Drucklimitierung Pmax einstellbar | C27: mbar
A28: 2.22.7 | B28: O2 Konzentration einstellbar | C28: Vol%
A29: 2.22.8 | B29: PEEP einstellbar einstellbar | C29: mbar
A30: 2.22.9 | B30: Triggerempfindlichkeit einstellbar | C30: L/min
A31: 2.22.10 | B31: Druckunterstützung Psupp einstellbar | C31: mbar
A32: 2.22.11 | B32: Anstiegszeit für Druckunterstützung | C32: s
A33: 2.22.12 | B33: Insp. Abbruchkriterium für PS, VS, PPS | C33: %
... A46: 2.22.25 | B46: Apnoe-Alarmzeit einstellbar | C46: s
A47: 2.22.26 | B47: Steuerpinzip Gerät
A48: 2.22.27 | B48: Dauer intermittierende PEEP
A49: 2.22.28 | B49: Medikamentenverneblung Dauer | C49: min
A50: 2.22.29 | B50: Max. Inspirationsflow | C50: L/min
A51: 2.22.30 | B51: Atemwegsdruck Messwert | C51: mbar
A52: 2.22.31 | B52: O2 Messung | C52: Vol%
A53: 2.22.32 | B53: Atemzugvolumen VT Messung | C53: mL BTPS
A54: 2.22.33 | B54: Spon.geatmetes Minutenvolumen MVspn | C54: L/min BTPS
...

Sheet Los 3 LV und LB
A1: Zurück zum Inhaltsverzeichnis
A2: Bestandteil des Teilnahmeantrag
A3: Teil II für Los 3 Anästhesiearbeitsplatz
A4: Leistungsbeschreibung und -verzeichnis
A5: für | B5: =Inhaltsverzeichnis!B2 -> Rahmenvertrag über Lieferung, Aufstellung und Inbetriebnahme von Narkose- und Beatmungssystemen
A6: Vergabenummer | B6: =Inhaltsverzeichnis!B3 -> 2026_JDS_05
A8: Name des Bieter | C8: ='Anforderungen Los 1-3'!C8 -> 0
A10: Bitte füllen Sie nur die hellblauen Felder aus, ändern Sie weder Formeln, noch Reihenfolgen in der Matrix!
A11: Positionsnr. | B11: Typ | C11: Beschreibung | D11: Vorgaben / Fragen / Einheit | E11: bitte ausfüllen | F11: Auswertung | G11: Hinweis | H11: =SUM(H12:H286) -> 1302
A12: 2.1 | C12: Allgemeines
A13: 2.1.1 | B13: M | C13: Ausgeschrieben sind Anästhesiearbeitsplatz. | D13: ja / nein | F13: =IF(E13="ja","OK",IF(E13="","bitte befüllen","Ausschluss")) -> bitte befüllen | G13: ja = Ok / nein = Ausschluss
A14: 2.1.2 | B14: M | C14: Die fahrbaren Geräte müssen jeweils mit zwei seitlichen mindestens 20cm langen Normschienen ausgestattet sein. | D14: ja / nein | F14: =IF(E14="ja","OK",IF(E14="","bitte befüllen","Ausschluss")) -> bitte befüllen | G14: ja = Ok / nein = Ausschluss
A15: 2.1.3 | B15: M | C15: Das Angebot muss alle Einrichtungen und Gerätebestandteile einschließlich Schlauchhaltearm sowie notwendigem Einweg- und Mehrwegzubehör enthalten, die zum bestimmungsgemäßen Gebrauch der Geräte erforderlich sind. | D15: ja / nein | F15: =IF(E15="ja","OK",IF(E15="","bitte befüllen","Ausschluss")) -> bitte befüllen | G15: ja = Ok / nein = Ausschluss
A16: 2.1.4 | B16: W | C16: Bewertet wird das Alter des angebotenen Anästhesiearbeitsplatz, ausgehend vom Zeitpunkt der erstmaligen Markteinführung des konkret angebotenen Gerätemodells. Ein geeigneter Hersteller-Nachweis ist dem Teilnahmeantrag beizufügen. | D16: Angabe in Jahr "YYYY" | F16: =IF(E16="","bitte befüllen",IF(E16>=2019,20,0)) -> bitte befüllen | G16: vor 2019 = 0 Punkte / ab 2019 = 20 Punkte | H16: 20
A17: 2.1.5 | B17: W | C17: Bewertet wird die Aktualität der auf dem angebotenen Anästhesiearbeitsplatz eingesetzten Firmware. Maßgeblich ist der Zeitpunkt der letzten vom Hersteller freigegebenen Firmware-Version, die für das konkret angebotene Gerätemodell verfügbar ist. Ein geeigneter Hersteller-Nachweis ist dem Teilnahmeantrag beizufügen. | D17: Angabe in Jahr "YYYY" | F17: =IF(E17="","bitte befüllen",IF(E17>=2024,20,0)) -> bitte befüllen | G17: vor 2024 = 0 Punkte / ab 2024 = 20 Punkte | H17: 20
A18: 2.1.6 | B18: W | C18: Option: Der Hersteller bietet die Bereitstellung und Abholung der bereitgestellten Sammelbehälter, sowie die 100%ige Verwertung der Kalkabfälle gemäß §26 KrWG zu freiwilligen Rücknahme an | D18: ja / nein | F18: =IF(E18="ja",10,IF(E18="nein",0,"bitte befüllen")) -> bitte befüllen | G18: ja = 10 Punkte / nein = 0 Punkte | H18: 10
A19: 2.2 | C19: Anerkannten Regeln der Technik / Vorschriften und Verordnungen
A20: 2.2.1 | B20: M | C20: Medizinprodukterichtlinie: MDR (EU) 2017/45 | D20: ja / nein | F20: =IF(E20="ja","OK",IF(E20="","bitte befüllen","Ausschluss")) -> bitte befüllen | G20: ja = Ok / nein = Ausschluss
A21: 2.2.2 | B21: M | C21: Ergänzungsnorm Elektromagnetische Störgrößen: EN 60601-1-2 | D21: ja / nein | F21: =IF(E21="ja","OK",IF(E21="","bitte befüllen","Ausschluss")) -> bitte befüllen | G21: ja = Ok / nein = Ausschluss
A22: 2.2.3 | B22: M | C22: Ergänzungsnorm Alarmsysteme: EN 60601-1-8 | D22: ja / nein | F22: =IF(E22="ja","OK",IF(E22="","bitte befüllen","Ausschluss")) -> bitte befüllen | G22: ja = Ok / nein = Ausschluss
A23: 2.2.4 | B23: M | C23: Besondere Festlegung für die Sicherheit von Anästhesiesystemen: EN ISO 80601-2-13 | D23: ja / nein | F23: =IF(E23="ja","OK",IF(E23="","bitte befüllen","Ausschluss")) -> bitte befüllen | G23: ja = Ok / nein = Ausschluss
A24: 2.2.5 | B24: M | C24: Systeme für die Inhalationsanästhesie: ISO 8835-2 / ISO 8835-3 / ISO 8835-4 / ISO 8835-5 | D24: ja / nein | F24: =IF(E24="ja","OK",IF(E24="","bitte befüllen","Ausschluss")) -> bitte befüllen | G24: ja = Ok / nein = Ausschluss
A25: 2.2.6 | B25: M | C25: Medizinische elektrische Geräte: ISO 21647 | D25: ja / nein | F25: =IF(E25="ja","OK",IF(E25="","bitte befüllen","Ausschluss")) -> bitte befüllen | G25: ja = Ok / nein = Ausschluss
A26: 2.2.7 | B26: M | C26: Anästhesie-Arbeitsplatz: ISO 80601-2-13 | D26: ja / nein | F26: =IF(E26="ja","OK",IF(E26="","bitte befüllen","Ausschluss")) -> bitte befüllen | G26: ja = Ok / nein = Ausschluss
A27: 2.2.8 | B27: M | C27: Anästhesiegasmonitoring: DIN EN ISO 80601-2-55 | D27: ja / nein | F27: =IF(E27="ja","OK",IF(E27="","bitte befüllen","Ausschluss")) -> bitte befüllen | G27: ja = Ok / nein = Ausschluss
A28: 2.3 | C28: Zweckbestimmung und Hauptmerkmale
A29: 2.3.1 | B29: M | C29: Das Anästhesiegerät ist für allgemeine und regionale Anästhesien bei Erwachsenen, Kindern und Neonaten ohne Austausch von Komponenten (außer Patientenschlauchsystem) geeignet. | D29: ja / nein | F29: =IF(E29="ja","OK",IF(E29="","bitte befüllen","Ausschluss")) -> bitte befüllen | G29: ja = Ok / nein = Ausschluss
A30: 2.3.2 | B30: M | C30: Das Anästhesiegerät ist für Narkosen mit volatilen Anästhetika im Rückatemsystem geeignet. | D30: ja / nein | F30: =IF(E30="ja","OK",IF(E30="","bitte befüllen","Ausschluss")) -> bitte befüllen | G30: ja = Ok / nein = Ausschluss
A31: 2.3.3 | B31: M | C31: Das Gerät ermöglicht die kontinuierliche Kapnometrie bei spontan atmenden Patienten während einer Sedierung mit O₂-Insufflation, ohne dass eine maschinelle Beatmung erforderlich ist. Die Einstellung oberer und unterer Alarmgrenzen für den gemessenen CO₂-Wert ist möglich. | D31: ja / nein | F31: =IF(E31="ja","OK",IF(E31="","bitte befüllen","Ausschluss")) -> bitte befüllen | G31: ja = Ok / nein = Ausschluss
A32: 2.3.4 | B32: M | C32: Das Anästhesiegerät ermöglicht maschinelle und manuelle Beatmung als auch spontane Atmung (CPAP) mit und ohne Druckunterstützung. | D32: ja / nein | F32: =IF(E32="ja","OK",IF(E32="","bitte befüllen","Ausschluss")) -> bitte befüllen | G32: ja = Ok / nein = Ausschluss
A33: 2.3.5 | C33: Das Anästhesiegerät muss für Minimal Flow und Low Flow geeignet sein:
A34: 2.3.5.1 | B34: M | C34: - Frischgasflow reduzierbar bis zu 0,2 [L/min] | D34: ja / nein | F34: =IF(E34="ja","OK",IF(E34="","bitte befüllen","Ausschluss")) -> bitte befüllen | G34: ja = Ok / nein = Ausschluss
A35: 2.3.5.2 | B35: W | C35: - Integrierte aktive Klimatisierung des Atemgases durch eine Atemsystemheizung | D35: ja / nein | F35: =IF(E35="ja",5,IF(E35="nein",0,"bitte befüllen")) -> bitte befüllen | G35: ja = 5 Punkte / nein = 0 Punkte | H35: 5
A36: 2.3.5.3 | B36: W | C36: - Assistenzsystem zur Anzeige der Frischgasnutzung | D36: ja / nein | F36: =IF(E36="ja",5,IF(E36="nein",0,"bitte befüllen")) -> bitte befüllen | G36: ja = 5 Punkte / nein = 0 Punkte | H36: 5
A37: 2.3.6 | B37: W | C37: Das Gerät ermöglicht eine grafische Trenddarstellung des Frischgasverbrauchs bzw. der Frischgasnutzung über die letzten 30 Minuten. Die Darstellung muss eine zeitliche Nachverfolgung der Frischgasnutzung während des laufenden Anästhesieverfahrens ermöglichen. | D37: ja / nein | F37: =IF(E37="ja",10,IF(E37="nein",0,"bitte befüllen")) -> bitte befüllen | G37: ja = 10 Punkte / nein = 0 Punkte | H37: 10
A38: 2.3.7 | B38: M | C38: Das Anästhesiegerät muss mit einem integrierten Beatmungsmonitoring für die Ventilation, einer inspiratorischen O2-Messung und einem Patientengas-Messmodul für O2, CO2 und Anästhesiegase ausgestattet sein. | D38: ja / nein | F38: =IF(E38="ja","OK",IF(E38="","bitte befüllen","Ausschluss")) -> bitte befüllen | G38: ja = Ok / nein = Ausschluss
A39: 2.3.8 | B39: M | C39: Das Anästhesiegerät verfügt über eine, in die Basiseinheit integrierte O2-Flowröhre für O2-Insufflation. | D39: ja / nein | F39: =IF(E39="ja","OK",IF(E39="","bitte befüllen","Ausschluss")) -> bitte befüllen | G39: ja = Ok / nein = Ausschluss
A40: 2.3.9 | B40: M | C40: Das Anästhesiegerät verfügt über eine, in die Basiseinheit integrierte Einrichtung zur Fortleitung von Überschussgas (Anästhesiegasfortleitung). | D40: ja / nein | F40: =IF(E40="ja","OK",IF(E40="","bitte befüllen","Ausschluss")) -> bitte befüllen | G40: ja = Ok / nein = Ausschluss
A41: 2.3.10 | C41: Hauptmerkmale:
A42: 2.3.10.1 | B42: W | C42: Intelligentes Alarmsystem mit automatischer Aktivierung und Kontrolle der Alarme für zu niedrige Konzentration der volatilen Anästhetika. | D42: ja / nein | F42: =IF(E42="ja",10,IF(E42="nein",0,"bitte befüllen")) -> bitte befüllen | G42: ja = 10 Punkte / nein = 0 Punkte | H42: 10
...

Sheet Los 4 LV und LB
A1: Zurück zum Inhaltsverzeichnis
A2: Bestandteil des Teilnahmeantrag
A3: Teil II für Los 4 High-End-Transportbeatmungsgerät
A4: Leistungsbeschreibung und -verzeichnis
A5: für | B5: =Inhaltsverzeichnis!B2 -> Rahmenvertrag über Lieferung, Aufstellung und Inbetriebnahme von Narkose- und Beatmungssystemen
A6: Vergabenummer | B6: =Inhaltsverzeichnis!B3 -> 2026_JDS_05
A8: Name des Bieter | C8: ='Anforderungen Los 1-3'!C8 -> 0
A10: Bitte füllen Sie nur die hellblauen Felder aus, ändern Sie weder Formeln, noch Reihenfolgen in der Matrix!
A11: Positionsnr. | B11: Typ | C11: Beschreibung | D11: Vorgaben / Fragen / Einheit | E11: bitte ausfüllen | F11: Auswertung | G11: Hinweis | H11: =SUM(H12:H143) -> 565
A12: 2.1 | C12: Allgemeines
A13: 2.1.1 | B13: M | C13: Ausgeschrieben sind High-End-Transportbeatmungsgeräte für den klinischen und präklinischen Betrieb. Die Geräte beinhalten neben den Standardbeatmungsformen Beatmungsarten mit freier Durchatembarkeit und druckunterstützender Beatmung. Die Geräte müssen Modi für die invasiven, noninvasiven Beatmung sowie Highflow-O2-Therapie enthalten. Es sollen Erwachsene und Kinder beatmet werden können. | D13: ja / nein | F13: =IF(E13="ja","OK",IF(E13="","bitte befüllen","Ausschluss")) -> bitte befüllen | G13: ja = Ok / nein = Ausschluss
A14: 2.1.2 | B14: M | C14: Sofern das angebotene Transportbeatmungsgerät als fahrbares System ausgeführt wird, muss dieses mit einer Vorrichtung zur sicheren Aufnahme und Befestigung von mindestens einer O₂-Flaschen mit einem Nennvolumen von jeweils 5 Litern ausgestattet sein. Die genannten Ausstattungsmerkmale müssen Bestandteil des fahrbaren Systems sein. Die hierfür anfallenden Kosten sind separat auszuweisen. | D14: ja / nein | F14: =IF(E14="ja","OK",IF(E14="","bitte befüllen","Ausschluss")) -> bitte befüllen | G14: ja = Ok / nein = Ausschluss
A15: 2.1.3 | B15: W | C15: Bewertet wird das Alter des angebotenen Transportbeatmungsgerät, ausgehend vom Zeitpunkt der erstmaligen Markteinführung des konkret angebotenen Gerätemodells. Ein geeigneter Hersteller-Nachweis ist dem Teilnahmeantrag beizufügen. | D15: Angabe in Jahr "YYYY" | F15: =IF(E15="","bitte befüllen",IF(E15>=2022,20,0)) -> bitte befüllen | G15: vor 2022 = 0 Punkte / ab 2022 = 20 Punkte | H15: 20
A16: 2.1.4 | B16: W | C16: Bewertet wird die Aktualität der auf dem angebotenen Transportbeatmungsgerät eingesetzten Firmware. Maßgeblich ist der Zeitpunkt der letzten vom Hersteller freigegebenen Firmware-Version, die für das konkret angebotene Gerätemodell verfügbar ist. Ein geeigneter Hersteller-Nachweis ist dem Teilnahmeantrag beizufügen. | D16: Angabe in Jahr "YYYY" | F16: =IF(E16="","bitte befüllen",IF(E16>=2024,20,0)) -> bitte befüllen | G16: vor 2024 = 0 Punkte / ab 2024 = 20 Punkte | H16: 20
A17: 2.2 | C17: Anerkannten Regeln der Technik / Vorschriften und Verordnungen
A18: 2.2.1 | B18: M | C18: Medizinische elektrische Geräte: IEC 60601-1 | D18: ja / nein | F18: =IF(E18="ja","OK",IF(E18="","bitte befüllen","Ausschluss")) -> bitte befüllen | G18: ja = Ok / nein = Ausschluss
A19: 2.2.2 | B19: M | C19: Ergänzungsnorm Elektromagnetische Störgrößen: IEC 60601-1-2 | D19: ja / nein | F19: =IF(E19="ja","OK",IF(E19="","bitte befüllen","Ausschluss")) -> bitte befüllen | G19: ja = Ok / nein = Ausschluss
A20: 2.2.3 | B20: M | C20: Elektrische Sicherheit: EN 60601-1-6 | D20: ja / nein | F20: =IF(E20="ja","OK",IF(E20="","bitte befüllen","Ausschluss")) -> bitte befüllen | G20: ja = Ok / nein = Ausschluss
