Workbook

Sheet 1. Formale Prüfung
A2: Vergabeverfahren | B2: Offenes Verfahren
A3: Vergabe-Nr. | B3: 2026/702/8904
A4: Projekt | B4: I02B2602 Modernisierung Hörsäle + Kurslabore - Gebäude I02 I02B2619 BZ (Berufungszusage)
A5: Leistung | B5: Generalplanerleistungen (GP)
A7: Bieter | B7: Name der Unternehmens
A10: Ausschlusskriterien / Vollständigkeit der Angebotsunterlagen
A12: Formale Prüfung | C12: Erfüllt ? | D12: Bemerkung
A13: Fristgerechter Eingang des Bieterangebotes
A14: Formgerechter Eingang des Bieterangebotes
A15: Angebot liegt in der deutschen Sprache vor
A16: Vollständigkeit der Angebotsunterlagen; ggf. auf Nachforderung*
A18: Angaben zum Bewerber / zur Bietergemeinschaft | C18: Erfüllt ? | D18: Bemerkung
A19: Bewerbung als Bietergemeinschaft
A20: Es sind Unterauftragnehmer vorgesehen
A21: Es ist vorgesehen, sich der Kapazitäten anderer Unternehmen zu bedienen
A22: Bewerbung als KMU
A24: Ausschlussgründe | C24: Erfüllt ? | D24: Bemerkung
A25: Es liegen keine zwingenden, fakultativen und/oder weiteren Ausschlussgründe vor.
A28: *Unterlagen werden gem. § 56 VgV nachgefordert.

Sheet 2. Eignungskriterien
A2: Vergabeverfahren | B2: Offenes Verfahren
A3: Vergabe-Nr. | B3: ='1. Formale Prüfung'!B3 -> 2026/702/8904
A4: Projekt | B4: I02B2602 Modernisierung Hörsäle + Kurslabore - Gebäude I02 I02B2619 BZ (Berufungszusage)
A5: Leistung | B5: Generalplanerleistungen (GP)
A7: Bieter | B7: ='1. Formale Prüfung'!B7 -> Name der Unternehmens
A10: Wirtschaftliche, finanzielle, berufliche und technische Leistungsfähigkeit
A13: Folgende Mindestanforderungen müssen hinsichtlich der wirtschaftlichen, finanziellen sowie beruflichen und technische Leistungsfähigkeit erfüllt sein: | D13: erfüllt?
A14: Der für die Ausführung vorgesehene Projektleiter und der stellvertretende Projektleiter müssen berechtigt sein, die Berufsbezeichnung "Architekt" oder "Ingenieur" rechtmäßig zu führen. Bei ausländischen Bietern gilt die Gleichwertigkeit nach der Richtlinie 2005/36/EG. Erforderlicher Nachweis: Vorlage der Urkunde über die Kammereintragung (Architekten- oder Ingenieurkammer) oder ein gleichwertiger Nachweis des Herkunftslandes für den Projektleiter und den stellvertretenden Projektleiter.
A15: Der Bieter muss ordnungsgemäß im Berufs- oder Handelsregister seines Sitzes eingetragen sein. Erforderlicher Nachweis: Auszug aus dem Handels- oder Berufsregister (nicht älter als 6 Monate zum Schlusstermin der Angebotsabgabe)
A16: Nachweis einer bestehenden oder im Auftragsfall abzuschließenden Berufshaftpflichtversicherung mit einer Midestdeckungshöhe von: 3,0 Mio. € für Personenschäden und 5,0 Mio. € für sonstige Schäden (Sach- und Vermögensschäden). Die Versicherung muss die Haftung für alle Fachplanungs-Nachunternehmer ausdrücklich mitabdecken. Erforderlicher Nachweis: Kopie der Versicherungspolice oder einer rechtsverbindliche Erklärung des Versicherers, dass die Deckungssummen im Auftragsfall auf die geforderten Beträge erhöht oder neu abgeschlossen werden.
A17: Der Jahresumsatz, den der Bieter mit vergleichbaren Leistungen (Leistungen als Generalplaner) erwirtschaftet hat, muss in den letzten drei abgeschlossenen Geschäftsjahren (2023 – 2025) mindestens 1,5 Mio. EUR p. a. netto betragen. Erforderlicher Nachweis: Eigenerklärung über den spezifischen Jahresumsatz der letzten 3 Geschäftsjahre (2023-2025) bezogen auf vergleichbare Leistungen (Leistungen als Generalplaner) anhand der Anlage 01 Eigenerklärung zur Eignung
A18: mind.4 fest angestellte Dipl.- Ing. Architektur und/ oder (Hoch-) Bauingenieure in Vollzeit in dem Bereich Generalplanung, davon mindestens 2 Beschäftigte, Architekten oder (Hoch-) Bauingenieure, die bauvorlagenberechtigt sind Erforderlicher Nachweis: Eigenerklrärung über die Mitarbeiteranzahl anhand der Anlage 01 Eigenerklärung zur Eignung
A19: Nachweis, dass der Bieter ein internes Qualitätssicherungssystem installiert und betreibt. Erforderlicher Nachweis: Vorlage einer gültigen Zertifizierung oder einer textlichen Darstellung des QS-Systems (möglichst nicht länger als 2 DIN A4-Seiten, Arial, Schriftgröße 11 pt, einzeiliger Zeichenabstand)
A21: Alle Mindestanforderungen erfüllt (ja/nein)?
C22: Hinweis: Eine Nicht-Erfüllung in dieser Rubrik kann zum Ausschluss führen!
A25: Eignungsprüfung anhand von Einreichung von max. drei Unternehmensreferenzen
A27: Angegebene Unternehmensreferenzen | D27: Referenz Nr. 1 | E27: Referenz Nr. 2 | F27: Referenz Nr. 3
A28: Projektbezeichnung
A29: Leistungszeitraum Beginn (die Bearbeitung des Projektes erfolgte ab dem
A30: Leistungszeitraum Ende (die Bearbeitung des Projektes erfolgte bis zum
A32: Folgende Mindestanforderungen müssen hinsichtlich der eingereichten Referenzen erfüllt sein: | D32: erfüllt? | E32: erfüllt? | F32: erfüllt?
A33: Es handelt sich um ein Referenzprojekt aus dem Europäischen Wirtschaftsraum (EWR)
A34: mindestens zwei Referenzprojekte sind abgeschlossen und nicht älter als 10 Jahre (Stichtag: Ende der Angebotsfrist)
A35: mindestens eine Referenz weist eine Planung der Modernisierung oder des Umbaus eines Lehr-, Hörsaal-, Kongress- oder Veranstaltungsgebäudes auf
A36: mindestens eine Erstellung der Leistungsphasen 1-8 gemäß HOAI im Paket als Generalplaner oder federführender Partnerr
A37: das Referenzprojekt ist mindestens in die Honorarzone IV gemäß HOAI eingestuft
A38: mindestens ein Referenzprojekt muss im Auftrag eines öffentlichen Auftraggebers erbracht worden sein.
A39: mindestens ein Referenzprojekt beinhaltet die Integration einer komplexen Medientechnik /AV Infrastruktur
A40: mindestens ein Referenzprojekt beinhaltet die Durchführung der Maßnahme im Bestand unter Aufrechterhaltung des restlichen Lehr-/Gebäudebetriebes
A41: Alle Mindestanforderungen über alle eingereichten Unternehmensreferenzen erfüllt (ja/nein)? Hinweis: Eine Nicht-Erfüllung in dieser Rubrik kann zum Ausschluss führen!

Sheet 3. Zuschlagskriterien
A2: Vergabeverfahren | B2: Offenes Verfahren
A3: Vergabe-Nr. | B3: ='1. Formale Prüfung'!B3 -> 2026/702/8904
A4: Projekt | B4: I02B2602 Modernisierung Hörsäle + Kurslabore - Gebäude I02 I02B2619 BZ (Berufungszusage)
A5: Leistung | B5: Generalplanerleistungen (GP)
A7: Bieter | B7: ='1. Formale Prüfung'!B7 -> Name der Unternehmens
A14: Mindestanforderung hinsichtlich des darzustellenden Projektleitungsteams: § Das Projektleitungsteam ist namentlich zu benennen. Der Projektleiter und der stellvertretende Projektleiter müssen personenverschieden sein. § Der Projektleiter und der stellvertretende Projektleiter müssen festangestellte Mitarbeiter (oder Geschäftsführer) des Bieters sein. § Der Projektleiter oder der stellvertretende Projektleiter müssen berechtigt sein, die Berufsbezeichnung "Architekt" oder "Ingenieur" zu tragen oder in der Bundesrepublik Deutschland als "Architekt" oder "Ingenieur" tätig zu werden. § Der Projektleiter muss über min. fünf Jahre Berufserfahrung im Bereich der Generalplanung der Modernisierung oder des Umbaus eines Lehr-, Hörsaal-, Kongress- oder Veranstaltungsgebäudes seit dem Hochschulabschluss verfügen. § Der stellvertretende Projektleiter muss über min. drei Jahre Berufserfahrung im Bereich der Generalplanung der Modernisierung oder des Umbaus eines Lehr-, Hörsaal-, Kongress- oder Veranstaltungsgebäudes seit dem Hochschulabschluss verfügen. § Sowohl vom Projektleiter als auch vom stellvertretenden Projektleiter ist jeweils ein Lebenslauf beizufügen.
A15: 1. Organigramm - Personalorganisation - Herangehensweise - Innovation, Gewichtung 30 %
A17: Kriterium | B17: Bewertungsgrundlage | C17: max. Punkte | D17: erreichte Punkte | E17: Gewichtung | F17: gewichtete Punkte
A18: Organigramm - Personalorganisation - Herangehensweise - Innovation | B18: Der Bieter hat mit seinem Angebot ein Organigramm des vorgesehenen Projektteams samt Erläuterungsbericht und einer Darstellung der Herangehensweise an die Aufgabe vorzulegen. (formlos, max. bitte 10 DIN-A4-Seiten, in Arial, einfacher Zeilenabstand, Schriftgröße 11 pt); Im Erläuterungsbericht / Konzept hat der Bieter das Folgende darzustellen (jedes Kriterium [Spiegelstrich] geht in die Wertung mit ein): § die Zusammensetzung des Projektteams inkl. interner Zuständigkeiten und Hierarchien, § interne Handlungs- und Arbeitsprozesse (inklusive etwaiger Standardisierungen), § interne Strukturen der Letztentscheidungskompetenz und Verantwortlichkeit, § Schnittstellen für den Abstimmungs- und Koordinierungsprozess mit den Projektbeteiligten inkl. Mechanismen zur Integration neuer Beteiligter und zur Risikominmierung, § Darstellung des Kommunikations- und Besprechungswesens sowie des Vorgehens bei Auftreten von Konflikten inkl. etwaiger Lösungsmechanismen im Projekt, § Ersatzkräfte und Reaktionszeiten bei Mitarbeiterausfällen, § Darstellung, wie die Verfügbarkeit vor Ort gewährleistet wird; Angaben zur örtlichen Präsenz und zu Reaktionszeiten, § Darstellung der methodischen Arbeitsweise und Projektabwicklung / Herangehensweise an die Planungs- und Bauaufgabe anhand einer Auftragsanalyse (Aufgabenverständnis, Vorgehensvorschlag, Methodik, Chancen- und Risikoanalyse mit entsprechenden Maßnahmenvorschlägen, insbesondere unter Berücksichtigung der Kosten und Termine, Systematische Kostenverfolgung und -steuerung sowie Sicherstellung der Termin- und Fristtreue) § Zeitplanung unter Berücksichtigung einer effizienten, schnellstmöglichen und zielführenden Umsetzung (Komprimierung der Leistungserbringung) § Sicherstellung von Qualitätsstandards | C18: 5 | E18: 15 | F18: =D18*E18 -> 0
B20: Auftragsbezogens Konzept - Innovationskonzept für Hörsäle + Kurslabore Teil1 Innovationskonzept für die Hörsäle mit detaillierter Darstellung, welcher Hörsaal, mit welcher Lehrform, für die Medizintechnik der Zukunft ausgestattet werden sollte. Das Konzept inkludiert auch die dazu erforderliche Medientechnik (formlos, max. bitte 8 DIN-A4-Seiten, in Arial, einfacher Zeilenabstand, Schriftgröße 11 pt). Skizzen und Bilder können zur Visualisierung in das Innovationskonzept integriert werden. Teil 2 Innovationskonzept für die Kurslabore, in dem die Ansätze aus dem Hörsäle-Konzept sich in den Kurslaboren fortführt und die erforderliche Medientechnik inkludiert (formlos, max. bitte 4 DIN-A4-Seiten, in Arial, einfacher Zeilenabstand, Schriftgröße 11 pt). Skizzen und Bilder können zur Visualisierung in das Innovationskonzept integriert werden. | C20: 5 | E20: 15 | F20: =D20*E20 -> 0
E23: ∑ | F23: =SUM(F18:F20) -> 0
E25: von insgesamt max. möglichen gewichteten Punkten | F25: 150
A27: 2. Qualifikation und Erfahrung des mit der Ausführung des Auftrags betrauten (leitenden Personal) Personals, Gewichtung 30 %
A29: Mit dem Angebot hat der Bieter eine Eigenerklärung (als formlose Anlage) zum Nachweis der Qualifikation und Erfahrung des Projektleiters und seiner Stellvertretung einzureichen. Die Erfahrung soll jeweils mittels einer Referenz und Angaben zur Berufserfahrung insgesamt nachgewiesen werden. Reichen die Bieter mehr als eine Referenz ein, werden alle bewertet, jedoch fließt nur die jeweils beste Referenz in die Wertung ein. Die Bieter werden angehalten, nicht mehr als jeweils 5 Referenzen einzureichen.
A31: Kriterium | B31: Bewertungsgrundlage | C31: max. Punkte | D31: erreichte Punkte | E31: Gewichtung | F31: gewichtete Punkte
A32: Qualifikation und Erfahrung des mit der Ausführung des Auftrags betrauten Projektleiters | B32: Berufserfahrung des Projektleiters: Es wird die Dauer der Berufserfahrung als Projektleiter in vergleichbaren Projekten (Generalplanung der Modernisierung oder des Umbaus eines Lehr-, Hörsaal-, Kongress- oder Veranstaltungsgebäudes) bewertet. Die Bewertung erfolgt wie folgt: § Weniger als 5 Jahre = Ausschluss. § Mehr als 5 Jahre und weniger als 7 Jahre = 1 Punkt. § Ab 7 Jahren, aber weniger als 9 Jahre = 2 Punkte. § Ab 9 Jahren, aber weniger als 11 Jahre = 3 Punkte. § Ab 11 Jahren, aber weniger als 13 Jahre = 4 Punkte. § Ab 13 Jahren = 5 Punkte. | C32: 5 | E32: 7.5 | F32: =D32*E32 -> 0
B33: Persönliche Referenz des Projektleiters: Der Projektleiter muss mindestens ein vergleichbares Referenzprojekt zum Nachweis der Erfahrung bei der Erbringung von Leistungen als Generalplaner bei einer Modernisierung oder eines Umbaus eines Lehr-, Hörsaal-, Kongress- oder Veranstaltungsgebäudes innerhalb des europäischen Wirtschaftsraums LP 1 – 8 (abgeschlossen), in den letzten zehn Jahren (Stichtag: Ende der Angebotsfrist) mit einer Bausumme i. H. v. mindestens 10 Mio. EUR netto (KG 200 – 600 gemäß DIN 276) vorweisen. Die Referenz muss mindestens folgende Fachbereiche umfassen Objektplanung, Technische Gebäudeausrüstung, Tragwerksplanung. Der Bieter bestätigt, dass der Projektleiter in den jeweiligen Fachgebieten der jeweiligen Projektstufen vergleichbar umfangreiche Leistungen erbracht hat, wie sie in den Anlagen Leistungsbilder abgefordert werden. Darüber hinaus gehende Leistungen werden wie folgt bewertet: Leistungsinhalt der persönlichen Referenz des Projektleiters und Bewertung Teil 1: Die Leistungen des angebotenen Projektleiters umfassen im jeweils benannten Referenzprojekt auch Leistungen aus den anderen Fachgebieten, welche auch in diesem Projekt Gegenstand sind: Brandschutzgutachter, Bauphysik - Bau- und Raumakustik, Schadstoffgutachter, Sicherheits- und Gesundheitskoordination. Für die Bewertung wendet die Auftraggeberin folgendes Punktesystem an: § ein weiteres Fachgebiet enthalten = 2 Punkte § zwei weitere Fachgebiete enthalten = 3 Punkte § drei weitere Fachgebiete enthalten = 4 Punkte § vier weitere Fachgebiete enthalten = 5 Punkte | C33: 5 | E33: 7.5 | F33: =D33*E33 -> 0
B34: Leistungsinhalt der persönlichen Referenz des Projektleiters und Bewertung Teil 2 Enthält die Referenz eine Bausumme, welche die geforderte Mindestsummen übersteigt, erhält die Referenz weitere Wertungspunkte. Für die Bewertung wendet die Auftraggeberin folgendes Punktesystem bezogen auf die KG 200 – 600 gemäß DIN 276 an: § < 10 Mio. EUR netto = 0 Punkte. § ≥ 10 Mio. EUR netto = 1 Punkt. § ≥ 15 Mio. EUR netto = 2 Punkte. § ≥ 20 Mio. EUR netto = 3 Punkte. § ≥ 25 Mio. EUR netto = 4 Punkte. § ≥ 30 Mio. EUR netto = 5 Punkte. | C34: 5 | E34: 5 | F34: =D34*E34 -> 0
A36: Qualifikation und Erfahrung des mit der Ausführung des Auftrags betrauten stellvertretenden Projektleiters | B36: Berufserfahrung des stellvertretenden Projektleiters: Es wird die Dauer der Berufserfahrung als Projektleiter in vergleichbaren Projekten (Generalplanung der Modernisierung oder des Umbaus eines Lehr-, Hörsaal-, Kongress- oder Veranstaltungsgebäudes) bewertet. Die Bewertung erfolgt wie folgt: § Weniger als 3 Jahre = Ausschluss. § Mehr als 3 Jahre und weniger als 5 Jahre = 1 Punkt. § Ab 5 Jahren, aber weniger als 7 Jahre = 2 Punkte. § Ab 7 Jahren, aber weniger als 9 Jahre = 3 Punkte. § Ab 9 Jahren, aber weniger als 11 Jahre = 4 Punkte. § Ab 11 Jahren = 5 Punkte. | C36: 5 | E36: 2.5 | F36: =D36*E36 -> 0
B37: Persönliche Referenz des stellvertretenden Projektleiters: Der stellv. Projektleiter muss mindestens ein vergleichbares Referenzprojekt zum Nachweis der Erfahrung bei der Erbringung von Leistungen als Generalplaner bei bei einer Modernisierung oder eines Umbaus eines Lehr-, Hörsaal-, Kongress- oder Veranstaltungsgebäudes innerhalb des europäischen Wirtschaftsraums LP 1 – 8 (abgeschlossen), in den letzten zehn Jahren (Stichtag: Ende der Angebotsfrist) mit einer Bausumme i. H. v. mindestens 5 Mio. EUR netto (KG 200 – 600 gemäß DIN 276) vorweisen. Die Referenz muss mindestens folgende Fachbereiche umfassen: Objektplanung, Technische Gebäudeausrüstung,Tragwerksplanung. Der Bieter bestätigt, dass der stellvertr. Projektleiter in den jeweiligen Fachgebieten der jeweiligen Projektstufen vergleichbar umfangreiche Leistungen erbracht hat, wie sie in den Anlagen Leistungsbilder abgefordert werden. Darüber hinaus gehende Leistungen werden wie folgt bewertet: Leistungsinhalt der persönlichen Referenz des stellv. Projektleiters und Bewertung Teil 1 Die Leistungen des angebotenen stellv. Projektleiters umfassen im jeweils benannten Referenzprojekt auch Leistungen aus den anderen Fachgebieten, welche auch in diesem Projekt Gegenstand sind: Brandschutzgutachter, Bauphysik - Bau- und Raumakustik, Schadstoffgutachter, Sicherheits- und Gesundheitskoordination. Für die Bewertung wendet die Auftraggeberin folgendes Punktesystem an: § ein weiteres Fachgebiet enthalten = 2 Punkte § zwei weitere Fachgebiete enthalten = 3 Punkte § drei weitere Fachgebiete enthalten = 4 Punkte § vier weitere Fachgebiete enthalten = 5 Punkte | C37: 5 | E37: 5 | F37: =D37*E37 -> 0
B38: Leistungsinhalt der persönlichen Referenz des stellv. Projektleiters und Bewertung Teil 2 Enthält die Referenz eine Bausumme, welche die geforderte Mindestsummen übersteigt, erhält die Referenz weitere Wertungspunkte. Für die Bewertung wendet die Auftraggeberin folgendes Punk-tesystem bezogen auf die KG 200 – 600 gemäß DIN 276 an: § < 5 Mio. EUR netto = 0 Punkte. § ≥ 5 Mio. EUR netto = 1 Punkt. § ≥ 10 Mio. EUR netto = 2 Punkte. § ≥ 15 Mio. EUR netto = 3 Punkte. § ≥ 20 Mio. EUR netto = 4 Punkte. § ≥ 25 Mio. EUR netto = 5 Punkte. | C38: 5 | E38: 2.5 | F38: =D38*E38 -> 0
E41: ∑ | F41: =SUM(F32:F38) -> 0
E43: von insgesamt max. möglichen gewichteten Punkten | F43: 150
A45: 3. Preis / Honorar, Gewichtung 40 %
A47: Kriterium | B47: Bewertungsgrundlage | C47: max. Punkte | D47: erreichte Punkte | E47: Gewichtung | F47: gewichtete Punkte
A48: Preis-/ Honorarangebot | B48: Grundlage für die Bewertung ist das ausgefüllte Honorarangebot (Anlage 00b GP Honorar) des Bieters. Hinweis: Es werden auch die Stundensätze für den Fall der Vereinbarung von Nachweisleistungen gemäß fiktiver Stundenkontingente gewertet und zur Angebotssumme addiert (s. Anlage (Honorarblatt) GP_Honorar_I02B2602_I02B2619.xlsx, kein Anspruch auf Beauftragung). Die fiktiven Stundenkontingente dienen ausschließlich der Wertung und Vergleichbarkeit. Das für die Wertung relevante Honorarangebot ergibt sich daher aus folgender Summe: Honorarsumme des Bieters (vgl. Honorarblatt, Mappe GP Honorar mit Std.) = Honorar Leistungstufe 1- 5 GP Honorar inkl. Nebenkosten mit Berücksichtigung der (fiktiven) Stundenzahl für Nachweisleistungen) Die so errechnete Honorarsumme wird mit bis zu 5 Punkten bewertet: Das Angebot mit der nach Prüfung der Angemessenheit niedrigsten Honorarsumme erhält die volle Punktzahl; Angebote mit dem 2-fachen der niedrigsten Summe oder darüber hinaus erhalten 0 Punkte. Der Punktwert der dazwischenliegenden Angebote wird durch eine lineare Interpolation, mit zwei Stellen nach dem Komma, nach der folgenden Formel ermittelt: Erreichte Punktzahl = (2*günstigstes Angebot - zu bewertendes Angebot) * 5 günstigstes Angebot | C48: 5 | E48: 40 | F48: =D48*E48 -> 0
E52: ∑ | F52: =SUM(F48) -> 0
E54: von insgesamt max. möglichen gewichteten Punkten | F54: 200
A58: Bewertungsmaßstab
A60: Die Wertung erfolgt dabei gemäß den nachfolgenden Bestimmungen: Die Wertung der Darstellungen richtet sich danach, wie vollständig, fundiert, präzise und explizit der Leistungserbringer, die im Einzelnen an ihn gerichteten Anforderungen jeweils aufgreift und überzeugend darstellt und damit, wie sehr die beschriebene Vorgehensweise eine qualitätsvolle Leistungserbringung erwarten lässt. Fehlt eine Darstellung, erfolgt hierzu eine Wertung mit 0 Punkten (es sei denn, es wurden Mindestanforderungen definiert, dann droht der Ausschluss). Darüber hinaus gilt: Zeigt die beschriebene Darstellung ein nur oberflächliches und lückenhaftes Verständnis der Anforderungen oder werden diese nur rein schematisch und rudimentär dargelegt, lässt die dargestellte Herangehensweise also eine nur schlechte und weniger qualitätsvolle Leistungserbringung erwarten, führt dies zu einer schlechteren Punktwertung. Zeigt der Bieter in der Darlegung seiner jeweiligen Konzepte dagegen ein tiefgehendes und umfassendes Verständnis für die Leistungsanforderungen, indem er sie praxisgerecht, umfassend und logisch sowie strukturiert beschreibt und lässt die Herangehensweise daher eine gute und qualitätsvolle Leistungserbringung erwarten, führt dies zu einer besseren Bewertung. Grafiken und Visualisierungen sind zur Veranschaulichung des Ansatzes zugelassen. Die Punktvergabe für Punkt 1 Organigramm - Personalorganisation - Herangehensweise - Innovation wird im Folgenden näher erläutert; die Wertung erfolgt vergleichend unter den Bietern mit folgendem Wertungsschlüssel:
A62: Bewertungsmaßstab der eingereichten Darstellungen zu Punkt 1. Organigramm - Personalorganisation - Herangehensweise - Innovation | C62: Punkte
A64: Sehr schlüssige und überaus fundiert dargestellte und angebotene Darstellung; Die dargestellte und angebotene Herangehensweise ist in allen Punkten sehr gut nachvollziehbar und dient in herausragender Weise der Zielerreichung einer qualitativ hochwertigen Leistung. Die Schwerpunkte sind sinnvoll gesetzt und es werden Lösungsansätze gefunden, die den Schluss nahelegen, dass das Projekt zur vollsten Zufriedenheit der Auftraggeberin abgewickelt werden kann. | C64: 5
A66: Sehr schlüssige, fundierte, gut dargestellte und angebotene Darstellung; Die dargestellte und angebotene Herangehensweise ist gut nachvollziehbar und dient in besonderer Weise der Ziel-erreichung einer qualitativ hochwertigen Leistung. Die Schwerpunkte wurden weitgehend sinnvoll gesetzt und es werden brauchbare Lösungsansätze gefunden, die den Schluss nahelegen, dass das Projekt sinnvoll abgewickelt werden kann. | C66: 4
A68: Befriedigende, durchschnittlich dargestellte und angebotene Darstellung; Die dargestellte und angebotene Herangehensweise ist nachvollziehbar und dient der Zielerreichung einer qualitativ durchschnittlichen Leistung. Aufgrund weniger Defizite ist erkennbar, dass sich der Bearbeiter mit den Anforderungen des Projekts nicht abschließend vertraut gemacht hat. Er hat die Schwerpunkte nachvollziehbar gesetzt und Lösungsansätze gefunden, die mit Einschränkungen zu einer sinnvollen Abwicklung des Projekts genutzt werden können. | C68: 3
A70: Teils lückenhafte Darstellung; Die dargestellte und angebotene Herangehensweise ist nur teilweise nachvollziehbar und dient daher nur teilweise der Zielerreichung einer qualitativ hochwertigen Leistung. Aufgrund größerer Defizite ist nicht abschließend erkennbar, dass sich der Bearbeiter mit den Anforderungen des Projekts vertraut gemacht hat. Er hat die Schwerpunkte teils weniger sinnvoll gesetzt und Lösungsansätze gefunden, die mit Überarbeitungen zu einer sinnvollen Abwicklung des Projekts genutzt werden können. | C70: 2
A72: Die dargestellte und angebotene Darstellung ist rudimentär, befasst sich inhaltlich nicht mit der Thematik oder ist lückenhaft und kaum nachvollziehbar. Sie dient daher nicht der Zielerrei-chung einer qualitativ hochwertigen Leistung. Insgesamt lässt sich nicht erkennen, wie sich der Bearbeiter die Ausführung konkret vorstellt, da zielführende Lösungsansätze nicht formuliert werden. Die Ausführungen lassen eher nicht erwarten, dass der Bieter die Leistungen zufriedenstellend erbringen wird. | C72: 1

Sheet Gesamtauswertung
A2: Vergabeverfahren | B2: Offenes Verfahren
A3: Vergabe-Nr. | B3: ='1. Formale Prüfung'!B3 -> 2026/702/8904
A4: Projekt | B4: I02B2602 Modernisierung Hörsäle + Kurslabore - Gebäude I02 I02B2619 BZ (Berufungszusage)
A5: Leistung | B5: Generalplanerleistungen (GP)
A7: Bieter | B7: ='1. Formale Prüfung'!B7 -> Name der Unternehmens
A12: 1. Formale Prüfung
A14: Es liegt ein Ausschlussgrund vor: | E14: ja/nein
A16: 2. Prüfung der wirtschaftlichen, finanziellen, beruflichen und technischen Leistungsfähigkeit
B18: Mindestanforderungen an die wirtschaftliche, finanzielle sowie berufliche und technische Leistungsfähigkeit erfüllt: | E18: ja/nein
A22: 3. Zuschlagskriterien
A24: 1. Organigramm - Personalorganisation - Herangehensweise - Innovation: | E24: ='3. Zuschlagskriterien'!F23 -> 0 | F24: von insgesamt 150,00 möglichen Punkten
A26: 2. Qualifikation und Erfahrung des mit der Ausführung des Auftrags betrauten (leitenden Personal) Personals: | E26: ='3. Zuschlagskriterien'!F41 -> 0 | F26: von insgesamt 150,00 möglichen Punkten
D29: 3. Preis / Honorarangebot: | E29: ='3. Zuschlagskriterien'!F52 -> 0 | F29: von insgesamt 200,00 möglichen Punkten
A34: Gesamtauswertung
B36: Erreichte Gesamtpunktzahl aller Kriterien: | E36: =SUM(E24,E26,E29) -> 0 | F36: von insgesamt 500,00 möglichen Punkten
