Workbook

Sheet Fragenkatalog
A1: Checkliste, an Hand derer beim Auftragnehmer eine Selbstauskunft bzgl. der datenschutzrechtlichen Anforderungen bei einer AV-Vergabe geprüft werden kann; (Anforderungen gemäß Art. 32 DSGVO) ausgefüllt und unterschrieben den Angebotsunterlagen beizulegen!
A2: Kategorie | B2: Frage | D2: Vom AN auszufüllen | F2: Vom AG auszufüllen | H2: Prüfung ja/nein | I2: Prüfung "Trifft nicht zu" | J2: Wichtung | K2: Zwischenwert | L2: Wert | M2: Sollwert
B3: Kernfrage | C3: Ergänzungsfrage | D3: Ja (x, leeres Feld) | E3: Nein (x, leeres Feld) | F3: Trifft nicht zu (x, leeres Feld) | G3: Gewichtung (Wert zwischen 1 und 10)
B4: Allgemeines
A5: Allg. | B5: Wurde beim Auftragnehmer (AN) ein DSB bestellt? | H5: =IF(E5="x",-1,IF(D5="x",1,0)) -> 0 | I5: =IF(F5="x",0,1) -> 1 | J5: =IF(G5="",1,G5) -> 1 | L5: =H5*I5*J5*Berechnung!$D$2 -> 0 | M5: =IF(F5="x",0,J5*Berechnung!$D$2) -> 0.85714286
A6: Allg. | B6: Gibt es beim AN einen Beauftragten für die IT-/Informationssicherheit? | H6: =IF(E6="x",-1,IF(D6="x",1,0)) -> 0 | I6: =IF(F6="x",0,1) -> 1 | J6: =IF(G6="",1,G6) -> 1 | L6: =H6*I6*J6*Berechnung!$D$2 -> 0 | M6: =IF(F6="x",0,J6*Berechnung!$D$2) -> 0.85714286
A7: Allg. | B7: Sind die Beauftragten für IT-/Informationssicherheit und Datenschutz des AN angemessen ausgebildet und verfügen sie über angemessenes fachliches Know-how und eine angemessene persönliche Eignung? | H7: =IF(E7="x",-1,IF(D7="x",1,0)) -> 0 | I7: =IF(F7="x",0,1) -> 1 | J7: =IF(G7="",1,G7) -> 1 | L7: =H7*I7*J7*Berechnung!$D$2 -> 0 | M7: =IF(F7="x",0,J7*Berechnung!$D$2) -> 0.85714286
A8: Allg. | B8: Finden beim AN regelmäßige Basisschulungen der Mitarbeiter zu Informationssicherheit und/oder Datenschutz statt? | H8: =IF(E8="x",-1,IF(D8="x",1,0)) -> 0 | I8: =IF(F8="x",0,1) -> 1 | J8: =IF(G8="",1,G8) -> 1 | L8: =H8*I8*J8*Berechnung!$D$2 -> 0 | M8: =IF(F8="x",0,J8*Berechnung!$D$2) -> 0.85714286
A9: Allg. | B9: Sind aktuelle Verschlüsselungsstandards (E-Mail und Festplatte) eingeführt? | H9: =IF(E9="x",-1,IF(D9="x",1,0)) -> 0 | I9: =IF(F9="x",0,1) -> 1 | J9: =IF(G9="",1,G9) -> 1 | L9: =H9*I9*J9*Berechnung!$D$2 -> 0 | M9: =IF(F9="x",0,J9*Berechnung!$D$2) -> 0.85714286
A10: Allg. | B10: Werden personenbezogene Daten bei der Datenverarbeitung anonymisiert oder pseudonymisiert?
A11: Allg. | B11: Gibt es einen gemanagten Meldeprozesse bei Sicherheitsvorfällen (Incident-Management) mit Einschluss des Auftraggebers (AG)? | H11: =IF(E11="x",-1,IF(D11="x",1,0)) -> 0 | I11: =IF(F11="x",0,1) -> 1 | J11: =IF(G11="",1,G11) -> 1 | L11: =H11*I11*J11*Berechnung!$D$2 -> 0 | M11: =IF(F11="x",0,J11*Berechnung!$D$2) -> 0.85714286
B12: Dokumentation
A13: Doku. | B13: Existiert eine übergeordnete Richtlinie/Policy zum Datenschutz? | H13: =IF(E13="x",-1,IF(D13="x",1,0)) -> 0 | I13: =IF(F13="x",0,1) -> 1 | J13: =IF(G13="",1,G13) -> 1 | L13: =H13*I13*J13*Berechnung!$D$3 -> 0 | M13: =IF(F13="x",0,J13*Berechnung!$D$3) -> 1
A14: Doku. | B14: Existiert eine Dokumentation der umgesetzten technischen und organisatorischen Maßnahmen? | H14: =IF(E14="x",-1,IF(D14="x",1,0)) -> 0 | I14: =IF(F14="x",0,1) -> 1 | J14: =IF(G14="",1,G14) -> 1 | L14: =H14*I14*J14*Berechnung!$D$3 -> 0 | M14: =IF(F14="x",0,J14*Berechnung!$D$3) -> 1
A15: Doku. | B15: Existiert ein/e Verzeichnis der Verarbeitungstätigkeiten des AN? | H15: =IF(E15="x",-1,IF(D15="x",1,0)) -> 0 | I15: =IF(F15="x",0,1) -> 1 | J15: =IF(G15="",1,G15) -> 1 | L15: =H15*I15*J15*Berechnung!$D$3 -> 0 | M15: =IF(F15="x",0,J15*Berechnung!$D$3) -> 1
A16: Doku. | B16: Existiert eine Dokumentation, in der die Zutrittskontrolle und die dafür umgesetzten Maßnahmen geregelt sind? | H16: =IF(E16="x",-1,IF(D16="x",1,0)) -> 0 | I16: =IF(F16="x",0,1) -> 1 | J16: =IF(G16="",1,G16) -> 1 | L16: =H16*I16*J16*Berechnung!$D$3 -> 0 | M16: =IF(F16="x",0,J16*Berechnung!$D$3) -> 1
A17: Doku. | B17: Existiert eine Dokumentation, in der die Zugangskontrolle und die dafür umgesetzten Maßnahmen geregelt sind? | H17: =IF(E17="x",-1,IF(D17="x",1,0)) -> 0 | I17: =IF(F17="x",0,1) -> 1 | J17: =IF(G17="",1,G17) -> 1 | L17: =H17*I17*J17*Berechnung!$D$3 -> 0 | M17: =IF(F17="x",0,J17*Berechnung!$D$3) -> 1
A18: Doku. | B18: Existiert eine Dokumentation, in der die Zugriffskontrolle und die dafür umgesetzten Maßnahmen geregelt sind? | H18: =IF(E18="x",-1,IF(D18="x",1,0)) -> 0 | I18: =IF(F18="x",0,1) -> 1 | J18: =IF(G18="",1,G18) -> 1 | L18: =H18*I18*J18*Berechnung!$D$3 -> 0 | M18: =IF(F18="x",0,J18*Berechnung!$D$3) -> 1
A19: Doku. | B19: Existiert eine Dokumentation, in der die Weitergabekontrolle und die dafür umgesetzten Maßnahmen geregelt sind? | H19: =IF(E19="x",-1,IF(D19="x",1,0)) -> 0 | I19: =IF(F19="x",0,1) -> 1 | J19: =IF(G19="",1,G19) -> 1 | L19: =H19*I19*J19*Berechnung!$D$3 -> 0 | M19: =IF(F19="x",0,J19*Berechnung!$D$3) -> 1
A20: Doku. | B20: Existiert eine Dokumentation, in der die Eingabekontrolle und die dafür umgesetzten Maßnahmen geregelt sind? | H20: =IF(E20="x",-1,IF(D20="x",1,0)) -> 0 | I20: =IF(F20="x",0,1) -> 1 | J20: =IF(G20="",1,G20) -> 1 | L20: =H20*I20*J20*Berechnung!$D$3 -> 0 | M20: =IF(F20="x",0,J20*Berechnung!$D$3) -> 1
A21: Doku. | B21: Existiert eine Dokumentation, in der die Verfügbarkeitskontrolle und die dafür umgesetzten Maßnahmen geregelt sind? | H21: =IF(E21="x",-1,IF(D21="x",1,0)) -> 0 | I21: =IF(F21="x",0,1) -> 1 | J21: =IF(G21="",1,G21) -> 1 | L21: =H21*I21*J21*Berechnung!$D$3 -> 0 | M21: =IF(F21="x",0,J21*Berechnung!$D$3) -> 1
A22: Doku. | B22: Existiert eine Dokumentation des Backup-Konzeptes? | H22: =IF(E22="x",-1,IF(D22="x",1,0)) -> 0 | I22: =IF(F22="x",0,1) -> 1 | J22: =IF(G22="",1,G22) -> 1 | L22: =H22*I22*J22*Berechnung!$D$3 -> 0 | M22: =IF(F22="x",0,J22*Berechnung!$D$3) -> 1
A23: Doku. | B23: Existiert für diese Auftragsdatenverarbeitung ein Datenschutz- und Sicherheitskonzept, in dem alle technischen und organisatorischen Maßnahmen dargestellt sind? | H23: =IF(E23="x",-1,IF(D23="x",1,0)) -> 0 | I23: =IF(F23="x",0,1) -> 1 | J23: =IF(G23="",1,G23) -> 1 | L23: =H23*I23*J23*Berechnung!$D$3 -> 0 | M23: =IF(F23="x",0,J23*Berechnung!$D$3) -> 1
A24: Doku. | B24: Gibt es in der Organisation etablierte Prozesse und Verfahren zur Einhaltung von Datenschutz und Datensicherheit (z.B. BSI Grundschutz/ISO 27001/Richtlinie Datenschutz)? | H24: =IF(E24="x",-1,IF(D24="x",1,0)) -> 0 | I24: =IF(F24="x",0,1) -> 1 | J24: =IF(G24="",1,G24) -> 1 | L24: =H24*I24*J24*Berechnung!$D$3 -> 0 | M24: =IF(F24="x",0,J24*Berechnung!$D$3) -> 1
... A28: Doku. | B28: Existieren bei Auftragsverarbeitungen Verpflichtungen der Mitarbeiter gemäß der Forderung Art.28 DSGVO? | H28: =IF(E28="x",-1,IF(D28="x",1,0)) -> 0 | I28: =IF(F28="x",0,1) -> 1 | J28: =IF(G28="",1,G28) -> 1 | L28: =H28*I28*J28*Berechnung!$D$3 -> 0 | M28: =IF(F28="x",0,J28*Berechnung!$D$3) -> 1
B29: TOMs 1: Zutrittskontrolle
A30: TOMs1 | B30: Erfolgt eine Zutrittskontrolle für den Zutritt zum Betriebsgelände/Gebäude? | H30: =IF(E30="x",-1,IF(D30="x",1,0)) -> 0 | I30: =IF(F30="x",0,1) -> 1 | J30: =IF(G30="",1,G30) -> 1 | L30: =H30*I30*J30*Berechnung!$D$4 -> 0 | M30: =IF(F30="x",0,J30*Berechnung!$D$4) -> 1
A31: TOMs1 | B31: Bestehen Regelungen für Fremdpersonal, Reinigungspersonal, Besucher? | H31: =IF(E31="x",-1,IF(D31="x",1,0)) -> 0 | I31: =IF(F31="x",0,1) -> 1 | J31: =IF(G31="",1,G31) -> 1 | L31: =H31*I31*J31*Berechnung!$D$4 -> 0 | M31: =IF(F31="x",0,J31*Berechnung!$D$4) -> 1
A32: TOMs1 | B32: Ist der Rechenzentrums (RZ) Zutritt gesichert? | H32: =IF(E32="x",-1,IF(D32="x",1,0)) -> 0 | I32: =IF(F32="x",0,1) -> 1 | J32: =IF(G32="",1,G32) -> 1 | L32: =H32*I32*J32*Berechnung!$D$4 -> 0 | M32: =IF(F32="x",0,J32*Berechnung!$D$4) -> 1
A33: TOMs1 | B33: Liegt eine Anweisung zur Ausgabe von Schlüsseln vor? | H33: =IF(E33="x",-1,IF(D33="x",1,0)) -> 0 | I33: =IF(F33="x",0,1) -> 1 | J33: =IF(G33="",1,G33) -> 1 | L33: =H33*I33*J33*Berechnung!$D$4 -> 0 | M33: =IF(F33="x",0,J33*Berechnung!$D$4) -> 1
B34: TOMs 2: Zugangskontrolle
A35: TOMs2 | B35: Wird die unbefugte Nutzung von IT-Systemen verhindert? | H35: =IF(E35="x",-1,IF(D35="x",1,0)) -> 0 | I35: =IF(F35="x",0,1) -> 1 | J35: =IF(G35="",1,G35) -> 1 | L35: =H35*I35*J35*Berechnung!$D$5 -> #REF! | M35: =IF(F35="x",0,J35*Berechnung!$D$5) -> #REF!
A36: TOMs2 | B36: Gibt es eine Richtlinie zur Vergabe und Nutzung von Passwörtern? | H36: =IF(E36="x",-1,IF(D36="x",1,0)) -> 0 | I36: =IF(F36="x",0,1) -> 1 | J36: =IF(G36="",1,G36) -> 1 | L36: =H36*I36*J36*Berechnung!$D$5 -> #REF! | M36: =IF(F36="x",0,J36*Berechnung!$D$5) -> #REF!
A37: TOMs2 | B37: Die Nutzung von IT-Systemen mithilfe von Einrichtungen der Datenübertragung durch Unbefugte wird durch folgende Maßnahmen verhindert oder zumindest nachvollziehbar gemacht: | J37: =SUM(#REF!) -> #REF! | L37: =SUM(#REF!) -> #REF! | M37: =IF(F37="x",0,J37*Berechnung!$D$5) -> #REF!
A38: TOMs2 | B38: Gibt es definierte organisatorische und technische Verfahren und Methoden zum Incident-Management (Management von erkannten oder vermuteten Sicherheitsvorfällen bzw. Störungen, Ausfällen etc.)? | H38: =IF(E38="x",-1,IF(D38="x",1,0)) -> 0 | I38: =IF(F38="x",0,1) -> 1 | J38: =IF(G38="",1,G38) -> 1 | L38: =H38*I38*J38*Berechnung!$D$5 -> #REF! | M38: =IF(F38="x",0,J38*Berechnung!$D$5) -> #REF!
B39: TOMs 3: Zugriffskontrolle
A40: TOMs3 | B40: Besteht ein dokumentiertes Berechtigungsmanagement, in dem verbindlich geregelt ist, wie Berechtigungen beantragt, freigegeben, umgesetzt und wieder entzogen werden? | H40: =IF(E40="x",-1,IF(D40="x",1,0)) -> 0 | I40: =IF(F40="x",0,1) -> 1 | J40: =IF(G40="",1,G40) -> 1 | L40: =H40*I40*J40*Berechnung!$D$6 -> 0 | M40: =IF(F40="x",0,J40*Berechnung!$D$6) -> 1
A41: TOMs3 | B41: Besteht eine funktionelle/personelleTrennung von Berechtigungsbewilligung (organisatorisch) und Berechtigungsvergabe (techn.)? | H41: =IF(E41="x",-1,IF(D41="x",1,0)) -> 0 | I41: =IF(F41="x",0,1) -> 1 | J41: =IF(G41="",1,G41) -> 1 | L41: =H41*I41*J41*Berechnung!$D$6 -> 0 | M41: =IF(F41="x",0,J41*Berechnung!$D$6) -> 1
A42: TOMs3 | B42: Ist die Wiederherstellung von Daten aus Backups (wer darf wann auf wessen Anforderung Backup-Daten einspielen?) in einem verbindlichen Verfahren geregelt? | H42: =IF(E42="x",-1,IF(D42="x",1,0)) -> 0 | I42: =IF(F42="x",0,1) -> 1 | J42: =IF(G42="",1,G42) -> 1 | L42: =H42*I42*J42*Berechnung!$D$6 -> 0 | M42: =IF(F42="x",0,J42*Berechnung!$D$6) -> 1
B43: TOMs4: Weitergabekontrolle
A44: TOMs4 | B44: Werden Daten vom AN an den AG oder Dritte gesendet bzw. wird Dritten der Zugriff auf Daten des AG durch den AN ermöglicht? | H44: =IF(E44="x",-1,IF(D44="x",1,0)) -> 0 | I44: =IF(F44="x",0,1) -> 1 | J44: =IF(G44="",1,G44) -> 1 | L44: =H44*I44*J44*Berechnung!$D$7 -> #REF! | M44: =IF(F44="x",0,J44*Berechnung!$D$7) -> #REF!
A45: TOMs4 | B45: Erhält der AN Daten vom AG, z.B. bei Wartungsvorgängen? | H45: =IF(E45="x",-1,IF(D45="x",1,0)) -> 0 | I45: =IF(F45="x",0,1) -> 1 | J45: =IF(G45="",1,G45) -> 1 | L45: =H45*I45*J45*Berechnung!$D$7 -> #REF! | M45: =IF(F45="x",0,J45*Berechnung!$D$7) -> #REF!
A46: TOMs4 | B46: Welche Versendungsart der Daten besteht zwischen AG und AN? | J46: =SUM(#REF!) -> #REF! | L46: =SUM(#REF!) -> #REF! | M46: =IF(F46="x",0,J46*Berechnung!$D$7) -> #REF!
A47: TOMs4 | B47: Sind weitere Maßnahmen für Übermittlung/Transport von Daten festgelegt? | H47: =IF(E47="x",-1,IF(D47="x",1,0)) -> 0 | I47: =IF(F47="x",0,1) -> 1 | J47: =IF(G47="",1,G47) -> 1 | L47: =H47*I47*J47*Berechnung!$D$7 -> #REF! | M47: =IF(F47="x",0,J47*Berechnung!$D$7) -> #REF!
A48: TOMs4 | B48: Ist geregelt, was passieren muss, wenn beim Datenträgertransport Fehler (z.B. Verlust von Datenträgern) auftreten? | H48: =IF(E48="x",-1,IF(D48="x",1,0)) -> 0 | I48: =IF(F48="x",0,1) -> 1 | J48: =IF(G48="",1,G48) -> 1 | L48: =H48*I48*J48*Berechnung!$D$7 -> #REF! | M48: =IF(F48="x",0,J48*Berechnung!$D$7) -> #REF!
B49: TOMs 5: Eingabekontrolle
A50: TOMs5 | B50: Sind die Benutzerberechtigungen für Eingabe (Profile) festgelegt? | H50: =IF(E50="x",-1,IF(D50="x",1,0)) -> 0 | I50: =IF(F50="x",0,1) -> 1 | J50: =IF(G50="",1,G50) -> 1 | L50: =H50*I50*J50*Berechnung!$D$8 -> 0 | M50: =IF(F50="x",0,J50*Berechnung!$D$8) -> 1
A51: TOMs5 | B51: Erfolgt eine Protokollierung der Administratorentätigkeiten (Anlegen von Benutzern, Ändern von Benutzerrechten)? | H51: =IF(E51="x",-1,IF(D51="x",1,0)) -> 0 | I51: =IF(F51="x",0,1) -> 1 | J51: =IF(G51="",1,G51) -> 1 | L51: =H51*I51*J51*Berechnung!$D$8 -> 0 | M51: =IF(F51="x",0,J51*Berechnung!$D$8) -> 1
B52: TOMs 6: Verfügbarkeitskontrolle
A53: TOMs6 | B53: Existiert ein angemessenes Backup- und Recoverykonzept (z.B. mit täglicher Sicherung)? | H53: =IF(E53="x",-1,IF(D53="x",1,0)) -> 0 | I53: =IF(F53="x",0,1) -> 1 | J53: =IF(G53="",1,G53) -> 1 | L53: =H53*I53*J53*Berechnung!$D$9 -> 0 | M53: =IF(F53="x",0,J53*Berechnung!$D$9) -> 1
A54: TOMs6 | B54: Wird regelmäßig überprüft, ob eine Rekonstruktion der gesicherten Daten tatsächlich möglich ist? | H54: =IF(E54="x",-1,IF(D54="x",1,0)) -> 0 | I54: =IF(F54="x",0,1) -> 1 | J54: =IF(G54="",1,G54) -> 1 | L54: =H54*I54*J54*Berechnung!$D$9 -> 0 | M54: =IF(F54="x",0,J54*Berechnung!$D$9) -> 1
A55: TOMs6 | B55: Werden alte oder unbrauchbare Datenträger datenschutzrechtlich ordnungsgemäß vernichtet? | H55: =IF(E55="x",-1,IF(D55="x",1,0)) -> 0 | I55: =IF(F55="x",0,1) -> 1 | J55: =IF(G55="",1,G55) -> 1 | L55: =H55*I55*J55*Berechnung!$D$9 -> 0 | M55: =IF(F55="x",0,J55*Berechnung!$D$9) -> 1
A56: TOMs6 | B56: Existiert ein Notfallhandbuch mit Notfallplänen, Darstellung der Notfallorganisation – klare Regelung der Verantwortlichkeiten im Notfall? | H56: =IF(E56="x",-1,IF(D56="x",1,0)) -> 0 | I56: =IF(F56="x",0,1) -> 1 | J56: =IF(G56="",1,G56) -> 1 | L56: =H56*I56*J56*Berechnung!$D$9 -> 0 | M56: =IF(F56="x",0,J56*Berechnung!$D$9) -> 1
B57: TOMs 7: Trennungskontrolle
A58: TOMs7 | B58: Werden die Daten des AG und anderer Kunden beim AN physisch oder zumindest logisch getrennt verarbeitet? | H58: =IF(E58="x",-1,IF(D58="x",1,0)) -> 0 | I58: =IF(F58="x",0,1) -> 1 | J58: =IF(G58="",1,G58) -> 1 | L58: =H58*I58*J58*Berechnung!$D$10 -> 0 | M58: =IF(F58="x",0,J58*Berechnung!$D$10) -> 1
A59: TOMs7 | B59: Existiert ein Berechtigungskonzept, das der getrennten Verarbeitung der AG-Daten von Daten anderer Kunden/Mandanten Rechnung trägt? | H59: =IF(E59="x",-1,IF(D59="x",1,0)) -> 0 | I59: =IF(F59="x",0,1) -> 1 | J59: =IF(G59="",1,G59) -> 1 | L59: =H59*I59*J59*Berechnung!$D$10 -> 0 | M59: =IF(F59="x",0,J59*Berechnung!$D$10) -> 1
B60: TOMs 8: Auftragskontrolle
A61: TOMs8 | B61: Sind die Mitarbeiter des AN zur Wahrung der Vertraulichkeit und zur Beachtung des Datenschutzes verpflichtet? | H61: =IF(E61="x",-1,IF(D61="x",1,0)) -> 0 | I61: =IF(F61="x",0,1) -> 1 | J61: =IF(G61="",1,G61) -> 1 | L61: =H61*I61*J61*Berechnung!$D$11 -> 0 | M61: =IF(F61="x",0,J61*Berechnung!$D$11) -> 1
A62: TOMs8 | B62: Hat der AN einen Subunternehmer zur Erfüllung der Auftragsdatenverarbeitung eingesetzt? | H62: =IF(E62="x",-1,IF(D62="x",1,0)) -> 0 | I62: =IF(F62="x",0,1) -> 1 | J62: =IF(G62="",1,G62) -> 1 | L62: =H62*I62*J62*Berechnung!$D$11 -> 0 | M62: =IF(F62="x",0,J62*Berechnung!$D$11) -> 1
A63: TOMs8 | B63: Spiegeln die Verträge den AN mit dem Subunternehmer die Anforderungen des AG an den AN wider? | H63: =IF(E63="x",-1,IF(D63="x",1,0)) -> 0 | I63: =IF(F63="x",0,1) -> 1 | J63: =IF(G63="",1,G63) -> 1 | L63: =H63*I63*J63*Berechnung!$D$11 -> 0 | M63: =IF(F63="x",0,J63*Berechnung!$D$11) -> 1
A64: TOMs8 | B64: Sind Subunternehmer außerhalb des EWR angesiedelt? | H64: =IF(E64="x",-1,IF(D64="x",1,0)) -> 0 | I64: =IF(F64="x",0,1) -> 1 | J64: =IF(G64="",1,G64) -> 1 | L64: =H64*I64*J64*Berechnung!$D$11 -> 0 | M64: =IF(F64="x",0,J64*Berechnung!$D$11) -> 1
B65: DSGVO Art.32 Sichere Verarbeitung
A66: DSGVO_1 | B66: Werden die personenbezogenen Daten des AG und anderer Kunden beim AN bei der Verarbeitung pseudonymisiert?
A67: DSGVO_2 | B67: Werden die personenbezogenen Daten des AG und anderer Kunden beim AN bei der Verarbeitung anonymisiert?
A68: DSGVO_3 | B68: Existieren beim AN Technische Verfahren oder organisatorische Prozesse um die Vertraulichkeit der personenbezogenen Daten des AG und anderer Kunden sicherzustellen?
A69: DSGVO_4 | B69: Existieren beim AN Technische Verfahren oder organisatorische Prozesse um die Integrität der personenbezogenen Daten des AG und anderer Kunden sicherzustellen?
A70: DSGVO_5 | B70: Existieren beim AN Technische Verfahren oder organisatorische Prozesse um die Verfügbarkeit der personenbezogenen Daten des AG und anderer Kunden sicherzustellen?
A71: DSGVO_6 | B71: Sind die technischen Systeme des AN hinsichtlich der Belastbarkeit so ausgelegt, dass die Verarbeitung der personenbezogenen Daten des AN und anderer Kunden ausreichend sichergestellt ist?
A72: DSGVO_7 | B72: Kann die Verarbeitung der personenbezogenen Daten des AG und anderer Kunden beim AN nach einem physischen oder technischen Zwischenfall rasch wiederhergestellt werden?
A73: DSGVO_8 | B73: Existieren beim AN technische oder organisatorische Verfahren um die Wirksamkeit der technischen und organisatorischen Maßnahmen regelmäßig zu überprüfen?
A75: Datum | C75: Ort
A77: Anbieter | C77: Name

Sheet Berechnung
B1: Fragen pro Abschnitt | C1: Summe Gewichtung | D1: Punktwert
A2: Allgemeines | B2: =COUNTIF(Fragenkatalog!A:A,"Allg.") -> 7 | C2: =SUMIF(Fragenkatalog!A:A,"Allg.",Fragenkatalog!J:J) -> 6 | D2: =C2/B2 -> 0.85714286
A3: Dokumentation | B3: =COUNTIF(Fragenkatalog!A:A,"Doku.") -> 16 | C3: =SUMIF(Fragenkatalog!A:A,"Doku.",Fragenkatalog!J:J) -> 16 | D3: =C3/B3 -> 1
A4: TOMs 1: Zutrittskontrolle | B4: =COUNTIF(Fragenkatalog!A:A,"TOMs1") -> 4 | C4: =SUMIF(Fragenkatalog!A:A,"TOMs1",Fragenkatalog!J:J) -> 4 | D4: =C4/B4 -> 1
A5: TOMs 2: Zugangskontrolle | B5: =COUNTIF(Fragenkatalog!A:A,"TOMs2") -> 4 | C5: =SUMIF(Fragenkatalog!A:A,"TOMs2",Fragenkatalog!J:J) -> #REF! | D5: =C5/B5 -> #REF!
A6: TOMs 3: Zugriffskontrolle | B6: =COUNTIF(Fragenkatalog!A:A,"TOMs3") -> 3 | C6: =SUMIF(Fragenkatalog!A:A,"TOMs3",Fragenkatalog!J:J) -> 3 | D6: =C6/B6 -> 1
A7: TOMs4: Weitergabekontrolle | B7: =COUNTIF(Fragenkatalog!A:A,"TOMs4") -> 5 | C7: =SUMIF(Fragenkatalog!A:A,"TOMs4",Fragenkatalog!J:J) -> #REF! | D7: =C7/B7 -> #REF!
A8: TOMs 5: Eingabekontrolle | B8: =COUNTIF(Fragenkatalog!A:A,"TOMs5") -> 2 | C8: =SUMIF(Fragenkatalog!A:A,"TOMs5",Fragenkatalog!J:J) -> 2 | D8: =C8/B8 -> 1
A9: TOMs 6: Verfügbarkeitskontrolle | B9: =COUNTIF(Fragenkatalog!A:A,"TOMs6") -> 4 | C9: =SUMIF(Fragenkatalog!A:A,"TOMs6",Fragenkatalog!J:J) -> 4 | D9: =C9/B9 -> 1
A10: TOMs 7: Trennungskontrolle | B10: =COUNTIF(Fragenkatalog!A:A,"TOMs7") -> 2 | C10: =SUMIF(Fragenkatalog!A:A,"TOMs7",Fragenkatalog!J:J) -> 2 | D10: =C10/B10 -> 1
A11: TOMs 8: Auftragskontrolle | B11: =COUNTIF(Fragenkatalog!A:A,"TOMs8") -> 4 | C11: =SUMIF(Fragenkatalog!A:A,"TOMs8",Fragenkatalog!J:J) -> 4 | D11: =C11/B11 -> 1
A16: Hilfslinien für das Diagramm
A17: 0%-Grenze | B17: 50%-Grenze | C17: 100%-Grenze
A18: 0 | B18: 0.5 | C18: 1
A19: 0 | B19: 0.5 | C19: 1
A20: 0 | B20: 0.5 | C20: 1
A21: 0 | B21: 0.5 | C21: 1
A22: 0 | B22: 0.5 | C22: 1
A23: 0 | B23: 0.5 | C23: 1
A24: 0 | B24: 0.5 | C24: 1
A25: 0 | B25: 0.5 | C25: 1
A26: 0 | B26: 0.5 | C26: 1
A27: 0 | B27: 0.5 | C27: 1
