Workbook
Name d: #REF!
Name d: #REF!
Name d: #REF!
Name d: #REF!
Name d: #REF!
Name d: #REF!
Name d: #REF!
Name d: #REF!
Name d: #REF!
Name d: #REF!
Name d: #REF!
Name d: #REF!
Name d: #REF!
Name d: #REF!
Name d: #REF!
Name d: #REF!
Name d: #REF!
Name d: #REF!
Name d: #REF!
Name dd: #REF!
Name dd: #REF!
Name dd: #REF!
Name dd: #REF!
Name dd: #REF!
Name dd: #REF!
Name dd: #REF!
Name dd: #REF!
Name dd: #REF!
Name dd: #REF!
Name dd: #REF!
Name dd: #REF!
Name dd: #REF!
Name dd: #REF!
Name dd: #REF!
Name dd: #REF!
Name dd: #REF!
Name dd: #REF!
Name Faktor_13: #REF!
Name Faktor_13: #REF!
Name Faktor_13: #REF!
Name Faktor_13: #REF!
Name Faktor_13: #REF!
Name Faktor_13: #REF!
Name Faktor_13: #REF!
Name Faktor_13: #REF!
Name Faktor_13: #REF!
Name Faktor_13: #REF!
Name Faktor_13: #REF!
Name Faktor_13: #REF!
Name Faktor_13: #REF!
Name Faktor_13: #REF!
Name Faktor_13: #REF!
Name Faktor_13: #REF!
Name Faktor_13: #REF!
Name Faktor_13: #REF!
Name Faktor_13: #REF!
Name Faktor_13: #REF!
Name Faktor_13: #REF!
Name Faktor_13: #REF!
Name ff: #REF!

Sheet Preisblatt
A1: Vorhaben: Realisierung der ..... in .....
A3: (Hinweis: Der Honorarbetrag in der letzten Spalte ergibt sich jeweils durch die Verknüpfung mit der jeweils auszufüllenden Anlage, nachdem die Einträge in den gelb markierten Feldern der Anlagen "H.IB3" usw. vorgenommen wurden.)
A8: Honorar für die zunächst nach § ... des Vertrages zu vergebenden Grundleistungen und Besonderen Leistungen in den Leistungsphasen 1 - 3:
A10: Leistungen | B10: Honorare
B11: aus Anlage | C11: € Lph. 1-3
A13: Objektplanung n. Teil 3, Abschn. 3, § 43 HOAI (Ingenieurbauwerke):
A14: Objekt 3: Ingenieurbauwerk … | B14: H.IB3 | C14: =#REF! -> #REF!
A15: Objektplanung n. Teil 3, Abschn. 4, § 47 HOAI (Leistungsbild Verkehrsanlagen):
A16: Objekt 4: Verkehrsanlage … | B16: H.Verk4 | C16: =#REF! -> #REF!
A18: Nettohonorarsumme exkl. Umsatzsteuer | C18: =SUM(C14:C17) -> #REF!
A20: Bruttohonorarsumme bei z. Zt. 19 % Umsatzsteuer | C20: =C18*1.19 -> #REF!
A22: Honorar für die bei Bedarf optional nach § ... des Vertrages auftraggeberseitig beabsichtigt zu vergebenden Grundleistungen und Besonderen Leistungen in den Leistungsphasen 4 - 9:
A24: Leistungen | B24: Honorare
B25: aus Anlage | C25: € Lph. 4-9
A27: Objektplanung n. Teil 3, Abschn. 3, § 43 HOAI (Ingenieurbauwerke):
A28: Objekt 3: Ingenieurbauwerk … | B28: H.IB3 | C28: =#REF! -> #REF!
A29: Objektplanung n. Teil 3, Abschn. 4, § 47 HOAI (Leistungsbild Verkehrsanlagen):
A30: Objekt 4: Verkehrsanlage … | B30: H.Verk4 | C30: =#REF! -> #REF!
A33: Nettohonorarsumme exkl. Umsatzsteuer | C33: =SUM(C27:C32) -> #REF!
A35: Bruttohonorarsumme bei z. Zt. 19 % Umsatzsteuer | C35: =C33*1.19 -> #REF!
A37: Daraus resultierendes vorläufiges Gesamthonorar für die nach § ... des Vertrages voraussichtlich erforderlichen Grundleistungen und Besonderen Leistungen in den Leistungsphasen 1 - 9:
A39: Leistungen | B39: Honorare
B40: aus Anlage | C40: € Lph. 1-9
A42: Objektplanung n. Teil 3, Abschn. 3, § 43 HOAI (Ingenieurbauwerke):
A43: Objekt 3: Ingenieurbauwerk … | B43: H.IB3 | C43: =#REF! -> #REF!
A44: Objektplanung n. Teil 3, Abschn. 4, § 47 HOAI (Leistungsbild Verkehrsanlagen):
A45: Objekt 4: Verkehrsanlage … | B45: H.Verk4 | C45: =#REF! -> #REF!
A48: Nettohonorarsumme exkl. Umsatzsteuer | C48: =SUM(C42:C47) -> #REF!
A50: Bruttohonorarsumme bei z. Zt. 19 % Umsatzsteuer | C50: =C48*1.19 -> #REF!

Sheet  Preisblatt
C1: Objekt 1 Stadt Kanalisation | D1: Objekt 2 Stadt Verkehrsanlagen | E1: Objekt 3 Fachplanung Straßenbeleuchtung (f. Verkehrsanlagen) | F1: Objekt 4 Stadtwerke Wasser | G1: Objekt 5 Stadtwerke Gas | H1: Objekt 6 Stadtwerke Strom | I1: Gemeinschafts- leistungen | J1: Gesamtkosten
B2: Hinweis | C2: IB1 | D2: Verk2 | E2: TA3 | F2: IB4 | G2: IB5 | H2: IB6 | I2: GL
A3: Anrechenbare Kosten | C3: =H.IB1!K17 -> 554900 | D3: =+H.Verk2!K17 -> 1287899.1 | E3: =+H.TA3!K18 -> 21000 | F3: =H.IB4!K17 -> 92620 | G3: =H.IB5!K17 -> 22000 | H3: =H.IB6!K17 -> 117760 | J3: =SUM(C3:I3) -> 2096179.1
A4: Basishonorarsatz | C4: =H.IB1!I28 -> 59253.44 | D4: =H.Verk2!I28 -> 98437.29 | E4: =+H.TA3!I25 -> 6602.6 | F4: =H.IB4!I28 -> 13111.93 | G4: =H.IB5!I28 -> 4247 | H4: =H.IB6!I28 -> 15752.76 | J4: =SUM(C4:I4) -> 197405.02
A5: Oberer Honorarsatz | C5: =H.IB1!I29 -> 65898 | D5: =H.Verk2!I29 -> 112050.9 | E5: =+H.TA3!I27 -> 9261 | F5: =H.IB4!I29 -> 14925.58 | G5: =H.IB5!I29 -> 5296 | H5: =H.IB6!I29 -> 17931.24 | J5: =SUM(C5:I5) -> 225362.72
A6: Berechnungssatz | C6: =H.IB1!I31 -> 59253.44 | D6: =H.Verk2!I31 -> 98437.29 | E6: =+H.TA3!I33 -> 7888.8 | F6: =H.IB4!I31 -> 13111.93 | G6: =H.IB5!I31 -> 4247 | H6: =H.IB6!I31 -> 15752.76 | J6: =SUM(C6:I6) -> 198691.22
A7: Nettohonorar | C7: =H.IB1!K64 -> 31404.323 | D7: =H.Verk2!K64 -> 52171.764 | E7: =+H.TA3!K66 -> 3944.4 | F7: =H.IB4!K65 -> 6621.5246 | G7: =H.IB5!K65 -> 2144.735 | H7: =H.IB6!K65 -> 7955.1438 | I7: =H.GL!K38 -> 0 | J7: =SUM(C7:I7) -> 104241.89
A8: Leistungsphase 1-3 | C8: =H.IB1!K66 -> 0 | D8: =H.Verk2!K66 -> 0 | E8: =+H.TA3!K68 -> 0 | F8: =H.IB4!K67 -> 0 | G8: =H.IB5!K67 -> 0 | H8: =H.IB6!K67 -> 0 | J8: =SUM(C8:I8) -> 0
A9: Leistungsphase 4-9 | C9: =H.IB1!K67 -> 31404.323 | D9: =H.Verk2!K67 -> 52171.764 | E9: =+H.TA3!K69 -> 3944.4 | F9: =H.IB4!K68 -> 6621.5246 | G9: =H.IB5!K68 -> 2144.735 | H9: =H.IB6!K68 -> 7955.1438 | J9: =SUM(C9:I9) -> 104241.89
A10: Nettokosten | C10: =H.IB1!K74 -> 31404.323 | D10: =H.Verk2!K74 -> 52171.764 | E10: =+H.TA3!K76 -> 3944.4 | F10: =H.IB4!K75 -> 6621.5246 | G10: =H.IB5!K75 -> 2144.735 | H10: =H.IB6!K75 -> 7955.1438 | I10: =H.GL!K45 -> 0 | J10: =SUM(C10:I10) -> 104241.89
A11: Leistungsphase 1-3 | C11: =H.IB1!K76 -> 0 | D11: =H.Verk2!K76 -> 0 | E11: =+H.TA3!K78 -> 0 | F11: =H.IB4!K77 -> 0 | G11: =H.IB5!K77 -> 0 | H11: =H.IB6!K77 -> 0 | J11: =SUM(C11:I11) -> 0
A12: Leistungsphase 4-9 | C12: =H.IB1!K77 -> 31404.323 | D12: =H.Verk2!K77 -> 52171.764 | E12: =+H.TA3!K79 -> 3944.4 | F12: =H.IB4!K78 -> 6621.5246 | G12: =H.IB5!K78 -> 2144.735 | H12: =H.IB6!K78 -> 7955.1438 | J12: =SUM(C12:I12) -> 104241.89
A13: Zu-/Abschlag | C13: =H.IB1!F79 -> 0 | D13: =H.Verk2!F79 -> 0 | E13: =+H.TA3!K81 -> 0 | F13: =H.IB4!K80 -> 0 | G13: =H.IB5!F80 -> 0 | H13: =H.IB6!F80 -> 0 | I13: =H.GL!I48 -> 0 | J13: =SUM(C13:I13) -> 0
A14: Nettokosten nach Zu-/Abschlag | C14: =H.IB1!#REF! -> #REF! | F14: =H.IB1!#REF! -> #REF! | G14: =H.IB1!#REF! -> #REF! | J14: =SUM(C14:I14) -> #REF!
A15: Bruttokosten | C15: =H.IB1!K86 -> 37371.145 | D15: =H.Verk2!K86 -> 62084.399 | E15: =+H.TA3!K88 -> 4693.84 | F15: =H.IB4!K87 -> 7879.6143 | G15: =H.IB5!K88 -> 2552.2347 | H15: =H.IB6!K88 -> 9466.6211 | I15: =H.GL!K55 -> 0 | J15: =SUM(C15:I15) -> 124047.85
A21: Hinweise zum Bearbeiten:
A23: Zum Ausfüllen der Honorartabellenblätter sind die gelb hinterlegten Felder freigegeben.
A24: Die restlichen Felder sind gesperrt.
A25: Die Summen werden automatisch berechnet.
A26: Preisblatt (Seite 1 dieser Anlage) aktualisiert sich automatisch.

Sheet HerstellkostenVgV
A1: Kostenzuordnung VgV-Verfahren, Grundlage: Kostenberechnung
A3: Vorhaben: 2023-0328-A Dorferneuerung Arnshausen
E4: Zuordnung in (€) ohne Umsatzst. | F4: Zuordnung in (€) ohne Umsatzst. | G4: Zuordnung in (€) ohne Umsatzst. | H4: Zuordnung in (€) ohne Umsatzst. | I4: Zuordnung in (€) ohne Umsatzst. | J4: Zuordnung in (€) ohne Umsatzst. | K4: Zuordnung in (€) ohne Umsatzst.
E5: Objektplanung (Ingenieurbauwerke) | F5: Objektplanung (Verkehrsanlagen) | G5: Fachplanung (Technische Ausrüstung) | H5: Objektplanung (Ingenieurbauwerk) | I5: Objektplanung (Ingenieurbauwerk) | J5: Objektplanung (Ingenieurbauwerk) | K5: Objektplanung ()
A6: KG | B6: Kostengruppenbezeichnung KG n. DIN 276 Teil 1 (12/2008) und Teil 4 (08/2009) | C6: Hinweis | D6: Kosten [€] ohne Umsatzst. ohne Baunebenk. | E6: Objekt 1 Kanalisation | F6: Objekt 2 Verkehrsanlage | G6: Objekt 3 Fachplanung Straßenbeleuchtung (für Verkehrsanl.) | H6: Objekt 4 Wasser | I6: Objekt 5 Gas | J6: Objekt 6 Strom | K6: Objekt 7 Gemeinschafts- leistungen
A8: 200 | B8: Herrichten und Erschließen | D8: =SUM(E8:I8) -> 0
A10: 300 | B10: Bauwerk - Baukonstruktion (Auftragsleistungen) | D10: =SUM(E10:J10) -> 2054179.1 | E10: 554900 | F10: 1266899.1 | H10: 92620 | I10: 22000 | J10: =80155+37605 -> 117760
A12: *300 | B12: Bauwerk - Baukonstruktion (Eigenleistungen Material, Lohn Stadtwerke Bad Kissingen) | D12: =SUM(E12:I12) -> 0
A14: 400 | B14: Bauwerk - Technische Anlagen | D14: =SUM(E14:I14) -> 21000 | G14: 21000
A16: *400 | B16: Bauwerk - Technische Anlagen (Eigenleistungen Material, Lohn Stadtwerke Bad Kissingen) | D16: =SUM(E16:I16) -> 0
A18: 500 | B18: Außenanlagen | D18: =SUM(E18:I18) -> 0
A20: 600 | B20: Ausstattung und Kunstwerke | D20: =SUM(E20:I20) -> 0
B23: Zwischensumme: | D23: =+D20+D18+D16+D14+D12+D10+D8 -> 2075179.1 | E23: =E8+E10+E12+E14+E16+E18+E20 -> 554900 | F23: =F8+F10+F12+F14+F16+F18+F20 -> 1266899.1 | G23: =G8+G10+G12+G14+G16+G18+G20 -> 21000 | H23: =H8+H10+H12+H14+H16+H18+H20 -> 92620 | I23: =I8+I10+I12+I14+I16+I18+I20 -> 22000 | J23: =J8+J10+J12+J14+J16+J18+J20 -> 117760 | K23: =K8+K10+K12+K14+K16+K18+K20 -> 0
B24: Summe jeweilige Herstellkosten | D24: =D23 -> 2075179.1 | E24: =E23 -> 554900 | F24: =F23 -> 1266899.1 | G24: =G23 -> 21000 | H24: =H23 -> 92620 | I24: =I23 -> 22000 | J24: =J23 -> 117760 | K24: =K23 -> 0
E25: Basishonorarsatz | I25: Basishonorarsatz | K25: Basishonorarsatz
C26: Gesamt Anrechenbare Kosten | E26: 76430.62 | I26: 76430.62
C27: Nur Auftragsleistungen
E29: Mittelsatz | I29: Mittelsatz | K29: Mittelsatz
C30: Gesamt Anrechenbare Kosten | E30: 81715.84 | I30: 81715.84
C31: Nur Auftragsleistungen

Sheet H.IB1 teil
A2: Honorar bei der Objektplanung von Ingenieurbauwerken
A3: nach Teil 3, Abschnitt 3, HOAI
A6: Zeile | B6: Vorhaben: 2015-0003-A Steinstraße
A7: (Z) | B7: Objekt 1: Ingenieurbauwerk, Strom, Glasfaser, Straßenbeleuchtung nur Auftragsleistungen
A11: 1 | B11: Das Honorar wird abgerechnet für die :
A12: 1.1 | B12: - Leistungsphasen § 43 Abs. 1 Nrn. 1 bis 9 HOAI | H12: x | I12: nach § 6 Abs. 1 HOAI
A14: 1.2 | B14: - Leistungsphasen § 43 Abs. 1 Nrn. 1 bis 9 HOAI | I14: nach § 6 Abs. 2 HOAI (Umbau/Modernis.)
A17: 2 | B17: Anrechenbare Kosten gemäß Z. 9 der Anlage AK.IB3 in ( € ): | K17: 110000
A20: 3 | B20: Honorarzone / Schwierigkeitsgrad:
A21: 3.1 | B21: - gemäß § 44 Abs. 4 HOAI
B22: in Worten: | H22: durchschnittlich
A23: 3.3 | B23: - Zuschlagsfaktor bei Umbau / Modernisierung nach § 44
B24: Abs. 6 HOAI = 1,00 + | E24: 0 | F24: v. H. | H24: = | I24: =1+E24/100 -> 1
A25: 3.4 | B25: - Zuschlagsfaktor b. Instandsetzungen/-haltungen n. § 12 (2) HOAI: | I25: 1
A28: 4 | B28: Basishonorarsatz ( € ) nach § 44 Abs. 1 HOAI Zone | F28: III | H28: = | I28: 14957.2
A29: 4.1 | B29: oberer Honorarsatz | F29: =F28 -> III | H29: = | I29: 17025.8
B30: zzügl./abzügl. | C30: 50 | D30: % von (oberer Honorarsatz - Basishonorarsatz)
A31: 4.2 | B31: Berechnungssatz | H31: = | I31: =(I29-I28)*C30/100+I28 -> 15991.5
A34: 5 | B34: Bewertung der Grundleistungen in v.H. des Honorars n. Z. 4.2 nach § 43 (1) HOAI
B36: Phase | C36: Bezeichnung | E36: Summe | F36: AN | G36: AG | I36: Dritter
B37: 1 | C37: Grundlagenermittlung | E37: 2 | F37: 0 | I37: 0 | K37: 1) 10 v.H. bei Obj. n. § 41 Nr. 6 u. 7
B38: 2 | C38: Vorplanung1) | E38: 20 | F38: 0 | I38: 0
B39: 3 | C39: Entwurfsplanung | E39: 25 | F39: 0 | I39: 0 | K39: 2)Zuschlag bis 3 v. H. nach § 43 (3) Nr. 2 HOAI =
B40: 4 | C40: Genehmigungsplanung2) | E40: =5+K40 -> 5 | F40: 0 | I40: 0
B41: 5 | C41: Ausführungsplanung3) | E41: =15+K44 -> 15 | F41: =E41-G41-I41 -> 15 | I41: 0 | K41: 3)Zuschlag bis 20 v. H. nach § 43 (3) Nr. 2 HOAI =
B42: 6 | C42: Vorbereitung der Vergabe | E42: 13 | F42: =E42-G42-I42 -> 13 | I42: 0
B43: 7 | C43: Mitwirkung bei der Vergabe | E43: 4 | F43: =E43-G43-I43 -> 4 | I43: 0
B44: 8 | C44: Bauoberleitung4) | E44: =15*I25 -> 15 | F44: 0 | I44: 0
B45: 9 | C45: Objektbetreuung | E45: 1 | F45: 0 | I45: 0 | K45: 4) § 12 (2) HOAI
B46: Zwischensumme | E46: =SUM(E37:E45) -> 100 | F46: =SUM(F37:F45) -> 32 | G46: =SUM(G37:G45) -> 0 | I46: =SUM(I37:I45) -> 0 | K46: 5) Einarbeitungs-
B47: Zuschlag nach § 8 Abs. 3 HOAI5) | K47: und Koordinie-
A48: 5.1 | B48: Summe | E48: =E46 -> 100 | F48: =F46+F47 -> 32 | G48: =G46+G47 -> 0 | I48: =I46+I47 -> 0 | K48: rungsaufwand
A51: 6 | B51: Honorar ( € ) für die örtliche Bauüberwachung gem. § ... des Vertrages: pauschal
A53: 7 | B53: Bewertung weiterer Besonderer Leistungen des AN nach § 7 Abs. 1 HOAI
B55: Phase | C55: Bezeichnung | E55: v.H. | F55: v.H.*(Z 4.2) (€) | I55: pauschal (€)/ Std. Nachweis
A56: 7.1 | B56: 7 | C56: Prüfen und Werten von Nebenangeboten Std. Nachweis (A, LPH7, BL a) | F56: =I$31*E56/100 -> 0 | I56: =5*75 -> 375
A57: 7.2 | F57: =I$31*E57/100 -> 0
A58: 7.3 | F58: =I$31*E58/100 -> 0
A59: 7.4 | B59: Summe = (Z. 7.1+7.2+7.3) | F59: =SUM(F56:H58) -> 0 | I59: =SUM(I56:J58) -> 375
A62: 8 | B62: Nettohonorar (Z. 4.2*Z. 5.1/100*Z.3.3 + Z. 6 + Z. 7.4) | K62: =I$31*F$48/100*I$24+K$51+F$59+I$59 -> 5492.28
...

Sheet H.TA2 teil
A2: Honorar
A3: Technische Ausrüstung nach Teil 4, Abschnitt 2, § 53 HOAI
A4: Anlagengruppe 4: Elektrische Anlagen
A7: Zeile | B7: Vorhaben: 2015-0003-A Steinstraße
A8: (Z) | B8: Objekt: Fachplanung Straßenbel. (für Verkehrsanlage)
A12: 1 | B12: Das Honorar wird abgerechnet für die :
A13: 1.1 | B13: - Leistungsphasen § 55 Abs. 1 Nrn. 1 bis 9 HOAI | H13: x | I13: nach § 6 Abs. 1 HOAI
A15: 1.2 | B15: - Leistungsphasen § 55 Abs. 1 Nrn. 1 bis 9 HOAI | H15: x | I15: nach § 6 Abs. 2 HOAI (Umbau/Modernis.)
A18: 2 | B18: anrechenbare Kosten der Anlagengruppe gemäß Z. 19 der Anlage AK.S.IB3 ( € ): | K18: =HerstellkostenVgV!#REF! -> #REF!
A19: 2.1 | B19: - davon gemäß Z. 6 der Anlage in Honorarzone | G19: I | K19: =HerstellkostenVgV!#REF! -> #REF!
A20: 2.2 | B20: - davon gemäß Z. 12 der Anlage in Honorarzone | G20: II | K20: 0
A21: 2.3 | B21: - davon gemäß Z. 18 der Anlage in Honorarzone | G21: III | K21: 0
A24: 3 | B24: Orientierungswerte der Honorarspanne ( € ) der Anlagengruppe Z. 2 nach § 56 Abs. 1 HOAI:
A25: 3.1 | B25: I | C25: (von) = | D25: 8774.5 | E25: jeweils | H25: = | I25: =(D26-D25)*F26/100+D25 -> 9629
B26: II | C26: (von) = | D26: 10483.5 | E26: zuzügl./abzügl. | F26: 50 | G26: v. H. | H26: = | I26: =(D27-D26)*F26/100+D26 -> 11395.5
B27: III | C27: (von) = | D27: 12307.5 | E27: * (oberer Honorarsatz - Basishonorarsatz) | H27: = | I27: =(D28-D27)*F26/100+D27 -> 13162
B28: III | C28: (bis) = | D28: 14016.5
A29: 3.2 | B29: - für Anlagenteile mit anderen Planungsanforderungen
B30: I | C30: mit den anr. Kosten der Zeile 2.1 = | I30: =K19/K18*I25 -> #REF!
B31: II | C31: mit den anr. Kosten der Zeile 2.2 = | I31: =K20/K18*I26 -> #REF!
B32: III | C32: mit den anr. Kosten der Zeile 2.3 = | I32: =K21/K18*I27 -> #REF!
A33: 3.3 | B33: - maßgebende Honorarsatzsumme = | I33: =SUM(I30:I32) -> #REF!
A34: 3.4 | B34: - Zuschlagsfaktor bei Umbau / Modernisierung n. § 6 Abs. 2 Satz 3 i.V.m.
B35: § 56 (5) HOAI = 1,00 + | E35: 0 | F35: v. H. | H35: = | I35: =1+E35/100 -> 1
A36: 3.5 | B36: - Zuschlagsfaktor b. Instandsetzungen/-haltungen n. § 12 (2) HOAI: | I36: 1
A39: 5 | B39: Bewertung der Grundleistungen in v.H. des Honorars n. Z. 3.3 nach § 55 (1) HOAI
B41: Phase | C41: Bezeichnung | E41: Summe | F41: AN | G41: AG | I41: Dritter
B42: 1 | C42: Grundlagenermittlung | E42: 2 | F42: 0 | I42: 0
B43: 2 | C43: Vorplanung | E43: 9 | F43: 0 | I43: 0
B44: 3 | C44: Entwurfsplanung | E44: 17 | F44: 0 | I44: 0
B45: 4 | C45: Genehmigungsplanung | E45: 2 | F45: 0 | I45: 0
B46: 5 | C46: Ausführungsplanung1) | E46: =22-K48 -> 22 | F46: 14 | I46: 0 | K46: 1)§ 55 Abs.2, abzüg-
B47: 6 | C47: Vorbereitung der Vergabe | E47: 7 | F47: 0 | I47: 0 | K47: lich in v. H.:
B48: 7 | C48: Mitwirkung bei der Vergabe | E48: 5 | F48: 0 | I48: 0 | K48: 0
B49: 8 | C49: Objekt-/Bauüberwachung2) | E49: =35*I36 -> 35 | F49: 0 | I49: 0 | K49: 2) § 12 (2) HOAI
B50: 9 | C50: Objektbetreuung/Dokumentat. | E50: 1 | F50: 0 | I50: 0 | K50: beachten
B51: Zwischensumme | E51: =SUM(E42:E50) -> 100 | F51: =SUM(F42:F50) -> 14 | G51: =G42+G43+G44+G45+G46+G47+G48+G49+G50 -> 0 | I51: =I42+I43+I44+I45+I46+I47+I48+I49+I50 -> 0 | K51: 3) Einarbeitungs-
B52: Zuschlag nach § 8 Abs. 3 HOAI3) | K52: und Koordinie-
A53: 5.1 | B53: Summe | E53: =E51 -> 100 | F53: =F51+F52 -> 14 | G53: =G51+G52 -> 0 | I53: =I51+I52 -> 0 | K53: rungsaufwand
A56: 6 | B56: Bewertung Besonderer Leistungen des AN nach § 7 Abs. 1 HOAI
...

Sheet H.IB3 teil
A2: Honorar bei der Objektplanung von Ingenieurbauwerken
A3: nach Teil 3, Abschnitt 3, HOAI
A6: Zeile | B6: Vorhaben: 2015-0003-A Steinstraße
A7: (Z) | B7: Objekt 3: Ingenieurbauwerk, Gas Auftragsleistungen
A11: 1 | B11: Das Honorar wird abgerechnet für die :
A12: 1.1 | B12: - Leistungsphasen § 43 Abs. 1 Nrn. 1 bis 9 HOAI | H12: x | I12: nach § 6 Abs. 1 HOAI
A14: 1.2 | B14: - Leistungsphasen § 43 Abs. 1 Nrn. 1 bis 9 HOAI | I14: nach § 6 Abs. 2 HOAI (Umbau/Modernis.)
A17: 2 | B17: Anrechenbare Kosten gemäß Z. 9 der Anlage AK.IB3 in ( € ): | K17: 80000
A20: 3 | B20: Honorarzone / Schwierigkeitsgrad:
A21: 3.1 | B21: - gemäß § 44 Abs. 4 HOAI
B22: in Worten: | H22: durchschnittlich
A23: 3.3 | B23: - Zuschlagsfaktor bei Umbau / Modernisierung nach § 44
B24: Abs. 6 HOAI = 1,00 + | F24: v. H. | H24: = | I24: =1+E24/100 -> 1
A25: 3.4 | B25: - Zuschlagsfaktor b. Instandsetzungen/-haltungen n. § 12 (2) HOAI: | I25: 1
A28: 4 | B28: Basishonorarsatz ( € ) nach § 44 Abs. 1 HOAI Zone | F28: III | H28: = | I28: 11709.6
A29: 4.1 | B29: oberer Honorarsatz | F29: =F28 -> III | H29: = | I29: 13329.4
B30: zzügl./abzügl. | C30: 50 | D30: % von (oberer Honorarsatz - Basishonorarsatz)
A31: 4.2 | B31: Berechnungssatz | H31: = | I31: =(I29-I28)*C30/100+I28 -> 12519.5
A34: 5 | B34: Bewertung der Grundleistungen in v.H. des Honorars n. Z. 4.2 nach § 43 (1) HOAI
B36: Phase | C36: Bezeichnung | E36: Summe | F36: AN | G36: AG | I36: Dritter
B37: 1 | C37: Grundlagenermittlung | E37: 2 | F37: 0 | I37: 0 | K37: 1) 10 v.H. bei Obj. n. § 41 Nr. 6 u. 7
B38: 2 | C38: Vorplanung1) | E38: 20 | F38: 0 | I38: 0
B39: 3 | C39: Entwurfsplanung | E39: 25 | F39: 0 | I39: 0 | K39: 2)Zuschlag bis 3 v. H. nach § 43 (3) Nr. 2 HOAI =
B40: 4 | C40: Genehmigungsplanung2) | E40: =5+K40 -> 5 | F40: 0 | I40: 0
B41: 5 | C41: Ausführungsplanung3) | E41: =15+K44 -> 15 | F41: =E41-G41-I41 -> 15 | I41: 0 | K41: 3)Zuschlag bis 20 v. H. nach § 43 (3) Nr. 2 HOAI =
B42: 6 | C42: Vorbereitung der Vergabe | E42: 13 | F42: =E42-G42-I42 -> 13 | I42: 0
B43: 7 | C43: Mitwirkung bei der Vergabe | E43: 4 | F43: =E43-G43-I43 -> 4 | I43: 0
B44: 8 | C44: Bauoberleitung4) | E44: =15*I25 -> 15 | F44: 0 | I44: 0
B45: 9 | C45: Objektbetreuung | E45: 1 | F45: 0 | I45: 0 | K45: 4) § 12 (2) HOAI
B46: Zwischensumme | E46: =SUM(E37:E45) -> 100 | F46: =SUM(F37:F45) -> 32 | G46: =SUM(G37:G45) -> 0 | I46: =SUM(I37:I45) -> 0 | K46: 5) Einarbeitungs-
B47: Zuschlag nach § 8 Abs. 3 HOAI5) | K47: und Koordinie-
A48: 5.1 | B48: Summe | E48: =E46 -> 100 | F48: =F46+F47 -> 32 | G48: =G46+G47 -> 0 | I48: =I46+I47 -> 0 | K48: rungsaufwand
A51: 6 | B51: Honorar ( € ) für die örtliche Bauüberwachung gem. § ... des Vertrages: pauschal
A53: 7 | B53: Bewertung weiterer Besonderer Leistungen des AN nach § 7 Abs. 1 HOAI
B55: Phase | C55: Bezeichnung | E55: v.H. | F55: v.H.*(Z 4.2) (€) | I55: pauschal (€) / Std. Nachweis
A56: 7.1 | B56: 7 | C56: Prüfen und Werten von Nebenangeboten Std. Nachweis (A, LPH7, BL a) | F56: =I$31*E56/100 -> 0 | I56: =5*75 -> 375
A57: 7.2 | F57: =I$31*E57/100 -> 0
A58: 7.3 | F58: =I$31*E58/100 -> 0
A59: 7.4 | B59: Summe = (Z. 7.1+7.2+7.3) | F59: =SUM(F56:H58) -> 0 | I59: =SUM(I56:J58) -> 375
A62: 8 | B62: Nettohonorar (Z. 4.2*Z. 5.1/100*Z.3.3 + Z. 6 + Z. 7.4) | K62: =I$31*F$48/100*I$24+K$51+F$59+I$59 -> 4381.24
...

Sheet H.IB4 teil
A2: Honorar bei der Objektplanung von Ingenieurbauwerken
A3: nach Teil 3, Abschnitt 3, HOAI
A6: Zeile | B6: Vorhaben: 2015-0003-A Steinstraße
A7: (Z) | B7: Objekt 4: Ingenieurbauwerk, Wasser Auftragsleistungen
A11: 1 | B11: Das Honorar wird abgerechnet für die :
A12: 1.1 | B12: - Leistungsphasen § 43 Abs. 1 Nrn. 1 bis 9 HOAI | H12: x | I12: nach § 6 Abs. 1 HOAI
A14: 1.2 | B14: - Leistungsphasen § 43 Abs. 1 Nrn. 1 bis 9 HOAI | I14: nach § 6 Abs. 2 HOAI (Umbau/Modernis.)
A17: 2 | B17: Anrechenbare Kosten gemäß Z. 9 der Anlage AK.IB3 in ( € ): | K17: =#REF! -> #REF!
A20: 3 | B20: Honorarzone / Schwierigkeitsgrad:
A21: 3.1 | B21: - gemäß § 44 Abs. 4 HOAI
B22: in Worten: | H22: durchschnittlich
A23: 3.3 | B23: - Zuschlagsfaktor bei Umbau / Modernisierung nach § 44
B24: Abs. 6 HOAI = 1,00 + | F24: v. H. | H24: = | I24: =1+E24/100 -> 1
A25: 3.4 | B25: - Zuschlagsfaktor b. Instandsetzungen/-haltungen n. § 12 (2) HOAI: | I25: 1
A28: 4 | B28: Basishonorarsatz ( € ) nach § 44 Abs. 1 HOAI Zone | F28: III | H28: = | I28: 12265.2
A29: 4.1 | B29: oberer Honorarsatz | F29: =F28 -> III | H29: = | I29: 13961.8
B30: zzügl./abzügl. | C30: 50 | D30: % von (oberer Honorarsatz - Basishonorarsatz)
A31: 4.2 | B31: Berechnungssatz | H31: = | I31: =(I29-I28)*C30/100+I28 -> 13113.5
A34: 5 | B34: Bewertung der Grundleistungen in v.H. des Honorars n. Z. 4.2 nach § 43 (1) HOAI
B36: Phase | C36: Bezeichnung | E36: Summe | F36: AN | G36: AG | I36: Dritter
B37: 1 | C37: Grundlagenermittlung | E37: 2 | F37: 0 | I37: 0 | K37: 1) 10 v.H. bei Obj. n. § 41 Nr. 6 u. 7
B38: 2 | C38: Vorplanung1) | E38: 20 | F38: 0 | I38: 0
B39: 3 | C39: Entwurfsplanung | E39: 25 | F39: 0 | I39: 0 | K39: 2)Zuschlag bis 3 v. H. nach § 43 (3) Nr. 2 HOAI =
B40: 4 | C40: Genehmigungsplanung2) | E40: =5+K40 -> 5 | F40: 0 | I40: 0
B41: 5 | C41: Ausführungsplanung3) | E41: =15+K44 -> 15 | F41: =E41-G41-I41 -> 15 | I41: 0 | K41: 3)Zuschlag bis 20 v. H. nach § 43 (3) Nr. 2 HOAI =
B42: 6 | C42: Vorbereitung der Vergabe | E42: 13 | F42: =E42-G42-I42 -> 13 | I42: 0
B43: 7 | C43: Mitwirkung bei der Vergabe | E43: 4 | F43: =E43-G43-I43 -> 4 | I43: 0
B44: 8 | C44: Bauoberleitung4) | E44: =15*I25 -> 15 | F44: 0 | I44: 0
B45: 9 | C45: Objektbetreuung | E45: 1 | F45: 0 | I45: 0 | K45: 4) § 12 (2) HOAI
B46: Zwischensumme | E46: =SUM(E37:E45) -> 100 | F46: =SUM(F37:F45) -> 32 | G46: =SUM(G37:G45) -> 0 | I46: =SUM(I37:I45) -> 0 | K46: 5) Einarbeitungs-
B47: Zuschlag nach § 8 Abs. 3 HOAI5) | K47: und Koordinie-
A48: 5.1 | B48: Summe | E48: =E46 -> 100 | F48: =F46+F47 -> 32 | G48: =G46+G47 -> 0 | I48: =I46+I47 -> 0 | K48: rungsaufwand
A51: 6 | B51: Honorar ( € ) für die örtliche Bauüberwachung gem. § ... des Vertrages: pauschal
A53: 7 | B53: Bewertung weiterer Besonderer Leistungen des AN nach § 7 Abs. 1 HOAI
B55: Phase | C55: Bezeichnung | E55: v.H. | F55: v.H.*(Z 4.2) (€) | I55: pauschal (€) / Std. Nachweis
A56: 7.1 | B56: 7 | C56: Prüfen und Werten von Nebenangeboten St.d Nachweis (A, LPH7, BL a) | F56: =I$31*E56/100 -> 0 | I56: =5*75 -> 375
A57: 7.2 | F57: =I$31*E57/100 -> 0
A58: 7.3 | F58: =I$31*E58/100 -> 0
A59: 7.4 | B59: Summe = (Z. 7.1+7.2+7.3) | F59: =SUM(F56:H58) -> 0 | I59: =SUM(I56:J58) -> 375
A62: 8 | B62: Nettohonorar (Z. 4.2*Z. 5.1/100*Z.3.3 + Z. 6 + Z. 7.4) | K62: =I$31*F$48/100*I$24+K$51+F$59+I$59 -> 4571.32
...

Sheet AK.IB1
A2: Anrechenbare Kosten bei Ingenieurbauwerken
A7: Vorhaben: 2023-0328-A Dorferneuerung Arnshausen
A8: Objekt 1: Ingenieurbauwerk, Kanalisation
A12: Zeile | B12: Kosten in € (ohne Ust) nach | D12: Kosten- | F12: Kosten- | G12: x | H12: Kosten- | J12: Kostenfest-
A13: (Z) | D13: annahme | F13: schätzung | H13: berechnung | J13: stellung
A16: 1 | B16: Herstellkosten ohne nicht anrechenbare Kosten nach § 42 Abs. 3 HOAI; | J16: =H18+H19 -> 554900
B17: darin enthalten nach Anlage HerstellkostenVgV
A18: 1.1 | B18: - für Baukonstruktionen (DIN 276 Kostengruppe 300) sowie die Anlagen der Maschinentechnik, die der Zweckbestimmung des Ingenieurbauwerks dienen*) | H18: =HerstellkostenVgV!$E$10 -> 554900
A19: 1.2 | B19: - für Technische Anlagen (DIN 276 Kostengruppe 400) | H19: =HerstellkostenVgV!E14 -> 0
A22: 2 | B22: Zusätzlich anrechenbare Kosten nach § 42 Abs. 3 HOAI, sofern der AN | J22: =SUM(H25:H28) -> 0
B23: die Anlagen oder Maßnahmen plant oder ihre Ausführung überwacht,
B24: darin enthalten nach Anlage HerstellkostenVgV
A25: 2.1 | B25: - das Herrichten des Grundstücks (DIN 276, Kostengruppe 210) | H25: 0
A26: 2.2 | B26: - die öffentliche (DIN 276, Kostengruppe 220) und die nichtöffentliche Erschließung (DIN 276, Kostengruppe 230), die Außenanlagen (Kostengruppe 500), das Umlegen und Verlegen von Leitungen | H26: 0
A27: 2.3 | B27: - verkehrsregelnde Maßnahmen während der Bauzeit | H27: 0
A28: 2.4 | B28: - die Ausstattung und Nebenanlagen von Ingenieurbauwerken | H28: 0
A31: 3 | B31: Ortsübliche Preise nach § 4 Abs. 2 HOAI; | J31: =H33+H34+H35+H36 -> 0
B32: darin enthalten nach Anlage HerstellkostenVgV
A33: 3.1 | B33: - Lieferungen und Leistungen des Auftraggebers | H33: 0
A34: 3.2 | B34: - anstelle sonst nicht üblicher Vergünstigungen | H34: 0
A35: 3.3 | B35: - Lieferungen und Leistungen des Auftraggebers auf Gegenrechnung | H35: 0
A36: 3.4 | B36: - vorhand./vorbeschaffte Baustoffe oder Bauteile des Auftraggebers | H36: 0
A39: 4 | B39: Wert der mitzuverarbeitenden Bausubstanz nach § 4 Abs. 3 HOAI; | J39: =H41+H42 -> 0
B40: darin enthalten
A41: 4.1 | B41: - für Baukonstruktionen (DIN 276 Kostengruppe 300) sowie die Anlagen der Maschinentechnik, die der Zweckbestimmung des Ingenieurbauwerks dienen*) | H41: 0
A42: 4.2 | B42: - für Technische Anlagen (DIN 276 Kostengruppe 400) | H42: 0
A45: 5 | B45: Summe der Gesamtkosten (Z. 1 + Z. 2 + Z. 3 + Z. 4) = | J45: =J16+J22+J31+J39 -> 554900
A48: 6 | B48: Abzügl. für Technische Anlagen (DIN 276 Kostengruppe 400) (Z. 1.2 + Z. 4.2) | J48: =H19+H42 -> 0
A51: 7 | B51: Sonstige anrechenbare Kosten (Z. 5 - Z. 6) = | J51: =J45-J48 -> 554900
A54: 8 | B54: Zusätzlich anrechenbare Kostenanteile für Technische Anlagen nach
B55: § 42 Abs. 2 HOAI:
A56: 8.1 | B56: - Z 6, höchstens 25 v.H. von Z. 7 | C56: = | D56: =0.25*J51 -> 138725 | E56: ; | F56: maßgebend | G56: = | H56: =IF(D56>J48,J48,D56) -> 0
A57: 8.2 | B57: - weitere 50 v.H. von (Z. 6 - Z. 8.1) | C57: = | H57: =IF(D56<J48,(J48-D56)*0.5,0) -> 0 | J57: =H56+H57 -> 0
A60: 9 | B60: Anrechenbare Kosten (Z. 7 + Z. 8.1 + Z. 8.2) | J60: =J51+J57 -> 554900
A63: *) Danach handelt es sich bei den Anlagen der Maschinentechnik um Apparate ohne jegliche Anschlusstechnik, die en bloc vom Hersteller geliefert werden, z. B. Räumer für Absetzbecken bei Kläranlagen und Wasserwerken, die reinen Stahlbauteile bei Schleusen, Grob- und Feinrechen, Kammerfilterpressen, Oberflächenbelüfter oder Gasentschwefler sowie Gasspeicher von Abwasserbehandlungsanlagen (Amtliche Begründung zur HOAI 2013) (das ist hier in den 300 er Kosten insgesamt eingerechnet und gem. § 42 (1) HOAI anrechenbar, soweit der Auftragnehmer diese plant oder deren Ausführung überwacht). Folgende weiteren Beispiele können daraus abgeleitet werden: – aus dem Bereich der Wasserversorgung: Netzpumpen, Oxydatoren, geschlossene Filter, Druckwindkessel, – aus dem Bereich der Abwasserentsorgung: Schneckenpumpen, Propellerpumpen (ohne Peripherie), Containerstationen, Siebbandpressen, Zentrifugen, Schlammtrocknungsapparate, Schlammverbrennungsöfen, – aus dem Bereich des Wasserbaus: Stahlbauteile von Wehren und Schützen, Turbinen von Wasserkraftanlagen, Schleusentore, – aus dem Bereich der Abfallentsorgung: Waagen, Zerkleinerungsapparate, Rottetürme und -trommeln, Abfallverbrennungsöfen, – aus den übrigen Bereichen: alle vorgefertigten Apparate ohne ihre nutzungsspezifische Peripherie (= Anlagen der Verfahrens- und Prozesstechnik nach KGr 470 der DIN 276-4:2009-8), welche den Betrieb der Apparate ermöglichen.

Sheet HZ.IB1
A2: Honorarzone bei der Objektplanung von Ingenieurbauwerken
A6: Vorhaben: 2023-0328-A Dorferneuerung Arnshausen
A7: Objekt 1: Ingenieurbauwerk, Kanalisation
A15: Zeile | B15: Ermittlung der Honorarzone nach § 44 Abs. 3 und 4 HOAI
A16: (Z) | B16: nach Einschätzung des Auftraggebers
A18: 1.1 | B18: Bewertungsmerkmale | D18: Punktespreizung bei Planungsanforderungen | I18: Gewählt für Objekt
B19: nach § 44 Abs. 2 HOAI | D19: sehr | E19: gering | F19: durch- | G19: hohe | H19: sehr | I19: Planungs- | J19: Punkte
B20: Nr. | C20: Bezeichnung | D20: gering | F20: schnittlich | H20: hohe | I20: anforder.
B23: 1 | C23: Geologische und | I23: hohe | J23: 4
C24: baugrundtechnische | D24: 1 | E24: 2 | F24: 3 | G24: 4 | H24: 5
C25: Gegebenheiten
B26: 2 | C26: Technische Ausrü- | D26: 1 | E26: 2 | F26: 3 | G26: 4 | H26: 5 | I26: durch- schnittlich | J26: 3
C27: stung1)/Ausstattung
B28: 3 | C28: Einbindung in die | D28: 1 | E28: 2 | F28: 3 | G28: 4 | H28: 5 | I28: hohe | J28: 4
C29: Umgebung oder in
C30: das Objektumfeld
B31: 4 | C31: Umfang d. Funktions- | D31: 1 bis 2 | E31: 3 bis4 | F31: 5 bis 6 | G31: 7 bis 8 | H31: 9 bis 10 | I31: durch- schnittlich | J31: 6
C32: bereiche o. konstruk-
C33: tiven o. technischen
C34: Anforderungen
B35: 5 | C35: Fachspezifische | D35: 1 bis 3 | E35: 4 bis 6 | F35: 7 bis 9 | G35: 10 bis 12 | H35: 13 bis 15 | I35: durch- schnittlich | J35: 9
C36: Bedingungen
A39: 1.2 | B39: Punktsumme2) | D39: bis 10 | E39: 11 bis 17 | F39: 18 bis 25 | G39: 26 bis 33 | H39: 34 bis 40 | J39: =J23+J26+J28+J31+J35 -> 26
A42: 1.3 | B42: Honorarzone | D42: I | E42: II | F42: III | G42: IV | H42: V | I42: hohe | J42: IV
B43: nach § 44 Abs. 4
B46: 1) | C46: bezogen auf die technische Ausrüstung nach DIN 276/2008 KGr. 400
B47: 2) | C47: Die maßgebende Punktsumme beim Entfallen eines Bewertungsmerkmals ist die maximal mögliche Punktsumme von
C48: 40 Punkten, dividiert durch die Differenz der maximal möglichen Punktsumme (40) abzgl. der maximal möglichen Punktsumme
C49: des entfallenden Merkmals, multipliziert mit der ermittelten Punktsumme
A53: 2. | B53: Honorarsatz für die örtliche Bauüberwachung nach Anlage 2 Nr. 2.8.8 HOAI *)
A56: 2.1 | B56: Bewertungsmerkmale | D56: Anforderungen an die örtliche Bauüberwachung | I56: Gewählt für Objekt
D57: sehr | E57: gering | F57: durch- | G57: überdurch- | H57: sehr | I57: Anfor- | J57: v.H.-
D58: gering | F58: schnittlich | G58: schnittlich | H58: hoch | I58: derung | J58: Satz
A61: 2.2 | B61: Vonhundertsatz | D61: 2,30 - 2,54 | E61: 2,54 - 2,78 | F61: 2,78 - 3,02 | G61: 3,02 - 3,26 | H61: 3,26 - 3,50
A65: *) | B65: Nach der Amtlichen Begründung zu § 42 HOAI kann das Honorar mit 2,3 bis 3,5 v.H. der anrechenbaren
B66: Kosten nach § 41 HOAI berechnet werden. Alternativ kann ein Honorar als Festbetrag unter Zugrunde-
B67: legung der geschätzten Bauzeit vereinbart werden.

Sheet H.IB1
A2: Honorar bei der Objektplanung von Ingenieurbauwerken
A3: nach Teil 3, Abschnitt 3, HOAI
A6: Zeile | B6: Vorhaben: 2023-0328-A Dorferneuerung Arnshausen
A7: (Z) | B7: Objekt 1: Ingenieurbauwerk, Kanalisation
A11: 1 | B11: Das Honorar wird abgerechnet für die :
A12: 1.1 | B12: - Leistungsphasen § 43 Abs. 1 Nrn. 1 bis 9 HOAI | H12: x | I12: nach § 6 Abs. 1 HOAI
A14: 1.2 | B14: - Leistungsphasen § 43 Abs. 1 Nrn. 1 bis 9 HOAI | I14: nach § 6 Abs. 2 HOAI (Umbau/Modernis.)
A17: 2 | B17: Anrechenbare Kosten gemäß Z. 9 der Anlage AK.IB1 in ( € ): | K17: =AK.IB1!$J$60 -> 554900
A20: 3 | B20: Honorarzone / Schwierigkeitsgrad:
A21: 3.1 | B21: - gemäß § 44 Abs. 4 HOAI
B22: in Worten: | H22: hohe
A23: 3.3 | B23: - Zuschlagsfaktor bei Umbau / Modernisierung nach § 44
B24: Abs. 6 HOAI = 1,00 + | F24: v. H. | H24: = | I24: =1+E24/100 -> 1
A25: 3.4 | B25: - Zuschlagsfaktor b. Instandsetzungen/-haltungen n. § 12 (2) HOAI: | I25: 1
A28: 4 | B28: Basishonorarsatz ( € ) nach § 44 Abs. 1 HOAI Zone | F28: IV | H28: = | I28: 59253.44
A29: 4.1 | B29: oberer Honorarsatz | F29: =F28 -> IV | H29: = | I29: 65898
B30: zzügl./abzügl. | D30: % von (oberer Honorarsatz - Basishonorarsatz)
A31: 4.2 | B31: Berechnungssatz | H31: = | I31: =($I$29-$I$28)*$C$30/100+$I$28 -> 59253.44
A34: 5 | B34: Bewertung der Grundleistungen in v.H. des Honorars n. Z. 4.2 nach § 43 (1) HOAI
B36: Phase | C36: Leistungsbedarf gemäß Anlage 2 "Leistungskatalog" | E36: HOAI 100% | F36: AN (beauftragt) | G36: Hinweis: In Spalte "HOAI 100 %" sind die vollen Prozentsätze der HOAI 2021 je Leistungsphase angegeben. In Spalte "AN (beauftragt)" sind die je beauftragter Teilgrundleistung definierten Prozentsätze gemäß der Anlage 2 "Leistungskatalog" zum Vertrag abgebildet.
B37: 1 | C37: A) GL | E37: 2 | F37: 0 | K37: 1) 10 v.H. bei Obj. n. § 41 Nr. 6 u. 7
B38: 21) | C38: A) GL | E38: 20 | F38: 0
B39: 3 | C39: A) GL | E39: 25 | F39: 0 | K39: 2)Zuschlag bis 3 v. H. nach § 43 (3) Nr. 2 HOAI =
B40: 42) | C40: A) GL | E40: 5 | F40: 5
B41: 53) | C41: A) GL | E41: 15 | F41: 15 | K41: 3)Zuschlag bis 20 v. H. nach § 43 (3) Nr. 2 HOAI =
B42: 6 | C42: A) GL | E42: 13 | F42: 13
B43: 7 | C43: A) GL | E43: 4 | F43: 4
B44: 84) | C44: A) GL | E44: 15 | F44: 15
B45: 9 | C45: A) GL | E45: 1 | F45: 1 | K45: 4) § 12 (2) HOAI
B46: Zwischensumme | E46: =SUM(E37:E45) -> 100 | F46: =SUM(F37:F45) -> 53 | K46: 5) Einarbeitungs-
B47: Zuschlag nach § 8 Abs. 3 HOAI5) | K47: und Koordinie-
A48: 5.1 | B48: Summe | F48: =F46+F47 -> 53 | K48: rungsaufwand
B49: Summe der Grundleistungen | F49: =+I31*F48/100 -> 31404.323
A51: 6 | B51: Honorar ( € ) für die örtliche Bauüberwachung, v.H. des Berechnungssatzes Z. 4.2 A) BL e) | K51: =SUM($J$51*$I$31/100) -> 0
A53: 7 | B53: Bewertung weiterer Besonderer Leistungen des AN nach § 7 Abs. 1 HOAI
B55: Phase | C55: Leistungsbedarf gemäß Anlage 2 "Leistungskatalog" | E55: v.H. | F55: *(Z 4.2) (€) | G55: Anz. | H55: E | I55: (€ / E) | J55: €
A56: 7.1
A57: 7.2 | B57: 7 | C57: A) BL a) | G57: 5 | H57: h | J57: =SUM($G$57*$I$57) -> 0
B58: 8 | C58: A) BL a) | F58: =I$31*$E$58/100 -> 0
B59: 8 | C59: A) BL b) | G59: 30 | H59: h | J59: =SUM(G$59*I$59) -> 0
...

Sheet AK. Verk2
A2: Anrechenbare Kosten bei Verkehrsanlagen
A7: Vorhaben: 2023-0328-A Dorferneuerung Arnshausen
A8: Objekt 2: Verkehrsanlagen
A12: Zeile | B12: Kosten in € (ohne Ust) nach | D12: Kosten- | F12: Kosten- | G12: x | H12: Kosten- | J12: Kostenfest-
A13: (Z) | D13: annahme | F13: schätzung | H13: berechnung | J13: stellung
A16: 1 | B16: Herstellkosten ohne nicht anrechenbare Kosten nach § 46 Abs. 3 HOAI; | J16: =H18+H19 -> 1287899.1
B17: darin enthalten nach Anlage HerstellkostenVgV
A18: 1.1 | B18: - für Baukonstruktionen (DIN 276 Kostengruppe 300) sowie die Anlagen der Maschinentechnik, die der Zweckbestimmung des Ingenieurbauwerks dienen*) | H18: =HerstellkostenVgV!$F$10 -> 1266899.1
A19: 1.2 | B19: - für Technische Anlagen (DIN 276 Kostengruppe 400) | H19: =+HerstellkostenVgV!G24 -> 21000
A22: 2 | B22: Zusätzlich anrechenbare Kosten nach § 46 Abs. 3 HOAI, sofern der AN | J22: =SUM(H25:H28) -> 0
B23: die Anlagen oder Maßnahmen plant oder ihre Ausführung überwacht,
B24: darin enthalten nach Anlage HerstellkostenVgV
A25: 2.1 | B25: - das Herrichten des Grundstücks (DIN 276, Kostengruppe 210) | H25: 0
A26: 2.2 | B26: - die öffentliche (DIN 276, Kostengruppe 220) und die nichtöffentliche Erschließung (DIN 276, Kostengruppe 230), die Außenanlagen (Kostengruppe 500), das Umlegen und Verlegen von Leitungen | H26: 0
A27: 2.3 | B27: - verkehrsregelnde Maßnahmen während der Bauzeit | H27: 0
A28: 2.4 | B28: - die Ausstattung und Nebenanlagen von Ingenieurbauwerken | H28: 0
A31: 3 | B31: Ortsübliche Preise nach § 4 Abs. 2 HOAI; | J31: =H33+H34+H35+H36 -> 0
B32: darin enthalten nach Anlage HerstellkostenVgV
A33: 3.1 | B33: - Lieferungen und Leistungen des Auftraggebers | H33: 0
A34: 3.2 | B34: - anstelle sonst nicht üblicher Vergünstigungen | H34: 0
A35: 3.3 | B35: - Lieferungen und Leistungen des Auftraggebers auf Gegenrechnung | H35: 0
A36: 3.4 | B36: - vorhand./vorbeschaffte Baustoffe oder Bauteile des Auftraggebers | H36: 0
A39: 4 | B39: Wert der mitzuverarbeitenden Bausubstanz nach § 4 Abs. 3 HOAI; | J39: =H41+H42 -> 0
B40: darin enthalten
A41: 4.1 | B41: - für Baukonstruktionen (DIN 276 Kostengruppe 300) sowie die Ausstattung von Anlagen des Straßen-, Schienen- und Flugver- kehrs einschließlich der darin enthaltenen Entwässerungsanlagen, die der Zweckbestimmung der Verkehrsanlage dienen*) | H41: 0
A42: 4.2 | B42: - für Technische Anlagen (DIN 276 Kostengruppe 400) | H42: 0
A45: 5 | B45: Summe der Gesamtkosten (Z. 1 + Z. 2 + Z. 3 + Z. 4) = | J45: =J16+J22+J31+J39 -> 1287899.1
A48: 6 | B48: Abzügl. für Technische Anlagen (DIN 276 Kostengruppe 400) (Z. 1.2 + Z. 4.2) | J48: =H19+H42 -> 21000
A51: 7 | B51: Sonstige anrechenbare Kosten (Z. 5 - Z. 6) = | J51: =J45-J48 -> 1266899.1
A54: 8 | B54: Zusätzlich anrechenbare Kostenanteile für Technische Anlagen nach
B55: § 46 Abs. 2 HOAI:
A56: 8.1 | B56: - Z 6, höchstens 25 v.H. von Z. 7 | C56: = | D56: =0.25*J51 -> 316724.78 | E56: ; | F56: maßgebend | G56: = | H56: =IF(D56>J48,J48,D56) -> 21000
A57: 8.2 | B57: - weitere 50 v.H. von (Z. 6 - Z. 8.1) | C57: = | H57: =IF(D56<J48,(J48-D56)*0.5,0) -> 0 | J57: =H56+H57 -> 21000
A60: 9 | B60: Anrechenbare Kosten (Z. 7 + Z. 8.1 + Z. 8.2) | J60: =J51+J57 -> 1287899.1
A63: *) Die Kosten der Ausstattung von Anlagen des Straßen-, Schienen- und Flugverkehrs einschließlich der darin enthaltenen Entwässerungsanlagen, die der Zweckbestimmung der Verkehrsanlage dienen, sind hier in den 300 er Kosten insgesamt eingerechnet und gem. § 46 (1) HOAI anrechenbar, soweit der Auftragnehmer diese plant oder deren Ausführung überwacht. Gemäß § 46 (4) HOAI sind für Grundleistungen der Leistungsphasen 1 bis 7 und 9 bei Verkehrsanlagen 1. die Kosten für Erdarbeiten einschließlich Felsarbeiten anrechenbar bis zu einem Betrag von 40 Prozent der sonstigen anrechenbaren Kosten nach Absatz 1 und 2. 10 Prozent der Kosten für Ingenieurbauwerke anrechenbar, wenn dem Auftragnehmer für diese Ingenieurbauwerke nicht gleichzeitig Grundleistungen nach § 43 übertragen werden.

Sheet HZ. Verk2
A2: Honorarzone bei der Objektplanung von Verkehrsanlagen
A6: Vorhaben: 2023-0328-A Dorferneuerung Arnshausen
A7: Objekt 2: Verkehrsanlagen
A15: Zeile | B15: Ermittlung der Honorarzone nach § 48 Abs. 3 und 4 HOAI
A16: (Z) | B16: nach Einschätzung des Auftraggebers
A18: 1.1 | B18: Bewertungsmerkmale | D18: Punktespreizung bei Planungsanforderungen | I18: Gewählt für Objekt
B19: nach § 48 Abs. 2 HOAI | D19: sehr | E19: gering | F19: durch- | G19: hohe | H19: sehr | I19: Planungs- | J19: Punkte
B20: Nr. | C20: Bezeichnung | D20: gering | F20: schnittlich | H20: hohe | I20: anforder.
B23: 1 | C23: Geologische und | I23: hohe | J23: 4
C24: baugrundtechnische | D24: 1 | E24: 2 | F24: 3 | G24: 4 | H24: 5
C25: Gegebenheiten
B26: 2 | C26: Technische Ausrü- | D26: 1 | E26: 2 | F26: 3 | G26: 4 | H26: 5 | I26: durch- schnittlich | J26: 3
C27: stung1)/Ausstattung
B28: 3 | C28: Einbindung in die | D28: 1 | E28: 2 | F28: 3 | G28: 4 | H28: 5 | I28: hohe | J28: 4
C29: Umgebung oder in
C30: das Objektumfeld
B31: 4 | C31: Umfang d. Funktions- | D31: 1 bis 2 | E31: 3 bis4 | F31: 5 bis 6 | G31: 7 bis 8 | H31: 9 bis 10 | I31: durch- schnittlich | J31: 6
C32: bereiche o. konstruk-
C33: tiven o. technischen
C34: Anforderungen
B35: 5 | C35: Fachspezifische | D35: 1 bis 3 | E35: 4 bis 6 | F35: 7 bis 9 | G35: 10 bis 12 | H35: 13 bis 15 | I35: durch- schnittlich | J35: 8
C36: Bedingungen
A39: 1.2 | B39: Punktsumme2) | D39: bis 10 | E39: 11 bis 17 | F39: 18 bis 25 | G39: 26 bis 33 | H39: 34 bis 40 | J39: =J23+J26+J28+J31+J35 -> 25
A42: 1.3 | B42: Honorarzone | D42: I | E42: II | F42: III | G42: IV | H42: V | I42: durchschnittlich | J42: III
B43: nach § 48 Abs. 4
B46: 1) | C46: bezogen auf die technische Ausrüstung nach DIN 276/2008 KGr. 400
B47: 2) | C47: Die maßgebende Punktsumme beim Entfallen eines Bewertungsmerkmals ist die maximal mögliche Punktsumme von
C48: 40 Punkten, dividiert durch die Differenz der maximal möglichen Punktsumme (40) abzgl. der maximal möglichen Punktsumme
C49: des entfallenden Merkmals, multipliziert mit der ermittelten Punktsumme
A53: 2. | B53: Honorarsatz für die örtliche Bauüberwachung nach Anlage 2 Nr. 2.8.8 HOAI *)
A56: 2.1 | B56: Bewertungsmerkmale | D56: Anforderungen an die örtliche Bauüberwachung | I56: Gewählt für Objekt
D57: sehr | E57: gering | F57: durch- | G57: überdurch- | H57: sehr | I57: Anfor- | J57: v.H.-
D58: gering | F58: schnittlich | G58: schnittlich | H58: hoch | I58: derung | J58: Satz
A61: 2.2 | B61: Vonhundertsatz | D61: 2,30 - 2,54 | E61: 2,54 - 2,78 | F61: 2,78 - 3,02 | G61: 3,02 - 3,26 | H61: 3,26 - 3,50
A65: *) | B65: Nach der Amtlichen Begründung zu § 42 HOAI kann das Honorar mit 2,3 bis 3,5 v.H. der anrechenbaren
B66: Kosten nach § 41 HOAI berechnet werden. Alternativ kann ein Honorar als Festbetrag unter Zugrunde-
B67: legung der geschätzten Bauzeit vereinbart werden.

Sheet H.Verk2
A2: Honorar bei der Objektplanung von Ingenieurbauwerken
A3: nach Teil 3, Abschnitt 3, HOAI
A6: Zeile | B6: Vorhaben: 2023-0328-A Dorferneuerung Arnshausen
A7: (Z) | B7: Objekt 2: Verkehrsanlagen
A11: 1 | B11: Das Honorar wird abgerechnet für die :
A12: 1.1 | B12: - Leistungsphasen § 47 Abs. 1 Nrn. 1 bis 9 HOAI | H12: x | I12: nach § 6 Abs. 1 HOAI
A14: 1.2 | B14: - Leistungsphasen § 47 Abs. 1 Nrn. 1 bis 9 HOAI | I14: nach § 6 Abs. 2 HOAI (Umbau/Modernis.)
A17: 2 | B17: Anrechenbare Kosten gemäß Z. 9 der Anlage AK.Verk2 in ( € ): | K17: ='AK. Verk2'!$J$60 -> 1287899.1
A20: 3 | B20: Honorarzone / Schwierigkeitsgrad:
A21: 3.1 | B21: - gemäß § 48 Abs. 4 HOAI
B22: in Worten: | H22: durchschnittlich
A23: 3.3 | B23: - Zuschlagsfaktor bei Umbau / Modernisierung nach § 48
B24: Abs. 6 HOAI = 1,00 + | F24: v. H. | H24: = | I24: =1+E24/100 -> 1
A25: 3.4 | B25: - Zuschlagsfaktor b. Instandsetzungen/-haltungen n. § 12 (2) HOAI: | I25: 1
A28: 4 | B28: Basishonorarsatz ( € ) nach § 48 Abs. 1 HOAI Zone | F28: III | H28: = | I28: 98437.29
A29: 4.1 | B29: oberer Honorarsatz | F29: =F28 -> III | H29: = | I29: 112050.9
B30: zzügl./abzügl. | D30: % von (oberer Honorarsatz - Basishonorarsatz)
A31: 4.2 | B31: Berechnungssatz | H31: = | I31: =($I$29-$I$28)*$C$30/100+$I$28 -> 98437.29
A34: 5 | B34: Bewertung der Grundleistungen in v.H. des Honorars n. Z. 4.2 nach § 48 (1) HOAI
B36: Phase | C36: Leistungsbedarf gemäß Anlage 2 "Leistungskatalog" | E36: HOAI 100% | F36: AN (beauftragt) | G36: Hinweis: In Spalte "HOAI 100 %" sind die vollen Prozentsätze der HOAI 2021 je Leistungsphase angegeben. In Spalte "AN (beauftragt)" sind die je beauftragter Teilgrundleistung definierten Prozentsätze gemäß der Anlage 2 "Leistungskatalog" zum Vertrag abgebildet.
B37: 1 | C37: B) GL | E37: 2 | F37: 0
B38: 21) | C38: B) GL | E38: 20 | F38: 0
B39: 3 | C39: B) GL | E39: 25 | F39: 0
B40: 42) | C40: B) GL | E40: 8 | F40: 8
B41: 5 | C41: B) GL | E41: 15 | F41: 15
B42: 6 | C42: B) GL | E42: 10 | F42: 10
B43: 7 | C43: B) GL | E43: 4 | F43: 4
B44: 8 | C44: B) GL | E44: 15 | F44: 15
B45: 9 | C45: B) GL | E45: 1 | F45: 1 | K45: 1) § 12 (2) HOAI
B46: Zwischensumme | E46: =SUM(E37:E45) -> 100 | F46: =SUM(F37:F45) -> 53 | K46: 2) Einarbeitungs-
B47: Zuschlag nach § 8 Abs. 3 HOAI5) | K47: und Koordinie-
A48: 5.1 | B48: Summe | F48: =F46+F47 -> 53 | K48: rungsaufwand
B49: Summe der Grundleistungen | F49: =+I31*F46/100 -> 52171.764
A51: 6 | B51: Honorar ( € ) für die örtliche Bauüberwachung, v.H. des Berechnungssatzes Z. 4.2 B) BL e) | K51: =SUM($J$51*$I$31/100) -> 0
A53: 7 | B53: Bewertung weiterer Besonderer Leistungen des AN nach § 7 Abs. 1 HOAI
B55: Phase | C55: Leistungsbedarf gemäß Anlage 2 "Leistungskatalog" | E55: v.H. | F55: *(Z 4.2) (€) | G55: Anz. | H55: E | I55: (€ / E) | J55: €
A56: 7.1
A57: 7.2 | B57: 7 | C57: B) BL a) | G57: 5 | H57: h | J57: =SUM($G$57*$I$57) -> 0
B58: 8 | C58: B) BL a) | F58: =I$31*$E$58/100 -> 0
B59: 8 | C59: B) BL b) | G59: 30 | H59: h | J59: =SUM(G$59*I$59) -> 0
...

Sheet AK.TA3
A2: Anrechenbare Kosten
A3: Technische Ausrüstung nach Teil 4, Abschnitt 2, § 53 HOAI
A4: Anlagengruppe 4: Elektrische Anlagen
A7: Vorhaben: 2023-0328-A Dorferneuerung Arnshausen
A8: Objekt: Fachplanung Straßenbel. (für Verkehrsanlage)
A12: Zeile | B12: Kosten in € (ohne Ust) nach | D12: Kosten- | E12: x | F12: Kosten- | H12: Kosten- | J12: Kosten-
A13: (Z) | D13: annahme | F13: schätzung | H13: berechnung | J13: feststellung
B16: Anlagen mit geringen Planungsanforderungen nach Einschätzung des Auftraggebers (H.-Zone I)
A19: 1 | B19: Herstellkosten o. nicht anrechenb. Kosten nach § 54 Abs. 4 HOAI n. Anlage HerstellkostenVgV
A22: 2 | B22: Ortsübliche Preise nach § 4 Abs. 2 HOAI; | L22: =J24+J25+J26+J27 -> 0
B23: darin enthalten:
A24: 2.1 | B24: - Lieferungen und Leistungen des Auftraggebers
A25: 2.2 | B25: - anstelle sonst nicht üblicher Vergünstigungen
A26: 2.3 | B26: - Lieferungen und Leistungen des Auftraggebers auf Gegenrechnung
A27: 2.4 | B27: - vorhand./vorbeschaffte Baustoffe oder Bauteile des Auftraggebers
A30: 3 | B30: Zusätzlich anrechenbare Kosten nach § 54 Abs. 4 HOAI, sofern der AN die Anlagen oder | L30: =J33+J34 -> 0
B31: Maßnahmen plant oder ihre Ausführung überwacht, KG 556 n. Anlage Herstellkosten VgV
B32: darin enthalten nach Anlage Herstellkosten VgV
A33: 3.1 | B33: - die nichtöffentliche Erschließung (DIN 276, Kostengruppe 230)
A34: 3.2 | B34: - die Technischen Anlagen in Außenanlagen (DIN 276, Kostengruppe 550)
A37: 4 | B37: Kosten der Teile der Technischen Ausrüstung in Baukonstruktionen nach § 54 Abs. 5 HOAI | L37: 0
A40: 5 | B40: Wert der mitzuverarbeitenden Bausubstanz nach § 4 Abs. 3 HOAI; | L40: 0
A44: 6 | B44: Anrechenbare Kosten (Z. 1 + Z. 2 + Z. 3 + Z.4 + Z.5) | L44: =L19+L22+L30+L37+L40 -> 0
B48: Anlagen mit durchschnittlichen Planungsanforderungen nach Einschätzung des Auftraggebers (H.-Zone II)
A51: 7 | B51: Herstellkosten o. nicht anrechenb. Kosten nach § 54 Abs. 4 HOAI n. Anlage HerstellkostenVgV | L51: =+HerstellkostenVgV!G14 -> 21000
A54: 8 | B54: Ortsübliche Preise nach § 4 Abs. 2 HOAI; | L54: =J56+J57+J58+J59 -> 0
B55: darin enthalten:
A56: 8.1 | B56: - Lieferungen und Leistungen des Auftraggebers
A57: 8.2 | B57: - anstelle sonst nicht üblicher Vergünstigungen
A58: 8.3 | B58: - Lieferungen und Leistungen des Auftraggebers auf Gegenrechnung
A59: 8.4 | B59: - vorhand./vorbeschaffte Baustoffe oder Bauteile des Auftraggebers
A62: 9 | B62: Zusätzlich anrechenbare Kosten nach § 54 Abs. 4 HOAI, sofern der AN die Anlagen oder | L62: =J65+J66 -> 0
B63: Maßnahmen plant oder ihre Ausführung überwacht, KG 556 n. Anlage Herstellkosten VgV
B64: darin enthalten nach Anlage Herstellkosten VgV
A65: 9.1 | B65: - die nichtöffentliche Erschließung (DIN 276, Kostengruppe 230)
A66: 9.2 | B66: - die Technischen Anlagen in Außenanlagen (DIN 276, Kostengruppe 550)
A69: 10 | B69: Kosten der Teile der Technischen Ausrüstung in Baukonstruktionen nach § 54 Abs. 5 HOAI | L69: 0
A72: 11 | B72: Wert der mitzuverarbeitenden Bausubstanz nach § 4 Abs. 3 HOAI; | L72: 0
A76: 12 | B76: Anrechenbare Kosten (Z. 7 + Z. 8 + Z. 9 + Z.10 + Z.11) | L76: =L51+L54+L62+L69+L72 -> 21000
B80: Anlagen mit hohen Planungsanforderungen nach Einschätzung des Auftraggebers (H.-Zone III)
...

Sheet H.TA3
A2: Honorar
A3: Technische Ausrüstung nach Teil 4, Abschnitt 2, § 53 HOAI
A4: Anlagengruppe 4: Elektrische Anlagen
A7: Zeile | B7: Vorhaben: 2023-0328-A Dorferneuerung Arnshausen
A8: (Z) | B8: Objekt 3: Fachplanung Straßenbel. (für Verkehrsanlage)
A12: 1 | B12: Das Honorar wird abgerechnet für die :
A13: 1.1 | B13: - Leistungsphasen § 55 Abs. 1 Nrn. 1 bis 9 HOAI | H13: x | I13: nach § 6 Abs. 1 HOAI
A15: 1.2 | B15: - Leistungsphasen § 55 Abs. 1 Nrn. 1 bis 9 HOAI | I15: nach § 6 Abs. 2 HOAI (Umbau/Modernis.)
A18: 2 | B18: anrechenbare Kosten der Anlagengruppe gemäß Z. 19 der Anlage AK.TA3 ( € ): | K18: =AK.TA3!L112 -> 21000
A19: 2.1 | B19: - davon gemäß Z. 6 der Anlage in Honorarzone | G19: I | K19: =+AK.TA3!L19 -> 0
A20: 2.2 | B20: - davon gemäß Z. 12 der Anlage in Honorarzone | G20: II | K20: =+AK.TA3!L51 -> 21000
A21: 2.3 | B21: - davon gemäß Z. 18 der Anlage in Honorarzone | G21: III | K21: =+AK.TA3!L83 -> 0
A24: 3 | B24: Orientierungswerte der Honorarspanne ( € ) der Anlagengruppe Z. 2 nach § 56 Abs. 1 HOAI:
A25: 3.1 | B25: I | C25: (von) = | D25: 6602.6 | E25: jeweils | H25: = | I25: =(D26-D25)*F26/100+D25 -> 6602.6
B26: II | C26: (von) = | D26: 7888.8 | E26: zuzügl./abzügl. | G26: v. H. | H26: = | I26: =(D27-D26)*F26/100+D26 -> 7888.8
B27: III | C27: (von) = | D27: 9261 | E27: * (oberer Honorarsatz - Basishonorarsatz) | H27: = | I27: =(D28-D27)*F26/100+D27 -> 9261
B28: III | C28: (bis) = | D28: 10547.2
A29: 3.2 | B29: - für Anlagenteile mit anderen Planungsanforderungen
B30: I | C30: mit den anr. Kosten der Zeile 2.1 = | I30: =K19/K18*I25 -> 0
B31: II | C31: mit den anr. Kosten der Zeile 2.2 = | I31: =K20/K18*I26 -> 7888.8
B32: III | C32: mit den anr. Kosten der Zeile 2.3 = | I32: =K21/K18*I27 -> 0
A33: 3.3 | B33: - maßgebende Honorarsatzsumme = | I33: =SUM(I30:I32) -> 7888.8
A34: 3.4 | B34: - Zuschlagsfaktor bei Umbau / Modernisierung n. § 6 Abs. 2 Satz 3 i.V.m.
B35: § 56 (5) HOAI = 1,00 + | E35: 0 | F35: v. H. | H35: = | I35: =1+E35/100 -> 1
A36: 3.5 | B36: - Zuschlagsfaktor b. Instandsetzungen/-haltungen n. § 12 (2) HOAI: | I36: 1
A39: 4 | B39: Bewertung der Grundleistungen in v.H. des Honorars n. Z. 3.3 nach § 55 (1) HOAI
B41: Phase | C41: Leistungsbedarf gemäß Anlage 2 "Leistungskatalog" | E41: HOAI 100% | F41: AN (beauftragt) | G41: Hinweis: In Spalte "HOAI 100 %" sind die vollen Prozentsätze der HOAI 2021 je Leistungsphase angegeben. In Spalte "AN (beauftragt)" sind die je beauftragter Teilgrundleistung definierten Prozentsätze gemäß der Anlage 2 "Leistungskatalog" zum Vertrag abgebildet.
B42: 1 | C42: E) GL | E42: 2 | F42: 0
B43: 2 | C43: E) GL | E43: 9 | F43: 0
B44: 3 | C44: E) GL | E44: 17 | F44: 0
B45: 4 | C45: E) GL | E45: 2 | F45: 0
B46: 51) | C46: E) GL | E46: 22 | F46: 14 | K46: 1)§ 55 Abs.2, abzüg-
B47: 6 | C47: E) GL | E47: 7 | F47: 0 | K47: lich in v. H.:
B48: 7 | C48: E) GL | E48: 5 | F48: 0
B49: 82) | C49: E) GL | E49: 35 | F49: 35 | K49: 2) § 12 (2) HOAI
B50: 9 | C50: E) GL | E50: 1 | F50: 1 | K50: beachten
B51: Zwischensumme | E51: =SUM(E42:E50) -> 100 | F51: =SUM(F42:F50) -> 50 | K51: 3) Einarbeitungs-
B52: Zuschlag nach § 8 Abs. 3 HOAI3) | K52: und Koordinie-
A53: 4.1 | B53: Summe | F53: =$F$51+$F$52 -> 50 | K53: rungsaufwand
B54: Summe Grundleistungen | F54: =+I33*F53/100 -> 3944.4
...

Sheet AK.IB4
A2: Anrechenbare Kosten bei Ingenieurbauwerken
A7: Vorhaben: 2023-0328-A Dorferneuerung Arnshausen
A8: Objekt 3: Ingenieurbauwerk, Wasser
A12: Zeile | B12: Kosten in € (ohne Ust) nach | D12: Kosten- | E12: x | F12: Kosten- | H12: Kosten- | J12: Kostenfest-
A13: (Z) | D13: annahme | F13: schätzung | H13: berechnung | J13: stellung
A16: 1 | B16: Herstellkosten ohne nicht anrechenbare Kosten nach § 42 Abs. 3 HOAI; | J16: =H18+H19 -> 92620
B17: darin enthalten nach Anlage HerstellkostenVgV
A18: 1.1 | B18: - für Baukonstruktionen (DIN 276 Kostengruppe 300) sowie die Anlagen der Maschinentechnik, die der Zweckbestimmung des Ingenieurbauwerks dienen*) | H18: =HerstellkostenVgV!$H$10 -> 92620
A19: 1.2 | B19: - für Technische Anlagen (DIN 276 Kostengruppe 400) | H19: =HerstellkostenVgV!H14 -> 0
A22: 2 | B22: Zusätzlich anrechenbare Kosten nach § 42 Abs. 3 HOAI, sofern der AN | J22: =SUM(H25:H28) -> 0
B23: die Anlagen oder Maßnahmen plant oder ihre Ausführung überwacht,
B24: darin enthalten nach Anlage HerstellkostenVgV
A25: 2.1 | B25: - das Herrichten des Grundstücks (DIN 276, Kostengruppe 210) | H25: 0
A26: 2.2 | B26: - die öffentliche (DIN 276, Kostengruppe 220) und die nichtöffentliche Erschließung (DIN 276, Kostengruppe 230), die Außenanlagen (Kostengruppe 500), das Umlegen und Verlegen von Leitungen | H26: 0
A27: 2.3 | B27: - verkehrsregelnde Maßnahmen während der Bauzeit | H27: 0
A28: 2.4 | B28: - die Ausstattung und Nebenanlagen von Ingenieurbauwerken | H28: 0
A31: 3 | B31: Ortsübliche Preise nach § 4 Abs. 2 HOAI; | J31: =H33+H34+H35+H36 -> 0
B32: darin enthalten nach Anlage HerstellkostenVgV
A33: 3.1 | B33: - Lieferungen und Leistungen des Auftraggebers | H33: =[1]HerstellkostenVgV!G12 -> 0
A34: 3.2 | B34: - anstelle sonst nicht üblicher Vergünstigungen | H34: 0
A35: 3.3 | B35: - Lieferungen und Leistungen des Auftraggebers auf Gegenrechnung | H35: 0
A36: 3.4 | B36: - vorhand./vorbeschaffte Baustoffe oder Bauteile des Auftraggebers | H36: 0
A39: 4 | B39: Wert der mitzuverarbeitenden Bausubstanz nach § 4 Abs. 3 HOAI; | J39: =H41+H42 -> 0
B40: darin enthalten
A41: 4.1 | B41: - für Baukonstruktionen (DIN 276 Kostengruppe 300) sowie die Anlagen der Maschinentechnik, die der Zweckbestimmung des Ingenieurbauwerks dienen*) | H41: 0
A42: 4.2 | B42: - für Technische Anlagen (DIN 276 Kostengruppe 400) | H42: 0
A45: 5 | B45: Summe der Gesamtkosten (Z. 1 + Z. 2 + Z. 3 + Z. 4) = | J45: =J16+J22+J31+J39 -> 92620
A48: 6 | B48: Abzügl. für Technische Anlagen (DIN 276 Kostengruppe 400) (Z. 1.2 + Z. 4.2) | J48: =H19+H42 -> 0
A51: 7 | B51: Sonstige anrechenbare Kosten (Z. 5 - Z. 6) = | J51: =J45-J48 -> 92620
A54: 8 | B54: Zusätzlich anrechenbare Kostenanteile für Technische Anlagen nach
B55: § 42 Abs. 2 HOAI:
A56: 8.1 | B56: - Z 6, höchstens 25 v.H. von Z. 7 | C56: = | D56: =0.25*J51 -> 23155 | E56: ; | F56: maßgebend | G56: = | H56: =IF(D56>J48,J48,D56) -> 0
A57: 8.2 | B57: - weitere 50 v.H. von (Z. 6 - Z. 8.1) | C57: = | H57: =IF(D56<J48,(J48-D56)*0.5,0) -> 0 | J57: =H56+H57 -> 0
A60: 9 | B60: Anrechenbare Kosten (Z. 7 + Z. 8.1 + Z. 8.2) | J60: =J51+J57 -> 92620
A63: *) Danach handelt es sich bei den Anlagen der Maschinentechnik um Apparate ohne jegliche Anschlusstechnik, die en bloc vom Hersteller geliefert werden, z. B. Räumer für Absetzbecken bei Kläranlagen und Wasserwerken, die reinen Stahlbauteile bei Schleusen, Grob- und Feinrechen, Kammerfilterpressen, Oberflächenbelüfter oder Gasentschwefler sowie Gasspeicher von Abwasserbehandlungsanlagen (Amtliche Begründung zur HOAI 2013) (das ist hier in den 300 er Kosten insgesamt eingerechnet und gem. § 42 (1) HOAI anrechenbar, soweit der Auftragnehmer diese plant oder deren Ausführung überwacht). Folgende weiteren Beispiele können daraus abgeleitet werden: – aus dem Bereich der Wasserversorgung: Netzpumpen, Oxydatoren, geschlossene Filter, Druckwindkessel, – aus dem Bereich der Abwasserentsorgung: Schneckenpumpen, Propellerpumpen (ohne Peripherie), Containerstationen, Siebbandpressen, Zentrifugen, Schlammtrocknungsapparate, Schlammverbrennungsöfen, – aus dem Bereich des Wasserbaus: Stahlbauteile von Wehren und Schützen, Turbinen von Wasserkraftanlagen, Schleusentore, – aus dem Bereich der Abfallentsorgung: Waagen, Zerkleinerungsapparate, Rottetürme und -trommeln, Abfallverbrennungsöfen, – aus den übrigen Bereichen: alle vorgefertigten Apparate ohne ihre nutzungsspezifische Peripherie (= Anlagen der Verfahrens- und Prozesstechnik nach KGr 470 der DIN 276-4:2009-8), welche den Betrieb der Apparate ermöglichen.

Sheet HZ.IB4
A2: Honorarzone bei der Objektplanung von Ingenieurbauwerken
A6: Vorhaben: 2023-0328-A Dorferneuerung Arnshausen
A7: Objekt 3: Ingenieurbauwerk, Wasser
A15: Zeile | B15: Ermittlung der Honorarzone nach § 44 Abs. 3 und 4 HOAI
A16: (Z) | B16: nach Einschätzung des Auftraggebers
A18: 1.1 | B18: Bewertungsmerkmale | D18: Punktespreizung bei Planungsanforderungen | I18: Gewählt für Objekt
B19: nach § 44 Abs. 2 HOAI | D19: sehr | E19: gering | F19: durch- | G19: hohe | H19: sehr | I19: Planungs- | J19: Punkte
B20: Nr. | C20: Bezeichnung | D20: gering | F20: schnittlich | H20: hohe | I20: anforder.
B23: 1 | C23: Geologische und | I23: durch- schnittlich | J23: 3
C24: baugrundtechnische | D24: 1 | E24: 2 | F24: 3 | G24: 4 | H24: 5
C25: Gegebenheiten
B26: 2 | C26: Technische Ausrü- | D26: 1 | E26: 2 | F26: 3 | G26: 4 | H26: 5 | I26: gering | J26: 2
C27: stung1)/Ausstattung
B28: 3 | C28: Einbindung in die | D28: 1 | E28: 2 | F28: 3 | G28: 4 | H28: 5 | I28: durch- schnittlich | J28: 3
C29: Umgebung oder in
C30: das Objektumfeld
B31: 4 | C31: Umfang d. Funktions- | D31: 1 bis 2 | E31: 3 bis4 | F31: 5 bis 6 | G31: 7 bis 8 | H31: 9 bis 10 | I31: durch- schnittlich | J31: 6
C32: bereiche o. konstruk-
C33: tiven o. technischen
C34: Anforderungen
B35: 5 | C35: Fachspezifische | D35: 1 bis 3 | E35: 4 bis 6 | F35: 7 bis 9 | G35: 10 bis 12 | H35: 13 bis 15 | I35: durch- schnittlich | J35: 8
C36: Bedingungen
A39: 1.2 | B39: Punktsumme2) | D39: bis 10 | E39: 11 bis 17 | F39: 18 bis 25 | G39: 26 bis 33 | H39: 34 bis 40 | J39: =J23+J26+J28+J31+J35 -> 22
A42: 1.3 | B42: Honorarzone | D42: I | E42: II | F42: III | G42: IV | H42: V | I42: durch- schnittlich | J42: III
B43: nach § 44 Abs. 4
B46: 1) | C46: bezogen auf die technische Ausrüstung nach DIN 276/2008 KGr. 400
B47: 2) | C47: Die maßgebende Punktsumme beim Entfallen eines Bewertungsmerkmals ist die maximal mögliche Punktsumme von
C48: 40 Punkten, dividiert durch die Differenz der maximal möglichen Punktsumme (40) abzgl. der maximal möglichen Punktsumme
C49: des entfallenden Merkmals, multipliziert mit der ermittelten Punktsumme
A53: 2. | B53: Honorarsatz für die örtliche Bauüberwachung nach Anlage 2 Nr. 2.8.8 HOAI *)
A56: 2.1 | B56: Bewertungsmerkmale | D56: Anforderungen an die örtliche Bauüberwachung | I56: Gewählt für Objekt
D57: sehr | E57: gering | F57: durch- | G57: überdurch- | H57: sehr | I57: Anfor- | J57: v.H.-
D58: gering | F58: schnittlich | G58: schnittlich | H58: hoch | I58: derung | J58: Satz
A61: 2.2 | B61: Vonhundertsatz | D61: 2,30 - 2,54 | E61: 2,54 - 2,78 | F61: 2,78 - 3,02 | G61: 3,02 - 3,26 | H61: 3,26 - 3,50
A65: *) | B65: Nach der Amtlichen Begründung zu § 42 HOAI kann das Honorar mit 2,3 bis 3,5 v.H. der anrechenbaren
B66: Kosten nach § 41 HOAI berechnet werden. Alternativ kann ein Honorar als Festbetrag unter Zugrunde-
B67: legung der geschätzten Bauzeit vereinbart werden.

Sheet H.IB4
A2: Honorar bei der Objektplanung von Ingenieurbauwerken
A3: nach Teil 3, Abschnitt 3, HOAI
A6: Zeile | B6: Vorhaben: 2023-0328-A Dorferneuerung Arnshausen - Erneuerung Infrastruktur + Verkehrsflächen
A7: (Z) | B7: Objekt 3: Ingenieurbauwerk, Wasser Auftragsleistungen
A11: 1 | B11: Das Honorar wird abgerechnet für die :
A12: 1.1 | B12: - Leistungsphasen § 43 Abs. 1 Nrn. 1 bis 9 HOAI | H12: x | I12: nach § 6 Abs. 1 HOAI
A14: 1.2 | B14: - Leistungsphasen § 43 Abs. 1 Nrn. 1 bis 9 HOAI | I14: nach § 6 Abs. 2 HOAI (Umbau/Modernis.)
A17: 2 | B17: Anrechenbare Kosten gemäß Z. 9 der Anlage AK.IB4 in ( € ): | K17: =AK.IB4!$J$60 -> 92620
A20: 3 | B20: Honorarzone / Schwierigkeitsgrad:
A21: 3.1 | B21: - gemäß § 44 Abs. 4 HOAI
B22: in Worten: | H22: durchschnittlich
A23: 3.3 | B23: - Zuschlagsfaktor bei Umbau / Modernisierung nach § 44
B24: Abs. 6 HOAI = 1,00 + | F24: v. H. | H24: = | I24: =1+E24/100 -> 1
A25: 3.4 | B25: - Zuschlagsfaktor b. Instandsetzungen/-haltungen n. § 12 (2) HOAI: | I25: 1
A28: 4 | B28: Basishonorarsatz ( € ) nach § 44 Abs. 1 HOAI Zone | F28: III | H28: = | I28: 13111.93
A29: 4.1 | B29: oberer Honorarsatz | F29: =F28 -> III | H29: = | I29: 14925.58
B30: zzügl./abzügl. | D30: % von (oberer Honorarsatz - Basishonorarsatz)
A31: 4.2 | B31: Berechnungssatz | H31: = | I31: =($I$29-$I$28)*$C$30/100+$I$28 -> 13111.93
A34: 5 | B34: Bewertung der Grundleistungen in v.H. des Honorars n. Z. 4.2 nach § 43 (1) HOAI
B36: Phase | C36: Leistungsbedarf gemäß Anlage 2 "Leistungskatalog" | E36: HOAI 100% | F36: AN (beauftragt) | G36: Hinweis: In Spalte "HOAI 100 %" sind die vollen Prozentsätze der HOAI 2021 je Leistungsphase angegeben. In Spalte "AN (beauftragt)" sind die je beauftragter Teilgrundleistung definierten Prozentsätze gemäß der Anlage 2 "Leistungskatalog" zum Vertrag abgebildet.
B37: 1 | C37: A) GL | E37: 2 | F37: 0 | K37: 1) 10 v.H. bei Obj. n. § 41 Nr. 6 u. 7
B38: 21) | C38: A) GL | E38: 20 | F38: 0
B39: 3 | C39: A) GL | E39: 25 | F39: 0 | K39: 2)Zuschlag bis 3 v. H. nach § 43 (3) Nr. 2 HOAI =
B40: 42) | C40: A) GL | E40: 5 | F40: 2.5
B41: 53) | C41: A) GL | E41: 15 | F41: 15 | K41: 3)Zuschlag bis 20 v. H. nach § 43 (3) Nr. 2 HOAI =
B42: 6 | C42: A) GL | E42: 13 | F42: 13
B43: 7 | C43: A) GL | E43: 4 | F43: 4
B44: 84) | C44: A) GL | E44: 15 | F44: 15
B45: 9 | C45: A) GL | E45: 1 | F45: 1 | K45: 4) § 12 (2) HOAI
B46: Zwischensumme | E46: =SUM(E37:E45) -> 100 | F46: =SUM(F37:F45) -> 50.5 | K46: 5) Einarbeitungs-
B47: Zuschlag nach § 8 Abs. 3 HOAI5) | K47: und Koordinie-
A48: 5.1 | B48: Summe | F48: =F46+F47 -> 50.5 | K48: rungsaufwand
